{"text_format":"3","workbook":"xlsx","n_sheets":15,"sheets":["FrontPage","PartsAtoD","PartsEandF","PartG","PartH","Validations","LineChecks","Comments","Survey Response Burden","ValidationData","Transfer","AuthDetails","Translate","Text","Data"],"not_rendered":{"images":2,"defined_names":43,"pivot_tables":5},"read":"whole","date_system":"1900"}

{"sheet":"FrontPage","index":0,"n_rows":47,"n_cols":14,"rows_kept":47,"merged":[[1,1,1,11],[1,13,1,14],[16,6,16,10],[18,6,18,10],[20,7,20,10],[22,2,22,13],[23,2,23,13],[25,2,25,13],[27,2,27,13],[30,3,30,12],[31,9,31,11],[32,9,32,11],[34,3,34,12],[35,3,35,12],[36,3,36,12]]}
[]
[null,{"$f":"Text!F4&\" \"&year","v":"FFURFLEN ANHEDDAU'R DRETH GYNGOR AR GYFER 2026-27"},{"$nulls":5}," ",{"$nulls":4},"CT1",{"v":1,"d":"1.0"}]
[]
[{"$nulls":11},1]
[]
[{"$nulls":6},5]
[]
[{"$nulls":5},{"$f":"IF(uanumber=0,\"\",VLOOKUP(uanumber,Addresses,3,FALSE))","v":""}]
[{"$nulls":5},{"$f":"IF(uanumber=0,\"\",VLOOKUP(uanumber,Addresses,4,FALSE))","v":""}]
[{"$nulls":5},{"$f":"IF(uanumber=0,\"\",VLOOKUP(uanumber,Addresses,5,FALSE))","v":""}]
[{"$nulls":5},{"$f":"IF(uanumber=0,\"\",VLOOKUP(uanumber,Addresses,6,FALSE))","v":""}]
[{"$nulls":5},{"$f":"IF(uanumber=0,\"\",VLOOKUP(uanumber,Addresses,7,FALSE))","v":""}]
[{"$nulls":5},{"$f":"IF(uanumber=0,\"\",VLOOKUP(uanumber,Addresses,8,FALSE))","v":""}]
[]
[{"$nulls":3},{"$f":"Text!F5","v":"Dewiswch eich awdurdod a cywirwch eich cyfeiriad os oes angen"}]
[]
[{"$nulls":5},{"$f":"Text!F7","v":"Enw:"},{"$f":"IF(uanumber=0,\"\",VLOOKUP(uanumber,Addresses,9,FALSE))","v":""}]
[]
[{"$nulls":5},{"$f":"Text!F8","v":"E-bost (rhowch Amh os nad yw ar gael):"},{"$f":"IF(uanumber=0,\"\",VLOOKUP(uanumber,Addresses,10,FALSE))","v":""}]
[]
[{"$nulls":5},{"$f":"Text!F9","v":"Ffôn: Cod STD:"},{"$f":"IF(uanumber=0,\"\",\"( \"&VLOOKUP(uanumber,Addresses,11,FALSE)&\" )\")","v":""},{"$f":"IF(uanumber=0,\"\",\"( \"&VLOOKUP(uanumber,Addresses,12,FALSE)&\" )\")","v":""}]
[]
[]
[null,null,{"$f":"Text!F11","v":"Mae angen i awdurdodau gyfrifo'r sylfaen dreth gyngor ar gyfer 2026-27 drwy gyfeirio at yr anheddau a ddangosir ar restr brisio'r awdurdod ar gyfer 31 Hydref 2025 a gyflenwyd i'r awdurdod o dan adran 22B(7) o Ddeddf Cyllid Llywodraeth Leol 1992."}]
[]
[null,null,{"$f":"Text!F12","v":"Dylai'r ffigurau hefyd gymryd i ystyriaeth newidiadau i'r rhestr brisio sy'n debygol o ddigwydd yn ystod 2026-27."}]
[]
[null,null,{"$f":"Text!F13","v":"Mae'n rhaid cyflwyno'r wybodaeth y gofynnir amdani ar y ffurflen hon i Cynulliad Llywodraeth Cymru o dan adran 68 o Ddeddf Cyllid Llywodraeth Leol 1992. "}]
[]
[]
[{"$nulls":3},{"$f":"Text!F15","v":"Dylir ddychwelyd ffurflenni i'r cyfeiriad isod, yn ôl yr amserlen canlynol"}]
[{"$nulls":4},"(i)",{"$f":"Text!F16","v":"llofnodi copi ardystiedig a taenlen                 "},{"$nulls":3},{"$f":"AuthDetails!G33","v":"14 Tachwedd 2025"}]
[{"$nulls":4},"(ii)",{"$f":"Text!F17","v":"Sylfaen treth derfynol wedi'i chadarnhau"},{"$nulls":3},{"$f":"AuthDetails!G34","v":"9 Ionawr 2026"}]
[]
[{"$nulls":3},{"$f":"Text!F14","v":"Gwiriwch y daenlen ddilysu cyn anfon y  ffurflen"}]
[{"$nulls":3},{"$f":"Text!F18","v":"Dylech gyfeirio unrhyw ymholiadau ynghylch sut i gwblhau'r ffurflen, yn y lle cyntaf, drwy ffon neu e-bost, gan ddilyn y cyfarwyddyd isod:"}]
[{"$nulls":3},{"$f":"Text!F19","v":"Mae'n un o ofynion archwiliadau Llywodraeth Cymru fod pob cell yn cael ei llenwi. Gwnewch yn siŵr fod sero ym mhob cell wag. Cymerir yn ganiataol mai sero yw gwerth pob cell sydd heb ei llenwi."}]
[]
[]
[{"$nulls":3},{"$f":"Text!F20","v":"Uned Ystadegau Ariannol Llywodraeth Leol,"}]
[{"$nulls":3},{"$f":"Text!F21","v":"Llywodraeth Cymru,"}]
[{"$nulls":3},{"$f":"Text!F22","v":"CP2"}]
[{"$nulls":3},{"$f":"Text!F23","v":"Parc Cathays,"}]
[{"$nulls":3},{"$f":"Text!F24","v":"CAERDYDD"}]
[{"$nulls":3},{"$f":"Text!F25","v":"CF10 3NQ"}]
[{"$nulls":3},{"$f":"AuthDetails!I33","v":"Ebost: yclll.trosglwyddo@llyw.cymru"}]
[{"$nulls":3},{"$f":"Text!F27&\" \"&\"0300 025 9169 or 0300 025 5673\"","v":"Ffôn: 0300 025 9169 or 0300 025 5673"}]

{"sheet":"PartsAtoD","index":1,"n_rows":33,"n_cols":15,"rows_kept":33,"merged":[[32,6,32,7],[32,8,32,9]]}
[null,null,{"$f":"Text!F28&\": \"&AuthDetails!B3&\"         \"&Text!F29&\": \"&AuthDetails!C3","v":"Cod: 0         Awdurdod: Dewiswch eich awdurdod"},{"$nulls":11},{"$f":"FrontPage!M2&\" \"&year","v":"CT1 2026-27"}]
[]
[{"$nulls":4},1,2,3,4,5,6,7,8,9,10,11]
[]
[{"$nulls":9},{"$f":"Text!F58","v":"band priso"},{"$nulls":4},{"$f":"Text!F59","v":"Cyfanswm ( = swm ffigurau pob band )"}]
[null,null,{"$f":"Text!F31","v":"Rhan A: Anheddau trethadwy"},null,"A*","A","B","C","D","E","F","G","H","I"]
[null,1,"A1",{"$f":"Text!F32","v":"Holl anheddau trethadwy"},null,0,0,0,0,0,0,0,0,0,{"$f":"SUM(F7:N7)","v":0}]
[null,2,"A2",{"$f":"Text!F33","v":"Anheddau sy'n derbyn gostyngiad anabledd ( sy'n gynwysedig yn llinell A1 )"},null,0,0,0,0,0,0,0,0,0,{"$f":"SUM(F8:N8)","v":0}]
[null,3,"A3",{"$f":"Text!F34","v":"Cyfanswm yr anheddau trethadwy wedi'i addasu ( gan gymryd i ystyriaeth y gostyngiadau anabledd )"},{"$f":"F8","v":0},{"$f":"F7-F8+G8","v":0},{"$f":"G7-G8+H8","v":0},0,0,0,0,0,0,{"$f":"N7-N8","v":0},{"$f":"SUM(E9:N9)","v":0}]
[]
[null,4,"B1",{"$f":"Text!F36","v":"Anheddau heb ddisgownt neu premiwm (gan gynnwys eiddo gwag hirdymor ac ail gartrefi heb ddisgownt neu premiwm)"},0,0,0,0,0,0,0,0,0,0,{"$f":"SUM(E11:N11)","v":0}]
[null,4.1,"B2a",{"$f":"Text!F37","v":"Anheddau gyda disgownt o 25% (ag eithrio eiddo gwag hirdymor ac ail gartrefi heb ddisgownt)"},0,0,0,0,0,0,0,0,0,0,0]
[null,4.2,"B2b",{"$f":"Text!F38","v":"Anheddau gyda disgownt o 50% (ag eithrio eiddo gwag hirdymor ac ail gartrefi heb ddisgownt)"},0,0,0,0,0,0,0,0,0,0,0]
[null,7,"B3a",{"$f":"Text!F39","v":"Anheddau gyda disgownt amrywiol ag eithrio 25% neu 50% (Rhan G, llinell 11)"},{"$f":"PartG!G18","v":0},{"$f":"PartG!H18","v":0},{"$f":"PartG!I18","v":0},{"$f":"PartG!J18","v":0},{"$f":"PartG!K18","v":0},{"$f":"PartG!L18","v":0},{"$f":"PartG!M18","v":0},{"$f":"PartG!N18","v":0},{"$f":"PartG!O18","v":0},{"$f":"PartG!P18","v":0},0]
[null,7.1,"B3b",{"$f":"Text!F40","v":"Anheddau gyda disgownt eiddo gwag hirdymor neu ail gartref"},null,{"$f":"SUM(PartH!E22,PartH!E44)","v":0},{"$f":"SUM(PartH!F22,PartH!F44)","v":0},{"$f":"SUM(PartH!G22,PartH!G44)","v":0},{"$f":"SUM(PartH!H22,PartH!H44)","v":0},{"$f":"SUM(PartH!I22,PartH!I44)","v":0},{"$f":"SUM(PartH!J22,PartH!J44)","v":0},{"$f":"SUM(PartH!K22,PartH!K44)","v":0},{"$f":"SUM(PartH!L22,PartH!L44)","v":0},{"$f":"SUM(PartH!M22,PartH!M44)","v":0},0]
[null,7.2,"B3c",{"$f":"Text!F41","v":"Anheddau gyda phremiwm eiddo gwag hirdymor neu ail gartref"},null,{"$f":"SUM(PartH!E33,PartH!E55)","v":0},{"$f":"SUM(PartH!F33,PartH!F55)","v":0},{"$f":"SUM(PartH!G33,PartH!G55)","v":0},{"$f":"SUM(PartH!H33,PartH!H55)","v":0},{"$f":"SUM(PartH!I33,PartH!I55)","v":0},{"$f":"SUM(PartH!J33,PartH!J55)","v":0},{"$f":"SUM(PartH!K33,PartH!K55)","v":0},{"$f":"SUM(PartH!L33,PartH!L55)","v":0},{"$f":"SUM(PartH!M33,PartH!M55)","v":0},0]
[null,8,"B4",{"$f":"Text!F42","v":"Cyfanswm yr anheddau a addaswyd sydd yn daladwy (cyfanswm o B1 i B3c=A3)"},{"$f":"SUM(E11:E16)","v":0},0,0,0,0,0,0,0,0,0,0]
[null,null,{"$f":"IF(PartsAtoD!O18=0,\"\",Text!F45)","v":""},null,{"$f":"E17-E9","v":0},0,0,0,0,0,0,0,0,0,0]
[null,null,{"$f":"Text!F43","v":"Addasiadau disgownt a phremiwm"}]
[null,9,"B5",{"$f":"Text!F44","v":"Holl disgowntiau newidiol ( =Rhan G, llinell 12 )"},{"$f":"PartG!G19","v":0},{"$f":"PartG!H19","v":0},{"$f":"PartG!I19","v":0},{"$f":"PartG!J19","v":0},{"$f":"PartG!K19","v":0},{"$f":"PartG!L19","v":0},{"$f":"PartG!M19","v":0},{"$f":"PartG!N19","v":0},{"$f":"PartG!O19","v":0},{"$f":"PartG!P19","v":0},0]
[null,9.1,"B6",{"$f":"Text!F47","v":"Addasiad disgownt am eiddo gwag tymor hir ac ail gartref (Rhan H, llinio 9g, 11g)"},null,{"$f":"SUM(PartH!E70,PartH!E90)","v":{"v":0,"d":"0.0"}},{"$f":"SUM(PartH!F70,PartH!F90)","v":{"v":0,"d":"0.0"}},{"$f":"SUM(PartH!G70,PartH!G90)","v":{"v":0,"d":"0.0"}},{"$f":"SUM(PartH!H70,PartH!H90)","v":{"v":0,"d":"0.0"}},{"$f":"SUM(PartH!I70,PartH!I90)","v":{"v":0,"d":"0.0"}},{"$f":"SUM(PartH!J70,PartH!J90)","v":{"v":0,"d":"0.0"}},{"$f":"SUM(PartH!K70,PartH!K90)","v":{"v":0,"d":"0.0"}},{"$f":"SUM(PartH!L70,PartH!L90)","v":{"v":0,"d":"0.0"}},{"$f":"SUM(PartH!M70,PartH!M90)","v":{"v":0,"d":"0.0"}},{"v":0,"d":"0.0"}]
[null,9.2,"B7",{"$f":"Text!F48","v":"Addasiad premiwm am eiddo gwag tymor hir ac ail gartref (Rhan H, llinio 10g, 12g)"},null,{"$f":"SUM(PartH!E80,PartH!E100)","v":{"v":0,"d":"0.0"}},{"$f":"SUM(PartH!F80,PartH!F100)","v":{"v":0,"d":"0.0"}},{"$f":"SUM(PartH!G80,PartH!G100)","v":{"v":0,"d":"0.0"}},{"$f":"SUM(PartH!H80,PartH!H100)","v":{"v":0,"d":"0.0"}},{"$f":"SUM(PartH!I80,PartH!I100)","v":{"v":0,"d":"0.0"}},{"$f":"SUM(PartH!J80,PartH!J100)","v":{"v":0,"d":"0.0"}},{"$f":"SUM(PartH!K80,PartH!K100)","v":{"v":0,"d":"0.0"}},{"$f":"SUM(PartH!L80,PartH!L100)","v":{"v":0,"d":"0.0"}},{"$f":"SUM(PartH!M80,PartH!M100)","v":{"v":0,"d":"0.0"}},{"v":0,"d":"0.0"}]
[null,null,{"$f":"Text!F46","v":"Rhan C: Cyfrifiad o anheddau sy'n daladwy gyda disgowntiau a phremiymau"}]
[null,11,"C2",{"$f":"Text!F50","v":"Cyfanswm anheddau gan gynnwys disgowntiau a phremiymau (=A3-(B2ax0.25)-(B2bx0.5)-B5-B6+B7)  "},{"$f":"E9-(E12*0.25)-(E13*0.5)-E20-E21+E22","v":0},0,0,0,0,0,0,0,0,0]
[null,null,"C3",{"$f":"Text!F51","v":"Cymhareb â band D"},{"$f":"5/9","v":0.5555555555555556},{"$f":"6/9","v":0.6666666666666666},{"$f":"7/9","v":0.7777777777777778},{"$f":"8/9","v":0.8888888888888888},1,{"$f":"11/9","v":1.2222222222222223},{"$f":"13/9","v":1.4444444444444444},{"$f":"15/9","v":1.6666666666666667},{"$f":"18/9","v":2},{"$f":"21/9","v":2.3333333333333335},{"$f":"Transfer!AG30","v":""}]
[null,13,"C4",{"$f":"Text!F52","v":"Cyfwerthoedd Band D  ( = C2 x C3 )  ( wedi'u talgrynnu i ddau le degol )"},{"$f":"E24*E25","v":{"v":0,"d":"0.00"}},{"$f":"F24*F25","v":{"v":0,"d":"0.00"}},{"v":0,"d":"0.00"},{"v":0,"d":"0.00"},{"v":0,"d":"0.00"},{"v":0,"d":"0.00"},{"v":0,"d":"0.00"},{"v":0,"d":"0.00"},{"v":0,"d":"0.00"},{"v":0,"d":"0.00"},{"$f":"SUM(E26:N26)","v":{"v":0,"d":"0.00"}}]
[null,13.3,"C7",{"$f":"Text!F53","v":"Cyfanswm anheddau gostyngedig ac eithrio addasiad tymor hir gwag ac ail gartref"},{"$f":"E24-E22+E21","v":0},{"$f":"F24-F22+F21","v":0},{"$f":"G24-G22+G21","v":0},0,0,0,0,0,0,0]
[null,13.4,"C8",{"$f":"Text!F54","v":"Cyfwerthoedd Band D ac eithrio addasiad tymor hir gwag ac ail gartref"},{"$f":"ROUND(E27*E25,2)","v":{"v":0,"d":"0.00"}},{"$f":"ROUND(F27*F25,2)","v":{"v":0,"d":"0.00"}},{"v":0,"d":"0.00"},{"v":0,"d":"0.00"},{"v":0,"d":"0.00"},{"v":0,"d":"0.00"},{"v":0,"d":"0.00"},{"v":0,"d":"0.00"},{"v":0,"d":"0.00"},{"v":0,"d":"0.00"},{"$f":"SUM(E28:N28)","v":{"v":0,"d":"0.00"}}]
[null,null,{"$f":"Text!F55","v":"Rhan D: Eitemau Memorandwm"},{"$nulls":11},{"$f":"Text!F60","v":"( swm y bandiau unigol - cario i E1 )"}]
[null,14,"D1",{"$f":"Text!F56","v":"Anheddau ag eithriadau Dosbarthiadau A i N a P i W \n( heb eu cynnwys yn adrannau A i C uchod )  ( gweler nodyn 6 )"},null,0,0,0,0,0,0,0,0,0,{"$f":"SUM(F30:N30)","v":0}]
[null,15,"D2",{"$f":"Text!F57","v":"Anheddau ag eithriad dosbarth O \n( heb eu cynnwys yn adrannau A i C uchod ) ( gweler nodiadau 6 a 7 )"},null,0,0,0,0,0,0,0,0,0,{"$f":"SUM(F31:N31)","v":0}]
[]
[{"$nulls":6},{"$f":"Text!F61","v":"Am gweinyddu Llywodraeth Cymru yn unig"},null,{"$f":"Transfer!AB25","v":"ZZZZZZZZZZZZZZ"}]

{"sheet":"PartsEandF","index":2,"n_rows":48,"n_cols":12,"rows_kept":48,"merged":[[41,4,42,5],[41,6,42,7]]}
[null,null,{"$f":"PartsAtoD!C1","v":"Cod: 0         Awdurdod: Dewiswch eich awdurdod"},{"$nulls":8},{"$f":"PartsAtoD!O1","v":"CT1 2026-27"}]
[]
[]
[{"$nulls":10},11]
[null,null,{"$f":"Text!F64","v":"Rhan E: Cyfrifo'r sylfaen dreth gyngor"}]
[]
[null,22,"E1",{"$f":"Text!F65","v":"Anheddau trethadwy: cyfwerthoedd band D ( = cyfanswm C4 )"},{"$nulls":6},{"$f":"PartsAtoD!$O$26","v":{"v":0,"d":"0.00"}}]
[]
[null,23,"E2",{"$f":"Text!F66","v":"Cyfradd gasglu ( wedi'i thalgrynnu i ddau le degol )"},{"$nulls":6},{"v":0,"d":"0.00"},"%"]
[]
[null,24,"E3",{"$f":"Text!F67","v":"= E1 x E2 ( wedi'i dalgrynnu i ddau le degol )"},{"$nulls":6},{"$f":"K7*K9/100","v":{"v":0,"d":"0.00"}}]
[]
[null,25,"E4",{"$f":"Text!F68","v":"Anheddau Dosbarth O wedi'u heithrio: cyfwerthoedd band D "},{"$nulls":6},{"v":0,"d":"0.00"}]
[]
[]
[null,26,"E5",{"$f":"Text!F69","v":"Y sylfaen dreth gyngor at ddiben pennu'r dreth ( = E3 + E4 )"},{"$nulls":6},{"$f":"K11+K13","v":{"v":0,"d":"0.00"}}]
[]
[null,26.2,"E5b",{"$f":"Text!F70","v":"Anheddau trethadwy gostyngedig ac eithrio addasiad tymor hir gwag ac ail gartref"},{"$nulls":6},{"$f":"PartsAtoD!O28","v":{"v":0,"d":"0.00"}}]
[]
[null,27,"E6",{"$f":"Text!F71","v":"100% o'r sylfaen dreth gyngor ar gyfer cyfrifo'r grant cynnal refeniw ( =E5b+E4)"},{"$nulls":6},{"$f":"K18+K13","v":{"v":0,"d":"0.00"}}]
[]
[]
[{"$nulls":4},11,null,null,11,null,null,11]
[null,null,{"$f":"Text!F72","v":"Rhan F: Anheddau wedi'u heithrio yn ôl dosbarth"}]
[]
[null,28,null,{"$f":"Text!F73&\" A\"","v":"Dosbarth A"},0,null,{"$f":"Text!F73&\" I\"","v":"Dosbarth I"},0,null,{"$f":"Text!F73&\" Q\"","v":"Dosbarth Q"},0]
[null,"to"]
[null,51.5,null,{"$f":"Text!F73&\" B\"","v":"Dosbarth B"},0,null,{"$f":"Text!F73&\" J\"","v":"Dosbarth J"},0,null,{"$f":"Text!F73&\" R\"","v":"Dosbarth R"},0]
[]
[{"$nulls":3},{"$f":"Text!F73&\" C\"","v":"Dosbarth C"},0,null,{"$f":"Text!F73&\" K\"","v":"Dosbarth K"},0,null,{"$f":"Text!F73&\" S\"","v":"Dosbarth S"},0]
[]
[{"$nulls":3},{"$f":"Text!F73&\" D\"","v":"Dosbarth D"},0,null,{"$f":"Text!F73&\" L\"","v":"Dosbarth L"},0,null,{"$f":"Text!F73&\" T\"","v":"Dosbarth T"},0]
[]
[{"$nulls":3},{"$f":"Text!F73&\" E\"","v":"Dosbarth E"},0,null,{"$f":"Text!F73&\" M\"","v":"Dosbarth M"},0,null,{"$f":"Text!F73&\" U\"","v":"Dosbarth U"},0]
[]
[{"$nulls":3},{"$f":"Text!F73&\" F\"","v":"Dosbarth F"},0,null,{"$f":"Text!F73&\" N\"","v":"Dosbarth N"},0,null,{"$f":"Text!F73&\" V\"","v":"Dosbarth V"},0]
[]
[{"$nulls":3},{"$f":"Text!F73&\" G\"","v":"Dosbarth G"},0,null,{"$f":"Text!F73&\" O\"","v":"Dosbarth O"},0,null,{"$f":"Text!F73&\" W\"","v":"Dosbarth W"},0]
[]
[{"$nulls":3},{"$f":"Text!F73&\" H\"","v":"Dosbarth H"},0,null,{"$f":"Text!F73&\" P\"","v":"Dosbarth P"},0,null,{"$f":"Text!F73&\" X\"","v":"Dosbarth X"},0]
[]
[{"$nulls":4},{"$f":"Text!F61","v":"Am gweinyddu Llywodraeth Cymru yn unig"},null,{"$f":"Transfer!AB26","v":"ZZZZZZZZZZZZZZ"},null,null,{"$f":"Text!F74","v":"Cyfanswm pob dosbarth"},{"$f":"SUM(E26:E40,H26:H40,K26:K40)","v":{"v":0,"d":"0.00"}}]
[]
[]
[{"$nulls":9},{"$f":"Text!F78&\" D1\"","v":"Cyfanswm llinellau D1"},{"$f":"PartsAtoD!O30","v":{"v":0,"d":"0.00"}}]
[{"$nulls":9},{"$f":"Text!F78&\" D2\"","v":"Cyfanswm llinellau D2"},{"$f":"PartsAtoD!O31","v":{"v":0,"d":"0.00"}}]
[]
[{"$nulls":9},{"$f":"Transfer!AG32","v":""},{"$f":"ABS(K42-PartsAtoD!O30-PartsAtoD!O31)","v":0}]

{"sheet":"PartG","index":3,"n_rows":34,"n_cols":50,"rows_kept":34,"merged":[[26,8,26,10],[27,12,30,12],[27,13,27,15],[28,13,28,15],[29,13,29,15],[30,13,30,15]]}
[null,null,{"$f":"PartsAtoD!C1","v":"Cod: 0         Awdurdod: Dewiswch eich awdurdod"},{"$nulls":13},{"$f":"PartsAtoD!O1","v":"CT1 2026-27"},{"$nulls":30},false,false,false]
[]
[]
[null,null,{"$f":"Text!F80","v":"Rhan G: Disgowntiau newidiol "}]
[{"$nulls":4},12,null,1,2,3,4,5,6,7,8,9,10,11]
[{"$nulls":11},{"$f":"Text!F58","v":"band priso"}]
[{"$nulls":3},{"$f":"Text!F81","v":"Ardal"},{"$f":"Text!F94","v":"Canran disgownt wedi'i gymhwyso"},{"$f":"Text!F95&\" / \"&Text!F96","v":"Eiddo / Disgowntiau"},"A*","A","B","C","D","E","F","G","H","I",{"$f":"Text!F107","v":"Cyfanswm"}]
[null,52,"G1",{"$f":"Text!F82&\" 1*\"","v":"Cofnodwch enw ardal 1*"},{"v":0,"d":"0%"},{"$f":"Text!F98","v":"Nifer o eiddo"},{"v":0,"d":"0.00"},{"v":0,"d":"0.00"},{"v":0,"d":"0.00"},{"v":0,"d":"0.00"},{"v":0,"d":"0.00"},{"v":0,"d":"0.00"},{"v":0,"d":"0.00"},{"v":0,"d":"0.00"},{"v":0,"d":"0.00"},{"v":0,"d":"0.00"},{"$f":"SUM(G8:P8)","v":{"v":0,"d":"0.00"}}]
[null,53,"G2",null,null,{"$f":"Text!F96","v":"Disgowntiau"},{"$f":"G8*$E8","v":{"v":0,"d":"0.00"}},{"$f":"H8*$E8","v":{"v":0,"d":"0.00"}},{"$f":"I8*$E8","v":{"v":0,"d":"0.00"}},{"v":0,"d":"0.00"},{"v":0,"d":"0.00"},{"v":0,"d":"0.00"},{"v":0,"d":"0.00"},{"v":0,"d":"0.00"},{"v":0,"d":"0.00"},{"v":0,"d":"0.00"},{"$f":"SUM(G9:P9)","v":{"v":0,"d":"0.00"}}]
[null,54,"G3",{"$f":"Text!F82&\" 2*\"","v":"Cofnodwch enw ardal 2*"},{"v":0,"d":"0%"},{"$f":"Text!F98","v":"Nifer o eiddo"},{"v":0,"d":"0.00"},{"v":0,"d":"0.00"},{"v":0,"d":"0.00"},{"v":0,"d":"0.00"},{"v":0,"d":"0.00"},{"v":0,"d":"0.00"},{"v":0,"d":"0.00"},{"v":0,"d":"0.00"},{"v":0,"d":"0.00"},{"v":0,"d":"0.00"},{"v":0,"d":"0.00"}]
[null,55,"G4",null,null,{"$f":"Text!F96","v":"Disgowntiau"},{"$f":"G10*$E10","v":{"v":0,"d":"0.00"}},{"v":0,"d":"0.00"},{"v":0,"d":"0.00"},{"v":0,"d":"0.00"},{"v":0,"d":"0.00"},{"v":0,"d":"0.00"},{"v":0,"d":"0.00"},{"v":0,"d":"0.00"},{"v":0,"d":"0.00"},{"v":0,"d":"0.00"},{"v":0,"d":"0.00"}]
[null,56,"G5",{"$f":"Text!F82&\" 3*\"","v":"Cofnodwch enw ardal 3*"},{"v":0,"d":"0%"},{"$f":"Text!F98","v":"Nifer o eiddo"},{"v":0,"d":"0.00"},{"v":0,"d":"0.00"},{"v":0,"d":"0.00"},{"v":0,"d":"0.00"},{"v":0,"d":"0.00"},{"v":0,"d":"0.00"},{"v":0,"d":"0.00"},{"v":0,"d":"0.00"},{"v":0,"d":"0.00"},{"v":0,"d":"0.00"},{"v":0,"d":"0.00"}]
[null,57,"G6",null,null,{"$f":"Text!F96","v":"Disgowntiau"},{"$f":"G12*$E12","v":{"v":0,"d":"0.00"}},{"v":0,"d":"0.00"},{"v":0,"d":"0.00"},{"v":0,"d":"0.00"},{"v":0,"d":"0.00"},{"v":0,"d":"0.00"},{"v":0,"d":"0.00"},{"v":0,"d":"0.00"},{"v":0,"d":"0.00"},{"v":0,"d":"0.00"},{"v":0,"d":"0.00"}]
[null,58,"G7",{"$f":"Text!F82&\" 4*\"","v":"Cofnodwch enw ardal 4*"},{"v":0,"d":"0%"},{"$f":"Text!F98","v":"Nifer o eiddo"},{"v":0,"d":"0.00"},{"v":0,"d":"0.00"},{"v":0,"d":"0.00"},{"v":0,"d":"0.00"},{"v":0,"d":"0.00"},{"v":0,"d":"0.00"},{"v":0,"d":"0.00"},{"v":0,"d":"0.00"},{"v":0,"d":"0.00"},{"v":0,"d":"0.00"},{"v":0,"d":"0.00"}]
[null,59,"G8",null,null,{"$f":"Text!F96","v":"Disgowntiau"},{"$f":"G14*$E14","v":{"v":0,"d":"0.00"}},{"v":0,"d":"0.00"},{"v":0,"d":"0.00"},{"v":0,"d":"0.00"},{"v":0,"d":"0.00"},{"v":0,"d":"0.00"},{"v":0,"d":"0.00"},{"v":0,"d":"0.00"},{"v":0,"d":"0.00"},{"v":0,"d":"0.00"},{"v":0,"d":"0.00"}]
[null,60,"G9",{"$f":"Text!F82&\" 5*\"","v":"Cofnodwch enw ardal 5*"},{"v":0,"d":"0%"},{"$f":"Text!F98","v":"Nifer o eiddo"},{"v":0,"d":"0.00"},{"v":0,"d":"0.00"},{"v":0,"d":"0.00"},{"v":0,"d":"0.00"},{"v":0,"d":"0.00"},{"v":0,"d":"0.00"},{"v":0,"d":"0.00"},{"v":0,"d":"0.00"},{"v":0,"d":"0.00"},{"v":0,"d":"0.00"},{"v":0,"d":"0.00"}]
[null,61,"G10",null,null,{"$f":"Text!F96","v":"Disgowntiau"},{"$f":"G16*$E16","v":{"v":0,"d":"0.00"}},{"v":0,"d":"0.00"},{"v":0,"d":"0.00"},{"v":0,"d":"0.00"},{"v":0,"d":"0.00"},{"v":0,"d":"0.00"},{"v":0,"d":"0.00"},{"v":0,"d":"0.00"},{"v":0,"d":"0.00"},{"v":0,"d":"0.00"},{"v":0,"d":"0.00"}]
[null,62,"G11",null,null,{"$f":"Text!F99","v":"Cyfanswm nifer o eiddo"},{"$f":"SUM(G8,G10,G12,G14,G16)","v":{"v":0,"d":"0.00"}},{"$f":"SUM(H8,H10,H12,H14,H16)","v":{"v":0,"d":"0.00"}},{"$f":"SUM(I8,I10,I12,I14,I16)","v":{"v":0,"d":"0.00"}},{"v":0,"d":"0.00"},{"v":0,"d":"0.00"},{"v":0,"d":"0.00"},{"v":0,"d":"0.00"},{"v":0,"d":"0.00"},{"v":0,"d":"0.00"},{"v":0,"d":"0.00"},{"v":0,"d":"0.00"}]
[null,63,"G12",{"$f":"Text!F83","v":"Cyfanswm disgowntiau (G2+G4+G6+G8+G10) (gweler nodyn 11)"},null,null,{"$f":"SUM(G9,G11,G13,G15,G17)","v":{"v":0,"d":"0.00"}},{"$f":"SUM(H9,H11,H13,H15,H17)","v":{"v":0,"d":"0.00"}},{"v":0,"d":"0.00"},{"v":0,"d":"0.00"},{"v":0,"d":"0.00"},{"v":0,"d":"0.00"},{"v":0,"d":"0.00"},{"v":0,"d":"0.00"},{"v":0,"d":"0.00"},{"v":0,"d":"0.00"},{"v":0,"d":"0.00"}]
[]
[{"$nulls":3},{"$f":"Text!F84","v":"* gall hyn fod yr 'awdurdod gyfan', ardal cymuned unigol neu nifer o ardaloedd cymunedol"}]
[]
[]
[{"$nulls":4},{"$f":"Text!F85","v":"ARDYSTIAD Y PRIF SWYDDOG CYLLID"}]
[{"$nulls":4},{"$f":"Text!F86","v":"Tystiaf fod fy awdurdod wedi cyfrifo'r sylfaen dreth gyngor a'r ffigurau eraill a nodir ar y ffurflen hon yn unol â Rheoliadau Llywodraeth Leol (Cyfrifo Sylfaen Treth Gyngor) 1995 (Cymru) (OS 1995/2561) fel y'u diwygiwyd. Lle nodir isod, mae'r ffigurau wedi'u cymeradwyo, yn unol ag adran 67 o Ddeddf Cyllid Llywodraeth Leol 1992, fel y'u diwygiwyd gan adran 84 o Ddeddf Llywodraeth Leol 2003."}]
[]
[{"$nulls":8},{"$f":"IF(OR($AV$1=TRUE,$AW$1=TRUE,$AX$1=TRUE),\"\",Text!F87)","v":"Nodwch tic yn y blwch proiodol"}]
[{"$nulls":8},{"$f":"Text!F88","v":"Nid yw'r ffigurau wedi'u cymeradwyo eto;"},{"$nulls":3},{"$f":"Text!F61","v":"Am gweinyddu Llywodraeth Cymru yn unig"},{"$f":"Transfer!AB25","v":"ZZZZZZZZZZZZZZ"},null,null,"A-D"]
[{"$nulls":6},{"$f":"Text!F90","v":"neu"},{"$nulls":6},{"$f":"Transfer!AB26","v":"ZZZZZZZZZZZZZZ"},null,null,"E-F"]
[{"$nulls":8},{"$f":"Text!F89","v":"mae'r ffigurau wedi'u cymeradwyo trwy benderfyniad gweithredol;"},{"$nulls":4},{"$f":"Transfer!AB27","v":"BKYDCLBKBKBK"},null,null,"H"]
[{"$nulls":6},{"$f":"Text!F90","v":"neu"},{"$nulls":6},{"$f":"Transfer!AB24","v":"BKYDCLBKBKBK"},null,null,{"$f":"Text!F107","v":"Cyfanswm"}]
[{"$nulls":8},{"$f":"Text!F91","v":"mae'r ffigurau wedi'u cymeradwyo trwy gan y cyngor llawn."}]
[]
[{"$nulls":4},{"$f":"Text!F92","v":"Prif Swyddog Cyllid:"},{"$nulls":5},{"$f":"Text!F93","v":"Dyddiad:"}]

{"sheet":"PartH","index":4,"n_rows":107,"n_cols":14,"rows_kept":107,"merged":[[106,6,106,7],[106,8,106,9]]}
[null,null,{"$f":"PartsAtoD!C1","v":"Cod: 0         Awdurdod: Dewiswch eich awdurdod"},{"$nulls":10},{"$f":"FrontPage!M2&\" \"&year","v":"CT1 2026-27"}]
[null,null,{"$f":"Text!F131","v":"Rhan H: Eiddo gwag ac ail gartrefi y codir tâl amdanynt - ag eithrio eithriadau"}]
[null,null,{"$f":"Text!F132","v":"Os nad yw gwerth y ganran disgownt/premiwm wedi ei ddangos yn y tabl, ychwanegwch y gwerth canran i  res waelod y golofn \"Canran disgownt\" neu \"Canran premiwm\""}]
[{"$nulls":3},12,2,3,4,5,6,7,8,9,10,11]
[{"$nulls":3},{"$f":"Text!F133","v":"Cofnodwch y nifer gwirioneddol o anheddau"}]
[{"$nulls":4},"A","B","C","D","E","F","G","H","I",{"$f":"Text!F141","v":"Cyfanswm"}]
[null,64,"H1",{"$f":"Text!F134","v":"Eiddo gwag  trethadwy (dros 6 mis) heb unrhyw ddisgownt na phremiwm"},0,0,0,0,0,0,0,0,0,{"$f":"SUM(E7:M7)","v":0}]
[null,64.1,"H1.1",{"$f":"Text!F135","v":"Nodwch nifer yr eiddo trethadwy gwag dros 6 mis ond llai na 12 mis (wedi’u cynnwys yn H1)"},0,0,0,0,0,0,0,0,0,{"$f":"SUM(E8:M8)","v":0}]
[]
[null,65,"H2",{"$f":"Text!F136","v":"Ail gartrefi sydd yn daladwy heb ddisgownt na phremiwm"},0,0,0,0,0,0,0,0,0,{"$f":"SUM(E10:M10)","v":0}]
[null,65.1,"H2.1",{"$f":"Text!F137","v":"Nodwch nifer yr ail gartrefi trethadwy sy’n garafannau, cabanau neu gabanau gwyliau (wedi’u cynnwys yn H2)"},0,0,0,0,0,0,0,0,0,{"$f":"SUM(E11:M11)","v":0}]
[]
[{"$nulls":3},{"$f":"Text!F138","v":"Disgownt eiddo gwag"}]
[{"$nulls":3},{"$f":"Text!F139","v":"Nodwch yn ôl band a gostyngiad canrannol, nifer yr anheddau sy'n wag."}]
[{"$nulls":3},{"$f":"Text!F140","v":"Canran disgownt"},"A","B","C","D","E","F","G","H","I",{"$f":"Text!F141","v":"Cyfanswm"}]
[null,67,"H3b",25,0,0,0,0,0,0,0,0,0,{"$f":"SUM(E16:M16)","v":0}]
[null,68,"H3c",50,0,0,0,0,0,0,0,0,0,0]
[null,70,"H3e",100,0,0,0,0,0,0,0,0,0,0]
[null,71,"H3f",0,0,0,0,0,0,0,0,0,0,0]
[null,71.1,"H3fa",0,0,0,0,0,0,0,0,0,0,0]
[null,71.2,"H3fb",0,0,0,0,0,0,0,0,0,0,0]
[null,72,"H3g",{"$f":"Text!F141","v":"Cyfanswm"},{"$f":"SUM(E16:E21)","v":0},0,0,0,0,0,0,0,{"$f":"SUM(M16:M21)","v":0},0]
[]
[{"$nulls":3},{"$f":"Text!F143","v":"Premiwm eiddo gwag hirdymor (dros 12 mis)"}]
[{"$nulls":3},{"$f":"Text!F144","v":"Cofnodwch, yn ôl band a chanran, y premiwm y mae eich awdurdod yn ei godi ar gyfer eiddo gwag hirdymor nad yw wedi ei  gynnwys yn y tabl uchod"}]
[{"$nulls":3},{"$f":"Text!F145","v":"Canran premiwm"},"A","B","C","D","E","F","G","H","I",{"$f":"Text!F141","v":"Cyfanswm"}]
[null,74,"H4b",25,0,0,0,0,0,0,0,0,0,{"$f":"SUM(E27:M27)","v":0}]
[null,75,"H4c",50,0,0,0,0,0,0,0,0,0,0]
[null,77,"H4e",100,0,0,0,0,0,0,0,0,0,0]
[null,78,"H4f",0,0,0,0,0,0,0,0,0,0,0]
[null,78.1,"H4fa",0,0,0,0,0,0,0,0,0,0,0]
[null,78.2,"H4fb",0,0,0,0,0,0,0,0,0,0,0]
[null,79,"H4g",{"$f":"Text!F141","v":"Cyfanswm"},{"$f":"SUM(E27:E32)","v":0},0,0,0,0,0,0,0,{"$f":"SUM(M27:M32)","v":0},0]
[]
[{"$nulls":3},{"$f":"Text!F146","v":"Disgownt ail gartref"}]
[{"$nulls":3},{"$f":"Text!F147","v":"Cofnodwch, yn ôl band a chanran, y disgownt y mae eich awdurdod yn ei ddyfarnu ar gyfer anheddau a gofrestrir fel ail gartrefi"}]
[{"$nulls":3},{"$f":"Text!F140","v":"Canran disgownt"},"A","B","C","D","E","F","G","H","I",{"$f":"Text!F141","v":"Cyfanswm"}]
[null,81,"H5b",25,0,0,0,0,0,0,0,0,0,{"$f":"SUM(E38:M38)","v":0}]
[null,82,"H5c",50,0,0,0,0,0,0,0,0,0,0]
[null,84,"H5e",100,0,0,0,0,0,0,0,0,0,0]
[null,85,"H5f",0,0,0,0,0,0,0,0,0,0,0]
[null,85.1,"H5fa",0,0,0,0,0,0,0,0,0,0,0]
[null,85.2,"H5fb",0,0,0,0,0,0,0,0,0,0,0]
[null,86,"H5g",{"$f":"Text!F141","v":"Cyfanswm"},{"$f":"SUM(E38:E43)","v":0},0,0,0,0,0,0,{"$f":"SUM(L38:L43)","v":0},{"$f":"SUM(M38:M43)","v":0},0]
[]
[{"$nulls":3},{"$f":"Text!F148","v":"Premiwm ail gartref"}]
[{"$nulls":3},{"$f":"Text!F149","v":"Cofnodwch, yn ôl band a chanran, y premiwm y mae eich awdurdod yn ei godi ar gyfer anheddau a gofrestrir fel ail gartrefi nad yw wedi ei gynnwys yn y tabl uchod"}]
[{"$nulls":3},{"$f":"Text!F145","v":"Canran premiwm"},"A","B","C","D","E","F","G","H","I",{"$f":"Text!F141","v":"Cyfanswm"}]
[null,88,"H6b",25,0,0,0,0,0,0,0,0,0,{"$f":"SUM(E49:M49)","v":0}]
[null,89,"H6c",50,0,0,0,0,0,0,0,0,0,0]
[null,91,"H6e",100,0,0,0,0,0,0,0,0,0,0]
[null,92,"H6f",0,0,0,0,0,0,0,0,0,0,0]
[null,92.1,"H6fa",0,0,0,0,0,0,0,0,0,0,0]
[null,92.2,"H6fb",0,0,0,0,0,0,0,0,0,0,0]
[null,93,"H6g",{"$f":"Text!F141","v":"Cyfanswm"},{"$f":"SUM(E49:E54)","v":0},0,0,0,0,0,0,{"$f":"SUM(L49:L54)","v":0},{"$f":"SUM(M49:M54)","v":0},0]
[null,93.1,"H6g.1",{"$f":"Text!F142","v":"Nodwch nifer yr ail gartrefi trethadwy sy’n garafannau, cabanau neu gabanau gwyliau (wedi’u cynnwys yn H6g)"},0,0,0,0,0,0,0,0,0,{"$f":"SUM(E56:M56)","v":0}]
[]
[null,94,"H7",{"$f":"Text!F150","v":"Cyfanswm eiddo gwag sy'n daladwy"},{"$f":"SUM(E7,E22,E33)","v":0},0,0,0,0,0,0,0,0,{"$f":"SUM(E58:M58)","v":0}]
[null,95,"H8",{"$f":"Text!F151","v":"Cyfanswm ail gartrefi sy'n daladwy"},{"$f":"SUM(E10,E44,E55)","v":0},0,0,0,0,0,0,0,0,{"$f":"SUM(E59:M59)","v":0}]
[]
[{"$nulls":3},{"$f":"Text!F152","v":"Cyfwerthoedd anheddau"}]
[{"$nulls":3},{"$f":"Text!F153","v":"Gostyngiad oherwydd disgownt eiddo gwag hirdymor"}]
[{"$nulls":3},{"$f":"Text!F140","v":"Canran disgownt"},"A","B","C","D","E","F","G","H","I",{"$f":"Text!F141","v":"Cyfanswm"}]
[null,97,"H9b",{"$f":"+D16","v":25},{"$f":"+E16*($D64/100)","v":{"v":0,"d":"0.00"}},{"v":0,"d":"0.00"},{"v":0,"d":"0.00"},{"v":0,"d":"0.00"},{"v":0,"d":"0.00"},{"v":0,"d":"0.00"},{"v":0,"d":"0.00"},{"v":0,"d":"0.00"},{"v":0,"d":"0.00"},{"$f":"SUM(E64:M64)","v":{"v":0,"d":"0.00"}}]
[null,98,"H9c",50,{"$f":"+E17*($D65/100)","v":{"v":0,"d":"0.00"}},{"v":0,"d":"0.00"},{"v":0,"d":"0.00"},{"v":0,"d":"0.00"},{"v":0,"d":"0.00"},{"v":0,"d":"0.00"},{"v":0,"d":"0.00"},{"v":0,"d":"0.00"},{"v":0,"d":"0.00"},{"v":0,"d":"0.00"}]
[null,100,"H9e",100,{"$f":"+E18*($D66/100)","v":{"v":0,"d":"0.00"}},{"v":0,"d":"0.00"},{"v":0,"d":"0.00"},{"v":0,"d":"0.00"},{"v":0,"d":"0.00"},{"v":0,"d":"0.00"},{"v":0,"d":"0.00"},{"v":0,"d":"0.00"},{"v":0,"d":"0.00"},{"v":0,"d":"0.00"}]
[null,101,"H9f",0,{"$f":"+E19*($D67/100)","v":{"v":0,"d":"0.00"}},{"v":0,"d":"0.00"},{"v":0,"d":"0.00"},{"v":0,"d":"0.00"},{"v":0,"d":"0.00"},{"v":0,"d":"0.00"},{"v":0,"d":"0.00"},{"v":0,"d":"0.00"},{"v":0,"d":"0.00"},{"v":0,"d":"0.00"}]
[null,101.1,"H9fa",0,{"$f":"+E20*($D68/100)","v":{"v":0,"d":"0.00"}},{"v":0,"d":"0.00"},{"v":0,"d":"0.00"},{"v":0,"d":"0.00"},{"v":0,"d":"0.00"},{"v":0,"d":"0.00"},{"v":0,"d":"0.00"},{"v":0,"d":"0.00"},{"v":0,"d":"0.00"},{"v":0,"d":"0.00"}]
[null,101.2,"H9fb",0,{"$f":"+E21*($D69/100)","v":{"v":0,"d":"0.00"}},{"v":0,"d":"0.00"},{"v":0,"d":"0.00"},{"v":0,"d":"0.00"},{"v":0,"d":"0.00"},{"v":0,"d":"0.00"},{"v":0,"d":"0.00"},{"v":0,"d":"0.00"},{"v":0,"d":"0.00"},{"v":0,"d":"0.00"}]
[null,102,"H9g",{"$f":"Text!F141","v":"Cyfanswm"},{"$f":"SUM(E64:E69)","v":{"v":0,"d":"0.00"}},{"v":0,"d":"0.00"},{"v":0,"d":"0.00"},{"v":0,"d":"0.00"},{"v":0,"d":"0.00"},{"v":0,"d":"0.00"},{"v":0,"d":"0.00"},{"$f":"SUM(L64:L69)","v":{"v":0,"d":"0.00"}},{"$f":"SUM(M64:M69)","v":{"v":0,"d":"0.00"}},{"v":0,"d":"0.00"}]
[]
[{"$nulls":3},{"$f":"Text!F154","v":"Cynnydd oherwydd premiwm eiddo gwag hirdymor"}]
[{"$nulls":3},{"$f":"Text!F145","v":"Canran premiwm"},"A","B","C","D","E","F","G","H","I",{"$f":"Text!F141","v":"Cyfanswm"}]
[null,104,"H10b",{"$f":"+D27","v":25},{"$f":"+E27*($D74/100)","v":{"v":0,"d":"0.00"}},{"v":0,"d":"0.00"},{"v":0,"d":"0.00"},{"v":0,"d":"0.00"},{"v":0,"d":"0.00"},{"v":0,"d":"0.00"},{"v":0,"d":"0.00"},{"v":0,"d":"0.00"},{"v":0,"d":"0.00"},{"$f":"SUM(E74:M74)","v":{"v":0,"d":"0.00"}}]
[null,105,"H10c",{"$f":"+D28","v":50},{"$f":"+E28*($D75/100)","v":{"v":0,"d":"0.00"}},{"v":0,"d":"0.00"},{"v":0,"d":"0.00"},{"v":0,"d":"0.00"},{"v":0,"d":"0.00"},{"v":0,"d":"0.00"},{"v":0,"d":"0.00"},{"v":0,"d":"0.00"},{"v":0,"d":"0.00"},{"v":0,"d":"0.00"}]
[null,107,"H10e",100,{"$f":"+E29*($D76/100)","v":{"v":0,"d":"0.00"}},{"v":0,"d":"0.00"},{"v":0,"d":"0.00"},{"v":0,"d":"0.00"},{"v":0,"d":"0.00"},{"v":0,"d":"0.00"},{"v":0,"d":"0.00"},{"v":0,"d":"0.00"},{"v":0,"d":"0.00"},{"v":0,"d":"0.00"}]
[null,108,"H10f",{"$f":"+D30","v":0},{"$f":"+E30*($D77/100)","v":{"v":0,"d":"0.00"}},{"v":0,"d":"0.00"},{"v":0,"d":"0.00"},{"v":0,"d":"0.00"},{"v":0,"d":"0.00"},{"v":0,"d":"0.00"},{"v":0,"d":"0.00"},{"v":0,"d":"0.00"},{"v":0,"d":"0.00"},{"v":0,"d":"0.00"}]
[null,108.1,"H10fa",{"$f":"+D31","v":0},{"$f":"+E31*($D78/100)","v":{"v":0,"d":"0.00"}},{"v":0,"d":"0.00"},{"v":0,"d":"0.00"},{"v":0,"d":"0.00"},{"v":0,"d":"0.00"},{"v":0,"d":"0.00"},{"v":0,"d":"0.00"},{"v":0,"d":"0.00"},{"v":0,"d":"0.00"},{"v":0,"d":"0.00"}]
[null,108.2,"H10fb",{"$f":"+D32","v":0},{"$f":"+E32*($D79/100)","v":{"v":0,"d":"0.00"}},{"v":0,"d":"0.00"},{"v":0,"d":"0.00"},{"v":0,"d":"0.00"},{"v":0,"d":"0.00"},{"v":0,"d":"0.00"},{"v":0,"d":"0.00"},{"v":0,"d":"0.00"},{"v":0,"d":"0.00"},{"v":0,"d":"0.00"}]
[null,109,"H10g",{"$f":"+D33","v":"Cyfanswm"},{"$f":"SUM(E74:E79)","v":{"v":0,"d":"0.00"}},{"v":0,"d":"0.00"},{"v":0,"d":"0.00"},{"v":0,"d":"0.00"},{"v":0,"d":"0.00"},{"v":0,"d":"0.00"},{"v":0,"d":"0.00"},{"$f":"SUM(L74:L79)","v":{"v":0,"d":"0.00"}},{"$f":"SUM(M74:M79)","v":{"v":0,"d":"0.00"}},{"v":0,"d":"0.00"}]
[]
[{"$nulls":3},{"$f":"Text!F155","v":"Gostyngiad oherwydd disgownt ail gartref"}]
[{"$nulls":3},{"$f":"Text!F140","v":"Canran disgownt"},"A","B","C","D","E","F","G","H","I",{"$f":"Text!F141","v":"Cyfanswm"}]
[null,111,"H11b",{"$f":"+D38","v":25},{"$f":"+E38*($D84/100)","v":{"v":0,"d":"0.00"}},{"v":0,"d":"0.00"},{"v":0,"d":"0.00"},{"v":0,"d":"0.00"},{"v":0,"d":"0.00"},{"v":0,"d":"0.00"},{"v":0,"d":"0.00"},{"v":0,"d":"0.00"},{"v":0,"d":"0.00"},{"$f":"SUM(E84:M84)","v":{"v":0,"d":"0.00"}}]
[null,112,"H11c",50,{"$f":"+E39*($D85/100)","v":{"v":0,"d":"0.00"}},{"v":0,"d":"0.00"},{"v":0,"d":"0.00"},{"v":0,"d":"0.00"},{"v":0,"d":"0.00"},{"v":0,"d":"0.00"},{"v":0,"d":"0.00"},{"v":0,"d":"0.00"},{"v":0,"d":"0.00"},{"v":0,"d":"0.00"}]
[null,114,"H11e",100,{"$f":"+E40*($D86/100)","v":{"v":0,"d":"0.00"}},{"v":0,"d":"0.00"},{"v":0,"d":"0.00"},{"v":0,"d":"0.00"},{"v":0,"d":"0.00"},{"v":0,"d":"0.00"},{"v":0,"d":"0.00"},{"v":0,"d":"0.00"},{"v":0,"d":"0.00"},{"v":0,"d":"0.00"}]
[null,115,"H11f",0,{"$f":"+E41*($D87/100)","v":{"v":0,"d":"0.00"}},{"v":0,"d":"0.00"},{"v":0,"d":"0.00"},{"v":0,"d":"0.00"},{"v":0,"d":"0.00"},{"v":0,"d":"0.00"},{"v":0,"d":"0.00"},{"v":0,"d":"0.00"},{"v":0,"d":"0.00"},{"v":0,"d":"0.00"}]
[null,115.1,"H11fa",0,{"$f":"+E42*($D88/100)","v":{"v":0,"d":"0.00"}},{"v":0,"d":"0.00"},{"v":0,"d":"0.00"},{"v":0,"d":"0.00"},{"v":0,"d":"0.00"},{"v":0,"d":"0.00"},{"v":0,"d":"0.00"},{"v":0,"d":"0.00"},{"v":0,"d":"0.00"},{"v":0,"d":"0.00"}]
[null,115.2,"H11fb",0,{"$f":"+E43*($D89/100)","v":{"v":0,"d":"0.00"}},{"v":0,"d":"0.00"},{"v":0,"d":"0.00"},{"v":0,"d":"0.00"},{"v":0,"d":"0.00"},{"v":0,"d":"0.00"},{"v":0,"d":"0.00"},{"v":0,"d":"0.00"},{"v":0,"d":"0.00"},{"v":0,"d":"0.00"}]
[null,116,"H11g","Cyfanswm",{"$f":"SUM(E84:E89)","v":{"v":0,"d":"0.00"}},{"v":0,"d":"0.00"},{"v":0,"d":"0.00"},{"v":0,"d":"0.00"},{"v":0,"d":"0.00"},{"v":0,"d":"0.00"},{"v":0,"d":"0.00"},{"v":0,"d":"0.00"},{"$f":"SUM(M84:M89)","v":{"v":0,"d":"0.00"}},{"v":0,"d":"0.00"}]
[]
[{"$nulls":3},{"$f":"Text!F156","v":"Cynnydd oherwydd disgownt ail gartref"}]
[{"$nulls":3},{"$f":"Text!F145","v":"Canran premiwm"},"A","B","C","D","E","F","G","H","I",{"$f":"Text!F141","v":"Cyfanswm"}]
[null,118,"H12b",{"$f":"+D49","v":25},{"$f":"+E49*($D94/100)","v":{"v":0,"d":"0.00"}},{"v":0,"d":"0.00"},{"v":0,"d":"0.00"},{"v":0,"d":"0.00"},{"v":0,"d":"0.00"},{"v":0,"d":"0.00"},{"v":0,"d":"0.00"},{"v":0,"d":"0.00"},{"v":0,"d":"0.00"},{"$f":"SUM(E94:M94)","v":{"v":0,"d":"0.00"}}]
[null,119,"H12c",50,{"$f":"+E50*($D95/100)","v":{"v":0,"d":"0.00"}},{"v":0,"d":"0.00"},{"v":0,"d":"0.00"},{"v":0,"d":"0.00"},{"v":0,"d":"0.00"},{"v":0,"d":"0.00"},{"v":0,"d":"0.00"},{"v":0,"d":"0.00"},{"v":0,"d":"0.00"},{"v":0,"d":"0.00"}]
[null,121,"H12e",100,{"$f":"+E51*($D96/100)","v":{"v":0,"d":"0.00"}},{"v":0,"d":"0.00"},{"v":0,"d":"0.00"},{"v":0,"d":"0.00"},{"v":0,"d":"0.00"},{"v":0,"d":"0.00"},{"v":0,"d":"0.00"},{"v":0,"d":"0.00"},{"v":0,"d":"0.00"},{"v":0,"d":"0.00"}]
[null,122,"H12f",0,{"$f":"+E52*($D97/100)","v":{"v":0,"d":"0.00"}},{"v":0,"d":"0.00"},{"v":0,"d":"0.00"},{"v":0,"d":"0.00"},{"v":0,"d":"0.00"},{"v":0,"d":"0.00"},{"v":0,"d":"0.00"},{"v":0,"d":"0.00"},{"v":0,"d":"0.00"},{"v":0,"d":"0.00"}]
[null,122.1,"H12fa",0,{"$f":"+E53*($D98/100)","v":{"v":0,"d":"0.00"}},{"v":0,"d":"0.00"},{"v":0,"d":"0.00"},{"v":0,"d":"0.00"},{"v":0,"d":"0.00"},{"v":0,"d":"0.00"},{"v":0,"d":"0.00"},{"v":0,"d":"0.00"},{"v":0,"d":"0.00"},{"v":0,"d":"0.00"}]
[null,122.2,"H12fb",0,{"$f":"+E54*($D99/100)","v":{"v":0,"d":"0.00"}},{"v":0,"d":"0.00"},{"v":0,"d":"0.00"},{"v":0,"d":"0.00"},{"v":0,"d":"0.00"},{"v":0,"d":"0.00"},{"v":0,"d":"0.00"},{"v":0,"d":"0.00"},{"v":0,"d":"0.00"},{"v":0,"d":"0.00"}]
[null,123,"H12g","Cyfanswm",{"$f":"SUM(E94:E99)","v":{"v":0,"d":"0.00"}},{"v":0,"d":"0.00"},{"v":0,"d":"0.00"},{"v":0,"d":"0.00"},{"v":0,"d":"0.00"},{"v":0,"d":"0.00"},{"v":0,"d":"0.00"},{"$f":"SUM(L94:L99)","v":{"v":0,"d":"0.00"}},{"$f":"SUM(M94:M99)","v":{"v":0,"d":"0.00"}},{"v":0,"d":"0.00"}]
[]
[]
[]
[]
[]
[]
[{"$nulls":3},{"$f":"Transfer!AG31","v":""},null,null,{"$f":"Text!F61","v":"Am gweinyddu Llywodraeth Cymru yn unig"},null,{"$f":"Transfer!AB27","v":"BKYDCLBKBKBK"}]

{"sheet":"Validations","index":5,"n_rows":118,"n_cols":44,"rows_kept":118,"merged":[[4,5,4,6],[4,9,4,10]]}
[null,null,{"$f":"PartsAtoD!C1","v":"Cod: 0         Awdurdod: Dewiswch eich awdurdod"},{"$nulls":9},{"$f":"PartsAtoD!O1","v":"CT1 2026-27"},{"$nulls":23},{"$f":"Transfer!X2","v":202526},{"$f":"Transfer!W2","v":"202627"},"Date Lookup from Transfer Sheet"]
[]
[null,null,{"$f":"Text!F127","v":"Gwiriadau dilysu - ychwanegwch sylwadau lle gofynnir am hynny"}]
[{"$nulls":33},"Validations Lookup Table"]
[{"$nulls":5},{"$f":"Text!F128","v":"Blwyddyn"},{"$nulls":3},{"$f":"Text!F129","v":"Goddefiant"},{"$nulls":26},{"$f":"AK1","v":202526},{"$f":"AL1","v":"202627"}]
[null,null,{"$f":"AH6","v":"Rhif ID"},"Llinio","Band","2025-26","2026-27","Gwahaniaeth","% Gwahaniaeth","Gwerth","%","Statws","Sylwadau",{"$nulls":14},"Index","Row","Col","Import","Row","Col",{"$f":"Text!F100","v":"Rhif ID"},{"$f":"Text!F101","v":"Llinio"},{"$f":"Text!F102","v":"Band"},{"$f":"LEFT(AK1,4)&\"-\"&RIGHT(AK1,2)","v":"2025-26"},{"$f":"year","v":"2026-27"},{"$f":"Text!F103","v":"Gwahaniaeth"},{"$f":"\"% \"&Text!F103","v":"% Gwahaniaeth"},{"$f":"Text!F104","v":"Gwerth"},"%",{"$f":"Text!F105","v":"Statws"},{"$f":"Text!F106","v":"Sylwadau"}]
[null,null,"Column1","Column2","Column3","Column4","Column5","Column6","Column7","Column8","Column9","Column10","Column11"]
[null,{"$f":"AuthDetails!$B$3","v":0},1,{"$f":"VLOOKUP(C8,ValFill,2,FALSE)","v":"A1"},{"$f":"VLOOKUP(C8,ValFill,3,FALSE)","v":"A"},{"$f":"VLOOKUP(C8,ValFill,4,FALSE)","v":0},{"$f":"VLOOKUP(C8,ValFill,5,FALSE)","v":0},{"$f":"VLOOKUP(C8,ValFill,6,FALSE)","v":0},{"$f":"VLOOKUP(C8,ValFill,7,FALSE)","v":""},{"$f":"VLOOKUP(C8,ValFill,8,FALSE)","v":50},{"$f":"VLOOKUP(C8,ValFill,9,FALSE)","v":{"v":0.05,"d":"5.0%"}},{"$f":"VLOOKUP(C8,ValFill,10,FALSE)","v":"iawn"},{"$nulls":15},{"$f":"uanumber&\"_\"&AC8&\"_\"&AD8","v":"0_1_2"},1,2,{"$f":"$AL$1&\"-\"&uanumber&\"-\"&AJ8&\"-\"&AI8","v":"202627-0-A-A1"},"1.000","2.00",1,"A1","A",{"$f":"VLOOKUP(AB8,LineData,9,FALSE)","v":0},{"$f":"VLOOKUP(AB8,LineData,10,FALSE)","v":0},{"$f":"AL8-AK8","v":0},{"$f":"IF(ISERR(AL8/AK8-1),\"\",AL8/AK8-1)","v":""},50,{"v":0.05,"d":"5%"},{"$f":"IF(AN8=\"\",Text!$F$77,IF(AND(ABS(AN8)>AP8,ABS(AM8)>AO8),Text!$F$126,Text!$F$77))","v":"iawn"},{"$f":"IF(VLOOKUP(AH8,ComFill,11,FALSE)=0,\"\",VLOOKUP(AH8,ComFill,11,FALSE))","v":""}]
[null,{"$f":"AuthDetails!$B$3","v":0},2,"A1","B",0,0,0,"",50,{"v":0.05,"d":"5.0%"},"iawn",{"$nulls":15},"0_1_3",1,3,"202627-0-B-A1","1.000","3.00",2,"A1","B",0,0,{"$f":"AL9-AK9","v":0},{"$f":"IF(ISERR(AL9/AK9-1),\"\",AL9/AK9-1)","v":""},50,{"v":0.05,"d":"5%"},{"$f":"IF(AN9=\"\",Text!$F$77,IF(AND(ABS(AN9)>AP9,ABS(AM9)>AO9),Text!$F$126,Text!$F$77))","v":"iawn"},""]
[null,{"$f":"AuthDetails!$B$3","v":0},3,"A1","C",0,0,0,"",50,{"v":0.05,"d":"5.0%"},"iawn",{"$nulls":15},"0_1_4",1,4,"202627-0-C-A1","1.000","4.00",3,"A1","C",0,0,0,"",50,{"v":0.05,"d":"5%"},{"$f":"IF(AN10=\"\",Text!$F$77,IF(AND(ABS(AN10)>AP10,ABS(AM10)>AO10),Text!$F$126,Text!$F$77))","v":"iawn"},""]
[null,{"$f":"AuthDetails!$B$3","v":0},4,"A1","D",0,0,0,"",50,{"v":0.05,"d":"5.0%"},"iawn",{"$nulls":15},"0_1_5",1,5,"202627-0-D-A1","1.000","5.00",4,"A1","D",0,0,0,"",50,{"v":0.05,"d":"5%"},{"$f":"IF(AN11=\"\",Text!$F$77,IF(AND(ABS(AN11)>AP11,ABS(AM11)>AO11),Text!$F$126,Text!$F$77))","v":"iawn"},""]
[null,{"$f":"AuthDetails!$B$3","v":0},5,"A1","E",0,0,0,"",50,{"v":0.05,"d":"5.0%"},"iawn",{"$nulls":15},"0_1_6",1,6,"202627-0-E-A1","1.000","6.00",5,"A1","E",0,0,0,"",50,{"v":0.05,"d":"5%"},{"$f":"IF(AN12=\"\",Text!$F$77,IF(AND(ABS(AN12)>AP12,ABS(AM12)>AO12),Text!$F$126,Text!$F$77))","v":"iawn"},""]
[null,{"$f":"AuthDetails!$B$3","v":0},6,"A1","F",0,0,0,"",50,{"v":0.05,"d":"5.0%"},"iawn",{"$nulls":15},"0_1_7",1,7,"202627-0-F-A1","1.000","7.00",6,"A1","F",0,0,0,"",50,{"v":0.05,"d":"5%"},{"$f":"IF(AN13=\"\",Text!$F$77,IF(AND(ABS(AN13)>AP13,ABS(AM13)>AO13),Text!$F$126,Text!$F$77))","v":"iawn"},""]
[null,{"$f":"AuthDetails!$B$3","v":0},7,"A1","G",0,0,0,"",30,{"v":0.05,"d":"5.0%"},"iawn",{"$nulls":15},"0_1_8",1,8,"202627-0-G-A1","1.000","8.00",7,"A1","G",0,0,0,"",30,{"v":0.05,"d":"5%"},{"$f":"IF(AN14=\"\",Text!$F$77,IF(AND(ABS(AN14)>AP14,ABS(AM14)>AO14),Text!$F$126,Text!$F$77))","v":"iawn"},""]
[null,{"$f":"AuthDetails!$B$3","v":0},8,"A1","H",0,0,0,"",20,{"v":0.05,"d":"5.0%"},"iawn",{"$nulls":15},"0_1_9",1,9,"202627-0-H-A1","1.000","9.00",8,"A1","H",0,0,0,"",20,{"v":0.05,"d":"5%"},{"$f":"IF(AN15=\"\",Text!$F$77,IF(AND(ABS(AN15)>AP15,ABS(AM15)>AO15),Text!$F$126,Text!$F$77))","v":"iawn"},""]
[null,{"$f":"AuthDetails!$B$3","v":0},9,"A1","I",0,0,0,"",10,{"v":0.05,"d":"5.0%"},"iawn",{"$nulls":15},"0_1_10",1,10,"202627-0-I-A1","1.000","10.00",9,"A1","I",0,0,0,"",10,{"v":0.05,"d":"5%"},{"$f":"IF(AN16=\"\",Text!$F$77,IF(AND(ABS(AN16)>AP16,ABS(AM16)>AO16),Text!$F$126,Text!$F$77))","v":"iawn"},""]
[null,{"$f":"AuthDetails!$B$3","v":0},10,"A1","Total",0,0,0,"",100,{"v":0.05,"d":"5.0%"},"iawn",{"$nulls":15},"0_1_11",1,11,"202627-0-Total-A1","1.000","11.00",10,"A1","Total",0,0,0,"",100,{"v":0.05,"d":"5%"},{"$f":"IF(AN17=\"\",Text!$F$77,IF(AND(ABS(AN17)>AP17,ABS(AM17)>AO17),Text!$F$126,Text!$F$77))","v":"iawn"},""]
[null,{"$f":"AuthDetails!$B$3","v":0},11,"B1","A*",0,0,0,"",50,{"v":0.1,"d":"10.0%"},"iawn",{"$nulls":15},"0_4_1",4,1,"202627-0-A*-B1","4.000","1.00",11,"B1","A*",0,0,0,"",50,{"v":0.1,"d":"10%"},{"$f":"IF(AN18=\"\",Text!$F$77,IF(AND(ABS(AN18)>AP18,ABS(AM18)>AO18),Text!$F$126,Text!$F$77))","v":"iawn"},""]
[null,{"$f":"AuthDetails!$B$3","v":0},12,"B1","A",0,0,0,"",100,{"v":0.15,"d":"15.0%"},"iawn",{"$nulls":15},"0_4_2",4,2,"202627-0-A-B1","4.000","2.00",12,"B1","A",0,0,0,"",100,{"v":0.15,"d":"15%"},{"$f":"IF(AN19=\"\",Text!$F$77,IF(AND(ABS(AN19)>AP19,ABS(AM19)>AO19),Text!$F$126,Text!$F$77))","v":"iawn"},""]
[null,{"$f":"AuthDetails!$B$3","v":0},13,"B1","B",0,0,0,"",50,{"v":0.1,"d":"10.0%"},"iawn",{"$nulls":15},"0_4_3",4,3,"202627-0-B-B1","4.000","3.00",13,"B1","B",0,0,0,"",50,{"v":0.1,"d":"10%"},{"$f":"IF(AN20=\"\",Text!$F$77,IF(AND(ABS(AN20)>AP20,ABS(AM20)>AO20),Text!$F$126,Text!$F$77))","v":"iawn"},""]
[null,{"$f":"AuthDetails!$B$3","v":0},14,"B1","C",0,0,0,"",50,{"v":0.1,"d":"10.0%"},"iawn",{"$nulls":15},"0_4_4",4,4,"202627-0-C-B1","4.000","4.00",14,"B1","C",0,0,0,"",50,{"v":0.1,"d":"10%"},{"$f":"IF(AN21=\"\",Text!$F$77,IF(AND(ABS(AN21)>AP21,ABS(AM21)>AO21),Text!$F$126,Text!$F$77))","v":"iawn"},""]
[null,{"$f":"AuthDetails!$B$3","v":0},15,"B1","D",0,0,0,"",50,{"v":0.1,"d":"10.0%"},"iawn",{"$nulls":15},"0_4_5",4,5,"202627-0-D-B1","4.000","5.00",15,"B1","D",0,0,0,"",50,{"v":0.1,"d":"10%"},{"$f":"IF(AN22=\"\",Text!$F$77,IF(AND(ABS(AN22)>AP22,ABS(AM22)>AO22),Text!$F$126,Text!$F$77))","v":"iawn"},""]
[null,{"$f":"AuthDetails!$B$3","v":0},16,"B1","E",0,0,0,"",50,{"v":0.1,"d":"10.0%"},"iawn",{"$nulls":15},"0_4_6",4,6,"202627-0-E-B1","4.000","6.00",16,"B1","E",0,0,0,"",50,{"v":0.1,"d":"10%"},{"$f":"IF(AN23=\"\",Text!$F$77,IF(AND(ABS(AN23)>AP23,ABS(AM23)>AO23),Text!$F$126,Text!$F$77))","v":"iawn"},""]
[null,{"$f":"AuthDetails!$B$3","v":0},17,"B1","F",0,0,0,"",50,{"v":0.1,"d":"10.0%"},"iawn",{"$nulls":15},"0_4_7",4,7,"202627-0-F-B1","4.000","7.00",17,"B1","F",0,0,0,"",50,{"v":0.1,"d":"10%"},{"$f":"IF(AN24=\"\",Text!$F$77,IF(AND(ABS(AN24)>AP24,ABS(AM24)>AO24),Text!$F$126,Text!$F$77))","v":"iawn"},""]
[null,{"$f":"AuthDetails!$B$3","v":0},18,"B1","G",0,0,0,"",30,{"v":0.1,"d":"10.0%"},"iawn",{"$nulls":15},"0_4_8",4,8,"202627-0-G-B1","4.000","8.00",18,"B1","G",0,0,0,"",30,{"v":0.1,"d":"10%"},{"$f":"IF(AN25=\"\",Text!$F$77,IF(AND(ABS(AN25)>AP25,ABS(AM25)>AO25),Text!$F$126,Text!$F$77))","v":"iawn"},""]
[null,{"$f":"AuthDetails!$B$3","v":0},19,"B1","H",0,0,0,"",20,{"v":0.1,"d":"10.0%"},"iawn",{"$nulls":15},"0_4_9",4,9,"202627-0-H-B1","4.000","9.00",19,"B1","H",0,0,0,"",20,{"v":0.1,"d":"10%"},{"$f":"IF(AN26=\"\",Text!$F$77,IF(AND(ABS(AN26)>AP26,ABS(AM26)>AO26),Text!$F$126,Text!$F$77))","v":"iawn"},""]
[null,{"$f":"AuthDetails!$B$3","v":0},20,"B1","I",0,0,0,"",10,{"v":0.1,"d":"10.0%"},"iawn",{"$nulls":15},"0_4_10",4,10,"202627-0-I-B1","4.000","10.00",20,"B1","I",0,0,0,"",10,{"v":0.1,"d":"10%"},{"$f":"IF(AN27=\"\",Text!$F$77,IF(AND(ABS(AN27)>AP27,ABS(AM27)>AO27),Text!$F$126,Text!$F$77))","v":"iawn"},""]
[null,{"$f":"AuthDetails!$B$3","v":0},21,"B1","Total",0,0,0,"",100,{"v":0.1,"d":"10.0%"},"iawn",{"$nulls":15},"0_4_11",4,11,"202627-0-Total-B1","4.000","11.00",21,"B1","Total",0,0,0,"",100,{"v":0.1,"d":"10%"},{"$f":"IF(AN28=\"\",Text!$F$77,IF(AND(ABS(AN28)>AP28,ABS(AM28)>AO28),Text!$F$126,Text!$F$77))","v":"iawn"},""]
[null,{"$f":"AuthDetails!$B$3","v":0},97,{"$f":"VLOOKUP(C29,ValFill,2,FALSE)","v":"E1"},{"$f":"VLOOKUP(C29,ValFill,3,FALSE)","v":"TOTAL"},{"$f":"VLOOKUP(C29,ValFill,4,FALSE)","v":0},{"$f":"VLOOKUP(C29,ValFill,5,FALSE)","v":0},{"$f":"VLOOKUP(C29,ValFill,6,FALSE)","v":0},{"$f":"VLOOKUP(C29,ValFill,7,FALSE)","v":""},{"$f":"VLOOKUP(C29,ValFill,8,FALSE)","v":0},{"$f":"VLOOKUP(C29,ValFill,9,FALSE)","v":{"v":0.003,"d":"0.3%"}},{"$f":"VLOOKUP(C29,ValFill,10,FALSE)","v":"iawn"},{"$nulls":15},"0_22_11",22,11,"202627-0-TOTAL-E1","22.000","11.00",97,"E1","TOTAL",0,0,{"$f":"AL29-AK29","v":0},{"$f":"IF(ISERR(AL29/AK29-1),\"\",AL29/AK29-1)","v":""},null,{"v":0.003,"d":"0%"},{"$f":"IF(AN29=\"\",Text!$F$77,IF(AND(ABS(AN29)>AP29,ABS(AM29)>AO29),Text!$F$126,Text!$F$77))","v":"iawn"},""]
[null,{"$f":"AuthDetails!$B$3","v":0},98,{"$f":"VLOOKUP(C30,ValFill,2,FALSE)","v":"E2"},{"$f":"VLOOKUP(C30,ValFill,3,FALSE)","v":"TOTAL"},{"$f":"VLOOKUP(C30,ValFill,4,FALSE)","v":0},{"$f":"VLOOKUP(C30,ValFill,5,FALSE)","v":0},{"$f":"VLOOKUP(C30,ValFill,6,FALSE)","v":0},{"$f":"VLOOKUP(C30,ValFill,7,FALSE)","v":""},{"$f":"VLOOKUP(C30,ValFill,8,FALSE)","v":0},{"$f":"VLOOKUP(C30,ValFill,9,FALSE)","v":{"v":0.016,"d":"1.6%"}},{"$f":"VLOOKUP(C30,ValFill,10,FALSE)","v":"iawn"},{"$nulls":15},"0_23_11",23,11,"202627-0-TOTAL-E2","23.000","11.00",98,"E2","TOTAL",0,0,{"$f":"AL30-AK30","v":0},{"$f":"IF(ISERR(AL30/AK30-1),\"\",AL30/AK30-1)","v":""},null,{"v":0.016,"d":"2%"},{"$f":"IF(AN30=\"\",Text!$F$77,IF(AND(ABS(AN30)>AP30,ABS(AM30)>AO30),Text!$F$126,Text!$F$77))","v":"iawn"},""]
[null,{"$f":"AuthDetails!$B$3","v":0},99,{"$f":"VLOOKUP(C31,ValFill,2,FALSE)","v":"E4"},{"$f":"VLOOKUP(C31,ValFill,3,FALSE)","v":"TOTAL"},{"$f":"VLOOKUP(C31,ValFill,4,FALSE)","v":0},{"$f":"VLOOKUP(C31,ValFill,5,FALSE)","v":0},{"$f":"VLOOKUP(C31,ValFill,6,FALSE)","v":0},{"$f":"VLOOKUP(C31,ValFill,7,FALSE)","v":""},{"$f":"VLOOKUP(C31,ValFill,8,FALSE)","v":50},{"$f":"VLOOKUP(C31,ValFill,9,FALSE)","v":{"v":0.1,"d":"10.0%"}},{"$f":"VLOOKUP(C31,ValFill,10,FALSE)","v":"iawn"},{"$nulls":15},"0_25_11",25,11,"202627-0-TOTAL-E4","25.000","11.00",99,"E4","TOTAL",0,0,{"$f":"AL31-AK31","v":0},{"$f":"IF(ISERR(AL31/AK31-1),\"\",AL31/AK31-1)","v":""},50,{"v":0.1,"d":"10%"},{"$f":"IF(AN31=\"\",Text!$F$77,IF(AND(ABS(AN31)>AP31,ABS(AM31)>AO31),Text!$F$126,Text!$F$77))","v":"iawn"},""]
[null,{"$f":"AuthDetails!$B$3","v":0},100,{"$f":"VLOOKUP(C32,ValFill,2,FALSE)","v":"E6"},{"$f":"VLOOKUP(C32,ValFill,3,FALSE)","v":"TOTAL"},{"$f":"VLOOKUP(C32,ValFill,4,FALSE)","v":0},{"$f":"VLOOKUP(C32,ValFill,5,FALSE)","v":0},{"$f":"VLOOKUP(C32,ValFill,6,FALSE)","v":0},{"$f":"VLOOKUP(C32,ValFill,7,FALSE)","v":""},{"$f":"VLOOKUP(C32,ValFill,8,FALSE)","v":50},{"$f":"VLOOKUP(C32,ValFill,9,FALSE)","v":{"v":0.02,"d":"2.0%"}},{"$f":"VLOOKUP(C32,ValFill,10,FALSE)","v":"iawn"},{"$nulls":15},"0_27_11",27,11,{"$f":"$AL$1&\"-\"&uanumber&\"-\"&AJ32&\"-\"&AI32","v":"202627-0-TOTAL-E6"},"27.000","11.00",100,"E6","TOTAL",0,0,{"$f":"AL32-AK32","v":0},{"$f":"IF(ISERR(AL32/AK32-1),\"\",AL32/AK32-1)","v":""},50,{"v":0.02,"d":"2%"},{"$f":"IF(AN32=\"\",Text!$F$77,IF(AN32>AP32,Text!$F$126,Text!$F$77))","v":"iawn"},""]
[null,{"$f":"AuthDetails!$B$3","v":0},101,"FA","TOTAL",0,0,0,"",50,{"v":0.1,"d":"10.0%"},"iawn",{"$nulls":15},"0_28_11",28,11,"202627-0-TOTAL-FA","28.000","11.00",101,"FA","TOTAL",0,0,0,"",50,{"v":0.1,"d":"10%"},{"$f":"IF(AN33=\"\",Text!$F$77,IF(AND(ABS(AN33)>AP33,ABS(AM33)>AO33),Text!$F$126,Text!$F$77))","v":"iawn"},""]
[null,{"$f":"AuthDetails!$B$3","v":0},102,"FB","TOTAL",0,0,0,"",50,{"v":0.1,"d":"10.0%"},"iawn",{"$nulls":15},"0_29_11",29,11,"202627-0-TOTAL-FB","29.000","11.00",102,"FB","TOTAL",0,0,0,"",50,{"v":0.1,"d":"10%"},{"$f":"IF(AN34=\"\",Text!$F$77,IF(AND(ABS(AN34)>AP34,ABS(AM34)>AO34),Text!$F$126,Text!$F$77))","v":"iawn"},""]
[null,{"$f":"AuthDetails!$B$3","v":0},103,"FC","TOTAL",0,0,0,"",50,{"v":0.1,"d":"10.0%"},"iawn",{"$nulls":15},"0_30_11",30,11,"202627-0-TOTAL-FC","30.000","11.00",103,"FC","TOTAL",0,0,0,"",50,{"v":0.1,"d":"10%"},{"$f":"IF(AN35=\"\",Text!$F$77,IF(AND(ABS(AN35)>AP35,ABS(AM35)>AO35),Text!$F$126,Text!$F$77))","v":"iawn"},""]
[null,{"$f":"AuthDetails!$B$3","v":0},104,"FD","TOTAL",0,0,0,"",50,{"v":0.1,"d":"10.0%"},"iawn",{"$nulls":15},"0_31_11",31,11,"202627-0-TOTAL-FD","31.000","11.00",104,"FD","TOTAL",0,0,0,"",50,{"v":0.1,"d":"10%"},{"$f":"IF(AN36=\"\",Text!$F$77,IF(AND(ABS(AN36)>AP36,ABS(AM36)>AO36),Text!$F$126,Text!$F$77))","v":"iawn"},""]
[null,{"$f":"AuthDetails!$B$3","v":0},105,"FE","TOTAL",0,0,0,"",50,{"v":0.1,"d":"10.0%"},"iawn",{"$nulls":15},"0_32_11",32,11,"202627-0-TOTAL-FE","32.000","11.00",105,"FE","TOTAL",0,0,0,"",50,{"v":0.1,"d":"10%"},{"$f":"IF(AN37=\"\",Text!$F$77,IF(AND(ABS(AN37)>AP37,ABS(AM37)>AO37),Text!$F$126,Text!$F$77))","v":"iawn"},""]
[null,{"$f":"AuthDetails!$B$3","v":0},106,"FF","TOTAL",0,0,0,"",50,{"v":0.1,"d":"10.0%"},"iawn",{"$nulls":15},"0_33_11",33,11,"202627-0-TOTAL-FF","33.000","11.00",106,"FF","TOTAL",0,0,0,"",50,{"v":0.1,"d":"10%"},{"$f":"IF(AN38=\"\",Text!$F$77,IF(AND(ABS(AN38)>AP38,ABS(AM38)>AO38),Text!$F$126,Text!$F$77))","v":"iawn"},""]
[null,{"$f":"AuthDetails!$B$3","v":0},107,"FG","TOTAL",0,0,0,"",50,{"v":0.1,"d":"10.0%"},"iawn",{"$nulls":15},"0_34_11",34,11,"202627-0-TOTAL-FG","34.000","11.00",107,"FG","TOTAL",0,0,0,"",50,{"v":0.1,"d":"10%"},{"$f":"IF(AN39=\"\",Text!$F$77,IF(AND(ABS(AN39)>AP39,ABS(AM39)>AO39),Text!$F$126,Text!$F$77))","v":"iawn"},""]
[null,{"$f":"AuthDetails!$B$3","v":0},108,"FH","TOTAL",0,0,0,"",50,{"v":0.1,"d":"10.0%"},"iawn",{"$nulls":15},{"$f":"uanumber&\"_\"&AC40&\"_\"&AD40","v":"0_35_11"},35,11,"202627-0-TOTAL-FH","35.000","11.00",108,"FH","TOTAL",{"$f":"VLOOKUP(AB40,LineData,9,FALSE)","v":0},{"$f":"VLOOKUP(AB40,LineData,10,FALSE)","v":0},0,"",50,{"v":0.1,"d":"10%"},{"$f":"IF(AN40=\"\",Text!$F$77,IF(AND(ABS(AN40)>AP40,ABS(AM40)>AO40),Text!$F$126,Text!$F$77))","v":"iawn"},""]
[null,{"$f":"AuthDetails!$B$3","v":0},109,"FI","TOTAL",0,0,0,"",50,{"v":0.1,"d":"10.0%"},"iawn",{"$nulls":15},"0_36_11",36,11,"202627-0-TOTAL-FI","36.000","11.00",109,"FI","TOTAL",0,0,0,"",50,{"v":0.1,"d":"10%"},{"$f":"IF(AN41=\"\",Text!$F$77,IF(AND(ABS(AN41)>AP41,ABS(AM41)>AO41),Text!$F$126,Text!$F$77))","v":"iawn"},""]
[null,{"$f":"AuthDetails!$B$3","v":0},110,"FJ","TOTAL",0,0,0,"",50,{"v":0.1,"d":"10.0%"},"iawn",{"$nulls":15},"0_37_11",37,11,"202627-0-TOTAL-FJ","37.000","11.00",110,"FJ","TOTAL",0,0,0,"",50,{"v":0.1,"d":"10%"},{"$f":"IF(AN42=\"\",Text!$F$77,IF(AND(ABS(AN42)>AP42,ABS(AM42)>AO42),Text!$F$126,Text!$F$77))","v":"iawn"},""]
[null,{"$f":"AuthDetails!$B$3","v":0},111,"FK","TOTAL",0,0,0,"",50,{"v":0.1,"d":"10.0%"},"iawn",{"$nulls":15},"0_38_11",38,11,"202627-0-TOTAL-FK","38.000","11.00",111,"FK","TOTAL",0,0,0,"",50,{"v":0.1,"d":"10%"},{"$f":"IF(AN43=\"\",Text!$F$77,IF(AND(ABS(AN43)>AP43,ABS(AM43)>AO43),Text!$F$126,Text!$F$77))","v":"iawn"},""]
[null,{"$f":"AuthDetails!$B$3","v":0},112,"FL","TOTAL",0,0,0,"",50,{"v":0.1,"d":"10.0%"},"iawn",{"$nulls":15},"0_39_11",39,11,"202627-0-TOTAL-FL","39.000","11.00",112,"FL","TOTAL",0,0,0,"",50,{"v":0.1,"d":"10%"},{"$f":"IF(AN44=\"\",Text!$F$77,IF(AND(ABS(AN44)>AP44,ABS(AM44)>AO44),Text!$F$126,Text!$F$77))","v":"iawn"},""]
[null,{"$f":"AuthDetails!$B$3","v":0},113,"FM","TOTAL",0,0,0,"",50,{"v":0.1,"d":"10.0%"},"iawn",{"$nulls":15},"0_40_11",40,11,"202627-0-TOTAL-FM","40.000","11.00",113,"FM","TOTAL",0,0,0,"",50,{"v":0.1,"d":"10%"},{"$f":"IF(AN45=\"\",Text!$F$77,IF(AND(ABS(AN45)>AP45,ABS(AM45)>AO45),Text!$F$126,Text!$F$77))","v":"iawn"},""]
[null,{"$f":"AuthDetails!$B$3","v":0},114,"FN","TOTAL",0,0,0,"",50,{"v":0.1,"d":"10.0%"},"iawn",{"$nulls":15},"0_41_11",41,11,"202627-0-TOTAL-FN","41.000","11.00",114,"FN","TOTAL",0,0,0,"",50,{"v":0.1,"d":"10%"},{"$f":"IF(AN46=\"\",Text!$F$77,IF(AND(ABS(AN46)>AP46,ABS(AM46)>AO46),Text!$F$126,Text!$F$77))","v":"iawn"},""]
[null,{"$f":"AuthDetails!$B$3","v":0},115,"FO","TOTAL",0,0,0,"",50,{"v":0.1,"d":"10.0%"},"iawn",{"$nulls":15},"0_42_11",42,11,"202627-0-TOTAL-FO","42.000","11.00",115,"FO","TOTAL",0,0,0,"",50,{"v":0.1,"d":"10%"},{"$f":"IF(AN47=\"\",Text!$F$77,IF(AND(ABS(AN47)>AP47,ABS(AM47)>AO47),Text!$F$126,Text!$F$77))","v":"iawn"},""]
[null,{"$f":"AuthDetails!$B$3","v":0},116,"FP","TOTAL",0,0,0,"",50,{"v":0.1,"d":"10.0%"},"iawn",{"$nulls":15},"0_43_11",43,11,"202627-0-TOTAL-FP","43.000","11.00",116,"FP","TOTAL",0,0,0,"",50,{"v":0.1,"d":"10%"},{"$f":"IF(AN48=\"\",Text!$F$77,IF(AND(ABS(AN48)>AP48,ABS(AM48)>AO48),Text!$F$126,Text!$F$77))","v":"iawn"},""]
[null,{"$f":"AuthDetails!$B$3","v":0},117,"FQ","TOTAL",0,0,0,"",50,{"v":0.1,"d":"10.0%"},"iawn",{"$nulls":15},"0_44_11",44,11,"202627-0-TOTAL-FQ","44.000","11.00",117,"FQ","TOTAL",0,0,0,"",50,{"v":0.1,"d":"10%"},{"$f":"IF(AN49=\"\",Text!$F$77,IF(AND(ABS(AN49)>AP49,ABS(AM49)>AO49),Text!$F$126,Text!$F$77))","v":"iawn"},""]
[null,{"$f":"AuthDetails!$B$3","v":0},118,"FR","TOTAL",0,0,0,"",50,{"v":0.1,"d":"10.0%"},"iawn",{"$nulls":15},"0_45_11",45,11,"202627-0-TOTAL-FR","45.000","11.00",118,"FR","TOTAL",0,0,0,"",50,{"v":0.1,"d":"10%"},{"$f":"IF(AN50=\"\",Text!$F$77,IF(AND(ABS(AN50)>AP50,ABS(AM50)>AO50),Text!$F$126,Text!$F$77))","v":"iawn"},""]
[null,{"$f":"AuthDetails!$B$3","v":0},119,"FS","TOTAL",0,0,0,"",50,{"v":0.1,"d":"10.0%"},"iawn",{"$nulls":15},"0_46_11",46,11,"202627-0-TOTAL-FS","46.000","11.00",119,"FS","TOTAL",0,0,0,"",50,{"v":0.1,"d":"10%"},{"$f":"IF(AN51=\"\",Text!$F$77,IF(AND(ABS(AN51)>AP51,ABS(AM51)>AO51),Text!$F$126,Text!$F$77))","v":"iawn"},""]
[null,{"$f":"AuthDetails!$B$3","v":0},120,"FT","TOTAL",0,0,0,"",50,{"v":0.1,"d":"10.0%"},{"$f":"VLOOKUP(C52,ValFill,10,FALSE)","v":"iawn"},{"$nulls":15},"0_47_11",47,11,"202627-0-TOTAL-FT","47.000","11.00",120,"FT","TOTAL",0,0,0,"",50,{"v":0.1,"d":"10%"},{"$f":"IF(AN52=\"\",Text!$F$77,IF(AND(ABS(AN52)>AP52,ABS(AM52)>AO52),Text!$F$126,Text!$F$77))","v":"iawn"},""]
[null,{"$f":"AuthDetails!$B$3","v":0},121,"FU","TOTAL",0,0,0,"",50,{"v":0.1,"d":"10.0%"},{"$f":"VLOOKUP(C53,ValFill,10,FALSE)","v":"iawn"},{"$nulls":15},"0_49_11",49,11,"202627-0-TOTAL-FU","49.000","11.00",121,"FU","TOTAL",0,0,0,"",50,{"v":0.1,"d":"10%"},{"$f":"IF(AN53=\"\",Text!$F$77,IF(AND(ABS(AN53)>AP53,ABS(AM53)>AO53),Text!$F$126,Text!$F$77))","v":"iawn"},""]
[null,{"$f":"AuthDetails!$B$3","v":0},122,"FV","TOTAL",0,0,0,"",50,{"v":0.1,"d":"10.0%"},{"$f":"VLOOKUP(C54,ValFill,10,FALSE)","v":"iawn"},{"$nulls":15},"0_50_11",50,11,"202627-0-TOTAL-FV","50.000","11.00",122,"FV","TOTAL",0,0,0,"",50,{"v":0.1,"d":"10%"},{"$f":"IF(AN54=\"\",Text!$F$77,IF(AND(ABS(AN54)>AP54,ABS(AM54)>AO54),Text!$F$126,Text!$F$77))","v":"iawn"},""]
[null,{"$f":"AuthDetails!$B$3","v":0},123,"FW","TOTAL",0,0,0,"",50,{"v":0.1,"d":"10.0%"},{"$f":"VLOOKUP(C55,ValFill,10,FALSE)","v":"iawn"},{"$nulls":15},"0_51_11",51,11,"202627-0-TOTAL-FW","51.000","11.00",123,"FW","TOTAL",0,0,0,"",50,{"v":0.1,"d":"10%"},{"$f":"IF(AN55=\"\",Text!$F$77,IF(AND(ABS(AN55)>AP55,ABS(AM55)>AO55),Text!$F$126,Text!$F$77))","v":"iawn"},""]
[null,{"$f":"AuthDetails!$B$3","v":0},124,"F","TOTAL",0,0,0,"",50,{"v":0.1,"d":"10.0%"},{"$f":"VLOOKUP(C56,ValFill,10,FALSE)","v":"iawn"},{"$nulls":15},"0_51.5_11",51.5,11,"202627-0-TOTAL-F","51.500","11.00",124,"F","TOTAL",0,0,{"$f":"AL56-AK56","v":0},{"$f":"IF(ISERR(AL56/AK56-1),\"\",AL56/AK56-1)","v":""},50,{"v":0.1,"d":"10%"},{"$f":"IF(AN56=\"\",Text!$F$77,IF(AND(ABS(AN56)>AP56,ABS(AM56)>AO56),Text!$F$126,Text!$F$77))","v":"iawn"},""]
[]
[null,null,{"$f":"Text!F108&\" \"&TEXT(ValidationData!D4,\"dd/mm/yy\")","v":"Gwiriad Asiantaeth y  Swyddfa Brisio 25/09/25"},{"$nulls":6},{"$f":"Text!F129","v":"Goddefiant"},{"$nulls":23},"Valuation Office Agency Check: 30/10/16"]
[{"$nulls":4},{"$f":"AJ59","v":"Band"},"VOA","A1+D1+D2","Gwahaniaeth","% Gwahaniaeth","Abs","%","Statws",{"$f":"AR114","v":"Sylwadau"},{"$nulls":20},{"$f":"Text!F100","v":"Rhif ID"},{"$f":"Text!F101","v":"Llinio"},"Band","VOA","A1+D1+D2",{"$f":"Text!F103","v":"Gwahaniaeth"},{"$f":"\"% \"&Text!F103","v":"% Gwahaniaeth"},"Abs","%",{"$f":"Text!F105","v":"Statws"},{"$f":"Text!F106","v":"Sylwadau"}]
[null,null,"Column1","Column2","Column3","Column4","Column5","Column6","Column7","Column8","Column9","Column10","Column11"]
[null,{"$f":"AuthDetails!$B$3","v":0},125,null,{"$f":"VLOOKUP($C61,ValFill,3,FALSE)","v":"A"},{"$f":"VLOOKUP($C61,ValFill,4,FALSE)","v":{"$error":"#N/A"}},{"$f":"VLOOKUP($C61,ValFill,5,FALSE)","v":0},{"$f":"VLOOKUP($C61,ValFill,6,FALSE)","v":{"$error":"#N/A"}},{"$f":"VLOOKUP($C61,ValFill,7,FALSE)","v":{"$error":"#N/A"}},{"$f":"VLOOKUP($C61,ValFill,8,FALSE)","v":50},{"$f":"VLOOKUP($C61,ValFill,9,FALSE)","v":{"v":0.05,"d":"5.0%"}},{"$f":"VLOOKUP($C61,ValFill,10,FALSE)","v":{"$error":"#N/A"}},{"$nulls":18},{"$f":"$AL$1&\"-\"&uanumber&\"-\"&AJ61&\"-\"&AI61","v":"202627-0-A-Z"},null,null,125,"Z","A",{"$f":"VLOOKUP(uanumber&AJ61,VOAList[],4,FALSE)","v":{"$error":"#N/A"}},{"$f":"PartsAtoD!$F$7+PartsAtoD!$F$30+PartsAtoD!$F$31","v":0},{"$f":"AL61-AK61","v":{"$error":"#N/A"}},{"$f":"IF(ISERR(AL61/AK61-1),\"\",AL61/AK61-1)","v":{"$error":"#N/A"}},50,{"v":0.05,"d":"5%"},{"$f":"IF(AN61=\"\",Text!$F$77,IF(AND(ABS(AN61)>AP61,ABS(AM61)>AO61),Text!$F$126,Text!$F$77))","v":{"$error":"#N/A"}},{"$f":"IF(VLOOKUP(AH61,ComFill,11,FALSE)=0,\"\",VLOOKUP(AH61,ComFill,11,FALSE))","v":""}]
[null,{"$f":"AuthDetails!$B$3","v":0},126,null,"B",{"$error":"#N/A"},0,{"$error":"#N/A"},{"$error":"#N/A"},50,{"v":0.05,"d":"5.0%"},{"$error":"#N/A"},{"$nulls":18},"202627-0-B-Z",null,null,126,"Z","B",{"$f":"VLOOKUP(uanumber&AJ62,VOAList1,4,FALSE)","v":{"$error":"#N/A"}},{"$f":"PartsAtoD!$G$7+PartsAtoD!$G$30+PartsAtoD!$G$31","v":0},{"$f":"AL62-AK62","v":{"$error":"#N/A"}},{"$f":"IF(ISERR(AL62/AK62-1),\"\",AL62/AK62-1)","v":{"$error":"#N/A"}},50,{"v":0.05,"d":"5%"},{"$f":"IF(AN62=\"\",Text!$F$77,IF(AND(ABS(AN62)>AP62,ABS(AM62)>AO62),Text!$F$126,Text!$F$77))","v":{"$error":"#N/A"}},""]
[null,{"$f":"AuthDetails!$B$3","v":0},127,null,"C",{"$error":"#N/A"},0,{"$error":"#N/A"},{"$error":"#N/A"},50,{"v":0.05,"d":"5.0%"},{"$error":"#N/A"},{"$nulls":18},"202627-0-C-Z",null,null,127,"Z","C",{"$error":"#N/A"},{"$f":"PartsAtoD!$H$7+PartsAtoD!H$30+PartsAtoD!$H$31","v":0},{"$error":"#N/A"},{"$error":"#N/A"},50,{"v":0.05,"d":"5%"},{"$f":"IF(AN63=\"\",Text!$F$77,IF(AND(ABS(AN63)>AP63,ABS(AM63)>AO63),Text!$F$126,Text!$F$77))","v":{"$error":"#N/A"}},""]
[null,{"$f":"AuthDetails!$B$3","v":0},128,null,"D",{"$error":"#N/A"},0,{"$error":"#N/A"},{"$error":"#N/A"},50,{"v":0.05,"d":"5.0%"},{"$error":"#N/A"},{"$nulls":18},"202627-0-D-Z",null,null,128,"Z","D",{"$error":"#N/A"},{"$f":"PartsAtoD!$I$7+PartsAtoD!$I$30+PartsAtoD!$I$31","v":0},{"$error":"#N/A"},{"$error":"#N/A"},50,{"v":0.05,"d":"5%"},{"$f":"IF(AN64=\"\",Text!$F$77,IF(AND(ABS(AN64)>AP64,ABS(AM64)>AO64),Text!$F$126,Text!$F$77))","v":{"$error":"#N/A"}},""]
[null,{"$f":"AuthDetails!$B$3","v":0},129,null,"E",{"$error":"#N/A"},0,{"$error":"#N/A"},{"$error":"#N/A"},50,{"v":0.05,"d":"5.0%"},{"$error":"#N/A"},{"$nulls":18},"202627-0-E-Z",null,null,129,"Z","E",{"$error":"#N/A"},{"$f":"PartsAtoD!$J$7+PartsAtoD!$J$30+PartsAtoD!$J$31","v":0},{"$error":"#N/A"},{"$error":"#N/A"},50,{"v":0.05,"d":"5%"},{"$f":"IF(AN65=\"\",Text!$F$77,IF(AND(ABS(AN65)>AP65,ABS(AM65)>AO65),Text!$F$126,Text!$F$77))","v":{"$error":"#N/A"}},""]
[null,{"$f":"AuthDetails!$B$3","v":0},130,null,"F",{"$error":"#N/A"},0,{"$error":"#N/A"},{"$error":"#N/A"},50,{"v":0.05,"d":"5.0%"},{"$error":"#N/A"},{"$nulls":18},"202627-0-F-Z",null,null,130,"Z","F",{"$error":"#N/A"},{"$f":"PartsAtoD!$K$7+PartsAtoD!$K$30+PartsAtoD!$K$31","v":0},{"$error":"#N/A"},{"$error":"#N/A"},50,{"v":0.05,"d":"5%"},{"$f":"IF(AN66=\"\",Text!$F$77,IF(AND(ABS(AN66)>AP66,ABS(AM66)>AO66),Text!$F$126,Text!$F$77))","v":{"$error":"#N/A"}},""]
[null,{"$f":"AuthDetails!$B$3","v":0},131,null,"G",{"$error":"#N/A"},0,{"$error":"#N/A"},{"$error":"#N/A"},30,{"v":0.05,"d":"5.0%"},{"$error":"#N/A"},{"$nulls":18},"202627-0-G-Z",null,null,131,"Z","G",{"$error":"#N/A"},{"$f":"PartsAtoD!$L$7+PartsAtoD!$L$30+PartsAtoD!$L$31","v":0},{"$error":"#N/A"},{"$error":"#N/A"},30,{"v":0.05,"d":"5%"},{"$f":"IF(AN67=\"\",Text!$F$77,IF(AND(ABS(AN67)>AP67,ABS(AM67)>AO67),Text!$F$126,Text!$F$77))","v":{"$error":"#N/A"}},""]
[null,{"$f":"AuthDetails!$B$3","v":0},132,null,"H",{"$error":"#N/A"},0,{"$error":"#N/A"},{"$error":"#N/A"},20,{"v":0.05,"d":"5.0%"},{"$error":"#N/A"},{"$nulls":18},"202627-0-H-Z",null,null,132,"Z","H",{"$error":"#N/A"},{"$f":"PartsAtoD!$M$7+PartsAtoD!$M$30+PartsAtoD!$M$31","v":0},{"$error":"#N/A"},{"$error":"#N/A"},20,{"v":0.05,"d":"5%"},{"$f":"IF(AN68=\"\",Text!$F$77,IF(AND(ABS(AN68)>AP68,ABS(AM68)>AO68),Text!$F$126,Text!$F$77))","v":{"$error":"#N/A"}},""]
[null,{"$f":"AuthDetails!$B$3","v":0},133,null,"I",{"$error":"#N/A"},0,{"$error":"#N/A"},{"$error":"#N/A"},10,{"v":0.05,"d":"5.0%"},{"$error":"#N/A"},{"$nulls":18},"202627-0-I-Z",null,null,133,"Z","I",{"$error":"#N/A"},{"$f":"PartsAtoD!$N$7+PartsAtoD!$N$30+PartsAtoD!$N$31","v":0},{"$error":"#N/A"},{"$error":"#N/A"},10,{"v":0.05,"d":"5%"},{"$f":"IF(AN69=\"\",Text!$F$77,IF(AND(ABS(AN69)>AP69,ABS(AM69)>AO69),Text!$F$126,Text!$F$77))","v":{"$error":"#N/A"}},""]
[null,{"$f":"AuthDetails!$B$3","v":0},134,null,"TOTAL",{"$error":"#N/A"},0,{"$error":"#N/A"},{"$error":"#N/A"},50,{"v":0.05,"d":"5.0%"},{"$error":"#N/A"},{"$nulls":18},"202627-0-TOTAL-Z",null,null,134,"Z","TOTAL",{"$f":"SUM(AK61:AK69)","v":{"$error":"#N/A"}},{"$f":"PartsAtoD!$O$7+PartsAtoD!$O$30+PartsAtoD!$O$31","v":0},{"$error":"#N/A"},{"$error":"#N/A"},50,{"v":0.05,"d":"5%"},{"$f":"IF(AN70=\"\",Text!$F$77,IF(AND(ABS(AN70)>AP70,ABS(AM70)>AO70),Text!$F$126,Text!$F$77))","v":{"$error":"#N/A"}},""]
[]
[]
[]
[]
[]
[{"$nulls":31},{"$f":"IF(EXACT(AG76,AJ76),0,1)","v":{"$error":"#N/A"}},{"$f":"VLOOKUP(uanumber,Addresses,6,FALSE)","v":{"$error":"#N/A"}},null,null,{"$f":"#REF!","v":{"$error":"#REF!"}}]
[{"$nulls":31},{"$f":"IF(EXACT(AG77,AJ77),0,1)","v":{"$error":"#N/A"}},{"$f":"VLOOKUP(uanumber,Addresses,7,FALSE)","v":{"$error":"#N/A"}},null,null,{"$f":"#REF!","v":{"$error":"#REF!"}}]
{"$rows_empty":9}
[{"$nulls":43},{"$f":"IF(VLOOKUP(AH32,ComFill,11,FALSE)=0,\"\",VLOOKUP(AH32,ComFill,11,FALSE))","v":""}]
[{"$nulls":43},""]
[{"$nulls":43},""]
[{"$nulls":43},""]
[{"$nulls":43},""]
[{"$nulls":43},""]
[{"$nulls":43},""]
[{"$nulls":43},""]
[{"$nulls":43},""]
[{"$nulls":43},""]
[{"$nulls":43},""]
[{"$nulls":43},""]
[{"$nulls":43},""]
[{"$nulls":43},""]
[{"$nulls":43},""]
[{"$nulls":43},""]
[{"$nulls":43},""]
[{"$nulls":43},""]
[{"$nulls":43},""]
[{"$nulls":43},""]
[{"$nulls":40},100,{"v":0.1,"d":"10%"},null,""]
[{"$nulls":40},100,{"v":0.75,"d":"75%"},null,""]
[{"$nulls":40},50,{"v":0.1,"d":"10%"},null,""]
[{"$nulls":40},50,{"v":0.1,"d":"10%"},null,""]
[{"$nulls":40},50,{"v":0.1,"d":"10%"},null,""]
[{"$nulls":40},50,{"v":0.1,"d":"10%"}]
[{"$nulls":40},50,{"v":0.1,"d":"10%"}]
[{"$nulls":40},50,{"v":0.1,"d":"10%"},null,{"$f":"Text!F106","v":"Sylwadau"}]
[{"$nulls":40},50,{"v":0.1,"d":"10%"}]
[{"$nulls":40},50,{"v":0.1,"d":"10%"},null,{"$f":"IF(VLOOKUP(AH61,ComFill,11,FALSE)=0,\"\",VLOOKUP(AH61,ComFill,11,FALSE))","v":""}]
[{"$nulls":40},200,{"v":0.1,"d":"10%"},null,""]
[{"$nulls":40},50,{"v":0.1,"d":"10%"},null,""]

{"sheet":"LineChecks","index":6,"n_rows":187,"n_cols":25,"rows_kept":187,"merged":[[1,6,1,8]]}
[null,null,{"$f":"Data!AK1","v":"GWIRIADAU LLINELL - cymhariaeth o ffigurau flwyddyn ar flwyddyn"},{"$nulls":18},{"$f":"Data!AK2","v":"Dilynwch y cyfarwyddiadau isod wrth lenwi'r dudalen hon:"}]
[{"$nulls":3},{"$f":"uanumber","v":0},null,null,{"$f":"AuthDetails!C3","v":"Dewiswch eich awdurdod"}]
[]
[]
[{"$nulls":12},{"$f":"Data!AD21","v":"goddefiant"}]
[{"$nulls":12},{"$f":"M10","v":"prisio"},"%",{"$nulls":3},{"$f":"E10","v":"colofn"}]
[{"$nulls":12},100,{"v":0.1,"d":"10%"},{"$nulls":3},{"$f":"Data!AD23","v":"Cyfansymiau"}]
[]
[{"$nulls":10},{"$f":"Data!AD20","v":"gwahaniaeth"},null,{"$f":"M5","v":"goddefiant"},null,{"$f":"Data!AD22","v":"sero?"},null,null,{"$f":"SUM(R12:R187)","v":0},{"$f":"SUM(S12:S187)","v":1},1]
["Index","ValSheet?",{"$f":"Data!AD6","v":"dewiswch"},{"$f":"Data!AD7","v":"rhes"},{"$f":"Data!AD8","v":"colofn"},"T/E",{"$f":"Data!AD9","v":"disgrifiad rhes (Llinellau swm a ddangosir mewn print trwm)"},{"$f":"I10-101","v":202425},{"$f":"J10-101","v":202526},{"$f":"Yearcode","v":202627},{"$f":"Data!AD10","v":"prisio"},"%",{"$f":"Data!AD10","v":"prisio"},"%",{"$f":"I10","v":202526},{"$f":"J10","v":202627},{"$f":"Data!AD11","v":"deipio"},{"$f":"Data!AD12","v":"awto"},{"$f":"Data!AD13","v":"marcio"},{"$f":"Data!AD14","v":"wirio"},{"$f":"Data!AD15","v":"statws"},{"$f":"Data!AD16","v":"Eich Sylwadau"},{"$f":"Data!AD17","v":"ein sylwadau"},{"$f":"Data!AD18","v":"arwydd gan"},{"$f":"Data!AD19","v":"dyddiad"}]
[null,null,"S","row","column","T/E","row description (sum lines shown in bold)",201819,201920,202021,"value","%","value","%",201920,202021,"type","auto","mark","check","status","Your Comments","our comments","sign by","date"]
[{"$f":"uanumber&\"_\"&D12&\"_\"&E12","v":"0_1_2"},{"$f":"IF(COUNTIF(Validations!$AB$8:$AB$56,A12)=1,1,\"\")","v":1},null,1,2,"",{"$f":"IF(ISNA(VLOOKUP(D12,Rows[],4,FALSE)),\"\",VLOOKUP(D12,Rows[],4,FALSE))","v":"A1 - Holl anheddau trethadwy"},{"$f":"IF(ISERROR(VLOOKUP($A12&\"_\"&H$10,qData1[],7,FALSE)),\"\",VLOOKUP($A12&\"_\"&H$10,qData1[],7,FALSE))","v":""},{"$f":"IF(ISERROR(VLOOKUP($A12&\"_\"&I$10,qData1[],7,FALSE)),0,VLOOKUP($A12&\"_\"&I$10,qData1[],7,FALSE))","v":0},{"$f":"IF(ISERROR(VLOOKUP(D12&\"_\"&E12,Figs,8,FALSE)),0,VLOOKUP(D12&\"_\"&E12,Figs,8,FALSE))","v":0},{"$f":"J12-I12","v":0},{"$f":"IF(OR(I12=0,J12=0),0,K12/I12*100)","v":0},{"$f":"IF(ISNA(VLOOKUP($D12&\"_\"&$E12,Tol[],6,FALSE)),$M$7,VLOOKUP($D12&\"_\"&$E12,Tol[],6,FALSE))","v":50},{"$f":"IF(ISNA(VLOOKUP($D12&\"_\"&$E12,Tol[],7,FALSE)),$N$7*100,VLOOKUP($D12&\"_\"&$E12,Tol[],7,FALSE)*100)","v":5},{"$f":"IF(I12=0,1,\"\")","v":1},{"$f":"IF(J12=0,1,\"\")","v":1},{"$f":"IF(SUM(O12:P12)=2,\"\",IF(SUM(O12:P12)=1,9,IF(AND(ABS(K12)>M12,ABS(L12)>N12),3,IF(ABS(K12)>M12,1,IF(ABS(L12)>N12,2,\"\")))))","v":""},{"$f":"IF(Q12=3,1,\"\")","v":""},null,{"$f":"IF(OR(U12=\"C\",U12=\"T\"),\"\",IF(S12=1,1,\"\"))","v":""},null,null,{"$f":"IF(ISERROR(VLOOKUP($A12,#REF!,8,FALSE)),\"\",VLOOKUP($A12,#REF!,8,FALSE))","v":""},{"$f":"IF(ISERROR(VLOOKUP($A12,#REF!,9,FALSE)),\"\",VLOOKUP($A12,#REF!,9,FALSE))","v":""},{"$f":"IF(ISERROR(VLOOKUP($A12,#REF!,10,FALSE)),0,VLOOKUP($A12,#REF!,10,FALSE))","v":"00:00:00"}]
["0_1_3",{"$f":"IF(COUNTIF(Validations!$AB$8:$AB$56,A13)=1,1,\"\")","v":1},null,1,3,"",{"$f":"IF(ISNA(VLOOKUP(D13,Rows[],4,FALSE)),\"\",VLOOKUP(D13,Rows[],4,FALSE))","v":"A1 - Holl anheddau trethadwy"},{"$f":"IF(ISERROR(VLOOKUP($A13&\"_\"&H$10,qData1[],7,FALSE)),\"\",VLOOKUP($A13&\"_\"&H$10,qData1[],7,FALSE))","v":""},{"$f":"IF(ISERROR(VLOOKUP($A13&\"_\"&I$10,qData1[],7,FALSE)),0,VLOOKUP($A13&\"_\"&I$10,qData1[],7,FALSE))","v":0},0,{"$f":"J13-I13","v":0},{"$f":"IF(OR(I13=0,J13=0),0,K13/I13*100)","v":0},{"$f":"IF(ISNA(VLOOKUP($D13&\"_\"&$E13,Tol[],6,FALSE)),$M$7,VLOOKUP($D13&\"_\"&$E13,Tol[],6,FALSE))","v":50},{"$f":"IF(ISNA(VLOOKUP($D13&\"_\"&$E13,Tol[],7,FALSE)),$N$7*100,VLOOKUP($D13&\"_\"&$E13,Tol[],7,FALSE)*100)","v":5},{"$f":"IF(I13=0,1,\"\")","v":1},{"$f":"IF(J13=0,1,\"\")","v":1},{"$f":"IF(SUM(O13:P13)=2,\"\",IF(SUM(O13:P13)=1,9,IF(AND(ABS(K13)>M13,ABS(L13)>N13),3,IF(ABS(K13)>M13,1,IF(ABS(L13)>N13,2,\"\")))))","v":""},{"$f":"IF(Q13=3,1,\"\")","v":""},null,{"$f":"IF(OR(U13=\"C\",U13=\"T\"),\"\",IF(S13=1,1,\"\"))","v":""},null,null,{"$f":"IF(ISERROR(VLOOKUP($A13,#REF!,8,FALSE)),\"\",VLOOKUP($A13,#REF!,8,FALSE))","v":""},{"$f":"IF(ISERROR(VLOOKUP($A13,#REF!,9,FALSE)),\"\",VLOOKUP($A13,#REF!,9,FALSE))","v":""},{"$f":"IF(ISERROR(VLOOKUP($A13,#REF!,10,FALSE)),0,VLOOKUP($A13,#REF!,10,FALSE))","v":"00:00:00"}]
["0_1_4",{"$f":"IF(COUNTIF(Validations!$AB$8:$AB$56,A14)=1,1,\"\")","v":1},null,1,4,"",{"$f":"IF(ISNA(VLOOKUP(D14,Rows[],4,FALSE)),\"\",VLOOKUP(D14,Rows[],4,FALSE))","v":"A1 - Holl anheddau trethadwy"},{"$f":"IF(ISERROR(VLOOKUP($A14&\"_\"&H$10,qData1[],7,FALSE)),\"\",VLOOKUP($A14&\"_\"&H$10,qData1[],7,FALSE))","v":""},{"$f":"IF(ISERROR(VLOOKUP($A14&\"_\"&I$10,qData1[],7,FALSE)),0,VLOOKUP($A14&\"_\"&I$10,qData1[],7,FALSE))","v":0},0,0,0,{"$f":"IF(ISNA(VLOOKUP($D14&\"_\"&$E14,Tol[],6,FALSE)),$M$7,VLOOKUP($D14&\"_\"&$E14,Tol[],6,FALSE))","v":50},{"$f":"IF(ISNA(VLOOKUP($D14&\"_\"&$E14,Tol[],7,FALSE)),$N$7*100,VLOOKUP($D14&\"_\"&$E14,Tol[],7,FALSE)*100)","v":5},1,1,"","",null,"",null,null,{"$f":"IF(ISERROR(VLOOKUP($A14,#REF!,8,FALSE)),\"\",VLOOKUP($A14,#REF!,8,FALSE))","v":""},{"$f":"IF(ISERROR(VLOOKUP($A14,#REF!,9,FALSE)),\"\",VLOOKUP($A14,#REF!,9,FALSE))","v":""},{"$f":"IF(ISERROR(VLOOKUP($A14,#REF!,10,FALSE)),0,VLOOKUP($A14,#REF!,10,FALSE))","v":"00:00:00"}]
["0_1_5",{"$f":"IF(COUNTIF(Validations!$AB$8:$AB$56,A15)=1,1,\"\")","v":1},null,1,5,"",{"$f":"IF(ISNA(VLOOKUP(D15,Rows[],4,FALSE)),\"\",VLOOKUP(D15,Rows[],4,FALSE))","v":"A1 - Holl anheddau trethadwy"},{"$f":"IF(ISERROR(VLOOKUP($A15&\"_\"&H$10,qData1[],7,FALSE)),\"\",VLOOKUP($A15&\"_\"&H$10,qData1[],7,FALSE))","v":""},{"$f":"IF(ISERROR(VLOOKUP($A15&\"_\"&I$10,qData1[],7,FALSE)),0,VLOOKUP($A15&\"_\"&I$10,qData1[],7,FALSE))","v":0},0,0,0,{"$f":"IF(ISNA(VLOOKUP($D15&\"_\"&$E15,Tol[],6,FALSE)),$M$7,VLOOKUP($D15&\"_\"&$E15,Tol[],6,FALSE))","v":50},{"$f":"IF(ISNA(VLOOKUP($D15&\"_\"&$E15,Tol[],7,FALSE)),$N$7*100,VLOOKUP($D15&\"_\"&$E15,Tol[],7,FALSE)*100)","v":5},1,1,"","",null,"",null,null,{"$f":"IF(ISERROR(VLOOKUP($A15,#REF!,8,FALSE)),\"\",VLOOKUP($A15,#REF!,8,FALSE))","v":""},{"$f":"IF(ISERROR(VLOOKUP($A15,#REF!,9,FALSE)),\"\",VLOOKUP($A15,#REF!,9,FALSE))","v":""},{"$f":"IF(ISERROR(VLOOKUP($A15,#REF!,10,FALSE)),0,VLOOKUP($A15,#REF!,10,FALSE))","v":"00:00:00"}]
["0_1_6",{"$f":"IF(COUNTIF(Validations!$AB$8:$AB$56,A16)=1,1,\"\")","v":1},null,1,6,"",{"$f":"IF(ISNA(VLOOKUP(D16,Rows[],4,FALSE)),\"\",VLOOKUP(D16,Rows[],4,FALSE))","v":"A1 - Holl anheddau trethadwy"},{"$f":"IF(ISERROR(VLOOKUP($A16&\"_\"&H$10,qData1[],7,FALSE)),\"\",VLOOKUP($A16&\"_\"&H$10,qData1[],7,FALSE))","v":""},{"$f":"IF(ISERROR(VLOOKUP($A16&\"_\"&I$10,qData1[],7,FALSE)),0,VLOOKUP($A16&\"_\"&I$10,qData1[],7,FALSE))","v":0},0,0,0,{"$f":"IF(ISNA(VLOOKUP($D16&\"_\"&$E16,Tol[],6,FALSE)),$M$7,VLOOKUP($D16&\"_\"&$E16,Tol[],6,FALSE))","v":50},{"$f":"IF(ISNA(VLOOKUP($D16&\"_\"&$E16,Tol[],7,FALSE)),$N$7*100,VLOOKUP($D16&\"_\"&$E16,Tol[],7,FALSE)*100)","v":5},1,1,"","",null,"",null,null,{"$f":"IF(ISERROR(VLOOKUP($A16,#REF!,8,FALSE)),\"\",VLOOKUP($A16,#REF!,8,FALSE))","v":""},{"$f":"IF(ISERROR(VLOOKUP($A16,#REF!,9,FALSE)),\"\",VLOOKUP($A16,#REF!,9,FALSE))","v":""},{"$f":"IF(ISERROR(VLOOKUP($A16,#REF!,10,FALSE)),0,VLOOKUP($A16,#REF!,10,FALSE))","v":"00:00:00"}]
["0_1_7",{"$f":"IF(COUNTIF(Validations!$AB$8:$AB$56,A17)=1,1,\"\")","v":1},null,1,7,"",{"$f":"IF(ISNA(VLOOKUP(D17,Rows[],4,FALSE)),\"\",VLOOKUP(D17,Rows[],4,FALSE))","v":"A1 - Holl anheddau trethadwy"},{"$f":"IF(ISERROR(VLOOKUP($A17&\"_\"&H$10,qData1[],7,FALSE)),\"\",VLOOKUP($A17&\"_\"&H$10,qData1[],7,FALSE))","v":""},{"$f":"IF(ISERROR(VLOOKUP($A17&\"_\"&I$10,qData1[],7,FALSE)),0,VLOOKUP($A17&\"_\"&I$10,qData1[],7,FALSE))","v":0},0,0,0,{"$f":"IF(ISNA(VLOOKUP($D17&\"_\"&$E17,Tol[],6,FALSE)),$M$7,VLOOKUP($D17&\"_\"&$E17,Tol[],6,FALSE))","v":50},{"$f":"IF(ISNA(VLOOKUP($D17&\"_\"&$E17,Tol[],7,FALSE)),$N$7*100,VLOOKUP($D17&\"_\"&$E17,Tol[],7,FALSE)*100)","v":5},1,1,"","",null,"",null,null,{"$f":"IF(ISERROR(VLOOKUP($A17,#REF!,8,FALSE)),\"\",VLOOKUP($A17,#REF!,8,FALSE))","v":""},{"$f":"IF(ISERROR(VLOOKUP($A17,#REF!,9,FALSE)),\"\",VLOOKUP($A17,#REF!,9,FALSE))","v":""},{"$f":"IF(ISERROR(VLOOKUP($A17,#REF!,10,FALSE)),0,VLOOKUP($A17,#REF!,10,FALSE))","v":"00:00:00"}]
["0_1_8",{"$f":"IF(COUNTIF(Validations!$AB$8:$AB$56,A18)=1,1,\"\")","v":1},null,1,8,"",{"$f":"IF(ISNA(VLOOKUP(D18,Rows[],4,FALSE)),\"\",VLOOKUP(D18,Rows[],4,FALSE))","v":"A1 - Holl anheddau trethadwy"},{"$f":"IF(ISERROR(VLOOKUP($A18&\"_\"&H$10,qData1[],7,FALSE)),\"\",VLOOKUP($A18&\"_\"&H$10,qData1[],7,FALSE))","v":""},{"$f":"IF(ISERROR(VLOOKUP($A18&\"_\"&I$10,qData1[],7,FALSE)),0,VLOOKUP($A18&\"_\"&I$10,qData1[],7,FALSE))","v":0},0,0,0,{"$f":"IF(ISNA(VLOOKUP($D18&\"_\"&$E18,Tol[],6,FALSE)),$M$7,VLOOKUP($D18&\"_\"&$E18,Tol[],6,FALSE))","v":30},{"$f":"IF(ISNA(VLOOKUP($D18&\"_\"&$E18,Tol[],7,FALSE)),$N$7*100,VLOOKUP($D18&\"_\"&$E18,Tol[],7,FALSE)*100)","v":5},1,1,"","",null,"",null,null,{"$f":"IF(ISERROR(VLOOKUP($A18,#REF!,8,FALSE)),\"\",VLOOKUP($A18,#REF!,8,FALSE))","v":""},{"$f":"IF(ISERROR(VLOOKUP($A18,#REF!,9,FALSE)),\"\",VLOOKUP($A18,#REF!,9,FALSE))","v":""},{"$f":"IF(ISERROR(VLOOKUP($A18,#REF!,10,FALSE)),0,VLOOKUP($A18,#REF!,10,FALSE))","v":"00:00:00"}]
["0_1_9",{"$f":"IF(COUNTIF(Validations!$AB$8:$AB$56,A19)=1,1,\"\")","v":1},null,1,9,"",{"$f":"IF(ISNA(VLOOKUP(D19,Rows[],4,FALSE)),\"\",VLOOKUP(D19,Rows[],4,FALSE))","v":"A1 - Holl anheddau trethadwy"},{"$f":"IF(ISERROR(VLOOKUP($A19&\"_\"&H$10,qData1[],7,FALSE)),\"\",VLOOKUP($A19&\"_\"&H$10,qData1[],7,FALSE))","v":""},{"$f":"IF(ISERROR(VLOOKUP($A19&\"_\"&I$10,qData1[],7,FALSE)),0,VLOOKUP($A19&\"_\"&I$10,qData1[],7,FALSE))","v":0},0,0,0,{"$f":"IF(ISNA(VLOOKUP($D19&\"_\"&$E19,Tol[],6,FALSE)),$M$7,VLOOKUP($D19&\"_\"&$E19,Tol[],6,FALSE))","v":20},{"$f":"IF(ISNA(VLOOKUP($D19&\"_\"&$E19,Tol[],7,FALSE)),$N$7*100,VLOOKUP($D19&\"_\"&$E19,Tol[],7,FALSE)*100)","v":5},1,1,"","",null,"",null,null,{"$f":"IF(ISERROR(VLOOKUP($A19,#REF!,8,FALSE)),\"\",VLOOKUP($A19,#REF!,8,FALSE))","v":""},{"$f":"IF(ISERROR(VLOOKUP($A19,#REF!,9,FALSE)),\"\",VLOOKUP($A19,#REF!,9,FALSE))","v":""},{"$f":"IF(ISERROR(VLOOKUP($A19,#REF!,10,FALSE)),0,VLOOKUP($A19,#REF!,10,FALSE))","v":"00:00:00"}]
["0_1_10",{"$f":"IF(COUNTIF(Validations!$AB$8:$AB$56,A20)=1,1,\"\")","v":1},null,1,10,"",{"$f":"IF(ISNA(VLOOKUP(D20,Rows[],4,FALSE)),\"\",VLOOKUP(D20,Rows[],4,FALSE))","v":"A1 - Holl anheddau trethadwy"},{"$f":"IF(ISERROR(VLOOKUP($A20&\"_\"&H$10,qData1[],7,FALSE)),\"\",VLOOKUP($A20&\"_\"&H$10,qData1[],7,FALSE))","v":""},{"$f":"IF(ISERROR(VLOOKUP($A20&\"_\"&I$10,qData1[],7,FALSE)),0,VLOOKUP($A20&\"_\"&I$10,qData1[],7,FALSE))","v":0},0,0,0,{"$f":"IF(ISNA(VLOOKUP($D20&\"_\"&$E20,Tol[],6,FALSE)),$M$7,VLOOKUP($D20&\"_\"&$E20,Tol[],6,FALSE))","v":10},{"$f":"IF(ISNA(VLOOKUP($D20&\"_\"&$E20,Tol[],7,FALSE)),$N$7*100,VLOOKUP($D20&\"_\"&$E20,Tol[],7,FALSE)*100)","v":5},1,1,"","",null,"",null,null,{"$f":"IF(ISERROR(VLOOKUP($A20,#REF!,8,FALSE)),\"\",VLOOKUP($A20,#REF!,8,FALSE))","v":""},{"$f":"IF(ISERROR(VLOOKUP($A20,#REF!,9,FALSE)),\"\",VLOOKUP($A20,#REF!,9,FALSE))","v":""},{"$f":"IF(ISERROR(VLOOKUP($A20,#REF!,10,FALSE)),0,VLOOKUP($A20,#REF!,10,FALSE))","v":"00:00:00"}]
["0_1_11",{"$f":"IF(COUNTIF(Validations!$AB$8:$AB$56,A21)=1,1,\"\")","v":1},null,1,11,"T",{"$f":"IF(ISNA(VLOOKUP(D21,Rows[],4,FALSE)),\"\",VLOOKUP(D21,Rows[],4,FALSE))","v":"A1 - Holl anheddau trethadwy"},{"$f":"IF(ISERROR(VLOOKUP($A21&\"_\"&H$10,qData1[],7,FALSE)),\"\",VLOOKUP($A21&\"_\"&H$10,qData1[],7,FALSE))","v":""},{"$f":"IF(ISERROR(VLOOKUP($A21&\"_\"&I$10,qData1[],7,FALSE)),0,VLOOKUP($A21&\"_\"&I$10,qData1[],7,FALSE))","v":0},0,0,0,{"$f":"IF(ISNA(VLOOKUP($D21&\"_\"&$E21,Tol[],6,FALSE)),$M$7,VLOOKUP($D21&\"_\"&$E21,Tol[],6,FALSE))","v":100},{"$f":"IF(ISNA(VLOOKUP($D21&\"_\"&$E21,Tol[],7,FALSE)),$N$7*100,VLOOKUP($D21&\"_\"&$E21,Tol[],7,FALSE)*100)","v":5},1,1,"","",null,"",null,null,{"$f":"IF(ISERROR(VLOOKUP($A21,#REF!,8,FALSE)),\"\",VLOOKUP($A21,#REF!,8,FALSE))","v":""},{"$f":"IF(ISERROR(VLOOKUP($A21,#REF!,9,FALSE)),\"\",VLOOKUP($A21,#REF!,9,FALSE))","v":""},{"$f":"IF(ISERROR(VLOOKUP($A21,#REF!,10,FALSE)),0,VLOOKUP($A21,#REF!,10,FALSE))","v":"00:00:00"}]
["0_2_2",{"$f":"IF(COUNTIF(Validations!$AB$8:$AB$56,A22)=1,1,\"\")","v":""},null,2,2,"",{"$f":"IF(ISNA(VLOOKUP(D22,Rows[],4,FALSE)),\"\",VLOOKUP(D22,Rows[],4,FALSE))","v":"A2 - Anheddau sy'n derbyn gostyngiad anabledd ( sy'n gynwysedig yn llinell A1 )"},{"$f":"IF(ISERROR(VLOOKUP($A22&\"_\"&H$10,qData1[],7,FALSE)),\"\",VLOOKUP($A22&\"_\"&H$10,qData1[],7,FALSE))","v":""},{"$f":"IF(ISERROR(VLOOKUP($A22&\"_\"&I$10,qData1[],7,FALSE)),0,VLOOKUP($A22&\"_\"&I$10,qData1[],7,FALSE))","v":0},0,0,0,{"$f":"IF(ISNA(VLOOKUP($D22&\"_\"&$E22,Tol[],6,FALSE)),$M$7,VLOOKUP($D22&\"_\"&$E22,Tol[],6,FALSE))","v":30},{"$f":"IF(ISNA(VLOOKUP($D22&\"_\"&$E22,Tol[],7,FALSE)),$N$7*100,VLOOKUP($D22&\"_\"&$E22,Tol[],7,FALSE)*100)","v":10},1,1,"","",null,"",null,null,{"$f":"IF(ISERROR(VLOOKUP($A22,#REF!,8,FALSE)),\"\",VLOOKUP($A22,#REF!,8,FALSE))","v":""},{"$f":"IF(ISERROR(VLOOKUP($A22,#REF!,9,FALSE)),\"\",VLOOKUP($A22,#REF!,9,FALSE))","v":""},{"$f":"IF(ISERROR(VLOOKUP($A22,#REF!,10,FALSE)),0,VLOOKUP($A22,#REF!,10,FALSE))","v":"00:00:00"}]
["0_2_3",{"$f":"IF(COUNTIF(Validations!$AB$8:$AB$56,A23)=1,1,\"\")","v":""},null,2,3,"",{"$f":"IF(ISNA(VLOOKUP(D23,Rows[],4,FALSE)),\"\",VLOOKUP(D23,Rows[],4,FALSE))","v":"A2 - Anheddau sy'n derbyn gostyngiad anabledd ( sy'n gynwysedig yn llinell A1 )"},{"$f":"IF(ISERROR(VLOOKUP($A23&\"_\"&H$10,qData1[],7,FALSE)),\"\",VLOOKUP($A23&\"_\"&H$10,qData1[],7,FALSE))","v":""},{"$f":"IF(ISERROR(VLOOKUP($A23&\"_\"&I$10,qData1[],7,FALSE)),0,VLOOKUP($A23&\"_\"&I$10,qData1[],7,FALSE))","v":0},0,0,0,{"$f":"IF(ISNA(VLOOKUP($D23&\"_\"&$E23,Tol[],6,FALSE)),$M$7,VLOOKUP($D23&\"_\"&$E23,Tol[],6,FALSE))","v":30},{"$f":"IF(ISNA(VLOOKUP($D23&\"_\"&$E23,Tol[],7,FALSE)),$N$7*100,VLOOKUP($D23&\"_\"&$E23,Tol[],7,FALSE)*100)","v":10},1,1,"","",null,"",null,null,{"$f":"IF(ISERROR(VLOOKUP($A23,#REF!,8,FALSE)),\"\",VLOOKUP($A23,#REF!,8,FALSE))","v":""},{"$f":"IF(ISERROR(VLOOKUP($A23,#REF!,9,FALSE)),\"\",VLOOKUP($A23,#REF!,9,FALSE))","v":""},{"$f":"IF(ISERROR(VLOOKUP($A23,#REF!,10,FALSE)),0,VLOOKUP($A23,#REF!,10,FALSE))","v":"00:00:00"}]
["0_2_4",{"$f":"IF(COUNTIF(Validations!$AB$8:$AB$56,A24)=1,1,\"\")","v":""},null,2,4,"",{"$f":"IF(ISNA(VLOOKUP(D24,Rows[],4,FALSE)),\"\",VLOOKUP(D24,Rows[],4,FALSE))","v":"A2 - Anheddau sy'n derbyn gostyngiad anabledd ( sy'n gynwysedig yn llinell A1 )"},{"$f":"IF(ISERROR(VLOOKUP($A24&\"_\"&H$10,qData1[],7,FALSE)),\"\",VLOOKUP($A24&\"_\"&H$10,qData1[],7,FALSE))","v":""},{"$f":"IF(ISERROR(VLOOKUP($A24&\"_\"&I$10,qData1[],7,FALSE)),0,VLOOKUP($A24&\"_\"&I$10,qData1[],7,FALSE))","v":0},0,0,0,{"$f":"IF(ISNA(VLOOKUP($D24&\"_\"&$E24,Tol[],6,FALSE)),$M$7,VLOOKUP($D24&\"_\"&$E24,Tol[],6,FALSE))","v":30},{"$f":"IF(ISNA(VLOOKUP($D24&\"_\"&$E24,Tol[],7,FALSE)),$N$7*100,VLOOKUP($D24&\"_\"&$E24,Tol[],7,FALSE)*100)","v":10},1,1,"","",null,"",null,null,{"$f":"IF(ISERROR(VLOOKUP($A24,#REF!,8,FALSE)),\"\",VLOOKUP($A24,#REF!,8,FALSE))","v":""},{"$f":"IF(ISERROR(VLOOKUP($A24,#REF!,9,FALSE)),\"\",VLOOKUP($A24,#REF!,9,FALSE))","v":""},{"$f":"IF(ISERROR(VLOOKUP($A24,#REF!,10,FALSE)),0,VLOOKUP($A24,#REF!,10,FALSE))","v":"00:00:00"}]
["0_2_5",{"$f":"IF(COUNTIF(Validations!$AB$8:$AB$56,A25)=1,1,\"\")","v":""},null,2,5,"",{"$f":"IF(ISNA(VLOOKUP(D25,Rows[],4,FALSE)),\"\",VLOOKUP(D25,Rows[],4,FALSE))","v":"A2 - Anheddau sy'n derbyn gostyngiad anabledd ( sy'n gynwysedig yn llinell A1 )"},{"$f":"IF(ISERROR(VLOOKUP($A25&\"_\"&H$10,qData1[],7,FALSE)),\"\",VLOOKUP($A25&\"_\"&H$10,qData1[],7,FALSE))","v":""},{"$f":"IF(ISERROR(VLOOKUP($A25&\"_\"&I$10,qData1[],7,FALSE)),0,VLOOKUP($A25&\"_\"&I$10,qData1[],7,FALSE))","v":0},0,0,0,{"$f":"IF(ISNA(VLOOKUP($D25&\"_\"&$E25,Tol[],6,FALSE)),$M$7,VLOOKUP($D25&\"_\"&$E25,Tol[],6,FALSE))","v":30},{"$f":"IF(ISNA(VLOOKUP($D25&\"_\"&$E25,Tol[],7,FALSE)),$N$7*100,VLOOKUP($D25&\"_\"&$E25,Tol[],7,FALSE)*100)","v":10},1,1,"","",null,"",null,null,{"$f":"IF(ISERROR(VLOOKUP($A25,#REF!,8,FALSE)),\"\",VLOOKUP($A25,#REF!,8,FALSE))","v":""},{"$f":"IF(ISERROR(VLOOKUP($A25,#REF!,9,FALSE)),\"\",VLOOKUP($A25,#REF!,9,FALSE))","v":""},{"$f":"IF(ISERROR(VLOOKUP($A25,#REF!,10,FALSE)),0,VLOOKUP($A25,#REF!,10,FALSE))","v":"00:00:00"}]
["0_2_6",{"$f":"IF(COUNTIF(Validations!$AB$8:$AB$56,A26)=1,1,\"\")","v":""},null,2,6,"",{"$f":"IF(ISNA(VLOOKUP(D26,Rows[],4,FALSE)),\"\",VLOOKUP(D26,Rows[],4,FALSE))","v":"A2 - Anheddau sy'n derbyn gostyngiad anabledd ( sy'n gynwysedig yn llinell A1 )"},{"$f":"IF(ISERROR(VLOOKUP($A26&\"_\"&H$10,qData1[],7,FALSE)),\"\",VLOOKUP($A26&\"_\"&H$10,qData1[],7,FALSE))","v":""},{"$f":"IF(ISERROR(VLOOKUP($A26&\"_\"&I$10,qData1[],7,FALSE)),0,VLOOKUP($A26&\"_\"&I$10,qData1[],7,FALSE))","v":0},0,0,0,{"$f":"IF(ISNA(VLOOKUP($D26&\"_\"&$E26,Tol[],6,FALSE)),$M$7,VLOOKUP($D26&\"_\"&$E26,Tol[],6,FALSE))","v":30},{"$f":"IF(ISNA(VLOOKUP($D26&\"_\"&$E26,Tol[],7,FALSE)),$N$7*100,VLOOKUP($D26&\"_\"&$E26,Tol[],7,FALSE)*100)","v":10},1,1,"","",null,"",null,null,{"$f":"IF(ISERROR(VLOOKUP($A26,#REF!,8,FALSE)),\"\",VLOOKUP($A26,#REF!,8,FALSE))","v":""},{"$f":"IF(ISERROR(VLOOKUP($A26,#REF!,9,FALSE)),\"\",VLOOKUP($A26,#REF!,9,FALSE))","v":""},{"$f":"IF(ISERROR(VLOOKUP($A26,#REF!,10,FALSE)),0,VLOOKUP($A26,#REF!,10,FALSE))","v":"00:00:00"}]
["0_2_7",{"$f":"IF(COUNTIF(Validations!$AB$8:$AB$56,A27)=1,1,\"\")","v":""},null,2,7,"",{"$f":"IF(ISNA(VLOOKUP(D27,Rows[],4,FALSE)),\"\",VLOOKUP(D27,Rows[],4,FALSE))","v":"A2 - Anheddau sy'n derbyn gostyngiad anabledd ( sy'n gynwysedig yn llinell A1 )"},{"$f":"IF(ISERROR(VLOOKUP($A27&\"_\"&H$10,qData1[],7,FALSE)),\"\",VLOOKUP($A27&\"_\"&H$10,qData1[],7,FALSE))","v":""},{"$f":"IF(ISERROR(VLOOKUP($A27&\"_\"&I$10,qData1[],7,FALSE)),0,VLOOKUP($A27&\"_\"&I$10,qData1[],7,FALSE))","v":0},0,0,0,{"$f":"IF(ISNA(VLOOKUP($D27&\"_\"&$E27,Tol[],6,FALSE)),$M$7,VLOOKUP($D27&\"_\"&$E27,Tol[],6,FALSE))","v":30},{"$f":"IF(ISNA(VLOOKUP($D27&\"_\"&$E27,Tol[],7,FALSE)),$N$7*100,VLOOKUP($D27&\"_\"&$E27,Tol[],7,FALSE)*100)","v":10},1,1,"","",null,"",null,null,{"$f":"IF(ISERROR(VLOOKUP($A27,#REF!,8,FALSE)),\"\",VLOOKUP($A27,#REF!,8,FALSE))","v":""},{"$f":"IF(ISERROR(VLOOKUP($A27,#REF!,9,FALSE)),\"\",VLOOKUP($A27,#REF!,9,FALSE))","v":""},{"$f":"IF(ISERROR(VLOOKUP($A27,#REF!,10,FALSE)),0,VLOOKUP($A27,#REF!,10,FALSE))","v":"00:00:00"}]
["0_2_8",{"$f":"IF(COUNTIF(Validations!$AB$8:$AB$56,A28)=1,1,\"\")","v":""},null,2,8,"",{"$f":"IF(ISNA(VLOOKUP(D28,Rows[],4,FALSE)),\"\",VLOOKUP(D28,Rows[],4,FALSE))","v":"A2 - Anheddau sy'n derbyn gostyngiad anabledd ( sy'n gynwysedig yn llinell A1 )"},{"$f":"IF(ISERROR(VLOOKUP($A28&\"_\"&H$10,qData1[],7,FALSE)),\"\",VLOOKUP($A28&\"_\"&H$10,qData1[],7,FALSE))","v":""},{"$f":"IF(ISERROR(VLOOKUP($A28&\"_\"&I$10,qData1[],7,FALSE)),0,VLOOKUP($A28&\"_\"&I$10,qData1[],7,FALSE))","v":0},0,0,0,{"$f":"IF(ISNA(VLOOKUP($D28&\"_\"&$E28,Tol[],6,FALSE)),$M$7,VLOOKUP($D28&\"_\"&$E28,Tol[],6,FALSE))","v":30},{"$f":"IF(ISNA(VLOOKUP($D28&\"_\"&$E28,Tol[],7,FALSE)),$N$7*100,VLOOKUP($D28&\"_\"&$E28,Tol[],7,FALSE)*100)","v":10},1,1,"","",null,"",null,null,{"$f":"IF(ISERROR(VLOOKUP($A28,#REF!,8,FALSE)),\"\",VLOOKUP($A28,#REF!,8,FALSE))","v":""},{"$f":"IF(ISERROR(VLOOKUP($A28,#REF!,9,FALSE)),\"\",VLOOKUP($A28,#REF!,9,FALSE))","v":""},{"$f":"IF(ISERROR(VLOOKUP($A28,#REF!,10,FALSE)),0,VLOOKUP($A28,#REF!,10,FALSE))","v":"00:00:00"}]
["0_2_9",{"$f":"IF(COUNTIF(Validations!$AB$8:$AB$56,A29)=1,1,\"\")","v":""},null,2,9,"",{"$f":"IF(ISNA(VLOOKUP(D29,Rows[],4,FALSE)),\"\",VLOOKUP(D29,Rows[],4,FALSE))","v":"A2 - Anheddau sy'n derbyn gostyngiad anabledd ( sy'n gynwysedig yn llinell A1 )"},{"$f":"IF(ISERROR(VLOOKUP($A29&\"_\"&H$10,qData1[],7,FALSE)),\"\",VLOOKUP($A29&\"_\"&H$10,qData1[],7,FALSE))","v":""},{"$f":"IF(ISERROR(VLOOKUP($A29&\"_\"&I$10,qData1[],7,FALSE)),0,VLOOKUP($A29&\"_\"&I$10,qData1[],7,FALSE))","v":0},0,0,0,{"$f":"IF(ISNA(VLOOKUP($D29&\"_\"&$E29,Tol[],6,FALSE)),$M$7,VLOOKUP($D29&\"_\"&$E29,Tol[],6,FALSE))","v":30},{"$f":"IF(ISNA(VLOOKUP($D29&\"_\"&$E29,Tol[],7,FALSE)),$N$7*100,VLOOKUP($D29&\"_\"&$E29,Tol[],7,FALSE)*100)","v":10},1,1,"","",null,"",null,null,{"$f":"IF(ISERROR(VLOOKUP($A29,#REF!,8,FALSE)),\"\",VLOOKUP($A29,#REF!,8,FALSE))","v":""},{"$f":"IF(ISERROR(VLOOKUP($A29,#REF!,9,FALSE)),\"\",VLOOKUP($A29,#REF!,9,FALSE))","v":""},{"$f":"IF(ISERROR(VLOOKUP($A29,#REF!,10,FALSE)),0,VLOOKUP($A29,#REF!,10,FALSE))","v":"00:00:00"}]
["0_2_10",{"$f":"IF(COUNTIF(Validations!$AB$8:$AB$56,A30)=1,1,\"\")","v":""},null,2,10,"",{"$f":"IF(ISNA(VLOOKUP(D30,Rows[],4,FALSE)),\"\",VLOOKUP(D30,Rows[],4,FALSE))","v":"A2 - Anheddau sy'n derbyn gostyngiad anabledd ( sy'n gynwysedig yn llinell A1 )"},{"$f":"IF(ISERROR(VLOOKUP($A30&\"_\"&H$10,qData1[],7,FALSE)),\"\",VLOOKUP($A30&\"_\"&H$10,qData1[],7,FALSE))","v":""},{"$f":"IF(ISERROR(VLOOKUP($A30&\"_\"&I$10,qData1[],7,FALSE)),0,VLOOKUP($A30&\"_\"&I$10,qData1[],7,FALSE))","v":0},0,0,0,{"$f":"IF(ISNA(VLOOKUP($D30&\"_\"&$E30,Tol[],6,FALSE)),$M$7,VLOOKUP($D30&\"_\"&$E30,Tol[],6,FALSE))","v":20},{"$f":"IF(ISNA(VLOOKUP($D30&\"_\"&$E30,Tol[],7,FALSE)),$N$7*100,VLOOKUP($D30&\"_\"&$E30,Tol[],7,FALSE)*100)","v":10},1,1,"","",null,"",null,null,{"$f":"IF(ISERROR(VLOOKUP($A30,#REF!,8,FALSE)),\"\",VLOOKUP($A30,#REF!,8,FALSE))","v":""},{"$f":"IF(ISERROR(VLOOKUP($A30,#REF!,9,FALSE)),\"\",VLOOKUP($A30,#REF!,9,FALSE))","v":""},{"$f":"IF(ISERROR(VLOOKUP($A30,#REF!,10,FALSE)),0,VLOOKUP($A30,#REF!,10,FALSE))","v":"00:00:00"}]
["0_2_11",{"$f":"IF(COUNTIF(Validations!$AB$8:$AB$56,A31)=1,1,\"\")","v":""},null,2,11,"T",{"$f":"IF(ISNA(VLOOKUP(D31,Rows[],4,FALSE)),\"\",VLOOKUP(D31,Rows[],4,FALSE))","v":"A2 - Anheddau sy'n derbyn gostyngiad anabledd ( sy'n gynwysedig yn llinell A1 )"},{"$f":"IF(ISERROR(VLOOKUP($A31&\"_\"&H$10,qData1[],7,FALSE)),\"\",VLOOKUP($A31&\"_\"&H$10,qData1[],7,FALSE))","v":""},{"$f":"IF(ISERROR(VLOOKUP($A31&\"_\"&I$10,qData1[],7,FALSE)),0,VLOOKUP($A31&\"_\"&I$10,qData1[],7,FALSE))","v":0},0,0,0,{"$f":"IF(ISNA(VLOOKUP($D31&\"_\"&$E31,Tol[],6,FALSE)),$M$7,VLOOKUP($D31&\"_\"&$E31,Tol[],6,FALSE))","v":50},{"$f":"IF(ISNA(VLOOKUP($D31&\"_\"&$E31,Tol[],7,FALSE)),$N$7*100,VLOOKUP($D31&\"_\"&$E31,Tol[],7,FALSE)*100)","v":10},1,1,"","",null,"",null,null,{"$f":"IF(ISERROR(VLOOKUP($A31,#REF!,8,FALSE)),\"\",VLOOKUP($A31,#REF!,8,FALSE))","v":""},{"$f":"IF(ISERROR(VLOOKUP($A31,#REF!,9,FALSE)),\"\",VLOOKUP($A31,#REF!,9,FALSE))","v":""},{"$f":"IF(ISERROR(VLOOKUP($A31,#REF!,10,FALSE)),0,VLOOKUP($A31,#REF!,10,FALSE))","v":"00:00:00"}]
["0_4_1",{"$f":"IF(COUNTIF(Validations!$AB$8:$AB$56,A32)=1,1,\"\")","v":1},null,4,1,"",{"$f":"IF(ISNA(VLOOKUP(D32,Rows[],4,FALSE)),\"\",VLOOKUP(D32,Rows[],4,FALSE))","v":"B1 - Anheddau heb ddisgownt neu premiwm (gan gynnwys eiddo gwag hirdymor ac ail gartrefi heb ddisgownt neu premiwm)"},{"$f":"IF(ISERROR(VLOOKUP($A32&\"_\"&H$10,qData1[],7,FALSE)),\"\",VLOOKUP($A32&\"_\"&H$10,qData1[],7,FALSE))","v":""},{"$f":"IF(ISERROR(VLOOKUP($A32&\"_\"&I$10,qData1[],7,FALSE)),0,VLOOKUP($A32&\"_\"&I$10,qData1[],7,FALSE))","v":0},0,0,0,{"$f":"IF(ISNA(VLOOKUP($D32&\"_\"&$E32,Tol[],6,FALSE)),$M$7,VLOOKUP($D32&\"_\"&$E32,Tol[],6,FALSE))","v":50},{"$f":"IF(ISNA(VLOOKUP($D32&\"_\"&$E32,Tol[],7,FALSE)),$N$7*100,VLOOKUP($D32&\"_\"&$E32,Tol[],7,FALSE)*100)","v":10},1,1,"","",null,"",null,null,{"$f":"IF(ISERROR(VLOOKUP($A32,#REF!,8,FALSE)),\"\",VLOOKUP($A32,#REF!,8,FALSE))","v":""},{"$f":"IF(ISERROR(VLOOKUP($A32,#REF!,9,FALSE)),\"\",VLOOKUP($A32,#REF!,9,FALSE))","v":""},{"$f":"IF(ISERROR(VLOOKUP($A32,#REF!,10,FALSE)),0,VLOOKUP($A32,#REF!,10,FALSE))","v":"00:00:00"}]
["0_4_2",{"$f":"IF(COUNTIF(Validations!$AB$8:$AB$56,A33)=1,1,\"\")","v":1},null,4,2,"",{"$f":"IF(ISNA(VLOOKUP(D33,Rows[],4,FALSE)),\"\",VLOOKUP(D33,Rows[],4,FALSE))","v":"B1 - Anheddau heb ddisgownt neu premiwm (gan gynnwys eiddo gwag hirdymor ac ail gartrefi heb ddisgownt neu premiwm)"},{"$f":"IF(ISERROR(VLOOKUP($A33&\"_\"&H$10,qData1[],7,FALSE)),\"\",VLOOKUP($A33&\"_\"&H$10,qData1[],7,FALSE))","v":""},{"$f":"IF(ISERROR(VLOOKUP($A33&\"_\"&I$10,qData1[],7,FALSE)),0,VLOOKUP($A33&\"_\"&I$10,qData1[],7,FALSE))","v":0},0,0,0,{"$f":"IF(ISNA(VLOOKUP($D33&\"_\"&$E33,Tol[],6,FALSE)),$M$7,VLOOKUP($D33&\"_\"&$E33,Tol[],6,FALSE))","v":100},{"$f":"IF(ISNA(VLOOKUP($D33&\"_\"&$E33,Tol[],7,FALSE)),$N$7*100,VLOOKUP($D33&\"_\"&$E33,Tol[],7,FALSE)*100)","v":15},1,1,"","",null,"",null,null,{"$f":"IF(ISERROR(VLOOKUP($A33,#REF!,8,FALSE)),\"\",VLOOKUP($A33,#REF!,8,FALSE))","v":""},{"$f":"IF(ISERROR(VLOOKUP($A33,#REF!,9,FALSE)),\"\",VLOOKUP($A33,#REF!,9,FALSE))","v":""},{"$f":"IF(ISERROR(VLOOKUP($A33,#REF!,10,FALSE)),0,VLOOKUP($A33,#REF!,10,FALSE))","v":"00:00:00"}]
["0_4_3",{"$f":"IF(COUNTIF(Validations!$AB$8:$AB$56,A34)=1,1,\"\")","v":1},null,4,3,"",{"$f":"IF(ISNA(VLOOKUP(D34,Rows[],4,FALSE)),\"\",VLOOKUP(D34,Rows[],4,FALSE))","v":"B1 - Anheddau heb ddisgownt neu premiwm (gan gynnwys eiddo gwag hirdymor ac ail gartrefi heb ddisgownt neu premiwm)"},{"$f":"IF(ISERROR(VLOOKUP($A34&\"_\"&H$10,qData1[],7,FALSE)),\"\",VLOOKUP($A34&\"_\"&H$10,qData1[],7,FALSE))","v":""},{"$f":"IF(ISERROR(VLOOKUP($A34&\"_\"&I$10,qData1[],7,FALSE)),0,VLOOKUP($A34&\"_\"&I$10,qData1[],7,FALSE))","v":0},0,0,0,{"$f":"IF(ISNA(VLOOKUP($D34&\"_\"&$E34,Tol[],6,FALSE)),$M$7,VLOOKUP($D34&\"_\"&$E34,Tol[],6,FALSE))","v":50},{"$f":"IF(ISNA(VLOOKUP($D34&\"_\"&$E34,Tol[],7,FALSE)),$N$7*100,VLOOKUP($D34&\"_\"&$E34,Tol[],7,FALSE)*100)","v":10},1,1,"","",null,"",null,null,{"$f":"IF(ISERROR(VLOOKUP($A34,#REF!,8,FALSE)),\"\",VLOOKUP($A34,#REF!,8,FALSE))","v":""},{"$f":"IF(ISERROR(VLOOKUP($A34,#REF!,9,FALSE)),\"\",VLOOKUP($A34,#REF!,9,FALSE))","v":""},{"$f":"IF(ISERROR(VLOOKUP($A34,#REF!,10,FALSE)),0,VLOOKUP($A34,#REF!,10,FALSE))","v":"00:00:00"}]
["0_4_4",{"$f":"IF(COUNTIF(Validations!$AB$8:$AB$56,A35)=1,1,\"\")","v":1},null,4,4,"",{"$f":"IF(ISNA(VLOOKUP(D35,Rows[],4,FALSE)),\"\",VLOOKUP(D35,Rows[],4,FALSE))","v":"B1 - Anheddau heb ddisgownt neu premiwm (gan gynnwys eiddo gwag hirdymor ac ail gartrefi heb ddisgownt neu premiwm)"},{"$f":"IF(ISERROR(VLOOKUP($A35&\"_\"&H$10,qData1[],7,FALSE)),\"\",VLOOKUP($A35&\"_\"&H$10,qData1[],7,FALSE))","v":""},{"$f":"IF(ISERROR(VLOOKUP($A35&\"_\"&I$10,qData1[],7,FALSE)),0,VLOOKUP($A35&\"_\"&I$10,qData1[],7,FALSE))","v":0},0,0,0,{"$f":"IF(ISNA(VLOOKUP($D35&\"_\"&$E35,Tol[],6,FALSE)),$M$7,VLOOKUP($D35&\"_\"&$E35,Tol[],6,FALSE))","v":50},{"$f":"IF(ISNA(VLOOKUP($D35&\"_\"&$E35,Tol[],7,FALSE)),$N$7*100,VLOOKUP($D35&\"_\"&$E35,Tol[],7,FALSE)*100)","v":10},1,1,"","",null,"",null,null,{"$f":"IF(ISERROR(VLOOKUP($A35,#REF!,8,FALSE)),\"\",VLOOKUP($A35,#REF!,8,FALSE))","v":""},{"$f":"IF(ISERROR(VLOOKUP($A35,#REF!,9,FALSE)),\"\",VLOOKUP($A35,#REF!,9,FALSE))","v":""},{"$f":"IF(ISERROR(VLOOKUP($A35,#REF!,10,FALSE)),0,VLOOKUP($A35,#REF!,10,FALSE))","v":"00:00:00"}]
["0_4_5",{"$f":"IF(COUNTIF(Validations!$AB$8:$AB$56,A36)=1,1,\"\")","v":1},null,4,5,"",{"$f":"IF(ISNA(VLOOKUP(D36,Rows[],4,FALSE)),\"\",VLOOKUP(D36,Rows[],4,FALSE))","v":"B1 - Anheddau heb ddisgownt neu premiwm (gan gynnwys eiddo gwag hirdymor ac ail gartrefi heb ddisgownt neu premiwm)"},{"$f":"IF(ISERROR(VLOOKUP($A36&\"_\"&H$10,qData1[],7,FALSE)),\"\",VLOOKUP($A36&\"_\"&H$10,qData1[],7,FALSE))","v":""},{"$f":"IF(ISERROR(VLOOKUP($A36&\"_\"&I$10,qData1[],7,FALSE)),0,VLOOKUP($A36&\"_\"&I$10,qData1[],7,FALSE))","v":0},0,0,0,{"$f":"IF(ISNA(VLOOKUP($D36&\"_\"&$E36,Tol[],6,FALSE)),$M$7,VLOOKUP($D36&\"_\"&$E36,Tol[],6,FALSE))","v":50},{"$f":"IF(ISNA(VLOOKUP($D36&\"_\"&$E36,Tol[],7,FALSE)),$N$7*100,VLOOKUP($D36&\"_\"&$E36,Tol[],7,FALSE)*100)","v":10},1,1,"","",null,"",null,null,{"$f":"IF(ISERROR(VLOOKUP($A36,#REF!,8,FALSE)),\"\",VLOOKUP($A36,#REF!,8,FALSE))","v":""},{"$f":"IF(ISERROR(VLOOKUP($A36,#REF!,9,FALSE)),\"\",VLOOKUP($A36,#REF!,9,FALSE))","v":""},{"$f":"IF(ISERROR(VLOOKUP($A36,#REF!,10,FALSE)),0,VLOOKUP($A36,#REF!,10,FALSE))","v":"00:00:00"}]
["0_4_6",{"$f":"IF(COUNTIF(Validations!$AB$8:$AB$56,A37)=1,1,\"\")","v":1},null,4,6,"",{"$f":"IF(ISNA(VLOOKUP(D37,Rows[],4,FALSE)),\"\",VLOOKUP(D37,Rows[],4,FALSE))","v":"B1 - Anheddau heb ddisgownt neu premiwm (gan gynnwys eiddo gwag hirdymor ac ail gartrefi heb ddisgownt neu premiwm)"},{"$f":"IF(ISERROR(VLOOKUP($A37&\"_\"&H$10,qData1[],7,FALSE)),\"\",VLOOKUP($A37&\"_\"&H$10,qData1[],7,FALSE))","v":""},{"$f":"IF(ISERROR(VLOOKUP($A37&\"_\"&I$10,qData1[],7,FALSE)),0,VLOOKUP($A37&\"_\"&I$10,qData1[],7,FALSE))","v":0},0,0,0,{"$f":"IF(ISNA(VLOOKUP($D37&\"_\"&$E37,Tol[],6,FALSE)),$M$7,VLOOKUP($D37&\"_\"&$E37,Tol[],6,FALSE))","v":50},{"$f":"IF(ISNA(VLOOKUP($D37&\"_\"&$E37,Tol[],7,FALSE)),$N$7*100,VLOOKUP($D37&\"_\"&$E37,Tol[],7,FALSE)*100)","v":10},1,1,"","",null,"",null,null,{"$f":"IF(ISERROR(VLOOKUP($A37,#REF!,8,FALSE)),\"\",VLOOKUP($A37,#REF!,8,FALSE))","v":""},{"$f":"IF(ISERROR(VLOOKUP($A37,#REF!,9,FALSE)),\"\",VLOOKUP($A37,#REF!,9,FALSE))","v":""},{"$f":"IF(ISERROR(VLOOKUP($A37,#REF!,10,FALSE)),0,VLOOKUP($A37,#REF!,10,FALSE))","v":"00:00:00"}]
["0_4_7",{"$f":"IF(COUNTIF(Validations!$AB$8:$AB$56,A38)=1,1,\"\")","v":1},null,4,7,"",{"$f":"IF(ISNA(VLOOKUP(D38,Rows[],4,FALSE)),\"\",VLOOKUP(D38,Rows[],4,FALSE))","v":"B1 - Anheddau heb ddisgownt neu premiwm (gan gynnwys eiddo gwag hirdymor ac ail gartrefi heb ddisgownt neu premiwm)"},{"$f":"IF(ISERROR(VLOOKUP($A38&\"_\"&H$10,qData1[],7,FALSE)),\"\",VLOOKUP($A38&\"_\"&H$10,qData1[],7,FALSE))","v":""},{"$f":"IF(ISERROR(VLOOKUP($A38&\"_\"&I$10,qData1[],7,FALSE)),0,VLOOKUP($A38&\"_\"&I$10,qData1[],7,FALSE))","v":0},0,0,0,{"$f":"IF(ISNA(VLOOKUP($D38&\"_\"&$E38,Tol[],6,FALSE)),$M$7,VLOOKUP($D38&\"_\"&$E38,Tol[],6,FALSE))","v":50},{"$f":"IF(ISNA(VLOOKUP($D38&\"_\"&$E38,Tol[],7,FALSE)),$N$7*100,VLOOKUP($D38&\"_\"&$E38,Tol[],7,FALSE)*100)","v":10},1,1,"","",null,"",null,null,{"$f":"IF(ISERROR(VLOOKUP($A38,#REF!,8,FALSE)),\"\",VLOOKUP($A38,#REF!,8,FALSE))","v":""},{"$f":"IF(ISERROR(VLOOKUP($A38,#REF!,9,FALSE)),\"\",VLOOKUP($A38,#REF!,9,FALSE))","v":""},{"$f":"IF(ISERROR(VLOOKUP($A38,#REF!,10,FALSE)),0,VLOOKUP($A38,#REF!,10,FALSE))","v":"00:00:00"}]
["0_4_8",{"$f":"IF(COUNTIF(Validations!$AB$8:$AB$56,A39)=1,1,\"\")","v":1},null,4,8,"",{"$f":"IF(ISNA(VLOOKUP(D39,Rows[],4,FALSE)),\"\",VLOOKUP(D39,Rows[],4,FALSE))","v":"B1 - Anheddau heb ddisgownt neu premiwm (gan gynnwys eiddo gwag hirdymor ac ail gartrefi heb ddisgownt neu premiwm)"},{"$f":"IF(ISERROR(VLOOKUP($A39&\"_\"&H$10,qData1[],7,FALSE)),\"\",VLOOKUP($A39&\"_\"&H$10,qData1[],7,FALSE))","v":""},{"$f":"IF(ISERROR(VLOOKUP($A39&\"_\"&I$10,qData1[],7,FALSE)),0,VLOOKUP($A39&\"_\"&I$10,qData1[],7,FALSE))","v":0},0,0,0,{"$f":"IF(ISNA(VLOOKUP($D39&\"_\"&$E39,Tol[],6,FALSE)),$M$7,VLOOKUP($D39&\"_\"&$E39,Tol[],6,FALSE))","v":30},{"$f":"IF(ISNA(VLOOKUP($D39&\"_\"&$E39,Tol[],7,FALSE)),$N$7*100,VLOOKUP($D39&\"_\"&$E39,Tol[],7,FALSE)*100)","v":10},1,1,"","",null,"",null,null,{"$f":"IF(ISERROR(VLOOKUP($A39,#REF!,8,FALSE)),\"\",VLOOKUP($A39,#REF!,8,FALSE))","v":""},{"$f":"IF(ISERROR(VLOOKUP($A39,#REF!,9,FALSE)),\"\",VLOOKUP($A39,#REF!,9,FALSE))","v":""},{"$f":"IF(ISERROR(VLOOKUP($A39,#REF!,10,FALSE)),0,VLOOKUP($A39,#REF!,10,FALSE))","v":"00:00:00"}]
["0_4_9",{"$f":"IF(COUNTIF(Validations!$AB$8:$AB$56,A40)=1,1,\"\")","v":1},null,4,9,"",{"$f":"IF(ISNA(VLOOKUP(D40,Rows[],4,FALSE)),\"\",VLOOKUP(D40,Rows[],4,FALSE))","v":"B1 - Anheddau heb ddisgownt neu premiwm (gan gynnwys eiddo gwag hirdymor ac ail gartrefi heb ddisgownt neu premiwm)"},{"$f":"IF(ISERROR(VLOOKUP($A40&\"_\"&H$10,qData1[],7,FALSE)),\"\",VLOOKUP($A40&\"_\"&H$10,qData1[],7,FALSE))","v":""},{"$f":"IF(ISERROR(VLOOKUP($A40&\"_\"&I$10,qData1[],7,FALSE)),0,VLOOKUP($A40&\"_\"&I$10,qData1[],7,FALSE))","v":0},0,0,0,{"$f":"IF(ISNA(VLOOKUP($D40&\"_\"&$E40,Tol[],6,FALSE)),$M$7,VLOOKUP($D40&\"_\"&$E40,Tol[],6,FALSE))","v":20},{"$f":"IF(ISNA(VLOOKUP($D40&\"_\"&$E40,Tol[],7,FALSE)),$N$7*100,VLOOKUP($D40&\"_\"&$E40,Tol[],7,FALSE)*100)","v":10},1,1,"","",null,"",null,null,{"$f":"IF(ISERROR(VLOOKUP($A40,#REF!,8,FALSE)),\"\",VLOOKUP($A40,#REF!,8,FALSE))","v":""},{"$f":"IF(ISERROR(VLOOKUP($A40,#REF!,9,FALSE)),\"\",VLOOKUP($A40,#REF!,9,FALSE))","v":""},{"$f":"IF(ISERROR(VLOOKUP($A40,#REF!,10,FALSE)),0,VLOOKUP($A40,#REF!,10,FALSE))","v":"00:00:00"}]
["0_4_10",{"$f":"IF(COUNTIF(Validations!$AB$8:$AB$56,A41)=1,1,\"\")","v":1},null,4,10,"",{"$f":"IF(ISNA(VLOOKUP(D41,Rows[],4,FALSE)),\"\",VLOOKUP(D41,Rows[],4,FALSE))","v":"B1 - Anheddau heb ddisgownt neu premiwm (gan gynnwys eiddo gwag hirdymor ac ail gartrefi heb ddisgownt neu premiwm)"},{"$f":"IF(ISERROR(VLOOKUP($A41&\"_\"&H$10,qData1[],7,FALSE)),\"\",VLOOKUP($A41&\"_\"&H$10,qData1[],7,FALSE))","v":""},{"$f":"IF(ISERROR(VLOOKUP($A41&\"_\"&I$10,qData1[],7,FALSE)),0,VLOOKUP($A41&\"_\"&I$10,qData1[],7,FALSE))","v":0},0,0,0,{"$f":"IF(ISNA(VLOOKUP($D41&\"_\"&$E41,Tol[],6,FALSE)),$M$7,VLOOKUP($D41&\"_\"&$E41,Tol[],6,FALSE))","v":10},{"$f":"IF(ISNA(VLOOKUP($D41&\"_\"&$E41,Tol[],7,FALSE)),$N$7*100,VLOOKUP($D41&\"_\"&$E41,Tol[],7,FALSE)*100)","v":10},1,1,"","",null,"",null,null,{"$f":"IF(ISERROR(VLOOKUP($A41,#REF!,8,FALSE)),\"\",VLOOKUP($A41,#REF!,8,FALSE))","v":""},{"$f":"IF(ISERROR(VLOOKUP($A41,#REF!,9,FALSE)),\"\",VLOOKUP($A41,#REF!,9,FALSE))","v":""},{"$f":"IF(ISERROR(VLOOKUP($A41,#REF!,10,FALSE)),0,VLOOKUP($A41,#REF!,10,FALSE))","v":"00:00:00"}]
["0_4_11",{"$f":"IF(COUNTIF(Validations!$AB$8:$AB$56,A42)=1,1,\"\")","v":1},null,4,11,"T",{"$f":"IF(ISNA(VLOOKUP(D42,Rows[],4,FALSE)),\"\",VLOOKUP(D42,Rows[],4,FALSE))","v":"B1 - Anheddau heb ddisgownt neu premiwm (gan gynnwys eiddo gwag hirdymor ac ail gartrefi heb ddisgownt neu premiwm)"},{"$f":"IF(ISERROR(VLOOKUP($A42&\"_\"&H$10,qData1[],7,FALSE)),\"\",VLOOKUP($A42&\"_\"&H$10,qData1[],7,FALSE))","v":""},{"$f":"IF(ISERROR(VLOOKUP($A42&\"_\"&I$10,qData1[],7,FALSE)),0,VLOOKUP($A42&\"_\"&I$10,qData1[],7,FALSE))","v":0},0,0,0,{"$f":"IF(ISNA(VLOOKUP($D42&\"_\"&$E42,Tol[],6,FALSE)),$M$7,VLOOKUP($D42&\"_\"&$E42,Tol[],6,FALSE))","v":100},{"$f":"IF(ISNA(VLOOKUP($D42&\"_\"&$E42,Tol[],7,FALSE)),$N$7*100,VLOOKUP($D42&\"_\"&$E42,Tol[],7,FALSE)*100)","v":10},1,1,"","",null,"",null,null,{"$f":"IF(ISERROR(VLOOKUP($A42,#REF!,8,FALSE)),\"\",VLOOKUP($A42,#REF!,8,FALSE))","v":""},{"$f":"IF(ISERROR(VLOOKUP($A42,#REF!,9,FALSE)),\"\",VLOOKUP($A42,#REF!,9,FALSE))","v":""},{"$f":"IF(ISERROR(VLOOKUP($A42,#REF!,10,FALSE)),0,VLOOKUP($A42,#REF!,10,FALSE))","v":"00:00:00"}]
["0_4.1_1",{"$f":"IF(COUNTIF(Validations!$AB$8:$AB$56,A43)=1,1,\"\")","v":""},null,4.1,1,"",{"$f":"IF(ISNA(VLOOKUP(D43,Rows[],4,FALSE)),\"\",VLOOKUP(D43,Rows[],4,FALSE))","v":"B2a - Anheddau gyda disgownt o 25% (ag eithrio eiddo gwag hirdymor ac ail gartrefi heb ddisgownt)"},{"$f":"IF(ISERROR(VLOOKUP($A43&\"_\"&H$10,qData1[],7,FALSE)),\"\",VLOOKUP($A43&\"_\"&H$10,qData1[],7,FALSE))","v":""},{"$f":"IF(ISERROR(VLOOKUP($A43&\"_\"&I$10,qData1[],7,FALSE)),0,VLOOKUP($A43&\"_\"&I$10,qData1[],7,FALSE))","v":0},0,0,0,{"$f":"IF(ISNA(VLOOKUP($D43&\"_\"&$E43,Tol[],6,FALSE)),$M$7,VLOOKUP($D43&\"_\"&$E43,Tol[],6,FALSE))","v":100},{"$f":"IF(ISNA(VLOOKUP($D43&\"_\"&$E43,Tol[],7,FALSE)),$N$7*100,VLOOKUP($D43&\"_\"&$E43,Tol[],7,FALSE)*100)","v":10},1,1,"","",null,"",null,null,{"$f":"IF(ISERROR(VLOOKUP($A43,#REF!,8,FALSE)),\"\",VLOOKUP($A43,#REF!,8,FALSE))","v":""},{"$f":"IF(ISERROR(VLOOKUP($A43,#REF!,9,FALSE)),\"\",VLOOKUP($A43,#REF!,9,FALSE))","v":""},{"$f":"IF(ISERROR(VLOOKUP($A43,#REF!,10,FALSE)),0,VLOOKUP($A43,#REF!,10,FALSE))","v":"00:00:00"}]
[{"$f":"uanumber&\"_\"&D44&\"_\"&E44","v":"0_4.1_2"},{"$f":"IF(COUNTIF(Validations!$AB$8:$AB$56,A44)=1,1,\"\")","v":""},null,4.1,2,"",{"$f":"IF(ISNA(VLOOKUP(D44,Rows[],4,FALSE)),\"\",VLOOKUP(D44,Rows[],4,FALSE))","v":"B2a - Anheddau gyda disgownt o 25% (ag eithrio eiddo gwag hirdymor ac ail gartrefi heb ddisgownt)"},{"$f":"IF(ISERROR(VLOOKUP($A44&\"_\"&H$10,qData1[],7,FALSE)),\"\",VLOOKUP($A44&\"_\"&H$10,qData1[],7,FALSE))","v":""},{"$f":"IF(ISERROR(VLOOKUP($A44&\"_\"&I$10,qData1[],7,FALSE)),0,VLOOKUP($A44&\"_\"&I$10,qData1[],7,FALSE))","v":0},{"$f":"IF(ISERROR(VLOOKUP(D44&\"_\"&E44,Figs,8,FALSE)),0,VLOOKUP(D44&\"_\"&E44,Figs,8,FALSE))","v":0},0,0,{"$f":"IF(ISNA(VLOOKUP($D44&\"_\"&$E44,Tol[],6,FALSE)),$M$7,VLOOKUP($D44&\"_\"&$E44,Tol[],6,FALSE))","v":100},{"$f":"IF(ISNA(VLOOKUP($D44&\"_\"&$E44,Tol[],7,FALSE)),$N$7*100,VLOOKUP($D44&\"_\"&$E44,Tol[],7,FALSE)*100)","v":10},1,1,"","",null,"",null,null,{"$f":"IF(ISERROR(VLOOKUP($A44,#REF!,8,FALSE)),\"\",VLOOKUP($A44,#REF!,8,FALSE))","v":""},{"$f":"IF(ISERROR(VLOOKUP($A44,#REF!,9,FALSE)),\"\",VLOOKUP($A44,#REF!,9,FALSE))","v":""},{"$f":"IF(ISERROR(VLOOKUP($A44,#REF!,10,FALSE)),0,VLOOKUP($A44,#REF!,10,FALSE))","v":"00:00:00"}]
["0_4.1_3",{"$f":"IF(COUNTIF(Validations!$AB$8:$AB$56,A45)=1,1,\"\")","v":""},null,4.1,3,"",{"$f":"IF(ISNA(VLOOKUP(D45,Rows[],4,FALSE)),\"\",VLOOKUP(D45,Rows[],4,FALSE))","v":"B2a - Anheddau gyda disgownt o 25% (ag eithrio eiddo gwag hirdymor ac ail gartrefi heb ddisgownt)"},{"$f":"IF(ISERROR(VLOOKUP($A45&\"_\"&H$10,qData1[],7,FALSE)),\"\",VLOOKUP($A45&\"_\"&H$10,qData1[],7,FALSE))","v":""},{"$f":"IF(ISERROR(VLOOKUP($A45&\"_\"&I$10,qData1[],7,FALSE)),0,VLOOKUP($A45&\"_\"&I$10,qData1[],7,FALSE))","v":0},0,0,0,{"$f":"IF(ISNA(VLOOKUP($D45&\"_\"&$E45,Tol[],6,FALSE)),$M$7,VLOOKUP($D45&\"_\"&$E45,Tol[],6,FALSE))","v":100},{"$f":"IF(ISNA(VLOOKUP($D45&\"_\"&$E45,Tol[],7,FALSE)),$N$7*100,VLOOKUP($D45&\"_\"&$E45,Tol[],7,FALSE)*100)","v":10},1,1,"","",null,"",null,null,{"$f":"IF(ISERROR(VLOOKUP($A45,#REF!,8,FALSE)),\"\",VLOOKUP($A45,#REF!,8,FALSE))","v":""},{"$f":"IF(ISERROR(VLOOKUP($A45,#REF!,9,FALSE)),\"\",VLOOKUP($A45,#REF!,9,FALSE))","v":""},{"$f":"IF(ISERROR(VLOOKUP($A45,#REF!,10,FALSE)),0,VLOOKUP($A45,#REF!,10,FALSE))","v":"00:00:00"}]
["0_4.1_4",{"$f":"IF(COUNTIF(Validations!$AB$8:$AB$56,A46)=1,1,\"\")","v":""},null,4.1,4,"",{"$f":"IF(ISNA(VLOOKUP(D46,Rows[],4,FALSE)),\"\",VLOOKUP(D46,Rows[],4,FALSE))","v":"B2a - Anheddau gyda disgownt o 25% (ag eithrio eiddo gwag hirdymor ac ail gartrefi heb ddisgownt)"},{"$f":"IF(ISERROR(VLOOKUP($A46&\"_\"&H$10,qData1[],7,FALSE)),\"\",VLOOKUP($A46&\"_\"&H$10,qData1[],7,FALSE))","v":""},{"$f":"IF(ISERROR(VLOOKUP($A46&\"_\"&I$10,qData1[],7,FALSE)),0,VLOOKUP($A46&\"_\"&I$10,qData1[],7,FALSE))","v":0},0,0,0,{"$f":"IF(ISNA(VLOOKUP($D46&\"_\"&$E46,Tol[],6,FALSE)),$M$7,VLOOKUP($D46&\"_\"&$E46,Tol[],6,FALSE))","v":100},{"$f":"IF(ISNA(VLOOKUP($D46&\"_\"&$E46,Tol[],7,FALSE)),$N$7*100,VLOOKUP($D46&\"_\"&$E46,Tol[],7,FALSE)*100)","v":10},1,1,"","",null,"",null,null,{"$f":"IF(ISERROR(VLOOKUP($A46,#REF!,8,FALSE)),\"\",VLOOKUP($A46,#REF!,8,FALSE))","v":""},{"$f":"IF(ISERROR(VLOOKUP($A46,#REF!,9,FALSE)),\"\",VLOOKUP($A46,#REF!,9,FALSE))","v":""},{"$f":"IF(ISERROR(VLOOKUP($A46,#REF!,10,FALSE)),0,VLOOKUP($A46,#REF!,10,FALSE))","v":"00:00:00"}]
["0_4.1_5",{"$f":"IF(COUNTIF(Validations!$AB$8:$AB$56,A47)=1,1,\"\")","v":""},null,4.1,5,"",{"$f":"IF(ISNA(VLOOKUP(D47,Rows[],4,FALSE)),\"\",VLOOKUP(D47,Rows[],4,FALSE))","v":"B2a - Anheddau gyda disgownt o 25% (ag eithrio eiddo gwag hirdymor ac ail gartrefi heb ddisgownt)"},{"$f":"IF(ISERROR(VLOOKUP($A47&\"_\"&H$10,qData1[],7,FALSE)),\"\",VLOOKUP($A47&\"_\"&H$10,qData1[],7,FALSE))","v":""},{"$f":"IF(ISERROR(VLOOKUP($A47&\"_\"&I$10,qData1[],7,FALSE)),0,VLOOKUP($A47&\"_\"&I$10,qData1[],7,FALSE))","v":0},0,0,0,{"$f":"IF(ISNA(VLOOKUP($D47&\"_\"&$E47,Tol[],6,FALSE)),$M$7,VLOOKUP($D47&\"_\"&$E47,Tol[],6,FALSE))","v":100},{"$f":"IF(ISNA(VLOOKUP($D47&\"_\"&$E47,Tol[],7,FALSE)),$N$7*100,VLOOKUP($D47&\"_\"&$E47,Tol[],7,FALSE)*100)","v":10},1,1,"","",null,"",null,null,{"$f":"IF(ISERROR(VLOOKUP($A47,#REF!,8,FALSE)),\"\",VLOOKUP($A47,#REF!,8,FALSE))","v":""},{"$f":"IF(ISERROR(VLOOKUP($A47,#REF!,9,FALSE)),\"\",VLOOKUP($A47,#REF!,9,FALSE))","v":""},{"$f":"IF(ISERROR(VLOOKUP($A47,#REF!,10,FALSE)),0,VLOOKUP($A47,#REF!,10,FALSE))","v":"00:00:00"}]
["0_4.1_6",{"$f":"IF(COUNTIF(Validations!$AB$8:$AB$56,A48)=1,1,\"\")","v":""},null,4.1,6,"",{"$f":"IF(ISNA(VLOOKUP(D48,Rows[],4,FALSE)),\"\",VLOOKUP(D48,Rows[],4,FALSE))","v":"B2a - Anheddau gyda disgownt o 25% (ag eithrio eiddo gwag hirdymor ac ail gartrefi heb ddisgownt)"},{"$f":"IF(ISERROR(VLOOKUP($A48&\"_\"&H$10,qData1[],7,FALSE)),\"\",VLOOKUP($A48&\"_\"&H$10,qData1[],7,FALSE))","v":""},{"$f":"IF(ISERROR(VLOOKUP($A48&\"_\"&I$10,qData1[],7,FALSE)),0,VLOOKUP($A48&\"_\"&I$10,qData1[],7,FALSE))","v":0},0,0,0,{"$f":"IF(ISNA(VLOOKUP($D48&\"_\"&$E48,Tol[],6,FALSE)),$M$7,VLOOKUP($D48&\"_\"&$E48,Tol[],6,FALSE))","v":100},{"$f":"IF(ISNA(VLOOKUP($D48&\"_\"&$E48,Tol[],7,FALSE)),$N$7*100,VLOOKUP($D48&\"_\"&$E48,Tol[],7,FALSE)*100)","v":10},1,1,"","",null,"",null,null,{"$f":"IF(ISERROR(VLOOKUP($A48,#REF!,8,FALSE)),\"\",VLOOKUP($A48,#REF!,8,FALSE))","v":""},{"$f":"IF(ISERROR(VLOOKUP($A48,#REF!,9,FALSE)),\"\",VLOOKUP($A48,#REF!,9,FALSE))","v":""},{"$f":"IF(ISERROR(VLOOKUP($A48,#REF!,10,FALSE)),0,VLOOKUP($A48,#REF!,10,FALSE))","v":"00:00:00"}]
["0_4.1_7",{"$f":"IF(COUNTIF(Validations!$AB$8:$AB$56,A49)=1,1,\"\")","v":""},null,4.1,7,"",{"$f":"IF(ISNA(VLOOKUP(D49,Rows[],4,FALSE)),\"\",VLOOKUP(D49,Rows[],4,FALSE))","v":"B2a - Anheddau gyda disgownt o 25% (ag eithrio eiddo gwag hirdymor ac ail gartrefi heb ddisgownt)"},{"$f":"IF(ISERROR(VLOOKUP($A49&\"_\"&H$10,qData1[],7,FALSE)),\"\",VLOOKUP($A49&\"_\"&H$10,qData1[],7,FALSE))","v":""},{"$f":"IF(ISERROR(VLOOKUP($A49&\"_\"&I$10,qData1[],7,FALSE)),0,VLOOKUP($A49&\"_\"&I$10,qData1[],7,FALSE))","v":0},0,0,0,{"$f":"IF(ISNA(VLOOKUP($D49&\"_\"&$E49,Tol[],6,FALSE)),$M$7,VLOOKUP($D49&\"_\"&$E49,Tol[],6,FALSE))","v":100},{"$f":"IF(ISNA(VLOOKUP($D49&\"_\"&$E49,Tol[],7,FALSE)),$N$7*100,VLOOKUP($D49&\"_\"&$E49,Tol[],7,FALSE)*100)","v":10},1,1,"","",null,"",null,null,{"$f":"IF(ISERROR(VLOOKUP($A49,#REF!,8,FALSE)),\"\",VLOOKUP($A49,#REF!,8,FALSE))","v":""},{"$f":"IF(ISERROR(VLOOKUP($A49,#REF!,9,FALSE)),\"\",VLOOKUP($A49,#REF!,9,FALSE))","v":""},{"$f":"IF(ISERROR(VLOOKUP($A49,#REF!,10,FALSE)),0,VLOOKUP($A49,#REF!,10,FALSE))","v":"00:00:00"}]
["0_4.1_8",{"$f":"IF(COUNTIF(Validations!$AB$8:$AB$56,A50)=1,1,\"\")","v":""},null,4.1,8,"",{"$f":"IF(ISNA(VLOOKUP(D50,Rows[],4,FALSE)),\"\",VLOOKUP(D50,Rows[],4,FALSE))","v":"B2a - Anheddau gyda disgownt o 25% (ag eithrio eiddo gwag hirdymor ac ail gartrefi heb ddisgownt)"},{"$f":"IF(ISERROR(VLOOKUP($A50&\"_\"&H$10,qData1[],7,FALSE)),\"\",VLOOKUP($A50&\"_\"&H$10,qData1[],7,FALSE))","v":""},{"$f":"IF(ISERROR(VLOOKUP($A50&\"_\"&I$10,qData1[],7,FALSE)),0,VLOOKUP($A50&\"_\"&I$10,qData1[],7,FALSE))","v":0},0,0,0,{"$f":"IF(ISNA(VLOOKUP($D50&\"_\"&$E50,Tol[],6,FALSE)),$M$7,VLOOKUP($D50&\"_\"&$E50,Tol[],6,FALSE))","v":100},{"$f":"IF(ISNA(VLOOKUP($D50&\"_\"&$E50,Tol[],7,FALSE)),$N$7*100,VLOOKUP($D50&\"_\"&$E50,Tol[],7,FALSE)*100)","v":10},1,1,"","",null,"",null,null,{"$f":"IF(ISERROR(VLOOKUP($A50,#REF!,8,FALSE)),\"\",VLOOKUP($A50,#REF!,8,FALSE))","v":""},{"$f":"IF(ISERROR(VLOOKUP($A50,#REF!,9,FALSE)),\"\",VLOOKUP($A50,#REF!,9,FALSE))","v":""},{"$f":"IF(ISERROR(VLOOKUP($A50,#REF!,10,FALSE)),0,VLOOKUP($A50,#REF!,10,FALSE))","v":"00:00:00"}]
["0_4.1_9",{"$f":"IF(COUNTIF(Validations!$AB$8:$AB$56,A51)=1,1,\"\")","v":""},null,4.1,9,"",{"$f":"IF(ISNA(VLOOKUP(D51,Rows[],4,FALSE)),\"\",VLOOKUP(D51,Rows[],4,FALSE))","v":"B2a - Anheddau gyda disgownt o 25% (ag eithrio eiddo gwag hirdymor ac ail gartrefi heb ddisgownt)"},{"$f":"IF(ISERROR(VLOOKUP($A51&\"_\"&H$10,qData1[],7,FALSE)),\"\",VLOOKUP($A51&\"_\"&H$10,qData1[],7,FALSE))","v":""},{"$f":"IF(ISERROR(VLOOKUP($A51&\"_\"&I$10,qData1[],7,FALSE)),0,VLOOKUP($A51&\"_\"&I$10,qData1[],7,FALSE))","v":0},0,0,0,{"$f":"IF(ISNA(VLOOKUP($D51&\"_\"&$E51,Tol[],6,FALSE)),$M$7,VLOOKUP($D51&\"_\"&$E51,Tol[],6,FALSE))","v":100},{"$f":"IF(ISNA(VLOOKUP($D51&\"_\"&$E51,Tol[],7,FALSE)),$N$7*100,VLOOKUP($D51&\"_\"&$E51,Tol[],7,FALSE)*100)","v":10},1,1,"","",null,"",null,null,{"$f":"IF(ISERROR(VLOOKUP($A51,#REF!,8,FALSE)),\"\",VLOOKUP($A51,#REF!,8,FALSE))","v":""},{"$f":"IF(ISERROR(VLOOKUP($A51,#REF!,9,FALSE)),\"\",VLOOKUP($A51,#REF!,9,FALSE))","v":""},{"$f":"IF(ISERROR(VLOOKUP($A51,#REF!,10,FALSE)),0,VLOOKUP($A51,#REF!,10,FALSE))","v":"00:00:00"}]
["0_4.1_10",{"$f":"IF(COUNTIF(Validations!$AB$8:$AB$56,A52)=1,1,\"\")","v":""},null,4.1,10,"",{"$f":"IF(ISNA(VLOOKUP(D52,Rows[],4,FALSE)),\"\",VLOOKUP(D52,Rows[],4,FALSE))","v":"B2a - Anheddau gyda disgownt o 25% (ag eithrio eiddo gwag hirdymor ac ail gartrefi heb ddisgownt)"},{"$f":"IF(ISERROR(VLOOKUP($A52&\"_\"&H$10,qData1[],7,FALSE)),\"\",VLOOKUP($A52&\"_\"&H$10,qData1[],7,FALSE))","v":""},{"$f":"IF(ISERROR(VLOOKUP($A52&\"_\"&I$10,qData1[],7,FALSE)),0,VLOOKUP($A52&\"_\"&I$10,qData1[],7,FALSE))","v":0},0,0,0,{"$f":"IF(ISNA(VLOOKUP($D52&\"_\"&$E52,Tol[],6,FALSE)),$M$7,VLOOKUP($D52&\"_\"&$E52,Tol[],6,FALSE))","v":100},{"$f":"IF(ISNA(VLOOKUP($D52&\"_\"&$E52,Tol[],7,FALSE)),$N$7*100,VLOOKUP($D52&\"_\"&$E52,Tol[],7,FALSE)*100)","v":10},1,1,"","",null,"",null,null,{"$f":"IF(ISERROR(VLOOKUP($A52,#REF!,8,FALSE)),\"\",VLOOKUP($A52,#REF!,8,FALSE))","v":""},{"$f":"IF(ISERROR(VLOOKUP($A52,#REF!,9,FALSE)),\"\",VLOOKUP($A52,#REF!,9,FALSE))","v":""},{"$f":"IF(ISERROR(VLOOKUP($A52,#REF!,10,FALSE)),0,VLOOKUP($A52,#REF!,10,FALSE))","v":"00:00:00"}]
["0_4.1_11",{"$f":"IF(COUNTIF(Validations!$AB$8:$AB$56,A53)=1,1,\"\")","v":""},null,4.1,11,"T",{"$f":"IF(ISNA(VLOOKUP(D53,Rows[],4,FALSE)),\"\",VLOOKUP(D53,Rows[],4,FALSE))","v":"B2a - Anheddau gyda disgownt o 25% (ag eithrio eiddo gwag hirdymor ac ail gartrefi heb ddisgownt)"},{"$f":"IF(ISERROR(VLOOKUP($A53&\"_\"&H$10,qData1[],7,FALSE)),\"\",VLOOKUP($A53&\"_\"&H$10,qData1[],7,FALSE))","v":""},{"$f":"IF(ISERROR(VLOOKUP($A53&\"_\"&I$10,qData1[],7,FALSE)),0,VLOOKUP($A53&\"_\"&I$10,qData1[],7,FALSE))","v":0},0,0,0,{"$f":"IF(ISNA(VLOOKUP($D53&\"_\"&$E53,Tol[],6,FALSE)),$M$7,VLOOKUP($D53&\"_\"&$E53,Tol[],6,FALSE))","v":100},{"$f":"IF(ISNA(VLOOKUP($D53&\"_\"&$E53,Tol[],7,FALSE)),$N$7*100,VLOOKUP($D53&\"_\"&$E53,Tol[],7,FALSE)*100)","v":10},1,1,"","",null,"",null,null,{"$f":"IF(ISERROR(VLOOKUP($A53,#REF!,8,FALSE)),\"\",VLOOKUP($A53,#REF!,8,FALSE))","v":""},{"$f":"IF(ISERROR(VLOOKUP($A53,#REF!,9,FALSE)),\"\",VLOOKUP($A53,#REF!,9,FALSE))","v":""},{"$f":"IF(ISERROR(VLOOKUP($A53,#REF!,10,FALSE)),0,VLOOKUP($A53,#REF!,10,FALSE))","v":"00:00:00"}]
["0_4.2_1",{"$f":"IF(COUNTIF(Validations!$AB$8:$AB$56,A54)=1,1,\"\")","v":""},null,4.2,1,"",{"$f":"IF(ISNA(VLOOKUP(D54,Rows[],4,FALSE)),\"\",VLOOKUP(D54,Rows[],4,FALSE))","v":"B2b - Anheddau gyda disgownt o 50% (ag eithrio eiddo gwag hirdymor ac ail gartrefi heb ddisgownt)"},{"$f":"IF(ISERROR(VLOOKUP($A54&\"_\"&H$10,qData1[],7,FALSE)),\"\",VLOOKUP($A54&\"_\"&H$10,qData1[],7,FALSE))","v":""},{"$f":"IF(ISERROR(VLOOKUP($A54&\"_\"&I$10,qData1[],7,FALSE)),0,VLOOKUP($A54&\"_\"&I$10,qData1[],7,FALSE))","v":0},0,0,0,{"$f":"IF(ISNA(VLOOKUP($D54&\"_\"&$E54,Tol[],6,FALSE)),$M$7,VLOOKUP($D54&\"_\"&$E54,Tol[],6,FALSE))","v":100},{"$f":"IF(ISNA(VLOOKUP($D54&\"_\"&$E54,Tol[],7,FALSE)),$N$7*100,VLOOKUP($D54&\"_\"&$E54,Tol[],7,FALSE)*100)","v":10},1,1,"","",null,"",null,null,{"$f":"IF(ISERROR(VLOOKUP($A54,#REF!,8,FALSE)),\"\",VLOOKUP($A54,#REF!,8,FALSE))","v":""},{"$f":"IF(ISERROR(VLOOKUP($A54,#REF!,9,FALSE)),\"\",VLOOKUP($A54,#REF!,9,FALSE))","v":""},{"$f":"IF(ISERROR(VLOOKUP($A54,#REF!,10,FALSE)),0,VLOOKUP($A54,#REF!,10,FALSE))","v":"00:00:00"}]
["0_4.2_2",{"$f":"IF(COUNTIF(Validations!$AB$8:$AB$56,A55)=1,1,\"\")","v":""},null,4.2,2,"",{"$f":"IF(ISNA(VLOOKUP(D55,Rows[],4,FALSE)),\"\",VLOOKUP(D55,Rows[],4,FALSE))","v":"B2b - Anheddau gyda disgownt o 50% (ag eithrio eiddo gwag hirdymor ac ail gartrefi heb ddisgownt)"},{"$f":"IF(ISERROR(VLOOKUP($A55&\"_\"&H$10,qData1[],7,FALSE)),\"\",VLOOKUP($A55&\"_\"&H$10,qData1[],7,FALSE))","v":""},{"$f":"IF(ISERROR(VLOOKUP($A55&\"_\"&I$10,qData1[],7,FALSE)),0,VLOOKUP($A55&\"_\"&I$10,qData1[],7,FALSE))","v":0},0,0,0,{"$f":"IF(ISNA(VLOOKUP($D55&\"_\"&$E55,Tol[],6,FALSE)),$M$7,VLOOKUP($D55&\"_\"&$E55,Tol[],6,FALSE))","v":100},{"$f":"IF(ISNA(VLOOKUP($D55&\"_\"&$E55,Tol[],7,FALSE)),$N$7*100,VLOOKUP($D55&\"_\"&$E55,Tol[],7,FALSE)*100)","v":10},1,1,"","",null,"",null,null,{"$f":"IF(ISERROR(VLOOKUP($A55,#REF!,8,FALSE)),\"\",VLOOKUP($A55,#REF!,8,FALSE))","v":""},{"$f":"IF(ISERROR(VLOOKUP($A55,#REF!,9,FALSE)),\"\",VLOOKUP($A55,#REF!,9,FALSE))","v":""},{"$f":"IF(ISERROR(VLOOKUP($A55,#REF!,10,FALSE)),0,VLOOKUP($A55,#REF!,10,FALSE))","v":"00:00:00"}]
["0_4.2_3",{"$f":"IF(COUNTIF(Validations!$AB$8:$AB$56,A56)=1,1,\"\")","v":""},null,4.2,3,"",{"$f":"IF(ISNA(VLOOKUP(D56,Rows[],4,FALSE)),\"\",VLOOKUP(D56,Rows[],4,FALSE))","v":"B2b - Anheddau gyda disgownt o 50% (ag eithrio eiddo gwag hirdymor ac ail gartrefi heb ddisgownt)"},{"$f":"IF(ISERROR(VLOOKUP($A56&\"_\"&H$10,qData1[],7,FALSE)),\"\",VLOOKUP($A56&\"_\"&H$10,qData1[],7,FALSE))","v":""},{"$f":"IF(ISERROR(VLOOKUP($A56&\"_\"&I$10,qData1[],7,FALSE)),0,VLOOKUP($A56&\"_\"&I$10,qData1[],7,FALSE))","v":0},0,0,0,{"$f":"IF(ISNA(VLOOKUP($D56&\"_\"&$E56,Tol[],6,FALSE)),$M$7,VLOOKUP($D56&\"_\"&$E56,Tol[],6,FALSE))","v":100},{"$f":"IF(ISNA(VLOOKUP($D56&\"_\"&$E56,Tol[],7,FALSE)),$N$7*100,VLOOKUP($D56&\"_\"&$E56,Tol[],7,FALSE)*100)","v":10},1,1,"","",null,"",null,null,{"$f":"IF(ISERROR(VLOOKUP($A56,#REF!,8,FALSE)),\"\",VLOOKUP($A56,#REF!,8,FALSE))","v":""},{"$f":"IF(ISERROR(VLOOKUP($A56,#REF!,9,FALSE)),\"\",VLOOKUP($A56,#REF!,9,FALSE))","v":""},{"$f":"IF(ISERROR(VLOOKUP($A56,#REF!,10,FALSE)),0,VLOOKUP($A56,#REF!,10,FALSE))","v":"00:00:00"}]
["0_4.2_4",{"$f":"IF(COUNTIF(Validations!$AB$8:$AB$56,A57)=1,1,\"\")","v":""},null,4.2,4,"",{"$f":"IF(ISNA(VLOOKUP(D57,Rows[],4,FALSE)),\"\",VLOOKUP(D57,Rows[],4,FALSE))","v":"B2b - Anheddau gyda disgownt o 50% (ag eithrio eiddo gwag hirdymor ac ail gartrefi heb ddisgownt)"},{"$f":"IF(ISERROR(VLOOKUP($A57&\"_\"&H$10,qData1[],7,FALSE)),\"\",VLOOKUP($A57&\"_\"&H$10,qData1[],7,FALSE))","v":""},{"$f":"IF(ISERROR(VLOOKUP($A57&\"_\"&I$10,qData1[],7,FALSE)),0,VLOOKUP($A57&\"_\"&I$10,qData1[],7,FALSE))","v":0},0,0,0,{"$f":"IF(ISNA(VLOOKUP($D57&\"_\"&$E57,Tol[],6,FALSE)),$M$7,VLOOKUP($D57&\"_\"&$E57,Tol[],6,FALSE))","v":100},{"$f":"IF(ISNA(VLOOKUP($D57&\"_\"&$E57,Tol[],7,FALSE)),$N$7*100,VLOOKUP($D57&\"_\"&$E57,Tol[],7,FALSE)*100)","v":10},1,1,"","",null,"",null,null,{"$f":"IF(ISERROR(VLOOKUP($A57,#REF!,8,FALSE)),\"\",VLOOKUP($A57,#REF!,8,FALSE))","v":""},{"$f":"IF(ISERROR(VLOOKUP($A57,#REF!,9,FALSE)),\"\",VLOOKUP($A57,#REF!,9,FALSE))","v":""},{"$f":"IF(ISERROR(VLOOKUP($A57,#REF!,10,FALSE)),0,VLOOKUP($A57,#REF!,10,FALSE))","v":"00:00:00"}]
["0_4.2_5",{"$f":"IF(COUNTIF(Validations!$AB$8:$AB$56,A58)=1,1,\"\")","v":""},null,4.2,5,"",{"$f":"IF(ISNA(VLOOKUP(D58,Rows[],4,FALSE)),\"\",VLOOKUP(D58,Rows[],4,FALSE))","v":"B2b - Anheddau gyda disgownt o 50% (ag eithrio eiddo gwag hirdymor ac ail gartrefi heb ddisgownt)"},{"$f":"IF(ISERROR(VLOOKUP($A58&\"_\"&H$10,qData1[],7,FALSE)),\"\",VLOOKUP($A58&\"_\"&H$10,qData1[],7,FALSE))","v":""},{"$f":"IF(ISERROR(VLOOKUP($A58&\"_\"&I$10,qData1[],7,FALSE)),0,VLOOKUP($A58&\"_\"&I$10,qData1[],7,FALSE))","v":0},0,0,0,{"$f":"IF(ISNA(VLOOKUP($D58&\"_\"&$E58,Tol[],6,FALSE)),$M$7,VLOOKUP($D58&\"_\"&$E58,Tol[],6,FALSE))","v":100},{"$f":"IF(ISNA(VLOOKUP($D58&\"_\"&$E58,Tol[],7,FALSE)),$N$7*100,VLOOKUP($D58&\"_\"&$E58,Tol[],7,FALSE)*100)","v":10},1,1,"","",null,"",null,null,{"$f":"IF(ISERROR(VLOOKUP($A58,#REF!,8,FALSE)),\"\",VLOOKUP($A58,#REF!,8,FALSE))","v":""},{"$f":"IF(ISERROR(VLOOKUP($A58,#REF!,9,FALSE)),\"\",VLOOKUP($A58,#REF!,9,FALSE))","v":""},{"$f":"IF(ISERROR(VLOOKUP($A58,#REF!,10,FALSE)),0,VLOOKUP($A58,#REF!,10,FALSE))","v":"00:00:00"}]
["0_4.2_6",{"$f":"IF(COUNTIF(Validations!$AB$8:$AB$56,A59)=1,1,\"\")","v":""},null,4.2,6,"",{"$f":"IF(ISNA(VLOOKUP(D59,Rows[],4,FALSE)),\"\",VLOOKUP(D59,Rows[],4,FALSE))","v":"B2b - Anheddau gyda disgownt o 50% (ag eithrio eiddo gwag hirdymor ac ail gartrefi heb ddisgownt)"},{"$f":"IF(ISERROR(VLOOKUP($A59&\"_\"&H$10,qData1[],7,FALSE)),\"\",VLOOKUP($A59&\"_\"&H$10,qData1[],7,FALSE))","v":""},{"$f":"IF(ISERROR(VLOOKUP($A59&\"_\"&I$10,qData1[],7,FALSE)),0,VLOOKUP($A59&\"_\"&I$10,qData1[],7,FALSE))","v":0},0,0,0,{"$f":"IF(ISNA(VLOOKUP($D59&\"_\"&$E59,Tol[],6,FALSE)),$M$7,VLOOKUP($D59&\"_\"&$E59,Tol[],6,FALSE))","v":100},{"$f":"IF(ISNA(VLOOKUP($D59&\"_\"&$E59,Tol[],7,FALSE)),$N$7*100,VLOOKUP($D59&\"_\"&$E59,Tol[],7,FALSE)*100)","v":10},1,1,"","",null,"",null,null,{"$f":"IF(ISERROR(VLOOKUP($A59,#REF!,8,FALSE)),\"\",VLOOKUP($A59,#REF!,8,FALSE))","v":""},{"$f":"IF(ISERROR(VLOOKUP($A59,#REF!,9,FALSE)),\"\",VLOOKUP($A59,#REF!,9,FALSE))","v":""},{"$f":"IF(ISERROR(VLOOKUP($A59,#REF!,10,FALSE)),0,VLOOKUP($A59,#REF!,10,FALSE))","v":"00:00:00"}]
["0_4.2_7",{"$f":"IF(COUNTIF(Validations!$AB$8:$AB$56,A60)=1,1,\"\")","v":""},null,4.2,7,"",{"$f":"IF(ISNA(VLOOKUP(D60,Rows[],4,FALSE)),\"\",VLOOKUP(D60,Rows[],4,FALSE))","v":"B2b - Anheddau gyda disgownt o 50% (ag eithrio eiddo gwag hirdymor ac ail gartrefi heb ddisgownt)"},{"$f":"IF(ISERROR(VLOOKUP($A60&\"_\"&H$10,qData1[],7,FALSE)),\"\",VLOOKUP($A60&\"_\"&H$10,qData1[],7,FALSE))","v":""},{"$f":"IF(ISERROR(VLOOKUP($A60&\"_\"&I$10,qData1[],7,FALSE)),0,VLOOKUP($A60&\"_\"&I$10,qData1[],7,FALSE))","v":0},0,0,0,{"$f":"IF(ISNA(VLOOKUP($D60&\"_\"&$E60,Tol[],6,FALSE)),$M$7,VLOOKUP($D60&\"_\"&$E60,Tol[],6,FALSE))","v":100},{"$f":"IF(ISNA(VLOOKUP($D60&\"_\"&$E60,Tol[],7,FALSE)),$N$7*100,VLOOKUP($D60&\"_\"&$E60,Tol[],7,FALSE)*100)","v":10},1,1,"","",null,"",null,null,{"$f":"IF(ISERROR(VLOOKUP($A60,#REF!,8,FALSE)),\"\",VLOOKUP($A60,#REF!,8,FALSE))","v":""},{"$f":"IF(ISERROR(VLOOKUP($A60,#REF!,9,FALSE)),\"\",VLOOKUP($A60,#REF!,9,FALSE))","v":""},{"$f":"IF(ISERROR(VLOOKUP($A60,#REF!,10,FALSE)),0,VLOOKUP($A60,#REF!,10,FALSE))","v":"00:00:00"}]
["0_4.2_8",{"$f":"IF(COUNTIF(Validations!$AB$8:$AB$56,A61)=1,1,\"\")","v":""},null,4.2,8,"",{"$f":"IF(ISNA(VLOOKUP(D61,Rows[],4,FALSE)),\"\",VLOOKUP(D61,Rows[],4,FALSE))","v":"B2b - Anheddau gyda disgownt o 50% (ag eithrio eiddo gwag hirdymor ac ail gartrefi heb ddisgownt)"},{"$f":"IF(ISERROR(VLOOKUP($A61&\"_\"&H$10,qData1[],7,FALSE)),\"\",VLOOKUP($A61&\"_\"&H$10,qData1[],7,FALSE))","v":""},{"$f":"IF(ISERROR(VLOOKUP($A61&\"_\"&I$10,qData1[],7,FALSE)),0,VLOOKUP($A61&\"_\"&I$10,qData1[],7,FALSE))","v":0},0,0,0,{"$f":"IF(ISNA(VLOOKUP($D61&\"_\"&$E61,Tol[],6,FALSE)),$M$7,VLOOKUP($D61&\"_\"&$E61,Tol[],6,FALSE))","v":100},{"$f":"IF(ISNA(VLOOKUP($D61&\"_\"&$E61,Tol[],7,FALSE)),$N$7*100,VLOOKUP($D61&\"_\"&$E61,Tol[],7,FALSE)*100)","v":10},1,1,"","",null,"",null,null,{"$f":"IF(ISERROR(VLOOKUP($A61,#REF!,8,FALSE)),\"\",VLOOKUP($A61,#REF!,8,FALSE))","v":""},{"$f":"IF(ISERROR(VLOOKUP($A61,#REF!,9,FALSE)),\"\",VLOOKUP($A61,#REF!,9,FALSE))","v":""},{"$f":"IF(ISERROR(VLOOKUP($A61,#REF!,10,FALSE)),0,VLOOKUP($A61,#REF!,10,FALSE))","v":"00:00:00"}]
["0_4.2_9",{"$f":"IF(COUNTIF(Validations!$AB$8:$AB$56,A62)=1,1,\"\")","v":""},null,4.2,9,"",{"$f":"IF(ISNA(VLOOKUP(D62,Rows[],4,FALSE)),\"\",VLOOKUP(D62,Rows[],4,FALSE))","v":"B2b - Anheddau gyda disgownt o 50% (ag eithrio eiddo gwag hirdymor ac ail gartrefi heb ddisgownt)"},{"$f":"IF(ISERROR(VLOOKUP($A62&\"_\"&H$10,qData1[],7,FALSE)),\"\",VLOOKUP($A62&\"_\"&H$10,qData1[],7,FALSE))","v":""},{"$f":"IF(ISERROR(VLOOKUP($A62&\"_\"&I$10,qData1[],7,FALSE)),0,VLOOKUP($A62&\"_\"&I$10,qData1[],7,FALSE))","v":0},0,0,0,{"$f":"IF(ISNA(VLOOKUP($D62&\"_\"&$E62,Tol[],6,FALSE)),$M$7,VLOOKUP($D62&\"_\"&$E62,Tol[],6,FALSE))","v":100},{"$f":"IF(ISNA(VLOOKUP($D62&\"_\"&$E62,Tol[],7,FALSE)),$N$7*100,VLOOKUP($D62&\"_\"&$E62,Tol[],7,FALSE)*100)","v":10},1,1,"","",null,"",null,null,{"$f":"IF(ISERROR(VLOOKUP($A62,#REF!,8,FALSE)),\"\",VLOOKUP($A62,#REF!,8,FALSE))","v":""},{"$f":"IF(ISERROR(VLOOKUP($A62,#REF!,9,FALSE)),\"\",VLOOKUP($A62,#REF!,9,FALSE))","v":""},{"$f":"IF(ISERROR(VLOOKUP($A62,#REF!,10,FALSE)),0,VLOOKUP($A62,#REF!,10,FALSE))","v":"00:00:00"}]
["0_4.2_10",{"$f":"IF(COUNTIF(Validations!$AB$8:$AB$56,A63)=1,1,\"\")","v":""},null,4.2,10,"",{"$f":"IF(ISNA(VLOOKUP(D63,Rows[],4,FALSE)),\"\",VLOOKUP(D63,Rows[],4,FALSE))","v":"B2b - Anheddau gyda disgownt o 50% (ag eithrio eiddo gwag hirdymor ac ail gartrefi heb ddisgownt)"},{"$f":"IF(ISERROR(VLOOKUP($A63&\"_\"&H$10,qData1[],7,FALSE)),\"\",VLOOKUP($A63&\"_\"&H$10,qData1[],7,FALSE))","v":""},{"$f":"IF(ISERROR(VLOOKUP($A63&\"_\"&I$10,qData1[],7,FALSE)),0,VLOOKUP($A63&\"_\"&I$10,qData1[],7,FALSE))","v":0},0,0,0,{"$f":"IF(ISNA(VLOOKUP($D63&\"_\"&$E63,Tol[],6,FALSE)),$M$7,VLOOKUP($D63&\"_\"&$E63,Tol[],6,FALSE))","v":100},{"$f":"IF(ISNA(VLOOKUP($D63&\"_\"&$E63,Tol[],7,FALSE)),$N$7*100,VLOOKUP($D63&\"_\"&$E63,Tol[],7,FALSE)*100)","v":10},1,1,"","",null,"",null,null,{"$f":"IF(ISERROR(VLOOKUP($A63,#REF!,8,FALSE)),\"\",VLOOKUP($A63,#REF!,8,FALSE))","v":""},{"$f":"IF(ISERROR(VLOOKUP($A63,#REF!,9,FALSE)),\"\",VLOOKUP($A63,#REF!,9,FALSE))","v":""},{"$f":"IF(ISERROR(VLOOKUP($A63,#REF!,10,FALSE)),0,VLOOKUP($A63,#REF!,10,FALSE))","v":"00:00:00"}]
["0_4.2_11",{"$f":"IF(COUNTIF(Validations!$AB$8:$AB$56,A64)=1,1,\"\")","v":""},null,4.2,11,"T",{"$f":"IF(ISNA(VLOOKUP(D64,Rows[],4,FALSE)),\"\",VLOOKUP(D64,Rows[],4,FALSE))","v":"B2b - Anheddau gyda disgownt o 50% (ag eithrio eiddo gwag hirdymor ac ail gartrefi heb ddisgownt)"},{"$f":"IF(ISERROR(VLOOKUP($A64&\"_\"&H$10,qData1[],7,FALSE)),\"\",VLOOKUP($A64&\"_\"&H$10,qData1[],7,FALSE))","v":""},{"$f":"IF(ISERROR(VLOOKUP($A64&\"_\"&I$10,qData1[],7,FALSE)),0,VLOOKUP($A64&\"_\"&I$10,qData1[],7,FALSE))","v":0},0,0,0,{"$f":"IF(ISNA(VLOOKUP($D64&\"_\"&$E64,Tol[],6,FALSE)),$M$7,VLOOKUP($D64&\"_\"&$E64,Tol[],6,FALSE))","v":100},{"$f":"IF(ISNA(VLOOKUP($D64&\"_\"&$E64,Tol[],7,FALSE)),$N$7*100,VLOOKUP($D64&\"_\"&$E64,Tol[],7,FALSE)*100)","v":10},1,1,"","",null,"",null,null,{"$f":"IF(ISERROR(VLOOKUP($A64,#REF!,8,FALSE)),\"\",VLOOKUP($A64,#REF!,8,FALSE))","v":""},{"$f":"IF(ISERROR(VLOOKUP($A64,#REF!,9,FALSE)),\"\",VLOOKUP($A64,#REF!,9,FALSE))","v":""},{"$f":"IF(ISERROR(VLOOKUP($A64,#REF!,10,FALSE)),0,VLOOKUP($A64,#REF!,10,FALSE))","v":"00:00:00"}]
["0_8_1",{"$f":"IF(COUNTIF(Validations!$AB$8:$AB$56,A65)=1,1,\"\")","v":""},null,8,1,"T",{"$f":"IF(ISNA(VLOOKUP(D65,Rows[],4,FALSE)),\"\",VLOOKUP(D65,Rows[],4,FALSE))","v":"B4 - Cyfanswm yr anheddau a addaswyd sydd yn daladwy (cyfanswm o B1 i B3c=A3)"},{"$f":"IF(ISERROR(VLOOKUP($A65&\"_\"&H$10,qData1[],7,FALSE)),\"\",VLOOKUP($A65&\"_\"&H$10,qData1[],7,FALSE))","v":""},{"$f":"IF(ISERROR(VLOOKUP($A65&\"_\"&I$10,qData1[],7,FALSE)),0,VLOOKUP($A65&\"_\"&I$10,qData1[],7,FALSE))","v":0},0,0,0,{"$f":"IF(ISNA(VLOOKUP($D65&\"_\"&$E65,Tol[],6,FALSE)),$M$7,VLOOKUP($D65&\"_\"&$E65,Tol[],6,FALSE))","v":100},{"$f":"IF(ISNA(VLOOKUP($D65&\"_\"&$E65,Tol[],7,FALSE)),$N$7*100,VLOOKUP($D65&\"_\"&$E65,Tol[],7,FALSE)*100)","v":10},1,1,"","",null,"",null,null,{"$f":"IF(ISERROR(VLOOKUP($A65,#REF!,8,FALSE)),\"\",VLOOKUP($A65,#REF!,8,FALSE))","v":""},{"$f":"IF(ISERROR(VLOOKUP($A65,#REF!,9,FALSE)),\"\",VLOOKUP($A65,#REF!,9,FALSE))","v":""},{"$f":"IF(ISERROR(VLOOKUP($A65,#REF!,10,FALSE)),0,VLOOKUP($A65,#REF!,10,FALSE))","v":"00:00:00"}]
["0_8_2",{"$f":"IF(COUNTIF(Validations!$AB$8:$AB$56,A66)=1,1,\"\")","v":""},null,8,2,"T",{"$f":"IF(ISNA(VLOOKUP(D66,Rows[],4,FALSE)),\"\",VLOOKUP(D66,Rows[],4,FALSE))","v":"B4 - Cyfanswm yr anheddau a addaswyd sydd yn daladwy (cyfanswm o B1 i B3c=A3)"},{"$f":"IF(ISERROR(VLOOKUP($A66&\"_\"&H$10,qData1[],7,FALSE)),\"\",VLOOKUP($A66&\"_\"&H$10,qData1[],7,FALSE))","v":""},{"$f":"IF(ISERROR(VLOOKUP($A66&\"_\"&I$10,qData1[],7,FALSE)),0,VLOOKUP($A66&\"_\"&I$10,qData1[],7,FALSE))","v":0},0,0,0,{"$f":"IF(ISNA(VLOOKUP($D66&\"_\"&$E66,Tol[],6,FALSE)),$M$7,VLOOKUP($D66&\"_\"&$E66,Tol[],6,FALSE))","v":100},{"$f":"IF(ISNA(VLOOKUP($D66&\"_\"&$E66,Tol[],7,FALSE)),$N$7*100,VLOOKUP($D66&\"_\"&$E66,Tol[],7,FALSE)*100)","v":10},1,1,"","",null,"",null,null,{"$f":"IF(ISERROR(VLOOKUP($A66,#REF!,8,FALSE)),\"\",VLOOKUP($A66,#REF!,8,FALSE))","v":""},{"$f":"IF(ISERROR(VLOOKUP($A66,#REF!,9,FALSE)),\"\",VLOOKUP($A66,#REF!,9,FALSE))","v":""},{"$f":"IF(ISERROR(VLOOKUP($A66,#REF!,10,FALSE)),0,VLOOKUP($A66,#REF!,10,FALSE))","v":"00:00:00"}]
["0_8_3",{"$f":"IF(COUNTIF(Validations!$AB$8:$AB$56,A67)=1,1,\"\")","v":""},null,8,3,"T",{"$f":"IF(ISNA(VLOOKUP(D67,Rows[],4,FALSE)),\"\",VLOOKUP(D67,Rows[],4,FALSE))","v":"B4 - Cyfanswm yr anheddau a addaswyd sydd yn daladwy (cyfanswm o B1 i B3c=A3)"},{"$f":"IF(ISERROR(VLOOKUP($A67&\"_\"&H$10,qData1[],7,FALSE)),\"\",VLOOKUP($A67&\"_\"&H$10,qData1[],7,FALSE))","v":""},{"$f":"IF(ISERROR(VLOOKUP($A67&\"_\"&I$10,qData1[],7,FALSE)),0,VLOOKUP($A67&\"_\"&I$10,qData1[],7,FALSE))","v":0},0,0,0,{"$f":"IF(ISNA(VLOOKUP($D67&\"_\"&$E67,Tol[],6,FALSE)),$M$7,VLOOKUP($D67&\"_\"&$E67,Tol[],6,FALSE))","v":100},{"$f":"IF(ISNA(VLOOKUP($D67&\"_\"&$E67,Tol[],7,FALSE)),$N$7*100,VLOOKUP($D67&\"_\"&$E67,Tol[],7,FALSE)*100)","v":10},1,1,"","",null,"",null,null,{"$f":"IF(ISERROR(VLOOKUP($A67,#REF!,8,FALSE)),\"\",VLOOKUP($A67,#REF!,8,FALSE))","v":""},{"$f":"IF(ISERROR(VLOOKUP($A67,#REF!,9,FALSE)),\"\",VLOOKUP($A67,#REF!,9,FALSE))","v":""},{"$f":"IF(ISERROR(VLOOKUP($A67,#REF!,10,FALSE)),0,VLOOKUP($A67,#REF!,10,FALSE))","v":"00:00:00"}]
["0_8_4",{"$f":"IF(COUNTIF(Validations!$AB$8:$AB$56,A68)=1,1,\"\")","v":""},null,8,4,"T",{"$f":"IF(ISNA(VLOOKUP(D68,Rows[],4,FALSE)),\"\",VLOOKUP(D68,Rows[],4,FALSE))","v":"B4 - Cyfanswm yr anheddau a addaswyd sydd yn daladwy (cyfanswm o B1 i B3c=A3)"},{"$f":"IF(ISERROR(VLOOKUP($A68&\"_\"&H$10,qData1[],7,FALSE)),\"\",VLOOKUP($A68&\"_\"&H$10,qData1[],7,FALSE))","v":""},{"$f":"IF(ISERROR(VLOOKUP($A68&\"_\"&I$10,qData1[],7,FALSE)),0,VLOOKUP($A68&\"_\"&I$10,qData1[],7,FALSE))","v":0},0,0,0,{"$f":"IF(ISNA(VLOOKUP($D68&\"_\"&$E68,Tol[],6,FALSE)),$M$7,VLOOKUP($D68&\"_\"&$E68,Tol[],6,FALSE))","v":100},{"$f":"IF(ISNA(VLOOKUP($D68&\"_\"&$E68,Tol[],7,FALSE)),$N$7*100,VLOOKUP($D68&\"_\"&$E68,Tol[],7,FALSE)*100)","v":10},1,1,"","",null,"",null,null,{"$f":"IF(ISERROR(VLOOKUP($A68,#REF!,8,FALSE)),\"\",VLOOKUP($A68,#REF!,8,FALSE))","v":""},{"$f":"IF(ISERROR(VLOOKUP($A68,#REF!,9,FALSE)),\"\",VLOOKUP($A68,#REF!,9,FALSE))","v":""},{"$f":"IF(ISERROR(VLOOKUP($A68,#REF!,10,FALSE)),0,VLOOKUP($A68,#REF!,10,FALSE))","v":"00:00:00"}]
["0_8_5",{"$f":"IF(COUNTIF(Validations!$AB$8:$AB$56,A69)=1,1,\"\")","v":""},null,8,5,"T",{"$f":"IF(ISNA(VLOOKUP(D69,Rows[],4,FALSE)),\"\",VLOOKUP(D69,Rows[],4,FALSE))","v":"B4 - Cyfanswm yr anheddau a addaswyd sydd yn daladwy (cyfanswm o B1 i B3c=A3)"},{"$f":"IF(ISERROR(VLOOKUP($A69&\"_\"&H$10,qData1[],7,FALSE)),\"\",VLOOKUP($A69&\"_\"&H$10,qData1[],7,FALSE))","v":""},{"$f":"IF(ISERROR(VLOOKUP($A69&\"_\"&I$10,qData1[],7,FALSE)),0,VLOOKUP($A69&\"_\"&I$10,qData1[],7,FALSE))","v":0},0,0,0,{"$f":"IF(ISNA(VLOOKUP($D69&\"_\"&$E69,Tol[],6,FALSE)),$M$7,VLOOKUP($D69&\"_\"&$E69,Tol[],6,FALSE))","v":100},{"$f":"IF(ISNA(VLOOKUP($D69&\"_\"&$E69,Tol[],7,FALSE)),$N$7*100,VLOOKUP($D69&\"_\"&$E69,Tol[],7,FALSE)*100)","v":10},1,1,"","",null,"",null,null,{"$f":"IF(ISERROR(VLOOKUP($A69,#REF!,8,FALSE)),\"\",VLOOKUP($A69,#REF!,8,FALSE))","v":""},{"$f":"IF(ISERROR(VLOOKUP($A69,#REF!,9,FALSE)),\"\",VLOOKUP($A69,#REF!,9,FALSE))","v":""},{"$f":"IF(ISERROR(VLOOKUP($A69,#REF!,10,FALSE)),0,VLOOKUP($A69,#REF!,10,FALSE))","v":"00:00:00"}]
["0_8_6",{"$f":"IF(COUNTIF(Validations!$AB$8:$AB$56,A70)=1,1,\"\")","v":""},null,8,6,"T",{"$f":"IF(ISNA(VLOOKUP(D70,Rows[],4,FALSE)),\"\",VLOOKUP(D70,Rows[],4,FALSE))","v":"B4 - Cyfanswm yr anheddau a addaswyd sydd yn daladwy (cyfanswm o B1 i B3c=A3)"},{"$f":"IF(ISERROR(VLOOKUP($A70&\"_\"&H$10,qData1[],7,FALSE)),\"\",VLOOKUP($A70&\"_\"&H$10,qData1[],7,FALSE))","v":""},{"$f":"IF(ISERROR(VLOOKUP($A70&\"_\"&I$10,qData1[],7,FALSE)),0,VLOOKUP($A70&\"_\"&I$10,qData1[],7,FALSE))","v":0},0,0,0,{"$f":"IF(ISNA(VLOOKUP($D70&\"_\"&$E70,Tol[],6,FALSE)),$M$7,VLOOKUP($D70&\"_\"&$E70,Tol[],6,FALSE))","v":100},{"$f":"IF(ISNA(VLOOKUP($D70&\"_\"&$E70,Tol[],7,FALSE)),$N$7*100,VLOOKUP($D70&\"_\"&$E70,Tol[],7,FALSE)*100)","v":10},1,1,"","",null,"",null,null,{"$f":"IF(ISERROR(VLOOKUP($A70,#REF!,8,FALSE)),\"\",VLOOKUP($A70,#REF!,8,FALSE))","v":""},{"$f":"IF(ISERROR(VLOOKUP($A70,#REF!,9,FALSE)),\"\",VLOOKUP($A70,#REF!,9,FALSE))","v":""},{"$f":"IF(ISERROR(VLOOKUP($A70,#REF!,10,FALSE)),0,VLOOKUP($A70,#REF!,10,FALSE))","v":"00:00:00"}]
["0_8_7",{"$f":"IF(COUNTIF(Validations!$AB$8:$AB$56,A71)=1,1,\"\")","v":""},null,8,7,"T",{"$f":"IF(ISNA(VLOOKUP(D71,Rows[],4,FALSE)),\"\",VLOOKUP(D71,Rows[],4,FALSE))","v":"B4 - Cyfanswm yr anheddau a addaswyd sydd yn daladwy (cyfanswm o B1 i B3c=A3)"},{"$f":"IF(ISERROR(VLOOKUP($A71&\"_\"&H$10,qData1[],7,FALSE)),\"\",VLOOKUP($A71&\"_\"&H$10,qData1[],7,FALSE))","v":""},{"$f":"IF(ISERROR(VLOOKUP($A71&\"_\"&I$10,qData1[],7,FALSE)),0,VLOOKUP($A71&\"_\"&I$10,qData1[],7,FALSE))","v":0},0,0,0,{"$f":"IF(ISNA(VLOOKUP($D71&\"_\"&$E71,Tol[],6,FALSE)),$M$7,VLOOKUP($D71&\"_\"&$E71,Tol[],6,FALSE))","v":100},{"$f":"IF(ISNA(VLOOKUP($D71&\"_\"&$E71,Tol[],7,FALSE)),$N$7*100,VLOOKUP($D71&\"_\"&$E71,Tol[],7,FALSE)*100)","v":10},1,1,"","",null,"",null,null,{"$f":"IF(ISERROR(VLOOKUP($A71,#REF!,8,FALSE)),\"\",VLOOKUP($A71,#REF!,8,FALSE))","v":""},{"$f":"IF(ISERROR(VLOOKUP($A71,#REF!,9,FALSE)),\"\",VLOOKUP($A71,#REF!,9,FALSE))","v":""},{"$f":"IF(ISERROR(VLOOKUP($A71,#REF!,10,FALSE)),0,VLOOKUP($A71,#REF!,10,FALSE))","v":"00:00:00"}]
["0_8_8",{"$f":"IF(COUNTIF(Validations!$AB$8:$AB$56,A72)=1,1,\"\")","v":""},null,8,8,"T",{"$f":"IF(ISNA(VLOOKUP(D72,Rows[],4,FALSE)),\"\",VLOOKUP(D72,Rows[],4,FALSE))","v":"B4 - Cyfanswm yr anheddau a addaswyd sydd yn daladwy (cyfanswm o B1 i B3c=A3)"},{"$f":"IF(ISERROR(VLOOKUP($A72&\"_\"&H$10,qData1[],7,FALSE)),\"\",VLOOKUP($A72&\"_\"&H$10,qData1[],7,FALSE))","v":""},{"$f":"IF(ISERROR(VLOOKUP($A72&\"_\"&I$10,qData1[],7,FALSE)),0,VLOOKUP($A72&\"_\"&I$10,qData1[],7,FALSE))","v":0},0,0,0,{"$f":"IF(ISNA(VLOOKUP($D72&\"_\"&$E72,Tol[],6,FALSE)),$M$7,VLOOKUP($D72&\"_\"&$E72,Tol[],6,FALSE))","v":100},{"$f":"IF(ISNA(VLOOKUP($D72&\"_\"&$E72,Tol[],7,FALSE)),$N$7*100,VLOOKUP($D72&\"_\"&$E72,Tol[],7,FALSE)*100)","v":10},1,1,"","",null,"",null,null,{"$f":"IF(ISERROR(VLOOKUP($A72,#REF!,8,FALSE)),\"\",VLOOKUP($A72,#REF!,8,FALSE))","v":""},{"$f":"IF(ISERROR(VLOOKUP($A72,#REF!,9,FALSE)),\"\",VLOOKUP($A72,#REF!,9,FALSE))","v":""},{"$f":"IF(ISERROR(VLOOKUP($A72,#REF!,10,FALSE)),0,VLOOKUP($A72,#REF!,10,FALSE))","v":"00:00:00"}]
["0_8_9",{"$f":"IF(COUNTIF(Validations!$AB$8:$AB$56,A73)=1,1,\"\")","v":""},null,8,9,"T",{"$f":"IF(ISNA(VLOOKUP(D73,Rows[],4,FALSE)),\"\",VLOOKUP(D73,Rows[],4,FALSE))","v":"B4 - Cyfanswm yr anheddau a addaswyd sydd yn daladwy (cyfanswm o B1 i B3c=A3)"},{"$f":"IF(ISERROR(VLOOKUP($A73&\"_\"&H$10,qData1[],7,FALSE)),\"\",VLOOKUP($A73&\"_\"&H$10,qData1[],7,FALSE))","v":""},{"$f":"IF(ISERROR(VLOOKUP($A73&\"_\"&I$10,qData1[],7,FALSE)),0,VLOOKUP($A73&\"_\"&I$10,qData1[],7,FALSE))","v":0},0,0,0,{"$f":"IF(ISNA(VLOOKUP($D73&\"_\"&$E73,Tol[],6,FALSE)),$M$7,VLOOKUP($D73&\"_\"&$E73,Tol[],6,FALSE))","v":100},{"$f":"IF(ISNA(VLOOKUP($D73&\"_\"&$E73,Tol[],7,FALSE)),$N$7*100,VLOOKUP($D73&\"_\"&$E73,Tol[],7,FALSE)*100)","v":10},1,1,"","",null,"",null,null,{"$f":"IF(ISERROR(VLOOKUP($A73,#REF!,8,FALSE)),\"\",VLOOKUP($A73,#REF!,8,FALSE))","v":""},{"$f":"IF(ISERROR(VLOOKUP($A73,#REF!,9,FALSE)),\"\",VLOOKUP($A73,#REF!,9,FALSE))","v":""},{"$f":"IF(ISERROR(VLOOKUP($A73,#REF!,10,FALSE)),0,VLOOKUP($A73,#REF!,10,FALSE))","v":"00:00:00"}]
["0_8_10",{"$f":"IF(COUNTIF(Validations!$AB$8:$AB$56,A74)=1,1,\"\")","v":""},null,8,10,"T",{"$f":"IF(ISNA(VLOOKUP(D74,Rows[],4,FALSE)),\"\",VLOOKUP(D74,Rows[],4,FALSE))","v":"B4 - Cyfanswm yr anheddau a addaswyd sydd yn daladwy (cyfanswm o B1 i B3c=A3)"},{"$f":"IF(ISERROR(VLOOKUP($A74&\"_\"&H$10,qData1[],7,FALSE)),\"\",VLOOKUP($A74&\"_\"&H$10,qData1[],7,FALSE))","v":""},{"$f":"IF(ISERROR(VLOOKUP($A74&\"_\"&I$10,qData1[],7,FALSE)),0,VLOOKUP($A74&\"_\"&I$10,qData1[],7,FALSE))","v":0},0,0,0,{"$f":"IF(ISNA(VLOOKUP($D74&\"_\"&$E74,Tol[],6,FALSE)),$M$7,VLOOKUP($D74&\"_\"&$E74,Tol[],6,FALSE))","v":100},{"$f":"IF(ISNA(VLOOKUP($D74&\"_\"&$E74,Tol[],7,FALSE)),$N$7*100,VLOOKUP($D74&\"_\"&$E74,Tol[],7,FALSE)*100)","v":10},1,1,"","",null,"",null,null,{"$f":"IF(ISERROR(VLOOKUP($A74,#REF!,8,FALSE)),\"\",VLOOKUP($A74,#REF!,8,FALSE))","v":""},{"$f":"IF(ISERROR(VLOOKUP($A74,#REF!,9,FALSE)),\"\",VLOOKUP($A74,#REF!,9,FALSE))","v":""},{"$f":"IF(ISERROR(VLOOKUP($A74,#REF!,10,FALSE)),0,VLOOKUP($A74,#REF!,10,FALSE))","v":"00:00:00"}]
["0_8_11",{"$f":"IF(COUNTIF(Validations!$AB$8:$AB$56,A75)=1,1,\"\")","v":""},null,8,11,"T",{"$f":"IF(ISNA(VLOOKUP(D75,Rows[],4,FALSE)),\"\",VLOOKUP(D75,Rows[],4,FALSE))","v":"B4 - Cyfanswm yr anheddau a addaswyd sydd yn daladwy (cyfanswm o B1 i B3c=A3)"},{"$f":"IF(ISERROR(VLOOKUP($A75&\"_\"&H$10,qData1[],7,FALSE)),\"\",VLOOKUP($A75&\"_\"&H$10,qData1[],7,FALSE))","v":""},{"$f":"IF(ISERROR(VLOOKUP($A75&\"_\"&I$10,qData1[],7,FALSE)),0,VLOOKUP($A75&\"_\"&I$10,qData1[],7,FALSE))","v":0},0,0,0,{"$f":"IF(ISNA(VLOOKUP($D75&\"_\"&$E75,Tol[],6,FALSE)),$M$7,VLOOKUP($D75&\"_\"&$E75,Tol[],6,FALSE))","v":100},{"$f":"IF(ISNA(VLOOKUP($D75&\"_\"&$E75,Tol[],7,FALSE)),$N$7*100,VLOOKUP($D75&\"_\"&$E75,Tol[],7,FALSE)*100)","v":10},1,1,"","",null,"",null,null,{"$f":"IF(ISERROR(VLOOKUP($A75,#REF!,8,FALSE)),\"\",VLOOKUP($A75,#REF!,8,FALSE))","v":""},{"$f":"IF(ISERROR(VLOOKUP($A75,#REF!,9,FALSE)),\"\",VLOOKUP($A75,#REF!,9,FALSE))","v":""},{"$f":"IF(ISERROR(VLOOKUP($A75,#REF!,10,FALSE)),0,VLOOKUP($A75,#REF!,10,FALSE))","v":"00:00:00"}]
[{"$f":"uanumber&\"_\"&D76&\"_\"&E76","v":"0_14_2"},{"$f":"IF(COUNTIF(Validations!$AB$8:$AB$56,A76)=1,1,\"\")","v":""},null,14,2,"",{"$f":"IF(ISNA(VLOOKUP(D76,Rows[],4,FALSE)),\"\",VLOOKUP(D76,Rows[],4,FALSE))","v":"D1 - Anheddau ag eithriadau Dosbarthiadau A i N a P i W ( heb eu cynnwys yn adrannau A i C uchod ) ( gweler nodyn 6 )"},{"$f":"IF(ISERROR(VLOOKUP($A76&\"_\"&H$10,qData1[],7,FALSE)),\"\",VLOOKUP($A76&\"_\"&H$10,qData1[],7,FALSE))","v":""},{"$f":"IF(ISERROR(VLOOKUP($A76&\"_\"&I$10,qData1[],7,FALSE)),0,VLOOKUP($A76&\"_\"&I$10,qData1[],7,FALSE))","v":0},{"$f":"IF(ISERROR(VLOOKUP(D76&\"_\"&E76,Figs,8,FALSE)),0,VLOOKUP(D76&\"_\"&E76,Figs,8,FALSE))","v":0},0,0,{"$f":"IF(ISNA(VLOOKUP($D76&\"_\"&$E76,Tol[],6,FALSE)),$M$7,VLOOKUP($D76&\"_\"&$E76,Tol[],6,FALSE))","v":50},{"$f":"IF(ISNA(VLOOKUP($D76&\"_\"&$E76,Tol[],7,FALSE)),$N$7*100,VLOOKUP($D76&\"_\"&$E76,Tol[],7,FALSE)*100)","v":10},1,1,"","",null,"",null,null,{"$f":"IF(ISERROR(VLOOKUP($A76,#REF!,8,FALSE)),\"\",VLOOKUP($A76,#REF!,8,FALSE))","v":""},{"$f":"IF(ISERROR(VLOOKUP($A76,#REF!,9,FALSE)),\"\",VLOOKUP($A76,#REF!,9,FALSE))","v":""},{"$f":"IF(ISERROR(VLOOKUP($A76,#REF!,10,FALSE)),0,VLOOKUP($A76,#REF!,10,FALSE))","v":"00:00:00"}]
["0_14_3",{"$f":"IF(COUNTIF(Validations!$AB$8:$AB$56,A77)=1,1,\"\")","v":""},null,14,3,"",{"$f":"IF(ISNA(VLOOKUP(D77,Rows[],4,FALSE)),\"\",VLOOKUP(D77,Rows[],4,FALSE))","v":"D1 - Anheddau ag eithriadau Dosbarthiadau A i N a P i W ( heb eu cynnwys yn adrannau A i C uchod ) ( gweler nodyn 6 )"},{"$f":"IF(ISERROR(VLOOKUP($A77&\"_\"&H$10,qData1[],7,FALSE)),\"\",VLOOKUP($A77&\"_\"&H$10,qData1[],7,FALSE))","v":""},{"$f":"IF(ISERROR(VLOOKUP($A77&\"_\"&I$10,qData1[],7,FALSE)),0,VLOOKUP($A77&\"_\"&I$10,qData1[],7,FALSE))","v":0},0,{"$f":"J77-I77","v":0},{"$f":"IF(OR(I77=0,J77=0),0,K77/I77*100)","v":0},{"$f":"IF(ISNA(VLOOKUP($D77&\"_\"&$E77,Tol[],6,FALSE)),$M$7,VLOOKUP($D77&\"_\"&$E77,Tol[],6,FALSE))","v":50},{"$f":"IF(ISNA(VLOOKUP($D77&\"_\"&$E77,Tol[],7,FALSE)),$N$7*100,VLOOKUP($D77&\"_\"&$E77,Tol[],7,FALSE)*100)","v":10},{"$f":"IF(I77=0,1,\"\")","v":1},{"$f":"IF(J77=0,1,\"\")","v":1},{"$f":"IF(SUM(O77:P77)=2,\"\",IF(SUM(O77:P77)=1,9,IF(AND(ABS(K77)>M77,ABS(L77)>N77),3,IF(ABS(K77)>M77,1,IF(ABS(L77)>N77,2,\"\")))))","v":""},{"$f":"IF(Q77=3,1,\"\")","v":""},null,{"$f":"IF(OR(U77=\"C\",U77=\"T\"),\"\",IF(S77=1,1,\"\"))","v":""},null,null,{"$f":"IF(ISERROR(VLOOKUP($A77,#REF!,8,FALSE)),\"\",VLOOKUP($A77,#REF!,8,FALSE))","v":""},{"$f":"IF(ISERROR(VLOOKUP($A77,#REF!,9,FALSE)),\"\",VLOOKUP($A77,#REF!,9,FALSE))","v":""},{"$f":"IF(ISERROR(VLOOKUP($A77,#REF!,10,FALSE)),0,VLOOKUP($A77,#REF!,10,FALSE))","v":"00:00:00"}]
["0_14_4",{"$f":"IF(COUNTIF(Validations!$AB$8:$AB$56,A78)=1,1,\"\")","v":""},null,14,4,"",{"$f":"IF(ISNA(VLOOKUP(D78,Rows[],4,FALSE)),\"\",VLOOKUP(D78,Rows[],4,FALSE))","v":"D1 - Anheddau ag eithriadau Dosbarthiadau A i N a P i W ( heb eu cynnwys yn adrannau A i C uchod ) ( gweler nodyn 6 )"},{"$f":"IF(ISERROR(VLOOKUP($A78&\"_\"&H$10,qData1[],7,FALSE)),\"\",VLOOKUP($A78&\"_\"&H$10,qData1[],7,FALSE))","v":""},{"$f":"IF(ISERROR(VLOOKUP($A78&\"_\"&I$10,qData1[],7,FALSE)),0,VLOOKUP($A78&\"_\"&I$10,qData1[],7,FALSE))","v":0},0,0,0,{"$f":"IF(ISNA(VLOOKUP($D78&\"_\"&$E78,Tol[],6,FALSE)),$M$7,VLOOKUP($D78&\"_\"&$E78,Tol[],6,FALSE))","v":50},{"$f":"IF(ISNA(VLOOKUP($D78&\"_\"&$E78,Tol[],7,FALSE)),$N$7*100,VLOOKUP($D78&\"_\"&$E78,Tol[],7,FALSE)*100)","v":10},1,1,"","",null,"",null,null,{"$f":"IF(ISERROR(VLOOKUP($A78,#REF!,8,FALSE)),\"\",VLOOKUP($A78,#REF!,8,FALSE))","v":""},{"$f":"IF(ISERROR(VLOOKUP($A78,#REF!,9,FALSE)),\"\",VLOOKUP($A78,#REF!,9,FALSE))","v":""},{"$f":"IF(ISERROR(VLOOKUP($A78,#REF!,10,FALSE)),0,VLOOKUP($A78,#REF!,10,FALSE))","v":"00:00:00"}]
["0_14_5",{"$f":"IF(COUNTIF(Validations!$AB$8:$AB$56,A79)=1,1,\"\")","v":""},null,14,5,"",{"$f":"IF(ISNA(VLOOKUP(D79,Rows[],4,FALSE)),\"\",VLOOKUP(D79,Rows[],4,FALSE))","v":"D1 - Anheddau ag eithriadau Dosbarthiadau A i N a P i W ( heb eu cynnwys yn adrannau A i C uchod ) ( gweler nodyn 6 )"},{"$f":"IF(ISERROR(VLOOKUP($A79&\"_\"&H$10,qData1[],7,FALSE)),\"\",VLOOKUP($A79&\"_\"&H$10,qData1[],7,FALSE))","v":""},{"$f":"IF(ISERROR(VLOOKUP($A79&\"_\"&I$10,qData1[],7,FALSE)),0,VLOOKUP($A79&\"_\"&I$10,qData1[],7,FALSE))","v":0},0,0,0,{"$f":"IF(ISNA(VLOOKUP($D79&\"_\"&$E79,Tol[],6,FALSE)),$M$7,VLOOKUP($D79&\"_\"&$E79,Tol[],6,FALSE))","v":50},{"$f":"IF(ISNA(VLOOKUP($D79&\"_\"&$E79,Tol[],7,FALSE)),$N$7*100,VLOOKUP($D79&\"_\"&$E79,Tol[],7,FALSE)*100)","v":10},1,1,"","",null,"",null,null,{"$f":"IF(ISERROR(VLOOKUP($A79,#REF!,8,FALSE)),\"\",VLOOKUP($A79,#REF!,8,FALSE))","v":""},{"$f":"IF(ISERROR(VLOOKUP($A79,#REF!,9,FALSE)),\"\",VLOOKUP($A79,#REF!,9,FALSE))","v":""},{"$f":"IF(ISERROR(VLOOKUP($A79,#REF!,10,FALSE)),0,VLOOKUP($A79,#REF!,10,FALSE))","v":"00:00:00"}]
["0_14_6",{"$f":"IF(COUNTIF(Validations!$AB$8:$AB$56,A80)=1,1,\"\")","v":""},null,14,6,"",{"$f":"IF(ISNA(VLOOKUP(D80,Rows[],4,FALSE)),\"\",VLOOKUP(D80,Rows[],4,FALSE))","v":"D1 - Anheddau ag eithriadau Dosbarthiadau A i N a P i W ( heb eu cynnwys yn adrannau A i C uchod ) ( gweler nodyn 6 )"},{"$f":"IF(ISERROR(VLOOKUP($A80&\"_\"&H$10,qData1[],7,FALSE)),\"\",VLOOKUP($A80&\"_\"&H$10,qData1[],7,FALSE))","v":""},{"$f":"IF(ISERROR(VLOOKUP($A80&\"_\"&I$10,qData1[],7,FALSE)),0,VLOOKUP($A80&\"_\"&I$10,qData1[],7,FALSE))","v":0},0,0,0,{"$f":"IF(ISNA(VLOOKUP($D80&\"_\"&$E80,Tol[],6,FALSE)),$M$7,VLOOKUP($D80&\"_\"&$E80,Tol[],6,FALSE))","v":50},{"$f":"IF(ISNA(VLOOKUP($D80&\"_\"&$E80,Tol[],7,FALSE)),$N$7*100,VLOOKUP($D80&\"_\"&$E80,Tol[],7,FALSE)*100)","v":10},1,1,"","",null,"",null,null,{"$f":"IF(ISERROR(VLOOKUP($A80,#REF!,8,FALSE)),\"\",VLOOKUP($A80,#REF!,8,FALSE))","v":""},{"$f":"IF(ISERROR(VLOOKUP($A80,#REF!,9,FALSE)),\"\",VLOOKUP($A80,#REF!,9,FALSE))","v":""},{"$f":"IF(ISERROR(VLOOKUP($A80,#REF!,10,FALSE)),0,VLOOKUP($A80,#REF!,10,FALSE))","v":"00:00:00"}]
["0_14_7",{"$f":"IF(COUNTIF(Validations!$AB$8:$AB$56,A81)=1,1,\"\")","v":""},null,14,7,"",{"$f":"IF(ISNA(VLOOKUP(D81,Rows[],4,FALSE)),\"\",VLOOKUP(D81,Rows[],4,FALSE))","v":"D1 - Anheddau ag eithriadau Dosbarthiadau A i N a P i W ( heb eu cynnwys yn adrannau A i C uchod ) ( gweler nodyn 6 )"},{"$f":"IF(ISERROR(VLOOKUP($A81&\"_\"&H$10,qData1[],7,FALSE)),\"\",VLOOKUP($A81&\"_\"&H$10,qData1[],7,FALSE))","v":""},{"$f":"IF(ISERROR(VLOOKUP($A81&\"_\"&I$10,qData1[],7,FALSE)),0,VLOOKUP($A81&\"_\"&I$10,qData1[],7,FALSE))","v":0},0,0,0,{"$f":"IF(ISNA(VLOOKUP($D81&\"_\"&$E81,Tol[],6,FALSE)),$M$7,VLOOKUP($D81&\"_\"&$E81,Tol[],6,FALSE))","v":50},{"$f":"IF(ISNA(VLOOKUP($D81&\"_\"&$E81,Tol[],7,FALSE)),$N$7*100,VLOOKUP($D81&\"_\"&$E81,Tol[],7,FALSE)*100)","v":10},1,1,"","",null,"",null,null,{"$f":"IF(ISERROR(VLOOKUP($A81,#REF!,8,FALSE)),\"\",VLOOKUP($A81,#REF!,8,FALSE))","v":""},{"$f":"IF(ISERROR(VLOOKUP($A81,#REF!,9,FALSE)),\"\",VLOOKUP($A81,#REF!,9,FALSE))","v":""},{"$f":"IF(ISERROR(VLOOKUP($A81,#REF!,10,FALSE)),0,VLOOKUP($A81,#REF!,10,FALSE))","v":"00:00:00"}]
["0_14_8",{"$f":"IF(COUNTIF(Validations!$AB$8:$AB$56,A82)=1,1,\"\")","v":""},null,14,8,"",{"$f":"IF(ISNA(VLOOKUP(D82,Rows[],4,FALSE)),\"\",VLOOKUP(D82,Rows[],4,FALSE))","v":"D1 - Anheddau ag eithriadau Dosbarthiadau A i N a P i W ( heb eu cynnwys yn adrannau A i C uchod ) ( gweler nodyn 6 )"},{"$f":"IF(ISERROR(VLOOKUP($A82&\"_\"&H$10,qData1[],7,FALSE)),\"\",VLOOKUP($A82&\"_\"&H$10,qData1[],7,FALSE))","v":""},{"$f":"IF(ISERROR(VLOOKUP($A82&\"_\"&I$10,qData1[],7,FALSE)),0,VLOOKUP($A82&\"_\"&I$10,qData1[],7,FALSE))","v":0},0,0,0,{"$f":"IF(ISNA(VLOOKUP($D82&\"_\"&$E82,Tol[],6,FALSE)),$M$7,VLOOKUP($D82&\"_\"&$E82,Tol[],6,FALSE))","v":50},{"$f":"IF(ISNA(VLOOKUP($D82&\"_\"&$E82,Tol[],7,FALSE)),$N$7*100,VLOOKUP($D82&\"_\"&$E82,Tol[],7,FALSE)*100)","v":10},1,1,"","",null,"",null,null,{"$f":"IF(ISERROR(VLOOKUP($A82,#REF!,8,FALSE)),\"\",VLOOKUP($A82,#REF!,8,FALSE))","v":""},{"$f":"IF(ISERROR(VLOOKUP($A82,#REF!,9,FALSE)),\"\",VLOOKUP($A82,#REF!,9,FALSE))","v":""},{"$f":"IF(ISERROR(VLOOKUP($A82,#REF!,10,FALSE)),0,VLOOKUP($A82,#REF!,10,FALSE))","v":"00:00:00"}]
["0_14_9",{"$f":"IF(COUNTIF(Validations!$AB$8:$AB$56,A83)=1,1,\"\")","v":""},null,14,9,"",{"$f":"IF(ISNA(VLOOKUP(D83,Rows[],4,FALSE)),\"\",VLOOKUP(D83,Rows[],4,FALSE))","v":"D1 - Anheddau ag eithriadau Dosbarthiadau A i N a P i W ( heb eu cynnwys yn adrannau A i C uchod ) ( gweler nodyn 6 )"},{"$f":"IF(ISERROR(VLOOKUP($A83&\"_\"&H$10,qData1[],7,FALSE)),\"\",VLOOKUP($A83&\"_\"&H$10,qData1[],7,FALSE))","v":""},{"$f":"IF(ISERROR(VLOOKUP($A83&\"_\"&I$10,qData1[],7,FALSE)),0,VLOOKUP($A83&\"_\"&I$10,qData1[],7,FALSE))","v":0},0,0,0,{"$f":"IF(ISNA(VLOOKUP($D83&\"_\"&$E83,Tol[],6,FALSE)),$M$7,VLOOKUP($D83&\"_\"&$E83,Tol[],6,FALSE))","v":50},{"$f":"IF(ISNA(VLOOKUP($D83&\"_\"&$E83,Tol[],7,FALSE)),$N$7*100,VLOOKUP($D83&\"_\"&$E83,Tol[],7,FALSE)*100)","v":10},1,1,"","",null,"",null,null,{"$f":"IF(ISERROR(VLOOKUP($A83,#REF!,8,FALSE)),\"\",VLOOKUP($A83,#REF!,8,FALSE))","v":""},{"$f":"IF(ISERROR(VLOOKUP($A83,#REF!,9,FALSE)),\"\",VLOOKUP($A83,#REF!,9,FALSE))","v":""},{"$f":"IF(ISERROR(VLOOKUP($A83,#REF!,10,FALSE)),0,VLOOKUP($A83,#REF!,10,FALSE))","v":"00:00:00"}]
["0_14_10",{"$f":"IF(COUNTIF(Validations!$AB$8:$AB$56,A84)=1,1,\"\")","v":""},null,14,10,"",{"$f":"IF(ISNA(VLOOKUP(D84,Rows[],4,FALSE)),\"\",VLOOKUP(D84,Rows[],4,FALSE))","v":"D1 - Anheddau ag eithriadau Dosbarthiadau A i N a P i W ( heb eu cynnwys yn adrannau A i C uchod ) ( gweler nodyn 6 )"},{"$f":"IF(ISERROR(VLOOKUP($A84&\"_\"&H$10,qData1[],7,FALSE)),\"\",VLOOKUP($A84&\"_\"&H$10,qData1[],7,FALSE))","v":""},{"$f":"IF(ISERROR(VLOOKUP($A84&\"_\"&I$10,qData1[],7,FALSE)),0,VLOOKUP($A84&\"_\"&I$10,qData1[],7,FALSE))","v":0},0,0,0,{"$f":"IF(ISNA(VLOOKUP($D84&\"_\"&$E84,Tol[],6,FALSE)),$M$7,VLOOKUP($D84&\"_\"&$E84,Tol[],6,FALSE))","v":50},{"$f":"IF(ISNA(VLOOKUP($D84&\"_\"&$E84,Tol[],7,FALSE)),$N$7*100,VLOOKUP($D84&\"_\"&$E84,Tol[],7,FALSE)*100)","v":10},1,1,"","",null,"",null,null,{"$f":"IF(ISERROR(VLOOKUP($A84,#REF!,8,FALSE)),\"\",VLOOKUP($A84,#REF!,8,FALSE))","v":""},{"$f":"IF(ISERROR(VLOOKUP($A84,#REF!,9,FALSE)),\"\",VLOOKUP($A84,#REF!,9,FALSE))","v":""},{"$f":"IF(ISERROR(VLOOKUP($A84,#REF!,10,FALSE)),0,VLOOKUP($A84,#REF!,10,FALSE))","v":"00:00:00"}]
["0_14_11",{"$f":"IF(COUNTIF(Validations!$AB$8:$AB$56,A85)=1,1,\"\")","v":""},null,14,11,"T",{"$f":"IF(ISNA(VLOOKUP(D85,Rows[],4,FALSE)),\"\",VLOOKUP(D85,Rows[],4,FALSE))","v":"D1 - Anheddau ag eithriadau Dosbarthiadau A i N a P i W ( heb eu cynnwys yn adrannau A i C uchod ) ( gweler nodyn 6 )"},{"$f":"IF(ISERROR(VLOOKUP($A85&\"_\"&H$10,qData1[],7,FALSE)),\"\",VLOOKUP($A85&\"_\"&H$10,qData1[],7,FALSE))","v":""},{"$f":"IF(ISERROR(VLOOKUP($A85&\"_\"&I$10,qData1[],7,FALSE)),0,VLOOKUP($A85&\"_\"&I$10,qData1[],7,FALSE))","v":0},0,0,0,{"$f":"IF(ISNA(VLOOKUP($D85&\"_\"&$E85,Tol[],6,FALSE)),$M$7,VLOOKUP($D85&\"_\"&$E85,Tol[],6,FALSE))","v":200},{"$f":"IF(ISNA(VLOOKUP($D85&\"_\"&$E85,Tol[],7,FALSE)),$N$7*100,VLOOKUP($D85&\"_\"&$E85,Tol[],7,FALSE)*100)","v":10},1,1,"","",null,"",null,null,{"$f":"IF(ISERROR(VLOOKUP($A85,#REF!,8,FALSE)),\"\",VLOOKUP($A85,#REF!,8,FALSE))","v":""},{"$f":"IF(ISERROR(VLOOKUP($A85,#REF!,9,FALSE)),\"\",VLOOKUP($A85,#REF!,9,FALSE))","v":""},{"$f":"IF(ISERROR(VLOOKUP($A85,#REF!,10,FALSE)),0,VLOOKUP($A85,#REF!,10,FALSE))","v":"00:00:00"}]
["0_15_2",{"$f":"IF(COUNTIF(Validations!$AB$8:$AB$56,A86)=1,1,\"\")","v":""},null,15,2,"",{"$f":"IF(ISNA(VLOOKUP(D86,Rows[],4,FALSE)),\"\",VLOOKUP(D86,Rows[],4,FALSE))","v":"D2 - Anheddau ag eithriad dosbarth O ( heb eu cynnwys yn adrannau A i C uchod ) ( gweler nodiadau 6 a 7 )"},{"$f":"IF(ISERROR(VLOOKUP($A86&\"_\"&H$10,qData1[],7,FALSE)),\"\",VLOOKUP($A86&\"_\"&H$10,qData1[],7,FALSE))","v":""},{"$f":"IF(ISERROR(VLOOKUP($A86&\"_\"&I$10,qData1[],7,FALSE)),0,VLOOKUP($A86&\"_\"&I$10,qData1[],7,FALSE))","v":0},0,0,0,{"$f":"IF(ISNA(VLOOKUP($D86&\"_\"&$E86,Tol[],6,FALSE)),$M$7,VLOOKUP($D86&\"_\"&$E86,Tol[],6,FALSE))","v":50},{"$f":"IF(ISNA(VLOOKUP($D86&\"_\"&$E86,Tol[],7,FALSE)),$N$7*100,VLOOKUP($D86&\"_\"&$E86,Tol[],7,FALSE)*100)","v":10},1,1,"","",null,"",null,null,{"$f":"IF(ISERROR(VLOOKUP($A86,#REF!,8,FALSE)),\"\",VLOOKUP($A86,#REF!,8,FALSE))","v":""},{"$f":"IF(ISERROR(VLOOKUP($A86,#REF!,9,FALSE)),\"\",VLOOKUP($A86,#REF!,9,FALSE))","v":""},{"$f":"IF(ISERROR(VLOOKUP($A86,#REF!,10,FALSE)),0,VLOOKUP($A86,#REF!,10,FALSE))","v":"00:00:00"}]
["0_15_3",{"$f":"IF(COUNTIF(Validations!$AB$8:$AB$56,A87)=1,1,\"\")","v":""},null,15,3,"",{"$f":"IF(ISNA(VLOOKUP(D87,Rows[],4,FALSE)),\"\",VLOOKUP(D87,Rows[],4,FALSE))","v":"D2 - Anheddau ag eithriad dosbarth O ( heb eu cynnwys yn adrannau A i C uchod ) ( gweler nodiadau 6 a 7 )"},{"$f":"IF(ISERROR(VLOOKUP($A87&\"_\"&H$10,qData1[],7,FALSE)),\"\",VLOOKUP($A87&\"_\"&H$10,qData1[],7,FALSE))","v":""},{"$f":"IF(ISERROR(VLOOKUP($A87&\"_\"&I$10,qData1[],7,FALSE)),0,VLOOKUP($A87&\"_\"&I$10,qData1[],7,FALSE))","v":0},0,0,0,{"$f":"IF(ISNA(VLOOKUP($D87&\"_\"&$E87,Tol[],6,FALSE)),$M$7,VLOOKUP($D87&\"_\"&$E87,Tol[],6,FALSE))","v":50},{"$f":"IF(ISNA(VLOOKUP($D87&\"_\"&$E87,Tol[],7,FALSE)),$N$7*100,VLOOKUP($D87&\"_\"&$E87,Tol[],7,FALSE)*100)","v":10},1,1,"","",null,"",null,null,{"$f":"IF(ISERROR(VLOOKUP($A87,#REF!,8,FALSE)),\"\",VLOOKUP($A87,#REF!,8,FALSE))","v":""},{"$f":"IF(ISERROR(VLOOKUP($A87,#REF!,9,FALSE)),\"\",VLOOKUP($A87,#REF!,9,FALSE))","v":""},{"$f":"IF(ISERROR(VLOOKUP($A87,#REF!,10,FALSE)),0,VLOOKUP($A87,#REF!,10,FALSE))","v":"00:00:00"}]
["0_15_4",{"$f":"IF(COUNTIF(Validations!$AB$8:$AB$56,A88)=1,1,\"\")","v":""},null,15,4,"",{"$f":"IF(ISNA(VLOOKUP(D88,Rows[],4,FALSE)),\"\",VLOOKUP(D88,Rows[],4,FALSE))","v":"D2 - Anheddau ag eithriad dosbarth O ( heb eu cynnwys yn adrannau A i C uchod ) ( gweler nodiadau 6 a 7 )"},{"$f":"IF(ISERROR(VLOOKUP($A88&\"_\"&H$10,qData1[],7,FALSE)),\"\",VLOOKUP($A88&\"_\"&H$10,qData1[],7,FALSE))","v":""},{"$f":"IF(ISERROR(VLOOKUP($A88&\"_\"&I$10,qData1[],7,FALSE)),0,VLOOKUP($A88&\"_\"&I$10,qData1[],7,FALSE))","v":0},0,0,0,{"$f":"IF(ISNA(VLOOKUP($D88&\"_\"&$E88,Tol[],6,FALSE)),$M$7,VLOOKUP($D88&\"_\"&$E88,Tol[],6,FALSE))","v":50},{"$f":"IF(ISNA(VLOOKUP($D88&\"_\"&$E88,Tol[],7,FALSE)),$N$7*100,VLOOKUP($D88&\"_\"&$E88,Tol[],7,FALSE)*100)","v":10},1,1,"","",null,"",null,null,{"$f":"IF(ISERROR(VLOOKUP($A88,#REF!,8,FALSE)),\"\",VLOOKUP($A88,#REF!,8,FALSE))","v":""},{"$f":"IF(ISERROR(VLOOKUP($A88,#REF!,9,FALSE)),\"\",VLOOKUP($A88,#REF!,9,FALSE))","v":""},{"$f":"IF(ISERROR(VLOOKUP($A88,#REF!,10,FALSE)),0,VLOOKUP($A88,#REF!,10,FALSE))","v":"00:00:00"}]
["0_15_5",{"$f":"IF(COUNTIF(Validations!$AB$8:$AB$56,A89)=1,1,\"\")","v":""},null,15,5,"",{"$f":"IF(ISNA(VLOOKUP(D89,Rows[],4,FALSE)),\"\",VLOOKUP(D89,Rows[],4,FALSE))","v":"D2 - Anheddau ag eithriad dosbarth O ( heb eu cynnwys yn adrannau A i C uchod ) ( gweler nodiadau 6 a 7 )"},{"$f":"IF(ISERROR(VLOOKUP($A89&\"_\"&H$10,qData1[],7,FALSE)),\"\",VLOOKUP($A89&\"_\"&H$10,qData1[],7,FALSE))","v":""},{"$f":"IF(ISERROR(VLOOKUP($A89&\"_\"&I$10,qData1[],7,FALSE)),0,VLOOKUP($A89&\"_\"&I$10,qData1[],7,FALSE))","v":0},0,0,0,{"$f":"IF(ISNA(VLOOKUP($D89&\"_\"&$E89,Tol[],6,FALSE)),$M$7,VLOOKUP($D89&\"_\"&$E89,Tol[],6,FALSE))","v":50},{"$f":"IF(ISNA(VLOOKUP($D89&\"_\"&$E89,Tol[],7,FALSE)),$N$7*100,VLOOKUP($D89&\"_\"&$E89,Tol[],7,FALSE)*100)","v":10},1,1,"","",null,"",null,null,{"$f":"IF(ISERROR(VLOOKUP($A89,#REF!,8,FALSE)),\"\",VLOOKUP($A89,#REF!,8,FALSE))","v":""},{"$f":"IF(ISERROR(VLOOKUP($A89,#REF!,9,FALSE)),\"\",VLOOKUP($A89,#REF!,9,FALSE))","v":""},{"$f":"IF(ISERROR(VLOOKUP($A89,#REF!,10,FALSE)),0,VLOOKUP($A89,#REF!,10,FALSE))","v":"00:00:00"}]
["0_15_6",{"$f":"IF(COUNTIF(Validations!$AB$8:$AB$56,A90)=1,1,\"\")","v":""},null,15,6,"",{"$f":"IF(ISNA(VLOOKUP(D90,Rows[],4,FALSE)),\"\",VLOOKUP(D90,Rows[],4,FALSE))","v":"D2 - Anheddau ag eithriad dosbarth O ( heb eu cynnwys yn adrannau A i C uchod ) ( gweler nodiadau 6 a 7 )"},{"$f":"IF(ISERROR(VLOOKUP($A90&\"_\"&H$10,qData1[],7,FALSE)),\"\",VLOOKUP($A90&\"_\"&H$10,qData1[],7,FALSE))","v":""},{"$f":"IF(ISERROR(VLOOKUP($A90&\"_\"&I$10,qData1[],7,FALSE)),0,VLOOKUP($A90&\"_\"&I$10,qData1[],7,FALSE))","v":0},0,0,0,{"$f":"IF(ISNA(VLOOKUP($D90&\"_\"&$E90,Tol[],6,FALSE)),$M$7,VLOOKUP($D90&\"_\"&$E90,Tol[],6,FALSE))","v":50},{"$f":"IF(ISNA(VLOOKUP($D90&\"_\"&$E90,Tol[],7,FALSE)),$N$7*100,VLOOKUP($D90&\"_\"&$E90,Tol[],7,FALSE)*100)","v":10},1,1,"","",null,"",null,null,{"$f":"IF(ISERROR(VLOOKUP($A90,#REF!,8,FALSE)),\"\",VLOOKUP($A90,#REF!,8,FALSE))","v":""},{"$f":"IF(ISERROR(VLOOKUP($A90,#REF!,9,FALSE)),\"\",VLOOKUP($A90,#REF!,9,FALSE))","v":""},{"$f":"IF(ISERROR(VLOOKUP($A90,#REF!,10,FALSE)),0,VLOOKUP($A90,#REF!,10,FALSE))","v":"00:00:00"}]
["0_15_7",{"$f":"IF(COUNTIF(Validations!$AB$8:$AB$56,A91)=1,1,\"\")","v":""},null,15,7,"",{"$f":"IF(ISNA(VLOOKUP(D91,Rows[],4,FALSE)),\"\",VLOOKUP(D91,Rows[],4,FALSE))","v":"D2 - Anheddau ag eithriad dosbarth O ( heb eu cynnwys yn adrannau A i C uchod ) ( gweler nodiadau 6 a 7 )"},{"$f":"IF(ISERROR(VLOOKUP($A91&\"_\"&H$10,qData1[],7,FALSE)),\"\",VLOOKUP($A91&\"_\"&H$10,qData1[],7,FALSE))","v":""},{"$f":"IF(ISERROR(VLOOKUP($A91&\"_\"&I$10,qData1[],7,FALSE)),0,VLOOKUP($A91&\"_\"&I$10,qData1[],7,FALSE))","v":0},0,0,0,{"$f":"IF(ISNA(VLOOKUP($D91&\"_\"&$E91,Tol[],6,FALSE)),$M$7,VLOOKUP($D91&\"_\"&$E91,Tol[],6,FALSE))","v":50},{"$f":"IF(ISNA(VLOOKUP($D91&\"_\"&$E91,Tol[],7,FALSE)),$N$7*100,VLOOKUP($D91&\"_\"&$E91,Tol[],7,FALSE)*100)","v":10},1,1,"","",null,"",null,null,{"$f":"IF(ISERROR(VLOOKUP($A91,#REF!,8,FALSE)),\"\",VLOOKUP($A91,#REF!,8,FALSE))","v":""},{"$f":"IF(ISERROR(VLOOKUP($A91,#REF!,9,FALSE)),\"\",VLOOKUP($A91,#REF!,9,FALSE))","v":""},{"$f":"IF(ISERROR(VLOOKUP($A91,#REF!,10,FALSE)),0,VLOOKUP($A91,#REF!,10,FALSE))","v":"00:00:00"}]
["0_15_8",{"$f":"IF(COUNTIF(Validations!$AB$8:$AB$56,A92)=1,1,\"\")","v":""},null,15,8,"",{"$f":"IF(ISNA(VLOOKUP(D92,Rows[],4,FALSE)),\"\",VLOOKUP(D92,Rows[],4,FALSE))","v":"D2 - Anheddau ag eithriad dosbarth O ( heb eu cynnwys yn adrannau A i C uchod ) ( gweler nodiadau 6 a 7 )"},{"$f":"IF(ISERROR(VLOOKUP($A92&\"_\"&H$10,qData1[],7,FALSE)),\"\",VLOOKUP($A92&\"_\"&H$10,qData1[],7,FALSE))","v":""},{"$f":"IF(ISERROR(VLOOKUP($A92&\"_\"&I$10,qData1[],7,FALSE)),0,VLOOKUP($A92&\"_\"&I$10,qData1[],7,FALSE))","v":0},0,0,0,{"$f":"IF(ISNA(VLOOKUP($D92&\"_\"&$E92,Tol[],6,FALSE)),$M$7,VLOOKUP($D92&\"_\"&$E92,Tol[],6,FALSE))","v":50},{"$f":"IF(ISNA(VLOOKUP($D92&\"_\"&$E92,Tol[],7,FALSE)),$N$7*100,VLOOKUP($D92&\"_\"&$E92,Tol[],7,FALSE)*100)","v":10},1,1,"","",null,"",null,null,{"$f":"IF(ISERROR(VLOOKUP($A92,#REF!,8,FALSE)),\"\",VLOOKUP($A92,#REF!,8,FALSE))","v":""},{"$f":"IF(ISERROR(VLOOKUP($A92,#REF!,9,FALSE)),\"\",VLOOKUP($A92,#REF!,9,FALSE))","v":""},{"$f":"IF(ISERROR(VLOOKUP($A92,#REF!,10,FALSE)),0,VLOOKUP($A92,#REF!,10,FALSE))","v":"00:00:00"}]
["0_15_9",{"$f":"IF(COUNTIF(Validations!$AB$8:$AB$56,A93)=1,1,\"\")","v":""},null,15,9,"",{"$f":"IF(ISNA(VLOOKUP(D93,Rows[],4,FALSE)),\"\",VLOOKUP(D93,Rows[],4,FALSE))","v":"D2 - Anheddau ag eithriad dosbarth O ( heb eu cynnwys yn adrannau A i C uchod ) ( gweler nodiadau 6 a 7 )"},{"$f":"IF(ISERROR(VLOOKUP($A93&\"_\"&H$10,qData1[],7,FALSE)),\"\",VLOOKUP($A93&\"_\"&H$10,qData1[],7,FALSE))","v":""},{"$f":"IF(ISERROR(VLOOKUP($A93&\"_\"&I$10,qData1[],7,FALSE)),0,VLOOKUP($A93&\"_\"&I$10,qData1[],7,FALSE))","v":0},0,0,0,{"$f":"IF(ISNA(VLOOKUP($D93&\"_\"&$E93,Tol[],6,FALSE)),$M$7,VLOOKUP($D93&\"_\"&$E93,Tol[],6,FALSE))","v":50},{"$f":"IF(ISNA(VLOOKUP($D93&\"_\"&$E93,Tol[],7,FALSE)),$N$7*100,VLOOKUP($D93&\"_\"&$E93,Tol[],7,FALSE)*100)","v":10},1,1,"","",null,"",null,null,{"$f":"IF(ISERROR(VLOOKUP($A93,#REF!,8,FALSE)),\"\",VLOOKUP($A93,#REF!,8,FALSE))","v":""},{"$f":"IF(ISERROR(VLOOKUP($A93,#REF!,9,FALSE)),\"\",VLOOKUP($A93,#REF!,9,FALSE))","v":""},{"$f":"IF(ISERROR(VLOOKUP($A93,#REF!,10,FALSE)),0,VLOOKUP($A93,#REF!,10,FALSE))","v":"00:00:00"}]
["0_15_10",{"$f":"IF(COUNTIF(Validations!$AB$8:$AB$56,A94)=1,1,\"\")","v":""},null,15,10,"",{"$f":"IF(ISNA(VLOOKUP(D94,Rows[],4,FALSE)),\"\",VLOOKUP(D94,Rows[],4,FALSE))","v":"D2 - Anheddau ag eithriad dosbarth O ( heb eu cynnwys yn adrannau A i C uchod ) ( gweler nodiadau 6 a 7 )"},{"$f":"IF(ISERROR(VLOOKUP($A94&\"_\"&H$10,qData1[],7,FALSE)),\"\",VLOOKUP($A94&\"_\"&H$10,qData1[],7,FALSE))","v":""},{"$f":"IF(ISERROR(VLOOKUP($A94&\"_\"&I$10,qData1[],7,FALSE)),0,VLOOKUP($A94&\"_\"&I$10,qData1[],7,FALSE))","v":0},0,0,0,{"$f":"IF(ISNA(VLOOKUP($D94&\"_\"&$E94,Tol[],6,FALSE)),$M$7,VLOOKUP($D94&\"_\"&$E94,Tol[],6,FALSE))","v":50},{"$f":"IF(ISNA(VLOOKUP($D94&\"_\"&$E94,Tol[],7,FALSE)),$N$7*100,VLOOKUP($D94&\"_\"&$E94,Tol[],7,FALSE)*100)","v":10},1,1,"","",null,"",null,null,{"$f":"IF(ISERROR(VLOOKUP($A94,#REF!,8,FALSE)),\"\",VLOOKUP($A94,#REF!,8,FALSE))","v":""},{"$f":"IF(ISERROR(VLOOKUP($A94,#REF!,9,FALSE)),\"\",VLOOKUP($A94,#REF!,9,FALSE))","v":""},{"$f":"IF(ISERROR(VLOOKUP($A94,#REF!,10,FALSE)),0,VLOOKUP($A94,#REF!,10,FALSE))","v":"00:00:00"}]
["0_15_11",{"$f":"IF(COUNTIF(Validations!$AB$8:$AB$56,A95)=1,1,\"\")","v":""},null,15,11,"T",{"$f":"IF(ISNA(VLOOKUP(D95,Rows[],4,FALSE)),\"\",VLOOKUP(D95,Rows[],4,FALSE))","v":"D2 - Anheddau ag eithriad dosbarth O ( heb eu cynnwys yn adrannau A i C uchod ) ( gweler nodiadau 6 a 7 )"},{"$f":"IF(ISERROR(VLOOKUP($A95&\"_\"&H$10,qData1[],7,FALSE)),\"\",VLOOKUP($A95&\"_\"&H$10,qData1[],7,FALSE))","v":""},{"$f":"IF(ISERROR(VLOOKUP($A95&\"_\"&I$10,qData1[],7,FALSE)),0,VLOOKUP($A95&\"_\"&I$10,qData1[],7,FALSE))","v":0},0,0,0,{"$f":"IF(ISNA(VLOOKUP($D95&\"_\"&$E95,Tol[],6,FALSE)),$M$7,VLOOKUP($D95&\"_\"&$E95,Tol[],6,FALSE))","v":200},{"$f":"IF(ISNA(VLOOKUP($D95&\"_\"&$E95,Tol[],7,FALSE)),$N$7*100,VLOOKUP($D95&\"_\"&$E95,Tol[],7,FALSE)*100)","v":10},1,1,"","",null,"",null,null,{"$f":"IF(ISERROR(VLOOKUP($A95,#REF!,8,FALSE)),\"\",VLOOKUP($A95,#REF!,8,FALSE))","v":""},{"$f":"IF(ISERROR(VLOOKUP($A95,#REF!,9,FALSE)),\"\",VLOOKUP($A95,#REF!,9,FALSE))","v":""},{"$f":"IF(ISERROR(VLOOKUP($A95,#REF!,10,FALSE)),0,VLOOKUP($A95,#REF!,10,FALSE))","v":"00:00:00"}]
["0_22_11",{"$f":"IF(COUNTIF(Validations!$AB$8:$AB$56,A96)=1,1,\"\")","v":1},null,22,11,"T",{"$f":"IF(ISNA(VLOOKUP(D96,Rows[],4,FALSE)),\"\",VLOOKUP(D96,Rows[],4,FALSE))","v":"E1 - Anheddau trethadwy: cyfwerthoedd band D ( = cyfanswm C4 )"},{"$f":"IF(ISERROR(VLOOKUP($A96&\"_\"&H$10,qData1[],7,FALSE)),\"\",VLOOKUP($A96&\"_\"&H$10,qData1[],7,FALSE))","v":""},{"$f":"IF(ISERROR(VLOOKUP($A96&\"_\"&I$10,qData1[],7,FALSE)),0,VLOOKUP($A96&\"_\"&I$10,qData1[],7,FALSE))","v":0},0,{"v":0,"d":"0.00"},{"v":0,"d":"0.00"},{"$f":"IF(ISNA(VLOOKUP($D96&\"_\"&$E96,Tol[],6,FALSE)),$M$7,VLOOKUP($D96&\"_\"&$E96,Tol[],6,FALSE))","v":0},{"$f":"IF(ISNA(VLOOKUP($D96&\"_\"&$E96,Tol[],7,FALSE)),$N$7*100,VLOOKUP($D96&\"_\"&$E96,Tol[],7,FALSE)*100)","v":0.3},1,1,"","",null,"",null,null,{"$f":"IF(ISERROR(VLOOKUP($A96,#REF!,8,FALSE)),\"\",VLOOKUP($A96,#REF!,8,FALSE))","v":""},{"$f":"IF(ISERROR(VLOOKUP($A96,#REF!,9,FALSE)),\"\",VLOOKUP($A96,#REF!,9,FALSE))","v":""},{"$f":"IF(ISERROR(VLOOKUP($A96,#REF!,10,FALSE)),0,VLOOKUP($A96,#REF!,10,FALSE))","v":"00:00:00"}]
["0_23_11",{"$f":"IF(COUNTIF(Validations!$AB$8:$AB$56,A97)=1,1,\"\")","v":1},null,23,11,"T",{"$f":"IF(ISNA(VLOOKUP(D97,Rows[],4,FALSE)),\"\",VLOOKUP(D97,Rows[],4,FALSE))","v":"E2 - Cyfradd gasglu ( wedi'i thalgrynnu i ddau le degol )"},{"$f":"IF(ISERROR(VLOOKUP($A97&\"_\"&H$10,qData1[],7,FALSE)),\"\",VLOOKUP($A97&\"_\"&H$10,qData1[],7,FALSE))","v":""},{"$f":"IF(ISERROR(VLOOKUP($A97&\"_\"&I$10,qData1[],7,FALSE)),0,VLOOKUP($A97&\"_\"&I$10,qData1[],7,FALSE))","v":0},0,{"v":0,"d":"0.00"},{"v":0,"d":"0.00"},{"$f":"IF(ISNA(VLOOKUP($D97&\"_\"&$E97,Tol[],6,FALSE)),$M$7,VLOOKUP($D97&\"_\"&$E97,Tol[],6,FALSE))","v":0},{"$f":"IF(ISNA(VLOOKUP($D97&\"_\"&$E97,Tol[],7,FALSE)),$N$7*100,VLOOKUP($D97&\"_\"&$E97,Tol[],7,FALSE)*100)","v":1.6},1,1,"","",null,"",null,null,{"$f":"IF(ISERROR(VLOOKUP($A97,#REF!,8,FALSE)),\"\",VLOOKUP($A97,#REF!,8,FALSE))","v":""},{"$f":"IF(ISERROR(VLOOKUP($A97,#REF!,9,FALSE)),\"\",VLOOKUP($A97,#REF!,9,FALSE))","v":""},{"$f":"IF(ISERROR(VLOOKUP($A97,#REF!,10,FALSE)),0,VLOOKUP($A97,#REF!,10,FALSE))","v":"00:00:00"}]
["0_24_11",{"$f":"IF(COUNTIF(Validations!$AB$8:$AB$56,A98)=1,1,\"\")","v":""},null,24,11,"T",{"$f":"IF(ISNA(VLOOKUP(D98,Rows[],4,FALSE)),\"\",VLOOKUP(D98,Rows[],4,FALSE))","v":"E3 - = E1 x E2 ( wedi'i dalgrynnu i ddau le degol )"},{"$f":"IF(ISERROR(VLOOKUP($A98&\"_\"&H$10,qData1[],7,FALSE)),\"\",VLOOKUP($A98&\"_\"&H$10,qData1[],7,FALSE))","v":""},{"$f":"IF(ISERROR(VLOOKUP($A98&\"_\"&I$10,qData1[],7,FALSE)),0,VLOOKUP($A98&\"_\"&I$10,qData1[],7,FALSE))","v":0},0,{"v":0,"d":"0.00"},{"v":0,"d":"0.00"},{"$f":"IF(ISNA(VLOOKUP($D98&\"_\"&$E98,Tol[],6,FALSE)),$M$7,VLOOKUP($D98&\"_\"&$E98,Tol[],6,FALSE))","v":100},{"$f":"IF(ISNA(VLOOKUP($D98&\"_\"&$E98,Tol[],7,FALSE)),$N$7*100,VLOOKUP($D98&\"_\"&$E98,Tol[],7,FALSE)*100)","v":10},1,1,"","",null,"",null,null,{"$f":"IF(ISERROR(VLOOKUP($A98,#REF!,8,FALSE)),\"\",VLOOKUP($A98,#REF!,8,FALSE))","v":""},{"$f":"IF(ISERROR(VLOOKUP($A98,#REF!,9,FALSE)),\"\",VLOOKUP($A98,#REF!,9,FALSE))","v":""},{"$f":"IF(ISERROR(VLOOKUP($A98,#REF!,10,FALSE)),0,VLOOKUP($A98,#REF!,10,FALSE))","v":"00:00:00"}]
["0_25_11",{"$f":"IF(COUNTIF(Validations!$AB$8:$AB$56,A99)=1,1,\"\")","v":1},null,25,11,"T",{"$f":"IF(ISNA(VLOOKUP(D99,Rows[],4,FALSE)),\"\",VLOOKUP(D99,Rows[],4,FALSE))","v":"E4 - Anheddau Dosbarth O wedi'u heithrio: cyfwerthoedd band D "},{"$f":"IF(ISERROR(VLOOKUP($A99&\"_\"&H$10,qData1[],7,FALSE)),\"\",VLOOKUP($A99&\"_\"&H$10,qData1[],7,FALSE))","v":""},{"$f":"IF(ISERROR(VLOOKUP($A99&\"_\"&I$10,qData1[],7,FALSE)),0,VLOOKUP($A99&\"_\"&I$10,qData1[],7,FALSE))","v":0},0,{"v":0,"d":"0.00"},{"v":0,"d":"0.00"},{"$f":"IF(ISNA(VLOOKUP($D99&\"_\"&$E99,Tol[],6,FALSE)),$M$7,VLOOKUP($D99&\"_\"&$E99,Tol[],6,FALSE))","v":50},{"$f":"IF(ISNA(VLOOKUP($D99&\"_\"&$E99,Tol[],7,FALSE)),$N$7*100,VLOOKUP($D99&\"_\"&$E99,Tol[],7,FALSE)*100)","v":10},1,1,"","",null,"",null,null,{"$f":"IF(ISERROR(VLOOKUP($A99,#REF!,8,FALSE)),\"\",VLOOKUP($A99,#REF!,8,FALSE))","v":""},{"$f":"IF(ISERROR(VLOOKUP($A99,#REF!,9,FALSE)),\"\",VLOOKUP($A99,#REF!,9,FALSE))","v":""},{"$f":"IF(ISERROR(VLOOKUP($A99,#REF!,10,FALSE)),0,VLOOKUP($A99,#REF!,10,FALSE))","v":"00:00:00"}]
["0_26_11",{"$f":"IF(COUNTIF(Validations!$AB$8:$AB$56,A100)=1,1,\"\")","v":""},null,26,11,"T",{"$f":"IF(ISNA(VLOOKUP(D100,Rows[],4,FALSE)),\"\",VLOOKUP(D100,Rows[],4,FALSE))","v":"E5 - Y sylfaen dreth gyngor at ddiben pennu'r dreth ( = E3 + E4 )"},{"$f":"IF(ISERROR(VLOOKUP($A100&\"_\"&H$10,qData1[],7,FALSE)),\"\",VLOOKUP($A100&\"_\"&H$10,qData1[],7,FALSE))","v":""},{"$f":"IF(ISERROR(VLOOKUP($A100&\"_\"&I$10,qData1[],7,FALSE)),0,VLOOKUP($A100&\"_\"&I$10,qData1[],7,FALSE))","v":0},0,{"v":0,"d":"0.00"},{"v":0,"d":"0.00"},{"$f":"IF(ISNA(VLOOKUP($D100&\"_\"&$E100,Tol[],6,FALSE)),$M$7,VLOOKUP($D100&\"_\"&$E100,Tol[],6,FALSE))","v":100},{"$f":"IF(ISNA(VLOOKUP($D100&\"_\"&$E100,Tol[],7,FALSE)),$N$7*100,VLOOKUP($D100&\"_\"&$E100,Tol[],7,FALSE)*100)","v":10},1,1,"","",null,"",null,null,{"$f":"IF(ISERROR(VLOOKUP($A100,#REF!,8,FALSE)),\"\",VLOOKUP($A100,#REF!,8,FALSE))","v":""},{"$f":"IF(ISERROR(VLOOKUP($A100,#REF!,9,FALSE)),\"\",VLOOKUP($A100,#REF!,9,FALSE))","v":""},{"$f":"IF(ISERROR(VLOOKUP($A100,#REF!,10,FALSE)),0,VLOOKUP($A100,#REF!,10,FALSE))","v":"00:00:00"}]
["0_26.2_11",{"$f":"IF(COUNTIF(Validations!$AB$8:$AB$56,A101)=1,1,\"\")","v":""},null,26.2,11,"T",{"$f":"IF(ISNA(VLOOKUP(D101,Rows[],4,FALSE)),\"\",VLOOKUP(D101,Rows[],4,FALSE))","v":"E5b - Anheddau trethadwy gostyngedig ac eithrio addasiad tymor hir gwag ac ail gartref"},{"$f":"IF(ISERROR(VLOOKUP($A101&\"_\"&H$10,qData1[],7,FALSE)),\"\",VLOOKUP($A101&\"_\"&H$10,qData1[],7,FALSE))","v":""},{"$f":"IF(ISERROR(VLOOKUP($A101&\"_\"&I$10,qData1[],7,FALSE)),0,VLOOKUP($A101&\"_\"&I$10,qData1[],7,FALSE))","v":0},0,{"v":0,"d":"0.00"},{"v":0,"d":"0.00"},{"$f":"IF(ISNA(VLOOKUP($D101&\"_\"&$E101,Tol[],6,FALSE)),$M$7,VLOOKUP($D101&\"_\"&$E101,Tol[],6,FALSE))","v":100},{"$f":"IF(ISNA(VLOOKUP($D101&\"_\"&$E101,Tol[],7,FALSE)),$N$7*100,VLOOKUP($D101&\"_\"&$E101,Tol[],7,FALSE)*100)","v":10},1,1,"","",null,"",null,null,{"$f":"IF(ISERROR(VLOOKUP($A101,#REF!,8,FALSE)),\"\",VLOOKUP($A101,#REF!,8,FALSE))","v":""},{"$f":"IF(ISERROR(VLOOKUP($A101,#REF!,9,FALSE)),\"\",VLOOKUP($A101,#REF!,9,FALSE))","v":""},{"$f":"IF(ISERROR(VLOOKUP($A101,#REF!,10,FALSE)),0,VLOOKUP($A101,#REF!,10,FALSE))","v":"00:00:00"}]
["0_27_11",{"$f":"IF(COUNTIF(Validations!$AB$8:$AB$56,A102)=1,1,\"\")","v":1},null,27,11,"T",{"$f":"IF(ISNA(VLOOKUP(D102,Rows[],4,FALSE)),\"\",VLOOKUP(D102,Rows[],4,FALSE))","v":"E6 - 100% o'r sylfaen dreth gyngor ar gyfer cyfrifo'r grant cynnal refeniw ( =E5a+E4)"},{"$f":"IF(ISERROR(VLOOKUP($A102&\"_\"&H$10,qData1[],7,FALSE)),\"\",VLOOKUP($A102&\"_\"&H$10,qData1[],7,FALSE))","v":""},{"$f":"IF(ISERROR(VLOOKUP($A102&\"_\"&I$10,qData1[],7,FALSE)),0,VLOOKUP($A102&\"_\"&I$10,qData1[],7,FALSE))","v":0},0,{"v":0,"d":"0.00"},{"v":0,"d":"0.00"},{"$f":"IF(ISNA(VLOOKUP($D102&\"_\"&$E102,Tol[],6,FALSE)),$M$7,VLOOKUP($D102&\"_\"&$E102,Tol[],6,FALSE))","v":50},{"$f":"IF(ISNA(VLOOKUP($D102&\"_\"&$E102,Tol[],7,FALSE)),$N$7*100,VLOOKUP($D102&\"_\"&$E102,Tol[],7,FALSE)*100)","v":2},1,1,"","",null,"",null,null,{"$f":"IF(ISERROR(VLOOKUP($A102,#REF!,8,FALSE)),\"\",VLOOKUP($A102,#REF!,8,FALSE))","v":""},{"$f":"IF(ISERROR(VLOOKUP($A102,#REF!,9,FALSE)),\"\",VLOOKUP($A102,#REF!,9,FALSE))","v":""},{"$f":"IF(ISERROR(VLOOKUP($A102,#REF!,10,FALSE)),0,VLOOKUP($A102,#REF!,10,FALSE))","v":"00:00:00"}]
["0_28_11",{"$f":"IF(COUNTIF(Validations!$AB$8:$AB$56,A103)=1,1,\"\")","v":1},null,28,11,"T",{"$f":"IF(ISNA(VLOOKUP(D103,Rows[],4,FALSE)),\"\",VLOOKUP(D103,Rows[],4,FALSE))","v":"Rhan F: Anheddau wedi'u heithrio yn ôl dosbarth - Dosbarth A"},{"$f":"IF(ISERROR(VLOOKUP($A103&\"_\"&H$10,qData1[],7,FALSE)),\"\",VLOOKUP($A103&\"_\"&H$10,qData1[],7,FALSE))","v":""},{"$f":"IF(ISERROR(VLOOKUP($A103&\"_\"&I$10,qData1[],7,FALSE)),0,VLOOKUP($A103&\"_\"&I$10,qData1[],7,FALSE))","v":0},0,0,0,{"$f":"IF(ISNA(VLOOKUP($D103&\"_\"&$E103,Tol[],6,FALSE)),$M$7,VLOOKUP($D103&\"_\"&$E103,Tol[],6,FALSE))","v":50},{"$f":"IF(ISNA(VLOOKUP($D103&\"_\"&$E103,Tol[],7,FALSE)),$N$7*100,VLOOKUP($D103&\"_\"&$E103,Tol[],7,FALSE)*100)","v":10},1,1,"","",null,"",null,null,{"$f":"IF(ISERROR(VLOOKUP($A103,#REF!,8,FALSE)),\"\",VLOOKUP($A103,#REF!,8,FALSE))","v":""},{"$f":"IF(ISERROR(VLOOKUP($A103,#REF!,9,FALSE)),\"\",VLOOKUP($A103,#REF!,9,FALSE))","v":""},{"$f":"IF(ISERROR(VLOOKUP($A103,#REF!,10,FALSE)),0,VLOOKUP($A103,#REF!,10,FALSE))","v":"00:00:00"}]
["0_29_11",{"$f":"IF(COUNTIF(Validations!$AB$8:$AB$56,A104)=1,1,\"\")","v":1},null,29,11,"T",{"$f":"IF(ISNA(VLOOKUP(D104,Rows[],4,FALSE)),\"\",VLOOKUP(D104,Rows[],4,FALSE))","v":"Rhan F: Anheddau wedi'u heithrio yn ôl dosbarth - Dosbarth B"},{"$f":"IF(ISERROR(VLOOKUP($A104&\"_\"&H$10,qData1[],7,FALSE)),\"\",VLOOKUP($A104&\"_\"&H$10,qData1[],7,FALSE))","v":""},{"$f":"IF(ISERROR(VLOOKUP($A104&\"_\"&I$10,qData1[],7,FALSE)),0,VLOOKUP($A104&\"_\"&I$10,qData1[],7,FALSE))","v":0},0,0,0,{"$f":"IF(ISNA(VLOOKUP($D104&\"_\"&$E104,Tol[],6,FALSE)),$M$7,VLOOKUP($D104&\"_\"&$E104,Tol[],6,FALSE))","v":50},{"$f":"IF(ISNA(VLOOKUP($D104&\"_\"&$E104,Tol[],7,FALSE)),$N$7*100,VLOOKUP($D104&\"_\"&$E104,Tol[],7,FALSE)*100)","v":10},1,1,"","",1,1,null,null,{"$f":"IF(ISERROR(VLOOKUP($A104,#REF!,8,FALSE)),\"\",VLOOKUP($A104,#REF!,8,FALSE))","v":""},{"$f":"IF(ISERROR(VLOOKUP($A104,#REF!,9,FALSE)),\"\",VLOOKUP($A104,#REF!,9,FALSE))","v":""},{"$f":"IF(ISERROR(VLOOKUP($A104,#REF!,10,FALSE)),0,VLOOKUP($A104,#REF!,10,FALSE))","v":"00:00:00"}]
["0_30_11",{"$f":"IF(COUNTIF(Validations!$AB$8:$AB$56,A105)=1,1,\"\")","v":1},null,30,11,"T",{"$f":"IF(ISNA(VLOOKUP(D105,Rows[],4,FALSE)),\"\",VLOOKUP(D105,Rows[],4,FALSE))","v":"Rhan F: Anheddau wedi'u heithrio yn ôl dosbarth - Dosbarth C"},{"$f":"IF(ISERROR(VLOOKUP($A105&\"_\"&H$10,qData1[],7,FALSE)),\"\",VLOOKUP($A105&\"_\"&H$10,qData1[],7,FALSE))","v":""},{"$f":"IF(ISERROR(VLOOKUP($A105&\"_\"&I$10,qData1[],7,FALSE)),0,VLOOKUP($A105&\"_\"&I$10,qData1[],7,FALSE))","v":0},0,0,0,{"$f":"IF(ISNA(VLOOKUP($D105&\"_\"&$E105,Tol[],6,FALSE)),$M$7,VLOOKUP($D105&\"_\"&$E105,Tol[],6,FALSE))","v":50},{"$f":"IF(ISNA(VLOOKUP($D105&\"_\"&$E105,Tol[],7,FALSE)),$N$7*100,VLOOKUP($D105&\"_\"&$E105,Tol[],7,FALSE)*100)","v":10},1,1,"","",null,"",null,null,{"$f":"IF(ISERROR(VLOOKUP($A105,#REF!,8,FALSE)),\"\",VLOOKUP($A105,#REF!,8,FALSE))","v":""},{"$f":"IF(ISERROR(VLOOKUP($A105,#REF!,9,FALSE)),\"\",VLOOKUP($A105,#REF!,9,FALSE))","v":""},{"$f":"IF(ISERROR(VLOOKUP($A105,#REF!,10,FALSE)),0,VLOOKUP($A105,#REF!,10,FALSE))","v":"00:00:00"}]
["0_31_11",{"$f":"IF(COUNTIF(Validations!$AB$8:$AB$56,A106)=1,1,\"\")","v":1},null,31,11,"T",{"$f":"IF(ISNA(VLOOKUP(D106,Rows[],4,FALSE)),\"\",VLOOKUP(D106,Rows[],4,FALSE))","v":"Rhan F: Anheddau wedi'u heithrio yn ôl dosbarth - Dosbarth D"},{"$f":"IF(ISERROR(VLOOKUP($A106&\"_\"&H$10,qData1[],7,FALSE)),\"\",VLOOKUP($A106&\"_\"&H$10,qData1[],7,FALSE))","v":""},{"$f":"IF(ISERROR(VLOOKUP($A106&\"_\"&I$10,qData1[],7,FALSE)),0,VLOOKUP($A106&\"_\"&I$10,qData1[],7,FALSE))","v":0},0,0,0,{"$f":"IF(ISNA(VLOOKUP($D106&\"_\"&$E106,Tol[],6,FALSE)),$M$7,VLOOKUP($D106&\"_\"&$E106,Tol[],6,FALSE))","v":50},{"$f":"IF(ISNA(VLOOKUP($D106&\"_\"&$E106,Tol[],7,FALSE)),$N$7*100,VLOOKUP($D106&\"_\"&$E106,Tol[],7,FALSE)*100)","v":10},1,1,"","",null,"",null,null,{"$f":"IF(ISERROR(VLOOKUP($A106,#REF!,8,FALSE)),\"\",VLOOKUP($A106,#REF!,8,FALSE))","v":""},{"$f":"IF(ISERROR(VLOOKUP($A106,#REF!,9,FALSE)),\"\",VLOOKUP($A106,#REF!,9,FALSE))","v":""},{"$f":"IF(ISERROR(VLOOKUP($A106,#REF!,10,FALSE)),0,VLOOKUP($A106,#REF!,10,FALSE))","v":"00:00:00"}]
["0_32_11",{"$f":"IF(COUNTIF(Validations!$AB$8:$AB$56,A107)=1,1,\"\")","v":1},null,32,11,"T",{"$f":"IF(ISNA(VLOOKUP(D107,Rows[],4,FALSE)),\"\",VLOOKUP(D107,Rows[],4,FALSE))","v":"Rhan F: Anheddau wedi'u heithrio yn ôl dosbarth - Dosbarth E"},{"$f":"IF(ISERROR(VLOOKUP($A107&\"_\"&H$10,qData1[],7,FALSE)),\"\",VLOOKUP($A107&\"_\"&H$10,qData1[],7,FALSE))","v":""},{"$f":"IF(ISERROR(VLOOKUP($A107&\"_\"&I$10,qData1[],7,FALSE)),0,VLOOKUP($A107&\"_\"&I$10,qData1[],7,FALSE))","v":0},0,0,0,{"$f":"IF(ISNA(VLOOKUP($D107&\"_\"&$E107,Tol[],6,FALSE)),$M$7,VLOOKUP($D107&\"_\"&$E107,Tol[],6,FALSE))","v":50},{"$f":"IF(ISNA(VLOOKUP($D107&\"_\"&$E107,Tol[],7,FALSE)),$N$7*100,VLOOKUP($D107&\"_\"&$E107,Tol[],7,FALSE)*100)","v":10},1,1,"","",null,"",null,null,{"$f":"IF(ISERROR(VLOOKUP($A107,#REF!,8,FALSE)),\"\",VLOOKUP($A107,#REF!,8,FALSE))","v":""},{"$f":"IF(ISERROR(VLOOKUP($A107,#REF!,9,FALSE)),\"\",VLOOKUP($A107,#REF!,9,FALSE))","v":""},{"$f":"IF(ISERROR(VLOOKUP($A107,#REF!,10,FALSE)),0,VLOOKUP($A107,#REF!,10,FALSE))","v":"00:00:00"}]
[{"$f":"uanumber&\"_\"&D108&\"_\"&E108","v":"0_33_11"},{"$f":"IF(COUNTIF(Validations!$AB$8:$AB$56,A108)=1,1,\"\")","v":1},null,33,11,"T",{"$f":"IF(ISNA(VLOOKUP(D108,Rows[],4,FALSE)),\"\",VLOOKUP(D108,Rows[],4,FALSE))","v":"Rhan F: Anheddau wedi'u heithrio yn ôl dosbarth - Dosbarth F"},{"$f":"IF(ISERROR(VLOOKUP($A108&\"_\"&H$10,qData1[],7,FALSE)),\"\",VLOOKUP($A108&\"_\"&H$10,qData1[],7,FALSE))","v":""},{"$f":"IF(ISERROR(VLOOKUP($A108&\"_\"&I$10,qData1[],7,FALSE)),0,VLOOKUP($A108&\"_\"&I$10,qData1[],7,FALSE))","v":0},{"$f":"IF(ISERROR(VLOOKUP(D108&\"_\"&E108,Figs,8,FALSE)),0,VLOOKUP(D108&\"_\"&E108,Figs,8,FALSE))","v":0},0,0,{"$f":"IF(ISNA(VLOOKUP($D108&\"_\"&$E108,Tol[],6,FALSE)),$M$7,VLOOKUP($D108&\"_\"&$E108,Tol[],6,FALSE))","v":50},{"$f":"IF(ISNA(VLOOKUP($D108&\"_\"&$E108,Tol[],7,FALSE)),$N$7*100,VLOOKUP($D108&\"_\"&$E108,Tol[],7,FALSE)*100)","v":10},1,1,"","",null,"",null,null,{"$f":"IF(ISERROR(VLOOKUP($A108,#REF!,8,FALSE)),\"\",VLOOKUP($A108,#REF!,8,FALSE))","v":""},{"$f":"IF(ISERROR(VLOOKUP($A108,#REF!,9,FALSE)),\"\",VLOOKUP($A108,#REF!,9,FALSE))","v":""},{"$f":"IF(ISERROR(VLOOKUP($A108,#REF!,10,FALSE)),0,VLOOKUP($A108,#REF!,10,FALSE))","v":"00:00:00"}]
["0_34_11",{"$f":"IF(COUNTIF(Validations!$AB$8:$AB$56,A109)=1,1,\"\")","v":1},null,34,11,"T",{"$f":"IF(ISNA(VLOOKUP(D109,Rows[],4,FALSE)),\"\",VLOOKUP(D109,Rows[],4,FALSE))","v":"Rhan F: Anheddau wedi'u heithrio yn ôl dosbarth - Dosbarth G"},{"$f":"IF(ISERROR(VLOOKUP($A109&\"_\"&H$10,qData1[],7,FALSE)),\"\",VLOOKUP($A109&\"_\"&H$10,qData1[],7,FALSE))","v":""},{"$f":"IF(ISERROR(VLOOKUP($A109&\"_\"&I$10,qData1[],7,FALSE)),0,VLOOKUP($A109&\"_\"&I$10,qData1[],7,FALSE))","v":0},0,0,0,{"$f":"IF(ISNA(VLOOKUP($D109&\"_\"&$E109,Tol[],6,FALSE)),$M$7,VLOOKUP($D109&\"_\"&$E109,Tol[],6,FALSE))","v":50},{"$f":"IF(ISNA(VLOOKUP($D109&\"_\"&$E109,Tol[],7,FALSE)),$N$7*100,VLOOKUP($D109&\"_\"&$E109,Tol[],7,FALSE)*100)","v":10},1,1,"","",null,"",null,null,{"$f":"IF(ISERROR(VLOOKUP($A109,#REF!,8,FALSE)),\"\",VLOOKUP($A109,#REF!,8,FALSE))","v":""},{"$f":"IF(ISERROR(VLOOKUP($A109,#REF!,9,FALSE)),\"\",VLOOKUP($A109,#REF!,9,FALSE))","v":""},{"$f":"IF(ISERROR(VLOOKUP($A109,#REF!,10,FALSE)),0,VLOOKUP($A109,#REF!,10,FALSE))","v":"00:00:00"}]
["0_35_11",{"$f":"IF(COUNTIF(Validations!$AB$8:$AB$56,A110)=1,1,\"\")","v":1},null,35,11,"T",{"$f":"IF(ISNA(VLOOKUP(D110,Rows[],4,FALSE)),\"\",VLOOKUP(D110,Rows[],4,FALSE))","v":"Rhan F: Anheddau wedi'u heithrio yn ôl dosbarth - Dosbarth H"},{"$f":"IF(ISERROR(VLOOKUP($A110&\"_\"&H$10,qData1[],7,FALSE)),\"\",VLOOKUP($A110&\"_\"&H$10,qData1[],7,FALSE))","v":""},{"$f":"IF(ISERROR(VLOOKUP($A110&\"_\"&I$10,qData1[],7,FALSE)),0,VLOOKUP($A110&\"_\"&I$10,qData1[],7,FALSE))","v":0},0,0,0,{"$f":"IF(ISNA(VLOOKUP($D110&\"_\"&$E110,Tol[],6,FALSE)),$M$7,VLOOKUP($D110&\"_\"&$E110,Tol[],6,FALSE))","v":50},{"$f":"IF(ISNA(VLOOKUP($D110&\"_\"&$E110,Tol[],7,FALSE)),$N$7*100,VLOOKUP($D110&\"_\"&$E110,Tol[],7,FALSE)*100)","v":10},1,1,"","",null,"",null,null,{"$f":"IF(ISERROR(VLOOKUP($A110,#REF!,8,FALSE)),\"\",VLOOKUP($A110,#REF!,8,FALSE))","v":""},{"$f":"IF(ISERROR(VLOOKUP($A110,#REF!,9,FALSE)),\"\",VLOOKUP($A110,#REF!,9,FALSE))","v":""},{"$f":"IF(ISERROR(VLOOKUP($A110,#REF!,10,FALSE)),0,VLOOKUP($A110,#REF!,10,FALSE))","v":"00:00:00"}]
["0_36_11",{"$f":"IF(COUNTIF(Validations!$AB$8:$AB$56,A111)=1,1,\"\")","v":1},null,36,11,"T",{"$f":"IF(ISNA(VLOOKUP(D111,Rows[],4,FALSE)),\"\",VLOOKUP(D111,Rows[],4,FALSE))","v":"Rhan F: Anheddau wedi'u heithrio yn ôl dosbarth - Dosbarth I"},{"$f":"IF(ISERROR(VLOOKUP($A111&\"_\"&H$10,qData1[],7,FALSE)),\"\",VLOOKUP($A111&\"_\"&H$10,qData1[],7,FALSE))","v":""},{"$f":"IF(ISERROR(VLOOKUP($A111&\"_\"&I$10,qData1[],7,FALSE)),0,VLOOKUP($A111&\"_\"&I$10,qData1[],7,FALSE))","v":0},0,0,0,{"$f":"IF(ISNA(VLOOKUP($D111&\"_\"&$E111,Tol[],6,FALSE)),$M$7,VLOOKUP($D111&\"_\"&$E111,Tol[],6,FALSE))","v":50},{"$f":"IF(ISNA(VLOOKUP($D111&\"_\"&$E111,Tol[],7,FALSE)),$N$7*100,VLOOKUP($D111&\"_\"&$E111,Tol[],7,FALSE)*100)","v":10},1,1,"","",null,"",null,null,{"$f":"IF(ISERROR(VLOOKUP($A111,#REF!,8,FALSE)),\"\",VLOOKUP($A111,#REF!,8,FALSE))","v":""},{"$f":"IF(ISERROR(VLOOKUP($A111,#REF!,9,FALSE)),\"\",VLOOKUP($A111,#REF!,9,FALSE))","v":""},{"$f":"IF(ISERROR(VLOOKUP($A111,#REF!,10,FALSE)),0,VLOOKUP($A111,#REF!,10,FALSE))","v":"00:00:00"}]
["0_37_11",{"$f":"IF(COUNTIF(Validations!$AB$8:$AB$56,A112)=1,1,\"\")","v":1},null,37,11,"T",{"$f":"IF(ISNA(VLOOKUP(D112,Rows[],4,FALSE)),\"\",VLOOKUP(D112,Rows[],4,FALSE))","v":"Rhan F: Anheddau wedi'u heithrio yn ôl dosbarth - Dosbarth J"},{"$f":"IF(ISERROR(VLOOKUP($A112&\"_\"&H$10,qData1[],7,FALSE)),\"\",VLOOKUP($A112&\"_\"&H$10,qData1[],7,FALSE))","v":""},{"$f":"IF(ISERROR(VLOOKUP($A112&\"_\"&I$10,qData1[],7,FALSE)),0,VLOOKUP($A112&\"_\"&I$10,qData1[],7,FALSE))","v":0},0,0,0,{"$f":"IF(ISNA(VLOOKUP($D112&\"_\"&$E112,Tol[],6,FALSE)),$M$7,VLOOKUP($D112&\"_\"&$E112,Tol[],6,FALSE))","v":50},{"$f":"IF(ISNA(VLOOKUP($D112&\"_\"&$E112,Tol[],7,FALSE)),$N$7*100,VLOOKUP($D112&\"_\"&$E112,Tol[],7,FALSE)*100)","v":10},1,1,"","",null,"",null,null,{"$f":"IF(ISERROR(VLOOKUP($A112,#REF!,8,FALSE)),\"\",VLOOKUP($A112,#REF!,8,FALSE))","v":""},{"$f":"IF(ISERROR(VLOOKUP($A112,#REF!,9,FALSE)),\"\",VLOOKUP($A112,#REF!,9,FALSE))","v":""},{"$f":"IF(ISERROR(VLOOKUP($A112,#REF!,10,FALSE)),0,VLOOKUP($A112,#REF!,10,FALSE))","v":"00:00:00"}]
["0_38_11",{"$f":"IF(COUNTIF(Validations!$AB$8:$AB$56,A113)=1,1,\"\")","v":1},null,38,11,"T",{"$f":"IF(ISNA(VLOOKUP(D113,Rows[],4,FALSE)),\"\",VLOOKUP(D113,Rows[],4,FALSE))","v":"Rhan F: Anheddau wedi'u heithrio yn ôl dosbarth - Dosbarth K"},{"$f":"IF(ISERROR(VLOOKUP($A113&\"_\"&H$10,qData1[],7,FALSE)),\"\",VLOOKUP($A113&\"_\"&H$10,qData1[],7,FALSE))","v":""},{"$f":"IF(ISERROR(VLOOKUP($A113&\"_\"&I$10,qData1[],7,FALSE)),0,VLOOKUP($A113&\"_\"&I$10,qData1[],7,FALSE))","v":0},0,0,0,{"$f":"IF(ISNA(VLOOKUP($D113&\"_\"&$E113,Tol[],6,FALSE)),$M$7,VLOOKUP($D113&\"_\"&$E113,Tol[],6,FALSE))","v":50},{"$f":"IF(ISNA(VLOOKUP($D113&\"_\"&$E113,Tol[],7,FALSE)),$N$7*100,VLOOKUP($D113&\"_\"&$E113,Tol[],7,FALSE)*100)","v":10},1,1,"","",null,"",null,null,{"$f":"IF(ISERROR(VLOOKUP($A113,#REF!,8,FALSE)),\"\",VLOOKUP($A113,#REF!,8,FALSE))","v":""},{"$f":"IF(ISERROR(VLOOKUP($A113,#REF!,9,FALSE)),\"\",VLOOKUP($A113,#REF!,9,FALSE))","v":""},{"$f":"IF(ISERROR(VLOOKUP($A113,#REF!,10,FALSE)),0,VLOOKUP($A113,#REF!,10,FALSE))","v":"00:00:00"}]
["0_39_11",{"$f":"IF(COUNTIF(Validations!$AB$8:$AB$56,A114)=1,1,\"\")","v":1},null,39,11,"T",{"$f":"IF(ISNA(VLOOKUP(D114,Rows[],4,FALSE)),\"\",VLOOKUP(D114,Rows[],4,FALSE))","v":"Rhan F: Anheddau wedi'u heithrio yn ôl dosbarth - Dosbarth L"},{"$f":"IF(ISERROR(VLOOKUP($A114&\"_\"&H$10,qData1[],7,FALSE)),\"\",VLOOKUP($A114&\"_\"&H$10,qData1[],7,FALSE))","v":""},{"$f":"IF(ISERROR(VLOOKUP($A114&\"_\"&I$10,qData1[],7,FALSE)),0,VLOOKUP($A114&\"_\"&I$10,qData1[],7,FALSE))","v":0},0,0,0,{"$f":"IF(ISNA(VLOOKUP($D114&\"_\"&$E114,Tol[],6,FALSE)),$M$7,VLOOKUP($D114&\"_\"&$E114,Tol[],6,FALSE))","v":50},{"$f":"IF(ISNA(VLOOKUP($D114&\"_\"&$E114,Tol[],7,FALSE)),$N$7*100,VLOOKUP($D114&\"_\"&$E114,Tol[],7,FALSE)*100)","v":10},1,1,"","",null,"",null,null,{"$f":"IF(ISERROR(VLOOKUP($A114,#REF!,8,FALSE)),\"\",VLOOKUP($A114,#REF!,8,FALSE))","v":""},{"$f":"IF(ISERROR(VLOOKUP($A114,#REF!,9,FALSE)),\"\",VLOOKUP($A114,#REF!,9,FALSE))","v":""},{"$f":"IF(ISERROR(VLOOKUP($A114,#REF!,10,FALSE)),0,VLOOKUP($A114,#REF!,10,FALSE))","v":"00:00:00"}]
["0_40_11",{"$f":"IF(COUNTIF(Validations!$AB$8:$AB$56,A115)=1,1,\"\")","v":1},null,40,11,"T",{"$f":"IF(ISNA(VLOOKUP(D115,Rows[],4,FALSE)),\"\",VLOOKUP(D115,Rows[],4,FALSE))","v":"Rhan F: Anheddau wedi'u heithrio yn ôl dosbarth - Dosbarth M"},{"$f":"IF(ISERROR(VLOOKUP($A115&\"_\"&H$10,qData1[],7,FALSE)),\"\",VLOOKUP($A115&\"_\"&H$10,qData1[],7,FALSE))","v":""},{"$f":"IF(ISERROR(VLOOKUP($A115&\"_\"&I$10,qData1[],7,FALSE)),0,VLOOKUP($A115&\"_\"&I$10,qData1[],7,FALSE))","v":0},0,0,0,{"$f":"IF(ISNA(VLOOKUP($D115&\"_\"&$E115,Tol[],6,FALSE)),$M$7,VLOOKUP($D115&\"_\"&$E115,Tol[],6,FALSE))","v":50},{"$f":"IF(ISNA(VLOOKUP($D115&\"_\"&$E115,Tol[],7,FALSE)),$N$7*100,VLOOKUP($D115&\"_\"&$E115,Tol[],7,FALSE)*100)","v":10},1,1,"","",null,"",null,null,{"$f":"IF(ISERROR(VLOOKUP($A115,#REF!,8,FALSE)),\"\",VLOOKUP($A115,#REF!,8,FALSE))","v":""},{"$f":"IF(ISERROR(VLOOKUP($A115,#REF!,9,FALSE)),\"\",VLOOKUP($A115,#REF!,9,FALSE))","v":""},{"$f":"IF(ISERROR(VLOOKUP($A115,#REF!,10,FALSE)),0,VLOOKUP($A115,#REF!,10,FALSE))","v":"00:00:00"}]
["0_41_11",{"$f":"IF(COUNTIF(Validations!$AB$8:$AB$56,A116)=1,1,\"\")","v":1},null,41,11,"T",{"$f":"IF(ISNA(VLOOKUP(D116,Rows[],4,FALSE)),\"\",VLOOKUP(D116,Rows[],4,FALSE))","v":"Rhan F: Anheddau wedi'u heithrio yn ôl dosbarth - Dosbarth N"},{"$f":"IF(ISERROR(VLOOKUP($A116&\"_\"&H$10,qData1[],7,FALSE)),\"\",VLOOKUP($A116&\"_\"&H$10,qData1[],7,FALSE))","v":""},{"$f":"IF(ISERROR(VLOOKUP($A116&\"_\"&I$10,qData1[],7,FALSE)),0,VLOOKUP($A116&\"_\"&I$10,qData1[],7,FALSE))","v":0},0,0,0,{"$f":"IF(ISNA(VLOOKUP($D116&\"_\"&$E116,Tol[],6,FALSE)),$M$7,VLOOKUP($D116&\"_\"&$E116,Tol[],6,FALSE))","v":50},{"$f":"IF(ISNA(VLOOKUP($D116&\"_\"&$E116,Tol[],7,FALSE)),$N$7*100,VLOOKUP($D116&\"_\"&$E116,Tol[],7,FALSE)*100)","v":10},1,1,"","",null,"",null,null,{"$f":"IF(ISERROR(VLOOKUP($A116,#REF!,8,FALSE)),\"\",VLOOKUP($A116,#REF!,8,FALSE))","v":""},{"$f":"IF(ISERROR(VLOOKUP($A116,#REF!,9,FALSE)),\"\",VLOOKUP($A116,#REF!,9,FALSE))","v":""},{"$f":"IF(ISERROR(VLOOKUP($A116,#REF!,10,FALSE)),0,VLOOKUP($A116,#REF!,10,FALSE))","v":"00:00:00"}]
["0_42_11",{"$f":"IF(COUNTIF(Validations!$AB$8:$AB$56,A117)=1,1,\"\")","v":1},null,42,11,"T",{"$f":"IF(ISNA(VLOOKUP(D117,Rows[],4,FALSE)),\"\",VLOOKUP(D117,Rows[],4,FALSE))","v":"Rhan F: Anheddau wedi'u heithrio yn ôl dosbarth - Dosbarth O"},{"$f":"IF(ISERROR(VLOOKUP($A117&\"_\"&H$10,qData1[],7,FALSE)),\"\",VLOOKUP($A117&\"_\"&H$10,qData1[],7,FALSE))","v":""},{"$f":"IF(ISERROR(VLOOKUP($A117&\"_\"&I$10,qData1[],7,FALSE)),0,VLOOKUP($A117&\"_\"&I$10,qData1[],7,FALSE))","v":0},0,0,0,{"$f":"IF(ISNA(VLOOKUP($D117&\"_\"&$E117,Tol[],6,FALSE)),$M$7,VLOOKUP($D117&\"_\"&$E117,Tol[],6,FALSE))","v":50},{"$f":"IF(ISNA(VLOOKUP($D117&\"_\"&$E117,Tol[],7,FALSE)),$N$7*100,VLOOKUP($D117&\"_\"&$E117,Tol[],7,FALSE)*100)","v":10},1,1,"","",null,"",null,null,{"$f":"IF(ISERROR(VLOOKUP($A117,#REF!,8,FALSE)),\"\",VLOOKUP($A117,#REF!,8,FALSE))","v":""},{"$f":"IF(ISERROR(VLOOKUP($A117,#REF!,9,FALSE)),\"\",VLOOKUP($A117,#REF!,9,FALSE))","v":""},{"$f":"IF(ISERROR(VLOOKUP($A117,#REF!,10,FALSE)),0,VLOOKUP($A117,#REF!,10,FALSE))","v":"00:00:00"}]
["0_43_11",{"$f":"IF(COUNTIF(Validations!$AB$8:$AB$56,A118)=1,1,\"\")","v":1},null,43,11,"T",{"$f":"IF(ISNA(VLOOKUP(D118,Rows[],4,FALSE)),\"\",VLOOKUP(D118,Rows[],4,FALSE))","v":"Rhan F: Anheddau wedi'u heithrio yn ôl dosbarth - Dosbarth P"},{"$f":"IF(ISERROR(VLOOKUP($A118&\"_\"&H$10,qData1[],7,FALSE)),\"\",VLOOKUP($A118&\"_\"&H$10,qData1[],7,FALSE))","v":""},{"$f":"IF(ISERROR(VLOOKUP($A118&\"_\"&I$10,qData1[],7,FALSE)),0,VLOOKUP($A118&\"_\"&I$10,qData1[],7,FALSE))","v":0},0,0,0,{"$f":"IF(ISNA(VLOOKUP($D118&\"_\"&$E118,Tol[],6,FALSE)),$M$7,VLOOKUP($D118&\"_\"&$E118,Tol[],6,FALSE))","v":50},{"$f":"IF(ISNA(VLOOKUP($D118&\"_\"&$E118,Tol[],7,FALSE)),$N$7*100,VLOOKUP($D118&\"_\"&$E118,Tol[],7,FALSE)*100)","v":10},1,1,"","",null,"",null,null,{"$f":"IF(ISERROR(VLOOKUP($A118,#REF!,8,FALSE)),\"\",VLOOKUP($A118,#REF!,8,FALSE))","v":""},{"$f":"IF(ISERROR(VLOOKUP($A118,#REF!,9,FALSE)),\"\",VLOOKUP($A118,#REF!,9,FALSE))","v":""},{"$f":"IF(ISERROR(VLOOKUP($A118,#REF!,10,FALSE)),0,VLOOKUP($A118,#REF!,10,FALSE))","v":"00:00:00"}]
["0_44_11",{"$f":"IF(COUNTIF(Validations!$AB$8:$AB$56,A119)=1,1,\"\")","v":1},null,44,11,"T",{"$f":"IF(ISNA(VLOOKUP(D119,Rows[],4,FALSE)),\"\",VLOOKUP(D119,Rows[],4,FALSE))","v":"Rhan F: Anheddau wedi'u heithrio yn ôl dosbarth - Dosbarth Q"},{"$f":"IF(ISERROR(VLOOKUP($A119&\"_\"&H$10,qData1[],7,FALSE)),\"\",VLOOKUP($A119&\"_\"&H$10,qData1[],7,FALSE))","v":""},{"$f":"IF(ISERROR(VLOOKUP($A119&\"_\"&I$10,qData1[],7,FALSE)),0,VLOOKUP($A119&\"_\"&I$10,qData1[],7,FALSE))","v":0},0,0,0,{"$f":"IF(ISNA(VLOOKUP($D119&\"_\"&$E119,Tol[],6,FALSE)),$M$7,VLOOKUP($D119&\"_\"&$E119,Tol[],6,FALSE))","v":50},{"$f":"IF(ISNA(VLOOKUP($D119&\"_\"&$E119,Tol[],7,FALSE)),$N$7*100,VLOOKUP($D119&\"_\"&$E119,Tol[],7,FALSE)*100)","v":10},1,1,"","",null,"",null,null,{"$f":"IF(ISERROR(VLOOKUP($A119,#REF!,8,FALSE)),\"\",VLOOKUP($A119,#REF!,8,FALSE))","v":""},{"$f":"IF(ISERROR(VLOOKUP($A119,#REF!,9,FALSE)),\"\",VLOOKUP($A119,#REF!,9,FALSE))","v":""},{"$f":"IF(ISERROR(VLOOKUP($A119,#REF!,10,FALSE)),0,VLOOKUP($A119,#REF!,10,FALSE))","v":"00:00:00"}]
["0_45_11",{"$f":"IF(COUNTIF(Validations!$AB$8:$AB$56,A120)=1,1,\"\")","v":1},null,45,11,"T",{"$f":"IF(ISNA(VLOOKUP(D120,Rows[],4,FALSE)),\"\",VLOOKUP(D120,Rows[],4,FALSE))","v":"Rhan F: Anheddau wedi'u heithrio yn ôl dosbarth - Dosbarth R"},{"$f":"IF(ISERROR(VLOOKUP($A120&\"_\"&H$10,qData1[],7,FALSE)),\"\",VLOOKUP($A120&\"_\"&H$10,qData1[],7,FALSE))","v":""},{"$f":"IF(ISERROR(VLOOKUP($A120&\"_\"&I$10,qData1[],7,FALSE)),0,VLOOKUP($A120&\"_\"&I$10,qData1[],7,FALSE))","v":0},0,0,0,{"$f":"IF(ISNA(VLOOKUP($D120&\"_\"&$E120,Tol[],6,FALSE)),$M$7,VLOOKUP($D120&\"_\"&$E120,Tol[],6,FALSE))","v":50},{"$f":"IF(ISNA(VLOOKUP($D120&\"_\"&$E120,Tol[],7,FALSE)),$N$7*100,VLOOKUP($D120&\"_\"&$E120,Tol[],7,FALSE)*100)","v":10},1,1,"","",null,"",null,null,{"$f":"IF(ISERROR(VLOOKUP($A120,#REF!,8,FALSE)),\"\",VLOOKUP($A120,#REF!,8,FALSE))","v":""},{"$f":"IF(ISERROR(VLOOKUP($A120,#REF!,9,FALSE)),\"\",VLOOKUP($A120,#REF!,9,FALSE))","v":""},{"$f":"IF(ISERROR(VLOOKUP($A120,#REF!,10,FALSE)),0,VLOOKUP($A120,#REF!,10,FALSE))","v":"00:00:00"}]
["0_46_11",{"$f":"IF(COUNTIF(Validations!$AB$8:$AB$56,A121)=1,1,\"\")","v":1},null,46,11,"T",{"$f":"IF(ISNA(VLOOKUP(D121,Rows[],4,FALSE)),\"\",VLOOKUP(D121,Rows[],4,FALSE))","v":"Rhan F: Anheddau wedi'u heithrio yn ôl dosbarth - Dosbarth S"},{"$f":"IF(ISERROR(VLOOKUP($A121&\"_\"&H$10,qData1[],7,FALSE)),\"\",VLOOKUP($A121&\"_\"&H$10,qData1[],7,FALSE))","v":""},{"$f":"IF(ISERROR(VLOOKUP($A121&\"_\"&I$10,qData1[],7,FALSE)),0,VLOOKUP($A121&\"_\"&I$10,qData1[],7,FALSE))","v":0},0,0,0,{"$f":"IF(ISNA(VLOOKUP($D121&\"_\"&$E121,Tol[],6,FALSE)),$M$7,VLOOKUP($D121&\"_\"&$E121,Tol[],6,FALSE))","v":50},{"$f":"IF(ISNA(VLOOKUP($D121&\"_\"&$E121,Tol[],7,FALSE)),$N$7*100,VLOOKUP($D121&\"_\"&$E121,Tol[],7,FALSE)*100)","v":10},1,1,"","",null,"",null,null,{"$f":"IF(ISERROR(VLOOKUP($A121,#REF!,8,FALSE)),\"\",VLOOKUP($A121,#REF!,8,FALSE))","v":""},{"$f":"IF(ISERROR(VLOOKUP($A121,#REF!,9,FALSE)),\"\",VLOOKUP($A121,#REF!,9,FALSE))","v":""},{"$f":"IF(ISERROR(VLOOKUP($A121,#REF!,10,FALSE)),0,VLOOKUP($A121,#REF!,10,FALSE))","v":"00:00:00"}]
["0_47_11",{"$f":"IF(COUNTIF(Validations!$AB$8:$AB$56,A122)=1,1,\"\")","v":1},null,47,11,"T",{"$f":"IF(ISNA(VLOOKUP(D122,Rows[],4,FALSE)),\"\",VLOOKUP(D122,Rows[],4,FALSE))","v":"Rhan F: Anheddau wedi'u heithrio yn ôl dosbarth - Dosbarth T"},{"$f":"IF(ISERROR(VLOOKUP($A122&\"_\"&H$10,qData1[],7,FALSE)),\"\",VLOOKUP($A122&\"_\"&H$10,qData1[],7,FALSE))","v":""},{"$f":"IF(ISERROR(VLOOKUP($A122&\"_\"&I$10,qData1[],7,FALSE)),0,VLOOKUP($A122&\"_\"&I$10,qData1[],7,FALSE))","v":0},0,0,0,{"$f":"IF(ISNA(VLOOKUP($D122&\"_\"&$E122,Tol[],6,FALSE)),$M$7,VLOOKUP($D122&\"_\"&$E122,Tol[],6,FALSE))","v":50},{"$f":"IF(ISNA(VLOOKUP($D122&\"_\"&$E122,Tol[],7,FALSE)),$N$7*100,VLOOKUP($D122&\"_\"&$E122,Tol[],7,FALSE)*100)","v":10},1,1,"","",null,"",null,null,{"$f":"IF(ISERROR(VLOOKUP($A122,#REF!,8,FALSE)),\"\",VLOOKUP($A122,#REF!,8,FALSE))","v":""},{"$f":"IF(ISERROR(VLOOKUP($A122,#REF!,9,FALSE)),\"\",VLOOKUP($A122,#REF!,9,FALSE))","v":""},{"$f":"IF(ISERROR(VLOOKUP($A122,#REF!,10,FALSE)),0,VLOOKUP($A122,#REF!,10,FALSE))","v":"00:00:00"}]
["0_49_11",{"$f":"IF(COUNTIF(Validations!$AB$8:$AB$56,A123)=1,1,\"\")","v":1},null,49,11,"T",{"$f":"IF(ISNA(VLOOKUP(D123,Rows[],4,FALSE)),\"\",VLOOKUP(D123,Rows[],4,FALSE))","v":"Rhan F: Anheddau wedi'u heithrio yn ôl dosbarth - Dosbarth U"},{"$f":"IF(ISERROR(VLOOKUP($A123&\"_\"&H$10,qData1[],7,FALSE)),\"\",VLOOKUP($A123&\"_\"&H$10,qData1[],7,FALSE))","v":""},{"$f":"IF(ISERROR(VLOOKUP($A123&\"_\"&I$10,qData1[],7,FALSE)),0,VLOOKUP($A123&\"_\"&I$10,qData1[],7,FALSE))","v":0},0,0,0,{"$f":"IF(ISNA(VLOOKUP($D123&\"_\"&$E123,Tol[],6,FALSE)),$M$7,VLOOKUP($D123&\"_\"&$E123,Tol[],6,FALSE))","v":50},{"$f":"IF(ISNA(VLOOKUP($D123&\"_\"&$E123,Tol[],7,FALSE)),$N$7*100,VLOOKUP($D123&\"_\"&$E123,Tol[],7,FALSE)*100)","v":10},1,1,"","",null,"",null,null,{"$f":"IF(ISERROR(VLOOKUP($A123,#REF!,8,FALSE)),\"\",VLOOKUP($A123,#REF!,8,FALSE))","v":""},{"$f":"IF(ISERROR(VLOOKUP($A123,#REF!,9,FALSE)),\"\",VLOOKUP($A123,#REF!,9,FALSE))","v":""},{"$f":"IF(ISERROR(VLOOKUP($A123,#REF!,10,FALSE)),0,VLOOKUP($A123,#REF!,10,FALSE))","v":"00:00:00"}]
["0_50_11",{"$f":"IF(COUNTIF(Validations!$AB$8:$AB$56,A124)=1,1,\"\")","v":1},null,50,11,"T",{"$f":"IF(ISNA(VLOOKUP(D124,Rows[],4,FALSE)),\"\",VLOOKUP(D124,Rows[],4,FALSE))","v":"Rhan F: Anheddau wedi'u heithrio yn ôl dosbarth - Dosbarth V"},{"$f":"IF(ISERROR(VLOOKUP($A124&\"_\"&H$10,qData1[],7,FALSE)),\"\",VLOOKUP($A124&\"_\"&H$10,qData1[],7,FALSE))","v":""},{"$f":"IF(ISERROR(VLOOKUP($A124&\"_\"&I$10,qData1[],7,FALSE)),0,VLOOKUP($A124&\"_\"&I$10,qData1[],7,FALSE))","v":0},0,0,0,{"$f":"IF(ISNA(VLOOKUP($D124&\"_\"&$E124,Tol[],6,FALSE)),$M$7,VLOOKUP($D124&\"_\"&$E124,Tol[],6,FALSE))","v":50},{"$f":"IF(ISNA(VLOOKUP($D124&\"_\"&$E124,Tol[],7,FALSE)),$N$7*100,VLOOKUP($D124&\"_\"&$E124,Tol[],7,FALSE)*100)","v":10},1,1,"","",null,"",null,null,{"$f":"IF(ISERROR(VLOOKUP($A124,#REF!,8,FALSE)),\"\",VLOOKUP($A124,#REF!,8,FALSE))","v":""},{"$f":"IF(ISERROR(VLOOKUP($A124,#REF!,9,FALSE)),\"\",VLOOKUP($A124,#REF!,9,FALSE))","v":""},{"$f":"IF(ISERROR(VLOOKUP($A124,#REF!,10,FALSE)),0,VLOOKUP($A124,#REF!,10,FALSE))","v":"00:00:00"}]
["0_51_11",{"$f":"IF(COUNTIF(Validations!$AB$8:$AB$56,A125)=1,1,\"\")","v":1},null,51,11,"T",{"$f":"IF(ISNA(VLOOKUP(D125,Rows[],4,FALSE)),\"\",VLOOKUP(D125,Rows[],4,FALSE))","v":"Rhan F: Anheddau wedi'u heithrio yn ôl dosbarth - Dosbarth W"},{"$f":"IF(ISERROR(VLOOKUP($A125&\"_\"&H$10,qData1[],7,FALSE)),\"\",VLOOKUP($A125&\"_\"&H$10,qData1[],7,FALSE))","v":""},{"$f":"IF(ISERROR(VLOOKUP($A125&\"_\"&I$10,qData1[],7,FALSE)),0,VLOOKUP($A125&\"_\"&I$10,qData1[],7,FALSE))","v":0},0,0,0,{"$f":"IF(ISNA(VLOOKUP($D125&\"_\"&$E125,Tol[],6,FALSE)),$M$7,VLOOKUP($D125&\"_\"&$E125,Tol[],6,FALSE))","v":50},{"$f":"IF(ISNA(VLOOKUP($D125&\"_\"&$E125,Tol[],7,FALSE)),$N$7*100,VLOOKUP($D125&\"_\"&$E125,Tol[],7,FALSE)*100)","v":10},1,1,"","",null,"",null,null,{"$f":"IF(ISERROR(VLOOKUP($A125,#REF!,8,FALSE)),\"\",VLOOKUP($A125,#REF!,8,FALSE))","v":""},{"$f":"IF(ISERROR(VLOOKUP($A125,#REF!,9,FALSE)),\"\",VLOOKUP($A125,#REF!,9,FALSE))","v":""},{"$f":"IF(ISERROR(VLOOKUP($A125,#REF!,10,FALSE)),0,VLOOKUP($A125,#REF!,10,FALSE))","v":"00:00:00"}]
[{"$f":"uanumber&\"_\"&D126&\"_\"&E126","v":"0_51.1_11"},{"$f":"IF(COUNTIF(Validations!$AB$8:$AB$56,A126)=1,1,\"\")","v":""},null,51.1,11,"T",{"$f":"IF(ISNA(VLOOKUP(D126,Rows[],4,FALSE)),\"\",VLOOKUP(D126,Rows[],4,FALSE))","v":"Rhan F: Pobl sy'n gadael gofal - Dosbarth X"},{"$f":"IF(ISERROR(VLOOKUP($A126&\"_\"&H$10,qData1[],7,FALSE)),\"\",VLOOKUP($A126&\"_\"&H$10,qData1[],7,FALSE))","v":""},{"$f":"IF(ISERROR(VLOOKUP($A126&\"_\"&I$10,qData1[],7,FALSE)),0,VLOOKUP($A126&\"_\"&I$10,qData1[],7,FALSE))","v":0},0,{"$f":"J126-I126","v":0},{"$f":"IF(OR(I126=0,J126=0),0,K126/I126*100)","v":0},{"$f":"IF(ISNA(VLOOKUP($D126&\"_\"&$E126,Tol[],6,FALSE)),$M$7,VLOOKUP($D126&\"_\"&$E126,Tol[],6,FALSE))","v":100},{"$f":"IF(ISNA(VLOOKUP($D126&\"_\"&$E126,Tol[],7,FALSE)),$N$7*100,VLOOKUP($D126&\"_\"&$E126,Tol[],7,FALSE)*100)","v":10},{"$f":"IF(I126=0,1,\"\")","v":1},{"$f":"IF(J126=0,1,\"\")","v":1},{"$f":"IF(SUM(O126:P126)=2,\"\",IF(SUM(O126:P126)=1,9,IF(AND(ABS(K126)>M126,ABS(L126)>N126),3,IF(ABS(K126)>M126,1,IF(ABS(L126)>N126,2,\"\")))))","v":""},{"$f":"IF(Q126=3,1,\"\")","v":""}]
["0_51.5_11",{"$f":"IF(COUNTIF(Validations!$AB$8:$AB$56,A127)=1,1,\"\")","v":1},null,51.5,11,"T",{"$f":"IF(ISNA(VLOOKUP(D127,Rows[],4,FALSE)),\"\",VLOOKUP(D127,Rows[],4,FALSE))","v":"Rhan F: Anheddau wedi'u heithrio yn ôl dosbarth - Cyfanswm pob dosbarth"},{"$f":"IF(ISERROR(VLOOKUP($A127&\"_\"&H$10,qData1[],7,FALSE)),\"\",VLOOKUP($A127&\"_\"&H$10,qData1[],7,FALSE))","v":""},{"$f":"IF(ISERROR(VLOOKUP($A127&\"_\"&I$10,qData1[],7,FALSE)),0,VLOOKUP($A127&\"_\"&I$10,qData1[],7,FALSE))","v":0},0,0,0,{"$f":"IF(ISNA(VLOOKUP($D127&\"_\"&$E127,Tol[],6,FALSE)),$M$7,VLOOKUP($D127&\"_\"&$E127,Tol[],6,FALSE))","v":50},{"$f":"IF(ISNA(VLOOKUP($D127&\"_\"&$E127,Tol[],7,FALSE)),$N$7*100,VLOOKUP($D127&\"_\"&$E127,Tol[],7,FALSE)*100)","v":10},1,1,"","",null,"",null,null,{"$f":"IF(ISERROR(VLOOKUP($A127,#REF!,8,FALSE)),\"\",VLOOKUP($A127,#REF!,8,FALSE))","v":""},{"$f":"IF(ISERROR(VLOOKUP($A127,#REF!,9,FALSE)),\"\",VLOOKUP($A127,#REF!,9,FALSE))","v":""},{"$f":"IF(ISERROR(VLOOKUP($A127,#REF!,10,FALSE)),0,VLOOKUP($A127,#REF!,10,FALSE))","v":"00:00:00"}]
["0_64_2",{"$f":"IF(COUNTIF(Validations!$AB$8:$AB$56,A128)=1,1,\"\")","v":""},null,64,2,"",{"$f":"IF(ISNA(VLOOKUP(D128,Rows[],4,FALSE)),\"\",VLOOKUP(D128,Rows[],4,FALSE))","v":"H1 - Eiddo gwag hirdymor trethadwy heb unrhyw ddisgownt na phremiwm"},{"$f":"IF(ISERROR(VLOOKUP($A128&\"_\"&H$10,qData1[],7,FALSE)),\"\",VLOOKUP($A128&\"_\"&H$10,qData1[],7,FALSE))","v":""},{"$f":"IF(ISERROR(VLOOKUP($A128&\"_\"&I$10,qData1[],7,FALSE)),0,VLOOKUP($A128&\"_\"&I$10,qData1[],7,FALSE))","v":0},0,0,0,{"$f":"IF(ISNA(VLOOKUP($D128&\"_\"&$E128,Tol[],6,FALSE)),$M$7,VLOOKUP($D128&\"_\"&$E128,Tol[],6,FALSE))","v":100},{"$f":"IF(ISNA(VLOOKUP($D128&\"_\"&$E128,Tol[],7,FALSE)),$N$7*100,VLOOKUP($D128&\"_\"&$E128,Tol[],7,FALSE)*100)","v":10},1,1,"","",null,"",null,null,{"$f":"IF(ISERROR(VLOOKUP($A128,#REF!,8,FALSE)),\"\",VLOOKUP($A128,#REF!,8,FALSE))","v":""},{"$f":"IF(ISERROR(VLOOKUP($A128,#REF!,9,FALSE)),\"\",VLOOKUP($A128,#REF!,9,FALSE))","v":""},{"$f":"IF(ISERROR(VLOOKUP($A128,#REF!,10,FALSE)),0,VLOOKUP($A128,#REF!,10,FALSE))","v":"00:00:00"}]
["0_64_3",{"$f":"IF(COUNTIF(Validations!$AB$8:$AB$56,A129)=1,1,\"\")","v":""},null,64,3,"",{"$f":"IF(ISNA(VLOOKUP(D129,Rows[],4,FALSE)),\"\",VLOOKUP(D129,Rows[],4,FALSE))","v":"H1 - Eiddo gwag hirdymor trethadwy heb unrhyw ddisgownt na phremiwm"},{"$f":"IF(ISERROR(VLOOKUP($A129&\"_\"&H$10,qData1[],7,FALSE)),\"\",VLOOKUP($A129&\"_\"&H$10,qData1[],7,FALSE))","v":""},{"$f":"IF(ISERROR(VLOOKUP($A129&\"_\"&I$10,qData1[],7,FALSE)),0,VLOOKUP($A129&\"_\"&I$10,qData1[],7,FALSE))","v":0},0,0,0,{"$f":"IF(ISNA(VLOOKUP($D129&\"_\"&$E129,Tol[],6,FALSE)),$M$7,VLOOKUP($D129&\"_\"&$E129,Tol[],6,FALSE))","v":100},{"$f":"IF(ISNA(VLOOKUP($D129&\"_\"&$E129,Tol[],7,FALSE)),$N$7*100,VLOOKUP($D129&\"_\"&$E129,Tol[],7,FALSE)*100)","v":10},1,1,"","",null,"",null,null,{"$f":"IF(ISERROR(VLOOKUP($A129,#REF!,8,FALSE)),\"\",VLOOKUP($A129,#REF!,8,FALSE))","v":""},{"$f":"IF(ISERROR(VLOOKUP($A129,#REF!,9,FALSE)),\"\",VLOOKUP($A129,#REF!,9,FALSE))","v":""},{"$f":"IF(ISERROR(VLOOKUP($A129,#REF!,10,FALSE)),0,VLOOKUP($A129,#REF!,10,FALSE))","v":"00:00:00"}]
["0_64_4",{"$f":"IF(COUNTIF(Validations!$AB$8:$AB$56,A130)=1,1,\"\")","v":""},null,64,4,"",{"$f":"IF(ISNA(VLOOKUP(D130,Rows[],4,FALSE)),\"\",VLOOKUP(D130,Rows[],4,FALSE))","v":"H1 - Eiddo gwag hirdymor trethadwy heb unrhyw ddisgownt na phremiwm"},{"$f":"IF(ISERROR(VLOOKUP($A130&\"_\"&H$10,qData1[],7,FALSE)),\"\",VLOOKUP($A130&\"_\"&H$10,qData1[],7,FALSE))","v":""},{"$f":"IF(ISERROR(VLOOKUP($A130&\"_\"&I$10,qData1[],7,FALSE)),0,VLOOKUP($A130&\"_\"&I$10,qData1[],7,FALSE))","v":0},0,0,0,{"$f":"IF(ISNA(VLOOKUP($D130&\"_\"&$E130,Tol[],6,FALSE)),$M$7,VLOOKUP($D130&\"_\"&$E130,Tol[],6,FALSE))","v":100},{"$f":"IF(ISNA(VLOOKUP($D130&\"_\"&$E130,Tol[],7,FALSE)),$N$7*100,VLOOKUP($D130&\"_\"&$E130,Tol[],7,FALSE)*100)","v":10},1,1,"","",null,"",null,null,{"$f":"IF(ISERROR(VLOOKUP($A130,#REF!,8,FALSE)),\"\",VLOOKUP($A130,#REF!,8,FALSE))","v":""},{"$f":"IF(ISERROR(VLOOKUP($A130,#REF!,9,FALSE)),\"\",VLOOKUP($A130,#REF!,9,FALSE))","v":""},{"$f":"IF(ISERROR(VLOOKUP($A130,#REF!,10,FALSE)),0,VLOOKUP($A130,#REF!,10,FALSE))","v":"00:00:00"}]
["0_64_5",{"$f":"IF(COUNTIF(Validations!$AB$8:$AB$56,A131)=1,1,\"\")","v":""},null,64,5,"",{"$f":"IF(ISNA(VLOOKUP(D131,Rows[],4,FALSE)),\"\",VLOOKUP(D131,Rows[],4,FALSE))","v":"H1 - Eiddo gwag hirdymor trethadwy heb unrhyw ddisgownt na phremiwm"},{"$f":"IF(ISERROR(VLOOKUP($A131&\"_\"&H$10,qData1[],7,FALSE)),\"\",VLOOKUP($A131&\"_\"&H$10,qData1[],7,FALSE))","v":""},{"$f":"IF(ISERROR(VLOOKUP($A131&\"_\"&I$10,qData1[],7,FALSE)),0,VLOOKUP($A131&\"_\"&I$10,qData1[],7,FALSE))","v":0},0,0,0,{"$f":"IF(ISNA(VLOOKUP($D131&\"_\"&$E131,Tol[],6,FALSE)),$M$7,VLOOKUP($D131&\"_\"&$E131,Tol[],6,FALSE))","v":100},{"$f":"IF(ISNA(VLOOKUP($D131&\"_\"&$E131,Tol[],7,FALSE)),$N$7*100,VLOOKUP($D131&\"_\"&$E131,Tol[],7,FALSE)*100)","v":10},1,1,"","",null,"",null,null,{"$f":"IF(ISERROR(VLOOKUP($A131,#REF!,8,FALSE)),\"\",VLOOKUP($A131,#REF!,8,FALSE))","v":""},{"$f":"IF(ISERROR(VLOOKUP($A131,#REF!,9,FALSE)),\"\",VLOOKUP($A131,#REF!,9,FALSE))","v":""},{"$f":"IF(ISERROR(VLOOKUP($A131,#REF!,10,FALSE)),0,VLOOKUP($A131,#REF!,10,FALSE))","v":"00:00:00"}]
["0_64_6",{"$f":"IF(COUNTIF(Validations!$AB$8:$AB$56,A132)=1,1,\"\")","v":""},null,64,6,"",{"$f":"IF(ISNA(VLOOKUP(D132,Rows[],4,FALSE)),\"\",VLOOKUP(D132,Rows[],4,FALSE))","v":"H1 - Eiddo gwag hirdymor trethadwy heb unrhyw ddisgownt na phremiwm"},{"$f":"IF(ISERROR(VLOOKUP($A132&\"_\"&H$10,qData1[],7,FALSE)),\"\",VLOOKUP($A132&\"_\"&H$10,qData1[],7,FALSE))","v":""},{"$f":"IF(ISERROR(VLOOKUP($A132&\"_\"&I$10,qData1[],7,FALSE)),0,VLOOKUP($A132&\"_\"&I$10,qData1[],7,FALSE))","v":0},0,0,0,{"$f":"IF(ISNA(VLOOKUP($D132&\"_\"&$E132,Tol[],6,FALSE)),$M$7,VLOOKUP($D132&\"_\"&$E132,Tol[],6,FALSE))","v":100},{"$f":"IF(ISNA(VLOOKUP($D132&\"_\"&$E132,Tol[],7,FALSE)),$N$7*100,VLOOKUP($D132&\"_\"&$E132,Tol[],7,FALSE)*100)","v":10},1,1,"","",null,"",null,null,{"$f":"IF(ISERROR(VLOOKUP($A132,#REF!,8,FALSE)),\"\",VLOOKUP($A132,#REF!,8,FALSE))","v":""},{"$f":"IF(ISERROR(VLOOKUP($A132,#REF!,9,FALSE)),\"\",VLOOKUP($A132,#REF!,9,FALSE))","v":""},{"$f":"IF(ISERROR(VLOOKUP($A132,#REF!,10,FALSE)),0,VLOOKUP($A132,#REF!,10,FALSE))","v":"00:00:00"}]
["0_64_7",{"$f":"IF(COUNTIF(Validations!$AB$8:$AB$56,A133)=1,1,\"\")","v":""},null,64,7,"",{"$f":"IF(ISNA(VLOOKUP(D133,Rows[],4,FALSE)),\"\",VLOOKUP(D133,Rows[],4,FALSE))","v":"H1 - Eiddo gwag hirdymor trethadwy heb unrhyw ddisgownt na phremiwm"},{"$f":"IF(ISERROR(VLOOKUP($A133&\"_\"&H$10,qData1[],7,FALSE)),\"\",VLOOKUP($A133&\"_\"&H$10,qData1[],7,FALSE))","v":""},{"$f":"IF(ISERROR(VLOOKUP($A133&\"_\"&I$10,qData1[],7,FALSE)),0,VLOOKUP($A133&\"_\"&I$10,qData1[],7,FALSE))","v":0},0,0,0,{"$f":"IF(ISNA(VLOOKUP($D133&\"_\"&$E133,Tol[],6,FALSE)),$M$7,VLOOKUP($D133&\"_\"&$E133,Tol[],6,FALSE))","v":100},{"$f":"IF(ISNA(VLOOKUP($D133&\"_\"&$E133,Tol[],7,FALSE)),$N$7*100,VLOOKUP($D133&\"_\"&$E133,Tol[],7,FALSE)*100)","v":10},1,1,"","",null,"",null,null,{"$f":"IF(ISERROR(VLOOKUP($A133,#REF!,8,FALSE)),\"\",VLOOKUP($A133,#REF!,8,FALSE))","v":""},{"$f":"IF(ISERROR(VLOOKUP($A133,#REF!,9,FALSE)),\"\",VLOOKUP($A133,#REF!,9,FALSE))","v":""},{"$f":"IF(ISERROR(VLOOKUP($A133,#REF!,10,FALSE)),0,VLOOKUP($A133,#REF!,10,FALSE))","v":"00:00:00"}]
["0_64_8",{"$f":"IF(COUNTIF(Validations!$AB$8:$AB$56,A134)=1,1,\"\")","v":""},null,64,8,"",{"$f":"IF(ISNA(VLOOKUP(D134,Rows[],4,FALSE)),\"\",VLOOKUP(D134,Rows[],4,FALSE))","v":"H1 - Eiddo gwag hirdymor trethadwy heb unrhyw ddisgownt na phremiwm"},{"$f":"IF(ISERROR(VLOOKUP($A134&\"_\"&H$10,qData1[],7,FALSE)),\"\",VLOOKUP($A134&\"_\"&H$10,qData1[],7,FALSE))","v":""},{"$f":"IF(ISERROR(VLOOKUP($A134&\"_\"&I$10,qData1[],7,FALSE)),0,VLOOKUP($A134&\"_\"&I$10,qData1[],7,FALSE))","v":0},0,0,0,{"$f":"IF(ISNA(VLOOKUP($D134&\"_\"&$E134,Tol[],6,FALSE)),$M$7,VLOOKUP($D134&\"_\"&$E134,Tol[],6,FALSE))","v":100},{"$f":"IF(ISNA(VLOOKUP($D134&\"_\"&$E134,Tol[],7,FALSE)),$N$7*100,VLOOKUP($D134&\"_\"&$E134,Tol[],7,FALSE)*100)","v":10},1,1,"","",null,"",null,null,{"$f":"IF(ISERROR(VLOOKUP($A134,#REF!,8,FALSE)),\"\",VLOOKUP($A134,#REF!,8,FALSE))","v":""},{"$f":"IF(ISERROR(VLOOKUP($A134,#REF!,9,FALSE)),\"\",VLOOKUP($A134,#REF!,9,FALSE))","v":""},{"$f":"IF(ISERROR(VLOOKUP($A134,#REF!,10,FALSE)),0,VLOOKUP($A134,#REF!,10,FALSE))","v":"00:00:00"}]
["0_64_9",{"$f":"IF(COUNTIF(Validations!$AB$8:$AB$56,A135)=1,1,\"\")","v":""},null,64,9,"",{"$f":"IF(ISNA(VLOOKUP(D135,Rows[],4,FALSE)),\"\",VLOOKUP(D135,Rows[],4,FALSE))","v":"H1 - Eiddo gwag hirdymor trethadwy heb unrhyw ddisgownt na phremiwm"},{"$f":"IF(ISERROR(VLOOKUP($A135&\"_\"&H$10,qData1[],7,FALSE)),\"\",VLOOKUP($A135&\"_\"&H$10,qData1[],7,FALSE))","v":""},{"$f":"IF(ISERROR(VLOOKUP($A135&\"_\"&I$10,qData1[],7,FALSE)),0,VLOOKUP($A135&\"_\"&I$10,qData1[],7,FALSE))","v":0},0,0,0,{"$f":"IF(ISNA(VLOOKUP($D135&\"_\"&$E135,Tol[],6,FALSE)),$M$7,VLOOKUP($D135&\"_\"&$E135,Tol[],6,FALSE))","v":100},{"$f":"IF(ISNA(VLOOKUP($D135&\"_\"&$E135,Tol[],7,FALSE)),$N$7*100,VLOOKUP($D135&\"_\"&$E135,Tol[],7,FALSE)*100)","v":10},1,1,"","",null,"",null,null,{"$f":"IF(ISERROR(VLOOKUP($A135,#REF!,8,FALSE)),\"\",VLOOKUP($A135,#REF!,8,FALSE))","v":""},{"$f":"IF(ISERROR(VLOOKUP($A135,#REF!,9,FALSE)),\"\",VLOOKUP($A135,#REF!,9,FALSE))","v":""},{"$f":"IF(ISERROR(VLOOKUP($A135,#REF!,10,FALSE)),0,VLOOKUP($A135,#REF!,10,FALSE))","v":"00:00:00"}]
["0_64_10",{"$f":"IF(COUNTIF(Validations!$AB$8:$AB$56,A136)=1,1,\"\")","v":""},null,64,10,"",{"$f":"IF(ISNA(VLOOKUP(D136,Rows[],4,FALSE)),\"\",VLOOKUP(D136,Rows[],4,FALSE))","v":"H1 - Eiddo gwag hirdymor trethadwy heb unrhyw ddisgownt na phremiwm"},{"$f":"IF(ISERROR(VLOOKUP($A136&\"_\"&H$10,qData1[],7,FALSE)),\"\",VLOOKUP($A136&\"_\"&H$10,qData1[],7,FALSE))","v":""},{"$f":"IF(ISERROR(VLOOKUP($A136&\"_\"&I$10,qData1[],7,FALSE)),0,VLOOKUP($A136&\"_\"&I$10,qData1[],7,FALSE))","v":0},0,0,0,{"$f":"IF(ISNA(VLOOKUP($D136&\"_\"&$E136,Tol[],6,FALSE)),$M$7,VLOOKUP($D136&\"_\"&$E136,Tol[],6,FALSE))","v":100},{"$f":"IF(ISNA(VLOOKUP($D136&\"_\"&$E136,Tol[],7,FALSE)),$N$7*100,VLOOKUP($D136&\"_\"&$E136,Tol[],7,FALSE)*100)","v":10},1,1,"","",null,"",null,null,{"$f":"IF(ISERROR(VLOOKUP($A136,#REF!,8,FALSE)),\"\",VLOOKUP($A136,#REF!,8,FALSE))","v":""},{"$f":"IF(ISERROR(VLOOKUP($A136,#REF!,9,FALSE)),\"\",VLOOKUP($A136,#REF!,9,FALSE))","v":""},{"$f":"IF(ISERROR(VLOOKUP($A136,#REF!,10,FALSE)),0,VLOOKUP($A136,#REF!,10,FALSE))","v":"00:00:00"}]
["0_64_11",{"$f":"IF(COUNTIF(Validations!$AB$8:$AB$56,A137)=1,1,\"\")","v":""},null,64,11,"T",{"$f":"IF(ISNA(VLOOKUP(D137,Rows[],4,FALSE)),\"\",VLOOKUP(D137,Rows[],4,FALSE))","v":"H1 - Eiddo gwag hirdymor trethadwy heb unrhyw ddisgownt na phremiwm"},{"$f":"IF(ISERROR(VLOOKUP($A137&\"_\"&H$10,qData1[],7,FALSE)),\"\",VLOOKUP($A137&\"_\"&H$10,qData1[],7,FALSE))","v":""},{"$f":"IF(ISERROR(VLOOKUP($A137&\"_\"&I$10,qData1[],7,FALSE)),0,VLOOKUP($A137&\"_\"&I$10,qData1[],7,FALSE))","v":0},0,0,0,{"$f":"IF(ISNA(VLOOKUP($D137&\"_\"&$E137,Tol[],6,FALSE)),$M$7,VLOOKUP($D137&\"_\"&$E137,Tol[],6,FALSE))","v":100},{"$f":"IF(ISNA(VLOOKUP($D137&\"_\"&$E137,Tol[],7,FALSE)),$N$7*100,VLOOKUP($D137&\"_\"&$E137,Tol[],7,FALSE)*100)","v":10},1,1,"","",null,"",null,null,{"$f":"IF(ISERROR(VLOOKUP($A137,#REF!,8,FALSE)),\"\",VLOOKUP($A137,#REF!,8,FALSE))","v":""},{"$f":"IF(ISERROR(VLOOKUP($A137,#REF!,9,FALSE)),\"\",VLOOKUP($A137,#REF!,9,FALSE))","v":""},{"$f":"IF(ISERROR(VLOOKUP($A137,#REF!,10,FALSE)),0,VLOOKUP($A137,#REF!,10,FALSE))","v":"00:00:00"}]
["0_65_2",{"$f":"IF(COUNTIF(Validations!$AB$8:$AB$56,A138)=1,1,\"\")","v":""},null,65,2,"",{"$f":"IF(ISNA(VLOOKUP(D138,Rows[],4,FALSE)),\"\",VLOOKUP(D138,Rows[],4,FALSE))","v":"H2 - Ail gartrefi sydd yn daladwy heb ddisgownt na phremiwm"},{"$f":"IF(ISERROR(VLOOKUP($A138&\"_\"&H$10,qData1[],7,FALSE)),\"\",VLOOKUP($A138&\"_\"&H$10,qData1[],7,FALSE))","v":""},{"$f":"IF(ISERROR(VLOOKUP($A138&\"_\"&I$10,qData1[],7,FALSE)),0,VLOOKUP($A138&\"_\"&I$10,qData1[],7,FALSE))","v":0},0,0,0,{"$f":"IF(ISNA(VLOOKUP($D138&\"_\"&$E138,Tol[],6,FALSE)),$M$7,VLOOKUP($D138&\"_\"&$E138,Tol[],6,FALSE))","v":100},{"$f":"IF(ISNA(VLOOKUP($D138&\"_\"&$E138,Tol[],7,FALSE)),$N$7*100,VLOOKUP($D138&\"_\"&$E138,Tol[],7,FALSE)*100)","v":10},1,1,"","",null,"",null,null,{"$f":"IF(ISERROR(VLOOKUP($A138,#REF!,8,FALSE)),\"\",VLOOKUP($A138,#REF!,8,FALSE))","v":""},{"$f":"IF(ISERROR(VLOOKUP($A138,#REF!,9,FALSE)),\"\",VLOOKUP($A138,#REF!,9,FALSE))","v":""},{"$f":"IF(ISERROR(VLOOKUP($A138,#REF!,10,FALSE)),0,VLOOKUP($A138,#REF!,10,FALSE))","v":"00:00:00"}]
["0_65_3",{"$f":"IF(COUNTIF(Validations!$AB$8:$AB$56,A139)=1,1,\"\")","v":""},null,65,3,"",{"$f":"IF(ISNA(VLOOKUP(D139,Rows[],4,FALSE)),\"\",VLOOKUP(D139,Rows[],4,FALSE))","v":"H2 - Ail gartrefi sydd yn daladwy heb ddisgownt na phremiwm"},{"$f":"IF(ISERROR(VLOOKUP($A139&\"_\"&H$10,qData1[],7,FALSE)),\"\",VLOOKUP($A139&\"_\"&H$10,qData1[],7,FALSE))","v":""},{"$f":"IF(ISERROR(VLOOKUP($A139&\"_\"&I$10,qData1[],7,FALSE)),0,VLOOKUP($A139&\"_\"&I$10,qData1[],7,FALSE))","v":0},0,0,0,{"$f":"IF(ISNA(VLOOKUP($D139&\"_\"&$E139,Tol[],6,FALSE)),$M$7,VLOOKUP($D139&\"_\"&$E139,Tol[],6,FALSE))","v":100},{"$f":"IF(ISNA(VLOOKUP($D139&\"_\"&$E139,Tol[],7,FALSE)),$N$7*100,VLOOKUP($D139&\"_\"&$E139,Tol[],7,FALSE)*100)","v":10},1,1,"","",null,"",null,null,{"$f":"IF(ISERROR(VLOOKUP($A139,#REF!,8,FALSE)),\"\",VLOOKUP($A139,#REF!,8,FALSE))","v":""},{"$f":"IF(ISERROR(VLOOKUP($A139,#REF!,9,FALSE)),\"\",VLOOKUP($A139,#REF!,9,FALSE))","v":""},{"$f":"IF(ISERROR(VLOOKUP($A139,#REF!,10,FALSE)),0,VLOOKUP($A139,#REF!,10,FALSE))","v":"00:00:00"}]
["0_65_4",{"$f":"IF(COUNTIF(Validations!$AB$8:$AB$56,A140)=1,1,\"\")","v":""},null,65,4,"",{"$f":"IF(ISNA(VLOOKUP(D140,Rows[],4,FALSE)),\"\",VLOOKUP(D140,Rows[],4,FALSE))","v":"H2 - Ail gartrefi sydd yn daladwy heb ddisgownt na phremiwm"},{"$f":"IF(ISERROR(VLOOKUP($A140&\"_\"&H$10,qData1[],7,FALSE)),\"\",VLOOKUP($A140&\"_\"&H$10,qData1[],7,FALSE))","v":""},{"$f":"IF(ISERROR(VLOOKUP($A140&\"_\"&I$10,qData1[],7,FALSE)),0,VLOOKUP($A140&\"_\"&I$10,qData1[],7,FALSE))","v":0},{"$f":"IF(ISERROR(VLOOKUP(D140&\"_\"&E140,Figs,8,FALSE)),0,VLOOKUP(D140&\"_\"&E140,Figs,8,FALSE))","v":0},0,0,{"$f":"IF(ISNA(VLOOKUP($D140&\"_\"&$E140,Tol[],6,FALSE)),$M$7,VLOOKUP($D140&\"_\"&$E140,Tol[],6,FALSE))","v":100},{"$f":"IF(ISNA(VLOOKUP($D140&\"_\"&$E140,Tol[],7,FALSE)),$N$7*100,VLOOKUP($D140&\"_\"&$E140,Tol[],7,FALSE)*100)","v":10},1,1,"","",null,"",null,null,{"$f":"IF(ISERROR(VLOOKUP($A140,#REF!,8,FALSE)),\"\",VLOOKUP($A140,#REF!,8,FALSE))","v":""},{"$f":"IF(ISERROR(VLOOKUP($A140,#REF!,9,FALSE)),\"\",VLOOKUP($A140,#REF!,9,FALSE))","v":""},{"$f":"IF(ISERROR(VLOOKUP($A140,#REF!,10,FALSE)),0,VLOOKUP($A140,#REF!,10,FALSE))","v":"00:00:00"}]
[{"$f":"uanumber&\"_\"&D141&\"_\"&E141","v":"0_65_5"},{"$f":"IF(COUNTIF(Validations!$AB$8:$AB$56,A141)=1,1,\"\")","v":""},null,65,5,"",{"$f":"IF(ISNA(VLOOKUP(D141,Rows[],4,FALSE)),\"\",VLOOKUP(D141,Rows[],4,FALSE))","v":"H2 - Ail gartrefi sydd yn daladwy heb ddisgownt na phremiwm"},{"$f":"IF(ISERROR(VLOOKUP($A141&\"_\"&H$10,qData1[],7,FALSE)),\"\",VLOOKUP($A141&\"_\"&H$10,qData1[],7,FALSE))","v":""},{"$f":"IF(ISERROR(VLOOKUP($A141&\"_\"&I$10,qData1[],7,FALSE)),0,VLOOKUP($A141&\"_\"&I$10,qData1[],7,FALSE))","v":0},0,0,0,{"$f":"IF(ISNA(VLOOKUP($D141&\"_\"&$E141,Tol[],6,FALSE)),$M$7,VLOOKUP($D141&\"_\"&$E141,Tol[],6,FALSE))","v":100},{"$f":"IF(ISNA(VLOOKUP($D141&\"_\"&$E141,Tol[],7,FALSE)),$N$7*100,VLOOKUP($D141&\"_\"&$E141,Tol[],7,FALSE)*100)","v":10},1,1,"","",null,"",null,null,{"$f":"IF(ISERROR(VLOOKUP($A141,#REF!,8,FALSE)),\"\",VLOOKUP($A141,#REF!,8,FALSE))","v":""},{"$f":"IF(ISERROR(VLOOKUP($A141,#REF!,9,FALSE)),\"\",VLOOKUP($A141,#REF!,9,FALSE))","v":""},{"$f":"IF(ISERROR(VLOOKUP($A141,#REF!,10,FALSE)),0,VLOOKUP($A141,#REF!,10,FALSE))","v":"00:00:00"}]
["0_65_6",{"$f":"IF(COUNTIF(Validations!$AB$8:$AB$56,A142)=1,1,\"\")","v":""},null,65,6,"",{"$f":"IF(ISNA(VLOOKUP(D142,Rows[],4,FALSE)),\"\",VLOOKUP(D142,Rows[],4,FALSE))","v":"H2 - Ail gartrefi sydd yn daladwy heb ddisgownt na phremiwm"},{"$f":"IF(ISERROR(VLOOKUP($A142&\"_\"&H$10,qData1[],7,FALSE)),\"\",VLOOKUP($A142&\"_\"&H$10,qData1[],7,FALSE))","v":""},{"$f":"IF(ISERROR(VLOOKUP($A142&\"_\"&I$10,qData1[],7,FALSE)),0,VLOOKUP($A142&\"_\"&I$10,qData1[],7,FALSE))","v":0},0,{"$f":"J142-I142","v":0},{"$f":"IF(OR(I142=0,J142=0),0,K142/I142*100)","v":0},{"$f":"IF(ISNA(VLOOKUP($D142&\"_\"&$E142,Tol[],6,FALSE)),$M$7,VLOOKUP($D142&\"_\"&$E142,Tol[],6,FALSE))","v":100},{"$f":"IF(ISNA(VLOOKUP($D142&\"_\"&$E142,Tol[],7,FALSE)),$N$7*100,VLOOKUP($D142&\"_\"&$E142,Tol[],7,FALSE)*100)","v":10},{"$f":"IF(I142=0,1,\"\")","v":1},{"$f":"IF(J142=0,1,\"\")","v":1},{"$f":"IF(SUM(O142:P142)=2,\"\",IF(SUM(O142:P142)=1,9,IF(AND(ABS(K142)>M142,ABS(L142)>N142),3,IF(ABS(K142)>M142,1,IF(ABS(L142)>N142,2,\"\")))))","v":""},{"$f":"IF(Q142=3,1,\"\")","v":""},null,{"$f":"IF(OR(U142=\"C\",U142=\"T\"),\"\",IF(S142=1,1,\"\"))","v":""},null,null,{"$f":"IF(ISERROR(VLOOKUP($A142,#REF!,8,FALSE)),\"\",VLOOKUP($A142,#REF!,8,FALSE))","v":""},{"$f":"IF(ISERROR(VLOOKUP($A142,#REF!,9,FALSE)),\"\",VLOOKUP($A142,#REF!,9,FALSE))","v":""},{"$f":"IF(ISERROR(VLOOKUP($A142,#REF!,10,FALSE)),0,VLOOKUP($A142,#REF!,10,FALSE))","v":"00:00:00"}]
["0_65_7",{"$f":"IF(COUNTIF(Validations!$AB$8:$AB$56,A143)=1,1,\"\")","v":""},null,65,7,"",{"$f":"IF(ISNA(VLOOKUP(D143,Rows[],4,FALSE)),\"\",VLOOKUP(D143,Rows[],4,FALSE))","v":"H2 - Ail gartrefi sydd yn daladwy heb ddisgownt na phremiwm"},{"$f":"IF(ISERROR(VLOOKUP($A143&\"_\"&H$10,qData1[],7,FALSE)),\"\",VLOOKUP($A143&\"_\"&H$10,qData1[],7,FALSE))","v":""},{"$f":"IF(ISERROR(VLOOKUP($A143&\"_\"&I$10,qData1[],7,FALSE)),0,VLOOKUP($A143&\"_\"&I$10,qData1[],7,FALSE))","v":0},0,0,0,{"$f":"IF(ISNA(VLOOKUP($D143&\"_\"&$E143,Tol[],6,FALSE)),$M$7,VLOOKUP($D143&\"_\"&$E143,Tol[],6,FALSE))","v":100},{"$f":"IF(ISNA(VLOOKUP($D143&\"_\"&$E143,Tol[],7,FALSE)),$N$7*100,VLOOKUP($D143&\"_\"&$E143,Tol[],7,FALSE)*100)","v":10},1,1,"","",null,"",null,null,{"$f":"IF(ISERROR(VLOOKUP($A143,#REF!,8,FALSE)),\"\",VLOOKUP($A143,#REF!,8,FALSE))","v":""},{"$f":"IF(ISERROR(VLOOKUP($A143,#REF!,9,FALSE)),\"\",VLOOKUP($A143,#REF!,9,FALSE))","v":""},{"$f":"IF(ISERROR(VLOOKUP($A143,#REF!,10,FALSE)),0,VLOOKUP($A143,#REF!,10,FALSE))","v":"00:00:00"}]
["0_65_8",{"$f":"IF(COUNTIF(Validations!$AB$8:$AB$56,A144)=1,1,\"\")","v":""},null,65,8,"",{"$f":"IF(ISNA(VLOOKUP(D144,Rows[],4,FALSE)),\"\",VLOOKUP(D144,Rows[],4,FALSE))","v":"H2 - Ail gartrefi sydd yn daladwy heb ddisgownt na phremiwm"},{"$f":"IF(ISERROR(VLOOKUP($A144&\"_\"&H$10,qData1[],7,FALSE)),\"\",VLOOKUP($A144&\"_\"&H$10,qData1[],7,FALSE))","v":""},{"$f":"IF(ISERROR(VLOOKUP($A144&\"_\"&I$10,qData1[],7,FALSE)),0,VLOOKUP($A144&\"_\"&I$10,qData1[],7,FALSE))","v":0},0,0,0,{"$f":"IF(ISNA(VLOOKUP($D144&\"_\"&$E144,Tol[],6,FALSE)),$M$7,VLOOKUP($D144&\"_\"&$E144,Tol[],6,FALSE))","v":100},{"$f":"IF(ISNA(VLOOKUP($D144&\"_\"&$E144,Tol[],7,FALSE)),$N$7*100,VLOOKUP($D144&\"_\"&$E144,Tol[],7,FALSE)*100)","v":10},1,1,"","",null,"",null,null,{"$f":"IF(ISERROR(VLOOKUP($A144,#REF!,8,FALSE)),\"\",VLOOKUP($A144,#REF!,8,FALSE))","v":""},{"$f":"IF(ISERROR(VLOOKUP($A144,#REF!,9,FALSE)),\"\",VLOOKUP($A144,#REF!,9,FALSE))","v":""},{"$f":"IF(ISERROR(VLOOKUP($A144,#REF!,10,FALSE)),0,VLOOKUP($A144,#REF!,10,FALSE))","v":"00:00:00"}]
["0_65_9",{"$f":"IF(COUNTIF(Validations!$AB$8:$AB$56,A145)=1,1,\"\")","v":""},null,65,9,"",{"$f":"IF(ISNA(VLOOKUP(D145,Rows[],4,FALSE)),\"\",VLOOKUP(D145,Rows[],4,FALSE))","v":"H2 - Ail gartrefi sydd yn daladwy heb ddisgownt na phremiwm"},{"$f":"IF(ISERROR(VLOOKUP($A145&\"_\"&H$10,qData1[],7,FALSE)),\"\",VLOOKUP($A145&\"_\"&H$10,qData1[],7,FALSE))","v":""},{"$f":"IF(ISERROR(VLOOKUP($A145&\"_\"&I$10,qData1[],7,FALSE)),0,VLOOKUP($A145&\"_\"&I$10,qData1[],7,FALSE))","v":0},0,0,0,{"$f":"IF(ISNA(VLOOKUP($D145&\"_\"&$E145,Tol[],6,FALSE)),$M$7,VLOOKUP($D145&\"_\"&$E145,Tol[],6,FALSE))","v":100},{"$f":"IF(ISNA(VLOOKUP($D145&\"_\"&$E145,Tol[],7,FALSE)),$N$7*100,VLOOKUP($D145&\"_\"&$E145,Tol[],7,FALSE)*100)","v":10},1,1,"","",null,"",null,null,{"$f":"IF(ISERROR(VLOOKUP($A145,#REF!,8,FALSE)),\"\",VLOOKUP($A145,#REF!,8,FALSE))","v":""},{"$f":"IF(ISERROR(VLOOKUP($A145,#REF!,9,FALSE)),\"\",VLOOKUP($A145,#REF!,9,FALSE))","v":""},{"$f":"IF(ISERROR(VLOOKUP($A145,#REF!,10,FALSE)),0,VLOOKUP($A145,#REF!,10,FALSE))","v":"00:00:00"}]
["0_65_10",{"$f":"IF(COUNTIF(Validations!$AB$8:$AB$56,A146)=1,1,\"\")","v":""},null,65,10,"",{"$f":"IF(ISNA(VLOOKUP(D146,Rows[],4,FALSE)),\"\",VLOOKUP(D146,Rows[],4,FALSE))","v":"H2 - Ail gartrefi sydd yn daladwy heb ddisgownt na phremiwm"},{"$f":"IF(ISERROR(VLOOKUP($A146&\"_\"&H$10,qData1[],7,FALSE)),\"\",VLOOKUP($A146&\"_\"&H$10,qData1[],7,FALSE))","v":""},{"$f":"IF(ISERROR(VLOOKUP($A146&\"_\"&I$10,qData1[],7,FALSE)),0,VLOOKUP($A146&\"_\"&I$10,qData1[],7,FALSE))","v":0},0,0,0,{"$f":"IF(ISNA(VLOOKUP($D146&\"_\"&$E146,Tol[],6,FALSE)),$M$7,VLOOKUP($D146&\"_\"&$E146,Tol[],6,FALSE))","v":100},{"$f":"IF(ISNA(VLOOKUP($D146&\"_\"&$E146,Tol[],7,FALSE)),$N$7*100,VLOOKUP($D146&\"_\"&$E146,Tol[],7,FALSE)*100)","v":10},1,1,"","",null,"",null,null,{"$f":"IF(ISERROR(VLOOKUP($A146,#REF!,8,FALSE)),\"\",VLOOKUP($A146,#REF!,8,FALSE))","v":""},{"$f":"IF(ISERROR(VLOOKUP($A146,#REF!,9,FALSE)),\"\",VLOOKUP($A146,#REF!,9,FALSE))","v":""},{"$f":"IF(ISERROR(VLOOKUP($A146,#REF!,10,FALSE)),0,VLOOKUP($A146,#REF!,10,FALSE))","v":"00:00:00"}]
["0_65_11",{"$f":"IF(COUNTIF(Validations!$AB$8:$AB$56,A147)=1,1,\"\")","v":""},null,65,11,"T",{"$f":"IF(ISNA(VLOOKUP(D147,Rows[],4,FALSE)),\"\",VLOOKUP(D147,Rows[],4,FALSE))","v":"H2 - Ail gartrefi sydd yn daladwy heb ddisgownt na phremiwm"},{"$f":"IF(ISERROR(VLOOKUP($A147&\"_\"&H$10,qData1[],7,FALSE)),\"\",VLOOKUP($A147&\"_\"&H$10,qData1[],7,FALSE))","v":""},{"$f":"IF(ISERROR(VLOOKUP($A147&\"_\"&I$10,qData1[],7,FALSE)),0,VLOOKUP($A147&\"_\"&I$10,qData1[],7,FALSE))","v":0},0,0,0,{"$f":"IF(ISNA(VLOOKUP($D147&\"_\"&$E147,Tol[],6,FALSE)),$M$7,VLOOKUP($D147&\"_\"&$E147,Tol[],6,FALSE))","v":100},{"$f":"IF(ISNA(VLOOKUP($D147&\"_\"&$E147,Tol[],7,FALSE)),$N$7*100,VLOOKUP($D147&\"_\"&$E147,Tol[],7,FALSE)*100)","v":10},1,1,"","",null,"",null,null,{"$f":"IF(ISERROR(VLOOKUP($A147,#REF!,8,FALSE)),\"\",VLOOKUP($A147,#REF!,8,FALSE))","v":""},{"$f":"IF(ISERROR(VLOOKUP($A147,#REF!,9,FALSE)),\"\",VLOOKUP($A147,#REF!,9,FALSE))","v":""},{"$f":"IF(ISERROR(VLOOKUP($A147,#REF!,10,FALSE)),0,VLOOKUP($A147,#REF!,10,FALSE))","v":"00:00:00"}]
["0_72_2",{"$f":"IF(COUNTIF(Validations!$AB$8:$AB$56,A148)=1,1,\"\")","v":""},null,72,2,"T",{"$f":"IF(ISNA(VLOOKUP(D148,Rows[],4,FALSE)),\"\",VLOOKUP(D148,Rows[],4,FALSE))","v":"H3g - Cyfanswm Disgownt eiddo gwag hirdymor"},{"$f":"IF(ISERROR(VLOOKUP($A148&\"_\"&H$10,qData1[],7,FALSE)),\"\",VLOOKUP($A148&\"_\"&H$10,qData1[],7,FALSE))","v":""},{"$f":"IF(ISERROR(VLOOKUP($A148&\"_\"&I$10,qData1[],7,FALSE)),0,VLOOKUP($A148&\"_\"&I$10,qData1[],7,FALSE))","v":0},0,0,0,{"$f":"IF(ISNA(VLOOKUP($D148&\"_\"&$E148,Tol[],6,FALSE)),$M$7,VLOOKUP($D148&\"_\"&$E148,Tol[],6,FALSE))","v":100},{"$f":"IF(ISNA(VLOOKUP($D148&\"_\"&$E148,Tol[],7,FALSE)),$N$7*100,VLOOKUP($D148&\"_\"&$E148,Tol[],7,FALSE)*100)","v":10},1,1,"","",null,"",null,null,{"$f":"IF(ISERROR(VLOOKUP($A148,#REF!,8,FALSE)),\"\",VLOOKUP($A148,#REF!,8,FALSE))","v":""},{"$f":"IF(ISERROR(VLOOKUP($A148,#REF!,9,FALSE)),\"\",VLOOKUP($A148,#REF!,9,FALSE))","v":""},{"$f":"IF(ISERROR(VLOOKUP($A148,#REF!,10,FALSE)),0,VLOOKUP($A148,#REF!,10,FALSE))","v":"00:00:00"}]
["0_72_3",{"$f":"IF(COUNTIF(Validations!$AB$8:$AB$56,A149)=1,1,\"\")","v":""},null,72,3,"T",{"$f":"IF(ISNA(VLOOKUP(D149,Rows[],4,FALSE)),\"\",VLOOKUP(D149,Rows[],4,FALSE))","v":"H3g - Cyfanswm Disgownt eiddo gwag hirdymor"},{"$f":"IF(ISERROR(VLOOKUP($A149&\"_\"&H$10,qData1[],7,FALSE)),\"\",VLOOKUP($A149&\"_\"&H$10,qData1[],7,FALSE))","v":""},{"$f":"IF(ISERROR(VLOOKUP($A149&\"_\"&I$10,qData1[],7,FALSE)),0,VLOOKUP($A149&\"_\"&I$10,qData1[],7,FALSE))","v":0},0,0,0,{"$f":"IF(ISNA(VLOOKUP($D149&\"_\"&$E149,Tol[],6,FALSE)),$M$7,VLOOKUP($D149&\"_\"&$E149,Tol[],6,FALSE))","v":100},{"$f":"IF(ISNA(VLOOKUP($D149&\"_\"&$E149,Tol[],7,FALSE)),$N$7*100,VLOOKUP($D149&\"_\"&$E149,Tol[],7,FALSE)*100)","v":10},1,1,"","",null,"",null,null,{"$f":"IF(ISERROR(VLOOKUP($A149,#REF!,8,FALSE)),\"\",VLOOKUP($A149,#REF!,8,FALSE))","v":""},{"$f":"IF(ISERROR(VLOOKUP($A149,#REF!,9,FALSE)),\"\",VLOOKUP($A149,#REF!,9,FALSE))","v":""},{"$f":"IF(ISERROR(VLOOKUP($A149,#REF!,10,FALSE)),0,VLOOKUP($A149,#REF!,10,FALSE))","v":"00:00:00"}]
["0_72_4",{"$f":"IF(COUNTIF(Validations!$AB$8:$AB$56,A150)=1,1,\"\")","v":""},null,72,4,"T",{"$f":"IF(ISNA(VLOOKUP(D150,Rows[],4,FALSE)),\"\",VLOOKUP(D150,Rows[],4,FALSE))","v":"H3g - Cyfanswm Disgownt eiddo gwag hirdymor"},{"$f":"IF(ISERROR(VLOOKUP($A150&\"_\"&H$10,qData1[],7,FALSE)),\"\",VLOOKUP($A150&\"_\"&H$10,qData1[],7,FALSE))","v":""},{"$f":"IF(ISERROR(VLOOKUP($A150&\"_\"&I$10,qData1[],7,FALSE)),0,VLOOKUP($A150&\"_\"&I$10,qData1[],7,FALSE))","v":0},0,0,0,{"$f":"IF(ISNA(VLOOKUP($D150&\"_\"&$E150,Tol[],6,FALSE)),$M$7,VLOOKUP($D150&\"_\"&$E150,Tol[],6,FALSE))","v":100},{"$f":"IF(ISNA(VLOOKUP($D150&\"_\"&$E150,Tol[],7,FALSE)),$N$7*100,VLOOKUP($D150&\"_\"&$E150,Tol[],7,FALSE)*100)","v":10},1,1,"","",null,"",null,null,{"$f":"IF(ISERROR(VLOOKUP($A150,#REF!,8,FALSE)),\"\",VLOOKUP($A150,#REF!,8,FALSE))","v":""},{"$f":"IF(ISERROR(VLOOKUP($A150,#REF!,9,FALSE)),\"\",VLOOKUP($A150,#REF!,9,FALSE))","v":""},{"$f":"IF(ISERROR(VLOOKUP($A150,#REF!,10,FALSE)),0,VLOOKUP($A150,#REF!,10,FALSE))","v":"00:00:00"}]
["0_72_5",{"$f":"IF(COUNTIF(Validations!$AB$8:$AB$56,A151)=1,1,\"\")","v":""},null,72,5,"T",{"$f":"IF(ISNA(VLOOKUP(D151,Rows[],4,FALSE)),\"\",VLOOKUP(D151,Rows[],4,FALSE))","v":"H3g - Cyfanswm Disgownt eiddo gwag hirdymor"},{"$f":"IF(ISERROR(VLOOKUP($A151&\"_\"&H$10,qData1[],7,FALSE)),\"\",VLOOKUP($A151&\"_\"&H$10,qData1[],7,FALSE))","v":""},{"$f":"IF(ISERROR(VLOOKUP($A151&\"_\"&I$10,qData1[],7,FALSE)),0,VLOOKUP($A151&\"_\"&I$10,qData1[],7,FALSE))","v":0},0,0,0,{"$f":"IF(ISNA(VLOOKUP($D151&\"_\"&$E151,Tol[],6,FALSE)),$M$7,VLOOKUP($D151&\"_\"&$E151,Tol[],6,FALSE))","v":100},{"$f":"IF(ISNA(VLOOKUP($D151&\"_\"&$E151,Tol[],7,FALSE)),$N$7*100,VLOOKUP($D151&\"_\"&$E151,Tol[],7,FALSE)*100)","v":10},1,1,"","",null,"",null,null,{"$f":"IF(ISERROR(VLOOKUP($A151,#REF!,8,FALSE)),\"\",VLOOKUP($A151,#REF!,8,FALSE))","v":""},{"$f":"IF(ISERROR(VLOOKUP($A151,#REF!,9,FALSE)),\"\",VLOOKUP($A151,#REF!,9,FALSE))","v":""},{"$f":"IF(ISERROR(VLOOKUP($A151,#REF!,10,FALSE)),0,VLOOKUP($A151,#REF!,10,FALSE))","v":"00:00:00"}]
["0_72_6",{"$f":"IF(COUNTIF(Validations!$AB$8:$AB$56,A152)=1,1,\"\")","v":""},null,72,6,"T",{"$f":"IF(ISNA(VLOOKUP(D152,Rows[],4,FALSE)),\"\",VLOOKUP(D152,Rows[],4,FALSE))","v":"H3g - Cyfanswm Disgownt eiddo gwag hirdymor"},{"$f":"IF(ISERROR(VLOOKUP($A152&\"_\"&H$10,qData1[],7,FALSE)),\"\",VLOOKUP($A152&\"_\"&H$10,qData1[],7,FALSE))","v":""},{"$f":"IF(ISERROR(VLOOKUP($A152&\"_\"&I$10,qData1[],7,FALSE)),0,VLOOKUP($A152&\"_\"&I$10,qData1[],7,FALSE))","v":0},0,0,0,{"$f":"IF(ISNA(VLOOKUP($D152&\"_\"&$E152,Tol[],6,FALSE)),$M$7,VLOOKUP($D152&\"_\"&$E152,Tol[],6,FALSE))","v":100},{"$f":"IF(ISNA(VLOOKUP($D152&\"_\"&$E152,Tol[],7,FALSE)),$N$7*100,VLOOKUP($D152&\"_\"&$E152,Tol[],7,FALSE)*100)","v":10},1,1,"","",null,"",null,null,{"$f":"IF(ISERROR(VLOOKUP($A152,#REF!,8,FALSE)),\"\",VLOOKUP($A152,#REF!,8,FALSE))","v":""},{"$f":"IF(ISERROR(VLOOKUP($A152,#REF!,9,FALSE)),\"\",VLOOKUP($A152,#REF!,9,FALSE))","v":""},{"$f":"IF(ISERROR(VLOOKUP($A152,#REF!,10,FALSE)),0,VLOOKUP($A152,#REF!,10,FALSE))","v":"00:00:00"}]
["0_72_7",{"$f":"IF(COUNTIF(Validations!$AB$8:$AB$56,A153)=1,1,\"\")","v":""},null,72,7,"T",{"$f":"IF(ISNA(VLOOKUP(D153,Rows[],4,FALSE)),\"\",VLOOKUP(D153,Rows[],4,FALSE))","v":"H3g - Cyfanswm Disgownt eiddo gwag hirdymor"},{"$f":"IF(ISERROR(VLOOKUP($A153&\"_\"&H$10,qData1[],7,FALSE)),\"\",VLOOKUP($A153&\"_\"&H$10,qData1[],7,FALSE))","v":""},{"$f":"IF(ISERROR(VLOOKUP($A153&\"_\"&I$10,qData1[],7,FALSE)),0,VLOOKUP($A153&\"_\"&I$10,qData1[],7,FALSE))","v":0},0,0,0,{"$f":"IF(ISNA(VLOOKUP($D153&\"_\"&$E153,Tol[],6,FALSE)),$M$7,VLOOKUP($D153&\"_\"&$E153,Tol[],6,FALSE))","v":100},{"$f":"IF(ISNA(VLOOKUP($D153&\"_\"&$E153,Tol[],7,FALSE)),$N$7*100,VLOOKUP($D153&\"_\"&$E153,Tol[],7,FALSE)*100)","v":10},1,1,"","",null,"",null,null,{"$f":"IF(ISERROR(VLOOKUP($A153,#REF!,8,FALSE)),\"\",VLOOKUP($A153,#REF!,8,FALSE))","v":""},{"$f":"IF(ISERROR(VLOOKUP($A153,#REF!,9,FALSE)),\"\",VLOOKUP($A153,#REF!,9,FALSE))","v":""},{"$f":"IF(ISERROR(VLOOKUP($A153,#REF!,10,FALSE)),0,VLOOKUP($A153,#REF!,10,FALSE))","v":"00:00:00"}]
["0_72_8",{"$f":"IF(COUNTIF(Validations!$AB$8:$AB$56,A154)=1,1,\"\")","v":""},null,72,8,"T",{"$f":"IF(ISNA(VLOOKUP(D154,Rows[],4,FALSE)),\"\",VLOOKUP(D154,Rows[],4,FALSE))","v":"H3g - Cyfanswm Disgownt eiddo gwag hirdymor"},{"$f":"IF(ISERROR(VLOOKUP($A154&\"_\"&H$10,qData1[],7,FALSE)),\"\",VLOOKUP($A154&\"_\"&H$10,qData1[],7,FALSE))","v":""},{"$f":"IF(ISERROR(VLOOKUP($A154&\"_\"&I$10,qData1[],7,FALSE)),0,VLOOKUP($A154&\"_\"&I$10,qData1[],7,FALSE))","v":0},0,0,0,{"$f":"IF(ISNA(VLOOKUP($D154&\"_\"&$E154,Tol[],6,FALSE)),$M$7,VLOOKUP($D154&\"_\"&$E154,Tol[],6,FALSE))","v":100},{"$f":"IF(ISNA(VLOOKUP($D154&\"_\"&$E154,Tol[],7,FALSE)),$N$7*100,VLOOKUP($D154&\"_\"&$E154,Tol[],7,FALSE)*100)","v":10},1,1,"","",null,"",null,null,{"$f":"IF(ISERROR(VLOOKUP($A154,#REF!,8,FALSE)),\"\",VLOOKUP($A154,#REF!,8,FALSE))","v":""},{"$f":"IF(ISERROR(VLOOKUP($A154,#REF!,9,FALSE)),\"\",VLOOKUP($A154,#REF!,9,FALSE))","v":""},{"$f":"IF(ISERROR(VLOOKUP($A154,#REF!,10,FALSE)),0,VLOOKUP($A154,#REF!,10,FALSE))","v":"00:00:00"}]
["0_72_9",{"$f":"IF(COUNTIF(Validations!$AB$8:$AB$56,A155)=1,1,\"\")","v":""},null,72,9,"T",{"$f":"IF(ISNA(VLOOKUP(D155,Rows[],4,FALSE)),\"\",VLOOKUP(D155,Rows[],4,FALSE))","v":"H3g - Cyfanswm Disgownt eiddo gwag hirdymor"},{"$f":"IF(ISERROR(VLOOKUP($A155&\"_\"&H$10,qData1[],7,FALSE)),\"\",VLOOKUP($A155&\"_\"&H$10,qData1[],7,FALSE))","v":""},{"$f":"IF(ISERROR(VLOOKUP($A155&\"_\"&I$10,qData1[],7,FALSE)),0,VLOOKUP($A155&\"_\"&I$10,qData1[],7,FALSE))","v":0},0,0,0,{"$f":"IF(ISNA(VLOOKUP($D155&\"_\"&$E155,Tol[],6,FALSE)),$M$7,VLOOKUP($D155&\"_\"&$E155,Tol[],6,FALSE))","v":100},{"$f":"IF(ISNA(VLOOKUP($D155&\"_\"&$E155,Tol[],7,FALSE)),$N$7*100,VLOOKUP($D155&\"_\"&$E155,Tol[],7,FALSE)*100)","v":10},1,1,"","",null,"",null,null,{"$f":"IF(ISERROR(VLOOKUP($A155,#REF!,8,FALSE)),\"\",VLOOKUP($A155,#REF!,8,FALSE))","v":""},{"$f":"IF(ISERROR(VLOOKUP($A155,#REF!,9,FALSE)),\"\",VLOOKUP($A155,#REF!,9,FALSE))","v":""},{"$f":"IF(ISERROR(VLOOKUP($A155,#REF!,10,FALSE)),0,VLOOKUP($A155,#REF!,10,FALSE))","v":"00:00:00"}]
["0_72_10",{"$f":"IF(COUNTIF(Validations!$AB$8:$AB$56,A156)=1,1,\"\")","v":""},null,72,10,"T",{"$f":"IF(ISNA(VLOOKUP(D156,Rows[],4,FALSE)),\"\",VLOOKUP(D156,Rows[],4,FALSE))","v":"H3g - Cyfanswm Disgownt eiddo gwag hirdymor"},{"$f":"IF(ISERROR(VLOOKUP($A156&\"_\"&H$10,qData1[],7,FALSE)),\"\",VLOOKUP($A156&\"_\"&H$10,qData1[],7,FALSE))","v":""},{"$f":"IF(ISERROR(VLOOKUP($A156&\"_\"&I$10,qData1[],7,FALSE)),0,VLOOKUP($A156&\"_\"&I$10,qData1[],7,FALSE))","v":0},0,0,0,{"$f":"IF(ISNA(VLOOKUP($D156&\"_\"&$E156,Tol[],6,FALSE)),$M$7,VLOOKUP($D156&\"_\"&$E156,Tol[],6,FALSE))","v":100},{"$f":"IF(ISNA(VLOOKUP($D156&\"_\"&$E156,Tol[],7,FALSE)),$N$7*100,VLOOKUP($D156&\"_\"&$E156,Tol[],7,FALSE)*100)","v":10},1,1,"","",null,"",null,null,{"$f":"IF(ISERROR(VLOOKUP($A156,#REF!,8,FALSE)),\"\",VLOOKUP($A156,#REF!,8,FALSE))","v":""},{"$f":"IF(ISERROR(VLOOKUP($A156,#REF!,9,FALSE)),\"\",VLOOKUP($A156,#REF!,9,FALSE))","v":""},{"$f":"IF(ISERROR(VLOOKUP($A156,#REF!,10,FALSE)),0,VLOOKUP($A156,#REF!,10,FALSE))","v":"00:00:00"}]
["0_72_11",{"$f":"IF(COUNTIF(Validations!$AB$8:$AB$56,A157)=1,1,\"\")","v":""},null,72,11,"T",{"$f":"IF(ISNA(VLOOKUP(D157,Rows[],4,FALSE)),\"\",VLOOKUP(D157,Rows[],4,FALSE))","v":"H3g - Cyfanswm Disgownt eiddo gwag hirdymor"},{"$f":"IF(ISERROR(VLOOKUP($A157&\"_\"&H$10,qData1[],7,FALSE)),\"\",VLOOKUP($A157&\"_\"&H$10,qData1[],7,FALSE))","v":""},{"$f":"IF(ISERROR(VLOOKUP($A157&\"_\"&I$10,qData1[],7,FALSE)),0,VLOOKUP($A157&\"_\"&I$10,qData1[],7,FALSE))","v":0},0,0,0,{"$f":"IF(ISNA(VLOOKUP($D157&\"_\"&$E157,Tol[],6,FALSE)),$M$7,VLOOKUP($D157&\"_\"&$E157,Tol[],6,FALSE))","v":100},{"$f":"IF(ISNA(VLOOKUP($D157&\"_\"&$E157,Tol[],7,FALSE)),$N$7*100,VLOOKUP($D157&\"_\"&$E157,Tol[],7,FALSE)*100)","v":10},1,1,"","",null,"",null,null,{"$f":"IF(ISERROR(VLOOKUP($A157,#REF!,8,FALSE)),\"\",VLOOKUP($A157,#REF!,8,FALSE))","v":""},{"$f":"IF(ISERROR(VLOOKUP($A157,#REF!,9,FALSE)),\"\",VLOOKUP($A157,#REF!,9,FALSE))","v":""},{"$f":"IF(ISERROR(VLOOKUP($A157,#REF!,10,FALSE)),0,VLOOKUP($A157,#REF!,10,FALSE))","v":"00:00:00"}]
["0_79_2",{"$f":"IF(COUNTIF(Validations!$AB$8:$AB$56,A158)=1,1,\"\")","v":""},null,79,2,"T",{"$f":"IF(ISNA(VLOOKUP(D158,Rows[],4,FALSE)),\"\",VLOOKUP(D158,Rows[],4,FALSE))","v":"H4g - Cyfanswm Premiwm eiddo gwag hirdymor"},{"$f":"IF(ISERROR(VLOOKUP($A158&\"_\"&H$10,qData1[],7,FALSE)),\"\",VLOOKUP($A158&\"_\"&H$10,qData1[],7,FALSE))","v":""},{"$f":"IF(ISERROR(VLOOKUP($A158&\"_\"&I$10,qData1[],7,FALSE)),0,VLOOKUP($A158&\"_\"&I$10,qData1[],7,FALSE))","v":0},0,0,0,{"$f":"IF(ISNA(VLOOKUP($D158&\"_\"&$E158,Tol[],6,FALSE)),$M$7,VLOOKUP($D158&\"_\"&$E158,Tol[],6,FALSE))","v":100},{"$f":"IF(ISNA(VLOOKUP($D158&\"_\"&$E158,Tol[],7,FALSE)),$N$7*100,VLOOKUP($D158&\"_\"&$E158,Tol[],7,FALSE)*100)","v":10},1,1,"","",null,"",null,null,{"$f":"IF(ISERROR(VLOOKUP($A158,#REF!,8,FALSE)),\"\",VLOOKUP($A158,#REF!,8,FALSE))","v":""},{"$f":"IF(ISERROR(VLOOKUP($A158,#REF!,9,FALSE)),\"\",VLOOKUP($A158,#REF!,9,FALSE))","v":""},{"$f":"IF(ISERROR(VLOOKUP($A158,#REF!,10,FALSE)),0,VLOOKUP($A158,#REF!,10,FALSE))","v":"00:00:00"}]
["0_79_3",{"$f":"IF(COUNTIF(Validations!$AB$8:$AB$56,A159)=1,1,\"\")","v":""},null,79,3,"T",{"$f":"IF(ISNA(VLOOKUP(D159,Rows[],4,FALSE)),\"\",VLOOKUP(D159,Rows[],4,FALSE))","v":"H4g - Cyfanswm Premiwm eiddo gwag hirdymor"},{"$f":"IF(ISERROR(VLOOKUP($A159&\"_\"&H$10,qData1[],7,FALSE)),\"\",VLOOKUP($A159&\"_\"&H$10,qData1[],7,FALSE))","v":""},{"$f":"IF(ISERROR(VLOOKUP($A159&\"_\"&I$10,qData1[],7,FALSE)),0,VLOOKUP($A159&\"_\"&I$10,qData1[],7,FALSE))","v":0},0,0,0,{"$f":"IF(ISNA(VLOOKUP($D159&\"_\"&$E159,Tol[],6,FALSE)),$M$7,VLOOKUP($D159&\"_\"&$E159,Tol[],6,FALSE))","v":100},{"$f":"IF(ISNA(VLOOKUP($D159&\"_\"&$E159,Tol[],7,FALSE)),$N$7*100,VLOOKUP($D159&\"_\"&$E159,Tol[],7,FALSE)*100)","v":10},1,1,"","",null,"",null,null,{"$f":"IF(ISERROR(VLOOKUP($A159,#REF!,8,FALSE)),\"\",VLOOKUP($A159,#REF!,8,FALSE))","v":""},{"$f":"IF(ISERROR(VLOOKUP($A159,#REF!,9,FALSE)),\"\",VLOOKUP($A159,#REF!,9,FALSE))","v":""},{"$f":"IF(ISERROR(VLOOKUP($A159,#REF!,10,FALSE)),0,VLOOKUP($A159,#REF!,10,FALSE))","v":"00:00:00"}]
["0_79_4",{"$f":"IF(COUNTIF(Validations!$AB$8:$AB$56,A160)=1,1,\"\")","v":""},null,79,4,"T",{"$f":"IF(ISNA(VLOOKUP(D160,Rows[],4,FALSE)),\"\",VLOOKUP(D160,Rows[],4,FALSE))","v":"H4g - Cyfanswm Premiwm eiddo gwag hirdymor"},{"$f":"IF(ISERROR(VLOOKUP($A160&\"_\"&H$10,qData1[],7,FALSE)),\"\",VLOOKUP($A160&\"_\"&H$10,qData1[],7,FALSE))","v":""},{"$f":"IF(ISERROR(VLOOKUP($A160&\"_\"&I$10,qData1[],7,FALSE)),0,VLOOKUP($A160&\"_\"&I$10,qData1[],7,FALSE))","v":0},0,0,0,{"$f":"IF(ISNA(VLOOKUP($D160&\"_\"&$E160,Tol[],6,FALSE)),$M$7,VLOOKUP($D160&\"_\"&$E160,Tol[],6,FALSE))","v":100},{"$f":"IF(ISNA(VLOOKUP($D160&\"_\"&$E160,Tol[],7,FALSE)),$N$7*100,VLOOKUP($D160&\"_\"&$E160,Tol[],7,FALSE)*100)","v":10},1,1,"","",null,"",null,null,{"$f":"IF(ISERROR(VLOOKUP($A160,#REF!,8,FALSE)),\"\",VLOOKUP($A160,#REF!,8,FALSE))","v":""},{"$f":"IF(ISERROR(VLOOKUP($A160,#REF!,9,FALSE)),\"\",VLOOKUP($A160,#REF!,9,FALSE))","v":""},{"$f":"IF(ISERROR(VLOOKUP($A160,#REF!,10,FALSE)),0,VLOOKUP($A160,#REF!,10,FALSE))","v":"00:00:00"}]
["0_79_5",{"$f":"IF(COUNTIF(Validations!$AB$8:$AB$56,A161)=1,1,\"\")","v":""},null,79,5,"T",{"$f":"IF(ISNA(VLOOKUP(D161,Rows[],4,FALSE)),\"\",VLOOKUP(D161,Rows[],4,FALSE))","v":"H4g - Cyfanswm Premiwm eiddo gwag hirdymor"},{"$f":"IF(ISERROR(VLOOKUP($A161&\"_\"&H$10,qData1[],7,FALSE)),\"\",VLOOKUP($A161&\"_\"&H$10,qData1[],7,FALSE))","v":""},{"$f":"IF(ISERROR(VLOOKUP($A161&\"_\"&I$10,qData1[],7,FALSE)),0,VLOOKUP($A161&\"_\"&I$10,qData1[],7,FALSE))","v":0},0,0,0,{"$f":"IF(ISNA(VLOOKUP($D161&\"_\"&$E161,Tol[],6,FALSE)),$M$7,VLOOKUP($D161&\"_\"&$E161,Tol[],6,FALSE))","v":100},{"$f":"IF(ISNA(VLOOKUP($D161&\"_\"&$E161,Tol[],7,FALSE)),$N$7*100,VLOOKUP($D161&\"_\"&$E161,Tol[],7,FALSE)*100)","v":10},1,1,"","",null,"",null,null,{"$f":"IF(ISERROR(VLOOKUP($A161,#REF!,8,FALSE)),\"\",VLOOKUP($A161,#REF!,8,FALSE))","v":""},{"$f":"IF(ISERROR(VLOOKUP($A161,#REF!,9,FALSE)),\"\",VLOOKUP($A161,#REF!,9,FALSE))","v":""},{"$f":"IF(ISERROR(VLOOKUP($A161,#REF!,10,FALSE)),0,VLOOKUP($A161,#REF!,10,FALSE))","v":"00:00:00"}]
["0_79_6",{"$f":"IF(COUNTIF(Validations!$AB$8:$AB$56,A162)=1,1,\"\")","v":""},null,79,6,"T",{"$f":"IF(ISNA(VLOOKUP(D162,Rows[],4,FALSE)),\"\",VLOOKUP(D162,Rows[],4,FALSE))","v":"H4g - Cyfanswm Premiwm eiddo gwag hirdymor"},{"$f":"IF(ISERROR(VLOOKUP($A162&\"_\"&H$10,qData1[],7,FALSE)),\"\",VLOOKUP($A162&\"_\"&H$10,qData1[],7,FALSE))","v":""},{"$f":"IF(ISERROR(VLOOKUP($A162&\"_\"&I$10,qData1[],7,FALSE)),0,VLOOKUP($A162&\"_\"&I$10,qData1[],7,FALSE))","v":0},0,0,0,{"$f":"IF(ISNA(VLOOKUP($D162&\"_\"&$E162,Tol[],6,FALSE)),$M$7,VLOOKUP($D162&\"_\"&$E162,Tol[],6,FALSE))","v":100},{"$f":"IF(ISNA(VLOOKUP($D162&\"_\"&$E162,Tol[],7,FALSE)),$N$7*100,VLOOKUP($D162&\"_\"&$E162,Tol[],7,FALSE)*100)","v":10},1,1,"","",null,"",null,null,{"$f":"IF(ISERROR(VLOOKUP($A162,#REF!,8,FALSE)),\"\",VLOOKUP($A162,#REF!,8,FALSE))","v":""},{"$f":"IF(ISERROR(VLOOKUP($A162,#REF!,9,FALSE)),\"\",VLOOKUP($A162,#REF!,9,FALSE))","v":""},{"$f":"IF(ISERROR(VLOOKUP($A162,#REF!,10,FALSE)),0,VLOOKUP($A162,#REF!,10,FALSE))","v":"00:00:00"}]
["0_79_7",{"$f":"IF(COUNTIF(Validations!$AB$8:$AB$56,A163)=1,1,\"\")","v":""},null,79,7,"T",{"$f":"IF(ISNA(VLOOKUP(D163,Rows[],4,FALSE)),\"\",VLOOKUP(D163,Rows[],4,FALSE))","v":"H4g - Cyfanswm Premiwm eiddo gwag hirdymor"},{"$f":"IF(ISERROR(VLOOKUP($A163&\"_\"&H$10,qData1[],7,FALSE)),\"\",VLOOKUP($A163&\"_\"&H$10,qData1[],7,FALSE))","v":""},{"$f":"IF(ISERROR(VLOOKUP($A163&\"_\"&I$10,qData1[],7,FALSE)),0,VLOOKUP($A163&\"_\"&I$10,qData1[],7,FALSE))","v":0},0,0,0,{"$f":"IF(ISNA(VLOOKUP($D163&\"_\"&$E163,Tol[],6,FALSE)),$M$7,VLOOKUP($D163&\"_\"&$E163,Tol[],6,FALSE))","v":100},{"$f":"IF(ISNA(VLOOKUP($D163&\"_\"&$E163,Tol[],7,FALSE)),$N$7*100,VLOOKUP($D163&\"_\"&$E163,Tol[],7,FALSE)*100)","v":10},1,1,"","",null,"",null,null,{"$f":"IF(ISERROR(VLOOKUP($A163,#REF!,8,FALSE)),\"\",VLOOKUP($A163,#REF!,8,FALSE))","v":""},{"$f":"IF(ISERROR(VLOOKUP($A163,#REF!,9,FALSE)),\"\",VLOOKUP($A163,#REF!,9,FALSE))","v":""},{"$f":"IF(ISERROR(VLOOKUP($A163,#REF!,10,FALSE)),0,VLOOKUP($A163,#REF!,10,FALSE))","v":"00:00:00"}]
["0_79_8",{"$f":"IF(COUNTIF(Validations!$AB$8:$AB$56,A164)=1,1,\"\")","v":""},null,79,8,"T",{"$f":"IF(ISNA(VLOOKUP(D164,Rows[],4,FALSE)),\"\",VLOOKUP(D164,Rows[],4,FALSE))","v":"H4g - Cyfanswm Premiwm eiddo gwag hirdymor"},{"$f":"IF(ISERROR(VLOOKUP($A164&\"_\"&H$10,qData1[],7,FALSE)),\"\",VLOOKUP($A164&\"_\"&H$10,qData1[],7,FALSE))","v":""},{"$f":"IF(ISERROR(VLOOKUP($A164&\"_\"&I$10,qData1[],7,FALSE)),0,VLOOKUP($A164&\"_\"&I$10,qData1[],7,FALSE))","v":0},0,0,0,{"$f":"IF(ISNA(VLOOKUP($D164&\"_\"&$E164,Tol[],6,FALSE)),$M$7,VLOOKUP($D164&\"_\"&$E164,Tol[],6,FALSE))","v":100},{"$f":"IF(ISNA(VLOOKUP($D164&\"_\"&$E164,Tol[],7,FALSE)),$N$7*100,VLOOKUP($D164&\"_\"&$E164,Tol[],7,FALSE)*100)","v":10},1,1,"","",null,"",null,null,{"$f":"IF(ISERROR(VLOOKUP($A164,#REF!,8,FALSE)),\"\",VLOOKUP($A164,#REF!,8,FALSE))","v":""},{"$f":"IF(ISERROR(VLOOKUP($A164,#REF!,9,FALSE)),\"\",VLOOKUP($A164,#REF!,9,FALSE))","v":""},{"$f":"IF(ISERROR(VLOOKUP($A164,#REF!,10,FALSE)),0,VLOOKUP($A164,#REF!,10,FALSE))","v":"00:00:00"}]
["0_79_9",{"$f":"IF(COUNTIF(Validations!$AB$8:$AB$56,A165)=1,1,\"\")","v":""},null,79,9,"T",{"$f":"IF(ISNA(VLOOKUP(D165,Rows[],4,FALSE)),\"\",VLOOKUP(D165,Rows[],4,FALSE))","v":"H4g - Cyfanswm Premiwm eiddo gwag hirdymor"},{"$f":"IF(ISERROR(VLOOKUP($A165&\"_\"&H$10,qData1[],7,FALSE)),\"\",VLOOKUP($A165&\"_\"&H$10,qData1[],7,FALSE))","v":""},{"$f":"IF(ISERROR(VLOOKUP($A165&\"_\"&I$10,qData1[],7,FALSE)),0,VLOOKUP($A165&\"_\"&I$10,qData1[],7,FALSE))","v":0},0,0,0,{"$f":"IF(ISNA(VLOOKUP($D165&\"_\"&$E165,Tol[],6,FALSE)),$M$7,VLOOKUP($D165&\"_\"&$E165,Tol[],6,FALSE))","v":100},{"$f":"IF(ISNA(VLOOKUP($D165&\"_\"&$E165,Tol[],7,FALSE)),$N$7*100,VLOOKUP($D165&\"_\"&$E165,Tol[],7,FALSE)*100)","v":10},1,1,"","",null,"",null,null,{"$f":"IF(ISERROR(VLOOKUP($A165,#REF!,8,FALSE)),\"\",VLOOKUP($A165,#REF!,8,FALSE))","v":""},{"$f":"IF(ISERROR(VLOOKUP($A165,#REF!,9,FALSE)),\"\",VLOOKUP($A165,#REF!,9,FALSE))","v":""},{"$f":"IF(ISERROR(VLOOKUP($A165,#REF!,10,FALSE)),0,VLOOKUP($A165,#REF!,10,FALSE))","v":"00:00:00"}]
["0_79_10",{"$f":"IF(COUNTIF(Validations!$AB$8:$AB$56,A166)=1,1,\"\")","v":""},null,79,10,"T",{"$f":"IF(ISNA(VLOOKUP(D166,Rows[],4,FALSE)),\"\",VLOOKUP(D166,Rows[],4,FALSE))","v":"H4g - Cyfanswm Premiwm eiddo gwag hirdymor"},{"$f":"IF(ISERROR(VLOOKUP($A166&\"_\"&H$10,qData1[],7,FALSE)),\"\",VLOOKUP($A166&\"_\"&H$10,qData1[],7,FALSE))","v":""},{"$f":"IF(ISERROR(VLOOKUP($A166&\"_\"&I$10,qData1[],7,FALSE)),0,VLOOKUP($A166&\"_\"&I$10,qData1[],7,FALSE))","v":0},0,0,0,{"$f":"IF(ISNA(VLOOKUP($D166&\"_\"&$E166,Tol[],6,FALSE)),$M$7,VLOOKUP($D166&\"_\"&$E166,Tol[],6,FALSE))","v":100},{"$f":"IF(ISNA(VLOOKUP($D166&\"_\"&$E166,Tol[],7,FALSE)),$N$7*100,VLOOKUP($D166&\"_\"&$E166,Tol[],7,FALSE)*100)","v":10},1,1,"","",null,"",null,null,{"$f":"IF(ISERROR(VLOOKUP($A166,#REF!,8,FALSE)),\"\",VLOOKUP($A166,#REF!,8,FALSE))","v":""},{"$f":"IF(ISERROR(VLOOKUP($A166,#REF!,9,FALSE)),\"\",VLOOKUP($A166,#REF!,9,FALSE))","v":""},{"$f":"IF(ISERROR(VLOOKUP($A166,#REF!,10,FALSE)),0,VLOOKUP($A166,#REF!,10,FALSE))","v":"00:00:00"}]
["0_79_11",{"$f":"IF(COUNTIF(Validations!$AB$8:$AB$56,A167)=1,1,\"\")","v":""},null,79,11,"T",{"$f":"IF(ISNA(VLOOKUP(D167,Rows[],4,FALSE)),\"\",VLOOKUP(D167,Rows[],4,FALSE))","v":"H4g - Cyfanswm Premiwm eiddo gwag hirdymor"},{"$f":"IF(ISERROR(VLOOKUP($A167&\"_\"&H$10,qData1[],7,FALSE)),\"\",VLOOKUP($A167&\"_\"&H$10,qData1[],7,FALSE))","v":""},{"$f":"IF(ISERROR(VLOOKUP($A167&\"_\"&I$10,qData1[],7,FALSE)),0,VLOOKUP($A167&\"_\"&I$10,qData1[],7,FALSE))","v":0},0,0,0,{"$f":"IF(ISNA(VLOOKUP($D167&\"_\"&$E167,Tol[],6,FALSE)),$M$7,VLOOKUP($D167&\"_\"&$E167,Tol[],6,FALSE))","v":100},{"$f":"IF(ISNA(VLOOKUP($D167&\"_\"&$E167,Tol[],7,FALSE)),$N$7*100,VLOOKUP($D167&\"_\"&$E167,Tol[],7,FALSE)*100)","v":10},1,1,"","",null,"",null,null,{"$f":"IF(ISERROR(VLOOKUP($A167,#REF!,8,FALSE)),\"\",VLOOKUP($A167,#REF!,8,FALSE))","v":""},{"$f":"IF(ISERROR(VLOOKUP($A167,#REF!,9,FALSE)),\"\",VLOOKUP($A167,#REF!,9,FALSE))","v":""},{"$f":"IF(ISERROR(VLOOKUP($A167,#REF!,10,FALSE)),0,VLOOKUP($A167,#REF!,10,FALSE))","v":"00:00:00"}]
["0_86_2",{"$f":"IF(COUNTIF(Validations!$AB$8:$AB$56,A168)=1,1,\"\")","v":""},null,86,2,"T",{"$f":"IF(ISNA(VLOOKUP(D168,Rows[],4,FALSE)),\"\",VLOOKUP(D168,Rows[],4,FALSE))","v":"H5g - Cyfanswm Disgownt ail gartref"},{"$f":"IF(ISERROR(VLOOKUP($A168&\"_\"&H$10,qData1[],7,FALSE)),\"\",VLOOKUP($A168&\"_\"&H$10,qData1[],7,FALSE))","v":""},{"$f":"IF(ISERROR(VLOOKUP($A168&\"_\"&I$10,qData1[],7,FALSE)),0,VLOOKUP($A168&\"_\"&I$10,qData1[],7,FALSE))","v":0},0,0,0,{"$f":"IF(ISNA(VLOOKUP($D168&\"_\"&$E168,Tol[],6,FALSE)),$M$7,VLOOKUP($D168&\"_\"&$E168,Tol[],6,FALSE))","v":100},{"$f":"IF(ISNA(VLOOKUP($D168&\"_\"&$E168,Tol[],7,FALSE)),$N$7*100,VLOOKUP($D168&\"_\"&$E168,Tol[],7,FALSE)*100)","v":10},1,1,"","",null,"",null,null,{"$f":"IF(ISERROR(VLOOKUP($A168,#REF!,8,FALSE)),\"\",VLOOKUP($A168,#REF!,8,FALSE))","v":""},{"$f":"IF(ISERROR(VLOOKUP($A168,#REF!,9,FALSE)),\"\",VLOOKUP($A168,#REF!,9,FALSE))","v":""},{"$f":"IF(ISERROR(VLOOKUP($A168,#REF!,10,FALSE)),0,VLOOKUP($A168,#REF!,10,FALSE))","v":"00:00:00"}]
["0_86_3",{"$f":"IF(COUNTIF(Validations!$AB$8:$AB$56,A169)=1,1,\"\")","v":""},null,86,3,"T",{"$f":"IF(ISNA(VLOOKUP(D169,Rows[],4,FALSE)),\"\",VLOOKUP(D169,Rows[],4,FALSE))","v":"H5g - Cyfanswm Disgownt ail gartref"},{"$f":"IF(ISERROR(VLOOKUP($A169&\"_\"&H$10,qData1[],7,FALSE)),\"\",VLOOKUP($A169&\"_\"&H$10,qData1[],7,FALSE))","v":""},{"$f":"IF(ISERROR(VLOOKUP($A169&\"_\"&I$10,qData1[],7,FALSE)),0,VLOOKUP($A169&\"_\"&I$10,qData1[],7,FALSE))","v":0},0,0,0,{"$f":"IF(ISNA(VLOOKUP($D169&\"_\"&$E169,Tol[],6,FALSE)),$M$7,VLOOKUP($D169&\"_\"&$E169,Tol[],6,FALSE))","v":100},{"$f":"IF(ISNA(VLOOKUP($D169&\"_\"&$E169,Tol[],7,FALSE)),$N$7*100,VLOOKUP($D169&\"_\"&$E169,Tol[],7,FALSE)*100)","v":10},1,1,"","",null,"",null,null,{"$f":"IF(ISERROR(VLOOKUP($A169,#REF!,8,FALSE)),\"\",VLOOKUP($A169,#REF!,8,FALSE))","v":""},{"$f":"IF(ISERROR(VLOOKUP($A169,#REF!,9,FALSE)),\"\",VLOOKUP($A169,#REF!,9,FALSE))","v":""},{"$f":"IF(ISERROR(VLOOKUP($A169,#REF!,10,FALSE)),0,VLOOKUP($A169,#REF!,10,FALSE))","v":"00:00:00"}]
["0_86_4",{"$f":"IF(COUNTIF(Validations!$AB$8:$AB$56,A170)=1,1,\"\")","v":""},null,86,4,"T",{"$f":"IF(ISNA(VLOOKUP(D170,Rows[],4,FALSE)),\"\",VLOOKUP(D170,Rows[],4,FALSE))","v":"H5g - Cyfanswm Disgownt ail gartref"},{"$f":"IF(ISERROR(VLOOKUP($A170&\"_\"&H$10,qData1[],7,FALSE)),\"\",VLOOKUP($A170&\"_\"&H$10,qData1[],7,FALSE))","v":""},{"$f":"IF(ISERROR(VLOOKUP($A170&\"_\"&I$10,qData1[],7,FALSE)),0,VLOOKUP($A170&\"_\"&I$10,qData1[],7,FALSE))","v":0},0,0,0,{"$f":"IF(ISNA(VLOOKUP($D170&\"_\"&$E170,Tol[],6,FALSE)),$M$7,VLOOKUP($D170&\"_\"&$E170,Tol[],6,FALSE))","v":100},{"$f":"IF(ISNA(VLOOKUP($D170&\"_\"&$E170,Tol[],7,FALSE)),$N$7*100,VLOOKUP($D170&\"_\"&$E170,Tol[],7,FALSE)*100)","v":10},1,1,"","",null,"",null,null,{"$f":"IF(ISERROR(VLOOKUP($A170,#REF!,8,FALSE)),\"\",VLOOKUP($A170,#REF!,8,FALSE))","v":""},{"$f":"IF(ISERROR(VLOOKUP($A170,#REF!,9,FALSE)),\"\",VLOOKUP($A170,#REF!,9,FALSE))","v":""},{"$f":"IF(ISERROR(VLOOKUP($A170,#REF!,10,FALSE)),0,VLOOKUP($A170,#REF!,10,FALSE))","v":"00:00:00"}]
["0_86_5",{"$f":"IF(COUNTIF(Validations!$AB$8:$AB$56,A171)=1,1,\"\")","v":""},null,86,5,"T",{"$f":"IF(ISNA(VLOOKUP(D171,Rows[],4,FALSE)),\"\",VLOOKUP(D171,Rows[],4,FALSE))","v":"H5g - Cyfanswm Disgownt ail gartref"},{"$f":"IF(ISERROR(VLOOKUP($A171&\"_\"&H$10,qData1[],7,FALSE)),\"\",VLOOKUP($A171&\"_\"&H$10,qData1[],7,FALSE))","v":""},{"$f":"IF(ISERROR(VLOOKUP($A171&\"_\"&I$10,qData1[],7,FALSE)),0,VLOOKUP($A171&\"_\"&I$10,qData1[],7,FALSE))","v":0},0,0,0,{"$f":"IF(ISNA(VLOOKUP($D171&\"_\"&$E171,Tol[],6,FALSE)),$M$7,VLOOKUP($D171&\"_\"&$E171,Tol[],6,FALSE))","v":100},{"$f":"IF(ISNA(VLOOKUP($D171&\"_\"&$E171,Tol[],7,FALSE)),$N$7*100,VLOOKUP($D171&\"_\"&$E171,Tol[],7,FALSE)*100)","v":10},1,1,"","",null,"",null,null,{"$f":"IF(ISERROR(VLOOKUP($A171,#REF!,8,FALSE)),\"\",VLOOKUP($A171,#REF!,8,FALSE))","v":""},{"$f":"IF(ISERROR(VLOOKUP($A171,#REF!,9,FALSE)),\"\",VLOOKUP($A171,#REF!,9,FALSE))","v":""},{"$f":"IF(ISERROR(VLOOKUP($A171,#REF!,10,FALSE)),0,VLOOKUP($A171,#REF!,10,FALSE))","v":"00:00:00"}]
["0_86_6",{"$f":"IF(COUNTIF(Validations!$AB$8:$AB$56,A172)=1,1,\"\")","v":""},null,86,6,"T",{"$f":"IF(ISNA(VLOOKUP(D172,Rows[],4,FALSE)),\"\",VLOOKUP(D172,Rows[],4,FALSE))","v":"H5g - Cyfanswm Disgownt ail gartref"},{"$f":"IF(ISERROR(VLOOKUP($A172&\"_\"&H$10,qData1[],7,FALSE)),\"\",VLOOKUP($A172&\"_\"&H$10,qData1[],7,FALSE))","v":""},{"$f":"IF(ISERROR(VLOOKUP($A172&\"_\"&I$10,qData1[],7,FALSE)),0,VLOOKUP($A172&\"_\"&I$10,qData1[],7,FALSE))","v":0},{"$f":"IF(ISERROR(VLOOKUP(D172&\"_\"&E172,Figs,8,FALSE)),0,VLOOKUP(D172&\"_\"&E172,Figs,8,FALSE))","v":0},0,0,{"$f":"IF(ISNA(VLOOKUP($D172&\"_\"&$E172,Tol[],6,FALSE)),$M$7,VLOOKUP($D172&\"_\"&$E172,Tol[],6,FALSE))","v":100},{"$f":"IF(ISNA(VLOOKUP($D172&\"_\"&$E172,Tol[],7,FALSE)),$N$7*100,VLOOKUP($D172&\"_\"&$E172,Tol[],7,FALSE)*100)","v":10},1,1,"","",null,"",null,null,{"$f":"IF(ISERROR(VLOOKUP($A172,#REF!,8,FALSE)),\"\",VLOOKUP($A172,#REF!,8,FALSE))","v":""},{"$f":"IF(ISERROR(VLOOKUP($A172,#REF!,9,FALSE)),\"\",VLOOKUP($A172,#REF!,9,FALSE))","v":""},{"$f":"IF(ISERROR(VLOOKUP($A172,#REF!,10,FALSE)),0,VLOOKUP($A172,#REF!,10,FALSE))","v":"00:00:00"}]
[{"$f":"uanumber&\"_\"&D173&\"_\"&E173","v":"0_86_7"},{"$f":"IF(COUNTIF(Validations!$AB$8:$AB$56,A173)=1,1,\"\")","v":""},null,86,7,"T",{"$f":"IF(ISNA(VLOOKUP(D173,Rows[],4,FALSE)),\"\",VLOOKUP(D173,Rows[],4,FALSE))","v":"H5g - Cyfanswm Disgownt ail gartref"},{"$f":"IF(ISERROR(VLOOKUP($A173&\"_\"&H$10,qData1[],7,FALSE)),\"\",VLOOKUP($A173&\"_\"&H$10,qData1[],7,FALSE))","v":""},{"$f":"IF(ISERROR(VLOOKUP($A173&\"_\"&I$10,qData1[],7,FALSE)),0,VLOOKUP($A173&\"_\"&I$10,qData1[],7,FALSE))","v":0},0,0,0,{"$f":"IF(ISNA(VLOOKUP($D173&\"_\"&$E173,Tol[],6,FALSE)),$M$7,VLOOKUP($D173&\"_\"&$E173,Tol[],6,FALSE))","v":100},{"$f":"IF(ISNA(VLOOKUP($D173&\"_\"&$E173,Tol[],7,FALSE)),$N$7*100,VLOOKUP($D173&\"_\"&$E173,Tol[],7,FALSE)*100)","v":10},1,1,"","",null,"",null,null,{"$f":"IF(ISERROR(VLOOKUP($A173,#REF!,8,FALSE)),\"\",VLOOKUP($A173,#REF!,8,FALSE))","v":""},{"$f":"IF(ISERROR(VLOOKUP($A173,#REF!,9,FALSE)),\"\",VLOOKUP($A173,#REF!,9,FALSE))","v":""},{"$f":"IF(ISERROR(VLOOKUP($A173,#REF!,10,FALSE)),0,VLOOKUP($A173,#REF!,10,FALSE))","v":"00:00:00"}]
["0_86_8",{"$f":"IF(COUNTIF(Validations!$AB$8:$AB$56,A174)=1,1,\"\")","v":""},null,86,8,"T",{"$f":"IF(ISNA(VLOOKUP(D174,Rows[],4,FALSE)),\"\",VLOOKUP(D174,Rows[],4,FALSE))","v":"H5g - Cyfanswm Disgownt ail gartref"},{"$f":"IF(ISERROR(VLOOKUP($A174&\"_\"&H$10,qData1[],7,FALSE)),\"\",VLOOKUP($A174&\"_\"&H$10,qData1[],7,FALSE))","v":""},{"$f":"IF(ISERROR(VLOOKUP($A174&\"_\"&I$10,qData1[],7,FALSE)),0,VLOOKUP($A174&\"_\"&I$10,qData1[],7,FALSE))","v":0},0,0,0,{"$f":"IF(ISNA(VLOOKUP($D174&\"_\"&$E174,Tol[],6,FALSE)),$M$7,VLOOKUP($D174&\"_\"&$E174,Tol[],6,FALSE))","v":100},{"$f":"IF(ISNA(VLOOKUP($D174&\"_\"&$E174,Tol[],7,FALSE)),$N$7*100,VLOOKUP($D174&\"_\"&$E174,Tol[],7,FALSE)*100)","v":10},1,1,"","",null,"",null,null,{"$f":"IF(ISERROR(VLOOKUP($A174,#REF!,8,FALSE)),\"\",VLOOKUP($A174,#REF!,8,FALSE))","v":""},{"$f":"IF(ISERROR(VLOOKUP($A174,#REF!,9,FALSE)),\"\",VLOOKUP($A174,#REF!,9,FALSE))","v":""},{"$f":"IF(ISERROR(VLOOKUP($A174,#REF!,10,FALSE)),0,VLOOKUP($A174,#REF!,10,FALSE))","v":"00:00:00"}]
["0_86_9",{"$f":"IF(COUNTIF(Validations!$AB$8:$AB$56,A175)=1,1,\"\")","v":""},null,86,9,"T",{"$f":"IF(ISNA(VLOOKUP(D175,Rows[],4,FALSE)),\"\",VLOOKUP(D175,Rows[],4,FALSE))","v":"H5g - Cyfanswm Disgownt ail gartref"},{"$f":"IF(ISERROR(VLOOKUP($A175&\"_\"&H$10,qData1[],7,FALSE)),\"\",VLOOKUP($A175&\"_\"&H$10,qData1[],7,FALSE))","v":""},{"$f":"IF(ISERROR(VLOOKUP($A175&\"_\"&I$10,qData1[],7,FALSE)),0,VLOOKUP($A175&\"_\"&I$10,qData1[],7,FALSE))","v":0},0,0,0,{"$f":"IF(ISNA(VLOOKUP($D175&\"_\"&$E175,Tol[],6,FALSE)),$M$7,VLOOKUP($D175&\"_\"&$E175,Tol[],6,FALSE))","v":100},{"$f":"IF(ISNA(VLOOKUP($D175&\"_\"&$E175,Tol[],7,FALSE)),$N$7*100,VLOOKUP($D175&\"_\"&$E175,Tol[],7,FALSE)*100)","v":10},1,1,"","",null,"",null,null,{"$f":"IF(ISERROR(VLOOKUP($A175,#REF!,8,FALSE)),\"\",VLOOKUP($A175,#REF!,8,FALSE))","v":""},{"$f":"IF(ISERROR(VLOOKUP($A175,#REF!,9,FALSE)),\"\",VLOOKUP($A175,#REF!,9,FALSE))","v":""},{"$f":"IF(ISERROR(VLOOKUP($A175,#REF!,10,FALSE)),0,VLOOKUP($A175,#REF!,10,FALSE))","v":"00:00:00"}]
["0_86_10",{"$f":"IF(COUNTIF(Validations!$AB$8:$AB$56,A176)=1,1,\"\")","v":""},null,86,10,"T",{"$f":"IF(ISNA(VLOOKUP(D176,Rows[],4,FALSE)),\"\",VLOOKUP(D176,Rows[],4,FALSE))","v":"H5g - Cyfanswm Disgownt ail gartref"},{"$f":"IF(ISERROR(VLOOKUP($A176&\"_\"&H$10,qData1[],7,FALSE)),\"\",VLOOKUP($A176&\"_\"&H$10,qData1[],7,FALSE))","v":""},{"$f":"IF(ISERROR(VLOOKUP($A176&\"_\"&I$10,qData1[],7,FALSE)),0,VLOOKUP($A176&\"_\"&I$10,qData1[],7,FALSE))","v":0},0,0,0,{"$f":"IF(ISNA(VLOOKUP($D176&\"_\"&$E176,Tol[],6,FALSE)),$M$7,VLOOKUP($D176&\"_\"&$E176,Tol[],6,FALSE))","v":100},{"$f":"IF(ISNA(VLOOKUP($D176&\"_\"&$E176,Tol[],7,FALSE)),$N$7*100,VLOOKUP($D176&\"_\"&$E176,Tol[],7,FALSE)*100)","v":10},1,1,"","",null,"",null,null,{"$f":"IF(ISERROR(VLOOKUP($A176,#REF!,8,FALSE)),\"\",VLOOKUP($A176,#REF!,8,FALSE))","v":""},{"$f":"IF(ISERROR(VLOOKUP($A176,#REF!,9,FALSE)),\"\",VLOOKUP($A176,#REF!,9,FALSE))","v":""},{"$f":"IF(ISERROR(VLOOKUP($A176,#REF!,10,FALSE)),0,VLOOKUP($A176,#REF!,10,FALSE))","v":"00:00:00"}]
["0_86_11",{"$f":"IF(COUNTIF(Validations!$AB$8:$AB$56,A177)=1,1,\"\")","v":""},null,86,11,"T",{"$f":"IF(ISNA(VLOOKUP(D177,Rows[],4,FALSE)),\"\",VLOOKUP(D177,Rows[],4,FALSE))","v":"H5g - Cyfanswm Disgownt ail gartref"},{"$f":"IF(ISERROR(VLOOKUP($A177&\"_\"&H$10,qData1[],7,FALSE)),\"\",VLOOKUP($A177&\"_\"&H$10,qData1[],7,FALSE))","v":""},{"$f":"IF(ISERROR(VLOOKUP($A177&\"_\"&I$10,qData1[],7,FALSE)),0,VLOOKUP($A177&\"_\"&I$10,qData1[],7,FALSE))","v":0},0,0,0,{"$f":"IF(ISNA(VLOOKUP($D177&\"_\"&$E177,Tol[],6,FALSE)),$M$7,VLOOKUP($D177&\"_\"&$E177,Tol[],6,FALSE))","v":100},{"$f":"IF(ISNA(VLOOKUP($D177&\"_\"&$E177,Tol[],7,FALSE)),$N$7*100,VLOOKUP($D177&\"_\"&$E177,Tol[],7,FALSE)*100)","v":10},1,1,"","",null,"",null,null,{"$f":"IF(ISERROR(VLOOKUP($A177,#REF!,8,FALSE)),\"\",VLOOKUP($A177,#REF!,8,FALSE))","v":""},{"$f":"IF(ISERROR(VLOOKUP($A177,#REF!,9,FALSE)),\"\",VLOOKUP($A177,#REF!,9,FALSE))","v":""},{"$f":"IF(ISERROR(VLOOKUP($A177,#REF!,10,FALSE)),0,VLOOKUP($A177,#REF!,10,FALSE))","v":"00:00:00"}]
["0_93_2",{"$f":"IF(COUNTIF(Validations!$AB$8:$AB$56,A178)=1,1,\"\")","v":""},null,93,2,"T",{"$f":"IF(ISNA(VLOOKUP(D178,Rows[],4,FALSE)),\"\",VLOOKUP(D178,Rows[],4,FALSE))","v":"H6g - Cyfanswm Premiwm ail gartref"},{"$f":"IF(ISERROR(VLOOKUP($A178&\"_\"&H$10,qData1[],7,FALSE)),\"\",VLOOKUP($A178&\"_\"&H$10,qData1[],7,FALSE))","v":""},{"$f":"IF(ISERROR(VLOOKUP($A178&\"_\"&I$10,qData1[],7,FALSE)),0,VLOOKUP($A178&\"_\"&I$10,qData1[],7,FALSE))","v":0},0,0,0,{"$f":"IF(ISNA(VLOOKUP($D178&\"_\"&$E178,Tol[],6,FALSE)),$M$7,VLOOKUP($D178&\"_\"&$E178,Tol[],6,FALSE))","v":100},{"$f":"IF(ISNA(VLOOKUP($D178&\"_\"&$E178,Tol[],7,FALSE)),$N$7*100,VLOOKUP($D178&\"_\"&$E178,Tol[],7,FALSE)*100)","v":10},1,1,"","",null,"",null,null,{"$f":"IF(ISERROR(VLOOKUP($A178,#REF!,8,FALSE)),\"\",VLOOKUP($A178,#REF!,8,FALSE))","v":""},{"$f":"IF(ISERROR(VLOOKUP($A178,#REF!,9,FALSE)),\"\",VLOOKUP($A178,#REF!,9,FALSE))","v":""},{"$f":"IF(ISERROR(VLOOKUP($A178,#REF!,10,FALSE)),0,VLOOKUP($A178,#REF!,10,FALSE))","v":"00:00:00"}]
["0_93_3",{"$f":"IF(COUNTIF(Validations!$AB$8:$AB$56,A179)=1,1,\"\")","v":""},null,93,3,"T",{"$f":"IF(ISNA(VLOOKUP(D179,Rows[],4,FALSE)),\"\",VLOOKUP(D179,Rows[],4,FALSE))","v":"H6g - Cyfanswm Premiwm ail gartref"},{"$f":"IF(ISERROR(VLOOKUP($A179&\"_\"&H$10,qData1[],7,FALSE)),\"\",VLOOKUP($A179&\"_\"&H$10,qData1[],7,FALSE))","v":""},{"$f":"IF(ISERROR(VLOOKUP($A179&\"_\"&I$10,qData1[],7,FALSE)),0,VLOOKUP($A179&\"_\"&I$10,qData1[],7,FALSE))","v":0},0,0,0,{"$f":"IF(ISNA(VLOOKUP($D179&\"_\"&$E179,Tol[],6,FALSE)),$M$7,VLOOKUP($D179&\"_\"&$E179,Tol[],6,FALSE))","v":100},{"$f":"IF(ISNA(VLOOKUP($D179&\"_\"&$E179,Tol[],7,FALSE)),$N$7*100,VLOOKUP($D179&\"_\"&$E179,Tol[],7,FALSE)*100)","v":10},1,1,"","",null,"",null,null,{"$f":"IF(ISERROR(VLOOKUP($A179,#REF!,8,FALSE)),\"\",VLOOKUP($A179,#REF!,8,FALSE))","v":""},{"$f":"IF(ISERROR(VLOOKUP($A179,#REF!,9,FALSE)),\"\",VLOOKUP($A179,#REF!,9,FALSE))","v":""},{"$f":"IF(ISERROR(VLOOKUP($A179,#REF!,10,FALSE)),0,VLOOKUP($A179,#REF!,10,FALSE))","v":"00:00:00"}]
["0_93_4",{"$f":"IF(COUNTIF(Validations!$AB$8:$AB$56,A180)=1,1,\"\")","v":""},null,93,4,"T",{"$f":"IF(ISNA(VLOOKUP(D180,Rows[],4,FALSE)),\"\",VLOOKUP(D180,Rows[],4,FALSE))","v":"H6g - Cyfanswm Premiwm ail gartref"},{"$f":"IF(ISERROR(VLOOKUP($A180&\"_\"&H$10,qData1[],7,FALSE)),\"\",VLOOKUP($A180&\"_\"&H$10,qData1[],7,FALSE))","v":""},{"$f":"IF(ISERROR(VLOOKUP($A180&\"_\"&I$10,qData1[],7,FALSE)),0,VLOOKUP($A180&\"_\"&I$10,qData1[],7,FALSE))","v":0},0,0,0,{"$f":"IF(ISNA(VLOOKUP($D180&\"_\"&$E180,Tol[],6,FALSE)),$M$7,VLOOKUP($D180&\"_\"&$E180,Tol[],6,FALSE))","v":100},{"$f":"IF(ISNA(VLOOKUP($D180&\"_\"&$E180,Tol[],7,FALSE)),$N$7*100,VLOOKUP($D180&\"_\"&$E180,Tol[],7,FALSE)*100)","v":10},1,1,"","",null,"",null,null,{"$f":"IF(ISERROR(VLOOKUP($A180,#REF!,8,FALSE)),\"\",VLOOKUP($A180,#REF!,8,FALSE))","v":""},{"$f":"IF(ISERROR(VLOOKUP($A180,#REF!,9,FALSE)),\"\",VLOOKUP($A180,#REF!,9,FALSE))","v":""},{"$f":"IF(ISERROR(VLOOKUP($A180,#REF!,10,FALSE)),0,VLOOKUP($A180,#REF!,10,FALSE))","v":"00:00:00"}]
["0_93_5",{"$f":"IF(COUNTIF(Validations!$AB$8:$AB$56,A181)=1,1,\"\")","v":""},null,93,5,"T",{"$f":"IF(ISNA(VLOOKUP(D181,Rows[],4,FALSE)),\"\",VLOOKUP(D181,Rows[],4,FALSE))","v":"H6g - Cyfanswm Premiwm ail gartref"},{"$f":"IF(ISERROR(VLOOKUP($A181&\"_\"&H$10,qData1[],7,FALSE)),\"\",VLOOKUP($A181&\"_\"&H$10,qData1[],7,FALSE))","v":""},{"$f":"IF(ISERROR(VLOOKUP($A181&\"_\"&I$10,qData1[],7,FALSE)),0,VLOOKUP($A181&\"_\"&I$10,qData1[],7,FALSE))","v":0},0,0,0,{"$f":"IF(ISNA(VLOOKUP($D181&\"_\"&$E181,Tol[],6,FALSE)),$M$7,VLOOKUP($D181&\"_\"&$E181,Tol[],6,FALSE))","v":100},{"$f":"IF(ISNA(VLOOKUP($D181&\"_\"&$E181,Tol[],7,FALSE)),$N$7*100,VLOOKUP($D181&\"_\"&$E181,Tol[],7,FALSE)*100)","v":10},1,1,"","",null,"",null,null,{"$f":"IF(ISERROR(VLOOKUP($A181,#REF!,8,FALSE)),\"\",VLOOKUP($A181,#REF!,8,FALSE))","v":""},{"$f":"IF(ISERROR(VLOOKUP($A181,#REF!,9,FALSE)),\"\",VLOOKUP($A181,#REF!,9,FALSE))","v":""},{"$f":"IF(ISERROR(VLOOKUP($A181,#REF!,10,FALSE)),0,VLOOKUP($A181,#REF!,10,FALSE))","v":"00:00:00"}]
["0_93_6",{"$f":"IF(COUNTIF(Validations!$AB$8:$AB$56,A182)=1,1,\"\")","v":""},null,93,6,"T",{"$f":"IF(ISNA(VLOOKUP(D182,Rows[],4,FALSE)),\"\",VLOOKUP(D182,Rows[],4,FALSE))","v":"H6g - Cyfanswm Premiwm ail gartref"},{"$f":"IF(ISERROR(VLOOKUP($A182&\"_\"&H$10,qData1[],7,FALSE)),\"\",VLOOKUP($A182&\"_\"&H$10,qData1[],7,FALSE))","v":""},{"$f":"IF(ISERROR(VLOOKUP($A182&\"_\"&I$10,qData1[],7,FALSE)),0,VLOOKUP($A182&\"_\"&I$10,qData1[],7,FALSE))","v":0},0,0,0,{"$f":"IF(ISNA(VLOOKUP($D182&\"_\"&$E182,Tol[],6,FALSE)),$M$7,VLOOKUP($D182&\"_\"&$E182,Tol[],6,FALSE))","v":100},{"$f":"IF(ISNA(VLOOKUP($D182&\"_\"&$E182,Tol[],7,FALSE)),$N$7*100,VLOOKUP($D182&\"_\"&$E182,Tol[],7,FALSE)*100)","v":10},1,1,"","",null,"",null,null,{"$f":"IF(ISERROR(VLOOKUP($A182,#REF!,8,FALSE)),\"\",VLOOKUP($A182,#REF!,8,FALSE))","v":""},{"$f":"IF(ISERROR(VLOOKUP($A182,#REF!,9,FALSE)),\"\",VLOOKUP($A182,#REF!,9,FALSE))","v":""},{"$f":"IF(ISERROR(VLOOKUP($A182,#REF!,10,FALSE)),0,VLOOKUP($A182,#REF!,10,FALSE))","v":"00:00:00"}]
["0_93_7",{"$f":"IF(COUNTIF(Validations!$AB$8:$AB$56,A183)=1,1,\"\")","v":""},null,93,7,"T",{"$f":"IF(ISNA(VLOOKUP(D183,Rows[],4,FALSE)),\"\",VLOOKUP(D183,Rows[],4,FALSE))","v":"H6g - Cyfanswm Premiwm ail gartref"},{"$f":"IF(ISERROR(VLOOKUP($A183&\"_\"&H$10,qData1[],7,FALSE)),\"\",VLOOKUP($A183&\"_\"&H$10,qData1[],7,FALSE))","v":""},{"$f":"IF(ISERROR(VLOOKUP($A183&\"_\"&I$10,qData1[],7,FALSE)),0,VLOOKUP($A183&\"_\"&I$10,qData1[],7,FALSE))","v":0},0,0,0,{"$f":"IF(ISNA(VLOOKUP($D183&\"_\"&$E183,Tol[],6,FALSE)),$M$7,VLOOKUP($D183&\"_\"&$E183,Tol[],6,FALSE))","v":100},{"$f":"IF(ISNA(VLOOKUP($D183&\"_\"&$E183,Tol[],7,FALSE)),$N$7*100,VLOOKUP($D183&\"_\"&$E183,Tol[],7,FALSE)*100)","v":10},1,1,"","",null,"",null,null,{"$f":"IF(ISERROR(VLOOKUP($A183,#REF!,8,FALSE)),\"\",VLOOKUP($A183,#REF!,8,FALSE))","v":""},{"$f":"IF(ISERROR(VLOOKUP($A183,#REF!,9,FALSE)),\"\",VLOOKUP($A183,#REF!,9,FALSE))","v":""},{"$f":"IF(ISERROR(VLOOKUP($A183,#REF!,10,FALSE)),0,VLOOKUP($A183,#REF!,10,FALSE))","v":"00:00:00"}]
["0_93_8",{"$f":"IF(COUNTIF(Validations!$AB$8:$AB$56,A184)=1,1,\"\")","v":""},null,93,8,"T",{"$f":"IF(ISNA(VLOOKUP(D184,Rows[],4,FALSE)),\"\",VLOOKUP(D184,Rows[],4,FALSE))","v":"H6g - Cyfanswm Premiwm ail gartref"},{"$f":"IF(ISERROR(VLOOKUP($A184&\"_\"&H$10,qData1[],7,FALSE)),\"\",VLOOKUP($A184&\"_\"&H$10,qData1[],7,FALSE))","v":""},{"$f":"IF(ISERROR(VLOOKUP($A184&\"_\"&I$10,qData1[],7,FALSE)),0,VLOOKUP($A184&\"_\"&I$10,qData1[],7,FALSE))","v":0},0,0,0,{"$f":"IF(ISNA(VLOOKUP($D184&\"_\"&$E184,Tol[],6,FALSE)),$M$7,VLOOKUP($D184&\"_\"&$E184,Tol[],6,FALSE))","v":100},{"$f":"IF(ISNA(VLOOKUP($D184&\"_\"&$E184,Tol[],7,FALSE)),$N$7*100,VLOOKUP($D184&\"_\"&$E184,Tol[],7,FALSE)*100)","v":10},1,1,"","",null,"",null,null,{"$f":"IF(ISERROR(VLOOKUP($A184,#REF!,8,FALSE)),\"\",VLOOKUP($A184,#REF!,8,FALSE))","v":""},{"$f":"IF(ISERROR(VLOOKUP($A184,#REF!,9,FALSE)),\"\",VLOOKUP($A184,#REF!,9,FALSE))","v":""},{"$f":"IF(ISERROR(VLOOKUP($A184,#REF!,10,FALSE)),0,VLOOKUP($A184,#REF!,10,FALSE))","v":"00:00:00"}]
["0_93_9",{"$f":"IF(COUNTIF(Validations!$AB$8:$AB$56,A185)=1,1,\"\")","v":""},null,93,9,"T",{"$f":"IF(ISNA(VLOOKUP(D185,Rows[],4,FALSE)),\"\",VLOOKUP(D185,Rows[],4,FALSE))","v":"H6g - Cyfanswm Premiwm ail gartref"},{"$f":"IF(ISERROR(VLOOKUP($A185&\"_\"&H$10,qData1[],7,FALSE)),\"\",VLOOKUP($A185&\"_\"&H$10,qData1[],7,FALSE))","v":""},{"$f":"IF(ISERROR(VLOOKUP($A185&\"_\"&I$10,qData1[],7,FALSE)),0,VLOOKUP($A185&\"_\"&I$10,qData1[],7,FALSE))","v":0},0,0,0,{"$f":"IF(ISNA(VLOOKUP($D185&\"_\"&$E185,Tol[],6,FALSE)),$M$7,VLOOKUP($D185&\"_\"&$E185,Tol[],6,FALSE))","v":100},{"$f":"IF(ISNA(VLOOKUP($D185&\"_\"&$E185,Tol[],7,FALSE)),$N$7*100,VLOOKUP($D185&\"_\"&$E185,Tol[],7,FALSE)*100)","v":10},1,1,"","",null,"",null,null,{"$f":"IF(ISERROR(VLOOKUP($A185,#REF!,8,FALSE)),\"\",VLOOKUP($A185,#REF!,8,FALSE))","v":""},{"$f":"IF(ISERROR(VLOOKUP($A185,#REF!,9,FALSE)),\"\",VLOOKUP($A185,#REF!,9,FALSE))","v":""},{"$f":"IF(ISERROR(VLOOKUP($A185,#REF!,10,FALSE)),0,VLOOKUP($A185,#REF!,10,FALSE))","v":"00:00:00"}]
["0_93_10",{"$f":"IF(COUNTIF(Validations!$AB$8:$AB$56,A186)=1,1,\"\")","v":""},null,93,10,"T",{"$f":"IF(ISNA(VLOOKUP(D186,Rows[],4,FALSE)),\"\",VLOOKUP(D186,Rows[],4,FALSE))","v":"H6g - Cyfanswm Premiwm ail gartref"},{"$f":"IF(ISERROR(VLOOKUP($A186&\"_\"&H$10,qData1[],7,FALSE)),\"\",VLOOKUP($A186&\"_\"&H$10,qData1[],7,FALSE))","v":""},{"$f":"IF(ISERROR(VLOOKUP($A186&\"_\"&I$10,qData1[],7,FALSE)),0,VLOOKUP($A186&\"_\"&I$10,qData1[],7,FALSE))","v":0},0,0,0,{"$f":"IF(ISNA(VLOOKUP($D186&\"_\"&$E186,Tol[],6,FALSE)),$M$7,VLOOKUP($D186&\"_\"&$E186,Tol[],6,FALSE))","v":100},{"$f":"IF(ISNA(VLOOKUP($D186&\"_\"&$E186,Tol[],7,FALSE)),$N$7*100,VLOOKUP($D186&\"_\"&$E186,Tol[],7,FALSE)*100)","v":10},1,1,"","",null,"",null,null,{"$f":"IF(ISERROR(VLOOKUP($A186,#REF!,8,FALSE)),\"\",VLOOKUP($A186,#REF!,8,FALSE))","v":""},{"$f":"IF(ISERROR(VLOOKUP($A186,#REF!,9,FALSE)),\"\",VLOOKUP($A186,#REF!,9,FALSE))","v":""},{"$f":"IF(ISERROR(VLOOKUP($A186,#REF!,10,FALSE)),0,VLOOKUP($A186,#REF!,10,FALSE))","v":"00:00:00"}]
["0_93_11",{"$f":"IF(COUNTIF(Validations!$AB$8:$AB$56,A187)=1,1,\"\")","v":""},null,93,11,"T",{"$f":"IF(ISNA(VLOOKUP(D187,Rows[],4,FALSE)),\"\",VLOOKUP(D187,Rows[],4,FALSE))","v":"H6g - Cyfanswm Premiwm ail gartref"},{"$f":"IF(ISERROR(VLOOKUP($A187&\"_\"&H$10,qData1[],7,FALSE)),\"\",VLOOKUP($A187&\"_\"&H$10,qData1[],7,FALSE))","v":""},{"$f":"IF(ISERROR(VLOOKUP($A187&\"_\"&I$10,qData1[],7,FALSE)),0,VLOOKUP($A187&\"_\"&I$10,qData1[],7,FALSE))","v":0},0,0,0,{"$f":"IF(ISNA(VLOOKUP($D187&\"_\"&$E187,Tol[],6,FALSE)),$M$7,VLOOKUP($D187&\"_\"&$E187,Tol[],6,FALSE))","v":100},{"$f":"IF(ISNA(VLOOKUP($D187&\"_\"&$E187,Tol[],7,FALSE)),$N$7*100,VLOOKUP($D187&\"_\"&$E187,Tol[],7,FALSE)*100)","v":10},1,1,"","",null,"",null,null,{"$f":"IF(ISERROR(VLOOKUP($A187,#REF!,8,FALSE)),\"\",VLOOKUP($A187,#REF!,8,FALSE))","v":""},{"$f":"IF(ISERROR(VLOOKUP($A187,#REF!,9,FALSE)),\"\",VLOOKUP($A187,#REF!,9,FALSE))","v":""},{"$f":"IF(ISERROR(VLOOKUP($A187,#REF!,10,FALSE)),0,VLOOKUP($A187,#REF!,10,FALSE))","v":"00:00:00"}]

{"sheet":"Comments","index":7,"n_rows":14,"n_cols":8,"rows_kept":14,"merged":[[1,2,1,6]]}
[]
[null,null,{"$f":"PartsAtoD!C1","v":"Cod: 0         Awdurdod: Dewiswch eich awdurdod"},{"$nulls":4},{"$f":"PartsAtoD!O1","v":"CT1 2026-27"}]
[]
[]
[null,null,{"$f":"Text!F122","v":"Dyluniad y ffurflen"}]
[]
[]
[null,null,{"$f":"Text!F123","v":"Dilysu"}]
[]
[]
[null,null,{"$f":"Text!F124","v":"Dogfennaeth"}]
[]
[]
[null,null,{"$f":"Text!F125","v":"Sylwadau cyffredinol"}]

{"sheet":"Survey Response Burden","index":8,"n_rows":14,"n_cols":9,"rows_kept":14}
[]
[null,null,{"$f":"PartsAtoD!C1","v":"Cod: 0         Awdurdod: Dewiswch eich awdurdod"},{"$nulls":5},{"$f":"PartsAtoD!O1","v":"CT1 2026-27"}]
[]
[]
[null,null,{"$f":"Text!F110","v":"Y Baich o Ymateb i'r Arolwg"}]
[null,null,{"$f":"Text!F111","v":"Mae Llywodraeth Cymru yn monitro'r baich o lenwi'r ffurflen casglu data hon. "}]
[null,null,{"$f":"Text!F112","v":"Nodwch yr amser a gymerwyd gennych chi (ac unrhyw gydweithwyr) i baratoi ac anfon y ffurflen. "}]
[null,null,{"$f":"Text!F113","v":"Dylech gynnwys yr amser a dreuliwyd ar weithgarwch i baratoi ac anfon y ffurflen hon yn unig, megis:"}]
[null,null,{"$f":"\"  ● \"&Text!F114","v":"  ● casglu, dadansoddi a chyfuno'r cofnodion a'r data gofynnol"}]
[null,null,{"$f":"\"  ● \"&Text!F115","v":"  ● cwblhau, gwirio, diwygio a chymeradwyo'r ffurflen."}]
[]
[null,null,{"$f":"Text!F116","v":"Nifer yr oriau"}]
[]
[null,null,{"$f":"Text!F117","v":"Mae croeso i chi ychwanegu unrhyw sylwadau"}]

{"sheet":"ValidationData","index":9,"n_rows":235,"n_cols":78,"rows_kept":235,"hidden":true,"merged":[[3,3,3,4]]}
[]
[null,"Grand Total Check:",{"$f":"T55+P82+J90+BO75+BO6","v":{"$error":"#VALUE!"}}]
["UPDATED FOR 2026-27"]
["VOAList",null,"Agency Check Date",{"$f":"\"25/09/\"&LEFT(Transfer!X2,4)","v":"25/09/2025"},null,"feeds into VOA section of validation sheet",{"$nulls":12},"Negation Checks"]
["Index","Area Name","Attribute","Value","UACode",null,"qryVOAData ","Z:\\stats\\sd3\\Revenue\\Council Tax\\Dwellings\\CT1.mdb",{"$nulls":10},"PartAtoD",{"$nulls":15},"PartH",{"$nulls":16},"PartH",{"$nulls":12},"Part H"]
[{"$f":"E6&C6","v":"512A"},"Isle of Anglesey","A",4972,512,{"$nulls":5},"Row Data for populating RowRef table in CT1 database - do not delete",{"$nulls":7},"Link to Sheet",{"$nulls":15},"Link to sheet",{"$nulls":16},"Pivot from Transfer Sheet (_tab1)",{"$nulls":13},"ZeroCheck",{"$f":"SUM(BO8:BY8)","v":{"$error":"#VALUE!"}}]
["512B","Isle of Anglesey","B",6948,512,null,"Range: PartF (DO NOT DELETE)",{"$nulls":3},"RowRef","RowDesc",{"$nulls":6},{"$f":"PartsAtoD!B3","v":0},{"$f":"PartsAtoD!C3","v":0},{"$f":"PartsAtoD!D3","v":0},{"$f":"PartsAtoD!E3","v":1},{"$f":"PartsAtoD!F3","v":2},{"$f":"PartsAtoD!G3","v":3},{"$f":"PartsAtoD!H3","v":4},{"$f":"PartsAtoD!I3","v":5},{"$f":"PartsAtoD!J3","v":6},{"$f":"PartsAtoD!K3","v":7},{"$f":"PartsAtoD!L3","v":8},{"$f":"PartsAtoD!M3","v":9},{"$f":"PartsAtoD!N3","v":10},{"$f":"PartsAtoD!O3","v":11},null,null,{"$f":"PartH!B4","v":0},{"$f":"PartH!C4","v":0},{"$f":"PartH!D4","v":12},{"$f":"PartH!E4","v":2},{"$f":"PartH!F4","v":3},{"$f":"PartH!G4","v":4},{"$f":"PartH!H4","v":5},{"$f":"PartH!I4","v":6},{"$f":"PartH!J4","v":7},{"$f":"PartH!K4","v":8},{"$f":"PartH!L4","v":9},{"$f":"PartH!M4","v":10},{"$f":"PartH!N4","v":11}]
["512C","Isle of Anglesey","C",7210,512,null,28,"A",{"$f":"PartsEandF!E26","v":0},null,{"$f":"PartH!B7","v":64},{"$f":"PartH!C7&\" - \"&PartH!D7","v":"H1 - Eiddo gwag  trethadwy (dros 6 mis) heb unrhyw ddisgownt na phremiwm"},null,null,{"$f":"K8","v":64},{"$f":"LEFT(L8,3)","v":"H1 "},null,null,{"$f":"PartsAtoD!B4","v":0},{"$f":"PartsAtoD!C4","v":0},{"$f":"PartsAtoD!D4","v":0},{"$f":"PartsAtoD!E4","v":0},{"$f":"PartsAtoD!F4","v":0},{"$f":"PartsAtoD!G4","v":0},{"$f":"PartsAtoD!H4","v":0},{"$f":"PartsAtoD!I4","v":0},{"$f":"PartsAtoD!J4","v":0},{"$f":"PartsAtoD!K4","v":0},{"$f":"PartsAtoD!L4","v":0},{"$f":"PartsAtoD!M4","v":0},{"$f":"PartsAtoD!N4","v":0},{"$f":"PartsAtoD!O4","v":0},null,null,{"$f":"PartH!B5","v":0},{"$f":"PartH!C5","v":0},{"$f":"PartH!D5","v":"Cofnodwch y nifer gwirioneddol o anheddau"},{"$f":"PartH!E5","v":0},{"$f":"PartH!F5","v":0},{"$f":"PartH!G5","v":0},{"$f":"PartH!H5","v":0},{"$f":"PartH!I5","v":0},{"$f":"PartH!J5","v":0},{"$f":"PartH!K5","v":0},{"$f":"PartH!L5","v":0},{"$f":"PartH!M5","v":0},{"$f":"PartH!N5","v":0},{"$nulls":4},"Sum of Data2","ColumnRef",{"$nulls":13},{"$f":"SUM(BO10:BO69)","v":0},{"$f":"SUM(BP10:BP69)","v":{"$error":"#VALUE!"}},{"$error":"#VALUE!"},{"$error":"#VALUE!"},{"$error":"#VALUE!"},{"$error":"#VALUE!"},{"$error":"#VALUE!"},{"$error":"#VALUE!"},{"$error":"#VALUE!"},{"$error":"#VALUE!"},{"$error":"#VALUE!"}]
["512D","Isle of Anglesey","D",7419,512,null,29,"B",{"$f":"PartsEandF!E28","v":0},null,{"$f":"PartH!B10","v":65},{"$f":"PartH!C10&\" - \"&PartH!D10","v":"H2 - Ail gartrefi sydd yn daladwy heb ddisgownt na phremiwm"},null,null,65,"H2 ",null,null,{"$f":"PartsAtoD!B5","v":0},{"$f":"PartsAtoD!C5","v":0},{"$f":"PartsAtoD!D5","v":0},{"$f":"PartsAtoD!E5","v":0},{"$f":"PartsAtoD!F5","v":0},{"$f":"PartsAtoD!G5","v":0},{"$f":"PartsAtoD!H5","v":0},{"$f":"PartsAtoD!I5","v":0},{"$f":"PartsAtoD!J5","v":"band priso"},{"$f":"PartsAtoD!K5","v":0},{"$f":"PartsAtoD!L5","v":0},{"$f":"PartsAtoD!M5","v":0},{"$f":"PartsAtoD!N5","v":0},{"$f":"PartsAtoD!O5","v":"Cyfanswm ( = swm ffigurau pob band )"},null,null,{"$f":"PartH!B6","v":0},{"$f":"PartH!C6","v":0},{"$f":"PartH!D6","v":0},{"$f":"PartH!E6","v":"A"},{"$f":"PartH!F6","v":"B"},{"$f":"PartH!G6","v":"C"},{"$f":"PartH!H6","v":"D"},{"$f":"PartH!I6","v":"E"},{"$f":"PartH!J6","v":"F"},{"$f":"PartH!K6","v":"G"},{"$f":"PartH!L6","v":"H"},{"$f":"PartH!M6","v":"I"},{"$f":"PartH!N6","v":"Cyfanswm"},"Row Count",{"$nulls":3},"rowref",1,12,2,3,4,5,6,7,8,9,10,11,null,null,{"$f":"BA9","v":1},12,2,3,4,5,{"$f":"BG9","v":6},{"$f":"BH9","v":7},{"$f":"BI9","v":8},{"$f":"BJ9","v":9},{"$f":"BK9","v":10}]
["512E","Isle of Anglesey","E",5562,512,null,30,"C",{"$f":"PartsEandF!E30","v":0},null,{"$f":"PartH!B16","v":67},{"$f":"PartH!C16&\" - \"&PartH!$D$13&\" \"&PartH!D16&\"%\"","v":"H3b - Disgownt eiddo gwag 25%"},null,null,67,"H3b",null,null,{"$f":"PartsAtoD!B6","v":0},null,null,{"$f":"PartsAtoD!E6","v":"A*"},{"$f":"PartsAtoD!F6","v":"A"},{"$f":"PartsAtoD!G6","v":"B"},{"$f":"PartsAtoD!H6","v":"C"},{"$f":"PartsAtoD!I6","v":"D"},{"$f":"PartsAtoD!J6","v":"E"},{"$f":"PartsAtoD!K6","v":"F"},{"$f":"PartsAtoD!L6","v":"G"},{"$f":"PartsAtoD!M6","v":"H"},{"$f":"PartsAtoD!N6","v":"I"},null,"Row Count",null,{"$f":"PartH!B7","v":64},{"$f":"PartH!C7","v":"H1"},{"$f":"PartH!D7","v":"Eiddo gwag  trethadwy (dros 6 mis) heb unrhyw ddisgownt na phremiwm"},{"$f":"PartH!E7","v":0},{"$f":"PartH!F7","v":0},{"$f":"PartH!G7","v":0},{"$f":"PartH!H7","v":0},{"$f":"PartH!I7","v":0},{"$f":"PartH!J7","v":0},{"$f":"PartH!K7","v":0},{"$f":"PartH!L7","v":0},{"$f":"PartH!M7","v":0},{"$f":"PartH!N7","v":0},{"$f":"COUNT(AK10:AU10)","v":10},{"$nulls":3},64,null,null,0,0,0,0,0,0,0,0,0,0,null,{"$f":"AZ10","v":64},null,{"$f":"AK10-BB10","v":{"$error":"#VALUE!"}},{"$f":"AL10-BC10","v":0},{"$f":"AM10-BD10","v":0},0,0,0,0,0,0,0]
["512F","Isle of Anglesey","F",2786,512,null,31,"D",{"$f":"PartsEandF!E32","v":0},null,{"$f":"PartH!B17","v":68},{"$f":"PartH!C17&\" - \"&PartH!$D$13&\" \"&PartH!D17&\"%\"","v":"H3c - Disgownt eiddo gwag 50%"},null,null,68,"H3c",null,null,{"$f":"PartsAtoD!B7","v":1},{"$f":"PartsAtoD!C7","v":"A1"},{"$f":"PartsAtoD!D7","v":"Holl anheddau trethadwy"},null,{"$f":"PartsAtoD!F7","v":0},{"$f":"PartsAtoD!G7","v":0},{"$f":"PartsAtoD!H7","v":0},{"$f":"PartsAtoD!I7","v":0},{"$f":"PartsAtoD!J7","v":0},{"$f":"PartsAtoD!K7","v":0},{"$f":"PartsAtoD!L7","v":0},{"$f":"PartsAtoD!M7","v":0},{"$f":"PartsAtoD!N7","v":0},{"$f":"PartsAtoD!O7","v":0},{"$f":"COUNT(V11:AF11)","v":10},null,{"$f":"PartH!B10","v":65},{"$f":"PartH!C10","v":"H2"},{"$f":"PartH!D10","v":"Ail gartrefi sydd yn daladwy heb ddisgownt na phremiwm"},{"$f":"PartH!E10","v":0},{"$f":"PartH!F10","v":0},{"$f":"PartH!G10","v":0},{"$f":"PartH!H10","v":0},{"$f":"PartH!I10","v":0},{"$f":"PartH!J10","v":0},{"$f":"PartH!K10","v":0},{"$f":"PartH!L10","v":0},{"$f":"PartH!M10","v":0},{"$f":"PartH!N10","v":0},{"$f":"COUNT(AK11:AU11)","v":10},{"$nulls":3},65,null,null,0,0,0,0,0,0,0,0,0,0,null,65,null,{"$f":"AK11-BB11","v":{"$error":"#VALUE!"}},{"$f":"AL11-BC11","v":0},{"$f":"AM11-BD11","v":0},{"$f":"AN11-BE11","v":0},{"$f":"AO11-BF11","v":0},{"$f":"AP11-BG11","v":0},{"$f":"AQ11-BH11","v":0},{"$f":"AR11-BI11","v":0},{"$f":"AS11-BJ11","v":0},{"$f":"AT11-BK11","v":0}]
["512G","Isle of Anglesey","G",1086,512,null,32,"E",{"$f":"PartsEandF!E34","v":0},null,{"$f":"PartH!B18","v":70},{"$f":"PartH!C18&\" - \"&PartH!$D$13&\" \"&PartH!D18&\"%\"","v":"H3e - Disgownt eiddo gwag 100%"},null,null,70,"H3e",null,null,{"$f":"PartsAtoD!B8","v":2},{"$f":"PartsAtoD!C8","v":"A2"},{"$f":"PartsAtoD!D8","v":"Anheddau sy'n derbyn gostyngiad anabledd ( sy'n gynwysedig yn llinell A1 )"},null,{"$f":"PartsAtoD!F8","v":0},{"$f":"PartsAtoD!G8","v":0},{"$f":"PartsAtoD!H8","v":0},{"$f":"PartsAtoD!I8","v":0},{"$f":"PartsAtoD!J8","v":0},{"$f":"PartsAtoD!K8","v":0},{"$f":"PartsAtoD!L8","v":0},{"$f":"PartsAtoD!M8","v":0},{"$f":"PartsAtoD!N8","v":0},{"$f":"PartsAtoD!O8","v":0},{"$f":"COUNT(V12:AF12)","v":10},null,{"$f":"PartH!B12","v":0},{"$f":"PartH!C12","v":0},{"$f":"PartH!D12","v":0},{"$f":"PartH!E12","v":0},{"$f":"PartH!F12","v":0},{"$f":"PartH!G12","v":0},{"$f":"PartH!H12","v":0},{"$f":"PartH!I12","v":0},{"$f":"PartH!J12","v":0},{"$f":"PartH!K12","v":0},{"$f":"PartH!L12","v":0},{"$f":"PartH!M12","v":0},{"$f":"PartH!N12","v":0},11,{"$nulls":3},67,null,25,0,0,0,0,0,0,0,0,0,0,null,67,null,-25,0,0,0,0,0,0,0,0,0]
["512H","Isle of Anglesey","H",170,512,null,33,"F",{"$f":"PartsEandF!E36","v":0},null,{"$f":"PartH!B19","v":71},{"$f":"PartH!C19&\" - \"&PartH!$D$13&\" \"&PartH!D19&\"%\"","v":"H3f - Disgownt eiddo gwag 0%"},null,null,71,"H3f",null,null,{"$f":"PartsAtoD!B9","v":3},{"$f":"PartsAtoD!C9","v":"A3"},{"$f":"PartsAtoD!D9","v":"Cyfanswm yr anheddau trethadwy wedi'i addasu ( gan gymryd i ystyriaeth y gostyngiadau anabledd )"},{"$f":"PartsAtoD!E9","v":0},{"$f":"PartsAtoD!F9","v":0},{"$f":"PartsAtoD!G9","v":0},{"$f":"PartsAtoD!H9","v":0},{"$f":"PartsAtoD!I9","v":0},{"$f":"PartsAtoD!J9","v":0},{"$f":"PartsAtoD!K9","v":0},{"$f":"PartsAtoD!L9","v":0},{"$f":"PartsAtoD!M9","v":0},{"$f":"PartsAtoD!N9","v":0},{"$f":"PartsAtoD!O9","v":0},11,null,{"$f":"PartH!B13","v":0},{"$f":"PartH!C13","v":0},{"$f":"PartH!D13","v":"Disgownt eiddo gwag"},{"$f":"PartH!E13","v":0},{"$f":"PartH!F13","v":0},{"$f":"PartH!G13","v":0},{"$f":"PartH!H13","v":0},{"$f":"PartH!I13","v":0},{"$f":"PartH!J13","v":0},{"$f":"PartH!K13","v":0},{"$f":"PartH!L13","v":0},{"$f":"PartH!M13","v":0},{"$f":"PartH!N13","v":0},10,{"$nulls":3},68,null,50,0,0,0,0,0,0,0,0,0,0,null,68,null,{"$error":"#VALUE!"},0,0,0,0,0,0,0,0,0]
["512I","Isle of Anglesey","I",55,512,null,34,"G",{"$f":"PartsEandF!E38","v":0},null,{"$f":"PartH!B20","v":71.1},{"$f":"PartH!C20&\" - \"&PartH!$D$13&\" \"&PartH!D20&\"%\"","v":"H3fa - Disgownt eiddo gwag 0%"},null,null,71.1,"H3f",null,null,{"$f":"PartsAtoD!B11","v":4},{"$f":"PartsAtoD!C11","v":"B1"},{"$f":"PartsAtoD!D11","v":"Anheddau heb ddisgownt neu premiwm (gan gynnwys eiddo gwag hirdymor ac ail gartrefi heb ddisgownt neu premiwm)"},{"$f":"PartsAtoD!E11","v":0},{"$f":"PartsAtoD!F11","v":0},{"$f":"PartsAtoD!G11","v":0},{"$f":"PartsAtoD!H11","v":0},{"$f":"PartsAtoD!I11","v":0},{"$f":"PartsAtoD!J11","v":0},{"$f":"PartsAtoD!K11","v":0},{"$f":"PartsAtoD!L11","v":0},{"$f":"PartsAtoD!M11","v":0},{"$f":"PartsAtoD!N11","v":0},{"$f":"PartsAtoD!O11","v":0},11,null,{"$f":"PartH!B14","v":0},{"$f":"PartH!C14","v":0},{"$f":"PartH!D14","v":"Nodwch yn ôl band a gostyngiad canrannol, nifer yr anheddau sy'n wag."},{"$f":"PartH!E14","v":0},{"$f":"PartH!F14","v":0},{"$f":"PartH!G14","v":0},{"$f":"PartH!H14","v":0},{"$f":"PartH!I14","v":0},{"$f":"PartH!J14","v":0},{"$f":"PartH!K14","v":0},{"$f":"PartH!L14","v":0},{"$f":"PartH!M14","v":0},{"$f":"PartH!N14","v":0},10,{"$nulls":3},70,null,100,0,0,0,0,0,0,0,0,0,0,null,70,null,{"$error":"#VALUE!"},0,0,0,0,0,0,0,0,0]
["512ALL","Isle of Anglesey","ALL",36208,512,null,35,"H",{"$f":"PartsEandF!E40","v":0},null,{"$f":"PartH!B21","v":71.2},{"$f":"PartH!C21&\" - \"&PartH!$D$13&\" \"&PartH!D21&\"%\"","v":"H3fb - Disgownt eiddo gwag 0%"},null,null,71.2,"H3f",null,null,{"$f":"PartsAtoD!B12","v":4.1},{"$f":"PartsAtoD!C12","v":"B2a"},{"$f":"PartsAtoD!D12","v":"Anheddau gyda disgownt o 25% (ag eithrio eiddo gwag hirdymor ac ail gartrefi heb ddisgownt)"},{"$f":"PartsAtoD!E12","v":0},{"$f":"PartsAtoD!F12","v":0},{"$f":"PartsAtoD!G12","v":0},{"$f":"PartsAtoD!H12","v":0},{"$f":"PartsAtoD!I12","v":0},{"$f":"PartsAtoD!J12","v":0},{"$f":"PartsAtoD!K12","v":0},{"$f":"PartsAtoD!L12","v":0},{"$f":"PartsAtoD!M12","v":0},{"$f":"PartsAtoD!N12","v":0},{"$f":"PartsAtoD!O12","v":0},11,null,{"$f":"PartH!B15","v":0},{"$f":"PartH!C15","v":0},{"$f":"PartH!D15","v":"Canran disgownt"},{"$f":"PartH!E15","v":"A"},{"$f":"PartH!F15","v":"B"},{"$f":"PartH!G15","v":"C"},{"$f":"PartH!H15","v":"D"},{"$f":"PartH!I15","v":"E"},{"$f":"PartH!J15","v":"F"},{"$f":"PartH!K15","v":"G"},{"$f":"PartH!L15","v":"H"},{"$f":"PartH!M15","v":"I"},{"$f":"PartH!N15","v":"Cyfanswm"},0,{"$nulls":3},71,null,0,0,0,0,0,0,0,0,0,0,0,null,71,null,{"$error":"#VALUE!"},{"$error":"#VALUE!"},{"$error":"#VALUE!"},{"$error":"#VALUE!"},{"$error":"#VALUE!"},{"$error":"#VALUE!"},{"$error":"#VALUE!"},{"$error":"#VALUE!"},{"$error":"#VALUE!"},{"$error":"#VALUE!"}]
["514A","Gwynedd","A",9386,514,null,36,"I",{"$f":"PartsEandF!H26","v":0},null,{"$f":"PartH!B22","v":72},{"$f":"PartH!C22&\" - \"&PartH!$D$13&\" \"&PartH!D22&\"%\"","v":"H3g - Disgownt eiddo gwag Cyfanswm%"},null,null,72,"H3g",null,null,{"$f":"PartsAtoD!B13","v":4.2},{"$f":"PartsAtoD!C13","v":"B2b"},{"$f":"PartsAtoD!D13","v":"Anheddau gyda disgownt o 50% (ag eithrio eiddo gwag hirdymor ac ail gartrefi heb ddisgownt)"},{"$f":"PartsAtoD!E13","v":0},{"$f":"PartsAtoD!F13","v":0},{"$f":"PartsAtoD!G13","v":0},{"$f":"PartsAtoD!H13","v":0},{"$f":"PartsAtoD!I13","v":0},{"$f":"PartsAtoD!J13","v":0},{"$f":"PartsAtoD!K13","v":0},{"$f":"PartsAtoD!L13","v":0},{"$f":"PartsAtoD!M13","v":0},{"$f":"PartsAtoD!N13","v":0},{"$f":"PartsAtoD!O13","v":0},11,null,{"$f":"PartH!B16","v":67},{"$f":"PartH!C16","v":"H3b"},{"$f":"PartH!D16","v":25},{"$f":"PartH!E16","v":0},{"$f":"PartH!F16","v":0},{"$f":"PartH!G16","v":0},{"$f":"PartH!H16","v":0},{"$f":"PartH!I16","v":0},{"$f":"PartH!J16","v":0},{"$f":"PartH!K16","v":0},{"$f":"PartH!L16","v":0},{"$f":"PartH!M16","v":0},{"$f":"PartH!N16","v":0},11,{"$nulls":3},72,null,null,0,0,0,0,0,0,0,0,0,0,null,72,null,25,0,0,0,0,0,0,0,0,0]
["514B","Gwynedd","B",15847,514,null,37,"J",{"$f":"PartsEandF!H28","v":0},null,{"$f":"PartH!B27","v":74},{"$f":"PartH!C27&\" - \"&PartH!$D$24&\" \"&PartH!D27&\"%\"","v":"H4b - Premiwm eiddo gwag hirdymor (dros 12 mis) 25%"},null,null,74,"H4b",null,null,{"$f":"PartsAtoD!B14","v":7},{"$f":"PartsAtoD!C14","v":"B3a"},{"$f":"PartsAtoD!D14","v":"Anheddau gyda disgownt amrywiol ag eithrio 25% neu 50% (Rhan G, llinell 11)"},{"$f":"PartsAtoD!E14","v":0},{"$f":"PartsAtoD!F14","v":0},{"$f":"PartsAtoD!G14","v":0},{"$f":"PartsAtoD!H14","v":0},{"$f":"PartsAtoD!I14","v":0},{"$f":"PartsAtoD!J14","v":0},{"$f":"PartsAtoD!K14","v":0},{"$f":"PartsAtoD!L14","v":0},{"$f":"PartsAtoD!M14","v":0},{"$f":"PartsAtoD!N14","v":0},{"$f":"PartsAtoD!O14","v":0},11,null,{"$f":"PartH!B17","v":68},{"$f":"PartH!C17","v":"H3c"},{"$f":"PartH!D17","v":50},{"$f":"PartH!E17","v":0},{"$f":"PartH!F17","v":0},{"$f":"PartH!G17","v":0},{"$f":"PartH!H17","v":0},{"$f":"PartH!I17","v":0},{"$f":"PartH!J17","v":0},{"$f":"PartH!K17","v":0},{"$f":"PartH!L17","v":0},{"$f":"PartH!M17","v":0},{"$f":"PartH!N17","v":0},11,{"$nulls":3},74,null,25,0,0,0,0,0,0,0,0,0,0,null,74,null,25,0,0,0,0,0,0,0,0,0]
["514C","Gwynedd","C",12739,514,null,38,"K",{"$f":"PartsEandF!H30","v":0},null,{"$f":"PartH!B28","v":75},{"$f":"PartH!C28&\" - \"&PartH!$D$24&\" \"&PartH!D28&\"%\"","v":"H4c - Premiwm eiddo gwag hirdymor (dros 12 mis) 50%"},null,null,75,"H4c",null,null,{"$f":"PartsAtoD!B15","v":7.1},{"$f":"PartsAtoD!C15","v":"B3b"},{"$f":"PartsAtoD!D15","v":"Anheddau gyda disgownt eiddo gwag hirdymor neu ail gartref"},null,{"$f":"PartsAtoD!F15","v":0},{"$f":"PartsAtoD!G15","v":0},{"$f":"PartsAtoD!H15","v":0},{"$f":"PartsAtoD!I15","v":0},{"$f":"PartsAtoD!J15","v":0},{"$f":"PartsAtoD!K15","v":0},{"$f":"PartsAtoD!L15","v":0},{"$f":"PartsAtoD!M15","v":0},{"$f":"PartsAtoD!N15","v":0},{"$f":"PartsAtoD!O15","v":0},10,null,{"$f":"PartH!B18","v":70},{"$f":"PartH!C18","v":"H3e"},{"$f":"PartH!D18","v":100},{"$f":"PartH!E18","v":0},{"$f":"PartH!F18","v":0},{"$f":"PartH!G18","v":0},{"$f":"PartH!H18","v":0},{"$f":"PartH!I18","v":0},{"$f":"PartH!J18","v":0},{"$f":"PartH!K18","v":0},{"$f":"PartH!L18","v":0},{"$f":"PartH!M18","v":0},{"$f":"PartH!N18","v":0},11,{"$nulls":3},75,null,50,0,0,0,0,0,0,0,0,0,0,null,75,null,50,0,0,0,0,0,0,0,0,0]
["514D","Gwynedd","D",10783,514,null,39,"L",{"$f":"PartsEandF!H32","v":0},null,{"$f":"PartH!B29","v":77},{"$f":"PartH!C29&\" - \"&PartH!$D$24&\" \"&PartH!D29&\"%\"","v":"H4e - Premiwm eiddo gwag hirdymor (dros 12 mis) 100%"},null,null,77,"H4e",null,null,{"$f":"PartsAtoD!B16","v":7.2},{"$f":"PartsAtoD!C16","v":"B3c"},{"$f":"PartsAtoD!D16","v":"Anheddau gyda phremiwm eiddo gwag hirdymor neu ail gartref"},null,{"$f":"PartsAtoD!F16","v":0},{"$f":"PartsAtoD!G16","v":0},{"$f":"PartsAtoD!H16","v":0},{"$f":"PartsAtoD!I16","v":0},{"$f":"PartsAtoD!J16","v":0},{"$f":"PartsAtoD!K16","v":0},{"$f":"PartsAtoD!L16","v":0},{"$f":"PartsAtoD!M16","v":0},{"$f":"PartsAtoD!N16","v":0},{"$f":"PartsAtoD!O16","v":0},10,null,{"$f":"PartH!B19","v":71},{"$f":"PartH!C19","v":"H3f"},{"$f":"PartH!D19","v":0},{"$f":"PartH!E19","v":0},{"$f":"PartH!F19","v":0},{"$f":"PartH!G19","v":0},{"$f":"PartH!H19","v":0},{"$f":"PartH!I19","v":0},{"$f":"PartH!J19","v":0},{"$f":"PartH!K19","v":0},{"$f":"PartH!L19","v":0},{"$f":"PartH!M19","v":0},{"$f":"PartH!N19","v":0},11,{"$nulls":3},77,null,100,0,0,0,0,0,0,0,0,0,0,null,77,null,-100,0,0,0,0,0,0,0,0,0]
["514E","Gwynedd","E",8339,514,null,40,"M",{"$f":"PartsEandF!H34","v":0},null,{"$f":"PartH!B30","v":78},{"$f":"PartH!C30&\" - \"&PartH!$D$24&\" \"&PartH!D30&\"%\"","v":"H4f - Premiwm eiddo gwag hirdymor (dros 12 mis) 0%"},null,null,78,"H4f",null,null,{"$f":"PartsAtoD!B17","v":8},{"$f":"PartsAtoD!C17","v":"B4"},{"$f":"PartsAtoD!D17","v":"Cyfanswm yr anheddau a addaswyd sydd yn daladwy (cyfanswm o B1 i B3c=A3)"},{"$f":"PartsAtoD!E17","v":0},{"$f":"PartsAtoD!F17","v":0},{"$f":"PartsAtoD!G17","v":0},{"$f":"PartsAtoD!H17","v":0},{"$f":"PartsAtoD!I17","v":0},{"$f":"PartsAtoD!J17","v":0},{"$f":"PartsAtoD!K17","v":0},{"$f":"PartsAtoD!L17","v":0},{"$f":"PartsAtoD!M17","v":0},{"$f":"PartsAtoD!N17","v":0},{"$f":"PartsAtoD!O17","v":0},11,null,{"$f":"PartH!B20","v":71.1},{"$f":"PartH!C20","v":"H3fa"},{"$f":"PartH!D20","v":0},{"$f":"PartH!E20","v":0},{"$f":"PartH!F20","v":0},{"$f":"PartH!G20","v":0},{"$f":"PartH!H20","v":0},{"$f":"PartH!I20","v":0},{"$f":"PartH!J20","v":0},{"$f":"PartH!K20","v":0},{"$f":"PartH!L20","v":0},{"$f":"PartH!M20","v":0},{"$f":"PartH!N20","v":0},11,{"$nulls":3},78,null,0,0,0,0,0,0,0,0,0,0,0,null,78,null,0,0,0,0,0,0,0,0,0,0]
["514F","Gwynedd","F",4050,514,null,41,"N",{"$f":"PartsEandF!H36","v":0},null,{"$f":"PartH!B31","v":78.1},{"$f":"PartH!C31&\" - \"&PartH!$D$24&\" \"&PartH!D31&\"%\"","v":"H4fa - Premiwm eiddo gwag hirdymor (dros 12 mis) 0%"},null,null,78.1,"H4f",null,null,{"$f":"PartsAtoD!B20","v":9},{"$f":"PartsAtoD!C20","v":"B5"},{"$f":"PartsAtoD!D20","v":"Holl disgowntiau newidiol ( =Rhan G, llinell 12 )"},{"$f":"PartsAtoD!E20","v":0},{"$f":"PartsAtoD!F20","v":0},{"$f":"PartsAtoD!G20","v":0},{"$f":"PartsAtoD!H20","v":0},{"$f":"PartsAtoD!I20","v":0},{"$f":"PartsAtoD!J20","v":0},{"$f":"PartsAtoD!K20","v":0},{"$f":"PartsAtoD!L20","v":0},{"$f":"PartsAtoD!M20","v":0},{"$f":"PartsAtoD!N20","v":0},{"$f":"PartsAtoD!O20","v":0},11,null,{"$f":"PartH!B21","v":71.2},{"$f":"PartH!C21","v":"H3fb"},{"$f":"PartH!D21","v":0},{"$f":"PartH!E21","v":0},{"$f":"PartH!F21","v":0},{"$f":"PartH!G21","v":0},{"$f":"PartH!H21","v":0},{"$f":"PartH!I21","v":0},{"$f":"PartH!J21","v":0},{"$f":"PartH!K21","v":0},{"$f":"PartH!L21","v":0},{"$f":"PartH!M21","v":0},{"$f":"PartH!N21","v":0},11,{"$nulls":3},79,null,null,0,0,0,0,0,0,0,0,0,0,null,79,null,0,0,0,0,0,0,0,0,0,0]
["514G","Gwynedd","G",1284,514,null,42,"O",{"$f":"PartsEandF!H38","v":0},null,{"$f":"PartH!B32","v":78.2},{"$f":"PartH!C32&\" - \"&PartH!$D$24&\" \"&PartH!D32&\"%\"","v":"H4fb - Premiwm eiddo gwag hirdymor (dros 12 mis) 0%"},null,null,78.2,"H4f",null,null,{"$f":"PartsAtoD!B21","v":9.1},{"$f":"PartsAtoD!C21","v":"B6"},{"$f":"PartsAtoD!D21","v":"Addasiad disgownt am eiddo gwag tymor hir ac ail gartref (Rhan H, llinio 9g, 11g)"},null,{"$f":"PartsAtoD!F21","v":0},{"$f":"PartsAtoD!G21","v":0},{"$f":"PartsAtoD!H21","v":0},{"$f":"PartsAtoD!I21","v":0},{"$f":"PartsAtoD!J21","v":0},{"$f":"PartsAtoD!K21","v":0},{"$f":"PartsAtoD!L21","v":0},{"$f":"PartsAtoD!M21","v":0},{"$f":"PartsAtoD!N21","v":0},{"$f":"PartsAtoD!O21","v":0},10,null,{"$f":"PartH!B22","v":72},{"$f":"PartH!C22","v":"H3g"},{"$f":"PartH!D22","v":"Cyfanswm"},{"$f":"PartH!E22","v":0},{"$f":"PartH!F22","v":0},{"$f":"PartH!G22","v":0},{"$f":"PartH!H22","v":0},{"$f":"PartH!I22","v":0},{"$f":"PartH!J22","v":0},{"$f":"PartH!K22","v":0},{"$f":"PartH!L22","v":0},{"$f":"PartH!M22","v":0},{"$f":"PartH!N22","v":0},10,{"$nulls":3},81,null,25,0,0,0,0,0,0,0,0,0,0,null,81,null,{"$error":"#VALUE!"},0,0,0,0,0,0,0,0,0]
["514H","Gwynedd","H",211,514,null,43,"P",{"$f":"PartsEandF!H40","v":0},null,{"$f":"PartH!B33","v":79},{"$f":"PartH!C33&\" - \"&PartH!$D$24&\" \"&PartH!D33&\"%\"","v":"H4g - Premiwm eiddo gwag hirdymor (dros 12 mis) Cyfanswm%"},null,null,79,"H4g",null,null,{"$f":"PartsAtoD!B22","v":9.2},{"$f":"PartsAtoD!C22","v":"B7"},{"$f":"PartsAtoD!D22","v":"Addasiad premiwm am eiddo gwag tymor hir ac ail gartref (Rhan H, llinio 10g, 12g)"},null,{"$f":"PartsAtoD!F22","v":0},{"$f":"PartsAtoD!G22","v":0},{"$f":"PartsAtoD!H22","v":0},{"$f":"PartsAtoD!I22","v":0},{"$f":"PartsAtoD!J22","v":0},{"$f":"PartsAtoD!K22","v":0},{"$f":"PartsAtoD!L22","v":0},{"$f":"PartsAtoD!M22","v":0},{"$f":"PartsAtoD!N22","v":0},{"$f":"PartsAtoD!O22","v":0},10,null,{"$f":"PartH!B23","v":0},{"$f":"PartH!C23","v":0},{"$f":"PartH!D23","v":0},{"$f":"PartH!E23","v":0},{"$f":"PartH!F23","v":0},{"$f":"PartH!G23","v":0},{"$f":"PartH!H23","v":0},{"$f":"PartH!I23","v":0},{"$f":"PartH!J23","v":0},{"$f":"PartH!K23","v":0},{"$f":"PartH!L23","v":0},{"$f":"PartH!M23","v":0},{"$f":"PartH!N23","v":0},11,{"$nulls":3},82,null,50,0,0,0,0,0,0,0,0,0,0,null,82,null,-50,0,0,0,0,0,0,0,0,0]
["514I","Gwynedd","I",94,514,null,44,"Q",{"$f":"PartsEandF!K26","v":0},null,{"$f":"PartH!B38","v":81},{"$f":"PartH!C39&\" - \"&PartH!$D$35&\" \"&PartH!D39&\"%\"","v":"H5c - Disgownt ail gartref 50%"},null,null,81,"H5c",null,null,{"$f":"PartsAtoD!B24","v":11},{"$f":"PartsAtoD!C24","v":"C2"},{"$f":"PartsAtoD!D24","v":"Cyfanswm anheddau gan gynnwys disgowntiau a phremiymau (=A3-(B2ax0.25)-(B2bx0.5)-B5-B6+B7)  "},{"$f":"PartsAtoD!E24","v":0},{"$f":"PartsAtoD!F24","v":0},{"$f":"PartsAtoD!G24","v":0},{"$f":"PartsAtoD!H24","v":0},{"$f":"PartsAtoD!I24","v":0},{"$f":"PartsAtoD!J24","v":0},{"$f":"PartsAtoD!K24","v":0},{"$f":"PartsAtoD!L24","v":0},{"$f":"PartsAtoD!M24","v":0},{"$f":"PartsAtoD!N24","v":0},null,10,null,{"$f":"PartH!B24","v":0},{"$f":"PartH!C24","v":0},{"$f":"PartH!D24","v":"Premiwm eiddo gwag hirdymor (dros 12 mis)"},{"$f":"PartH!E24","v":0},{"$f":"PartH!F24","v":0},{"$f":"PartH!G24","v":0},{"$f":"PartH!H24","v":0},{"$f":"PartH!I24","v":0},{"$f":"PartH!J24","v":0},{"$f":"PartH!K24","v":0},{"$f":"PartH!L24","v":0},{"$f":"PartH!M24","v":0},{"$f":"PartH!N24","v":0},10,{"$nulls":3},84,null,100,0,0,0,0,0,0,0,0,0,0,null,84,null,{"$error":"#VALUE!"},0,0,0,0,0,0,0,0,0]
["514ALL","Gwynedd","ALL",62733,514,null,45,"R",{"$f":"PartsEandF!K28","v":0},null,{"$f":"PartH!B39","v":82},{"$f":"PartH!C40&\" - \"&PartH!$D$35&\" \"&PartH!D40&\"%\"","v":"H5e - Disgownt ail gartref 100%"},null,null,82,"H5e",null,null,{"$f":"PartsAtoD!B26","v":13},{"$f":"PartsAtoD!C26","v":"C4"},{"$f":"PartsAtoD!D26","v":"Cyfwerthoedd Band D  ( = C2 x C3 )  ( wedi'u talgrynnu i ddau le degol )"},{"$f":"PartsAtoD!E26","v":0},{"$f":"PartsAtoD!F26","v":0},{"$f":"PartsAtoD!G26","v":0},{"$f":"PartsAtoD!H26","v":0},{"$f":"PartsAtoD!I26","v":0},{"$f":"PartsAtoD!J26","v":0},{"$f":"PartsAtoD!K26","v":0},{"$f":"PartsAtoD!L26","v":0},{"$f":"PartsAtoD!M26","v":0},{"$f":"PartsAtoD!N26","v":0},{"$f":"PartsAtoD!O26","v":0},11,null,{"$f":"PartH!B25","v":0},{"$f":"PartH!C25","v":0},{"$f":"PartH!D25","v":"Cofnodwch, yn ôl band a chanran, y premiwm y mae eich awdurdod yn ei godi ar gyfer eiddo gwag hirdymor nad yw wedi ei  gynnwys yn y tabl uchod"},{"$f":"PartH!E25","v":0},{"$f":"PartH!F25","v":0},{"$f":"PartH!G25","v":0},{"$f":"PartH!H25","v":0},{"$f":"PartH!I25","v":0},{"$f":"PartH!J25","v":0},{"$f":"PartH!K25","v":0},{"$f":"PartH!L25","v":0},{"$f":"PartH!M25","v":0},{"$f":"PartH!N25","v":0},10,{"$nulls":3},85,null,0,0,0,0,0,0,0,0,0,0,0,null,85,null,{"$error":"#VALUE!"},0,0,0,0,0,0,0,0,0]
["516A","Conwy","A",5493,516,null,46,"S",{"$f":"PartsEandF!K30","v":0},null,{"$f":"PartH!B40","v":84},{"$f":"PartH!C41&\" - \"&PartH!$D$35&\" \"&PartH!D41&\"%\"","v":"H5f - Disgownt ail gartref 0%"},null,null,84,"H5f",null,null,{"$f":"PartsAtoD!B27","v":13.3},{"$f":"PartsAtoD!C27","v":"C7"},{"$f":"PartsAtoD!D27","v":"Cyfanswm anheddau gostyngedig ac eithrio addasiad tymor hir gwag ac ail gartref"},{"$f":"PartsAtoD!E27","v":0},{"$f":"PartsAtoD!F27","v":0},{"$f":"PartsAtoD!G27","v":0},{"$f":"PartsAtoD!H27","v":0},{"$f":"PartsAtoD!I27","v":0},{"$f":"PartsAtoD!J27","v":0},{"$f":"PartsAtoD!K27","v":0},{"$f":"PartsAtoD!L27","v":0},{"$f":"PartsAtoD!M27","v":0},{"$f":"PartsAtoD!N27","v":0},null,10,null,{"$f":"PartH!B26","v":0},{"$f":"PartH!C26","v":0},{"$f":"PartH!D26","v":"Canran premiwm"},{"$f":"PartH!E26","v":"A"},{"$f":"PartH!F26","v":"B"},{"$f":"PartH!G26","v":"C"},{"$f":"PartH!H26","v":"D"},{"$f":"PartH!I26","v":"E"},{"$f":"PartH!J26","v":"F"},{"$f":"PartH!K26","v":"G"},{"$f":"PartH!L26","v":"H"},{"$f":"PartH!M26","v":"I"},{"$f":"PartH!N26","v":"Cyfanswm"},0,{"$nulls":3},86,null,null,0,0,0,0,0,0,0,0,0,0,null,86,null,{"$error":"#VALUE!"},{"$error":"#VALUE!"},{"$error":"#VALUE!"},{"$error":"#VALUE!"},{"$error":"#VALUE!"},{"$error":"#VALUE!"},{"$error":"#VALUE!"},{"$error":"#VALUE!"},{"$error":"#VALUE!"},{"$error":"#VALUE!"}]
["516B","Conwy","B",8362,516,null,47,"T",{"$f":"PartsEandF!K32","v":0},null,{"$f":"PartH!B41","v":85},{"$f":"PartH!C42&\" - \"&PartH!$D$35&\" \"&PartH!D42&\"%\"","v":"H5fa - Disgownt ail gartref 0%"},null,null,85,"H5f",null,null,{"$f":"PartsAtoD!B28","v":13.4},{"$f":"PartsAtoD!C28","v":"C8"},{"$f":"PartsAtoD!D28","v":"Cyfwerthoedd Band D ac eithrio addasiad tymor hir gwag ac ail gartref"},{"$f":"PartsAtoD!E28","v":0},{"$f":"PartsAtoD!F28","v":0},{"$f":"PartsAtoD!G28","v":0},{"$f":"PartsAtoD!H28","v":0},{"$f":"PartsAtoD!I28","v":0},{"$f":"PartsAtoD!J28","v":0},{"$f":"PartsAtoD!K28","v":0},{"$f":"PartsAtoD!L28","v":0},{"$f":"PartsAtoD!M28","v":0},{"$f":"PartsAtoD!N28","v":0},{"$f":"PartsAtoD!O28","v":0},11,null,{"$f":"PartH!B27","v":74},{"$f":"PartH!C27","v":"H4b"},{"$f":"PartH!D27","v":25},{"$f":"PartH!E27","v":0},{"$f":"PartH!F27","v":0},{"$f":"PartH!G27","v":0},{"$f":"PartH!H27","v":0},{"$f":"PartH!I27","v":0},{"$f":"PartH!J27","v":0},{"$f":"PartH!K27","v":0},{"$f":"PartH!L27","v":0},{"$f":"PartH!M27","v":0},{"$f":"PartH!N27","v":0},11,{"$nulls":3},88,null,25,0,0,0,0,0,0,0,0,0,0,null,88,null,0,0,0,0,0,0,0,0,0,0]
["516C","Conwy","C",15631,516,null,49,"U",{"$f":"PartsEandF!K34","v":0},null,{"$f":"PartH!B42","v":85.1},{"$f":"PartH!C43&\" - \"&PartH!$D$35&\" \"&PartH!D43&\"%\"","v":"H5fb - Disgownt ail gartref 0%"},null,null,85.1,"H5f",null,null,{"$f":"PartsAtoD!B30","v":14},{"$f":"PartsAtoD!C30","v":"D1"},{"$f":"PartsAtoD!D30","v":"Anheddau ag eithriadau Dosbarthiadau A i N a P i W \n( heb eu cynnwys yn adrannau A i C uchod )  ( gweler nodyn 6 )"},null,{"$f":"PartsAtoD!F30","v":0},{"$f":"PartsAtoD!G30","v":0},{"$f":"PartsAtoD!H30","v":0},{"$f":"PartsAtoD!I30","v":0},{"$f":"PartsAtoD!J30","v":0},{"$f":"PartsAtoD!K30","v":0},{"$f":"PartsAtoD!L30","v":0},{"$f":"PartsAtoD!M30","v":0},{"$f":"PartsAtoD!N30","v":0},{"$f":"PartsAtoD!O30","v":0},{"$f":"COUNT(V28:AF28)","v":10},null,{"$f":"PartH!B28","v":75},{"$f":"PartH!C28","v":"H4c"},{"$f":"PartH!D28","v":50},{"$f":"PartH!E28","v":0},{"$f":"PartH!F28","v":0},{"$f":"PartH!G28","v":0},{"$f":"PartH!H28","v":0},{"$f":"PartH!I28","v":0},{"$f":"PartH!J28","v":0},{"$f":"PartH!K28","v":0},{"$f":"PartH!L28","v":0},{"$f":"PartH!M28","v":0},{"$f":"PartH!N28","v":0},11,{"$nulls":3},89,null,50,0,0,0,0,0,0,0,0,0,0,null,89,null,0,0,0,0,0,0,0,0,0,0]
["516D","Conwy","D",11978,516,null,50,"V",{"$f":"PartsEandF!K36","v":0},null,{"$f":"PartH!B43","v":85.2},{"$f":"PartH!C44&\" - \"&PartH!$D$35&\" \"&PartH!D44&\"%\"","v":"H5g - Disgownt ail gartref Cyfanswm%"},null,null,85.2,"H5g",null,null,{"$f":"PartsAtoD!B31","v":15},{"$f":"PartsAtoD!C31","v":"D2"},{"$f":"PartsAtoD!D31","v":"Anheddau ag eithriad dosbarth O \n( heb eu cynnwys yn adrannau A i C uchod ) ( gweler nodiadau 6 a 7 )"},null,{"$f":"PartsAtoD!F31","v":0},{"$f":"PartsAtoD!G31","v":0},{"$f":"PartsAtoD!H31","v":0},{"$f":"PartsAtoD!I31","v":0},{"$f":"PartsAtoD!J31","v":0},{"$f":"PartsAtoD!K31","v":0},{"$f":"PartsAtoD!L31","v":0},{"$f":"PartsAtoD!M31","v":0},{"$f":"PartsAtoD!N31","v":0},{"$f":"PartsAtoD!O31","v":0},{"$f":"COUNT(V29:AF29)","v":10},null,{"$f":"PartH!B29","v":77},{"$f":"PartH!C29","v":"H4e"},{"$f":"PartH!D29","v":100},{"$f":"PartH!E29","v":0},{"$f":"PartH!F29","v":0},{"$f":"PartH!G29","v":0},{"$f":"PartH!H29","v":0},{"$f":"PartH!I29","v":0},{"$f":"PartH!J29","v":0},{"$f":"PartH!K29","v":0},{"$f":"PartH!L29","v":0},{"$f":"PartH!M29","v":0},{"$f":"PartH!N29","v":0},11,{"$nulls":3},91,null,100,0,0,0,0,0,0,0,0,0,0,null,91,null,0,0,0,0,0,0,0,0,0,0]
["516E","Conwy","E",9327,516,null,51,"W",{"$f":"PartsEandF!K38","v":0},null,{"$f":"PartH!B44","v":86},{"$f":"PartH!C45&\" - \"&PartH!$D$35&\" \"&PartH!D45&\"%\"","v":" - Disgownt ail gartref %"},null,null,86," - ",{"$nulls":18},{"$f":"PartH!B30","v":78},{"$f":"PartH!C30","v":"H4f"},{"$f":"PartH!D30","v":0},{"$f":"PartH!E30","v":0},{"$f":"PartH!F30","v":0},{"$f":"PartH!G30","v":0},{"$f":"PartH!H30","v":0},{"$f":"PartH!I30","v":0},{"$f":"PartH!J30","v":0},{"$f":"PartH!K30","v":0},{"$f":"PartH!L30","v":0},{"$f":"PartH!M30","v":0},{"$f":"PartH!N30","v":0},11,{"$nulls":3},92,null,0,0,0,0,0,0,0,0,0,0,0,null,92,null,0,0,0,0,0,0,0,0,0,0]
["516F","Conwy","F",5128,516,null,51.1,"X",{"$f":"PartsEandF!K40","v":0},null,{"$f":"PartH!B49","v":88},{"$f":"PartH!C49&\" - \"&PartH!$D$46&\" \"&PartH!D49&\"%\"","v":"H6b - Premiwm ail gartref 25%"},null,null,88,"H6b",null,null,"Transfer Sheet Pivot",{"$nulls":15},{"$f":"PartH!B31","v":78.1},{"$f":"PartH!C31","v":"H4fa"},{"$f":"PartH!D31","v":0},{"$f":"PartH!E31","v":0},{"$f":"PartH!F31","v":0},{"$f":"PartH!G31","v":0},{"$f":"PartH!H31","v":0},{"$f":"PartH!I31","v":0},{"$f":"PartH!J31","v":0},{"$f":"PartH!K31","v":0},{"$f":"PartH!L31","v":0},{"$f":"PartH!M31","v":0},{"$f":"PartH!N31","v":0},11,{"$nulls":3},93,null,null,0,0,0,0,0,0,0,0,0,0,null,93,null,0,0,0,0,0,0,0,0,0,0]
["516G","Conwy","G",1949,516,null,51.5,"TOTAL",{"$f":"PartsEandF!K42","v":0},null,{"$f":"PartH!B50","v":89},{"$f":"PartH!C50&\" - \"&PartH!$D$46&\" \"&PartH!D50&\"%\"","v":"H6c - Premiwm ail gartref 50%"},null,null,89,"H6c",{"$nulls":18},{"$f":"PartH!B32","v":78.2},{"$f":"PartH!C32","v":"H4fb"},{"$f":"PartH!D32","v":0},{"$f":"PartH!E32","v":0},{"$f":"PartH!F32","v":0},{"$f":"PartH!G32","v":0},{"$f":"PartH!H32","v":0},{"$f":"PartH!I32","v":0},{"$f":"PartH!J32","v":0},{"$f":"PartH!K32","v":0},{"$f":"PartH!L32","v":0},{"$f":"PartH!M32","v":0},{"$f":"PartH!N32","v":0},11,{"$nulls":3},94,null,null,0,0,0,0,0,0,0,0,0,0,null,94,null,0,0,0,0,0,0,0,0,0,0]
["516H","Conwy","H",434,516,null,"PartF Pivot",{"$nulls":3},{"$f":"PartH!B51","v":91},{"$f":"PartH!C51&\" - \"&PartH!$D$46&\" \"&PartH!D51&\"%\"","v":"H6e - Premiwm ail gartref 100%"},null,null,91,"H6e",{"$nulls":4},"Sum of Data2","ColumnRef",{"$nulls":12},{"$f":"PartH!B33","v":79},{"$f":"PartH!C33","v":"H4g"},{"$f":"PartH!D33","v":"Cyfanswm"},{"$f":"PartH!E33","v":0},{"$f":"PartH!F33","v":0},{"$f":"PartH!G33","v":0},{"$f":"PartH!H33","v":0},{"$f":"PartH!I33","v":0},{"$f":"PartH!J33","v":0},{"$f":"PartH!K33","v":0},{"$f":"PartH!L33","v":0},{"$f":"PartH!M33","v":0},{"$f":"PartH!N33","v":0},10,{"$nulls":3},95,null,null,0,0,0,0,0,0,0,0,0,0,null,95,null,{"$error":"#VALUE!"},0,0,0,0,0,0,0,0,0]
["516I","Conwy","I",162,516,null,null,"Sum of Data2","ColumnRef",{"$nulls":11},"rowref",1,2,3,4,5,6,7,8,9,10,11,12,null,{"$f":"PartH!B34","v":0},{"$f":"PartH!C34","v":0},{"$f":"PartH!D34","v":0},{"$f":"PartH!E34","v":0},{"$f":"PartH!F34","v":0},{"$f":"PartH!G34","v":0},{"$f":"PartH!H34","v":0},{"$f":"PartH!I34","v":0},{"$f":"PartH!J34","v":0},{"$f":"PartH!K34","v":0},{"$f":"PartH!L34","v":0},{"$f":"PartH!M34","v":0},{"$f":"PartH!N34","v":0},11,{"$nulls":3},97,null,25,0,0,0,0,0,0,0,0,0,0,null,97,null,-25,0,0,0,0,0,0,0,0,0]
["516ALL","Conwy","ALL",58464,516,null,null,"rowref",1,2,3,4,5,6,7,8,9,10,11,12,1,null,0,0,0,0,0,0,0,0,0,0,null,null,{"$f":"PartH!B35","v":0},{"$f":"PartH!C35","v":0},{"$f":"PartH!D35","v":"Disgownt ail gartref"},{"$f":"PartH!E35","v":0},{"$f":"PartH!F35","v":0},{"$f":"PartH!G35","v":0},{"$f":"PartH!H35","v":0},{"$f":"PartH!I35","v":0},{"$f":"PartH!J35","v":0},{"$f":"PartH!K35","v":0},{"$f":"PartH!L35","v":0},{"$f":"PartH!M35","v":0},{"$f":"PartH!N35","v":0},10,{"$nulls":3},98,null,50,0,0,0,0,0,0,0,0,0,0,null,98,null,{"$error":"#VALUE!"},0,0,0,0,0,0,0,0,0]
["518A","Denbighshire","A",4169,518,null,null,28,{"$nulls":10},0,null,2,null,0,0,0,0,0,0,0,0,0,0,null,null,{"$f":"PartH!B36","v":0},{"$f":"PartH!C36","v":0},{"$f":"PartH!D36","v":"Cofnodwch, yn ôl band a chanran, y disgownt y mae eich awdurdod yn ei ddyfarnu ar gyfer anheddau a gofrestrir fel ail gartrefi"},{"$f":"PartH!E36","v":0},{"$f":"PartH!F36","v":0},{"$f":"PartH!G36","v":0},{"$f":"PartH!H36","v":0},{"$f":"PartH!I36","v":0},{"$f":"PartH!J36","v":0},{"$f":"PartH!K36","v":0},{"$f":"PartH!L36","v":0},{"$f":"PartH!M36","v":0},{"$f":"PartH!N36","v":0},10,{"$nulls":3},100,null,100,0,0,0,0,0,0,0,0,0,0,null,100,null,{"$error":"#VALUE!"},0,0,0,0,0,0,0,0,0]
["518B","Denbighshire","B",7421,518,null,null,29,{"$nulls":10},0,null,3,0,0,0,0,0,0,0,0,0,0,0,null,null,{"$f":"PartH!B37","v":0},{"$f":"PartH!C37","v":0},{"$f":"PartH!D37","v":"Canran disgownt"},{"$f":"PartH!E37","v":"A"},{"$f":"PartH!F37","v":"B"},{"$f":"PartH!G37","v":"C"},{"$f":"PartH!H37","v":"D"},{"$f":"PartH!I37","v":"E"},{"$f":"PartH!J37","v":"F"},{"$f":"PartH!K37","v":"G"},{"$f":"PartH!L37","v":"H"},{"$f":"PartH!M37","v":"I"},{"$f":"PartH!N37","v":"Cyfanswm"},0,{"$nulls":3},101,null,0,0,0,0,0,0,0,0,0,0,0,null,101,null,{"$error":"#VALUE!"},{"$error":"#VALUE!"},{"$error":"#VALUE!"},{"$error":"#VALUE!"},{"$error":"#VALUE!"},{"$error":"#VALUE!"},{"$error":"#VALUE!"},{"$error":"#VALUE!"},{"$error":"#VALUE!"},{"$error":"#VALUE!"}]
["518C","Denbighshire","C",14976,518,null,null,30,{"$nulls":10},0,null,4,0,0,0,0,0,0,0,0,0,0,0,null,null,{"$f":"PartH!B38","v":81},{"$f":"PartH!C38","v":"H5b"},{"$f":"PartH!D38","v":25},{"$f":"PartH!E38","v":0},{"$f":"PartH!F38","v":0},{"$f":"PartH!G38","v":0},{"$f":"PartH!H38","v":0},{"$f":"PartH!I38","v":0},{"$f":"PartH!J38","v":0},{"$f":"PartH!K38","v":0},{"$f":"PartH!L38","v":0},{"$f":"PartH!M38","v":0},{"$f":"PartH!N38","v":0},11,{"$nulls":3},102,null,null,0,0,0,0,0,0,0,0,0,0,null,102,null,25,0,0,0,0,0,0,0,0,0]
["518D","Denbighshire","D",8069,518,null,null,31,{"$nulls":10},0,null,4.1,0,0,0,0,0,0,0,0,0,0,0,null,null,{"$f":"PartH!B39","v":82},{"$f":"PartH!C39","v":"H5c"},{"$f":"PartH!D39","v":50},{"$f":"PartH!E39","v":0},{"$f":"PartH!F39","v":0},{"$f":"PartH!G39","v":0},{"$f":"PartH!H39","v":0},{"$f":"PartH!I39","v":0},{"$f":"PartH!J39","v":0},{"$f":"PartH!K39","v":0},{"$f":"PartH!L39","v":0},{"$f":"PartH!M39","v":0},{"$f":"PartH!N39","v":0},11,{"$nulls":3},104,null,25,0,0,0,0,0,0,0,0,0,0,null,104,null,25,0,0,0,0,0,0,0,0,0]
["518E","Denbighshire","E",5656,518,null,null,32,{"$nulls":10},0,null,4.2,0,0,0,0,0,0,0,0,0,0,0,null,null,{"$f":"PartH!B40","v":84},{"$f":"PartH!C40","v":"H5e"},{"$f":"PartH!D40","v":100},{"$f":"PartH!E40","v":0},{"$f":"PartH!F40","v":0},{"$f":"PartH!G40","v":0},{"$f":"PartH!H40","v":0},{"$f":"PartH!I40","v":0},{"$f":"PartH!J40","v":0},{"$f":"PartH!K40","v":0},{"$f":"PartH!L40","v":0},{"$f":"PartH!M40","v":0},{"$f":"PartH!N40","v":0},11,{"$nulls":3},105,null,50,0,0,0,0,0,0,0,0,0,0,null,105,null,50,0,0,0,0,0,0,0,0,0]
["518F","Denbighshire","F",3918,518,null,null,33,{"$nulls":10},0,null,7,0,0,0,0,0,0,0,0,0,0,0,null,null,{"$f":"PartH!B41","v":85},{"$f":"PartH!C41","v":"H5f"},{"$f":"PartH!D41","v":0},{"$f":"PartH!E41","v":0},{"$f":"PartH!F41","v":0},{"$f":"PartH!G41","v":0},{"$f":"PartH!H41","v":0},{"$f":"PartH!I41","v":0},{"$f":"PartH!J41","v":0},{"$f":"PartH!K41","v":0},{"$f":"PartH!L41","v":0},{"$f":"PartH!M41","v":0},{"$f":"PartH!N41","v":0},11,{"$nulls":3},107,null,100,0,0,0,0,0,0,0,0,0,0,null,107,null,-100,0,0,0,0,0,0,0,0,0]
["518G","Denbighshire","G",2057,518,null,null,34,{"$nulls":10},0,null,7.1,null,0,0,0,0,0,0,0,0,0,0,null,null,{"$f":"PartH!B42","v":85.1},{"$f":"PartH!C42","v":"H5fa"},{"$f":"PartH!D42","v":0},{"$f":"PartH!E42","v":0},{"$f":"PartH!F42","v":0},{"$f":"PartH!G42","v":0},{"$f":"PartH!H42","v":0},{"$f":"PartH!I42","v":0},{"$f":"PartH!J42","v":0},{"$f":"PartH!K42","v":0},{"$f":"PartH!L42","v":0},{"$f":"PartH!M42","v":0},{"$f":"PartH!N42","v":0},11,{"$nulls":3},108,null,0,0,0,0,0,0,0,0,0,0,0,null,108,null,0,0,0,0,0,0,0,0,0,0]
["518H","Denbighshire","H",324,518,null,null,35,{"$nulls":10},0,null,7.2,null,0,0,0,0,0,0,0,0,0,0,null,null,{"$f":"PartH!B43","v":85.2},{"$f":"PartH!C43","v":"H5fb"},{"$f":"PartH!D43","v":0},{"$f":"PartH!E43","v":0},{"$f":"PartH!F43","v":0},{"$f":"PartH!G43","v":0},{"$f":"PartH!H43","v":0},{"$f":"PartH!I43","v":0},{"$f":"PartH!J43","v":0},{"$f":"PartH!K43","v":0},{"$f":"PartH!L43","v":0},{"$f":"PartH!M43","v":0},{"$f":"PartH!N43","v":0},11,{"$nulls":3},109,null,null,0,0,0,0,0,0,0,0,0,0,null,109,null,0,0,0,0,0,0,0,0,0,0]
["518I","Denbighshire","I",169,518,null,null,36,{"$nulls":10},0,null,8,0,0,0,0,0,0,0,0,0,0,0,null,null,{"$f":"PartH!B44","v":86},{"$f":"PartH!C44","v":"H5g"},{"$f":"PartH!D44","v":"Cyfanswm"},{"$f":"PartH!E44","v":0},{"$f":"PartH!F44","v":0},{"$f":"PartH!G44","v":0},{"$f":"PartH!H44","v":0},{"$f":"PartH!I44","v":0},{"$f":"PartH!J44","v":0},{"$f":"PartH!K44","v":0},{"$f":"PartH!L44","v":0},{"$f":"PartH!M44","v":0},{"$f":"PartH!N44","v":0},10,{"$nulls":3},111,null,25,0,0,0,0,0,0,0,0,0,0,null,111,null,{"$error":"#VALUE!"},0,0,0,0,0,0,0,0,0]
["518ALL","Denbighshire","ALL",46759,518,null,null,37,{"$nulls":10},0,null,9,0,0,0,0,0,0,0,0,0,0,0,null,null,{"$f":"PartH!B45","v":0},{"$f":"PartH!C45","v":0},{"$f":"PartH!D45","v":0},{"$f":"PartH!E45","v":0},{"$f":"PartH!F45","v":0},{"$f":"PartH!G45","v":0},{"$f":"PartH!H45","v":0},{"$f":"PartH!I45","v":0},{"$f":"PartH!J45","v":0},{"$f":"PartH!K45","v":0},{"$f":"PartH!L45","v":0},{"$f":"PartH!M45","v":0},{"$f":"PartH!N45","v":0},11,{"$nulls":3},112,null,50,0,0,0,0,0,0,0,0,0,0,null,112,null,-50,0,0,0,0,0,0,0,0,0]
["520A","Flintshire","A",4535,520,null,null,38,{"$nulls":10},0,null,9.1,null,0,0,0,0,0,0,0,0,0,0,null,null,{"$f":"PartH!B46","v":0},{"$f":"PartH!C46","v":0},{"$f":"PartH!D46","v":"Premiwm ail gartref"},{"$f":"PartH!E46","v":0},{"$f":"PartH!F46","v":0},{"$f":"PartH!G46","v":0},{"$f":"PartH!H46","v":0},{"$f":"PartH!I46","v":0},{"$f":"PartH!J46","v":0},{"$f":"PartH!K46","v":0},{"$f":"PartH!L46","v":0},{"$f":"PartH!M46","v":0},{"$f":"PartH!N46","v":0},10,{"$nulls":3},114,null,100,0,0,0,0,0,0,0,0,0,0,null,114,null,{"$error":"#VALUE!"},0,0,0,0,0,0,0,0,0]
["520B","Flintshire","B",9643,520,null,null,39,{"$nulls":10},0,null,9.2,null,0,0,0,0,0,0,0,0,0,0,null,null,{"$f":"PartH!B47","v":0},{"$f":"PartH!C47","v":0},{"$f":"PartH!D47","v":"Cofnodwch, yn ôl band a chanran, y premiwm y mae eich awdurdod yn ei godi ar gyfer anheddau a gofrestrir fel ail gartrefi nad yw wedi ei gynnwys yn y tabl uchod"},{"$f":"PartH!E47","v":0},{"$f":"PartH!F47","v":0},{"$f":"PartH!G47","v":0},{"$f":"PartH!H47","v":0},{"$f":"PartH!I47","v":0},{"$f":"PartH!J47","v":0},{"$f":"PartH!K47","v":0},{"$f":"PartH!L47","v":0},{"$f":"PartH!M47","v":0},{"$f":"PartH!N47","v":0},10,{"$nulls":3},115,null,0,0,0,0,0,0,0,0,0,0,0,null,115,null,{"$error":"#VALUE!"},0,0,0,0,0,0,0,0,0]
["520C","Flintshire","C",21045,520,null,null,40,{"$nulls":10},0,null,11,0,0,0,0,0,0,0,0,0,0,{"$nulls":3},{"$f":"PartH!B48","v":0},{"$f":"PartH!C48","v":0},{"$f":"PartH!D48","v":"Canran premiwm"},{"$f":"PartH!E48","v":"A"},{"$f":"PartH!F48","v":"B"},{"$f":"PartH!G48","v":"C"},{"$f":"PartH!H48","v":"D"},{"$f":"PartH!I48","v":"E"},{"$f":"PartH!J48","v":"F"},{"$f":"PartH!K48","v":"G"},{"$f":"PartH!L48","v":"H"},{"$f":"PartH!M48","v":"I"},{"$f":"PartH!N48","v":"Cyfanswm"},0,{"$nulls":3},116,null,null,0,0,0,0,0,0,0,0,0,0,null,116,null,{"$error":"#VALUE!"},{"$error":"#VALUE!"},{"$error":"#VALUE!"},{"$error":"#VALUE!"},{"$error":"#VALUE!"},{"$error":"#VALUE!"},{"$error":"#VALUE!"},{"$error":"#VALUE!"},{"$error":"#VALUE!"},{"$error":"#VALUE!"}]
["520D","Flintshire","D",13437,520,null,null,41,{"$nulls":10},0,null,13,0,0,0,0,0,0,0,0,0,0,0,null,null,{"$f":"PartH!B49","v":88},{"$f":"PartH!C49","v":"H6b"},{"$f":"PartH!D49","v":25},{"$f":"PartH!E49","v":0},{"$f":"PartH!F49","v":0},{"$f":"PartH!G49","v":0},{"$f":"PartH!H49","v":0},{"$f":"PartH!I49","v":0},{"$f":"PartH!J49","v":0},{"$f":"PartH!K49","v":0},{"$f":"PartH!L49","v":0},{"$f":"PartH!M49","v":0},{"$f":"PartH!N49","v":0},11,{"$nulls":3},118,null,25,0,0,0,0,0,0,0,0,0,0,null,118,null,0,0,0,0,0,0,0,0,0,0]
["520E","Flintshire","E",11164,520,null,null,42,{"$nulls":10},0,null,13.3,0,0,0,0,0,0,0,0,0,0,{"$nulls":3},{"$f":"PartH!B50","v":89},{"$f":"PartH!C50","v":"H6c"},{"$f":"PartH!D50","v":50},{"$f":"PartH!E50","v":0},{"$f":"PartH!F50","v":0},{"$f":"PartH!G50","v":0},{"$f":"PartH!H50","v":0},{"$f":"PartH!I50","v":0},{"$f":"PartH!J50","v":0},{"$f":"PartH!K50","v":0},{"$f":"PartH!L50","v":0},{"$f":"PartH!M50","v":0},{"$f":"PartH!N50","v":0},11,{"$nulls":3},119,null,50,0,0,0,0,0,0,0,0,0,0,null,119,null,0,0,0,0,0,0,0,0,0,0]
["520F","Flintshire","F",7838,520,null,null,43,{"$nulls":10},0,null,13.4,0,0,0,0,0,0,0,0,0,0,0,null,null,{"$f":"PartH!B51","v":91},{"$f":"PartH!C51","v":"H6e"},{"$f":"PartH!D51","v":100},{"$f":"PartH!E51","v":0},{"$f":"PartH!F51","v":0},{"$f":"PartH!G51","v":0},{"$f":"PartH!H51","v":0},{"$f":"PartH!I51","v":0},{"$f":"PartH!J51","v":0},{"$f":"PartH!K51","v":0},{"$f":"PartH!L51","v":0},{"$f":"PartH!M51","v":0},{"$f":"PartH!N51","v":0},11,{"$nulls":3},121,null,100,0,0,0,0,0,0,0,0,0,0,null,121,null,0,0,0,0,0,0,0,0,0,0]
["520G","Flintshire","G",3230,520,null,null,44,{"$nulls":10},0,null,14,null,0,0,0,0,0,0,0,0,0,0,null,null,{"$f":"PartH!B52","v":92},{"$f":"PartH!C52","v":"H6f"},{"$f":"PartH!D52","v":0},{"$f":"PartH!E52","v":0},{"$f":"PartH!F52","v":0},{"$f":"PartH!G52","v":0},{"$f":"PartH!H52","v":0},{"$f":"PartH!I52","v":0},{"$f":"PartH!J52","v":0},{"$f":"PartH!K52","v":0},{"$f":"PartH!L52","v":0},{"$f":"PartH!M52","v":0},{"$f":"PartH!N52","v":0},11,{"$nulls":3},122,null,0,0,0,0,0,0,0,0,0,0,0,null,122,null,0,0,0,0,0,0,0,0,0,0]
["520H","Flintshire","H",599,520,null,null,45,{"$nulls":10},0,null,15,null,0,0,0,0,0,0,0,0,0,0,null,null,{"$f":"PartH!B53","v":92.1},{"$f":"PartH!C53","v":"H6fa"},{"$f":"PartH!D53","v":0},{"$f":"PartH!E53","v":0},{"$f":"PartH!F53","v":0},{"$f":"PartH!G53","v":0},{"$f":"PartH!H53","v":0},{"$f":"PartH!I53","v":0},{"$f":"PartH!J53","v":0},{"$f":"PartH!K53","v":0},{"$f":"PartH!L53","v":0},{"$f":"PartH!M53","v":0},{"$f":"PartH!N53","v":0},11,{"$nulls":3},123,null,null,0,0,0,0,0,0,0,0,0,0,null,123,null,0,0,0,0,0,0,0,0,0,0]
["520I","Flintshire","I",222,520,null,null,46,{"$nulls":10},0,null,26.2,{"$nulls":10},0,null,null,{"$f":"PartH!B54","v":92.2},{"$f":"PartH!C54","v":"H6fb"},{"$f":"PartH!D54","v":0},{"$f":"PartH!E54","v":0},{"$f":"PartH!F54","v":0},{"$f":"PartH!G54","v":0},{"$f":"PartH!H54","v":0},{"$f":"PartH!I54","v":0},{"$f":"PartH!J54","v":0},{"$f":"PartH!K54","v":0},{"$f":"PartH!L54","v":0},{"$f":"PartH!M54","v":0},{"$f":"PartH!N54","v":0},11,{"$nulls":3},13.3,0,null,0,0,0,0,0,0,0,0,0,null,null,13.3,null,0,0,0,0,0,0,0,0,0,0]
["520ALL","Flintshire","ALL",71713,520,null,null,47,{"$nulls":10},0,null,51.1,{"$nulls":10},0,null,null,{"$f":"PartH!B55","v":93},{"$f":"PartH!C55","v":"H6g"},{"$f":"PartH!D55","v":"Cyfanswm"},{"$f":"PartH!E55","v":0},{"$f":"PartH!F55","v":0},{"$f":"PartH!G55","v":0},{"$f":"PartH!H55","v":0},{"$f":"PartH!I55","v":0},{"$f":"PartH!J55","v":0},{"$f":"PartH!K55","v":0},{"$f":"PartH!L55","v":0},{"$f":"PartH!M55","v":0},{"$f":"PartH!N55","v":0},10,{"$nulls":3},13.4,0,null,0,0,0,0,0,0,0,0,0,0,null,13.4,null,{"$error":"#VALUE!"},0,0,0,0,0,0,0,0,0]
["522A","Wrexham","A",4526,522,null,null,49,{"$nulls":10},0,null,71.1,null,0,0,0,0,0,0,0,0,0,0,0,null,{"$f":"PartH!B57","v":0},{"$f":"PartH!C57","v":0},{"$f":"PartH!D57","v":0},{"$f":"PartH!E57","v":0},{"$f":"PartH!F57","v":0},{"$f":"PartH!G57","v":0},{"$f":"PartH!H57","v":0},{"$f":"PartH!I57","v":0},{"$f":"PartH!J57","v":0},{"$f":"PartH!K57","v":0},{"$f":"PartH!L57","v":0},{"$f":"PartH!M57","v":0},{"$f":"PartH!N57","v":0},11,{"$nulls":3},26.2,{"$nulls":11},0,null,26.2,null,0,0,0,0,0,0,0,0,0,0]
["522B","Wrexham","B",12774,522,null,null,50,{"$nulls":10},0,null,71.2,null,0,0,0,0,0,0,0,0,0,0,0,null,{"$f":"PartH!B58","v":94},{"$f":"PartH!C58","v":"H7"},{"$f":"PartH!D58","v":"Cyfanswm eiddo gwag sy'n daladwy"},{"$f":"PartH!E58","v":0},{"$f":"PartH!F58","v":0},{"$f":"PartH!G58","v":0},{"$f":"PartH!H58","v":0},{"$f":"PartH!I58","v":0},{"$f":"PartH!J58","v":0},{"$f":"PartH!K58","v":0},{"$f":"PartH!L58","v":0},{"$f":"PartH!M58","v":0},{"$f":"PartH!N58","v":0},10,{"$nulls":3},51.1,{"$nulls":11},0,null,51.1,null,{"$error":"#VALUE!"},0,0,0,0,0,0,0,0,0]
["522C","Wrexham","C",17268,522,null,null,51,{"$nulls":10},0,null,78.1,null,0,0,0,0,0,0,0,0,0,0,0,null,{"$f":"PartH!B59","v":95},{"$f":"PartH!C59","v":"H8"},{"$f":"PartH!D59","v":"Cyfanswm ail gartrefi sy'n daladwy"},{"$f":"PartH!E59","v":0},{"$f":"PartH!F59","v":0},{"$f":"PartH!G59","v":0},{"$f":"PartH!H59","v":0},{"$f":"PartH!I59","v":0},{"$f":"PartH!J59","v":0},{"$f":"PartH!K59","v":0},{"$f":"PartH!L59","v":0},{"$f":"PartH!M59","v":0},{"$f":"PartH!N59","v":0},10,{"$nulls":3},71.1,null,0,0,0,0,0,0,0,0,0,0,0,null,71.1,null,{"$error":"#VALUE!"},0,0,0,0,0,0,0,0,0]
["522D","Wrexham","D",10404,522,null,null,51.5,{"$nulls":10},0,null,78.2,null,0,0,0,0,0,0,0,0,0,0,0,null,{"$f":"PartH!B60","v":0},{"$f":"PartH!C60","v":0},{"$f":"PartH!D60","v":0},{"$f":"PartH!E60","v":0},{"$f":"PartH!F60","v":0},{"$f":"PartH!G60","v":0},{"$f":"PartH!H60","v":0},{"$f":"PartH!I60","v":0},{"$f":"PartH!J60","v":0},{"$f":"PartH!K60","v":0},{"$f":"PartH!L60","v":0},{"$f":"PartH!M60","v":0},{"$f":"PartH!N60","v":0},11,{"$nulls":3},71.2,null,0,0,0,0,0,0,0,0,0,0,0,null,71.2,null,0,0,0,0,0,0,0,0,0,0]
["522E","Wrexham","E",8311,522,null,null,13.3,0,0,0,0,0,0,0,0,0,0,null,null,85.1,null,0,0,0,0,0,0,0,0,0,0,0,null,{"$f":"PartH!B61","v":0},{"$f":"PartH!C61","v":0},{"$f":"PartH!D61","v":"Cyfwerthoedd anheddau"},{"$f":"PartH!E61","v":0},{"$f":"PartH!F61","v":0},{"$f":"PartH!G61","v":0},{"$f":"PartH!H61","v":0},{"$f":"PartH!I61","v":0},{"$f":"PartH!J61","v":0},{"$f":"PartH!K61","v":0},{"$f":"PartH!L61","v":0},{"$f":"PartH!M61","v":0},{"$f":"PartH!N61","v":0},10,{"$nulls":3},78.1,null,0,0,0,0,0,0,0,0,0,0,0,null,78.1,null,{"$error":"#VALUE!"},0,0,0,0,0,0,0,0,0]
["522F","Wrexham","F",5203,522,null,"Part F",13.4,0,0,0,0,0,0,0,0,0,0,0,null,85.2,null,0,0,0,0,0,0,0,0,0,0,0,null,{"$f":"PartH!B62","v":0},{"$f":"PartH!C62","v":0},{"$f":"PartH!D62","v":"Gostyngiad oherwydd disgownt eiddo gwag hirdymor"},{"$f":"PartH!E62","v":0},{"$f":"PartH!F62","v":0},{"$f":"PartH!G62","v":0},{"$f":"PartH!H62","v":0},{"$f":"PartH!I62","v":0},{"$f":"PartH!J62","v":0},{"$f":"PartH!K62","v":0},{"$f":"PartH!L62","v":0},{"$f":"PartH!M62","v":0},{"$f":"PartH!N62","v":0},10,{"$nulls":3},78.2,null,0,0,0,0,0,0,0,0,0,0,0,null,78.2,null,{"$error":"#VALUE!"},0,0,0,0,0,0,0,0,0]
["522G","Wrexham","G",2573,522,null,null,26.2,{"$nulls":10},0,null,92.1,null,0,0,0,0,0,0,0,0,0,0,0,null,{"$f":"PartH!B63","v":0},{"$f":"PartH!C63","v":0},{"$f":"PartH!D63","v":"Canran disgownt"},{"$f":"PartH!E63","v":"A"},{"$f":"PartH!F63","v":"B"},{"$f":"PartH!G63","v":"C"},{"$f":"PartH!H63","v":"D"},{"$f":"PartH!I63","v":"E"},{"$f":"PartH!J63","v":"F"},{"$f":"PartH!K63","v":"G"},{"$f":"PartH!L63","v":"H"},{"$f":"PartH!M63","v":"I"},{"$f":"PartH!N63","v":"Cyfanswm"},0,{"$nulls":3},85.1,null,0,0,0,0,0,0,0,0,0,0,0,null,85.1,null,{"$error":"#VALUE!"},{"$error":"#VALUE!"},{"$error":"#VALUE!"},{"$error":"#VALUE!"},{"$error":"#VALUE!"},{"$error":"#VALUE!"},{"$error":"#VALUE!"},{"$error":"#VALUE!"},{"$error":"#VALUE!"},{"$error":"#VALUE!"}]
["522H","Wrexham","H",722,522,null,null,51.1,{"$nulls":10},0,null,92.2,null,0,0,0,0,0,0,0,0,0,0,0,null,{"$f":"PartH!B64","v":97},{"$f":"PartH!C64","v":"H9b"},{"$f":"PartH!D64","v":25},{"$f":"PartH!E64","v":0},{"$f":"PartH!F64","v":0},{"$f":"PartH!G64","v":0},{"$f":"PartH!H64","v":0},{"$f":"PartH!I64","v":0},{"$f":"PartH!J64","v":0},{"$f":"PartH!K64","v":0},{"$f":"PartH!L64","v":0},{"$f":"PartH!M64","v":0},{"$f":"PartH!N64","v":0},11,{"$nulls":3},85.2,null,0,0,0,0,0,0,0,0,0,0,0,null,85.2,null,25,0,0,0,0,0,0,0,0,0]
["522I","Wrexham","I",292,522,null,null,71.1,null,0,0,0,0,0,0,0,0,0,0,0,101.1,null,0,0,0,0,0,0,0,0,0,0,0,null,{"$f":"PartH!B65","v":98},{"$f":"PartH!C65","v":"H9c"},{"$f":"PartH!D65","v":50},{"$f":"PartH!E65","v":0},{"$f":"PartH!F65","v":0},{"$f":"PartH!G65","v":0},{"$f":"PartH!H65","v":0},{"$f":"PartH!I65","v":0},{"$f":"PartH!J65","v":0},{"$f":"PartH!K65","v":0},{"$f":"PartH!L65","v":0},{"$f":"PartH!M65","v":0},{"$f":"PartH!N65","v":0},11,{"$nulls":3},92.1,null,0,0,0,0,0,0,0,0,0,0,0,null,92.1,null,50,0,0,0,0,0,0,0,0,0]
["522ALL","Wrexham","ALL",62073,522,null,null,71.2,null,0,0,0,0,0,0,0,0,0,0,0,101.2,null,0,0,0,0,0,0,0,0,0,0,0,null,{"$f":"PartH!B66","v":100},{"$f":"PartH!C66","v":"H9e"},{"$f":"PartH!D66","v":100},{"$f":"PartH!E66","v":0},{"$f":"PartH!F66","v":0},{"$f":"PartH!G66","v":0},{"$f":"PartH!H66","v":0},{"$f":"PartH!I66","v":0},{"$f":"PartH!J66","v":0},{"$f":"PartH!K66","v":0},{"$f":"PartH!L66","v":0},{"$f":"PartH!M66","v":0},{"$f":"PartH!N66","v":0},11,{"$nulls":3},92.2,null,0,0,0,0,0,0,0,0,0,0,0,null,92.2,null,100,0,0,0,0,0,0,0,0,0]
["524A","Powys","A",6109,524,null,null,78.1,null,0,0,0,0,0,0,0,0,0,0,0,108.1,null,0,0,0,0,0,0,0,0,0,0,0,null,{"$f":"PartH!B67","v":101},{"$f":"PartH!C67","v":"H9f"},{"$f":"PartH!D67","v":0},{"$f":"PartH!E67","v":0},{"$f":"PartH!F67","v":0},{"$f":"PartH!G67","v":0},{"$f":"PartH!H67","v":0},{"$f":"PartH!I67","v":0},{"$f":"PartH!J67","v":0},{"$f":"PartH!K67","v":0},{"$f":"PartH!L67","v":0},{"$f":"PartH!M67","v":0},{"$f":"PartH!N67","v":0},11,{"$nulls":3},101.1,null,0,0,0,0,0,0,0,0,0,0,0,null,101.1,null,0,0,0,0,0,0,0,0,0,0]
["524B","Powys","B",9461,524,null,null,78.2,null,0,0,0,0,0,0,0,0,0,0,0,108.2,null,0,0,0,0,0,0,0,0,0,0,0,null,{"$f":"PartH!B68","v":101.1},{"$f":"PartH!C68","v":"H9fa"},{"$f":"PartH!D68","v":0},{"$f":"PartH!E68","v":0},{"$f":"PartH!F68","v":0},{"$f":"PartH!G68","v":0},{"$f":"PartH!H68","v":0},{"$f":"PartH!I68","v":0},{"$f":"PartH!J68","v":0},{"$f":"PartH!K68","v":0},{"$f":"PartH!L68","v":0},{"$f":"PartH!M68","v":0},{"$f":"PartH!N68","v":0},11,{"$nulls":3},101.2,null,0,0,0,0,0,0,0,0,0,0,0,null,101.2,null,0,0,0,0,0,0,0,0,0,0]
["524C","Powys","C",13368,524,null,null,85.1,null,0,0,0,0,0,0,0,0,0,0,0,115.1,null,0,0,0,0,0,0,0,0,0,0,0,null,{"$f":"PartH!B69","v":101.2},{"$f":"PartH!C69","v":"H9fb"},{"$f":"PartH!D69","v":0},{"$f":"PartH!E69","v":0},{"$f":"PartH!F69","v":0},{"$f":"PartH!G69","v":0},{"$f":"PartH!H69","v":0},{"$f":"PartH!I69","v":0},{"$f":"PartH!J69","v":0},{"$f":"PartH!K69","v":0},{"$f":"PartH!L69","v":0},{"$f":"PartH!M69","v":0},{"$f":"PartH!N69","v":0},11,{"$nulls":3},108.1,null,0,0,0,0,0,0,0,0,0,0,0,null,108.1,null,0,0,0,0,0,0,0,0,0,0]
[{"$f":"E69&C69","v":"524D"},"Powys","D",10661,524,null,null,85.2,null,0,0,0,0,0,0,0,0,0,0,0,115.2,null,0,0,0,0,0,0,0,0,0,0,0,null,{"$f":"PartH!B70","v":102},{"$f":"PartH!C70","v":"H9g"},{"$f":"PartH!D70","v":"Cyfanswm"},{"$f":"PartH!E70","v":0},{"$f":"PartH!F70","v":0},{"$f":"PartH!G70","v":0},{"$f":"PartH!H70","v":0},{"$f":"PartH!I70","v":0},{"$f":"PartH!J70","v":0},{"$f":"PartH!K70","v":0},{"$f":"PartH!L70","v":0},{"$f":"PartH!M70","v":0},{"$f":"PartH!N70","v":0},10,{"$nulls":3},108.2,null,0,0,0,0,0,0,0,0,0,0,0,null,108.2,null,{"$error":"#VALUE!"},0,0,0,0,0,0,0,0,0]
["524E","Powys","E",12713,524,null,null,92.1,null,0,0,0,0,0,0,0,0,0,0,0,122.1,null,0,0,0,0,0,0,0,0,0,0,0,{"$nulls":18},115.1,null,0,0,0,0,0,0,0,0,0,0,0]
["524F","Powys","F",9771,524,null,null,92.2,null,0,0,0,0,0,0,0,0,0,0,0,122.2,null,0,0,0,0,0,0,0,0,0,0,0,{"$nulls":18},115.2,null,0,0,0,0,0,0,0,0,0,0,0]
["524G","Powys","G",4193,524,null,null,101.1,null,0,0,0,0,0,0,0,0,0,0,0,{"$f":"U49","v":13},{"$f":"V25-V49","v":0},0,0,0,0,0,0,0,0,0,0,{"$nulls":19},122.1,null,0,0,0,0,0,0,0,0,0,0,0]
["524H","Powys","H",584,524,null,null,101.2,null,0,0,0,0,0,0,0,0,0,0,0,13.3,{"$f":"V26-V50","v":0},0,0,0,0,0,0,0,0,0,0,{"$nulls":19},122.2,null,0,0,0,0,0,0,0,0,0,0,0]
["524I","Powys","I",207,524,null,null,108.1,null,0,0,0,0,0,0,0,0,0,0,0,13.4,{"$f":"V27-V51","v":0},0,0,0,0,0,0,0,0,0,0]
["524ALL","Powys","ALL",67067,524,null,null,108.2,null,0,0,0,0,0,0,0,0,0,0,0,14,{"$f":"V28-V52","v":0},0,0,0,0,0,0,0,0,0,0,null,null,"PartG",{"$nulls":16},"PartG",{"$nulls":13},"ZeroCheck",{"$f":"SUM(BO77:BZ77)","v":0}]
["526A","Ceredigion","A",1787,526,null,null,115.1,null,0,0,0,0,0,0,0,0,0,0,0,15,{"$f":"V29-V53","v":0},0,0,0,0,0,0,0,0,0,0,null,null,"Link to Sheet",null,{"$f":"PartG!D5","v":0},{"$f":"PartG!E5","v":12},{"$f":"PartG!G5","v":1},{"$f":"PartG!H5","v":2},{"$f":"PartG!I5","v":3},{"$f":"PartG!J5","v":4},{"$f":"PartG!K5","v":5},{"$f":"PartG!L5","v":6},{"$f":"PartG!M5","v":7},{"$f":"PartG!N5","v":8},{"$f":"PartG!O5","v":9},{"$f":"PartG!P5","v":10},{"$f":"PartG!Q5","v":11},null,null,"Pivot from Transfer sheet"]
["526B","Ceredigion","B",5020,526,null,null,115.2,null,0,0,0,0,0,0,0,0,0,0,0,{"$nulls":14},{"$f":"PartG!B6","v":0},{"$f":"PartG!C6","v":0},{"$f":"PartG!D6","v":0},{"$f":"PartG!E6","v":0},{"$f":"PartG!G6","v":0},{"$f":"PartG!H6","v":0},{"$f":"PartG!I6","v":0},{"$f":"PartG!J6","v":0},{"$f":"PartG!K6","v":0},{"$f":"PartG!L6","v":"band priso"},null,{"$f":"PartG!N6","v":0},{"$f":"PartG!O6","v":0},{"$f":"PartG!P6","v":0},{"$f":"PartG!Q6","v":0},{"$nulls":3},"ColumnRef",{"$nulls":13},{"$f":"SUM(BO79:BO90)","v":0},{"$f":"SUM(BP79:BP90)","v":0},0,0,0,0,0,0,0,0,0,0]
["526C","Ceredigion","C",7765,526,null,null,122.1,null,0,0,0,0,0,0,0,0,0,0,0,{"$nulls":14},{"$f":"PartG!B7","v":0},{"$f":"PartG!C7","v":0},{"$f":"PartG!D7","v":"Ardal"},"%",{"$f":"PartG!G7","v":"A*"},{"$f":"PartG!H7","v":"A"},{"$f":"PartG!I7","v":"B"},{"$f":"PartG!J7","v":"C"},{"$f":"PartG!K7","v":"D"},{"$f":"PartG!L7","v":"E"},{"$f":"PartG!M7","v":"F"},{"$f":"PartG!N7","v":"G"},{"$f":"PartG!O7","v":"H"},{"$f":"PartG!P7","v":"I"},{"$f":"PartG!Q7","v":"Cyfanswm"},"Row Count",null,"rowref",12,1,2,3,4,5,6,7,8,9,10,11,null,{"$f":"AZ78","v":"rowref"},12,1,2,3,4,5,6,7,8,9,10,11]
["526D","Ceredigion","D",7584,526,null,null,122.2,null,0,0,0,0,0,0,0,0,0,0,0,{"$nulls":14},{"$f":"PartG!B8","v":52},{"$f":"PartG!C8","v":"G1"},{"$f":"PartG!D8","v":"Cofnodwch enw ardal 1*"},{"$f":"PartG!E8","v":0},{"$f":"PartG!G8","v":0},{"$f":"PartG!H8","v":0},{"$f":"PartG!I8","v":0},{"$f":"PartG!J8","v":0},{"$f":"PartG!K8","v":0},{"$f":"PartG!L8","v":0},{"$f":"PartG!M8","v":0},{"$f":"PartG!N8","v":0},{"$f":"PartG!O8","v":0},{"$f":"PartG!P8","v":0},{"$f":"PartG!Q8","v":0},{"$f":"COUNT(AL79:AW79)","v":12},null,52,{"$nulls":13},{"$f":"AZ79","v":52},{"$f":"AL79-BA79","v":0},0,0,0,0,0,0,0,0,0,0,0]
["526E","Ceredigion","E",9195,526,null,null,{"$f":"H50","v":42},{"$f":"I22-I50","v":0},{"$f":"I80-S50","v":0},"PartE",{"$nulls":23},{"$f":"PartG!B9","v":53},{"$f":"PartG!C9","v":"G2"},null,null,{"$f":"PartG!G9","v":0},{"$f":"PartG!H9","v":0},{"$f":"PartG!I9","v":0},{"$f":"PartG!J9","v":0},{"$f":"PartG!K9","v":0},{"$f":"PartG!L9","v":0},{"$f":"PartG!M9","v":0},{"$f":"PartG!N9","v":0},{"$f":"PartG!O9","v":0},{"$f":"PartG!P9","v":0},{"$f":"PartG!Q9","v":0},{"$f":"COUNT(AL80:AW80)","v":11},null,53,{"$nulls":13},53,{"$f":"AL80-BA80","v":0},{"$f":"AM80-BB80","v":0},{"$f":"AN80-BC80","v":0},{"$f":"AO80-BD80","v":0},{"$f":"AP80-BE80","v":0},{"$f":"AQ80-BF80","v":0},{"$f":"AR80-BG80","v":0},{"$f":"AS80-BH80","v":0},{"$f":"AT80-BI80","v":0},{"$f":"AU80-BJ80","v":0},{"$f":"AV80-BK80","v":0},{"$f":"AW80-BL80","v":0}]
["526F","Ceredigion","F",3894,526,null,null,43,0,0,"Sum of Data2","ColumnRef",{"$nulls":15},"Check if Contact has changed.",{"$nulls":6},{"$f":"PartG!B10","v":54},{"$f":"PartG!C10","v":"G3"},{"$f":"PartG!D10","v":"Cofnodwch enw ardal 2*"},{"$f":"PartG!E10","v":0},{"$f":"PartG!G10","v":0},{"$f":"PartG!H10","v":0},{"$f":"PartG!I10","v":0},{"$f":"PartG!J10","v":0},{"$f":"PartG!K10","v":0},{"$f":"PartG!L10","v":0},{"$f":"PartG!M10","v":0},{"$f":"PartG!N10","v":0},{"$f":"PartG!O10","v":0},{"$f":"PartG!P10","v":0},{"$f":"PartG!Q10","v":0},12,null,54,{"$nulls":13},54,0,0,0,0,0,0,0,0,0,0,0,0]
["526G","Ceredigion","G",984,526,null,null,44,0,0,"rowref",2,3,4,5,6,7,8,9,10,11,12,{"$nulls":6},"Addresses",null,"FormFrontPage",{"$nulls":3},{"$f":"PartG!B11","v":55},{"$f":"PartG!C11","v":"G4"},null,null,{"$f":"PartG!G11","v":0},{"$f":"PartG!H11","v":0},{"$f":"PartG!I11","v":0},{"$f":"PartG!J11","v":0},{"$f":"PartG!K11","v":0},{"$f":"PartG!L11","v":0},{"$f":"PartG!M11","v":0},{"$f":"PartG!N11","v":0},{"$f":"PartG!O11","v":0},{"$f":"PartG!P11","v":0},{"$f":"PartG!Q11","v":0},11,null,55,{"$nulls":13},55,0,0,0,0,0,0,0,0,0,0,0,0]
["526H","Ceredigion","H",108,526,null,null,45,0,0,22,{"$nulls":9},0,{"$nulls":6},{"$f":"IF(EXACT(AC83,AE83),0,1)","v":{"$error":"#N/A"}},{"$f":"VLOOKUP(uanumber,Addresses,9,FALSE)","v":{"$error":"#N/A"}},null,{"$f":"FrontPage!G17","v":""},{"$nulls":3},{"$f":"PartG!B12","v":56},{"$f":"PartG!C12","v":"G5"},{"$f":"PartG!D12","v":"Cofnodwch enw ardal 3*"},{"$f":"PartG!E12","v":0},{"$f":"PartG!G12","v":0},{"$f":"PartG!H12","v":0},{"$f":"PartG!I12","v":0},{"$f":"PartG!J12","v":0},{"$f":"PartG!K12","v":0},{"$f":"PartG!L12","v":0},{"$f":"PartG!M12","v":0},{"$f":"PartG!N12","v":0},{"$f":"PartG!O12","v":0},{"$f":"PartG!P12","v":0},{"$f":"PartG!Q12","v":0},12,null,56,{"$nulls":13},56,0,0,0,0,0,0,0,0,0,0,0,0]
["526I","Ceredigion","I",24,526,null,null,46,0,0,23,{"$nulls":9},0,{"$nulls":6},{"$f":"IF(EXACT(AC84,AE84),0,1)","v":{"$error":"#N/A"}},{"$f":"VLOOKUP(uanumber,Addresses,10,FALSE)","v":{"$error":"#N/A"}},null,{"$f":"FrontPage!G19","v":""},{"$nulls":3},{"$f":"PartG!B13","v":57},{"$f":"PartG!C13","v":"G6"},null,null,{"$f":"PartG!G13","v":0},{"$f":"PartG!H13","v":0},{"$f":"PartG!I13","v":0},{"$f":"PartG!J13","v":0},{"$f":"PartG!K13","v":0},{"$f":"PartG!L13","v":0},{"$f":"PartG!M13","v":0},{"$f":"PartG!N13","v":0},{"$f":"PartG!O13","v":0},{"$f":"PartG!P13","v":0},{"$f":"PartG!Q13","v":0},11,null,57,{"$nulls":13},57,0,0,0,0,0,0,0,0,0,0,0,0]
["526ALL","Ceredigion","ALL",36361,526,null,null,47,0,0,24,{"$nulls":9},0,{"$nulls":6},{"$f":"IF(EXACT(AC85,AE85),0,1)","v":{"$error":"#N/A"}},{"$f":"VLOOKUP(uanumber,Addresses,12,FALSE)","v":{"$error":"#N/A"}},null,{"$f":"FrontPage!H21","v":""},{"$nulls":3},{"$f":"PartG!B14","v":58},{"$f":"PartG!C14","v":"G7"},{"$f":"PartG!D14","v":"Cofnodwch enw ardal 4*"},{"$f":"PartG!E14","v":0},{"$f":"PartG!G14","v":0},{"$f":"PartG!H14","v":0},{"$f":"PartG!I14","v":0},{"$f":"PartG!J14","v":0},{"$f":"PartG!K14","v":0},{"$f":"PartG!L14","v":0},{"$f":"PartG!M14","v":0},{"$f":"PartG!N14","v":0},{"$f":"PartG!O14","v":0},{"$f":"PartG!P14","v":0},{"$f":"PartG!Q14","v":0},12,null,58,{"$nulls":13},58,0,0,0,0,0,0,0,0,0,0,0,0]
["528A","Pembrokeshire","A",6781,528,null,null,49,0,0,25,{"$nulls":9},0,{"$nulls":13},{"$f":"PartG!B15","v":59},{"$f":"PartG!C15","v":"G8"},null,null,{"$f":"PartG!G15","v":0},{"$f":"PartG!H15","v":0},{"$f":"PartG!I15","v":0},{"$f":"PartG!J15","v":0},{"$f":"PartG!K15","v":0},{"$f":"PartG!L15","v":0},{"$f":"PartG!M15","v":0},{"$f":"PartG!N15","v":0},{"$f":"PartG!O15","v":0},{"$f":"PartG!P15","v":0},{"$f":"PartG!Q15","v":0},11,null,59,{"$nulls":13},59,0,0,0,0,0,0,0,0,0,0,0,0]
["528B","Pembrokeshire","B",9483,528,null,null,50,0,0,26,{"$nulls":9},0,{"$nulls":13},{"$f":"PartG!B16","v":60},{"$f":"PartG!C16","v":"G9"},{"$f":"PartG!D16","v":"Cofnodwch enw ardal 5*"},{"$f":"PartG!E16","v":0},{"$f":"PartG!G16","v":0},{"$f":"PartG!H16","v":0},{"$f":"PartG!I16","v":0},{"$f":"PartG!J16","v":0},{"$f":"PartG!K16","v":0},{"$f":"PartG!L16","v":0},{"$f":"PartG!M16","v":0},{"$f":"PartG!N16","v":0},{"$f":"PartG!O16","v":0},{"$f":"PartG!P16","v":0},{"$f":"PartG!Q16","v":0},12,null,60,{"$nulls":13},60,0,0,0,0,0,0,0,0,0,0,0,0]
["528C","Pembrokeshire","C",14616,528,null,null,51,0,0,26.2,{"$nulls":9},0,{"$nulls":13},{"$f":"PartG!B17","v":61},{"$f":"PartG!C17","v":"G10"},null,null,{"$f":"PartG!G17","v":0},{"$f":"PartG!H17","v":0},{"$f":"PartG!I17","v":0},{"$f":"PartG!J17","v":0},{"$f":"PartG!K17","v":0},{"$f":"PartG!L17","v":0},{"$f":"PartG!M17","v":0},{"$f":"PartG!N17","v":0},{"$f":"PartG!O17","v":0},{"$f":"PartG!P17","v":0},{"$f":"PartG!Q17","v":0},11,null,61,{"$nulls":13},61,0,0,0,0,0,0,0,0,0,0,0,0]
["528D","Pembrokeshire","D",11632,528,null,null,51.5,{"$f":"I32-I59","v":0},0,27,{"$nulls":9},0,{"$nulls":13},{"$f":"PartG!B18","v":62},{"$f":"PartG!C18","v":"G11"},null,null,{"$f":"PartG!G18","v":0},{"$f":"PartG!H18","v":0},{"$f":"PartG!I18","v":0},{"$f":"PartG!J18","v":0},{"$f":"PartG!K18","v":0},{"$f":"PartG!L18","v":0},{"$f":"PartG!M18","v":0},{"$f":"PartG!N18","v":0},{"$f":"PartG!O18","v":0},{"$f":"PartG!P18","v":0},{"$f":"PartG!Q18","v":0},11,null,62,{"$nulls":13},62,0,0,0,0,0,0,0,0,0,0,0,0]
["528E","Pembrokeshire","E",12623,528,{"$nulls":4},{"$f":"SUM(J66:J89)","v":0},51.1,{"$nulls":9},0,{"$nulls":13},{"$f":"PartG!B19","v":63},{"$f":"PartG!C19","v":"G12"},{"$f":"PartG!D19","v":"Cyfanswm disgowntiau (G2+G4+G6+G8+G10) (gweler nodyn 11)"},null,{"$f":"PartG!G19","v":0},{"$f":"PartG!H19","v":0},{"$f":"PartG!I19","v":0},{"$f":"PartG!J19","v":0},{"$f":"PartG!K19","v":0},{"$f":"PartG!L19","v":0},{"$f":"PartG!M19","v":0},{"$f":"PartG!N19","v":0},{"$f":"PartG!O19","v":0},{"$f":"PartG!P19","v":0},{"$f":"PartG!Q19","v":0},11,null,63,{"$nulls":13},63,0,0,0,0,0,0,0,0,0,0,0,0]
["528F","Pembrokeshire","F",6106,528,{"$nulls":5},71.1,0,0,0,0,0,0,0,0,0,0,0,{"$nulls":29},13.3]
["528G","Pembrokeshire","G",2145,528,{"$nulls":5},71.2,0,0,0,0,0,0,0,0,0,0,0,{"$nulls":29},13.4]
["528H","Pembrokeshire","H",340,528,{"$nulls":5},78.1,0,0,0,0,0,0,0,0,0,0,0,{"$nulls":29},26.2]
["528I","Pembrokeshire","I",95,528,{"$nulls":5},78.2,0,0,0,0,0,0,0,0,0,0,0,{"$nulls":29},51.1]
["528ALL","Pembrokeshire","ALL",63821,528,{"$nulls":5},85.1,0,0,0,0,0,0,0,0,0,0,0,{"$nulls":29},71.1]
["530A","Carmarthenshire","A",9403,530,{"$nulls":5},85.2,0,0,0,0,0,0,0,0,0,0,0,{"$nulls":29},71.2]
["530B","Carmarthenshire","B",24570,530,{"$nulls":5},92.1,0,0,0,0,0,0,0,0,0,0,0,{"$nulls":29},78.1]
["530C","Carmarthenshire","C",18958,530,{"$nulls":5},92.2,0,0,0,0,0,0,0,0,0,0,0,{"$nulls":29},78.2]
["530D","Carmarthenshire","D",14731,530,{"$nulls":5},101.1,0,0,0,0,0,0,0,0,0,0,0,{"$nulls":29},85.1]
["530E","Carmarthenshire","E",13475,530,{"$nulls":5},101.2,0,0,0,0,0,0,0,0,0,0,0,{"$nulls":29},85.2]
["530F","Carmarthenshire","F",6737,530,{"$nulls":5},108.1,0,0,0,0,0,0,0,0,0,0,0,{"$nulls":29},92.1]
["530G","Carmarthenshire","G",2263,530,{"$nulls":5},108.2,0,0,0,0,0,0,0,0,0,0,0,{"$nulls":29},92.2]
["530H","Carmarthenshire","H",303,530,{"$nulls":5},115.1,0,0,0,0,0,0,0,0,0,0,0,{"$nulls":29},101.1]
["530I","Carmarthenshire","I",73,530,{"$nulls":5},115.2,0,0,0,0,0,0,0,0,0,0,0,{"$nulls":29},101.2]
["530ALL","Carmarthenshire","ALL",90513,530,{"$nulls":5},122.1,0,0,0,0,0,0,0,0,0,0,0,{"$nulls":29},108.1]
["532A","Swansea","A",17749,532,{"$nulls":5},122.2,0,0,0,0,0,0,0,0,0,0,0,{"$nulls":29},108.2]
["532B","Swansea","B",28663,532,{"$nulls":46},115.1]
["532C","Swansea","C",25058,532,{"$nulls":46},115.2]
["532D","Swansea","D",17370,532,{"$nulls":46},122.1]
["532E","Swansea","E",13246,532,{"$nulls":46},122.2]
["532F","Swansea","F",8194,532]
["532G","Swansea","G",3894,532]
["532H","Swansea","H",1202,532]
["532I","Swansea","I",545,532]
["532ALL","Swansea","ALL",115921,532]
["534A","Neath Port Talbot","A",13842,534]
["534B","Neath Port Talbot","B",27515,534]
["534C","Neath Port Talbot","C",11727,534]
["534D","Neath Port Talbot","D",7438,534]
["534E","Neath Port Talbot","E",4587,534]
["534F","Neath Port Talbot","F",1526,534]
["534G","Neath Port Talbot","G",537,534]
["534H","Neath Port Talbot","H",109,534]
["534I","Neath Port Talbot","I",23,534]
["534ALL","Neath Port Talbot","ALL",67304,534]
["536A","Bridgend","A",10598,536]
["536B","Bridgend","B",15373,536]
["536C","Bridgend","C",14845,536]
["536D","Bridgend","D",11061,536]
["536E","Bridgend","E",8026,536]
["536F","Bridgend","F",4481,536]
["536G","Bridgend","G",1510,536]
[{"$f":"E133&C133","v":"536H"},"Bridgend","H",295,536]
["536I","Bridgend","I",113,536]
["536ALL","Bridgend","ALL",66302,536]
["538A","Vale of Glamorgan","A",1517,538]
["538B","Vale of Glamorgan","B",6707,538]
["538C","Vale of Glamorgan","C",14549,538]
["538D","Vale of Glamorgan","D",11920,538]
["538E","Vale of Glamorgan","E",10791,538]
["538F","Vale of Glamorgan","F",7743,538]
["538G","Vale of Glamorgan","G",5926,538]
["538H","Vale of Glamorgan","H",2271,538]
["538I","Vale of Glamorgan","I",1065,538]
["538ALL","Vale of Glamorgan","ALL",62489,538]
["540A","Rhondda Cynon Taf","A",47091,540]
["540B","Rhondda Cynon Taf","B",25516,540]
["540C","Rhondda Cynon Taf","C",17533,540]
["540D","Rhondda Cynon Taf","D",9666,540]
["540E","Rhondda Cynon Taf","E",7153,540]
["540F","Rhondda Cynon Taf","F",3530,540]
["540G","Rhondda Cynon Taf","G",1191,540]
["540H","Rhondda Cynon Taf","H",198,540]
["540I","Rhondda Cynon Taf","I",69,540]
["540ALL","Rhondda Cynon Taf","ALL",111947,540]
["542A","Merthyr Tydfil","A",14133,542]
["542B","Merthyr Tydfil","B",6677,542]
["542C","Merthyr Tydfil","C",2278,542]
["542D","Merthyr Tydfil","D",2215,542]
["542E","Merthyr Tydfil","E",1562,542]
["542F","Merthyr Tydfil","F",578,542]
["542G","Merthyr Tydfil","G",162,542]
["542H","Merthyr Tydfil","H",2,542]
["542I","Merthyr Tydfil","I",7,542]
["542ALL","Merthyr Tydfil","ALL",27614,542]
["544A","Caerphilly","A",15578,544]
["544B","Caerphilly","B",26906,544]
["544C","Caerphilly","C",18954,544]
["544D","Caerphilly","D",9567,544]
["544E","Caerphilly","E",6857,544]
["544F","Caerphilly","F",2439,544]
["544G","Caerphilly","G",841,544]
["544H","Caerphilly","H",91,544]
["544I","Caerphilly","I",80,544]
["544ALL","Caerphilly","ALL",81313,544]
["545A","Blaenau Gwent","A",19206,545]
["545B","Blaenau Gwent","B",8161,545]
["545C","Blaenau Gwent","C",2732,545]
["545D","Blaenau Gwent","D",1819,545]
["545E","Blaenau Gwent","E",899,545]
["545F","Blaenau Gwent","F",350,545]
["545G","Blaenau Gwent","G",64,545]
["545H","Blaenau Gwent","H",3,545]
["545I","Blaenau Gwent","I",18,545]
["545ALL","Blaenau Gwent","ALL",33252,545]
["546A","Torfaen","A",6304,546]
["546B","Torfaen","B",13123,546]
["546C","Torfaen","C",12047,546]
["546D","Torfaen","D",4370,546]
["546E","Torfaen","E",4358,546]
["546F","Torfaen","F",2415,546]
["546G","Torfaen","G",692,546]
["546H","Torfaen","H",68,546]
["546I","Torfaen","I",26,546]
["546ALL","Torfaen","ALL",43403,546]
["548A","Monmouthshire","A",535,548]
[{"$f":"E197&C197","v":"548B"},"Monmouthshire","B",3461,548]
["548C","Monmouthshire","C",7164,548]
["548D","Monmouthshire","D",9484,548]
["548E","Monmouthshire","E",7695,548]
["548F","Monmouthshire","F",8106,548]
["548G","Monmouthshire","G",5524,548]
["548H","Monmouthshire","H",1793,548]
["548I","Monmouthshire","I",666,548]
["548ALL","Monmouthshire","ALL",44428,548]
["550A","Newport","A",6925,550]
["550B","Newport","B",15439,550]
["550C","Newport","C",18525,550]
["550D","Newport","D",13097,550]
["550E","Newport","E",8591,550]
["550F","Newport","F",6116,550]
[{"$f":"E212&C212","v":"550G"},"Newport","G",2736,550]
[{"$f":"E213&C213","v":"550H"},"Newport","H",559,550]
["550I","Newport","I",193,550]
["550ALL","Newport","ALL",72181,550]
["552A","Cardiff","A",5316,552]
["552B","Cardiff","B",20470,552]
["552C","Cardiff","C",35011,552]
["552D","Cardiff","D",37546,552]
["552E","Cardiff","E",31683,552]
["552F","Cardiff","F",22323,552]
["552G","Cardiff","G",10658,552]
["552H","Cardiff","H",2868,552]
["552I","Cardiff","I",1482,552]
["552ALL","Cardiff","ALL",167357,552]
["596A","Wales","A",215955,596]
["596B","Wales","B",307540,596]
["596C","Wales","C",323999,596]
["596D","Wales","D",242251,596]
["596E","Wales","E",201813,596]
["596F","Wales","F",123232,596]
["596G","Wales","G",55499,596]
["596H","Wales","H",13254,596]
["596I","Wales","I",5680,596]
["596ALL","Wales","ALL",1489223,596]

{"sheet":"Transfer","index":10,"n_rows":1047,"n_cols":37,"rows_kept":1047,"hidden":true}
["Lookup","Index","Version","YearCode","FormRef","rowref","ColumnRef","AuthCode","Data","Input TS Row","Input Column","Lookup Data","Range Start/Finish","Lookup Row",null,"Checksum Columns",null,1,"A",null,"1.2 Range: Year"]
[{"$f":"D2&\"-\"&H2&\"-\"&K2&\"-\"&N2","v":"202627-0-A-A1"},{"$f":"F2&\"_\"&G2","v":"1_2"},{"$f":"FrontPage!$N$2","v":{"v":1,"d":"1.0"}},{"$f":"$W$2","v":"202627"},"CT1",{"$f":"VLOOKUP(J2,Transfer!$X$35:$Y$155,2,FALSE)","v":1},{"$f":"VLOOKUP(K2,Transfer!$X$19:$Y$30,2,FALSE)","v":2},{"$f":"uanumber","v":0},{"$f":"L2","v":0},1,"A",{"$f":"VLOOKUP(F2,AtoD,MATCH(G2,PartsAtoD!$B$3:$O$3,0),FALSE)","v":0},"AtoD-Begin",{"$f":"VLOOKUP(F2,Transfer!$U$19:$V$170,2,FALSE)","v":"A1"},null,0.20581654040261543,{"$f":"+I2*P2","v":0},2,"B",null,{"$f":"LEFT(Yearcode, 4)&\"-\"&RIGHT(Yearcode,2)","v":"2026-27"},null,{"$f":"LEFT(year,4)&RIGHT(year,2)","v":"202627"},{"$f":"W2-101","v":202526},"DO NOT DELETE"]
[{"$f":"D3&\"-\"&H3&\"-\"&K3&\"-\"&N3","v":"202627-0-B-A1"},{"$f":"F3&\"_\"&G3","v":"1_3"},{"$f":"FrontPage!$N$2","v":{"v":1,"d":"1.0"}},"202627",{"$f":"$E$2","v":"CT1"},{"$f":"VLOOKUP(J3,Transfer!$X$35:$Y$155,2,FALSE)","v":1},{"$f":"VLOOKUP(K3,Transfer!$X$19:$Y$30,2,FALSE)","v":3},0,0,1,"B",{"$f":"VLOOKUP(F3,AtoD,MATCH(G3,PartsAtoD!$B$3:$O$3,0),FALSE)","v":0},null,{"$f":"VLOOKUP(F3,Transfer!$U$19:$V$170,2,FALSE)","v":"A1"},null,0.8135444942872634,0,3,"C",null,202627]
["202627-0-C-A1","1_4",{"$f":"FrontPage!$N$2","v":{"v":1,"d":"1.0"}},"202627",{"$f":"$E$2","v":"CT1"},{"$f":"VLOOKUP(J4,Transfer!$X$35:$Y$155,2,FALSE)","v":1},{"$f":"VLOOKUP(K4,Transfer!$X$19:$Y$30,2,FALSE)","v":4},0,0,1,"C",{"$f":"VLOOKUP(F4,AtoD,MATCH(G4,PartsAtoD!$B$3:$O$3,0),FALSE)","v":0},null,{"$f":"VLOOKUP(F4,Transfer!$U$19:$V$170,2,FALSE)","v":"A1"},null,0.9237759685823395,0,4,"D",null,"1.4 CheckSum Table"]
["202627-0-D-A1","1_5",{"$f":"FrontPage!$N$2","v":{"v":1,"d":"1.0"}},"202627","CT1",{"$f":"VLOOKUP(J5,Transfer!$X$35:$Y$155,2,FALSE)","v":1},{"$f":"VLOOKUP(K5,Transfer!$X$19:$Y$30,2,FALSE)","v":5},0,0,1,"D",{"$f":"VLOOKUP(F5,AtoD,MATCH(G5,PartsAtoD!$B$3:$O$3,0),FALSE)","v":0},null,{"$f":"VLOOKUP(F5,Transfer!$U$19:$V$170,2,FALSE)","v":"A1"},null,0.4412268454397681,0,5,"E",null,"Total","AtoD","EandF","H",null,null,"Instructions:"]
["202627-0-E-A1","1_6",{"$f":"FrontPage!$N$2","v":{"v":1,"d":"1.0"}},"202627","CT1",{"$f":"VLOOKUP(J6,Transfer!$X$35:$Y$155,2,FALSE)","v":1},{"$f":"VLOOKUP(K6,Transfer!$X$19:$Y$30,2,FALSE)","v":6},0,0,1,"E",{"$f":"VLOOKUP(F6,AtoD,MATCH(G6,PartsAtoD!$B$3:$O$3,0),FALSE)","v":0},null,{"$f":"VLOOKUP(F6,Transfer!$U$19:$V$170,2,FALSE)","v":"A1"},null,0.8157473874229522,0,6,"F",null,{"$f":"SUM(Q2:Q1047)","v":632.5049062706343},{"$f":"SUM(Q2:Q200)","v":0},{"$f":"SUM(Q201:Q232)","v":0},{"$f":"SUM(Q370:Q1047)","v":632.5049062706343},null,null,"1. Check all ranges in the Ranges Table (1.1) "]
["202627-0-F-A1","1_7",{"$f":"FrontPage!$N$2","v":{"v":1,"d":"1.0"}},"202627","CT1",{"$f":"VLOOKUP(J7,Transfer!$X$35:$Y$155,2,FALSE)","v":1},{"$f":"VLOOKUP(K7,Transfer!$X$19:$Y$30,2,FALSE)","v":7},0,0,1,"F",{"$f":"VLOOKUP(F7,AtoD,MATCH(G7,PartsAtoD!$B$3:$O$3,0),FALSE)","v":0},null,{"$f":"VLOOKUP(F7,Transfer!$U$19:$V$170,2,FALSE)","v":"A1"},null,0.15988981950935532,0,7,"G",null,{"$f":"FIXED((U6*10000000),0,1)","v":"6325049063"},{"$f":"FIXED((V6*10000000),0,1)","v":"0"},{"$f":"FIXED((W6*10000000),0,1)","v":"0"},{"$f":"FIXED((X6*10000000),0,1)","v":"6325049063"},null,null,"2. Set the year in 1.2 Range: Year at cell S2"]
["202627-0-G-A1","1_8",{"$f":"FrontPage!$N$2","v":{"v":1,"d":"1.0"}},"202627","CT1",{"$f":"VLOOKUP(J8,Transfer!$X$35:$Y$155,2,FALSE)","v":1},{"$f":"VLOOKUP(K8,Transfer!$X$19:$Y$30,2,FALSE)","v":8},0,0,1,"G",{"$f":"VLOOKUP(F8,AtoD,MATCH(G8,PartsAtoD!$B$3:$O$3,0),FALSE)","v":0},null,{"$f":"VLOOKUP(F8,Transfer!$U$19:$V$170,2,FALSE)","v":"A1"},null,0.2715574360308737,0,8,"H",null,{"$f":"VALUE(LEFT(ABS(U$7),2))","v":63},{"$f":"VALUE(LEFT(ABS(V$7),2))","v":0},{"$f":"VALUE(LEFT(ABS(W$7),2))","v":0},{"$f":"VALUE(LEFT(ABS(X$7),2))","v":63},null,null,"3. Check the Lookup Data column formulae (columns J and L)"]
["202627-0-H-A1","1_9",{"$f":"FrontPage!$N$2","v":{"v":1,"d":"1.0"}},"202627","CT1",{"$f":"VLOOKUP(J9,Transfer!$X$35:$Y$155,2,FALSE)","v":1},{"$f":"VLOOKUP(K9,Transfer!$X$19:$Y$30,2,FALSE)","v":9},0,0,1,"H",{"$f":"VLOOKUP(F9,AtoD,MATCH(G9,PartsAtoD!$B$3:$O$3,0),FALSE)","v":0},null,{"$f":"VLOOKUP(F9,Transfer!$U$19:$V$170,2,FALSE)","v":"A1"},null,0.039857529307160355,0,9,"I",null,{"$f":"VALUE(RIGHT(LEFT(ABS(U$7),4),2))","v":25},{"$f":"VALUE(RIGHT(LEFT(ABS(V$7),4),2))","v":0},{"$f":"VALUE(RIGHT(LEFT(ABS(W$7),4),2))","v":0},{"$f":"VALUE(RIGHT(LEFT(ABS(X$7),4),2))","v":25},null,null,"4. Check the Grand Total check figure on the ValidationData page at cell B2."]
["202627-0-I-A1","1_10",{"$f":"FrontPage!$N$2","v":{"v":1,"d":"1.0"}},"202627","CT1",{"$f":"VLOOKUP(J10,Transfer!$X$35:$Y$155,2,FALSE)","v":1},{"$f":"VLOOKUP(K10,Transfer!$X$19:$Y$30,2,FALSE)","v":10},0,{"$f":"L10","v":0},1,"I",{"$f":"VLOOKUP(F10,AtoD,MATCH(G10,PartsAtoD!$B$3:$O$3,0),FALSE)","v":0},null,{"$f":"VLOOKUP(F10,Transfer!$U$19:$V$170,2,FALSE)","v":"A1"},null,0.7553873992962585,0,10,"J",null,{"$f":"VALUE(RIGHT(LEFT(ABS(U$7),6),2))","v":4},{"$f":"VALUE(RIGHT(LEFT(ABS(V$7),6),2))","v":0},{"$f":"VALUE(RIGHT(LEFT(ABS(W$7),6),2))","v":0},{"$f":"VALUE(RIGHT(LEFT(ABS(X$7),6),2))","v":4},null,null,"5. Type figures into the four input pages"]
["202627-0-TOTAL-A1","1_11",{"$f":"FrontPage!$N$2","v":{"v":1,"d":"1.0"}},"202627","CT1",{"$f":"VLOOKUP(J11,Transfer!$X$35:$Y$155,2,FALSE)","v":1},{"$f":"VLOOKUP(K11,Transfer!$X$19:$Y$30,2,FALSE)","v":11},0,0,1,"TOTAL",{"$f":"VLOOKUP(F11,AtoD,MATCH(G11,PartsAtoD!$B$3:$O$3,0),FALSE)","v":0},null,{"$f":"VLOOKUP(F11,Transfer!$U$19:$V$170,2,FALSE)","v":"A1"},null,0.6867896251453021,0,11,"K",null,{"$f":"VALUE(RIGHT(LEFT(ABS(U$7),8),2))","v":90},{"$f":"VALUE(RIGHT(LEFT(ABS(V$7),8),2))","v":0},{"$f":"VALUE(RIGHT(LEFT(ABS(W$7),8),2))","v":0},{"$f":"VALUE(RIGHT(LEFT(ABS(X$7),8),2))","v":90},null,null,"6. Check 1.3 Totals Table"]
["202627-0-A-A2","2_2",{"$f":"FrontPage!$N$2","v":{"v":1,"d":"1.0"}},"202627","CT1",{"$f":"VLOOKUP(J12,Transfer!$X$35:$Y$155,2,FALSE)","v":2},{"$f":"VLOOKUP(K12,Transfer!$X$19:$Y$30,2,FALSE)","v":2},0,0,2,"A",{"$f":"VLOOKUP(F12,AtoD,MATCH(G12,PartsAtoD!$B$3:$O$3,0),FALSE)","v":0},null,{"$f":"VLOOKUP(F12,Transfer!$U$19:$V$170,2,FALSE)","v":"A2"},null,0.7609820561884957,0,12,"L",null,{"$f":"VALUE(RIGHT(LEFT(ABS(U$7),10),2))","v":63},{"$f":"VALUE(RIGHT(LEFT(ABS(V$7),10),2))","v":0},{"$f":"VALUE(RIGHT(LEFT(ABS(W$7),10),2))","v":0},{"$f":"VALUE(RIGHT(LEFT(ABS(X$7),10),2))","v":63},null,null,"7. Check formula ranges in first row of 1.4 ChecSum table"]
["202627-0-B-A2","2_3",{"$f":"FrontPage!$N$2","v":{"v":1,"d":"1.0"}},"202627","CT1",{"$f":"VLOOKUP(J13,Transfer!$X$35:$Y$155,2,FALSE)","v":2},{"$f":"VLOOKUP(K13,Transfer!$X$19:$Y$30,2,FALSE)","v":3},0,0,2,"B",{"$f":"VLOOKUP(F13,AtoD,MATCH(G13,PartsAtoD!$B$3:$O$3,0),FALSE)","v":0},null,{"$f":"VLOOKUP(F13,Transfer!$U$19:$V$170,2,FALSE)","v":"A2"},null,0.08534076141526725,0,13,"M",null,{"$f":"VALUE(RIGHT(LEFT(ABS(U$7),12),2))","v":63},{"$f":"VALUE(RIGHT(LEFT(ABS(V$7),12),2))","v":0},{"$f":"VALUE(RIGHT(LEFT(ABS(W$7),12),2))","v":0},{"$f":"VALUE(RIGHT(LEFT(ABS(X$7),12),2))","v":63}]
["202627-0-C-A2","2_4",{"$f":"FrontPage!$N$2","v":{"v":1,"d":"1.0"}},"202627","CT1",{"$f":"VLOOKUP(J14,Transfer!$X$35:$Y$155,2,FALSE)","v":2},{"$f":"VLOOKUP(K14,Transfer!$X$19:$Y$30,2,FALSE)","v":4},0,0,2,"C",{"$f":"VLOOKUP(F14,AtoD,MATCH(G14,PartsAtoD!$B$3:$O$3,0),FALSE)","v":0},null,{"$f":"VLOOKUP(F14,Transfer!$U$19:$V$170,2,FALSE)","v":"A2"},null,0.956143134834645,0,14,"N",null,{"$f":"VALUE(RIGHT(LEFT(ABS(U$7),14),2))","v":63},{"$f":"VALUE(RIGHT(LEFT(ABS(V$7),14),2))","v":0},{"$f":"VALUE(RIGHT(LEFT(ABS(W$7),14),2))","v":0},{"$f":"VALUE(RIGHT(LEFT(ABS(X$7),14),2))","v":63},null,null,"1.1 Ranges Table"]
["202627-0-D-A2","2_5",{"$f":"FrontPage!$N$2","v":{"v":1,"d":"1.0"}},"202627","CT1",{"$f":"VLOOKUP(J15,Transfer!$X$35:$Y$155,2,FALSE)","v":2},{"$f":"VLOOKUP(K15,Transfer!$X$19:$Y$30,2,FALSE)","v":5},0,0,2,"D",{"$f":"VLOOKUP(F15,AtoD,MATCH(G15,PartsAtoD!$B$3:$O$3,0),FALSE)","v":0},null,{"$f":"VLOOKUP(F15,Transfer!$U$19:$V$170,2,FALSE)","v":"A2"},null,0.6640568149194525,0,15,"O",{"$nulls":7},"Range","Description"]
["202627-0-E-A2","2_6",{"$f":"FrontPage!$N$2","v":{"v":1,"d":"1.0"}},"202627","CT1",{"$f":"VLOOKUP(J16,Transfer!$X$35:$Y$155,2,FALSE)","v":2},{"$f":"VLOOKUP(K16,Transfer!$X$19:$Y$30,2,FALSE)","v":6},0,0,2,"E",{"$f":"VLOOKUP(F16,AtoD,MATCH(G16,PartsAtoD!$B$3:$O$3,0),FALSE)","v":0},null,{"$f":"VLOOKUP(F16,Transfer!$U$19:$V$170,2,FALSE)","v":"A2"},null,0.7497428824664243,0,16,"P",{"$nulls":4},"tblCols",null,null,"AtoD","Range in PartsAtoD"]
["202627-0-F-A2","2_7",{"$f":"FrontPage!$N$2","v":{"v":1,"d":"1.0"}},"202627","CT1",{"$f":"VLOOKUP(J17,Transfer!$X$35:$Y$155,2,FALSE)","v":2},{"$f":"VLOOKUP(K17,Transfer!$X$19:$Y$30,2,FALSE)","v":7},0,0,2,"F",{"$f":"VLOOKUP(F17,AtoD,MATCH(G17,PartsAtoD!$B$3:$O$3,0),FALSE)","v":0},null,{"$f":"VLOOKUP(F17,Transfer!$U$19:$V$170,2,FALSE)","v":"A2"},null,0.3416745035209172,0,17,"Q",null,"CT1 Rows","tblRow",null,"CT1 Columns",null,null,"PartE","Range in PartsEandF"]
["202627-0-G-A2","2_8",{"$f":"FrontPage!$N$2","v":{"v":1,"d":"1.0"}},"202627","CT1",{"$f":"VLOOKUP(J18,Transfer!$X$35:$Y$155,2,FALSE)","v":2},{"$f":"VLOOKUP(K18,Transfer!$X$19:$Y$30,2,FALSE)","v":8},0,0,2,"G",{"$f":"VLOOKUP(F18,AtoD,MATCH(G18,PartsAtoD!$B$3:$O$3,0),FALSE)","v":0},null,{"$f":"VLOOKUP(F18,Transfer!$U$19:$V$170,2,FALSE)","v":"A2"},null,0.16229219912315418,0,18,"R",null,"Rowref","Line",null,"ColumnDesc","Col No",null,"PartF","Range in ValidationData (derived from PartsEandF)"]
["202627-0-H-A2","2_9",{"$f":"FrontPage!$N$2","v":{"v":1,"d":"1.0"}},"202627","CT1",{"$f":"VLOOKUP(J19,Transfer!$X$35:$Y$155,2,FALSE)","v":2},{"$f":"VLOOKUP(K19,Transfer!$X$19:$Y$30,2,FALSE)","v":9},0,0,2,"H",{"$f":"VLOOKUP(F19,AtoD,MATCH(G19,PartsAtoD!$B$3:$O$3,0),FALSE)","v":0},null,{"$f":"VLOOKUP(F19,Transfer!$U$19:$V$170,2,FALSE)","v":"A2"},null,0.8893939594869931,0,19,"S",null,1,"A1",null,"A-",1,null,"PartG","Range in PartG"]
["202627-0-I-A2","2_10",{"$f":"FrontPage!$N$2","v":{"v":1,"d":"1.0"}},"202627","CT1",{"$f":"VLOOKUP(J20,Transfer!$X$35:$Y$155,2,FALSE)","v":2},{"$f":"VLOOKUP(K20,Transfer!$X$19:$Y$30,2,FALSE)","v":10},0,0,2,"I",{"$f":"VLOOKUP(F20,AtoD,MATCH(G20,PartsAtoD!$B$3:$O$3,0),FALSE)","v":0},null,{"$f":"VLOOKUP(F20,Transfer!$U$19:$V$170,2,FALSE)","v":"A2"},null,0.8564788554625858,0,20,"T",null,2,"A2",null,"A",2,null,"PartH","Range in PartH"]
["202627-0-TOTAL-A2","2_11",{"$f":"FrontPage!$N$2","v":{"v":1,"d":"1.0"}},"202627","CT1",{"$f":"VLOOKUP(J21,Transfer!$X$35:$Y$155,2,FALSE)","v":2},{"$f":"VLOOKUP(K21,Transfer!$X$19:$Y$30,2,FALSE)","v":11},0,0,2,"TOTAL",{"$f":"VLOOKUP(F21,AtoD,MATCH(G21,PartsAtoD!$B$3:$O$3,0),FALSE)","v":0},null,{"$f":"VLOOKUP(F21,Transfer!$U$19:$V$170,2,FALSE)","v":"A2"},null,0.32734383177896365,0,21,"U",null,3,"A3",null,"B",3,null,"_tab1","Transfer sheet range (coloured red)"]
["202627-0-A--A3","3_1",{"$f":"FrontPage!$N$2","v":{"v":1,"d":"1.0"}},"202627","CT1",{"$f":"VLOOKUP(J22,Transfer!$X$35:$Y$155,2,FALSE)","v":3},{"$f":"VLOOKUP(K22,Transfer!$X$19:$Y$30,2,FALSE)","v":1},0,0,3,"A-",{"$f":"VLOOKUP(F22,AtoD,MATCH(G22,PartsAtoD!$B$3:$O$3,0),FALSE)","v":0},null,{"$f":"VLOOKUP(F22,Transfer!$U$19:$V$170,2,FALSE)","v":"A3"},null,0.19124605175001375,0,22,"V",null,4,"B1",null,"C",4]
["202627-0-A-A3","3_2",{"$f":"FrontPage!$N$2","v":{"v":1,"d":"1.0"}},"202627","CT1",{"$f":"VLOOKUP(J23,Transfer!$X$35:$Y$155,2,FALSE)","v":3},{"$f":"VLOOKUP(K23,Transfer!$X$19:$Y$30,2,FALSE)","v":2},0,0,3,"A",{"$f":"VLOOKUP(F23,AtoD,MATCH(G23,PartsAtoD!$B$3:$O$3,0),FALSE)","v":0},null,{"$f":"VLOOKUP(F23,Transfer!$U$19:$V$170,2,FALSE)","v":"A3"},null,0.9627631961963692,0,23,"W",null,5,"B2",null,"D",5,null,"Algorithm output (see bottom of sheets (should be same if nothing changes)"]
["202627-0-B-A3","3_3",{"$f":"FrontPage!$N$2","v":{"v":1,"d":"1.0"}},"202627","CT1",{"$f":"VLOOKUP(J24,Transfer!$X$35:$Y$155,2,FALSE)","v":3},{"$f":"VLOOKUP(K24,Transfer!$X$19:$Y$30,2,FALSE)","v":3},0,0,3,"B",{"$f":"VLOOKUP(F24,AtoD,MATCH(G24,PartsAtoD!$B$3:$O$3,0),FALSE)","v":0},null,{"$f":"VLOOKUP(F24,Transfer!$U$19:$V$170,2,FALSE)","v":"A3"},null,0.5965028557997792,0,24,"X",null,6,"B3",null,"E",6,null,"Total",{"$f":"VLOOKUP(U8,letter,2,FALSE)&VLOOKUP(U9,letter,2,FALSE)&VLOOKUP(U10,letter,2,FALSE)&VLOOKUP(U11,letter,2,FALSE)&VLOOKUP(U12,letter,2,FALSE)&VLOOKUP(U13,letter,2,FALSE)&VLOOKUP(U14,letter,2,FALSE)","v":"BKYDCLBKBKBK"}]
["202627-0-C-A3","3_4",{"$f":"FrontPage!$N$2","v":{"v":1,"d":"1.0"}},"202627","CT1",{"$f":"VLOOKUP(J25,Transfer!$X$35:$Y$155,2,FALSE)","v":3},{"$f":"VLOOKUP(K25,Transfer!$X$19:$Y$30,2,FALSE)","v":4},0,0,3,"C",{"$f":"VLOOKUP(F25,AtoD,MATCH(G25,PartsAtoD!$B$3:$O$3,0),FALSE)","v":0},null,{"$f":"VLOOKUP(F25,Transfer!$U$19:$V$170,2,FALSE)","v":"A3"},null,0.32247619809052275,0,25,"Y",null,7,"B3a",null,"F",7,null,"AtoD",{"$f":"VLOOKUP(V8,letter,2,FALSE)&VLOOKUP(V9,letter,2,FALSE)&VLOOKUP(V10,letter,2,FALSE)&VLOOKUP(V11,letter,2,FALSE)&VLOOKUP(V12,letter,2,FALSE)&VLOOKUP(V13,letter,2,FALSE)&VLOOKUP(V14,letter,2,FALSE)","v":"ZZZZZZZZZZZZZZ"}]
["202627-0-D-A3","3_5",{"$f":"FrontPage!$N$2","v":{"v":1,"d":"1.0"}},"202627","CT1",{"$f":"VLOOKUP(J26,Transfer!$X$35:$Y$155,2,FALSE)","v":3},{"$f":"VLOOKUP(K26,Transfer!$X$19:$Y$30,2,FALSE)","v":5},0,0,3,"D",{"$f":"VLOOKUP(F26,AtoD,MATCH(G26,PartsAtoD!$B$3:$O$3,0),FALSE)","v":0},null,{"$f":"VLOOKUP(F26,Transfer!$U$19:$V$170,2,FALSE)","v":"A3"},null,0.7668130405520661,0,26,"Z",null,8,"B4",null,"G",8,null,"EandF",{"$f":"VLOOKUP(W8,letter,2,FALSE)&VLOOKUP(W9,letter,2,FALSE)&VLOOKUP(W10,letter,2,FALSE)&VLOOKUP(W11,letter,2,FALSE)&VLOOKUP(W12,letter,2,FALSE)&VLOOKUP(W13,letter,2,FALSE)&VLOOKUP(W14,letter,2,FALSE)","v":"ZZZZZZZZZZZZZZ"}]
["202627-0-E-A3","3_6",{"$f":"FrontPage!$N$2","v":{"v":1,"d":"1.0"}},"202627","CT1",{"$f":"VLOOKUP(J27,Transfer!$X$35:$Y$155,2,FALSE)","v":3},{"$f":"VLOOKUP(K27,Transfer!$X$19:$Y$30,2,FALSE)","v":6},0,0,3,"E",{"$f":"VLOOKUP(F27,AtoD,MATCH(G27,PartsAtoD!$B$3:$O$3,0),FALSE)","v":0},null,{"$f":"VLOOKUP(F27,Transfer!$U$19:$V$170,2,FALSE)","v":"A3"},null,0.6273289319184435,0,27,"AA",null,9,"B5",null,"H",9,null,"H",{"$f":"VLOOKUP(X8,letter,2,FALSE)&VLOOKUP(X9,letter,2,FALSE)&VLOOKUP(X10,letter,2,FALSE)&VLOOKUP(X11,letter,2,FALSE)&VLOOKUP(X12,letter,2,FALSE)&VLOOKUP(X13,letter,2,FALSE)&VLOOKUP(X14,letter,2,FALSE)","v":"BKYDCLBKBKBK"}]
["202627-0-F-A3","3_7",{"$f":"FrontPage!$N$2","v":{"v":1,"d":"1.0"}},"202627","CT1",{"$f":"VLOOKUP(J28,Transfer!$X$35:$Y$155,2,FALSE)","v":3},{"$f":"VLOOKUP(K28,Transfer!$X$19:$Y$30,2,FALSE)","v":7},0,0,3,"F",{"$f":"VLOOKUP(F28,AtoD,MATCH(G28,PartsAtoD!$B$3:$O$3,0),FALSE)","v":0},null,{"$f":"VLOOKUP(F28,Transfer!$U$19:$V$170,2,FALSE)","v":"A3"},null,0.8212984056269,0,28,"AB",null,"not used","C1",null,"I",10]
["202627-0-G-A3","3_8",{"$f":"FrontPage!$N$2","v":{"v":1,"d":"1.0"}},"202627","CT1",{"$f":"VLOOKUP(J29,Transfer!$X$35:$Y$155,2,FALSE)","v":3},{"$f":"VLOOKUP(K29,Transfer!$X$19:$Y$30,2,FALSE)","v":8},0,0,3,"G",{"$f":"VLOOKUP(F29,AtoD,MATCH(G29,PartsAtoD!$B$3:$O$3,0),FALSE)","v":0},null,{"$f":"VLOOKUP(F29,Transfer!$U$19:$V$170,2,FALSE)","v":"A3"},null,0.4469194133548092,0,29,"AC",null,11,"C2",null,"TOTAL",11,null,"Validation checks for set percentages and ratios",null,"Os gwelwch yn dda Peidiwch â newid",{"$nulls":3},"Displayed value",{"$nulls":3},"Calculation"]
["202627-0-H-A3","3_9",{"$f":"FrontPage!$N$2","v":{"v":1,"d":"1.0"}},"202627","CT1",{"$f":"VLOOKUP(J30,Transfer!$X$35:$Y$155,2,FALSE)","v":3},{"$f":"VLOOKUP(K30,Transfer!$X$19:$Y$30,2,FALSE)","v":9},0,0,3,"H",{"$f":"VLOOKUP(F30,AtoD,MATCH(G30,PartsAtoD!$B$3:$O$3,0),FALSE)","v":0},null,{"$f":"VLOOKUP(F30,Transfer!$U$19:$V$170,2,FALSE)","v":"A3"},null,0.3975422435362044,0,30,"AD",null,"not used","C3",null,"%",12,null,"AtoD","Please do not change ratios",{"$f":"AC29&\" canrannau\"","v":"Os gwelwch yn dda Peidiwch â newid canrannau"},{"$nulls":3},{"$f":"IF(AK30=113/9,\"\",IF(FrontPage!$L$4=1,AC30,AB30))","v":""},{"$nulls":3},{"$f":"SUM(PartsAtoD!E25:N25)","v":12.555555555555555}]
["202627-0-I-A3","3_10",{"$f":"FrontPage!$N$2","v":{"v":1,"d":"1.0"}},"202627","CT1",{"$f":"VLOOKUP(J31,Transfer!$X$35:$Y$155,2,FALSE)","v":3},{"$f":"VLOOKUP(K31,Transfer!$X$19:$Y$30,2,FALSE)","v":10},0,0,3,"I",{"$f":"VLOOKUP(F31,AtoD,MATCH(G31,PartsAtoD!$B$3:$O$3,0),FALSE)","v":0},null,{"$f":"VLOOKUP(F31,Transfer!$U$19:$V$170,2,FALSE)","v":"A3"},null,0.17492896652925138,0,31,"AE",null,13,"C4",{"$nulls":4},"H","Please do not change percentages",{"$f":"AC29&\" cymarebau\"","v":"Os gwelwch yn dda Peidiwch â newid cymarebau"},{"$nulls":3},{"$f":"IF(AK31=1400,\"\",IF(FrontPage!$L$4=1,AC31,AB31))","v":""},{"$nulls":3},{"$f":"SUM(PartH!D16:D18,PartH!D27:D29,PartH!D38:D40,PartH!D49:D51,PartH!D64:D66,PartH!D74:D76,PartH!D84:D86,PartH!D94:D96)","v":{"v":1400,"d":"1,400"}}]
["202627-0-TOTAL-A3","3_11",{"$f":"FrontPage!$N$2","v":{"v":1,"d":"1.0"}},"202627","CT1",{"$f":"VLOOKUP(J32,Transfer!$X$35:$Y$155,2,FALSE)","v":3},{"$f":"VLOOKUP(K32,Transfer!$X$19:$Y$30,2,FALSE)","v":11},0,0,3,"TOTAL",{"$f":"VLOOKUP(F32,AtoD,MATCH(G32,PartsAtoD!$B$3:$O$3,0),FALSE)","v":0},null,{"$f":"VLOOKUP(F32,Transfer!$U$19:$V$170,2,FALSE)","v":"A3"},null,0.9632776010395104,0,32,"AF",null,14,"D1",{"$nulls":4},"EtoF",{"$f":"Text!B74&\" \"&Text!B75","v":"Total all classes (must match total of lines D1 and D2)"},{"$f":"Text!D74&\" \"&Text!D75","v":"Cyfanswm pob dosbarth ( rhaid cyfateb i gyfanswm llinellau D1 a D2 )"},{"$nulls":3},{"$f":"IF(AK32<0.0005,\"\",Text!F74&\" \"&Text!F75)","v":""},{"$nulls":3},{"$f":"ABS(PartsEandF!K42-PartsAtoD!O30-PartsAtoD!O31)","v":0}]
["202627-0-A--B1","4_1",{"$f":"FrontPage!$N$2","v":{"v":1,"d":"1.0"}},"202627","CT1",{"$f":"VLOOKUP(J33,Transfer!$X$35:$Y$155,2,FALSE)","v":4},{"$f":"VLOOKUP(K33,Transfer!$X$19:$Y$30,2,FALSE)","v":1},0,0,4,"A-",{"$f":"VLOOKUP(F33,AtoD,MATCH(G33,PartsAtoD!$B$3:$O$3,0),FALSE)","v":0},null,{"$f":"VLOOKUP(F33,Transfer!$U$19:$V$170,2,FALSE)","v":"B1"},null,0.44525953888083714,0,33,"AG",null,15,"D2",null,"Transfer Sheet Row Ref"]
["202627-0-A-B1","4_2",{"$f":"FrontPage!$N$2","v":{"v":1,"d":"1.0"}},"202627","CT1",{"$f":"VLOOKUP(J34,Transfer!$X$35:$Y$155,2,FALSE)","v":4},{"$f":"VLOOKUP(K34,Transfer!$X$19:$Y$30,2,FALSE)","v":2},0,0,4,"A",{"$f":"VLOOKUP(F34,AtoD,MATCH(G34,PartsAtoD!$B$3:$O$3,0),FALSE)","v":0},null,{"$f":"VLOOKUP(F34,Transfer!$U$19:$V$170,2,FALSE)","v":"B1"},null,0.3782441172786475,0,34,"AH",null,16,"D3",null,"TS Row No","CT1Row","Total Transfer Lines","Total Cells (sheet)",null,"Col X-Y (should be zero)",{"$nulls":5},"1.3 Totals Table check:",{"$f":"SUM(AC35:AC156)","v":{"$error":"#REF!"}}]
["202627-0-B-B1","4_3",{"$f":"FrontPage!$N$2","v":{"v":1,"d":"1.0"}},"202627","CT1",{"$f":"VLOOKUP(J35,Transfer!$X$35:$Y$155,2,FALSE)","v":4},{"$f":"VLOOKUP(K35,Transfer!$X$19:$Y$30,2,FALSE)","v":3},0,0,4,"B",{"$f":"VLOOKUP(F35,AtoD,MATCH(G35,PartsAtoD!$B$3:$O$3,0),FALSE)","v":0},null,{"$f":"VLOOKUP(F35,Transfer!$U$19:$V$170,2,FALSE)","v":"B1"},null,0.986899022435009,0,35,"AI",null,17,"D4",null,1,1,{"$f":"COUNTIF(F:F,Y35)","v":10},{"$f":"ValidationData!AG11","v":10},null,{"$f":"Z35-AA35","v":0}]
["202627-0-C-B1","4_4",{"$f":"FrontPage!$N$2","v":{"v":1,"d":"1.0"}},"202627","CT1",{"$f":"VLOOKUP(J36,Transfer!$X$35:$Y$155,2,FALSE)","v":4},{"$f":"VLOOKUP(K36,Transfer!$X$19:$Y$30,2,FALSE)","v":4},0,0,4,"C",{"$f":"VLOOKUP(F36,AtoD,MATCH(G36,PartsAtoD!$B$3:$O$3,0),FALSE)","v":0},null,{"$f":"VLOOKUP(F36,Transfer!$U$19:$V$170,2,FALSE)","v":"B1"},null,0.39101513032004265,0,36,"AJ",null,18,"D5",null,2,2,10,{"$f":"ValidationData!AG12","v":10},null,{"$f":"Z36-AA36","v":0}]
["202627-0-D-B1","4_5",{"$f":"FrontPage!$N$2","v":{"v":1,"d":"1.0"}},"202627","CT1",{"$f":"VLOOKUP(J37,Transfer!$X$35:$Y$155,2,FALSE)","v":4},{"$f":"VLOOKUP(K37,Transfer!$X$19:$Y$30,2,FALSE)","v":5},0,0,4,"D",{"$f":"VLOOKUP(F37,AtoD,MATCH(G37,PartsAtoD!$B$3:$O$3,0),FALSE)","v":0},null,{"$f":"VLOOKUP(F37,Transfer!$U$19:$V$170,2,FALSE)","v":"B1"},null,0.09422317264462121,0,37,"AK",null,19,"D6",null,3,3,11,{"$f":"ValidationData!AG13","v":11},null,0]
["202627-0-E-B1","4_6",{"$f":"FrontPage!$N$2","v":{"v":1,"d":"1.0"}},"202627","CT1",{"$f":"VLOOKUP(J38,Transfer!$X$35:$Y$155,2,FALSE)","v":4},{"$f":"VLOOKUP(K38,Transfer!$X$19:$Y$30,2,FALSE)","v":6},0,0,4,"E",{"$f":"VLOOKUP(F38,AtoD,MATCH(G38,PartsAtoD!$B$3:$O$3,0),FALSE)","v":0},null,{"$f":"VLOOKUP(F38,Transfer!$U$19:$V$170,2,FALSE)","v":"B1"},null,0.7620563999791664,0,38,"AL",null,20,"D7",null,4,4,11,{"$f":"ValidationData!AG14","v":11},null,0]
["202627-0-F-B1","4_7",{"$f":"FrontPage!$N$2","v":{"v":1,"d":"1.0"}},"202627","CT1",{"$f":"VLOOKUP(J39,Transfer!$X$35:$Y$155,2,FALSE)","v":4},{"$f":"VLOOKUP(K39,Transfer!$X$19:$Y$30,2,FALSE)","v":7},0,0,4,"F",{"$f":"VLOOKUP(F39,AtoD,MATCH(G39,PartsAtoD!$B$3:$O$3,0),FALSE)","v":0},null,{"$f":"VLOOKUP(F39,Transfer!$U$19:$V$170,2,FALSE)","v":"B1"},null,0.7842868349892915,0,39,"AM",null,21,"D8",null,5,4.1,11,{"$f":"ValidationData!AG15","v":11},null,0]
["202627-0-G-B1","4_8",{"$f":"FrontPage!$N$2","v":{"v":1,"d":"1.0"}},"202627","CT1",{"$f":"VLOOKUP(J40,Transfer!$X$35:$Y$155,2,FALSE)","v":4},{"$f":"VLOOKUP(K40,Transfer!$X$19:$Y$30,2,FALSE)","v":8},0,0,4,"G",{"$f":"VLOOKUP(F40,AtoD,MATCH(G40,PartsAtoD!$B$3:$O$3,0),FALSE)","v":0},null,{"$f":"VLOOKUP(F40,Transfer!$U$19:$V$170,2,FALSE)","v":"B1"},null,0.9359012905760218,0,40,"AN",null,22,"E1",null,6,4.2,11,{"$f":"ValidationData!AG16","v":11},null,0]
["202627-0-H-B1","4_9",{"$f":"FrontPage!$N$2","v":{"v":1,"d":"1.0"}},"202627","CT1",{"$f":"VLOOKUP(J41,Transfer!$X$35:$Y$155,2,FALSE)","v":4},{"$f":"VLOOKUP(K41,Transfer!$X$19:$Y$30,2,FALSE)","v":9},0,0,4,"H",{"$f":"VLOOKUP(F41,AtoD,MATCH(G41,PartsAtoD!$B$3:$O$3,0),FALSE)","v":0},null,{"$f":"VLOOKUP(F41,Transfer!$U$19:$V$170,2,FALSE)","v":"B1"},null,0.12052307015788011,0,41,"AO",null,23,"E2",null,7,7,11,{"$f":"ValidationData!AG17","v":11},null,0]
["202627-0-I-B1","4_10",{"$f":"FrontPage!$N$2","v":{"v":1,"d":"1.0"}},"202627","CT1",{"$f":"VLOOKUP(J42,Transfer!$X$35:$Y$155,2,FALSE)","v":4},{"$f":"VLOOKUP(K42,Transfer!$X$19:$Y$30,2,FALSE)","v":10},0,0,4,"I",{"$f":"VLOOKUP(F42,AtoD,MATCH(G42,PartsAtoD!$B$3:$O$3,0),FALSE)","v":0},null,{"$f":"VLOOKUP(F42,Transfer!$U$19:$V$170,2,FALSE)","v":"B1"},null,0.8118964135569375,0,42,"AP",null,24,"E3",null,8,7.1,10,{"$f":"ValidationData!AG18","v":10},null,0]
["202627-0-TOTAL-B1","4_11",{"$f":"FrontPage!$N$2","v":{"v":1,"d":"1.0"}},"202627","CT1",{"$f":"VLOOKUP(J43,Transfer!$X$35:$Y$155,2,FALSE)","v":4},{"$f":"VLOOKUP(K43,Transfer!$X$19:$Y$30,2,FALSE)","v":11},0,0,4,"TOTAL",{"$f":"VLOOKUP(F43,AtoD,MATCH(G43,PartsAtoD!$B$3:$O$3,0),FALSE)","v":0},null,{"$f":"VLOOKUP(F43,Transfer!$U$19:$V$170,2,FALSE)","v":"B1"},null,0.803777041709311,0,43,"AQ",null,25,"E4",null,9,7.2,10,{"$f":"ValidationData!AG19","v":10},null,0]
["202627-0-A--B2a","4.1_1",{"$f":"FrontPage!$N$2","v":{"v":1,"d":"1.0"}},"202627","CT1",{"$f":"VLOOKUP(J44,Transfer!$X$35:$Y$155,2,FALSE)","v":4.1},{"$f":"VLOOKUP(K44,Transfer!$X$19:$Y$30,2,FALSE)","v":1},0,0,5,"A-",{"$f":"VLOOKUP(F44,AtoD,MATCH(G44,PartsAtoD!$B$3:$O$3,0),FALSE)","v":0},null,{"$f":"VLOOKUP(F44,Transfer!$U$19:$V$170,2,FALSE)","v":"B2a"},null,0.3722970915924043,0,44,"AR",null,26,"E5",null,10,8,11,{"$f":"ValidationData!AG20","v":11},null,0]
["202627-0-A-B2a","4.1_2",{"$f":"FrontPage!$N$2","v":{"v":1,"d":"1.0"}},"202627","CT1",{"$f":"VLOOKUP(J45,Transfer!$X$35:$Y$155,2,FALSE)","v":4.1},{"$f":"VLOOKUP(K45,Transfer!$X$19:$Y$30,2,FALSE)","v":2},0,0,5,"A",{"$f":"VLOOKUP(F45,AtoD,MATCH(G45,PartsAtoD!$B$3:$O$3,0),FALSE)","v":0},null,{"$f":"VLOOKUP(F45,Transfer!$U$19:$V$170,2,FALSE)","v":"B2a"},null,0.6700688908839224,0,45,"AS",null,27,"E6",null,11,9,11,{"$f":"ValidationData!AG21","v":11},null,0]
["202627-0-B-B2a","4.1_3",{"$f":"FrontPage!$N$2","v":{"v":1,"d":"1.0"}},"202627","CT1",{"$f":"VLOOKUP(J46,Transfer!$X$35:$Y$155,2,FALSE)","v":4.1},{"$f":"VLOOKUP(K46,Transfer!$X$19:$Y$30,2,FALSE)","v":3},0,0,5,"B",{"$f":"VLOOKUP(F46,AtoD,MATCH(G46,PartsAtoD!$B$3:$O$3,0),FALSE)","v":0},null,{"$f":"VLOOKUP(F46,Transfer!$U$19:$V$170,2,FALSE)","v":"B2a"},null,0.2565872385989775,0,46,"AT",null,28,"FA",null,12,9.1,10,{"$f":"ValidationData!AG22","v":10},null,0]
["202627-0-C-B2a","4.1_4",{"$f":"FrontPage!$N$2","v":{"v":1,"d":"1.0"}},"202627","CT1",{"$f":"VLOOKUP(J47,Transfer!$X$35:$Y$155,2,FALSE)","v":4.1},{"$f":"VLOOKUP(K47,Transfer!$X$19:$Y$30,2,FALSE)","v":4},0,0,5,"C",{"$f":"VLOOKUP(F47,AtoD,MATCH(G47,PartsAtoD!$B$3:$O$3,0),FALSE)","v":0},null,{"$f":"VLOOKUP(F47,Transfer!$U$19:$V$170,2,FALSE)","v":"B2a"},null,0.7829316746729773,0,47,"AU",null,29,"FB",null,13,9.2,10,{"$f":"ValidationData!AG23","v":10},null,0]
["202627-0-D-B2a","4.1_5",{"$f":"FrontPage!$N$2","v":{"v":1,"d":"1.0"}},"202627","CT1",{"$f":"VLOOKUP(J48,Transfer!$X$35:$Y$155,2,FALSE)","v":4.1},{"$f":"VLOOKUP(K48,Transfer!$X$19:$Y$30,2,FALSE)","v":5},0,0,5,"D",{"$f":"VLOOKUP(F48,AtoD,MATCH(G48,PartsAtoD!$B$3:$O$3,0),FALSE)","v":0},null,{"$f":"VLOOKUP(F48,Transfer!$U$19:$V$170,2,FALSE)","v":"B2a"},null,0.07781425409501364,0,48,"AV",null,30,"FC",null,14,11,10,{"$f":"ValidationData!AG24","v":10},null,0]
["202627-0-E-B2a","4.1_6",{"$f":"FrontPage!$N$2","v":{"v":1,"d":"1.0"}},"202627","CT1",{"$f":"VLOOKUP(J49,Transfer!$X$35:$Y$155,2,FALSE)","v":4.1},{"$f":"VLOOKUP(K49,Transfer!$X$19:$Y$30,2,FALSE)","v":6},0,0,5,"E",{"$f":"VLOOKUP(F49,AtoD,MATCH(G49,PartsAtoD!$B$3:$O$3,0),FALSE)","v":0},null,{"$f":"VLOOKUP(F49,Transfer!$U$19:$V$170,2,FALSE)","v":"B2a"},null,0.9383413028921528,0,49,"AW",null,31,"FD",null,15,13,11,{"$f":"ValidationData!AG25","v":11},null,0]
["202627-0-F-B2a","4.1_7",{"$f":"FrontPage!$N$2","v":{"v":1,"d":"1.0"}},"202627","CT1",{"$f":"VLOOKUP(J50,Transfer!$X$35:$Y$155,2,FALSE)","v":4.1},{"$f":"VLOOKUP(K50,Transfer!$X$19:$Y$30,2,FALSE)","v":7},0,0,5,"F",{"$f":"VLOOKUP(F50,AtoD,MATCH(G50,PartsAtoD!$B$3:$O$3,0),FALSE)","v":0},null,{"$f":"VLOOKUP(F50,Transfer!$U$19:$V$170,2,FALSE)","v":"B2a"},null,0.7198467012015467,0,50,"AX",null,32,"FE",null,16,13.3,10,{"$f":"ValidationData!AG26","v":10},null,0]
["202627-0-G-B2a","4.1_8",{"$f":"FrontPage!$N$2","v":{"v":1,"d":"1.0"}},"202627","CT1",{"$f":"VLOOKUP(J51,Transfer!$X$35:$Y$155,2,FALSE)","v":4.1},{"$f":"VLOOKUP(K51,Transfer!$X$19:$Y$30,2,FALSE)","v":8},0,0,5,"G",{"$f":"VLOOKUP(F51,AtoD,MATCH(G51,PartsAtoD!$B$3:$O$3,0),FALSE)","v":0},null,{"$f":"VLOOKUP(F51,Transfer!$U$19:$V$170,2,FALSE)","v":"B2a"},null,0.2542365528517976,0,51,"AY",null,33,"FF",null,17,13.4,11,{"$f":"ValidationData!AG27","v":11},null,0]
["202627-0-H-B2a","4.1_9",{"$f":"FrontPage!$N$2","v":{"v":1,"d":"1.0"}},"202627","CT1",{"$f":"VLOOKUP(J52,Transfer!$X$35:$Y$155,2,FALSE)","v":4.1},{"$f":"VLOOKUP(K52,Transfer!$X$19:$Y$30,2,FALSE)","v":9},0,0,5,"H",{"$f":"VLOOKUP(F52,AtoD,MATCH(G52,PartsAtoD!$B$3:$O$3,0),FALSE)","v":0},null,{"$f":"VLOOKUP(F52,Transfer!$U$19:$V$170,2,FALSE)","v":"B2a"},null,0.27752913887380637,0,52,"AZ",null,34,"FG",null,18,14,10,{"$f":"ValidationData!AG28","v":10},null,0]
["202627-0-I-B2a","4.1_10",{"$f":"FrontPage!$N$2","v":{"v":1,"d":"1.0"}},"202627","CT1",{"$f":"VLOOKUP(J53,Transfer!$X$35:$Y$155,2,FALSE)","v":4.1},{"$f":"VLOOKUP(K53,Transfer!$X$19:$Y$30,2,FALSE)","v":10},0,0,5,"I",{"$f":"VLOOKUP(F53,AtoD,MATCH(G53,PartsAtoD!$B$3:$O$3,0),FALSE)","v":0},null,{"$f":"VLOOKUP(F53,Transfer!$U$19:$V$170,2,FALSE)","v":"B2a"},null,0.2924138127887371,0,53,"BA",null,35,"FH",null,19,15,10,{"$f":"ValidationData!AG29","v":10},null,0]
["202627-0-TOTAL-B2a","4.1_11",{"$f":"FrontPage!$N$2","v":{"v":1,"d":"1.0"}},"202627","CT1",{"$f":"VLOOKUP(J54,Transfer!$X$35:$Y$155,2,FALSE)","v":4.1},{"$f":"VLOOKUP(K54,Transfer!$X$19:$Y$30,2,FALSE)","v":11},0,0,5,"TOTAL",{"$f":"VLOOKUP(F54,AtoD,MATCH(G54,PartsAtoD!$B$3:$O$3,0),FALSE)","v":0},null,{"$f":"VLOOKUP(F54,Transfer!$U$19:$V$170,2,FALSE)","v":"B2a"},null,0.14526699820753852,0,54,"BB",null,36,"FI",null,20,22,1,1,null,0]
["202627-0-A--B2b","4.2_1",{"$f":"FrontPage!$N$2","v":{"v":1,"d":"1.0"}},"202627","CT1",{"$f":"VLOOKUP(J55,Transfer!$X$35:$Y$155,2,FALSE)","v":4.2},{"$f":"VLOOKUP(K55,Transfer!$X$19:$Y$30,2,FALSE)","v":1},0,0,6,"A-",{"$f":"VLOOKUP(F55,AtoD,MATCH(G55,PartsAtoD!$B$3:$O$3,0),FALSE)","v":0},null,{"$f":"VLOOKUP(F55,Transfer!$U$19:$V$170,2,FALSE)","v":"B2b"},null,0.8846124911383458,0,55,"BC",null,37,"FJ",null,21,23,1,1,null,0]
["202627-0-A-B2b","4.2_2",{"$f":"FrontPage!$N$2","v":{"v":1,"d":"1.0"}},"202627","CT1",{"$f":"VLOOKUP(J56,Transfer!$X$35:$Y$155,2,FALSE)","v":4.2},{"$f":"VLOOKUP(K56,Transfer!$X$19:$Y$30,2,FALSE)","v":2},0,0,6,"A",{"$f":"VLOOKUP(F56,AtoD,MATCH(G56,PartsAtoD!$B$3:$O$3,0),FALSE)","v":0},null,{"$f":"VLOOKUP(F56,Transfer!$U$19:$V$170,2,FALSE)","v":"B2b"},null,0.5760956367269551,0,56,"BD",null,38,"FK",null,22,24,1,1,null,0]
["202627-0-B-B2b","4.2_3",{"$f":"FrontPage!$N$2","v":{"v":1,"d":"1.0"}},"202627","CT1",{"$f":"VLOOKUP(J57,Transfer!$X$35:$Y$155,2,FALSE)","v":4.2},{"$f":"VLOOKUP(K57,Transfer!$X$19:$Y$30,2,FALSE)","v":3},0,0,6,"B",{"$f":"VLOOKUP(F57,AtoD,MATCH(G57,PartsAtoD!$B$3:$O$3,0),FALSE)","v":0},null,{"$f":"VLOOKUP(F57,Transfer!$U$19:$V$170,2,FALSE)","v":"B2b"},null,0.030491620230649552,0,57,"BE",null,39,"FL",null,23,25,1,1,null,0]
["202627-0-C-B2b","4.2_4",{"$f":"FrontPage!$N$2","v":{"v":1,"d":"1.0"}},"202627","CT1",{"$f":"VLOOKUP(J58,Transfer!$X$35:$Y$155,2,FALSE)","v":4.2},{"$f":"VLOOKUP(K58,Transfer!$X$19:$Y$30,2,FALSE)","v":4},0,0,6,"C",{"$f":"VLOOKUP(F58,AtoD,MATCH(G58,PartsAtoD!$B$3:$O$3,0),FALSE)","v":0},null,{"$f":"VLOOKUP(F58,Transfer!$U$19:$V$170,2,FALSE)","v":"B2b"},null,0.9475837321845016,0,58,"BF",null,40,"FM",null,24,26,1,1,null,0]
["202627-0-D-B2b","4.2_5",{"$f":"FrontPage!$N$2","v":{"v":1,"d":"1.0"}},"202627","CT1",{"$f":"VLOOKUP(J59,Transfer!$X$35:$Y$155,2,FALSE)","v":4.2},{"$f":"VLOOKUP(K59,Transfer!$X$19:$Y$30,2,FALSE)","v":5},0,0,6,"D",{"$f":"VLOOKUP(F59,AtoD,MATCH(G59,PartsAtoD!$B$3:$O$3,0),FALSE)","v":0},null,{"$f":"VLOOKUP(F59,Transfer!$U$19:$V$170,2,FALSE)","v":"B2b"},null,0.8541313033180095,0,59,"BG",null,41,"FN",null,25,26.2,1,1,null,0]
["202627-0-E-B2b","4.2_6",{"$f":"FrontPage!$N$2","v":{"v":1,"d":"1.0"}},"202627","CT1",{"$f":"VLOOKUP(J60,Transfer!$X$35:$Y$155,2,FALSE)","v":4.2},{"$f":"VLOOKUP(K60,Transfer!$X$19:$Y$30,2,FALSE)","v":6},0,0,6,"E",{"$f":"VLOOKUP(F60,AtoD,MATCH(G60,PartsAtoD!$B$3:$O$3,0),FALSE)","v":0},null,{"$f":"VLOOKUP(F60,Transfer!$U$19:$V$170,2,FALSE)","v":"B2b"},null,0.6617365720039444,0,60,"BH",null,42,"FO",null,26,27,1,1,null,0]
["202627-0-F-B2b","4.2_7",{"$f":"FrontPage!$N$2","v":{"v":1,"d":"1.0"}},"202627","CT1",{"$f":"VLOOKUP(J61,Transfer!$X$35:$Y$155,2,FALSE)","v":4.2},{"$f":"VLOOKUP(K61,Transfer!$X$19:$Y$30,2,FALSE)","v":7},0,0,6,"F",{"$f":"VLOOKUP(F61,AtoD,MATCH(G61,PartsAtoD!$B$3:$O$3,0),FALSE)","v":0},null,{"$f":"VLOOKUP(F61,Transfer!$U$19:$V$170,2,FALSE)","v":"B2b"},null,0.32331277113429424,0,61,"BI",null,43,"FP",null,27,28,1,1,null,0]
["202627-0-G-B2b","4.2_8",{"$f":"FrontPage!$N$2","v":{"v":1,"d":"1.0"}},"202627","CT1",{"$f":"VLOOKUP(J62,Transfer!$X$35:$Y$155,2,FALSE)","v":4.2},{"$f":"VLOOKUP(K62,Transfer!$X$19:$Y$30,2,FALSE)","v":8},0,0,6,"G",{"$f":"VLOOKUP(F62,AtoD,MATCH(G62,PartsAtoD!$B$3:$O$3,0),FALSE)","v":0},null,{"$f":"VLOOKUP(F62,Transfer!$U$19:$V$170,2,FALSE)","v":"B2b"},null,0.7068406143567024,0,62,"BJ",null,44,"FQ",null,28,29,1,1,null,0]
["202627-0-H-B2b","4.2_9",{"$f":"FrontPage!$N$2","v":{"v":1,"d":"1.0"}},"202627","CT1",{"$f":"VLOOKUP(J63,Transfer!$X$35:$Y$155,2,FALSE)","v":4.2},{"$f":"VLOOKUP(K63,Transfer!$X$19:$Y$30,2,FALSE)","v":9},0,0,6,"H",{"$f":"VLOOKUP(F63,AtoD,MATCH(G63,PartsAtoD!$B$3:$O$3,0),FALSE)","v":0},null,{"$f":"VLOOKUP(F63,Transfer!$U$19:$V$170,2,FALSE)","v":"B2b"},null,0.43532814917971596,0,63,"BK",null,45,"FR",null,29,30,1,1,null,0]
["202627-0-I-B2b","4.2_10",{"$f":"FrontPage!$N$2","v":{"v":1,"d":"1.0"}},"202627","CT1",{"$f":"VLOOKUP(J64,Transfer!$X$35:$Y$155,2,FALSE)","v":4.2},{"$f":"VLOOKUP(K64,Transfer!$X$19:$Y$30,2,FALSE)","v":10},0,0,6,"I",{"$f":"VLOOKUP(F64,AtoD,MATCH(G64,PartsAtoD!$B$3:$O$3,0),FALSE)","v":0},null,{"$f":"VLOOKUP(F64,Transfer!$U$19:$V$170,2,FALSE)","v":"B2b"},null,0.12284956386097479,0,64,"BL",null,46,"FS",null,30,31,1,1,null,0]
["202627-0-TOTAL-B2b","4.2_11",{"$f":"FrontPage!$N$2","v":{"v":1,"d":"1.0"}},"202627","CT1",{"$f":"VLOOKUP(J65,Transfer!$X$35:$Y$155,2,FALSE)","v":4.2},{"$f":"VLOOKUP(K65,Transfer!$X$19:$Y$30,2,FALSE)","v":11},0,0,6,"TOTAL",{"$f":"VLOOKUP(F65,AtoD,MATCH(G65,PartsAtoD!$B$3:$O$3,0),FALSE)","v":0},null,{"$f":"VLOOKUP(F65,Transfer!$U$19:$V$170,2,FALSE)","v":"B2b"},null,0.23976708376492795,0,65,"BM",null,47,"FT",null,31,32,1,1,null,0]
["202627-0-A--B3a","7_1",{"$f":"FrontPage!$N$2","v":{"v":1,"d":"1.0"}},{"$f":"$W$2","v":"202627"},"CT1",{"$f":"VLOOKUP(J66,Transfer!$X$35:$Y$155,2,FALSE)","v":7},{"$f":"VLOOKUP(K66,Transfer!$X$19:$Y$30,2,FALSE)","v":1},{"$f":"uanumber","v":0},0,7,"A-",{"$f":"VLOOKUP(F66,AtoD,MATCH(G66,PartsAtoD!$B$3:$O$3,0),FALSE)","v":0},null,{"$f":"VLOOKUP(F66,Transfer!$U$19:$V$170,2,FALSE)","v":"B3a"},null,0.04371131328903277,{"$f":"+I66*P66","v":0},66,"BN",null,49,"FU",null,32,33,1,1,null,0]
[{"$f":"D67&\"-\"&H67&\"-\"&K67&\"-\"&N67","v":"202627-0-A-B3a"},{"$f":"F67&\"_\"&G67","v":"7_2"},{"$f":"FrontPage!$N$2","v":{"v":1,"d":"1.0"}},"202627","CT1",{"$f":"VLOOKUP(J67,Transfer!$X$35:$Y$155,2,FALSE)","v":7},{"$f":"VLOOKUP(K67,Transfer!$X$19:$Y$30,2,FALSE)","v":2},0,0,7,"A",{"$f":"VLOOKUP(F67,AtoD,MATCH(G67,PartsAtoD!$B$3:$O$3,0),FALSE)","v":0},null,{"$f":"VLOOKUP(F67,Transfer!$U$19:$V$170,2,FALSE)","v":"B3a"},null,0.0879532863472402,0,67,"BO",null,50,"FV",null,33,34,{"$f":"COUNTIF(F:F,Y67)","v":1},1,null,0]
["202627-0-B-B3a","7_3",{"$f":"FrontPage!$N$2","v":{"v":1,"d":"1.0"}},"202627",{"$f":"$E$2","v":"CT1"},{"$f":"VLOOKUP(J68,Transfer!$X$35:$Y$155,2,FALSE)","v":7},{"$f":"VLOOKUP(K68,Transfer!$X$19:$Y$30,2,FALSE)","v":3},0,0,7,"B",{"$f":"VLOOKUP(F68,AtoD,MATCH(G68,PartsAtoD!$B$3:$O$3,0),FALSE)","v":0},null,{"$f":"VLOOKUP(F68,Transfer!$U$19:$V$170,2,FALSE)","v":"B3a"},null,0.06998661655277416,0,68,"BP",null,51,"FW",null,34,35,1,1,null,0]
["202627-0-C-B3a","7_4",{"$f":"FrontPage!$N$2","v":{"v":1,"d":"1.0"}},"202627","CT1",{"$f":"VLOOKUP(J69,Transfer!$X$35:$Y$155,2,FALSE)","v":7},{"$f":"VLOOKUP(K69,Transfer!$X$19:$Y$30,2,FALSE)","v":4},0,0,7,"C",{"$f":"VLOOKUP(F69,AtoD,MATCH(G69,PartsAtoD!$B$3:$O$3,0),FALSE)","v":0},null,{"$f":"VLOOKUP(F69,Transfer!$U$19:$V$170,2,FALSE)","v":"B3a"},null,0.4977287842353745,0,69,"BQ",null,51.5,"F",null,35,36,1,1,null,0]
["202627-0-D-B3a","7_5",{"$f":"FrontPage!$N$2","v":{"v":1,"d":"1.0"}},"202627","CT1",{"$f":"VLOOKUP(J70,Transfer!$X$35:$Y$155,2,FALSE)","v":7},{"$f":"VLOOKUP(K70,Transfer!$X$19:$Y$30,2,FALSE)","v":5},0,0,7,"D",{"$f":"VLOOKUP(F70,AtoD,MATCH(G70,PartsAtoD!$B$3:$O$3,0),FALSE)","v":0},null,{"$f":"VLOOKUP(F70,Transfer!$U$19:$V$170,2,FALSE)","v":"B3a"},null,0.4344601698833107,0,70,"BR",null,52,"G1",null,36,37,1,1,null,0]
["202627-0-E-B3a","7_6",{"$f":"FrontPage!$N$2","v":{"v":1,"d":"1.0"}},"202627","CT1",{"$f":"VLOOKUP(J71,Transfer!$X$35:$Y$155,2,FALSE)","v":7},{"$f":"VLOOKUP(K71,Transfer!$X$19:$Y$30,2,FALSE)","v":6},0,0,7,"E",{"$f":"VLOOKUP(F71,AtoD,MATCH(G71,PartsAtoD!$B$3:$O$3,0),FALSE)","v":0},null,{"$f":"VLOOKUP(F71,Transfer!$U$19:$V$170,2,FALSE)","v":"B3a"},null,0.07217605687488382,0,71,"BS",null,53,"G2",null,37,38,1,1,null,0]
["202627-0-F-B3a","7_7",{"$f":"FrontPage!$N$2","v":{"v":1,"d":"1.0"}},"202627","CT1",{"$f":"VLOOKUP(J72,Transfer!$X$35:$Y$155,2,FALSE)","v":7},{"$f":"VLOOKUP(K72,Transfer!$X$19:$Y$30,2,FALSE)","v":7},0,0,7,"F",{"$f":"VLOOKUP(F72,AtoD,MATCH(G72,PartsAtoD!$B$3:$O$3,0),FALSE)","v":0},null,{"$f":"VLOOKUP(F72,Transfer!$U$19:$V$170,2,FALSE)","v":"B3a"},null,0.2065444246071234,0,72,"BT",null,54,"G3",null,38,39,1,1,null,0]
["202627-0-G-B3a","7_8",{"$f":"FrontPage!$N$2","v":{"v":1,"d":"1.0"}},"202627","CT1",{"$f":"VLOOKUP(J73,Transfer!$X$35:$Y$155,2,FALSE)","v":7},{"$f":"VLOOKUP(K73,Transfer!$X$19:$Y$30,2,FALSE)","v":8},0,0,7,"G",{"$f":"VLOOKUP(F73,AtoD,MATCH(G73,PartsAtoD!$B$3:$O$3,0),FALSE)","v":0},null,{"$f":"VLOOKUP(F73,Transfer!$U$19:$V$170,2,FALSE)","v":"B3a"},null,0.3145103943749763,0,73,"BU",null,55,"G4",null,39,40,1,1,null,0]
["202627-0-H-B3a","7_9",{"$f":"FrontPage!$N$2","v":{"v":1,"d":"1.0"}},"202627","CT1",{"$f":"VLOOKUP(J74,Transfer!$X$35:$Y$155,2,FALSE)","v":7},{"$f":"VLOOKUP(K74,Transfer!$X$19:$Y$30,2,FALSE)","v":9},0,{"$f":"L74","v":0},7,"H",{"$f":"VLOOKUP(F74,AtoD,MATCH(G74,PartsAtoD!$B$3:$O$3,0),FALSE)","v":0},null,{"$f":"VLOOKUP(F74,Transfer!$U$19:$V$170,2,FALSE)","v":"B3a"},null,0.16145180430344475,0,74,"BV",null,56,"G5",null,40,41,1,1,null,0]
["202627-0-I-B3a","7_10",{"$f":"FrontPage!$N$2","v":{"v":1,"d":"1.0"}},"202627","CT1",{"$f":"VLOOKUP(J75,Transfer!$X$35:$Y$155,2,FALSE)","v":7},{"$f":"VLOOKUP(K75,Transfer!$X$19:$Y$30,2,FALSE)","v":10},0,0,7,"I",{"$f":"VLOOKUP(F75,AtoD,MATCH(G75,PartsAtoD!$B$3:$O$3,0),FALSE)","v":0},null,{"$f":"VLOOKUP(F75,Transfer!$U$19:$V$170,2,FALSE)","v":"B3a"},null,0.21297964528792657,0,75,"BW",null,57,"G6",null,41,42,1,1,null,0]
["202627-0-TOTAL-B3a","7_11",{"$f":"FrontPage!$N$2","v":{"v":1,"d":"1.0"}},"202627","CT1",{"$f":"VLOOKUP(J76,Transfer!$X$35:$Y$155,2,FALSE)","v":7},{"$f":"VLOOKUP(K76,Transfer!$X$19:$Y$30,2,FALSE)","v":11},0,0,7,"TOTAL",{"$f":"VLOOKUP(F76,AtoD,MATCH(G76,PartsAtoD!$B$3:$O$3,0),FALSE)","v":0},null,{"$f":"VLOOKUP(F76,Transfer!$U$19:$V$170,2,FALSE)","v":"B3a"},null,0.8200532355614113,0,76,"BX",null,58,"G7",null,42,43,1,1,null,0]
["202627-0-A-B3b","7.1_2",{"$f":"FrontPage!$N$2","v":{"v":1,"d":"1.0"}},"202627","CT1",{"$f":"VLOOKUP(J77,Transfer!$X$35:$Y$155,2,FALSE)","v":7.1},{"$f":"VLOOKUP(K77,Transfer!$X$19:$Y$30,2,FALSE)","v":2},0,0,8,"A",{"$f":"VLOOKUP(F77,AtoD,MATCH(G77,PartsAtoD!$B$3:$O$3,0),FALSE)","v":0},null,{"$f":"VLOOKUP(F77,Transfer!$U$19:$V$170,2,FALSE)","v":"B3b"},null,0.14730237161424065,0,77,"BY",null,59,"G8",null,43,44,1,1,null,0]
["202627-0-B-B3b","7.1_3",{"$f":"FrontPage!$N$2","v":{"v":1,"d":"1.0"}},"202627","CT1",{"$f":"VLOOKUP(J78,Transfer!$X$35:$Y$155,2,FALSE)","v":7.1},{"$f":"VLOOKUP(K78,Transfer!$X$19:$Y$30,2,FALSE)","v":3},0,0,8,"B",{"$f":"VLOOKUP(F78,AtoD,MATCH(G78,PartsAtoD!$B$3:$O$3,0),FALSE)","v":0},null,{"$f":"VLOOKUP(F78,Transfer!$U$19:$V$170,2,FALSE)","v":"B3b"},null,0.006475079609132184,0,78,"BZ",null,60,"G9",null,44,45,1,1,null,0]
["202627-0-C-B3b","7.1_4",{"$f":"FrontPage!$N$2","v":{"v":1,"d":"1.0"}},"202627","CT1",{"$f":"VLOOKUP(J79,Transfer!$X$35:$Y$155,2,FALSE)","v":7.1},{"$f":"VLOOKUP(K79,Transfer!$X$19:$Y$30,2,FALSE)","v":4},0,0,8,"C",{"$f":"VLOOKUP(F79,AtoD,MATCH(G79,PartsAtoD!$B$3:$O$3,0),FALSE)","v":0},null,{"$f":"VLOOKUP(F79,Transfer!$U$19:$V$170,2,FALSE)","v":"B3b"},null,0.10691851976223377,0,79,"CA",null,61,"G10",null,45,46,1,1,null,0]
["202627-0-D-B3b","7.1_5",{"$f":"FrontPage!$N$2","v":{"v":1,"d":"1.0"}},"202627","CT1",{"$f":"VLOOKUP(J80,Transfer!$X$35:$Y$155,2,FALSE)","v":7.1},{"$f":"VLOOKUP(K80,Transfer!$X$19:$Y$30,2,FALSE)","v":5},0,0,8,"D",{"$f":"VLOOKUP(F80,AtoD,MATCH(G80,PartsAtoD!$B$3:$O$3,0),FALSE)","v":0},null,{"$f":"VLOOKUP(F80,Transfer!$U$19:$V$170,2,FALSE)","v":"B3b"},null,0.37386441298704387,0,80,"CB",null,62,"G11",null,46,47,1,1,null,0]
["202627-0-E-B3b","7.1_6",{"$f":"FrontPage!$N$2","v":{"v":1,"d":"1.0"}},"202627","CT1",{"$f":"VLOOKUP(J81,Transfer!$X$35:$Y$155,2,FALSE)","v":7.1},{"$f":"VLOOKUP(K81,Transfer!$X$19:$Y$30,2,FALSE)","v":6},0,0,8,"E",{"$f":"VLOOKUP(F81,AtoD,MATCH(G81,PartsAtoD!$B$3:$O$3,0),FALSE)","v":0},null,{"$f":"VLOOKUP(F81,Transfer!$U$19:$V$170,2,FALSE)","v":"B3b"},null,0.9163470721951636,0,81,"CC",null,63,"G12",null,47,49,1,1,null,0]
["202627-0-F-B3b","7.1_7",{"$f":"FrontPage!$N$2","v":{"v":1,"d":"1.0"}},"202627","CT1",{"$f":"VLOOKUP(J82,Transfer!$X$35:$Y$155,2,FALSE)","v":7.1},{"$f":"VLOOKUP(K82,Transfer!$X$19:$Y$30,2,FALSE)","v":7},0,0,8,"F",{"$f":"VLOOKUP(F82,AtoD,MATCH(G82,PartsAtoD!$B$3:$O$3,0),FALSE)","v":0},null,{"$f":"VLOOKUP(F82,Transfer!$U$19:$V$170,2,FALSE)","v":"B3b"},null,0.04825237527117909,0,82,"CD",null,64,"H1 ",null,48,50,1,1,null,0]
["202627-0-G-B3b","7.1_8",{"$f":"FrontPage!$N$2","v":{"v":1,"d":"1.0"}},"202627","CT1",{"$f":"VLOOKUP(J83,Transfer!$X$35:$Y$155,2,FALSE)","v":7.1},{"$f":"VLOOKUP(K83,Transfer!$X$19:$Y$30,2,FALSE)","v":8},0,0,8,"G",{"$f":"VLOOKUP(F83,AtoD,MATCH(G83,PartsAtoD!$B$3:$O$3,0),FALSE)","v":0},null,{"$f":"VLOOKUP(F83,Transfer!$U$19:$V$170,2,FALSE)","v":"B3b"},null,0.10229856106043633,0,83,"CE",null,65,"H2 ",null,49,51,1,1,null,0]
["202627-0-H-B3b","7.1_9",{"$f":"FrontPage!$N$2","v":{"v":1,"d":"1.0"}},"202627","CT1",{"$f":"VLOOKUP(J84,Transfer!$X$35:$Y$155,2,FALSE)","v":7.1},{"$f":"VLOOKUP(K84,Transfer!$X$19:$Y$30,2,FALSE)","v":9},0,0,8,"H",{"$f":"VLOOKUP(F84,AtoD,MATCH(G84,PartsAtoD!$B$3:$O$3,0),FALSE)","v":0},null,{"$f":"VLOOKUP(F84,Transfer!$U$19:$V$170,2,FALSE)","v":"B3b"},null,0.27377789299574773,0,84,"CF",null,66,"H3a",null,49.5,51.1,1,1,null,{"$f":"Z85-AA85","v":0}]
["202627-0-I-B3b","7.1_10",{"$f":"FrontPage!$N$2","v":{"v":1,"d":"1.0"}},"202627","CT1",{"$f":"VLOOKUP(J85,Transfer!$X$35:$Y$155,2,FALSE)","v":7.1},{"$f":"VLOOKUP(K85,Transfer!$X$19:$Y$30,2,FALSE)","v":10},0,0,8,"I",{"$f":"VLOOKUP(F85,AtoD,MATCH(G85,PartsAtoD!$B$3:$O$3,0),FALSE)","v":0},null,{"$f":"VLOOKUP(F85,Transfer!$U$19:$V$170,2,FALSE)","v":"B3b"},null,0.3445397413392388,0,85,"CG",null,67,"H3b",null,50,51.5,1,1,null,0]
["202627-0-TOTAL-B3b","7.1_11",{"$f":"FrontPage!$N$2","v":{"v":1,"d":"1.0"}},"202627","CT1",{"$f":"VLOOKUP(J86,Transfer!$X$35:$Y$155,2,FALSE)","v":7.1},{"$f":"VLOOKUP(K86,Transfer!$X$19:$Y$30,2,FALSE)","v":11},0,0,8,"TOTAL",{"$f":"VLOOKUP(F86,AtoD,MATCH(G86,PartsAtoD!$B$3:$O$3,0),FALSE)","v":0},null,{"$f":"VLOOKUP(F86,Transfer!$U$19:$V$170,2,FALSE)","v":"B3b"},null,0.042207920865441007,0,86,"CH",null,68,"H3c",null,51,52,12,{"$f":"ValidationData!AX79","v":12},null,0]
["202627-0-A-B3c","7.2_2",{"$f":"FrontPage!$N$2","v":{"v":1,"d":"1.0"}},"202627","CT1",{"$f":"VLOOKUP(J87,Transfer!$X$35:$Y$155,2,FALSE)","v":7.2},{"$f":"VLOOKUP(K87,Transfer!$X$19:$Y$30,2,FALSE)","v":2},0,0,9,"A",{"$f":"VLOOKUP(F87,AtoD,MATCH(G87,PartsAtoD!$B$3:$O$3,0),FALSE)","v":0},null,{"$f":"VLOOKUP(F87,Transfer!$U$19:$V$170,2,FALSE)","v":"B3c"},null,0.2848282037043338,0,87,"CI",null,69,"H3d",null,52,53,11,{"$f":"ValidationData!AX80","v":11},null,0]
["202627-0-B-B3c","7.2_3",{"$f":"FrontPage!$N$2","v":{"v":1,"d":"1.0"}},"202627","CT1",{"$f":"VLOOKUP(J88,Transfer!$X$35:$Y$155,2,FALSE)","v":7.2},{"$f":"VLOOKUP(K88,Transfer!$X$19:$Y$30,2,FALSE)","v":3},0,0,9,"B",{"$f":"VLOOKUP(F88,AtoD,MATCH(G88,PartsAtoD!$B$3:$O$3,0),FALSE)","v":0},null,{"$f":"VLOOKUP(F88,Transfer!$U$19:$V$170,2,FALSE)","v":"B3c"},null,0.1530999393485497,0,88,"CJ",null,70,"H3e",null,53,54,12,{"$f":"ValidationData!AX81","v":12},null,0]
["202627-0-C-B3c","7.2_4",{"$f":"FrontPage!$N$2","v":{"v":1,"d":"1.0"}},"202627","CT1",{"$f":"VLOOKUP(J89,Transfer!$X$35:$Y$155,2,FALSE)","v":7.2},{"$f":"VLOOKUP(K89,Transfer!$X$19:$Y$30,2,FALSE)","v":4},0,0,9,"C",{"$f":"VLOOKUP(F89,AtoD,MATCH(G89,PartsAtoD!$B$3:$O$3,0),FALSE)","v":0},null,{"$f":"VLOOKUP(F89,Transfer!$U$19:$V$170,2,FALSE)","v":"B3c"},null,0.5337431422176354,0,89,"CK",null,71,"H3f",null,54,55,11,{"$f":"ValidationData!AX82","v":11},null,0]
["202627-0-D-B3c","7.2_5",{"$f":"FrontPage!$N$2","v":{"v":1,"d":"1.0"}},"202627","CT1",{"$f":"VLOOKUP(J90,Transfer!$X$35:$Y$155,2,FALSE)","v":7.2},{"$f":"VLOOKUP(K90,Transfer!$X$19:$Y$30,2,FALSE)","v":5},0,0,9,"D",{"$f":"VLOOKUP(F90,AtoD,MATCH(G90,PartsAtoD!$B$3:$O$3,0),FALSE)","v":0},null,{"$f":"VLOOKUP(F90,Transfer!$U$19:$V$170,2,FALSE)","v":"B3c"},null,0.4848085804824783,0,90,"CL",null,71.1,"H3fa",null,55,56,12,{"$f":"ValidationData!AX83","v":12},null,0]
["202627-0-E-B3c","7.2_6",{"$f":"FrontPage!$N$2","v":{"v":1,"d":"1.0"}},"202627","CT1",{"$f":"VLOOKUP(J91,Transfer!$X$35:$Y$155,2,FALSE)","v":7.2},{"$f":"VLOOKUP(K91,Transfer!$X$19:$Y$30,2,FALSE)","v":6},0,0,9,"E",{"$f":"VLOOKUP(F91,AtoD,MATCH(G91,PartsAtoD!$B$3:$O$3,0),FALSE)","v":0},null,{"$f":"VLOOKUP(F91,Transfer!$U$19:$V$170,2,FALSE)","v":"B3c"},null,0.035492965504391405,0,91,"CM",null,71.2,"H3fb",null,56,57,11,{"$f":"ValidationData!AX84","v":11},null,0]
["202627-0-F-B3c","7.2_7",{"$f":"FrontPage!$N$2","v":{"v":1,"d":"1.0"}},"202627","CT1",{"$f":"VLOOKUP(J92,Transfer!$X$35:$Y$155,2,FALSE)","v":7.2},{"$f":"VLOOKUP(K92,Transfer!$X$19:$Y$30,2,FALSE)","v":7},0,0,9,"F",{"$f":"VLOOKUP(F92,AtoD,MATCH(G92,PartsAtoD!$B$3:$O$3,0),FALSE)","v":0},null,{"$f":"VLOOKUP(F92,Transfer!$U$19:$V$170,2,FALSE)","v":"B3c"},null,0.5168856460513247,0,92,"CN",null,72,"H3g",null,57,58,12,{"$f":"ValidationData!AX85","v":12},null,0]
["202627-0-G-B3c","7.2_8",{"$f":"FrontPage!$N$2","v":{"v":1,"d":"1.0"}},"202627","CT1",{"$f":"VLOOKUP(J93,Transfer!$X$35:$Y$155,2,FALSE)","v":7.2},{"$f":"VLOOKUP(K93,Transfer!$X$19:$Y$30,2,FALSE)","v":8},0,0,9,"G",{"$f":"VLOOKUP(F93,AtoD,MATCH(G93,PartsAtoD!$B$3:$O$3,0),FALSE)","v":0},null,{"$f":"VLOOKUP(F93,Transfer!$U$19:$V$170,2,FALSE)","v":"B3c"},null,0.29441041108495314,0,93,"CO",null,73,"H4a",null,58,59,11,{"$f":"ValidationData!AX86","v":11},null,0]
["202627-0-H-B3c","7.2_9",{"$f":"FrontPage!$N$2","v":{"v":1,"d":"1.0"}},"202627","CT1",{"$f":"VLOOKUP(J94,Transfer!$X$35:$Y$155,2,FALSE)","v":7.2},{"$f":"VLOOKUP(K94,Transfer!$X$19:$Y$30,2,FALSE)","v":9},0,0,9,"H",{"$f":"VLOOKUP(F94,AtoD,MATCH(G94,PartsAtoD!$B$3:$O$3,0),FALSE)","v":0},null,{"$f":"VLOOKUP(F94,Transfer!$U$19:$V$170,2,FALSE)","v":"B3c"},null,0.09654750008398705,0,94,"CP",null,74,"H4b",null,59,60,12,{"$f":"ValidationData!AX87","v":12},null,0]
["202627-0-I-B3c","7.2_10",{"$f":"FrontPage!$N$2","v":{"v":1,"d":"1.0"}},"202627","CT1",{"$f":"VLOOKUP(J95,Transfer!$X$35:$Y$155,2,FALSE)","v":7.2},{"$f":"VLOOKUP(K95,Transfer!$X$19:$Y$30,2,FALSE)","v":10},0,0,9,"I",{"$f":"VLOOKUP(F95,AtoD,MATCH(G95,PartsAtoD!$B$3:$O$3,0),FALSE)","v":0},null,{"$f":"VLOOKUP(F95,Transfer!$U$19:$V$170,2,FALSE)","v":"B3c"},null,0.2983227783101112,0,95,"CQ",null,75,"H4c",null,60,61,11,{"$f":"ValidationData!AX88","v":11},null,0]
["202627-0-TOTAL-B3c","7.2_11",{"$f":"FrontPage!$N$2","v":{"v":1,"d":"1.0"}},"202627","CT1",{"$f":"VLOOKUP(J96,Transfer!$X$35:$Y$155,2,FALSE)","v":7.2},{"$f":"VLOOKUP(K96,Transfer!$X$19:$Y$30,2,FALSE)","v":11},0,0,9,"TOTAL",{"$f":"VLOOKUP(F96,AtoD,MATCH(G96,PartsAtoD!$B$3:$O$3,0),FALSE)","v":0},null,{"$f":"VLOOKUP(F96,Transfer!$U$19:$V$170,2,FALSE)","v":"B3c"},null,0.23457817771399914,0,96,"CR",null,76,"H4d",null,61,62,11,{"$f":"ValidationData!AX89","v":11},null,0]
["202627-0-A--B4","8_1",{"$f":"FrontPage!$N$2","v":{"v":1,"d":"1.0"}},"202627","CT1",{"$f":"VLOOKUP(J97,Transfer!$X$35:$Y$155,2,FALSE)","v":8},{"$f":"VLOOKUP(K97,Transfer!$X$19:$Y$30,2,FALSE)","v":1},0,0,10,"A-",{"$f":"VLOOKUP(F97,AtoD,MATCH(G97,PartsAtoD!$B$3:$O$3,0),FALSE)","v":0},null,{"$f":"VLOOKUP(F97,Transfer!$U$19:$V$170,2,FALSE)","v":"B4"},null,0.6464518923157199,0,97,"CS",null,77,"H4e",null,62,63,11,{"$f":"ValidationData!AX90","v":11},null,0]
["202627-0-A-B4","8_2",{"$f":"FrontPage!$N$2","v":{"v":1,"d":"1.0"}},"202627","CT1",{"$f":"VLOOKUP(J98,Transfer!$X$35:$Y$155,2,FALSE)","v":8},{"$f":"VLOOKUP(K98,Transfer!$X$19:$Y$30,2,FALSE)","v":2},0,0,10,"A",{"$f":"VLOOKUP(F98,AtoD,MATCH(G98,PartsAtoD!$B$3:$O$3,0),FALSE)","v":0},null,{"$f":"VLOOKUP(F98,Transfer!$U$19:$V$170,2,FALSE)","v":"B4"},null,0.6805877135986211,0,98,"CT",null,78,"H4f",null,63,64,10,{"$f":"ValidationData!AV10","v":10},null,0]
["202627-0-B-B4","8_3",{"$f":"FrontPage!$N$2","v":{"v":1,"d":"1.0"}},"202627","CT1",{"$f":"VLOOKUP(J99,Transfer!$X$35:$Y$155,2,FALSE)","v":8},{"$f":"VLOOKUP(K99,Transfer!$X$19:$Y$30,2,FALSE)","v":3},0,0,10,"B",{"$f":"VLOOKUP(F99,AtoD,MATCH(G99,PartsAtoD!$B$3:$O$3,0),FALSE)","v":0},null,{"$f":"VLOOKUP(F99,Transfer!$U$19:$V$170,2,FALSE)","v":"B4"},null,0.39004653829319635,0,99,"CU",null,78.1,"H4fa",null,64,65,{"$f":"COUNTIF(F:F,Y99)","v":10},{"$f":"ValidationData!AV11","v":10},null,{"$f":"#REF!-#REF!","v":{"$error":"#REF!"}}]
["202627-0-C-B4","8_4",{"$f":"FrontPage!$N$2","v":{"v":1,"d":"1.0"}},"202627","CT1",{"$f":"VLOOKUP(J100,Transfer!$X$35:$Y$155,2,FALSE)","v":8},{"$f":"VLOOKUP(K100,Transfer!$X$19:$Y$30,2,FALSE)","v":4},0,0,10,"C",{"$f":"VLOOKUP(F100,AtoD,MATCH(G100,PartsAtoD!$B$3:$O$3,0),FALSE)","v":0},null,{"$f":"VLOOKUP(F100,Transfer!$U$19:$V$170,2,FALSE)","v":"B4"},null,0.7248906042990776,0,0,"ZZ",null,78.2,"H4fb",null,66,67,11,{"$f":"ValidationData!AV12","v":11},null,{"$f":"Z100-AA100","v":0}]
["202627-0-D-B4","8_5",{"$f":"FrontPage!$N$2","v":{"v":1,"d":"1.0"}},"202627","CT1",{"$f":"VLOOKUP(J101,Transfer!$X$35:$Y$155,2,FALSE)","v":8},{"$f":"VLOOKUP(K101,Transfer!$X$19:$Y$30,2,FALSE)","v":5},0,0,10,"D",{"$f":"VLOOKUP(F101,AtoD,MATCH(G101,PartsAtoD!$B$3:$O$3,0),FALSE)","v":0},null,{"$f":"VLOOKUP(F101,Transfer!$U$19:$V$170,2,FALSE)","v":"B4"},null,0.33715465787566534,0,{"$nulls":3},79,"H4g",null,67,68,11,{"$f":"ValidationData!AV13","v":10},null,{"$f":"Z101-AA101","v":1}]
["202627-0-E-B4","8_6",{"$f":"FrontPage!$N$2","v":{"v":1,"d":"1.0"}},"202627","CT1",{"$f":"VLOOKUP(J102,Transfer!$X$35:$Y$155,2,FALSE)","v":8},{"$f":"VLOOKUP(K102,Transfer!$X$19:$Y$30,2,FALSE)","v":6},0,0,10,"E",{"$f":"VLOOKUP(F102,AtoD,MATCH(G102,PartsAtoD!$B$3:$O$3,0),FALSE)","v":0},null,{"$f":"VLOOKUP(F102,Transfer!$U$19:$V$170,2,FALSE)","v":"B4"},null,0.29106557553797274,0,{"$nulls":3},80,"H5a",null,69,70,11,{"$f":"ValidationData!AV14","v":10},null,{"$f":"#REF!-#REF!","v":{"$error":"#REF!"}}]
["202627-0-F-B4","8_7",{"$f":"FrontPage!$N$2","v":{"v":1,"d":"1.0"}},"202627","CT1",{"$f":"VLOOKUP(J103,Transfer!$X$35:$Y$155,2,FALSE)","v":8},{"$f":"VLOOKUP(K103,Transfer!$X$19:$Y$30,2,FALSE)","v":7},0,0,10,"F",{"$f":"VLOOKUP(F103,AtoD,MATCH(G103,PartsAtoD!$B$3:$O$3,0),FALSE)","v":0},null,{"$f":"VLOOKUP(F103,Transfer!$U$19:$V$170,2,FALSE)","v":"B4"},null,0.42084893197234896,0,{"$nulls":3},81,"H5b",null,70,71,11,{"$f":"ValidationData!AV15","v":0},null,{"$f":"Z102-AA102","v":1}]
["202627-0-G-B4","8_8",{"$f":"FrontPage!$N$2","v":{"v":1,"d":"1.0"}},"202627","CT1",{"$f":"VLOOKUP(J104,Transfer!$X$35:$Y$155,2,FALSE)","v":8},{"$f":"VLOOKUP(K104,Transfer!$X$19:$Y$30,2,FALSE)","v":8},0,0,10,"G",{"$f":"VLOOKUP(F104,AtoD,MATCH(G104,PartsAtoD!$B$3:$O$3,0),FALSE)","v":0},null,{"$f":"VLOOKUP(F104,Transfer!$U$19:$V$170,2,FALSE)","v":"B4"},null,0.17552573304353547,0,{"$nulls":3},82,"H5c",null,71,72,10,{"$f":"ValidationData!AV16","v":11},null,{"$f":"Z103-AA103","v":11}]
["202627-0-H-B4","8_9",{"$f":"FrontPage!$N$2","v":{"v":1,"d":"1.0"}},"202627","CT1",{"$f":"VLOOKUP(J105,Transfer!$X$35:$Y$155,2,FALSE)","v":8},{"$f":"VLOOKUP(K105,Transfer!$X$19:$Y$30,2,FALSE)","v":9},0,0,10,"H",{"$f":"VLOOKUP(F105,AtoD,MATCH(G105,PartsAtoD!$B$3:$O$3,0),FALSE)","v":0},null,{"$f":"VLOOKUP(F105,Transfer!$U$19:$V$170,2,FALSE)","v":"B4"},null,0.676302473330974,0,{"$nulls":3},83,"H5d",null,71.1,71.1,11,{"$f":"ValidationData!AV17","v":11},null,{"$f":"Z104-AA104","v":-1}]
["202627-0-I-B4","8_10",{"$f":"FrontPage!$N$2","v":{"v":1,"d":"1.0"}},"202627","CT1",{"$f":"VLOOKUP(J106,Transfer!$X$35:$Y$155,2,FALSE)","v":8},{"$f":"VLOOKUP(K106,Transfer!$X$19:$Y$30,2,FALSE)","v":10},0,0,10,"I",{"$f":"VLOOKUP(F106,AtoD,MATCH(G106,PartsAtoD!$B$3:$O$3,0),FALSE)","v":0},null,{"$f":"VLOOKUP(F106,Transfer!$U$19:$V$170,2,FALSE)","v":"B4"},null,0.9358142910748796,0,{"$nulls":3},84,"H5e",null,71.2,71.2,11,{"$f":"ValidationData!AV18","v":11},null,{"$f":"#REF!-#REF!","v":{"$error":"#REF!"}}]
["202627-0-TOTAL-B4","8_11",{"$f":"FrontPage!$N$2","v":{"v":1,"d":"1.0"}},"202627","CT1",{"$f":"VLOOKUP(J107,Transfer!$X$35:$Y$155,2,FALSE)","v":8},{"$f":"VLOOKUP(K107,Transfer!$X$19:$Y$30,2,FALSE)","v":11},0,0,10,"TOTAL",{"$f":"VLOOKUP(F107,AtoD,MATCH(G107,PartsAtoD!$B$3:$O$3,0),FALSE)","v":0},null,{"$f":"VLOOKUP(F107,Transfer!$U$19:$V$170,2,FALSE)","v":"B4"},null,0.7256268792022917,0,{"$nulls":3},85,"H5f",null,73,74,11,{"$f":"ValidationData!AV19","v":11},null,{"$f":"Z107-AA107","v":0}]
["202627-0-A--B5","9_1",{"$f":"FrontPage!$N$2","v":{"v":1,"d":"1.0"}},"202627","CT1",{"$f":"VLOOKUP(J108,Transfer!$X$35:$Y$155,2,FALSE)","v":9},{"$f":"VLOOKUP(K108,Transfer!$X$19:$Y$30,2,FALSE)","v":1},0,0,11,"A-",{"$f":"VLOOKUP(F108,AtoD,MATCH(G108,PartsAtoD!$B$3:$O$3,0),FALSE)","v":0},null,{"$f":"VLOOKUP(F108,Transfer!$U$19:$V$170,2,FALSE)","v":"B5"},null,0.7931905190615686,0,{"$nulls":3},85.1,"H5fa",null,74,75,11,{"$f":"ValidationData!AV20","v":11},null,{"$f":"Z108-AA108","v":0}]
["202627-0-A-B5","9_2",{"$f":"FrontPage!$N$2","v":{"v":1,"d":"1.0"}},"202627","CT1",{"$f":"VLOOKUP(J109,Transfer!$X$35:$Y$155,2,FALSE)","v":9},{"$f":"VLOOKUP(K109,Transfer!$X$19:$Y$30,2,FALSE)","v":2},0,0,11,"A",{"$f":"VLOOKUP(F109,AtoD,MATCH(G109,PartsAtoD!$B$3:$O$3,0),FALSE)","v":0},null,{"$f":"VLOOKUP(F109,Transfer!$U$19:$V$170,2,FALSE)","v":"B5"},null,0.07850502764750178,0,{"$nulls":3},85.2,"H5fb",null,76,77,11,{"$f":"ValidationData!AV21","v":11},null,{"$f":"#REF!-#REF!","v":{"$error":"#REF!"}}]
["202627-0-B-B5","9_3",{"$f":"FrontPage!$N$2","v":{"v":1,"d":"1.0"}},"202627","CT1",{"$f":"VLOOKUP(J110,Transfer!$X$35:$Y$155,2,FALSE)","v":9},{"$f":"VLOOKUP(K110,Transfer!$X$19:$Y$30,2,FALSE)","v":3},0,0,11,"B",{"$f":"VLOOKUP(F110,AtoD,MATCH(G110,PartsAtoD!$B$3:$O$3,0),FALSE)","v":0},null,{"$f":"VLOOKUP(F110,Transfer!$U$19:$V$170,2,FALSE)","v":"B5"},null,0.38994930685524887,0,{"$nulls":3},86,"H5g",null,77,78,11,{"$f":"ValidationData!AV22","v":10},null,{"$f":"Z109-AA109","v":0}]
["202627-0-C-B5","9_4",{"$f":"FrontPage!$N$2","v":{"v":1,"d":"1.0"}},"202627","CT1",{"$f":"VLOOKUP(J111,Transfer!$X$35:$Y$155,2,FALSE)","v":9},{"$f":"VLOOKUP(K111,Transfer!$X$19:$Y$30,2,FALSE)","v":4},0,0,11,"C",{"$f":"VLOOKUP(F111,AtoD,MATCH(G111,PartsAtoD!$B$3:$O$3,0),FALSE)","v":0},null,{"$f":"VLOOKUP(F111,Transfer!$U$19:$V$170,2,FALSE)","v":"B5"},null,0.28085883174540105,0,{"$nulls":3},87,"H6a",null,78,79,10,{"$f":"ValidationData!AV23","v":11},null,{"$f":"Z110-AA110","v":1}]
["202627-0-D-B5","9_5",{"$f":"FrontPage!$N$2","v":{"v":1,"d":"1.0"}},"202627","CT1",{"$f":"VLOOKUP(J112,Transfer!$X$35:$Y$155,2,FALSE)","v":9},{"$f":"VLOOKUP(K112,Transfer!$X$19:$Y$30,2,FALSE)","v":5},0,0,11,"D",{"$f":"VLOOKUP(F112,AtoD,MATCH(G112,PartsAtoD!$B$3:$O$3,0),FALSE)","v":0},null,{"$f":"VLOOKUP(F112,Transfer!$U$19:$V$170,2,FALSE)","v":"B5"},null,0.9134536245681063,0,{"$nulls":3},88,"H6b",null,78.1,78.1,11,{"$f":"ValidationData!AV24","v":10},null,{"$f":"Z111-AA111","v":-1}]
["202627-0-E-B5","9_6",{"$f":"FrontPage!$N$2","v":{"v":1,"d":"1.0"}},"202627","CT1",{"$f":"VLOOKUP(J113,Transfer!$X$35:$Y$155,2,FALSE)","v":9},{"$f":"VLOOKUP(K113,Transfer!$X$19:$Y$30,2,FALSE)","v":6},0,0,11,"E",{"$f":"VLOOKUP(F113,AtoD,MATCH(G113,PartsAtoD!$B$3:$O$3,0),FALSE)","v":0},null,{"$f":"VLOOKUP(F113,Transfer!$U$19:$V$170,2,FALSE)","v":"B5"},null,0.5569259634510005,0,{"$nulls":3},89,"H6c",null,78.2,78.2,11,{"$f":"ValidationData!AV25","v":10},null,{"$f":"#REF!-#REF!","v":{"$error":"#REF!"}}]
["202627-0-F-B5","9_7",{"$f":"FrontPage!$N$2","v":{"v":1,"d":"1.0"}},"202627","CT1",{"$f":"VLOOKUP(J114,Transfer!$X$35:$Y$155,2,FALSE)","v":9},{"$f":"VLOOKUP(K114,Transfer!$X$19:$Y$30,2,FALSE)","v":7},0,0,11,"F",{"$f":"VLOOKUP(F114,AtoD,MATCH(G114,PartsAtoD!$B$3:$O$3,0),FALSE)","v":0},null,{"$f":"VLOOKUP(F114,Transfer!$U$19:$V$170,2,FALSE)","v":"B5"},null,0.7984788038313775,0,{"$nulls":3},90,"H6d",null,80,81,11,{"$f":"ValidationData!AV26","v":0},null,{"$f":"Z114-AA114","v":11}]
["202627-0-G-B5","9_8",{"$f":"FrontPage!$N$2","v":{"v":1,"d":"1.0"}},"202627","CT1",{"$f":"VLOOKUP(J115,Transfer!$X$35:$Y$155,2,FALSE)","v":9},{"$f":"VLOOKUP(K115,Transfer!$X$19:$Y$30,2,FALSE)","v":8},0,0,11,"G",{"$f":"VLOOKUP(F115,AtoD,MATCH(G115,PartsAtoD!$B$3:$O$3,0),FALSE)","v":0},null,{"$f":"VLOOKUP(F115,Transfer!$U$19:$V$170,2,FALSE)","v":"B5"},null,0.7615769046611852,0,{"$nulls":3},91,"H6e",null,81,82,11,{"$f":"ValidationData!AV27","v":11},null,{"$f":"Z115-AA115","v":0}]
["202627-0-H-B5","9_9",{"$f":"FrontPage!$N$2","v":{"v":1,"d":"1.0"}},"202627","CT1",{"$f":"VLOOKUP(J116,Transfer!$X$35:$Y$155,2,FALSE)","v":9},{"$f":"VLOOKUP(K116,Transfer!$X$19:$Y$30,2,FALSE)","v":9},0,0,11,"H",{"$f":"VLOOKUP(F116,AtoD,MATCH(G116,PartsAtoD!$B$3:$O$3,0),FALSE)","v":0},null,{"$f":"VLOOKUP(F116,Transfer!$U$19:$V$170,2,FALSE)","v":"B5"},null,0.8396940330753759,0,{"$nulls":3},92,"H6f",null,83,84,11,{"$f":"ValidationData!AV28","v":11},null,{"$f":"#REF!-#REF!","v":{"$error":"#REF!"}}]
["202627-0-I-B5","9_10",{"$f":"FrontPage!$N$2","v":{"v":1,"d":"1.0"}},"202627","CT1",{"$f":"VLOOKUP(J117,Transfer!$X$35:$Y$155,2,FALSE)","v":9},{"$f":"VLOOKUP(K117,Transfer!$X$19:$Y$30,2,FALSE)","v":10},0,0,11,"I",{"$f":"VLOOKUP(F117,AtoD,MATCH(G117,PartsAtoD!$B$3:$O$3,0),FALSE)","v":0},null,{"$f":"VLOOKUP(F117,Transfer!$U$19:$V$170,2,FALSE)","v":"B5"},null,0.07509485438428987,0,{"$nulls":3},92.1,"H6fa",null,84,85,11,{"$f":"ValidationData!AV29","v":11},null,{"$f":"Z116-AA116","v":0}]
["202627-0-TOTAL-B5","9_11",{"$f":"FrontPage!$N$2","v":{"v":1,"d":"1.0"}},"202627","CT1",{"$f":"VLOOKUP(J118,Transfer!$X$35:$Y$155,2,FALSE)","v":9},{"$f":"VLOOKUP(K118,Transfer!$X$19:$Y$30,2,FALSE)","v":11},0,0,11,"TOTAL",{"$f":"VLOOKUP(F118,AtoD,MATCH(G118,PartsAtoD!$B$3:$O$3,0),FALSE)","v":0},null,{"$f":"VLOOKUP(F118,Transfer!$U$19:$V$170,2,FALSE)","v":"B5"},null,0.13419840026191587,0,{"$nulls":3},92.2,"H6fb",null,85,86,10,{"$f":"ValidationData!AV30","v":11},null,{"$f":"Z117-AA117","v":0}]
["202627-0-A-B6 ","9.1_2",{"$f":"FrontPage!$N$2","v":{"v":1,"d":"1.0"}},"202627","CT1",{"$f":"VLOOKUP(J119,Transfer!$X$35:$Y$155,2,FALSE)","v":9.1},{"$f":"VLOOKUP(K119,Transfer!$X$19:$Y$30,2,FALSE)","v":2},0,0,12,"A",{"$f":"VLOOKUP(F119,AtoD,MATCH(G119,PartsAtoD!$B$3:$O$3,0),FALSE)","v":0},null,{"$f":"VLOOKUP(F119,Transfer!$U$19:$V$170,2,FALSE)","v":"B6 "},null,0.9428216470606567,0,{"$nulls":3},93,"H6g",null,85.1,85.1,11,{"$f":"ValidationData!AV31","v":11},null,{"$f":"Z118-AA118","v":-1}]
["202627-0-B-B6 ","9.1_3",{"$f":"FrontPage!$N$2","v":{"v":1,"d":"1.0"}},"202627","CT1",{"$f":"VLOOKUP(J120,Transfer!$X$35:$Y$155,2,FALSE)","v":9.1},{"$f":"VLOOKUP(K120,Transfer!$X$19:$Y$30,2,FALSE)","v":3},0,0,12,"B",{"$f":"VLOOKUP(F120,AtoD,MATCH(G120,PartsAtoD!$B$3:$O$3,0),FALSE)","v":0},null,{"$f":"VLOOKUP(F120,Transfer!$U$19:$V$170,2,FALSE)","v":"B6 "},null,0.2559727698328571,0,{"$nulls":3},94,"H7 ",null,85.2,85.2,11,{"$f":"ValidationData!AV32","v":11},null,{"$f":"#REF!-#REF!","v":{"$error":"#REF!"}}]
["202627-0-C-B6 ","9.1_4",{"$f":"FrontPage!$N$2","v":{"v":1,"d":"1.0"}},"202627","CT1",{"$f":"VLOOKUP(J121,Transfer!$X$35:$Y$155,2,FALSE)","v":9.1},{"$f":"VLOOKUP(K121,Transfer!$X$19:$Y$30,2,FALSE)","v":4},0,0,12,"C",{"$f":"VLOOKUP(F121,AtoD,MATCH(G121,PartsAtoD!$B$3:$O$3,0),FALSE)","v":0},null,{"$f":"VLOOKUP(F121,Transfer!$U$19:$V$170,2,FALSE)","v":"B6 "},null,0.4073339957134966,0,{"$nulls":3},95,"H8 ",null,87,88,11,{"$f":"ValidationData!AV33","v":10},null,{"$f":"Z121-AA121","v":1}]
["202627-0-D-B6 ","9.1_5",{"$f":"FrontPage!$N$2","v":{"v":1,"d":"1.0"}},"202627","CT1",{"$f":"VLOOKUP(J122,Transfer!$X$35:$Y$155,2,FALSE)","v":9.1},{"$f":"VLOOKUP(K122,Transfer!$X$19:$Y$30,2,FALSE)","v":5},0,0,12,"D",{"$f":"VLOOKUP(F122,AtoD,MATCH(G122,PartsAtoD!$B$3:$O$3,0),FALSE)","v":0},null,{"$f":"VLOOKUP(F122,Transfer!$U$19:$V$170,2,FALSE)","v":"B6 "},null,0.29995019294706493,0,{"$nulls":3},96,"H9a",null,88,89,11,{"$f":"ValidationData!AV34","v":11},null,{"$f":"Z122-AA122","v":0}]
["202627-0-E-B6 ","9.1_6",{"$f":"FrontPage!$N$2","v":{"v":1,"d":"1.0"}},"202627","CT1",{"$f":"VLOOKUP(J123,Transfer!$X$35:$Y$155,2,FALSE)","v":9.1},{"$f":"VLOOKUP(K123,Transfer!$X$19:$Y$30,2,FALSE)","v":6},0,0,12,"E",{"$f":"VLOOKUP(F123,AtoD,MATCH(G123,PartsAtoD!$B$3:$O$3,0),FALSE)","v":0},null,{"$f":"VLOOKUP(F123,Transfer!$U$19:$V$170,2,FALSE)","v":"B6 "},null,0.1805134012986983,0,{"$nulls":3},97,"H9b",null,90,91,11,{"$f":"ValidationData!AV35","v":10},null,{"$f":"#REF!-#REF!","v":{"$error":"#REF!"}}]
["202627-0-F-B6 ","9.1_7",{"$f":"FrontPage!$N$2","v":{"v":1,"d":"1.0"}},"202627","CT1",{"$f":"VLOOKUP(J124,Transfer!$X$35:$Y$155,2,FALSE)","v":9.1},{"$f":"VLOOKUP(K124,Transfer!$X$19:$Y$30,2,FALSE)","v":7},0,0,12,"F",{"$f":"VLOOKUP(F124,AtoD,MATCH(G124,PartsAtoD!$B$3:$O$3,0),FALSE)","v":0},null,{"$f":"VLOOKUP(F124,Transfer!$U$19:$V$170,2,FALSE)","v":"B6 "},null,0.6239179045871276,0,{"$nulls":3},98,"H9c",null,91,92,11,{"$f":"ValidationData!AV36","v":10},null,{"$f":"Z123-AA123","v":1}]
["202627-0-G-B6 ","9.1_8",{"$f":"FrontPage!$N$2","v":{"v":1,"d":"1.0"}},"202627","CT1",{"$f":"VLOOKUP(J125,Transfer!$X$35:$Y$155,2,FALSE)","v":9.1},{"$f":"VLOOKUP(K125,Transfer!$X$19:$Y$30,2,FALSE)","v":8},0,0,12,"G",{"$f":"VLOOKUP(F125,AtoD,MATCH(G125,PartsAtoD!$B$3:$O$3,0),FALSE)","v":0},null,{"$f":"VLOOKUP(F125,Transfer!$U$19:$V$170,2,FALSE)","v":"B6 "},null,0.14715877256670784,0,{"$nulls":3},99,"H9d",null,92,93,10,{"$f":"ValidationData!AV37","v":0},null,{"$f":"Z124-AA124","v":1}]
["202627-0-H-B6 ","9.1_9",{"$f":"FrontPage!$N$2","v":{"v":1,"d":"1.0"}},"202627","CT1",{"$f":"VLOOKUP(J126,Transfer!$X$35:$Y$155,2,FALSE)","v":9.1},{"$f":"VLOOKUP(K126,Transfer!$X$19:$Y$30,2,FALSE)","v":9},0,0,12,"H",{"$f":"VLOOKUP(F126,AtoD,MATCH(G126,PartsAtoD!$B$3:$O$3,0),FALSE)","v":0},null,{"$f":"VLOOKUP(F126,Transfer!$U$19:$V$170,2,FALSE)","v":"B6 "},null,0.574169030008573,0,{"$nulls":3},100,"H9e",null,92.1,92.1,11,{"$f":"ValidationData!AV38","v":11},null,{"$f":"Z125-AA125","v":10}]
["202627-0-I-B6 ","9.1_10",{"$f":"FrontPage!$N$2","v":{"v":1,"d":"1.0"}},"202627","CT1",{"$f":"VLOOKUP(J127,Transfer!$X$35:$Y$155,2,FALSE)","v":9.1},{"$f":"VLOOKUP(K127,Transfer!$X$19:$Y$30,2,FALSE)","v":10},0,0,12,"I",{"$f":"VLOOKUP(F127,AtoD,MATCH(G127,PartsAtoD!$B$3:$O$3,0),FALSE)","v":0},null,{"$f":"VLOOKUP(F127,Transfer!$U$19:$V$170,2,FALSE)","v":"B6 "},null,0.5894109423365288,0,{"$nulls":3},101,"H9f",null,92.2,92.2,11,{"$f":"ValidationData!AV39","v":11},null,{"$f":"Z128-AA128","v":-1}]
["202627-0-TOTAL-B6 ","9.1_11",{"$f":"FrontPage!$N$2","v":{"v":1,"d":"1.0"}},"202627","CT1",{"$f":"VLOOKUP(J128,Transfer!$X$35:$Y$155,2,FALSE)","v":9.1},{"$f":"VLOOKUP(K128,Transfer!$X$19:$Y$30,2,FALSE)","v":11},0,0,12,"TOTAL",{"$f":"VLOOKUP(F128,AtoD,MATCH(G128,PartsAtoD!$B$3:$O$3,0),FALSE)","v":0},null,{"$f":"VLOOKUP(F128,Transfer!$U$19:$V$170,2,FALSE)","v":"B6 "},null,0.08767074886240234,0,{"$nulls":3},101.1,"H9fa",null,93,94,10,{"$f":"ValidationData!AV40","v":11},null,{"$f":"Z129-AA129","v":-1}]
["202627-0-A-B7 ","9.2_2",{"$f":"FrontPage!$N$2","v":{"v":1,"d":"1.0"}},"202627","CT1",{"$f":"VLOOKUP(J129,Transfer!$X$35:$Y$155,2,FALSE)","v":9.2},{"$f":"VLOOKUP(K129,Transfer!$X$19:$Y$30,2,FALSE)","v":2},0,0,13,"A",{"$f":"VLOOKUP(F129,AtoD,MATCH(G129,PartsAtoD!$B$3:$O$3,0),FALSE)","v":0},null,{"$f":"VLOOKUP(F129,Transfer!$U$19:$V$170,2,FALSE)","v":"B7 "},null,0.6657283552102696,0,{"$nulls":3},101.2,"H9fb",null,94,95,10,{"$f":"ValidationData!AV41","v":11},null,{"$f":"#REF!-#REF!","v":{"$error":"#REF!"}}]
["202627-0-B-B7 ","9.2_3",{"$f":"FrontPage!$N$2","v":{"v":1,"d":"1.0"}},{"$f":"$W$2","v":"202627"},"CT1",{"$f":"VLOOKUP(J130,Transfer!$X$35:$Y$155,2,FALSE)","v":9.2},{"$f":"VLOOKUP(K130,Transfer!$X$19:$Y$30,2,FALSE)","v":3},{"$f":"uanumber","v":0},0,13,"B",{"$f":"VLOOKUP(F130,AtoD,MATCH(G130,PartsAtoD!$B$3:$O$3,0),FALSE)","v":0},null,{"$f":"VLOOKUP(F130,Transfer!$U$19:$V$170,2,FALSE)","v":"B7 "},null,0.2390000217934346,{"$f":"+I130*P130","v":0},{"$nulls":3},102,"H9g",null,96,97,11,{"$f":"ValidationData!AV42","v":11},null,{"$f":"Z130-AA130","v":0}]
[{"$f":"D131&\"-\"&H131&\"-\"&K131&\"-\"&N131","v":"202627-0-C-B7 "},{"$f":"F131&\"_\"&G131","v":"9.2_4"},{"$f":"FrontPage!$N$2","v":{"v":1,"d":"1.0"}},"202627","CT1",{"$f":"VLOOKUP(J131,Transfer!$X$35:$Y$155,2,FALSE)","v":9.2},{"$f":"VLOOKUP(K131,Transfer!$X$19:$Y$30,2,FALSE)","v":4},0,0,13,"C",{"$f":"VLOOKUP(F131,AtoD,MATCH(G131,PartsAtoD!$B$3:$O$3,0),FALSE)","v":0},null,{"$f":"VLOOKUP(F131,Transfer!$U$19:$V$170,2,FALSE)","v":"B7 "},null,0.4493534269154683,0,{"$nulls":3},103,"H10a",null,97,98,{"$f":"COUNTIF(F:F,Y131)","v":11},{"$f":"ValidationData!AV43","v":11},null,{"$f":"Z131-AA131","v":0}]
["202627-0-D-B7 ","9.2_5",{"$f":"FrontPage!$N$2","v":{"v":1,"d":"1.0"}},"202627",{"$f":"$E$2","v":"CT1"},{"$f":"VLOOKUP(J132,Transfer!$X$35:$Y$155,2,FALSE)","v":9.2},{"$f":"VLOOKUP(K132,Transfer!$X$19:$Y$30,2,FALSE)","v":5},0,0,13,"D",{"$f":"VLOOKUP(F132,AtoD,MATCH(G132,PartsAtoD!$B$3:$O$3,0),FALSE)","v":0},null,{"$f":"VLOOKUP(F132,Transfer!$U$19:$V$170,2,FALSE)","v":"B7 "},null,0.09470804973361646,0,{"$nulls":3},104,"H10b",null,99,100,11,{"$f":"ValidationData!AV44","v":10},null,{"$f":"#REF!-#REF!","v":{"$error":"#REF!"}}]
["202627-0-E-B7 ","9.2_6",{"$f":"FrontPage!$N$2","v":{"v":1,"d":"1.0"}},"202627","CT1",{"$f":"VLOOKUP(J133,Transfer!$X$35:$Y$155,2,FALSE)","v":9.2},{"$f":"VLOOKUP(K133,Transfer!$X$19:$Y$30,2,FALSE)","v":6},0,0,13,"E",{"$f":"VLOOKUP(F133,AtoD,MATCH(G133,PartsAtoD!$B$3:$O$3,0),FALSE)","v":0},null,{"$f":"VLOOKUP(F133,Transfer!$U$19:$V$170,2,FALSE)","v":"B7 "},null,0.8395721603384851,0,{"$nulls":3},105,"H10c",null,100,101,11,{"$f":"ValidationData!AV45","v":11},null,{"$f":"Z132-AA132","v":1}]
["202627-0-F-B7 ","9.2_7",{"$f":"FrontPage!$N$2","v":{"v":1,"d":"1.0"}},"202627","CT1",{"$f":"VLOOKUP(J134,Transfer!$X$35:$Y$155,2,FALSE)","v":9.2},{"$f":"VLOOKUP(K134,Transfer!$X$19:$Y$30,2,FALSE)","v":7},0,0,13,"F",{"$f":"VLOOKUP(F134,AtoD,MATCH(G134,PartsAtoD!$B$3:$O$3,0),FALSE)","v":0},null,{"$f":"VLOOKUP(F134,Transfer!$U$19:$V$170,2,FALSE)","v":"B7 "},null,0.8740433007681944,0,{"$nulls":3},106,"H10d",null,101,102,10,{"$f":"ValidationData!AV46","v":10},null,{"$f":"Z133-AA133","v":0}]
["202627-0-G-B7 ","9.2_8",{"$f":"FrontPage!$N$2","v":{"v":1,"d":"1.0"}},"202627","CT1",{"$f":"VLOOKUP(J135,Transfer!$X$35:$Y$155,2,FALSE)","v":9.2},{"$f":"VLOOKUP(K135,Transfer!$X$19:$Y$30,2,FALSE)","v":8},0,0,13,"G",{"$f":"VLOOKUP(F135,AtoD,MATCH(G135,PartsAtoD!$B$3:$O$3,0),FALSE)","v":0},null,{"$f":"VLOOKUP(F135,Transfer!$U$19:$V$170,2,FALSE)","v":"B7 "},null,0.3770502862896691,0,{"$nulls":3},107,"H10e",null,101.1,101.1,11,{"$f":"ValidationData!AV47","v":10},null,{"$f":"Z134-AA134","v":0}]
["202627-0-H-B7 ","9.2_9",{"$f":"FrontPage!$N$2","v":{"v":1,"d":"1.0"}},"202627","CT1",{"$f":"VLOOKUP(J136,Transfer!$X$35:$Y$155,2,FALSE)","v":9.2},{"$f":"VLOOKUP(K136,Transfer!$X$19:$Y$30,2,FALSE)","v":9},0,0,13,"H",{"$f":"VLOOKUP(F136,AtoD,MATCH(G136,PartsAtoD!$B$3:$O$3,0),FALSE)","v":0},null,{"$f":"VLOOKUP(F136,Transfer!$U$19:$V$170,2,FALSE)","v":"B7 "},null,0.7212443713337289,0,{"$nulls":3},108,"H10f",null,101.2,101.2,11,{"$f":"ValidationData!AV48","v":0},null,{"$f":"#REF!-#REF!","v":{"$error":"#REF!"}}]
["202627-0-I-B7 ","9.2_10",{"$f":"FrontPage!$N$2","v":{"v":1,"d":"1.0"}},"202627","CT1",{"$f":"VLOOKUP(J137,Transfer!$X$35:$Y$155,2,FALSE)","v":9.2},{"$f":"VLOOKUP(K137,Transfer!$X$19:$Y$30,2,FALSE)","v":10},0,0,13,"I",{"$f":"VLOOKUP(F137,AtoD,MATCH(G137,PartsAtoD!$B$3:$O$3,0),FALSE)","v":0},null,{"$f":"VLOOKUP(F137,Transfer!$U$19:$V$170,2,FALSE)","v":"B7 "},null,0.13590536668615716,0,{"$nulls":3},108.1,"H10fa",null,103,104,11,{"$f":"ValidationData!AV49","v":11},null,{"$f":"Z137-AA137","v":0}]
["202627-0-TOTAL-B7 ","9.2_11",{"$f":"FrontPage!$N$2","v":{"v":1,"d":"1.0"}},"202627","CT1",{"$f":"VLOOKUP(J138,Transfer!$X$35:$Y$155,2,FALSE)","v":9.2},{"$f":"VLOOKUP(K138,Transfer!$X$19:$Y$30,2,FALSE)","v":11},0,{"$f":"L138","v":0},13,"TOTAL",{"$f":"VLOOKUP(F138,AtoD,MATCH(G138,PartsAtoD!$B$3:$O$3,0),FALSE)","v":0},null,{"$f":"VLOOKUP(F138,Transfer!$U$19:$V$170,2,FALSE)","v":"B7 "},null,0.5653106015072954,0,{"$nulls":3},108.2,"H10fb",null,104,105,11,{"$f":"ValidationData!AV50","v":11},null,{"$f":"Z138-AA138","v":0}]
["202627-0-A--C2","11_1",{"$f":"FrontPage!$N$2","v":{"v":1,"d":"1.0"}},"202627","CT1",{"$f":"VLOOKUP(J139,Transfer!$X$35:$Y$155,2,FALSE)","v":11},{"$f":"VLOOKUP(K139,Transfer!$X$19:$Y$30,2,FALSE)","v":1},0,0,14,"A-",{"$f":"VLOOKUP(F139,AtoD,MATCH(G139,PartsAtoD!$B$3:$O$3,0),FALSE)","v":0},null,{"$f":"VLOOKUP(F139,Transfer!$U$19:$V$170,2,FALSE)","v":"C2"},null,0.23828001261532672,0,{"$nulls":3},109,"H10g",null,106,107,11,{"$f":"ValidationData!AV51","v":11},null,{"$f":"#REF!-#REF!","v":{"$error":"#REF!"}}]
["202627-0-A-C2","11_2",{"$f":"FrontPage!$N$2","v":{"v":1,"d":"1.0"}},"202627","CT1",{"$f":"VLOOKUP(J140,Transfer!$X$35:$Y$155,2,FALSE)","v":11},{"$f":"VLOOKUP(K140,Transfer!$X$19:$Y$30,2,FALSE)","v":2},0,0,14,"A",{"$f":"VLOOKUP(F140,AtoD,MATCH(G140,PartsAtoD!$B$3:$O$3,0),FALSE)","v":0},null,{"$f":"VLOOKUP(F140,Transfer!$U$19:$V$170,2,FALSE)","v":"C2"},null,0.5492930061551718,0,{"$nulls":3},110,"H11a",null,107,108,11,{"$f":"ValidationData!AV52","v":11},null,{"$f":"Z139-AA139","v":0}]
["202627-0-B-C2","11_3",{"$f":"FrontPage!$N$2","v":{"v":1,"d":"1.0"}},"202627","CT1",{"$f":"VLOOKUP(J141,Transfer!$X$35:$Y$155,2,FALSE)","v":11},{"$f":"VLOOKUP(K141,Transfer!$X$19:$Y$30,2,FALSE)","v":3},0,0,14,"B",{"$f":"VLOOKUP(F141,AtoD,MATCH(G141,PartsAtoD!$B$3:$O$3,0),FALSE)","v":0},null,{"$f":"VLOOKUP(F141,Transfer!$U$19:$V$170,2,FALSE)","v":"C2"},null,0.04196616779411466,0,{"$nulls":3},111,"H11b",null,108,109,10,{"$f":"ValidationData!AV53","v":11},null,{"$f":"Z140-AA140","v":0}]
["202627-0-C-C2","11_4",{"$f":"FrontPage!$N$2","v":{"v":1,"d":"1.0"}},"202627","CT1",{"$f":"VLOOKUP(J142,Transfer!$X$35:$Y$155,2,FALSE)","v":11},{"$f":"VLOOKUP(K142,Transfer!$X$19:$Y$30,2,FALSE)","v":4},0,0,14,"C",{"$f":"VLOOKUP(F142,AtoD,MATCH(G142,PartsAtoD!$B$3:$O$3,0),FALSE)","v":0},null,{"$f":"VLOOKUP(F142,Transfer!$U$19:$V$170,2,FALSE)","v":"C2"},null,0.8911800243737863,0,{"$nulls":3},112,"H11c",null,108.1,108.1,11,{"$f":"ValidationData!AV54","v":11},null,{"$f":"Z141-AA141","v":-1}]
["202627-0-D-C2","11_5",{"$f":"FrontPage!$N$2","v":{"v":1,"d":"1.0"}},"202627","CT1",{"$f":"VLOOKUP(J143,Transfer!$X$35:$Y$155,2,FALSE)","v":11},{"$f":"VLOOKUP(K143,Transfer!$X$19:$Y$30,2,FALSE)","v":5},0,0,14,"D",{"$f":"VLOOKUP(F143,AtoD,MATCH(G143,PartsAtoD!$B$3:$O$3,0),FALSE)","v":0},null,{"$f":"VLOOKUP(F143,Transfer!$U$19:$V$170,2,FALSE)","v":"C2"},null,0.7598712529075644,0,{"$nulls":3},113,"H11d",null,108.2,108.2,11,{"$f":"ValidationData!AV55","v":10},null,{"$f":"#REF!-#REF!","v":{"$error":"#REF!"}}]
["202627-0-E-C2","11_6",{"$f":"FrontPage!$N$2","v":{"v":1,"d":"1.0"}},"202627","CT1",{"$f":"VLOOKUP(J144,Transfer!$X$35:$Y$155,2,FALSE)","v":11},{"$f":"VLOOKUP(K144,Transfer!$X$19:$Y$30,2,FALSE)","v":6},0,0,14,"E",{"$f":"VLOOKUP(F144,AtoD,MATCH(G144,PartsAtoD!$B$3:$O$3,0),FALSE)","v":0},null,{"$f":"VLOOKUP(F144,Transfer!$U$19:$V$170,2,FALSE)","v":"C2"},null,0.2014326316616124,0,{"$nulls":3},114,"H11e",null,110,111,11,{"$f":"ValidationData!AV56","v":11},null,{"$f":"Z144-AA144","v":0}]
["202627-0-F-C2","11_7",{"$f":"FrontPage!$N$2","v":{"v":1,"d":"1.0"}},"202627","CT1",{"$f":"VLOOKUP(J145,Transfer!$X$35:$Y$155,2,FALSE)","v":11},{"$f":"VLOOKUP(K145,Transfer!$X$19:$Y$30,2,FALSE)","v":7},0,0,14,"F",{"$f":"VLOOKUP(F145,AtoD,MATCH(G145,PartsAtoD!$B$3:$O$3,0),FALSE)","v":0},null,{"$f":"VLOOKUP(F145,Transfer!$U$19:$V$170,2,FALSE)","v":"C2"},null,0.9261944930935071,0,{"$nulls":3},115,"H11f",null,111,112,11,{"$f":"ValidationData!AV57","v":10},null,{"$f":"Z145-AA145","v":1}]
["202627-0-G-C2","11_8",{"$f":"FrontPage!$N$2","v":{"v":1,"d":"1.0"}},"202627","CT1",{"$f":"VLOOKUP(J146,Transfer!$X$35:$Y$155,2,FALSE)","v":11},{"$f":"VLOOKUP(K146,Transfer!$X$19:$Y$30,2,FALSE)","v":8},0,0,14,"G",{"$f":"VLOOKUP(F146,AtoD,MATCH(G146,PartsAtoD!$B$3:$O$3,0),FALSE)","v":0},null,{"$f":"VLOOKUP(F146,Transfer!$U$19:$V$170,2,FALSE)","v":"C2"},null,0.7474580991920758,0,{"$nulls":3},115.1,"H11fa",null,113,114,11,{"$f":"ValidationData!AV58","v":10},null,{"$f":"#REF!-#REF!","v":{"$error":"#REF!"}}]
["202627-0-H-C2","11_9",{"$f":"FrontPage!$N$2","v":{"v":1,"d":"1.0"}},"202627","CT1",{"$f":"VLOOKUP(J147,Transfer!$X$35:$Y$155,2,FALSE)","v":11},{"$f":"VLOOKUP(K147,Transfer!$X$19:$Y$30,2,FALSE)","v":9},0,0,14,"H",{"$f":"VLOOKUP(F147,AtoD,MATCH(G147,PartsAtoD!$B$3:$O$3,0),FALSE)","v":0},null,{"$f":"VLOOKUP(F147,Transfer!$U$19:$V$170,2,FALSE)","v":"C2"},null,0.3329490302375736,0,{"$nulls":3},115.2,"H11fb",null,114,115,11,{"$f":"ValidationData!AV59","v":11},null,{"$f":"Z146-AA146","v":1}]
["202627-0-I-C2","11_10",{"$f":"FrontPage!$N$2","v":{"v":1,"d":"1.0"}},"202627","CT1",{"$f":"VLOOKUP(J148,Transfer!$X$35:$Y$155,2,FALSE)","v":11},{"$f":"VLOOKUP(K148,Transfer!$X$19:$Y$30,2,FALSE)","v":10},0,{"$f":"L148","v":0},14,"I",{"$f":"VLOOKUP(F148,AtoD,MATCH(G148,PartsAtoD!$B$3:$O$3,0),FALSE)","v":0},null,{"$f":"VLOOKUP(F148,Transfer!$U$19:$V$170,2,FALSE)","v":"C2"},null,0.4640486107902214,0,{"$nulls":3},116,"H11g",null,115,116,10,{"$f":"ValidationData!AV60","v":10},null,{"$f":"Z147-AA147","v":0}]
["202627-0-A--C4","13_1",{"$f":"FrontPage!$N$2","v":{"v":1,"d":"1.0"}},"202627","CT1",{"$f":"VLOOKUP(J149,Transfer!$X$35:$Y$155,2,FALSE)","v":13},{"$f":"VLOOKUP(K149,Transfer!$X$19:$Y$30,2,FALSE)","v":1},0,0,15,"A-",{"$f":"VLOOKUP(F149,AtoD,MATCH(G149,PartsAtoD!$B$3:$O$3,0),FALSE)","v":0},null,{"$f":"VLOOKUP(F149,Transfer!$U$19:$V$170,2,FALSE)","v":"C4"},null,0.4406315848185307,0,{"$nulls":3},117,"H12a",null,115.1,115.1,11,{"$f":"ValidationData!AV61","v":10},null,{"$f":"Z148-AA148","v":0}]
["202627-0-A-C4","13_2",{"$f":"FrontPage!$N$2","v":{"v":1,"d":"1.0"}},"202627","CT1",{"$f":"VLOOKUP(J150,Transfer!$X$35:$Y$155,2,FALSE)","v":13},{"$f":"VLOOKUP(K150,Transfer!$X$19:$Y$30,2,FALSE)","v":2},0,0,15,"A",{"$f":"VLOOKUP(F150,AtoD,MATCH(G150,PartsAtoD!$B$3:$O$3,0),FALSE)","v":0},null,{"$f":"VLOOKUP(F150,Transfer!$U$19:$V$170,2,FALSE)","v":"C4"},null,0.9602895548818552,0,{"$nulls":3},118,"H12b",null,115.2,115.2,11,{"$f":"ValidationData!AV62","v":0},null,{"$f":"#REF!-#REF!","v":{"$error":"#REF!"}}]
["202627-0-B-C4","13_3",{"$f":"FrontPage!$N$2","v":{"v":1,"d":"1.0"}},"202627","CT1",{"$f":"VLOOKUP(J151,Transfer!$X$35:$Y$155,2,FALSE)","v":13},{"$f":"VLOOKUP(K151,Transfer!$X$19:$Y$30,2,FALSE)","v":3},0,0,15,"B",{"$f":"VLOOKUP(F151,AtoD,MATCH(G151,PartsAtoD!$B$3:$O$3,0),FALSE)","v":0},null,{"$f":"VLOOKUP(F151,Transfer!$U$19:$V$170,2,FALSE)","v":"C4"},null,0.9649263477697237,0,{"$nulls":3},119,"H12c",null,117,118,11,{"$f":"ValidationData!AV63","v":11},null,{"$f":"Z151-AA151","v":0}]
["202627-0-C-C4","13_4",{"$f":"FrontPage!$N$2","v":{"v":1,"d":"1.0"}},"202627","CT1",{"$f":"VLOOKUP(J152,Transfer!$X$35:$Y$155,2,FALSE)","v":13},{"$f":"VLOOKUP(K152,Transfer!$X$19:$Y$30,2,FALSE)","v":4},0,0,15,"C",{"$f":"VLOOKUP(F152,AtoD,MATCH(G152,PartsAtoD!$B$3:$O$3,0),FALSE)","v":0},null,{"$f":"VLOOKUP(F152,Transfer!$U$19:$V$170,2,FALSE)","v":"C4"},null,0.5375178171832152,0,{"$nulls":3},120,"H12d",null,118,119,11,{"$f":"ValidationData!AV64","v":11},null,{"$f":"Z152-AA152","v":0}]
["202627-0-D-C4","13_5",{"$f":"FrontPage!$N$2","v":{"v":1,"d":"1.0"}},"202627","CT1",{"$f":"VLOOKUP(J153,Transfer!$X$35:$Y$155,2,FALSE)","v":13},{"$f":"VLOOKUP(K153,Transfer!$X$19:$Y$30,2,FALSE)","v":5},0,0,15,"D",{"$f":"VLOOKUP(F153,AtoD,MATCH(G153,PartsAtoD!$B$3:$O$3,0),FALSE)","v":0},null,{"$f":"VLOOKUP(F153,Transfer!$U$19:$V$170,2,FALSE)","v":"C4"},null,0.8714939804487678,0,{"$nulls":3},121,"H12e",null,120,121,11,{"$f":"ValidationData!AV65","v":11},null,{"$f":"#REF!-#REF!","v":{"$error":"#REF!"}}]
["202627-0-E-C4","13_6",{"$f":"FrontPage!$N$2","v":{"v":1,"d":"1.0"}},"202627","CT1",{"$f":"VLOOKUP(J154,Transfer!$X$35:$Y$155,2,FALSE)","v":13},{"$f":"VLOOKUP(K154,Transfer!$X$19:$Y$30,2,FALSE)","v":6},0,0,15,"E",{"$f":"VLOOKUP(F154,AtoD,MATCH(G154,PartsAtoD!$B$3:$O$3,0),FALSE)","v":0},null,{"$f":"VLOOKUP(F154,Transfer!$U$19:$V$170,2,FALSE)","v":"C4"},null,0.25127160158248874,0,{"$nulls":3},122,"H12f",null,121,122,11,{"$f":"ValidationData!AV66","v":11},null,{"$f":"Z153-AA153","v":0}]
["202627-0-F-C4","13_7",{"$f":"FrontPage!$N$2","v":{"v":1,"d":"1.0"}},"202627","CT1",{"$f":"VLOOKUP(J155,Transfer!$X$35:$Y$155,2,FALSE)","v":13},{"$f":"VLOOKUP(K155,Transfer!$X$19:$Y$30,2,FALSE)","v":7},0,0,15,"F",{"$f":"VLOOKUP(F155,AtoD,MATCH(G155,PartsAtoD!$B$3:$O$3,0),FALSE)","v":0},null,{"$f":"VLOOKUP(F155,Transfer!$U$19:$V$170,2,FALSE)","v":"C4"},null,0.7212098744599427,0,{"$nulls":3},122.1,"H12fa",null,122,123,10,{"$f":"ValidationData!AV67","v":11},null,{"$f":"Z154-AA154","v":0}]
["202627-0-G-C4","13_8",{"$f":"FrontPage!$N$2","v":{"v":1,"d":"1.0"}},"202627","CT1",{"$f":"VLOOKUP(J156,Transfer!$X$35:$Y$155,2,FALSE)","v":13},{"$f":"VLOOKUP(K156,Transfer!$X$19:$Y$30,2,FALSE)","v":8},0,0,15,"G",{"$f":"VLOOKUP(F156,AtoD,MATCH(G156,PartsAtoD!$B$3:$O$3,0),FALSE)","v":0},null,{"$f":"VLOOKUP(F156,Transfer!$U$19:$V$170,2,FALSE)","v":"C4"},null,0.17536943618306977,0,{"$nulls":3},122.2,"H12fb",null,122.1,122.1,11,{"$f":"ValidationData!AV68","v":11},null,{"$f":"Z155-AA155","v":-1}]
["202627-0-H-C4","13_9",{"$f":"FrontPage!$N$2","v":{"v":1,"d":"1.0"}},"202627","CT1",{"$f":"VLOOKUP(J157,Transfer!$X$35:$Y$155,2,FALSE)","v":13},{"$f":"VLOOKUP(K157,Transfer!$X$19:$Y$30,2,FALSE)","v":9},0,0,15,"H",{"$f":"VLOOKUP(F157,AtoD,MATCH(G157,PartsAtoD!$B$3:$O$3,0),FALSE)","v":0},null,{"$f":"VLOOKUP(F157,Transfer!$U$19:$V$170,2,FALSE)","v":"C4"},null,0.6633603965419145,0,{"$nulls":3},123,"H12g",null,122.2,122.2,11,{"$f":"ValidationData!AV69","v":10}]
["202627-0-I-C4","13_10",{"$f":"FrontPage!$N$2","v":{"v":1,"d":"1.0"}},"202627","CT1",{"$f":"VLOOKUP(J158,Transfer!$X$35:$Y$155,2,FALSE)","v":13},{"$f":"VLOOKUP(K158,Transfer!$X$19:$Y$30,2,FALSE)","v":10},0,0,15,"I",{"$f":"VLOOKUP(F158,AtoD,MATCH(G158,PartsAtoD!$B$3:$O$3,0),FALSE)","v":0},null,{"$f":"VLOOKUP(F158,Transfer!$U$19:$V$170,2,FALSE)","v":"C4"},null,0.018210047030199572,0,{"$nulls":3},26.1,"E5a"]
["202627-0-TOTAL-C4","13_11",{"$f":"FrontPage!$N$2","v":{"v":1,"d":"1.0"}},"202627","CT1",{"$f":"VLOOKUP(J159,Transfer!$X$35:$Y$155,2,FALSE)","v":13},{"$f":"VLOOKUP(K159,Transfer!$X$19:$Y$30,2,FALSE)","v":11},0,0,15,"TOTAL",{"$f":"VLOOKUP(F159,AtoD,MATCH(G159,PartsAtoD!$B$3:$O$3,0),FALSE)","v":0},null,{"$f":"VLOOKUP(F159,Transfer!$U$19:$V$170,2,FALSE)","v":"C4"},null,0.5962609693388777,0,{"$nulls":3},4.1,"B2a"]
["202627-0-A--C7","13.3_1",{"$f":"FrontPage!$N$2","v":{"v":1,"d":"1.0"}},"202627","CT1",{"$f":"VLOOKUP(J160,Transfer!$X$35:$Y$155,2,FALSE)","v":13.3},{"$f":"VLOOKUP(K160,Transfer!$X$19:$Y$30,2,FALSE)","v":1},0,0,16,"A-",{"$f":"VLOOKUP(F160,AtoD,MATCH(G160,PartsAtoD!$B$3:$O$3,0),FALSE)","v":0},null,{"$f":"VLOOKUP(F160,Transfer!$U$19:$V$170,2,FALSE)","v":"C7"},null,0.9486846088492735,0,{"$nulls":3},4.2,"B2b"]
["202627-0-A-C7","13.3_2",{"$f":"FrontPage!$N$2","v":{"v":1,"d":"1.0"}},"202627","CT1",{"$f":"VLOOKUP(J161,Transfer!$X$35:$Y$155,2,FALSE)","v":13.3},{"$f":"VLOOKUP(K161,Transfer!$X$19:$Y$30,2,FALSE)","v":2},0,0,16,"A",{"$f":"VLOOKUP(F161,AtoD,MATCH(G161,PartsAtoD!$B$3:$O$3,0),FALSE)","v":0},null,{"$f":"VLOOKUP(F161,Transfer!$U$19:$V$170,2,FALSE)","v":"C7"},null,0.7771682796520298,0,{"$nulls":3},7.1,"B3b"]
["202627-0-B-C7","13.3_3",{"$f":"FrontPage!$N$2","v":{"v":1,"d":"1.0"}},"202627","CT1",{"$f":"VLOOKUP(J162,Transfer!$X$35:$Y$155,2,FALSE)","v":13.3},{"$f":"VLOOKUP(K162,Transfer!$X$19:$Y$30,2,FALSE)","v":3},0,0,16,"B",{"$f":"VLOOKUP(F162,AtoD,MATCH(G162,PartsAtoD!$B$3:$O$3,0),FALSE)","v":0},null,{"$f":"VLOOKUP(F162,Transfer!$U$19:$V$170,2,FALSE)","v":"C7"},null,0.531805519674815,0,{"$nulls":3},7.2,"B3c"]
["202627-0-C-C7","13.3_4",{"$f":"FrontPage!$N$2","v":{"v":1,"d":"1.0"}},"202627","CT1",{"$f":"VLOOKUP(J163,Transfer!$X$35:$Y$155,2,FALSE)","v":13.3},{"$f":"VLOOKUP(K163,Transfer!$X$19:$Y$30,2,FALSE)","v":4},0,0,16,"C",{"$f":"VLOOKUP(F163,AtoD,MATCH(G163,PartsAtoD!$B$3:$O$3,0),FALSE)","v":0},null,{"$f":"VLOOKUP(F163,Transfer!$U$19:$V$170,2,FALSE)","v":"C7"},null,0.02571331559757295,0,{"$nulls":3},9.1,"B6 "]
["202627-0-D-C7","13.3_5",{"$f":"FrontPage!$N$2","v":{"v":1,"d":"1.0"}},"202627","CT1",{"$f":"VLOOKUP(J164,Transfer!$X$35:$Y$155,2,FALSE)","v":13.3},{"$f":"VLOOKUP(K164,Transfer!$X$19:$Y$30,2,FALSE)","v":5},0,0,16,"D",{"$f":"VLOOKUP(F164,AtoD,MATCH(G164,PartsAtoD!$B$3:$O$3,0),FALSE)","v":0},null,{"$f":"VLOOKUP(F164,Transfer!$U$19:$V$170,2,FALSE)","v":"C7"},null,0.285652683887476,0,{"$nulls":3},9.2,"B7 "]
["202627-0-E-C7","13.3_6",{"$f":"FrontPage!$N$2","v":{"v":1,"d":"1.0"}},"202627","CT1",{"$f":"VLOOKUP(J165,Transfer!$X$35:$Y$155,2,FALSE)","v":13.3},{"$f":"VLOOKUP(K165,Transfer!$X$19:$Y$30,2,FALSE)","v":6},0,0,16,"E",{"$f":"VLOOKUP(F165,AtoD,MATCH(G165,PartsAtoD!$B$3:$O$3,0),FALSE)","v":0},null,{"$f":"VLOOKUP(F165,Transfer!$U$19:$V$170,2,FALSE)","v":"C7"},null,0.13594882451173274,0,{"$nulls":3},13.1,"C5 "]
["202627-0-F-C7","13.3_7",{"$f":"FrontPage!$N$2","v":{"v":1,"d":"1.0"}},"202627","CT1",{"$f":"VLOOKUP(J166,Transfer!$X$35:$Y$155,2,FALSE)","v":13.3},{"$f":"VLOOKUP(K166,Transfer!$X$19:$Y$30,2,FALSE)","v":7},0,0,16,"F",{"$f":"VLOOKUP(F166,AtoD,MATCH(G166,PartsAtoD!$B$3:$O$3,0),FALSE)","v":0},null,{"$f":"VLOOKUP(F166,Transfer!$U$19:$V$170,2,FALSE)","v":"C7"},null,0.05380257493981311,0,{"$nulls":3},13.2,"C6"]
["202627-0-G-C7","13.3_8",{"$f":"FrontPage!$N$2","v":{"v":1,"d":"1.0"}},"202627","CT1",{"$f":"VLOOKUP(J167,Transfer!$X$35:$Y$155,2,FALSE)","v":13.3},{"$f":"VLOOKUP(K167,Transfer!$X$19:$Y$30,2,FALSE)","v":8},0,0,16,"G",{"$f":"VLOOKUP(F167,AtoD,MATCH(G167,PartsAtoD!$B$3:$O$3,0),FALSE)","v":0},null,{"$f":"VLOOKUP(F167,Transfer!$U$19:$V$170,2,FALSE)","v":"C7"},null,0.9438753824434291,0,{"$nulls":3},13.3,"C7"]
["202627-0-H-C7","13.3_9",{"$f":"FrontPage!$N$2","v":{"v":1,"d":"1.0"}},"202627","CT1",{"$f":"VLOOKUP(J168,Transfer!$X$35:$Y$155,2,FALSE)","v":13.3},{"$f":"VLOOKUP(K168,Transfer!$X$19:$Y$30,2,FALSE)","v":9},0,0,16,"H",{"$f":"VLOOKUP(F168,AtoD,MATCH(G168,PartsAtoD!$B$3:$O$3,0),FALSE)","v":0},null,{"$f":"VLOOKUP(F168,Transfer!$U$19:$V$170,2,FALSE)","v":"C7"},null,0.98239615549685,0,{"$nulls":3},13.4,"C8"]
["202627-0-I-C7","13.3_10",{"$f":"FrontPage!$N$2","v":{"v":1,"d":"1.0"}},"202627","CT1",{"$f":"VLOOKUP(J169,Transfer!$X$35:$Y$155,2,FALSE)","v":13.3},{"$f":"VLOOKUP(K169,Transfer!$X$19:$Y$30,2,FALSE)","v":10},0,0,16,"I",{"$f":"VLOOKUP(F169,AtoD,MATCH(G169,PartsAtoD!$B$3:$O$3,0),FALSE)","v":0},null,{"$f":"VLOOKUP(F169,Transfer!$U$19:$V$170,2,FALSE)","v":"C7"},null,0.7746411093686435,0,{"$nulls":3},26.2,"E5b"]
["202627-0-A--C8","13.4_1",{"$f":"FrontPage!$N$2","v":{"v":1,"d":"1.0"}},"202627","CT1",{"$f":"VLOOKUP(J170,Transfer!$X$35:$Y$155,2,FALSE)","v":13.4},{"$f":"VLOOKUP(K170,Transfer!$X$19:$Y$30,2,FALSE)","v":1},0,0,17,"A-",{"$f":"VLOOKUP(F170,AtoD,MATCH(G170,PartsAtoD!$B$3:$O$3,0),FALSE)","v":0},null,{"$f":"VLOOKUP(F170,Transfer!$U$19:$V$170,2,FALSE)","v":"C8"},null,0.015741589709565518,0,{"$nulls":3},51.1,"FX"]
["202627-0-A-C8","13.4_2",{"$f":"FrontPage!$N$2","v":{"v":1,"d":"1.0"}},"202627","CT1",{"$f":"VLOOKUP(J171,Transfer!$X$35:$Y$155,2,FALSE)","v":13.4},{"$f":"VLOOKUP(K171,Transfer!$X$19:$Y$30,2,FALSE)","v":2},0,0,17,"A",{"$f":"VLOOKUP(F171,AtoD,MATCH(G171,PartsAtoD!$B$3:$O$3,0),FALSE)","v":0},null,{"$f":"VLOOKUP(F171,Transfer!$U$19:$V$170,2,FALSE)","v":"C8"},null,0.11174410762588127,0]
["202627-0-B-C8","13.4_3",{"$f":"FrontPage!$N$2","v":{"v":1,"d":"1.0"}},"202627","CT1",{"$f":"VLOOKUP(J172,Transfer!$X$35:$Y$155,2,FALSE)","v":13.4},{"$f":"VLOOKUP(K172,Transfer!$X$19:$Y$30,2,FALSE)","v":3},0,0,17,"B",{"$f":"VLOOKUP(F172,AtoD,MATCH(G172,PartsAtoD!$B$3:$O$3,0),FALSE)","v":0},null,{"$f":"VLOOKUP(F172,Transfer!$U$19:$V$170,2,FALSE)","v":"C8"},null,0.5377756966182902,0]
["202627-0-C-C8","13.4_4",{"$f":"FrontPage!$N$2","v":{"v":1,"d":"1.0"}},"202627","CT1",{"$f":"VLOOKUP(J173,Transfer!$X$35:$Y$155,2,FALSE)","v":13.4},{"$f":"VLOOKUP(K173,Transfer!$X$19:$Y$30,2,FALSE)","v":4},0,0,17,"C",{"$f":"VLOOKUP(F173,AtoD,MATCH(G173,PartsAtoD!$B$3:$O$3,0),FALSE)","v":0},null,{"$f":"VLOOKUP(F173,Transfer!$U$19:$V$170,2,FALSE)","v":"C8"},null,0.858701676025834,0]
["202627-0-D-C8","13.4_5",{"$f":"FrontPage!$N$2","v":{"v":1,"d":"1.0"}},"202627","CT1",{"$f":"VLOOKUP(J174,Transfer!$X$35:$Y$155,2,FALSE)","v":13.4},{"$f":"VLOOKUP(K174,Transfer!$X$19:$Y$30,2,FALSE)","v":5},0,0,17,"D",{"$f":"VLOOKUP(F174,AtoD,MATCH(G174,PartsAtoD!$B$3:$O$3,0),FALSE)","v":0},null,{"$f":"VLOOKUP(F174,Transfer!$U$19:$V$170,2,FALSE)","v":"C8"},null,0.7926113281104221,0]
["202627-0-E-C8","13.4_6",{"$f":"FrontPage!$N$2","v":{"v":1,"d":"1.0"}},"202627","CT1",{"$f":"VLOOKUP(J175,Transfer!$X$35:$Y$155,2,FALSE)","v":13.4},{"$f":"VLOOKUP(K175,Transfer!$X$19:$Y$30,2,FALSE)","v":6},0,0,17,"E",{"$f":"VLOOKUP(F175,AtoD,MATCH(G175,PartsAtoD!$B$3:$O$3,0),FALSE)","v":0},null,{"$f":"VLOOKUP(F175,Transfer!$U$19:$V$170,2,FALSE)","v":"C8"},null,0.5520034243222158,0]
["202627-0-F-C8","13.4_7",{"$f":"FrontPage!$N$2","v":{"v":1,"d":"1.0"}},"202627","CT1",{"$f":"VLOOKUP(J176,Transfer!$X$35:$Y$155,2,FALSE)","v":13.4},{"$f":"VLOOKUP(K176,Transfer!$X$19:$Y$30,2,FALSE)","v":7},0,0,17,"F",{"$f":"VLOOKUP(F176,AtoD,MATCH(G176,PartsAtoD!$B$3:$O$3,0),FALSE)","v":0},null,{"$f":"VLOOKUP(F176,Transfer!$U$19:$V$170,2,FALSE)","v":"C8"},null,0.366446427353854,0]
["202627-0-G-C8","13.4_8",{"$f":"FrontPage!$N$2","v":{"v":1,"d":"1.0"}},"202627","CT1",{"$f":"VLOOKUP(J177,Transfer!$X$35:$Y$155,2,FALSE)","v":13.4},{"$f":"VLOOKUP(K177,Transfer!$X$19:$Y$30,2,FALSE)","v":8},0,0,17,"G",{"$f":"VLOOKUP(F177,AtoD,MATCH(G177,PartsAtoD!$B$3:$O$3,0),FALSE)","v":0},null,{"$f":"VLOOKUP(F177,Transfer!$U$19:$V$170,2,FALSE)","v":"C8"},null,0.1675176566423351,0]
["202627-0-H-C8","13.4_9",{"$f":"FrontPage!$N$2","v":{"v":1,"d":"1.0"}},"202627","CT1",{"$f":"VLOOKUP(J178,Transfer!$X$35:$Y$155,2,FALSE)","v":13.4},{"$f":"VLOOKUP(K178,Transfer!$X$19:$Y$30,2,FALSE)","v":9},0,0,17,"H",{"$f":"VLOOKUP(F178,AtoD,MATCH(G178,PartsAtoD!$B$3:$O$3,0),FALSE)","v":0},null,{"$f":"VLOOKUP(F178,Transfer!$U$19:$V$170,2,FALSE)","v":"C8"},null,0.497454204531252,0]
["202627-0-I-C8","13.4_10",{"$f":"FrontPage!$N$2","v":{"v":1,"d":"1.0"}},"202627","CT1",{"$f":"VLOOKUP(J179,Transfer!$X$35:$Y$155,2,FALSE)","v":13.4},{"$f":"VLOOKUP(K179,Transfer!$X$19:$Y$30,2,FALSE)","v":10},0,0,17,"I",{"$f":"VLOOKUP(F179,AtoD,MATCH(G179,PartsAtoD!$B$3:$O$3,0),FALSE)","v":0},null,{"$f":"VLOOKUP(F179,Transfer!$U$19:$V$170,2,FALSE)","v":"C8"},null,0.4598260387553903,0]
["202627-0-TOTAL-C8","13.4_11",{"$f":"FrontPage!$N$2","v":{"v":1,"d":"1.0"}},"202627","CT1",{"$f":"VLOOKUP(J180,Transfer!$X$35:$Y$155,2,FALSE)","v":13.4},{"$f":"VLOOKUP(K180,Transfer!$X$19:$Y$30,2,FALSE)","v":11},0,0,17,"TOTAL",{"$f":"VLOOKUP(F180,AtoD,MATCH(G180,PartsAtoD!$B$3:$O$3,0),FALSE)","v":0},null,{"$f":"VLOOKUP(F180,Transfer!$U$19:$V$170,2,FALSE)","v":"C8"},null,0.5932965308444867,0]
["202627-0-A-D1","14_2",{"$f":"FrontPage!$N$2","v":{"v":1,"d":"1.0"}},"202627","CT1",{"$f":"VLOOKUP(J181,Transfer!$X$35:$Y$155,2,FALSE)","v":14},{"$f":"VLOOKUP(K181,Transfer!$X$19:$Y$30,2,FALSE)","v":2},0,0,18,"A",{"$f":"VLOOKUP(F181,AtoD,MATCH(G181,PartsAtoD!$B$3:$O$3,0),FALSE)","v":0},null,{"$f":"VLOOKUP(F181,Transfer!$U$19:$V$170,2,FALSE)","v":"D1"},null,0.5739943384795205,0]
["202627-0-B-D1","14_3",{"$f":"FrontPage!$N$2","v":{"v":1,"d":"1.0"}},"202627","CT1",{"$f":"VLOOKUP(J182,Transfer!$X$35:$Y$155,2,FALSE)","v":14},{"$f":"VLOOKUP(K182,Transfer!$X$19:$Y$30,2,FALSE)","v":3},0,0,18,"B",{"$f":"VLOOKUP(F182,AtoD,MATCH(G182,PartsAtoD!$B$3:$O$3,0),FALSE)","v":0},null,{"$f":"VLOOKUP(F182,Transfer!$U$19:$V$170,2,FALSE)","v":"D1"},null,0.9905870750809893,0]
["202627-0-C-D1","14_4",{"$f":"FrontPage!$N$2","v":{"v":1,"d":"1.0"}},"202627","CT1",{"$f":"VLOOKUP(J183,Transfer!$X$35:$Y$155,2,FALSE)","v":14},{"$f":"VLOOKUP(K183,Transfer!$X$19:$Y$30,2,FALSE)","v":4},0,0,18,"C",{"$f":"VLOOKUP(F183,AtoD,MATCH(G183,PartsAtoD!$B$3:$O$3,0),FALSE)","v":0},null,{"$f":"VLOOKUP(F183,Transfer!$U$19:$V$170,2,FALSE)","v":"D1"},null,0.2080189805086079,0]
["202627-0-D-D1","14_5",{"$f":"FrontPage!$N$2","v":{"v":1,"d":"1.0"}},"202627","CT1",{"$f":"VLOOKUP(J184,Transfer!$X$35:$Y$155,2,FALSE)","v":14},{"$f":"VLOOKUP(K184,Transfer!$X$19:$Y$30,2,FALSE)","v":5},0,0,18,"D",{"$f":"VLOOKUP(F184,AtoD,MATCH(G184,PartsAtoD!$B$3:$O$3,0),FALSE)","v":0},null,{"$f":"VLOOKUP(F184,Transfer!$U$19:$V$170,2,FALSE)","v":"D1"},null,0.003942981239656085,0]
["202627-0-E-D1","14_6",{"$f":"FrontPage!$N$2","v":{"v":1,"d":"1.0"}},"202627","CT1",{"$f":"VLOOKUP(J185,Transfer!$X$35:$Y$155,2,FALSE)","v":14},{"$f":"VLOOKUP(K185,Transfer!$X$19:$Y$30,2,FALSE)","v":6},0,0,18,"E",{"$f":"VLOOKUP(F185,AtoD,MATCH(G185,PartsAtoD!$B$3:$O$3,0),FALSE)","v":0},null,{"$f":"VLOOKUP(F185,Transfer!$U$19:$V$170,2,FALSE)","v":"D1"},null,0.5674986301444662,0]
["202627-0-F-D1","14_7",{"$f":"FrontPage!$N$2","v":{"v":1,"d":"1.0"}},"202627","CT1",{"$f":"VLOOKUP(J186,Transfer!$X$35:$Y$155,2,FALSE)","v":14},{"$f":"VLOOKUP(K186,Transfer!$X$19:$Y$30,2,FALSE)","v":7},0,0,18,"F",{"$f":"VLOOKUP(F186,AtoD,MATCH(G186,PartsAtoD!$B$3:$O$3,0),FALSE)","v":0},null,{"$f":"VLOOKUP(F186,Transfer!$U$19:$V$170,2,FALSE)","v":"D1"},null,0.8511568968059875,0]
["202627-0-G-D1","14_8",{"$f":"FrontPage!$N$2","v":{"v":1,"d":"1.0"}},"202627","CT1",{"$f":"VLOOKUP(J187,Transfer!$X$35:$Y$155,2,FALSE)","v":14},{"$f":"VLOOKUP(K187,Transfer!$X$19:$Y$30,2,FALSE)","v":8},0,0,18,"G",{"$f":"VLOOKUP(F187,AtoD,MATCH(G187,PartsAtoD!$B$3:$O$3,0),FALSE)","v":0},null,{"$f":"VLOOKUP(F187,Transfer!$U$19:$V$170,2,FALSE)","v":"D1"},null,0.6904826788756055,0]
["202627-0-H-D1","14_9",{"$f":"FrontPage!$N$2","v":{"v":1,"d":"1.0"}},"202627","CT1",{"$f":"VLOOKUP(J188,Transfer!$X$35:$Y$155,2,FALSE)","v":14},{"$f":"VLOOKUP(K188,Transfer!$X$19:$Y$30,2,FALSE)","v":9},0,0,18,"H",{"$f":"VLOOKUP(F188,AtoD,MATCH(G188,PartsAtoD!$B$3:$O$3,0),FALSE)","v":0},null,{"$f":"VLOOKUP(F188,Transfer!$U$19:$V$170,2,FALSE)","v":"D1"},null,0.9861062275231822,0]
["202627-0-I-D1","14_10",{"$f":"FrontPage!$N$2","v":{"v":1,"d":"1.0"}},"202627","CT1",{"$f":"VLOOKUP(J189,Transfer!$X$35:$Y$155,2,FALSE)","v":14},{"$f":"VLOOKUP(K189,Transfer!$X$19:$Y$30,2,FALSE)","v":10},0,0,18,"I",{"$f":"VLOOKUP(F189,AtoD,MATCH(G189,PartsAtoD!$B$3:$O$3,0),FALSE)","v":0},null,{"$f":"VLOOKUP(F189,Transfer!$U$19:$V$170,2,FALSE)","v":"D1"},null,0.7507113235944632,0]
["202627-0-TOTAL-D1","14_11",{"$f":"FrontPage!$N$2","v":{"v":1,"d":"1.0"}},"202627","CT1",{"$f":"VLOOKUP(J190,Transfer!$X$35:$Y$155,2,FALSE)","v":14},{"$f":"VLOOKUP(K190,Transfer!$X$19:$Y$30,2,FALSE)","v":11},0,0,18,"TOTAL",{"$f":"VLOOKUP(F190,AtoD,MATCH(G190,PartsAtoD!$B$3:$O$3,0),FALSE)","v":0},null,{"$f":"VLOOKUP(F190,Transfer!$U$19:$V$170,2,FALSE)","v":"D1"},null,0.27311930326788836,0]
["202627-0-A-D2","15_2",{"$f":"FrontPage!$N$2","v":{"v":1,"d":"1.0"}},"202627","CT1",{"$f":"VLOOKUP(J191,Transfer!$X$35:$Y$155,2,FALSE)","v":15},{"$f":"VLOOKUP(K191,Transfer!$X$19:$Y$30,2,FALSE)","v":2},0,0,19,"A",{"$f":"VLOOKUP(F191,AtoD,MATCH(G191,PartsAtoD!$B$3:$O$3,0),FALSE)","v":0},null,{"$f":"VLOOKUP(F191,Transfer!$U$19:$V$170,2,FALSE)","v":"D2"},null,0.5012535149485552,0]
["202627-0-B-D2","15_3",{"$f":"FrontPage!$N$2","v":{"v":1,"d":"1.0"}},"202627","CT1",{"$f":"VLOOKUP(J192,Transfer!$X$35:$Y$155,2,FALSE)","v":15},{"$f":"VLOOKUP(K192,Transfer!$X$19:$Y$30,2,FALSE)","v":3},0,0,19,"B",{"$f":"VLOOKUP(F192,AtoD,MATCH(G192,PartsAtoD!$B$3:$O$3,0),FALSE)","v":0},null,{"$f":"VLOOKUP(F192,Transfer!$U$19:$V$170,2,FALSE)","v":"D2"},null,0.9341677766374545,0]
["202627-0-C-D2","15_4",{"$f":"FrontPage!$N$2","v":{"v":1,"d":"1.0"}},{"$f":"$W$2","v":"202627"},"CT1",{"$f":"VLOOKUP(J193,Transfer!$X$35:$Y$155,2,FALSE)","v":15},{"$f":"VLOOKUP(K193,Transfer!$X$19:$Y$30,2,FALSE)","v":4},{"$f":"uanumber","v":0},0,19,"C",{"$f":"VLOOKUP(F193,AtoD,MATCH(G193,PartsAtoD!$B$3:$O$3,0),FALSE)","v":0},null,{"$f":"VLOOKUP(F193,Transfer!$U$19:$V$170,2,FALSE)","v":"D2"},null,0.39023192456903466,0]
["202627-0-D-D2","15_5",{"$f":"FrontPage!$N$2","v":{"v":1,"d":"1.0"}},"202627","CT1",{"$f":"VLOOKUP(J194,Transfer!$X$35:$Y$155,2,FALSE)","v":15},{"$f":"VLOOKUP(K194,Transfer!$X$19:$Y$30,2,FALSE)","v":5},0,0,19,"D",{"$f":"VLOOKUP(F194,AtoD,MATCH(G194,PartsAtoD!$B$3:$O$3,0),FALSE)","v":0},null,{"$f":"VLOOKUP(F194,Transfer!$U$19:$V$170,2,FALSE)","v":"D2"},null,0.7761047139485404,{"$f":"+I194*P194","v":0}]
[{"$f":"D195&\"-\"&H195&\"-\"&K195&\"-\"&N195","v":"202627-0-E-D2"},{"$f":"F195&\"_\"&G195","v":"15_6"},{"$f":"FrontPage!$N$2","v":{"v":1,"d":"1.0"}},"202627",{"$f":"$E$2","v":"CT1"},{"$f":"VLOOKUP(J195,Transfer!$X$35:$Y$155,2,FALSE)","v":15},{"$f":"VLOOKUP(K195,Transfer!$X$19:$Y$30,2,FALSE)","v":6},0,0,19,"E",{"$f":"VLOOKUP(F195,AtoD,MATCH(G195,PartsAtoD!$B$3:$O$3,0),FALSE)","v":0},null,{"$f":"VLOOKUP(F195,Transfer!$U$19:$V$170,2,FALSE)","v":"D2"},null,0.03885636006633364,0]
["202627-0-F-D2","15_7",{"$f":"FrontPage!$N$2","v":{"v":1,"d":"1.0"}},"202627","CT1",{"$f":"VLOOKUP(J196,Transfer!$X$35:$Y$155,2,FALSE)","v":15},{"$f":"VLOOKUP(K196,Transfer!$X$19:$Y$30,2,FALSE)","v":7},0,0,19,"F",{"$f":"VLOOKUP(F196,AtoD,MATCH(G196,PartsAtoD!$B$3:$O$3,0),FALSE)","v":0},null,{"$f":"VLOOKUP(F196,Transfer!$U$19:$V$170,2,FALSE)","v":"D2"},null,0.2809650067174134,0]
["202627-0-G-D2","15_8",{"$f":"FrontPage!$N$2","v":{"v":1,"d":"1.0"}},"202627","CT1",{"$f":"VLOOKUP(J197,Transfer!$X$35:$Y$155,2,FALSE)","v":15},{"$f":"VLOOKUP(K197,Transfer!$X$19:$Y$30,2,FALSE)","v":8},0,0,19,"G",{"$f":"VLOOKUP(F197,AtoD,MATCH(G197,PartsAtoD!$B$3:$O$3,0),FALSE)","v":0},null,{"$f":"VLOOKUP(F197,Transfer!$U$19:$V$170,2,FALSE)","v":"D2"},null,0.34162344628823194,0]
["202627-0-H-D2","15_9",{"$f":"FrontPage!$N$2","v":{"v":1,"d":"1.0"}},"202627","CT1",{"$f":"VLOOKUP(J198,Transfer!$X$35:$Y$155,2,FALSE)","v":15},{"$f":"VLOOKUP(K198,Transfer!$X$19:$Y$30,2,FALSE)","v":9},0,0,19,"H",{"$f":"VLOOKUP(F198,AtoD,MATCH(G198,PartsAtoD!$B$3:$O$3,0),FALSE)","v":0},null,{"$f":"VLOOKUP(F198,Transfer!$U$19:$V$170,2,FALSE)","v":"D2"},null,0.2955017598725235,0]
["202627-0-I-D2","15_10",{"$f":"FrontPage!$N$2","v":{"v":1,"d":"1.0"}},"202627","CT1",{"$f":"VLOOKUP(J199,Transfer!$X$35:$Y$155,2,FALSE)","v":15},{"$f":"VLOOKUP(K199,Transfer!$X$19:$Y$30,2,FALSE)","v":10},0,0,19,"I",{"$f":"VLOOKUP(F199,AtoD,MATCH(G199,PartsAtoD!$B$3:$O$3,0),FALSE)","v":0},null,{"$f":"VLOOKUP(F199,Transfer!$U$19:$V$170,2,FALSE)","v":"D2"},null,0.9043928187575836,0]
["202627-0-TOTAL-D2","15_11",{"$f":"FrontPage!$N$2","v":{"v":1,"d":"1.0"}},"202627","CT1",{"$f":"VLOOKUP(J200,Transfer!$X$35:$Y$155,2,FALSE)","v":15},{"$f":"VLOOKUP(K200,Transfer!$X$19:$Y$30,2,FALSE)","v":11},0,0,19,"TOTAL",{"$f":"VLOOKUP(F200,AtoD,MATCH(G200,PartsAtoD!$B$3:$O$3,0),FALSE)","v":0},"AtoD-End",{"$f":"VLOOKUP(F200,Transfer!$U$19:$V$170,2,FALSE)","v":"D2"},null,0.3500876479357422,0]
["202627-0-TOTAL-E1","22_11",{"$f":"FrontPage!$N$2","v":{"v":1,"d":"1.0"}},"202627","CT1",{"$f":"VLOOKUP(J201,Transfer!$X$35:$Y$155,2,FALSE)","v":22},{"$f":"VLOOKUP(K201,Transfer!$X$19:$Y$30,2,FALSE)","v":11},0,0,20,"TOTAL",{"$f":"VLOOKUP(F201,PartE,10,FALSE)","v":0},"EandF-Begin",{"$f":"VLOOKUP(F201,Transfer!$U$19:$V$170,2,FALSE)","v":"E1"},null,0.2563064710463784,0]
["202627-0-TOTAL-E2","23_11",{"$f":"FrontPage!$N$2","v":{"v":1,"d":"1.0"}},"202627","CT1",{"$f":"VLOOKUP(J202,Transfer!$X$35:$Y$155,2,FALSE)","v":23},{"$f":"VLOOKUP(K202,Transfer!$X$19:$Y$30,2,FALSE)","v":11},0,0,21,"TOTAL",0,null,{"$f":"VLOOKUP(F202,Transfer!$U$19:$V$170,2,FALSE)","v":"E2"},null,0.8092772813660358,0]
["202627-0-TOTAL-E3","24_11",{"$f":"FrontPage!$N$2","v":{"v":1,"d":"1.0"}},"202627","CT1",{"$f":"VLOOKUP(J203,Transfer!$X$35:$Y$155,2,FALSE)","v":24},{"$f":"VLOOKUP(K203,Transfer!$X$19:$Y$30,2,FALSE)","v":11},0,0,22,"TOTAL",0,null,{"$f":"VLOOKUP(F203,Transfer!$U$19:$V$170,2,FALSE)","v":"E3"},null,0.28535421337795375,0]
["202627-0-TOTAL-E4","25_11",{"$f":"FrontPage!$N$2","v":{"v":1,"d":"1.0"}},"202627","CT1",{"$f":"VLOOKUP(J204,Transfer!$X$35:$Y$155,2,FALSE)","v":25},{"$f":"VLOOKUP(K204,Transfer!$X$19:$Y$30,2,FALSE)","v":11},0,0,23,"TOTAL",0,null,{"$f":"VLOOKUP(F204,Transfer!$U$19:$V$170,2,FALSE)","v":"E4"},null,0.3679000270877294,0]
["202627-0-TOTAL-E5","26_11",{"$f":"FrontPage!$N$2","v":{"v":1,"d":"1.0"}},"202627","CT1",{"$f":"VLOOKUP(J205,Transfer!$X$35:$Y$155,2,FALSE)","v":26},{"$f":"VLOOKUP(K205,Transfer!$X$19:$Y$30,2,FALSE)","v":11},0,0,24,"TOTAL",0,null,{"$f":"VLOOKUP(F205,Transfer!$U$19:$V$170,2,FALSE)","v":"E5"},null,0.7864974897860401,0]
["202627-0-TOTAL-E5b","26.2_11",{"$f":"FrontPage!$N$2","v":{"v":1,"d":"1.0"}},"202627","CT1",{"$f":"VLOOKUP(J206,Transfer!$X$35:$Y$155,2,FALSE)","v":26.2},{"$f":"VLOOKUP(K206,Transfer!$X$19:$Y$30,2,FALSE)","v":11},0,0,25,"TOTAL",0,null,{"$f":"VLOOKUP(F206,Transfer!$U$19:$V$170,2,FALSE)","v":"E5b"},null,0.9219098875830598,0]
["202627-0-TOTAL-E6","27_11",{"$f":"FrontPage!$N$2","v":{"v":1,"d":"1.0"}},"202627","CT1",{"$f":"VLOOKUP(J207,Transfer!$X$35:$Y$155,2,FALSE)","v":27},{"$f":"VLOOKUP(K207,Transfer!$X$19:$Y$30,2,FALSE)","v":11},0,0,26,"TOTAL",0,null,{"$f":"VLOOKUP(F207,Transfer!$U$19:$V$170,2,FALSE)","v":"E6"},null,0.31090976946615356,0]
["202627-0-TOTAL-FA","28_11",{"$f":"FrontPage!$N$2","v":{"v":1,"d":"1.0"}},"202627","CT1",{"$f":"VLOOKUP(J208,Transfer!$X$35:$Y$155,2,FALSE)","v":28},{"$f":"VLOOKUP(K208,Transfer!$X$19:$Y$30,2,FALSE)","v":11},0,0,27,"TOTAL",{"$f":"VLOOKUP(F208,PartF,3,FALSE)","v":0},null,{"$f":"VLOOKUP(F208,Transfer!$U$19:$V$170,2,FALSE)","v":"FA"},null,0.7782842002822024,0]
["202627-0-TOTAL-FB","29_11",{"$f":"FrontPage!$N$2","v":{"v":1,"d":"1.0"}},"202627","CT1",{"$f":"VLOOKUP(J209,Transfer!$X$35:$Y$155,2,FALSE)","v":29},{"$f":"VLOOKUP(K209,Transfer!$X$19:$Y$30,2,FALSE)","v":11},0,0,28,"TOTAL",0,null,{"$f":"VLOOKUP(F209,Transfer!$U$19:$V$170,2,FALSE)","v":"FB"},null,0.2864328766680089,0]
["202627-0-TOTAL-FC","30_11",{"$f":"FrontPage!$N$2","v":{"v":1,"d":"1.0"}},"202627","CT1",{"$f":"VLOOKUP(J210,Transfer!$X$35:$Y$155,2,FALSE)","v":30},{"$f":"VLOOKUP(K210,Transfer!$X$19:$Y$30,2,FALSE)","v":11},0,0,29,"TOTAL",0,null,{"$f":"VLOOKUP(F210,Transfer!$U$19:$V$170,2,FALSE)","v":"FC"},null,0.45784293375731966,0]
["202627-0-TOTAL-FD","31_11",{"$f":"FrontPage!$N$2","v":{"v":1,"d":"1.0"}},"202627","CT1",{"$f":"VLOOKUP(J211,Transfer!$X$35:$Y$155,2,FALSE)","v":31},{"$f":"VLOOKUP(K211,Transfer!$X$19:$Y$30,2,FALSE)","v":11},0,{"$f":"L211","v":0},30,"TOTAL",0,null,{"$f":"VLOOKUP(F211,Transfer!$U$19:$V$170,2,FALSE)","v":"FD"},null,0.7947690587616906,0]
["202627-0-TOTAL-FE","32_11",{"$f":"FrontPage!$N$2","v":{"v":1,"d":"1.0"}},"202627","CT1",{"$f":"VLOOKUP(J212,Transfer!$X$35:$Y$155,2,FALSE)","v":32},{"$f":"VLOOKUP(K212,Transfer!$X$19:$Y$30,2,FALSE)","v":11},0,0,31,"TOTAL",0,null,{"$f":"VLOOKUP(F212,Transfer!$U$19:$V$170,2,FALSE)","v":"FE"},null,0.581219013558317,0]
["202627-0-TOTAL-FF","33_11",{"$f":"FrontPage!$N$2","v":{"v":1,"d":"1.0"}},"202627","CT1",{"$f":"VLOOKUP(J213,Transfer!$X$35:$Y$155,2,FALSE)","v":33},{"$f":"VLOOKUP(K213,Transfer!$X$19:$Y$30,2,FALSE)","v":11},0,0,32,"TOTAL",0,null,{"$f":"VLOOKUP(F213,Transfer!$U$19:$V$170,2,FALSE)","v":"FF"},null,0.6570299032173853,0]
["202627-0-TOTAL-FG","34_11",{"$f":"FrontPage!$N$2","v":{"v":1,"d":"1.0"}},"202627","CT1",{"$f":"VLOOKUP(J214,Transfer!$X$35:$Y$155,2,FALSE)","v":34},{"$f":"VLOOKUP(K214,Transfer!$X$19:$Y$30,2,FALSE)","v":11},0,0,33,"TOTAL",0,null,{"$f":"VLOOKUP(F214,Transfer!$U$19:$V$170,2,FALSE)","v":"FG"},null,0.9175281961909063,0]
["202627-0-TOTAL-FH","35_11",{"$f":"FrontPage!$N$2","v":{"v":1,"d":"1.0"}},"202627","CT1",{"$f":"VLOOKUP(J215,Transfer!$X$35:$Y$155,2,FALSE)","v":35},{"$f":"VLOOKUP(K215,Transfer!$X$19:$Y$30,2,FALSE)","v":11},0,0,34,"TOTAL",0,null,{"$f":"VLOOKUP(F215,Transfer!$U$19:$V$170,2,FALSE)","v":"FH"},null,0.11496899646352754,0]
["202627-0-TOTAL-FI","36_11",{"$f":"FrontPage!$N$2","v":{"v":1,"d":"1.0"}},"202627","CT1",{"$f":"VLOOKUP(J216,Transfer!$X$35:$Y$155,2,FALSE)","v":36},{"$f":"VLOOKUP(K216,Transfer!$X$19:$Y$30,2,FALSE)","v":11},0,0,35,"TOTAL",0,null,{"$f":"VLOOKUP(F216,Transfer!$U$19:$V$170,2,FALSE)","v":"FI"},null,0.5514075210664334,0]
["202627-0-TOTAL-FJ","37_11",{"$f":"FrontPage!$N$2","v":{"v":1,"d":"1.0"}},"202627","CT1",{"$f":"VLOOKUP(J217,Transfer!$X$35:$Y$155,2,FALSE)","v":37},{"$f":"VLOOKUP(K217,Transfer!$X$19:$Y$30,2,FALSE)","v":11},0,0,36,"TOTAL",0,null,{"$f":"VLOOKUP(F217,Transfer!$U$19:$V$170,2,FALSE)","v":"FJ"},null,0.48927376142424484,0]
["202627-0-TOTAL-FK","38_11",{"$f":"FrontPage!$N$2","v":{"v":1,"d":"1.0"}},"202627","CT1",{"$f":"VLOOKUP(J218,Transfer!$X$35:$Y$155,2,FALSE)","v":38},{"$f":"VLOOKUP(K218,Transfer!$X$19:$Y$30,2,FALSE)","v":11},0,0,37,"TOTAL",0,null,{"$f":"VLOOKUP(F218,Transfer!$U$19:$V$170,2,FALSE)","v":"FK"},null,0.39208083193892673,0]
["202627-0-TOTAL-FL","39_11",{"$f":"FrontPage!$N$2","v":{"v":1,"d":"1.0"}},"202627","CT1",{"$f":"VLOOKUP(J219,Transfer!$X$35:$Y$155,2,FALSE)","v":39},{"$f":"VLOOKUP(K219,Transfer!$X$19:$Y$30,2,FALSE)","v":11},0,0,38,"TOTAL",0,null,{"$f":"VLOOKUP(F219,Transfer!$U$19:$V$170,2,FALSE)","v":"FL"},null,0.6910807237753264,0]
["202627-0-TOTAL-FM","40_11",{"$f":"FrontPage!$N$2","v":{"v":1,"d":"1.0"}},"202627","CT1",{"$f":"VLOOKUP(J220,Transfer!$X$35:$Y$155,2,FALSE)","v":40},{"$f":"VLOOKUP(K220,Transfer!$X$19:$Y$30,2,FALSE)","v":11},0,0,39,"TOTAL",0,null,{"$f":"VLOOKUP(F220,Transfer!$U$19:$V$170,2,FALSE)","v":"FM"},null,0.9885471663383939,0]
["202627-0-TOTAL-FN","41_11",{"$f":"FrontPage!$N$2","v":{"v":1,"d":"1.0"}},"202627","CT1",{"$f":"VLOOKUP(J221,Transfer!$X$35:$Y$155,2,FALSE)","v":41},{"$f":"VLOOKUP(K221,Transfer!$X$19:$Y$30,2,FALSE)","v":11},0,0,40,"TOTAL",0,null,{"$f":"VLOOKUP(F221,Transfer!$U$19:$V$170,2,FALSE)","v":"FN"},null,0.27687186373384876,0]
["202627-0-TOTAL-FO","42_11",{"$f":"FrontPage!$N$2","v":{"v":1,"d":"1.0"}},"202627","CT1",{"$f":"VLOOKUP(J222,Transfer!$X$35:$Y$155,2,FALSE)","v":42},{"$f":"VLOOKUP(K222,Transfer!$X$19:$Y$30,2,FALSE)","v":11},0,0,41,"TOTAL",0,null,{"$f":"VLOOKUP(F222,Transfer!$U$19:$V$170,2,FALSE)","v":"FO"},null,0.13191718186579116,0]
["202627-0-TOTAL-FP","43_11",{"$f":"FrontPage!$N$2","v":{"v":1,"d":"1.0"}},"202627","CT1",{"$f":"VLOOKUP(J223,Transfer!$X$35:$Y$155,2,FALSE)","v":43},{"$f":"VLOOKUP(K223,Transfer!$X$19:$Y$30,2,FALSE)","v":11},0,0,42,"TOTAL",0,null,{"$f":"VLOOKUP(F223,Transfer!$U$19:$V$170,2,FALSE)","v":"FP"},null,0.6038545175803781,0]
["202627-0-TOTAL-FQ","44_11",{"$f":"FrontPage!$N$2","v":{"v":1,"d":"1.0"}},"202627","CT1",{"$f":"VLOOKUP(J224,Transfer!$X$35:$Y$155,2,FALSE)","v":44},{"$f":"VLOOKUP(K224,Transfer!$X$19:$Y$30,2,FALSE)","v":11},0,0,43,"TOTAL",0,null,{"$f":"VLOOKUP(F224,Transfer!$U$19:$V$170,2,FALSE)","v":"FQ"},null,0.6788400389413684,0]
["202627-0-TOTAL-FR","45_11",{"$f":"FrontPage!$N$2","v":{"v":1,"d":"1.0"}},"202627","CT1",{"$f":"VLOOKUP(J225,Transfer!$X$35:$Y$155,2,FALSE)","v":45},{"$f":"VLOOKUP(K225,Transfer!$X$19:$Y$30,2,FALSE)","v":11},0,0,44,"TOTAL",0,null,{"$f":"VLOOKUP(F225,Transfer!$U$19:$V$170,2,FALSE)","v":"FR"},null,0.2142644863786729,0]
["202627-0-TOTAL-FS","46_11",{"$f":"FrontPage!$N$2","v":{"v":1,"d":"1.0"}},"202627","CT1",{"$f":"VLOOKUP(J226,Transfer!$X$35:$Y$155,2,FALSE)","v":46},{"$f":"VLOOKUP(K226,Transfer!$X$19:$Y$30,2,FALSE)","v":11},0,0,45,"TOTAL",0,null,{"$f":"VLOOKUP(F226,Transfer!$U$19:$V$170,2,FALSE)","v":"FS"},null,0.5883106724572367,0]
["202627-0-TOTAL-FT","47_11",{"$f":"FrontPage!$N$2","v":{"v":1,"d":"1.0"}},"202627","CT1",{"$f":"VLOOKUP(J227,Transfer!$X$35:$Y$155,2,FALSE)","v":47},{"$f":"VLOOKUP(K227,Transfer!$X$19:$Y$30,2,FALSE)","v":11},0,0,46,"TOTAL",0,null,{"$f":"VLOOKUP(F227,Transfer!$U$19:$V$170,2,FALSE)","v":"FT"},null,0.0673458103470983,0]
["202627-0-TOTAL-FU","49_11",{"$f":"FrontPage!$N$2","v":{"v":1,"d":"1.0"}},"202627","CT1",{"$f":"VLOOKUP(J228,Transfer!$X$35:$Y$155,2,FALSE)","v":49},{"$f":"VLOOKUP(K228,Transfer!$X$19:$Y$30,2,FALSE)","v":11},0,0,47,"TOTAL",0,null,{"$f":"VLOOKUP(F228,Transfer!$U$19:$V$170,2,FALSE)","v":"FU"},null,0.762412359467545,0]
["202627-0-TOTAL-FV","50_11",{"$f":"FrontPage!$N$2","v":{"v":1,"d":"1.0"}},"202627","CT1",{"$f":"VLOOKUP(J229,Transfer!$X$35:$Y$155,2,FALSE)","v":50},{"$f":"VLOOKUP(K229,Transfer!$X$19:$Y$30,2,FALSE)","v":11},0,0,48,"TOTAL",0,null,{"$f":"VLOOKUP(F229,Transfer!$U$19:$V$170,2,FALSE)","v":"FV"},null,0.29867571504708346,0]
["202627-0-TOTAL-FW","51_11",{"$f":"FrontPage!$N$2","v":{"v":1,"d":"1.0"}},"202627","CT1",{"$f":"VLOOKUP(J230,Transfer!$X$35:$Y$155,2,FALSE)","v":51},{"$f":"VLOOKUP(K230,Transfer!$X$19:$Y$30,2,FALSE)","v":11},0,0,49,"TOTAL",0,null,{"$f":"VLOOKUP(F230,Transfer!$U$19:$V$170,2,FALSE)","v":"FW"},null,0.21643263508989274,0]
["202627-0-TOTAL-FX","51.1_11",{"$f":"FrontPage!$N$2","v":{"v":1,"d":"1.0"}},"202627","CT1",{"$f":"VLOOKUP(J231,Transfer!$X$35:$Y$155,2,FALSE)","v":51.1},{"$f":"VLOOKUP(K231,Transfer!$X$19:$Y$30,2,FALSE)","v":11},0,{"$f":"L231","v":0},49.5,"TOTAL",{"$f":"VLOOKUP(F231,PartF,3,FALSE)","v":0},null,{"$f":"VLOOKUP(F231,Transfer!$U$19:$V$170,2,FALSE)","v":"FX"},null,0.356742892,0]
["202627-0-TOTAL-F","51.5_11",{"$f":"FrontPage!$N$2","v":{"v":1,"d":"1.0"}},"202627","CT1",{"$f":"VLOOKUP(J232,Transfer!$X$35:$Y$155,2,FALSE)","v":51.5},{"$f":"VLOOKUP(K232,Transfer!$X$19:$Y$30,2,FALSE)","v":11},0,0,50,"TOTAL",0,"EandF-End",{"$f":"VLOOKUP(F232,Transfer!$U$19:$V$170,2,FALSE)","v":"F"},null,0.7606061199159487,0]
["202627-0-A--G1","52_1",{"$f":"FrontPage!$N$2","v":{"v":1,"d":"1.0"}},"202627","CT1",{"$f":"VLOOKUP(J233,Transfer!$X$35:$Y$155,2,FALSE)","v":52},{"$f":"VLOOKUP(K233,Transfer!$X$19:$Y$30,2,FALSE)","v":1},0,0,51,"A-",{"$f":"VLOOKUP(F233,PartG,MATCH(G233,PartG!$B$5:$Q$5,0),FALSE)","v":0},"G-Begin",{"$f":"VLOOKUP(F233,Transfer!$U$19:$V$170,2,FALSE)","v":"G1"},null,0.8594612816602571,0]
["202627-0-A-G1","52_2",{"$f":"FrontPage!$N$2","v":{"v":1,"d":"1.0"}},"202627","CT1",{"$f":"VLOOKUP(J234,Transfer!$X$35:$Y$155,2,FALSE)","v":52},{"$f":"VLOOKUP(K234,Transfer!$X$19:$Y$30,2,FALSE)","v":2},0,0,51,"A",{"$f":"VLOOKUP(F234,PartG,MATCH(G234,PartG!$B$5:$Q$5,0),FALSE)","v":0},null,{"$f":"VLOOKUP(F234,Transfer!$U$19:$V$170,2,FALSE)","v":"G1"},null,0.08823361819282227,0]
["202627-0-B-G1","52_3",{"$f":"FrontPage!$N$2","v":{"v":1,"d":"1.0"}},"202627","CT1",{"$f":"VLOOKUP(J235,Transfer!$X$35:$Y$155,2,FALSE)","v":52},{"$f":"VLOOKUP(K235,Transfer!$X$19:$Y$30,2,FALSE)","v":3},0,0,51,"B",{"$f":"VLOOKUP(F235,PartG,MATCH(G235,PartG!$B$5:$Q$5,0),FALSE)","v":0},null,{"$f":"VLOOKUP(F235,Transfer!$U$19:$V$170,2,FALSE)","v":"G1"},null,0.8869358757608857,0]
["202627-0-C-G1","52_4",{"$f":"FrontPage!$N$2","v":{"v":1,"d":"1.0"}},"202627","CT1",{"$f":"VLOOKUP(J236,Transfer!$X$35:$Y$155,2,FALSE)","v":52},{"$f":"VLOOKUP(K236,Transfer!$X$19:$Y$30,2,FALSE)","v":4},0,0,51,"C",{"$f":"VLOOKUP(F236,PartG,MATCH(G236,PartG!$B$5:$Q$5,0),FALSE)","v":0},null,{"$f":"VLOOKUP(F236,Transfer!$U$19:$V$170,2,FALSE)","v":"G1"},null,0.45065333695941134,0]
["202627-0-D-G1","52_5",{"$f":"FrontPage!$N$2","v":{"v":1,"d":"1.0"}},"202627","CT1",{"$f":"VLOOKUP(J237,Transfer!$X$35:$Y$155,2,FALSE)","v":52},{"$f":"VLOOKUP(K237,Transfer!$X$19:$Y$30,2,FALSE)","v":5},0,0,51,"D",{"$f":"VLOOKUP(F237,PartG,MATCH(G237,PartG!$B$5:$Q$5,0),FALSE)","v":0},null,{"$f":"VLOOKUP(F237,Transfer!$U$19:$V$170,2,FALSE)","v":"G1"},null,0.10983688703720873,0]
["202627-0-E-G1","52_6",{"$f":"FrontPage!$N$2","v":{"v":1,"d":"1.0"}},"202627","CT1",{"$f":"VLOOKUP(J238,Transfer!$X$35:$Y$155,2,FALSE)","v":52},{"$f":"VLOOKUP(K238,Transfer!$X$19:$Y$30,2,FALSE)","v":6},0,0,51,"E",{"$f":"VLOOKUP(F238,PartG,MATCH(G238,PartG!$B$5:$Q$5,0),FALSE)","v":0},null,{"$f":"VLOOKUP(F238,Transfer!$U$19:$V$170,2,FALSE)","v":"G1"},null,0.4632602621163451,0]
["202627-0-F-G1","52_7",{"$f":"FrontPage!$N$2","v":{"v":1,"d":"1.0"}},"202627","CT1",{"$f":"VLOOKUP(J239,Transfer!$X$35:$Y$155,2,FALSE)","v":52},{"$f":"VLOOKUP(K239,Transfer!$X$19:$Y$30,2,FALSE)","v":7},0,0,51,"F",{"$f":"VLOOKUP(F239,PartG,MATCH(G239,PartG!$B$5:$Q$5,0),FALSE)","v":0},null,{"$f":"VLOOKUP(F239,Transfer!$U$19:$V$170,2,FALSE)","v":"G1"},null,0.24353230372860368,0]
["202627-0-G-G1","52_8",{"$f":"FrontPage!$N$2","v":{"v":1,"d":"1.0"}},"202627","CT1",{"$f":"VLOOKUP(J240,Transfer!$X$35:$Y$155,2,FALSE)","v":52},{"$f":"VLOOKUP(K240,Transfer!$X$19:$Y$30,2,FALSE)","v":8},0,0,51,"G",{"$f":"VLOOKUP(F240,PartG,MATCH(G240,PartG!$B$5:$Q$5,0),FALSE)","v":0},null,{"$f":"VLOOKUP(F240,Transfer!$U$19:$V$170,2,FALSE)","v":"G1"},null,0.5073449095874034,0]
["202627-0-H-G1","52_9",{"$f":"FrontPage!$N$2","v":{"v":1,"d":"1.0"}},"202627","CT1",{"$f":"VLOOKUP(J241,Transfer!$X$35:$Y$155,2,FALSE)","v":52},{"$f":"VLOOKUP(K241,Transfer!$X$19:$Y$30,2,FALSE)","v":9},0,0,51,"H",{"$f":"VLOOKUP(F241,PartG,MATCH(G241,PartG!$B$5:$Q$5,0),FALSE)","v":0},null,{"$f":"VLOOKUP(F241,Transfer!$U$19:$V$170,2,FALSE)","v":"G1"},null,0.6584331096895307,0]
["202627-0-I-G1","52_10",{"$f":"FrontPage!$N$2","v":{"v":1,"d":"1.0"}},"202627","CT1",{"$f":"VLOOKUP(J242,Transfer!$X$35:$Y$155,2,FALSE)","v":52},{"$f":"VLOOKUP(K242,Transfer!$X$19:$Y$30,2,FALSE)","v":10},0,0,51,"I",{"$f":"VLOOKUP(F242,PartG,MATCH(G242,PartG!$B$5:$Q$5,0),FALSE)","v":0},null,{"$f":"VLOOKUP(F242,Transfer!$U$19:$V$170,2,FALSE)","v":"G1"},null,0.8579911511395895,0]
["202627-0-TOTAL-G1","52_11",{"$f":"FrontPage!$N$2","v":{"v":1,"d":"1.0"}},"202627","CT1",{"$f":"VLOOKUP(J243,Transfer!$X$35:$Y$155,2,FALSE)","v":52},{"$f":"VLOOKUP(K243,Transfer!$X$19:$Y$30,2,FALSE)","v":11},0,0,51,"TOTAL",{"$f":"VLOOKUP(F243,PartG,MATCH(G243,PartG!$B$5:$Q$5,0),FALSE)","v":0},null,{"$f":"VLOOKUP(F243,Transfer!$U$19:$V$170,2,FALSE)","v":"G1"},null,0.5155436938127743,0]
["202627-0-%-G1","52_12",{"$f":"FrontPage!$N$2","v":{"v":1,"d":"1.0"}},"202627","CT1",{"$f":"VLOOKUP(J244,Transfer!$X$35:$Y$155,2,FALSE)","v":52},{"$f":"VLOOKUP(K244,Transfer!$X$19:$Y$30,2,FALSE)","v":12},0,0,51,"%",{"$f":"VLOOKUP(F244,PartG,MATCH(G244,PartG!$B$5:$Q$5,0),FALSE)","v":0},null,{"$f":"VLOOKUP(F244,Transfer!$U$19:$V$170,2,FALSE)","v":"G1"},null,0.15015132323717106,0]
["202627-0-A--G2","53_1",{"$f":"FrontPage!$N$2","v":{"v":1,"d":"1.0"}},"202627","CT1",{"$f":"VLOOKUP(J245,Transfer!$X$35:$Y$155,2,FALSE)","v":53},{"$f":"VLOOKUP(K245,Transfer!$X$19:$Y$30,2,FALSE)","v":1},0,0,52,"A-",{"$f":"VLOOKUP(F245,PartG,MATCH(G245,PartG!$B$5:$Q$5,0),FALSE)","v":0},null,{"$f":"VLOOKUP(F245,Transfer!$U$19:$V$170,2,FALSE)","v":"G2"},null,0.9292861025439734,0]
["202627-0-A-G2","53_2",{"$f":"FrontPage!$N$2","v":{"v":1,"d":"1.0"}},"202627","CT1",{"$f":"VLOOKUP(J246,Transfer!$X$35:$Y$155,2,FALSE)","v":53},{"$f":"VLOOKUP(K246,Transfer!$X$19:$Y$30,2,FALSE)","v":2},0,0,52,"A",{"$f":"VLOOKUP(F246,PartG,MATCH(G246,PartG!$B$5:$Q$5,0),FALSE)","v":0},null,{"$f":"VLOOKUP(F246,Transfer!$U$19:$V$170,2,FALSE)","v":"G2"},null,0.4091800069485264,0]
["202627-0-B-G2","53_3",{"$f":"FrontPage!$N$2","v":{"v":1,"d":"1.0"}},"202627","CT1",{"$f":"VLOOKUP(J247,Transfer!$X$35:$Y$155,2,FALSE)","v":53},{"$f":"VLOOKUP(K247,Transfer!$X$19:$Y$30,2,FALSE)","v":3},0,0,52,"B",{"$f":"VLOOKUP(F247,PartG,MATCH(G247,PartG!$B$5:$Q$5,0),FALSE)","v":0},null,{"$f":"VLOOKUP(F247,Transfer!$U$19:$V$170,2,FALSE)","v":"G2"},null,0.08786115072359069,0]
["202627-0-C-G2","53_4",{"$f":"FrontPage!$N$2","v":{"v":1,"d":"1.0"}},"202627","CT1",{"$f":"VLOOKUP(J248,Transfer!$X$35:$Y$155,2,FALSE)","v":53},{"$f":"VLOOKUP(K248,Transfer!$X$19:$Y$30,2,FALSE)","v":4},0,0,52,"C",{"$f":"VLOOKUP(F248,PartG,MATCH(G248,PartG!$B$5:$Q$5,0),FALSE)","v":0},null,{"$f":"VLOOKUP(F248,Transfer!$U$19:$V$170,2,FALSE)","v":"G2"},null,0.03949321482137824,0]
["202627-0-D-G2","53_5",{"$f":"FrontPage!$N$2","v":{"v":1,"d":"1.0"}},"202627","CT1",{"$f":"VLOOKUP(J249,Transfer!$X$35:$Y$155,2,FALSE)","v":53},{"$f":"VLOOKUP(K249,Transfer!$X$19:$Y$30,2,FALSE)","v":5},0,0,52,"D",{"$f":"VLOOKUP(F249,PartG,MATCH(G249,PartG!$B$5:$Q$5,0),FALSE)","v":0},null,{"$f":"VLOOKUP(F249,Transfer!$U$19:$V$170,2,FALSE)","v":"G2"},null,0.9466026503940779,0]
["202627-0-E-G2","53_6",{"$f":"FrontPage!$N$2","v":{"v":1,"d":"1.0"}},"202627","CT1",{"$f":"VLOOKUP(J250,Transfer!$X$35:$Y$155,2,FALSE)","v":53},{"$f":"VLOOKUP(K250,Transfer!$X$19:$Y$30,2,FALSE)","v":6},0,0,52,"E",{"$f":"VLOOKUP(F250,PartG,MATCH(G250,PartG!$B$5:$Q$5,0),FALSE)","v":0},null,{"$f":"VLOOKUP(F250,Transfer!$U$19:$V$170,2,FALSE)","v":"G2"},null,0.24094684591715032,0]
["202627-0-F-G2","53_7",{"$f":"FrontPage!$N$2","v":{"v":1,"d":"1.0"}},"202627","CT1",{"$f":"VLOOKUP(J251,Transfer!$X$35:$Y$155,2,FALSE)","v":53},{"$f":"VLOOKUP(K251,Transfer!$X$19:$Y$30,2,FALSE)","v":7},0,0,52,"F",{"$f":"VLOOKUP(F251,PartG,MATCH(G251,PartG!$B$5:$Q$5,0),FALSE)","v":0},null,{"$f":"VLOOKUP(F251,Transfer!$U$19:$V$170,2,FALSE)","v":"G2"},null,0.38653456679472376,0]
["202627-0-G-G2","53_8",{"$f":"FrontPage!$N$2","v":{"v":1,"d":"1.0"}},"202627","CT1",{"$f":"VLOOKUP(J252,Transfer!$X$35:$Y$155,2,FALSE)","v":53},{"$f":"VLOOKUP(K252,Transfer!$X$19:$Y$30,2,FALSE)","v":8},0,0,52,"G",{"$f":"VLOOKUP(F252,PartG,MATCH(G252,PartG!$B$5:$Q$5,0),FALSE)","v":0},null,{"$f":"VLOOKUP(F252,Transfer!$U$19:$V$170,2,FALSE)","v":"G2"},null,0.44479718122405865,0]
["202627-0-H-G2","53_9",{"$f":"FrontPage!$N$2","v":{"v":1,"d":"1.0"}},"202627","CT1",{"$f":"VLOOKUP(J253,Transfer!$X$35:$Y$155,2,FALSE)","v":53},{"$f":"VLOOKUP(K253,Transfer!$X$19:$Y$30,2,FALSE)","v":9},0,0,52,"H",{"$f":"VLOOKUP(F253,PartG,MATCH(G253,PartG!$B$5:$Q$5,0),FALSE)","v":0},null,{"$f":"VLOOKUP(F253,Transfer!$U$19:$V$170,2,FALSE)","v":"G2"},null,0.8587968501558847,0]
["202627-0-I-G2","53_10",{"$f":"FrontPage!$N$2","v":{"v":1,"d":"1.0"}},"202627","CT1",{"$f":"VLOOKUP(J254,Transfer!$X$35:$Y$155,2,FALSE)","v":53},{"$f":"VLOOKUP(K254,Transfer!$X$19:$Y$30,2,FALSE)","v":10},0,0,52,"I",{"$f":"VLOOKUP(F254,PartG,MATCH(G254,PartG!$B$5:$Q$5,0),FALSE)","v":0},null,{"$f":"VLOOKUP(F254,Transfer!$U$19:$V$170,2,FALSE)","v":"G2"},null,0.9197630686127034,0]
["202627-0-TOTAL-G2","53_11",{"$f":"FrontPage!$N$2","v":{"v":1,"d":"1.0"}},"202627","CT1",{"$f":"VLOOKUP(J255,Transfer!$X$35:$Y$155,2,FALSE)","v":53},{"$f":"VLOOKUP(K255,Transfer!$X$19:$Y$30,2,FALSE)","v":11},0,0,52,"TOTAL",{"$f":"VLOOKUP(F255,PartG,MATCH(G255,PartG!$B$5:$Q$5,0),FALSE)","v":0},null,{"$f":"VLOOKUP(F255,Transfer!$U$19:$V$170,2,FALSE)","v":"G2"},null,0.26079550083538283,0]
["202627-0-A--G3","54_1",{"$f":"FrontPage!$N$2","v":{"v":1,"d":"1.0"}},"202627","CT1",{"$f":"VLOOKUP(J256,Transfer!$X$35:$Y$155,2,FALSE)","v":54},{"$f":"VLOOKUP(K256,Transfer!$X$19:$Y$30,2,FALSE)","v":1},0,0,53,"A-",{"$f":"VLOOKUP(F256,PartG,MATCH(G256,PartG!$B$5:$Q$5,0),FALSE)","v":0},null,{"$f":"VLOOKUP(F256,Transfer!$U$19:$V$170,2,FALSE)","v":"G3"},null,0.49286706364437116,0]
["202627-0-A-G3","54_2",{"$f":"FrontPage!$N$2","v":{"v":1,"d":"1.0"}},"202627","CT1",{"$f":"VLOOKUP(J257,Transfer!$X$35:$Y$155,2,FALSE)","v":54},{"$f":"VLOOKUP(K257,Transfer!$X$19:$Y$30,2,FALSE)","v":2},0,0,53,"A",{"$f":"VLOOKUP(F257,PartG,MATCH(G257,PartG!$B$5:$Q$5,0),FALSE)","v":0},null,{"$f":"VLOOKUP(F257,Transfer!$U$19:$V$170,2,FALSE)","v":"G3"},null,0.30914650103879293,0]
["202627-0-B-G3","54_3",{"$f":"FrontPage!$N$2","v":{"v":1,"d":"1.0"}},{"$f":"$W$2","v":"202627"},"CT1",{"$f":"VLOOKUP(J258,Transfer!$X$35:$Y$155,2,FALSE)","v":54},{"$f":"VLOOKUP(K258,Transfer!$X$19:$Y$30,2,FALSE)","v":3},{"$f":"uanumber","v":0},0,53,"B",{"$f":"VLOOKUP(F258,PartG,MATCH(G258,PartG!$B$5:$Q$5,0),FALSE)","v":0},null,{"$f":"VLOOKUP(F258,Transfer!$U$19:$V$170,2,FALSE)","v":"G3"},null,0.44698475020928974,{"$f":"+I258*P258","v":0}]
[{"$f":"D259&\"-\"&H259&\"-\"&K259&\"-\"&N259","v":"202627-0-C-G3"},{"$f":"F259&\"_\"&G259","v":"54_4"},{"$f":"FrontPage!$N$2","v":{"v":1,"d":"1.0"}},"202627","CT1",{"$f":"VLOOKUP(J259,Transfer!$X$35:$Y$155,2,FALSE)","v":54},{"$f":"VLOOKUP(K259,Transfer!$X$19:$Y$30,2,FALSE)","v":4},0,0,53,"C",{"$f":"VLOOKUP(F259,PartG,MATCH(G259,PartG!$B$5:$Q$5,0),FALSE)","v":0},null,{"$f":"VLOOKUP(F259,Transfer!$U$19:$V$170,2,FALSE)","v":"G3"},null,0.3206946183339241,0]
["202627-0-D-G3","54_5",{"$f":"FrontPage!$N$2","v":{"v":1,"d":"1.0"}},"202627",{"$f":"$E$2","v":"CT1"},{"$f":"VLOOKUP(J260,Transfer!$X$35:$Y$155,2,FALSE)","v":54},{"$f":"VLOOKUP(K260,Transfer!$X$19:$Y$30,2,FALSE)","v":5},0,0,53,"D",{"$f":"VLOOKUP(F260,PartG,MATCH(G260,PartG!$B$5:$Q$5,0),FALSE)","v":0},null,{"$f":"VLOOKUP(F260,Transfer!$U$19:$V$170,2,FALSE)","v":"G3"},null,0.32849214671109694,0]
["202627-0-E-G3","54_6",{"$f":"FrontPage!$N$2","v":{"v":1,"d":"1.0"}},"202627","CT1",{"$f":"VLOOKUP(J261,Transfer!$X$35:$Y$155,2,FALSE)","v":54},{"$f":"VLOOKUP(K261,Transfer!$X$19:$Y$30,2,FALSE)","v":6},0,0,53,"E",{"$f":"VLOOKUP(F261,PartG,MATCH(G261,PartG!$B$5:$Q$5,0),FALSE)","v":0},null,{"$f":"VLOOKUP(F261,Transfer!$U$19:$V$170,2,FALSE)","v":"G3"},null,0.6797636377387325,0]
["202627-0-F-G3","54_7",{"$f":"FrontPage!$N$2","v":{"v":1,"d":"1.0"}},"202627","CT1",{"$f":"VLOOKUP(J262,Transfer!$X$35:$Y$155,2,FALSE)","v":54},{"$f":"VLOOKUP(K262,Transfer!$X$19:$Y$30,2,FALSE)","v":7},0,0,53,"F",{"$f":"VLOOKUP(F262,PartG,MATCH(G262,PartG!$B$5:$Q$5,0),FALSE)","v":0},null,{"$f":"VLOOKUP(F262,Transfer!$U$19:$V$170,2,FALSE)","v":"G3"},null,0.1336643477998739,0]
["202627-0-G-G3","54_8",{"$f":"FrontPage!$N$2","v":{"v":1,"d":"1.0"}},"202627","CT1",{"$f":"VLOOKUP(J263,Transfer!$X$35:$Y$155,2,FALSE)","v":54},{"$f":"VLOOKUP(K263,Transfer!$X$19:$Y$30,2,FALSE)","v":8},0,0,53,"G",{"$f":"VLOOKUP(F263,PartG,MATCH(G263,PartG!$B$5:$Q$5,0),FALSE)","v":0},null,{"$f":"VLOOKUP(F263,Transfer!$U$19:$V$170,2,FALSE)","v":"G3"},null,0.8180715558475649,0]
["202627-0-H-G3","54_9",{"$f":"FrontPage!$N$2","v":{"v":1,"d":"1.0"}},"202627","CT1",{"$f":"VLOOKUP(J264,Transfer!$X$35:$Y$155,2,FALSE)","v":54},{"$f":"VLOOKUP(K264,Transfer!$X$19:$Y$30,2,FALSE)","v":9},0,0,53,"H",{"$f":"VLOOKUP(F264,PartG,MATCH(G264,PartG!$B$5:$Q$5,0),FALSE)","v":0},null,{"$f":"VLOOKUP(F264,Transfer!$U$19:$V$170,2,FALSE)","v":"G3"},null,0.7088613981903501,0]
["202627-0-I-G3","54_10",{"$f":"FrontPage!$N$2","v":{"v":1,"d":"1.0"}},"202627","CT1",{"$f":"VLOOKUP(J265,Transfer!$X$35:$Y$155,2,FALSE)","v":54},{"$f":"VLOOKUP(K265,Transfer!$X$19:$Y$30,2,FALSE)","v":10},0,0,53,"I",{"$f":"VLOOKUP(F265,PartG,MATCH(G265,PartG!$B$5:$Q$5,0),FALSE)","v":0},null,{"$f":"VLOOKUP(F265,Transfer!$U$19:$V$170,2,FALSE)","v":"G3"},null,0.23350357161039603,0]
["202627-0-TOTAL-G3","54_11",{"$f":"FrontPage!$N$2","v":{"v":1,"d":"1.0"}},"202627","CT1",{"$f":"VLOOKUP(J266,Transfer!$X$35:$Y$155,2,FALSE)","v":54},{"$f":"VLOOKUP(K266,Transfer!$X$19:$Y$30,2,FALSE)","v":11},0,0,53,"TOTAL",{"$f":"VLOOKUP(F266,PartG,MATCH(G266,PartG!$B$5:$Q$5,0),FALSE)","v":0},null,{"$f":"VLOOKUP(F266,Transfer!$U$19:$V$170,2,FALSE)","v":"G3"},null,0.13643286679506927,0]
["202627-0-%-G3","54_12",{"$f":"FrontPage!$N$2","v":{"v":1,"d":"1.0"}},"202627","CT1",{"$f":"VLOOKUP(J267,Transfer!$X$35:$Y$155,2,FALSE)","v":54},{"$f":"VLOOKUP(K267,Transfer!$X$19:$Y$30,2,FALSE)","v":12},0,0,53,"%",{"$f":"VLOOKUP(F267,PartG,MATCH(G267,PartG!$B$5:$Q$5,0),FALSE)","v":0},null,{"$f":"VLOOKUP(F267,Transfer!$U$19:$V$170,2,FALSE)","v":"G3"},null,0.2833281169106886,0]
["202627-0-A--G4","55_1",{"$f":"FrontPage!$N$2","v":{"v":1,"d":"1.0"}},"202627","CT1",{"$f":"VLOOKUP(J268,Transfer!$X$35:$Y$155,2,FALSE)","v":55},{"$f":"VLOOKUP(K268,Transfer!$X$19:$Y$30,2,FALSE)","v":1},0,0,54,"A-",{"$f":"VLOOKUP(F268,PartG,MATCH(G268,PartG!$B$5:$Q$5,0),FALSE)","v":0},null,{"$f":"VLOOKUP(F268,Transfer!$U$19:$V$170,2,FALSE)","v":"G4"},null,0.2323075348042427,0]
["202627-0-A-G4","55_2",{"$f":"FrontPage!$N$2","v":{"v":1,"d":"1.0"}},"202627","CT1",{"$f":"VLOOKUP(J269,Transfer!$X$35:$Y$155,2,FALSE)","v":55},{"$f":"VLOOKUP(K269,Transfer!$X$19:$Y$30,2,FALSE)","v":2},0,0,54,"A",{"$f":"VLOOKUP(F269,PartG,MATCH(G269,PartG!$B$5:$Q$5,0),FALSE)","v":0},null,{"$f":"VLOOKUP(F269,Transfer!$U$19:$V$170,2,FALSE)","v":"G4"},null,0.7004152968719403,0]
["202627-0-B-G4","55_3",{"$f":"FrontPage!$N$2","v":{"v":1,"d":"1.0"}},"202627","CT1",{"$f":"VLOOKUP(J270,Transfer!$X$35:$Y$155,2,FALSE)","v":55},{"$f":"VLOOKUP(K270,Transfer!$X$19:$Y$30,2,FALSE)","v":3},0,0,54,"B",{"$f":"VLOOKUP(F270,PartG,MATCH(G270,PartG!$B$5:$Q$5,0),FALSE)","v":0},null,{"$f":"VLOOKUP(F270,Transfer!$U$19:$V$170,2,FALSE)","v":"G4"},null,0.89037320096932,0]
["202627-0-C-G4","55_4",{"$f":"FrontPage!$N$2","v":{"v":1,"d":"1.0"}},"202627","CT1",{"$f":"VLOOKUP(J271,Transfer!$X$35:$Y$155,2,FALSE)","v":55},{"$f":"VLOOKUP(K271,Transfer!$X$19:$Y$30,2,FALSE)","v":4},0,0,54,"C",{"$f":"VLOOKUP(F271,PartG,MATCH(G271,PartG!$B$5:$Q$5,0),FALSE)","v":0},null,{"$f":"VLOOKUP(F271,Transfer!$U$19:$V$170,2,FALSE)","v":"G4"},null,0.6701524782693461,0]
["202627-0-D-G4","55_5",{"$f":"FrontPage!$N$2","v":{"v":1,"d":"1.0"}},"202627","CT1",{"$f":"VLOOKUP(J272,Transfer!$X$35:$Y$155,2,FALSE)","v":55},{"$f":"VLOOKUP(K272,Transfer!$X$19:$Y$30,2,FALSE)","v":5},0,0,54,"D",{"$f":"VLOOKUP(F272,PartG,MATCH(G272,PartG!$B$5:$Q$5,0),FALSE)","v":0},null,{"$f":"VLOOKUP(F272,Transfer!$U$19:$V$170,2,FALSE)","v":"G4"},null,0.7895303154719527,0]
["202627-0-E-G4","55_6",{"$f":"FrontPage!$N$2","v":{"v":1,"d":"1.0"}},"202627","CT1",{"$f":"VLOOKUP(J273,Transfer!$X$35:$Y$155,2,FALSE)","v":55},{"$f":"VLOOKUP(K273,Transfer!$X$19:$Y$30,2,FALSE)","v":6},0,0,54,"E",{"$f":"VLOOKUP(F273,PartG,MATCH(G273,PartG!$B$5:$Q$5,0),FALSE)","v":0},null,{"$f":"VLOOKUP(F273,Transfer!$U$19:$V$170,2,FALSE)","v":"G4"},null,0.692486849073876,0]
["202627-0-F-G4","55_7",{"$f":"FrontPage!$N$2","v":{"v":1,"d":"1.0"}},"202627","CT1",{"$f":"VLOOKUP(J274,Transfer!$X$35:$Y$155,2,FALSE)","v":55},{"$f":"VLOOKUP(K274,Transfer!$X$19:$Y$30,2,FALSE)","v":7},0,0,54,"F",{"$f":"VLOOKUP(F274,PartG,MATCH(G274,PartG!$B$5:$Q$5,0),FALSE)","v":0},null,{"$f":"VLOOKUP(F274,Transfer!$U$19:$V$170,2,FALSE)","v":"G4"},null,0.08541486882040705,0]
["202627-0-G-G4","55_8",{"$f":"FrontPage!$N$2","v":{"v":1,"d":"1.0"}},"202627","CT1",{"$f":"VLOOKUP(J275,Transfer!$X$35:$Y$155,2,FALSE)","v":55},{"$f":"VLOOKUP(K275,Transfer!$X$19:$Y$30,2,FALSE)","v":8},0,0,54,"G",{"$f":"VLOOKUP(F275,PartG,MATCH(G275,PartG!$B$5:$Q$5,0),FALSE)","v":0},null,{"$f":"VLOOKUP(F275,Transfer!$U$19:$V$170,2,FALSE)","v":"G4"},null,0.02822656100816645,0]
["202627-0-H-G4","55_9",{"$f":"FrontPage!$N$2","v":{"v":1,"d":"1.0"}},"202627","CT1",{"$f":"VLOOKUP(J276,Transfer!$X$35:$Y$155,2,FALSE)","v":55},{"$f":"VLOOKUP(K276,Transfer!$X$19:$Y$30,2,FALSE)","v":9},0,{"$f":"L276","v":0},54,"H",{"$f":"VLOOKUP(F276,PartG,MATCH(G276,PartG!$B$5:$Q$5,0),FALSE)","v":0},null,{"$f":"VLOOKUP(F276,Transfer!$U$19:$V$170,2,FALSE)","v":"G4"},null,0.35078161832832344,0]
["202627-0-I-G4","55_10",{"$f":"FrontPage!$N$2","v":{"v":1,"d":"1.0"}},"202627","CT1",{"$f":"VLOOKUP(J277,Transfer!$X$35:$Y$155,2,FALSE)","v":55},{"$f":"VLOOKUP(K277,Transfer!$X$19:$Y$30,2,FALSE)","v":10},0,0,54,"I",{"$f":"VLOOKUP(F277,PartG,MATCH(G277,PartG!$B$5:$Q$5,0),FALSE)","v":0},null,{"$f":"VLOOKUP(F277,Transfer!$U$19:$V$170,2,FALSE)","v":"G4"},null,0.8631277515982619,0]
["202627-0-TOTAL-G4","55_11",{"$f":"FrontPage!$N$2","v":{"v":1,"d":"1.0"}},"202627","CT1",{"$f":"VLOOKUP(J278,Transfer!$X$35:$Y$155,2,FALSE)","v":55},{"$f":"VLOOKUP(K278,Transfer!$X$19:$Y$30,2,FALSE)","v":11},0,0,54,"TOTAL",{"$f":"VLOOKUP(F278,PartG,MATCH(G278,PartG!$B$5:$Q$5,0),FALSE)","v":0},null,{"$f":"VLOOKUP(F278,Transfer!$U$19:$V$170,2,FALSE)","v":"G4"},null,0.7322221422012628,0]
["202627-0-A--G5","56_1",{"$f":"FrontPage!$N$2","v":{"v":1,"d":"1.0"}},"202627","CT1",{"$f":"VLOOKUP(J279,Transfer!$X$35:$Y$155,2,FALSE)","v":56},{"$f":"VLOOKUP(K279,Transfer!$X$19:$Y$30,2,FALSE)","v":1},0,0,55,"A-",{"$f":"VLOOKUP(F279,PartG,MATCH(G279,PartG!$B$5:$Q$5,0),FALSE)","v":0},null,{"$f":"VLOOKUP(F279,Transfer!$U$19:$V$170,2,FALSE)","v":"G5"},null,0.9598765811675293,0]
["202627-0-A-G5","56_2",{"$f":"FrontPage!$N$2","v":{"v":1,"d":"1.0"}},"202627","CT1",{"$f":"VLOOKUP(J280,Transfer!$X$35:$Y$155,2,FALSE)","v":56},{"$f":"VLOOKUP(K280,Transfer!$X$19:$Y$30,2,FALSE)","v":2},0,0,55,"A",{"$f":"VLOOKUP(F280,PartG,MATCH(G280,PartG!$B$5:$Q$5,0),FALSE)","v":0},null,{"$f":"VLOOKUP(F280,Transfer!$U$19:$V$170,2,FALSE)","v":"G5"},null,0.6719145323880632,0]
["202627-0-B-G5","56_3",{"$f":"FrontPage!$N$2","v":{"v":1,"d":"1.0"}},"202627","CT1",{"$f":"VLOOKUP(J281,Transfer!$X$35:$Y$155,2,FALSE)","v":56},{"$f":"VLOOKUP(K281,Transfer!$X$19:$Y$30,2,FALSE)","v":3},0,0,55,"B",{"$f":"VLOOKUP(F281,PartG,MATCH(G281,PartG!$B$5:$Q$5,0),FALSE)","v":0},null,{"$f":"VLOOKUP(F281,Transfer!$U$19:$V$170,2,FALSE)","v":"G5"},null,0.5649149497454743,0]
["202627-0-C-G5","56_4",{"$f":"FrontPage!$N$2","v":{"v":1,"d":"1.0"}},"202627","CT1",{"$f":"VLOOKUP(J282,Transfer!$X$35:$Y$155,2,FALSE)","v":56},{"$f":"VLOOKUP(K282,Transfer!$X$19:$Y$30,2,FALSE)","v":4},0,0,55,"C",{"$f":"VLOOKUP(F282,PartG,MATCH(G282,PartG!$B$5:$Q$5,0),FALSE)","v":0},null,{"$f":"VLOOKUP(F282,Transfer!$U$19:$V$170,2,FALSE)","v":"G5"},null,0.08582026445825708,0]
["202627-0-D-G5","56_5",{"$f":"FrontPage!$N$2","v":{"v":1,"d":"1.0"}},"202627","CT1",{"$f":"VLOOKUP(J283,Transfer!$X$35:$Y$155,2,FALSE)","v":56},{"$f":"VLOOKUP(K283,Transfer!$X$19:$Y$30,2,FALSE)","v":5},0,0,55,"D",{"$f":"VLOOKUP(F283,PartG,MATCH(G283,PartG!$B$5:$Q$5,0),FALSE)","v":0},null,{"$f":"VLOOKUP(F283,Transfer!$U$19:$V$170,2,FALSE)","v":"G5"},null,0.18487336197022175,0]
["202627-0-E-G5","56_6",{"$f":"FrontPage!$N$2","v":{"v":1,"d":"1.0"}},"202627","CT1",{"$f":"VLOOKUP(J284,Transfer!$X$35:$Y$155,2,FALSE)","v":56},{"$f":"VLOOKUP(K284,Transfer!$X$19:$Y$30,2,FALSE)","v":6},0,0,55,"E",{"$f":"VLOOKUP(F284,PartG,MATCH(G284,PartG!$B$5:$Q$5,0),FALSE)","v":0},null,{"$f":"VLOOKUP(F284,Transfer!$U$19:$V$170,2,FALSE)","v":"G5"},null,0.3603040324927156,0]
["202627-0-F-G5","56_7",{"$f":"FrontPage!$N$2","v":{"v":1,"d":"1.0"}},"202627","CT1",{"$f":"VLOOKUP(J285,Transfer!$X$35:$Y$155,2,FALSE)","v":56},{"$f":"VLOOKUP(K285,Transfer!$X$19:$Y$30,2,FALSE)","v":7},0,0,55,"F",{"$f":"VLOOKUP(F285,PartG,MATCH(G285,PartG!$B$5:$Q$5,0),FALSE)","v":0},null,{"$f":"VLOOKUP(F285,Transfer!$U$19:$V$170,2,FALSE)","v":"G5"},null,0.0975206568546012,0]
["202627-0-G-G5","56_8",{"$f":"FrontPage!$N$2","v":{"v":1,"d":"1.0"}},"202627","CT1",{"$f":"VLOOKUP(J286,Transfer!$X$35:$Y$155,2,FALSE)","v":56},{"$f":"VLOOKUP(K286,Transfer!$X$19:$Y$30,2,FALSE)","v":8},0,0,55,"G",{"$f":"VLOOKUP(F286,PartG,MATCH(G286,PartG!$B$5:$Q$5,0),FALSE)","v":0},null,{"$f":"VLOOKUP(F286,Transfer!$U$19:$V$170,2,FALSE)","v":"G5"},null,0.772674700822731,0]
["202627-0-H-G5","56_9",{"$f":"FrontPage!$N$2","v":{"v":1,"d":"1.0"}},"202627","CT1",{"$f":"VLOOKUP(J287,Transfer!$X$35:$Y$155,2,FALSE)","v":56},{"$f":"VLOOKUP(K287,Transfer!$X$19:$Y$30,2,FALSE)","v":9},0,0,55,"H",{"$f":"VLOOKUP(F287,PartG,MATCH(G287,PartG!$B$5:$Q$5,0),FALSE)","v":0},null,{"$f":"VLOOKUP(F287,Transfer!$U$19:$V$170,2,FALSE)","v":"G5"},null,0.9414495562103815,0]
["202627-0-I-G5","56_10",{"$f":"FrontPage!$N$2","v":{"v":1,"d":"1.0"}},"202627","CT1",{"$f":"VLOOKUP(J288,Transfer!$X$35:$Y$155,2,FALSE)","v":56},{"$f":"VLOOKUP(K288,Transfer!$X$19:$Y$30,2,FALSE)","v":10},0,0,55,"I",{"$f":"VLOOKUP(F288,PartG,MATCH(G288,PartG!$B$5:$Q$5,0),FALSE)","v":0},null,{"$f":"VLOOKUP(F288,Transfer!$U$19:$V$170,2,FALSE)","v":"G5"},null,0.927176648753186,0]
["202627-0-TOTAL-G5","56_11",{"$f":"FrontPage!$N$2","v":{"v":1,"d":"1.0"}},"202627","CT1",{"$f":"VLOOKUP(J289,Transfer!$X$35:$Y$155,2,FALSE)","v":56},{"$f":"VLOOKUP(K289,Transfer!$X$19:$Y$30,2,FALSE)","v":11},0,0,55,"TOTAL",{"$f":"VLOOKUP(F289,PartG,MATCH(G289,PartG!$B$5:$Q$5,0),FALSE)","v":0},null,{"$f":"VLOOKUP(F289,Transfer!$U$19:$V$170,2,FALSE)","v":"G5"},null,0.3507341254397782,0]
["202627-0-%-G5","56_12",{"$f":"FrontPage!$N$2","v":{"v":1,"d":"1.0"}},"202627","CT1",{"$f":"VLOOKUP(J290,Transfer!$X$35:$Y$155,2,FALSE)","v":56},{"$f":"VLOOKUP(K290,Transfer!$X$19:$Y$30,2,FALSE)","v":12},0,0,55,"%",{"$f":"VLOOKUP(F290,PartG,MATCH(G290,PartG!$B$5:$Q$5,0),FALSE)","v":0},null,{"$f":"VLOOKUP(F290,Transfer!$U$19:$V$170,2,FALSE)","v":"G5"},null,0.09896261801519968,0]
["202627-0-A--G6","57_1",{"$f":"FrontPage!$N$2","v":{"v":1,"d":"1.0"}},"202627","CT1",{"$f":"VLOOKUP(J291,Transfer!$X$35:$Y$155,2,FALSE)","v":57},{"$f":"VLOOKUP(K291,Transfer!$X$19:$Y$30,2,FALSE)","v":1},0,0,56,"A-",{"$f":"VLOOKUP(F291,PartG,MATCH(G291,PartG!$B$5:$Q$5,0),FALSE)","v":0},null,{"$f":"VLOOKUP(F291,Transfer!$U$19:$V$170,2,FALSE)","v":"G6"},null,0.033257019550569034,0]
["202627-0-A-G6","57_2",{"$f":"FrontPage!$N$2","v":{"v":1,"d":"1.0"}},"202627","CT1",{"$f":"VLOOKUP(J292,Transfer!$X$35:$Y$155,2,FALSE)","v":57},{"$f":"VLOOKUP(K292,Transfer!$X$19:$Y$30,2,FALSE)","v":2},0,0,56,"A",{"$f":"VLOOKUP(F292,PartG,MATCH(G292,PartG!$B$5:$Q$5,0),FALSE)","v":0},null,{"$f":"VLOOKUP(F292,Transfer!$U$19:$V$170,2,FALSE)","v":"G6"},null,0.7392593070435571,0]
["202627-0-B-G6","57_3",{"$f":"FrontPage!$N$2","v":{"v":1,"d":"1.0"}},"202627","CT1",{"$f":"VLOOKUP(J293,Transfer!$X$35:$Y$155,2,FALSE)","v":57},{"$f":"VLOOKUP(K293,Transfer!$X$19:$Y$30,2,FALSE)","v":3},0,0,56,"B",{"$f":"VLOOKUP(F293,PartG,MATCH(G293,PartG!$B$5:$Q$5,0),FALSE)","v":0},null,{"$f":"VLOOKUP(F293,Transfer!$U$19:$V$170,2,FALSE)","v":"G6"},null,0.13390995642790615,0]
["202627-0-C-G6","57_4",{"$f":"FrontPage!$N$2","v":{"v":1,"d":"1.0"}},"202627","CT1",{"$f":"VLOOKUP(J294,Transfer!$X$35:$Y$155,2,FALSE)","v":57},{"$f":"VLOOKUP(K294,Transfer!$X$19:$Y$30,2,FALSE)","v":4},0,0,56,"C",{"$f":"VLOOKUP(F294,PartG,MATCH(G294,PartG!$B$5:$Q$5,0),FALSE)","v":0},null,{"$f":"VLOOKUP(F294,Transfer!$U$19:$V$170,2,FALSE)","v":"G6"},null,0.9166728456959885,0]
["202627-0-D-G6","57_5",{"$f":"FrontPage!$N$2","v":{"v":1,"d":"1.0"}},"202627","CT1",{"$f":"VLOOKUP(J295,Transfer!$X$35:$Y$155,2,FALSE)","v":57},{"$f":"VLOOKUP(K295,Transfer!$X$19:$Y$30,2,FALSE)","v":5},0,0,56,"D",{"$f":"VLOOKUP(F295,PartG,MATCH(G295,PartG!$B$5:$Q$5,0),FALSE)","v":0},null,{"$f":"VLOOKUP(F295,Transfer!$U$19:$V$170,2,FALSE)","v":"G6"},null,0.46884242854119995,0]
["202627-0-E-G6","57_6",{"$f":"FrontPage!$N$2","v":{"v":1,"d":"1.0"}},"202627","CT1",{"$f":"VLOOKUP(J296,Transfer!$X$35:$Y$155,2,FALSE)","v":57},{"$f":"VLOOKUP(K296,Transfer!$X$19:$Y$30,2,FALSE)","v":6},0,0,56,"E",{"$f":"VLOOKUP(F296,PartG,MATCH(G296,PartG!$B$5:$Q$5,0),FALSE)","v":0},null,{"$f":"VLOOKUP(F296,Transfer!$U$19:$V$170,2,FALSE)","v":"G6"},null,0.7393635399981976,0]
["202627-0-F-G6","57_7",{"$f":"FrontPage!$N$2","v":{"v":1,"d":"1.0"}},"202627","CT1",{"$f":"VLOOKUP(J297,Transfer!$X$35:$Y$155,2,FALSE)","v":57},{"$f":"VLOOKUP(K297,Transfer!$X$19:$Y$30,2,FALSE)","v":7},0,0,56,"F",{"$f":"VLOOKUP(F297,PartG,MATCH(G297,PartG!$B$5:$Q$5,0),FALSE)","v":0},null,{"$f":"VLOOKUP(F297,Transfer!$U$19:$V$170,2,FALSE)","v":"G6"},null,0.20147011667870585,0]
["202627-0-G-G6","57_8",{"$f":"FrontPage!$N$2","v":{"v":1,"d":"1.0"}},"202627","CT1",{"$f":"VLOOKUP(J298,Transfer!$X$35:$Y$155,2,FALSE)","v":57},{"$f":"VLOOKUP(K298,Transfer!$X$19:$Y$30,2,FALSE)","v":8},0,0,56,"G",{"$f":"VLOOKUP(F298,PartG,MATCH(G298,PartG!$B$5:$Q$5,0),FALSE)","v":0},null,{"$f":"VLOOKUP(F298,Transfer!$U$19:$V$170,2,FALSE)","v":"G6"},null,0.39393487945203043,0]
["202627-0-H-G6","57_9",{"$f":"FrontPage!$N$2","v":{"v":1,"d":"1.0"}},"202627","CT1",{"$f":"VLOOKUP(J299,Transfer!$X$35:$Y$155,2,FALSE)","v":57},{"$f":"VLOOKUP(K299,Transfer!$X$19:$Y$30,2,FALSE)","v":9},0,0,56,"H",{"$f":"VLOOKUP(F299,PartG,MATCH(G299,PartG!$B$5:$Q$5,0),FALSE)","v":0},null,{"$f":"VLOOKUP(F299,Transfer!$U$19:$V$170,2,FALSE)","v":"G6"},null,0.820179223839613,0]
["202627-0-I-G6","57_10",{"$f":"FrontPage!$N$2","v":{"v":1,"d":"1.0"}},"202627","CT1",{"$f":"VLOOKUP(J300,Transfer!$X$35:$Y$155,2,FALSE)","v":57},{"$f":"VLOOKUP(K300,Transfer!$X$19:$Y$30,2,FALSE)","v":10},0,0,56,"I",{"$f":"VLOOKUP(F300,PartG,MATCH(G300,PartG!$B$5:$Q$5,0),FALSE)","v":0},null,{"$f":"VLOOKUP(F300,Transfer!$U$19:$V$170,2,FALSE)","v":"G6"},null,0.4031319413440072,0]
["202627-0-TOTAL-G6","57_11",{"$f":"FrontPage!$N$2","v":{"v":1,"d":"1.0"}},"202627","CT1",{"$f":"VLOOKUP(J301,Transfer!$X$35:$Y$155,2,FALSE)","v":57},{"$f":"VLOOKUP(K301,Transfer!$X$19:$Y$30,2,FALSE)","v":11},0,0,56,"TOTAL",{"$f":"VLOOKUP(F301,PartG,MATCH(G301,PartG!$B$5:$Q$5,0),FALSE)","v":0},null,{"$f":"VLOOKUP(F301,Transfer!$U$19:$V$170,2,FALSE)","v":"G6"},null,0.7104501937736157,0]
["202627-0-A--G7","58_1",{"$f":"FrontPage!$N$2","v":{"v":1,"d":"1.0"}},"202627","CT1",{"$f":"VLOOKUP(J302,Transfer!$X$35:$Y$155,2,FALSE)","v":58},{"$f":"VLOOKUP(K302,Transfer!$X$19:$Y$30,2,FALSE)","v":1},0,0,57,"A-",{"$f":"VLOOKUP(F302,PartG,MATCH(G302,PartG!$B$5:$Q$5,0),FALSE)","v":0},null,{"$f":"VLOOKUP(F302,Transfer!$U$19:$V$170,2,FALSE)","v":"G7"},null,0.08072908107624466,0]
["202627-0-A-G7","58_2",{"$f":"FrontPage!$N$2","v":{"v":1,"d":"1.0"}},"202627","CT1",{"$f":"VLOOKUP(J303,Transfer!$X$35:$Y$155,2,FALSE)","v":58},{"$f":"VLOOKUP(K303,Transfer!$X$19:$Y$30,2,FALSE)","v":2},0,0,57,"A",{"$f":"VLOOKUP(F303,PartG,MATCH(G303,PartG!$B$5:$Q$5,0),FALSE)","v":0},null,{"$f":"VLOOKUP(F303,Transfer!$U$19:$V$170,2,FALSE)","v":"G7"},null,0.41350510677864594,0]
["202627-0-B-G7","58_3",{"$f":"FrontPage!$N$2","v":{"v":1,"d":"1.0"}},"202627","CT1",{"$f":"VLOOKUP(J304,Transfer!$X$35:$Y$155,2,FALSE)","v":58},{"$f":"VLOOKUP(K304,Transfer!$X$19:$Y$30,2,FALSE)","v":3},0,0,57,"B",{"$f":"VLOOKUP(F304,PartG,MATCH(G304,PartG!$B$5:$Q$5,0),FALSE)","v":0},null,{"$f":"VLOOKUP(F304,Transfer!$U$19:$V$170,2,FALSE)","v":"G7"},null,0.31740464702254934,0]
["202627-0-C-G7","58_4",{"$f":"FrontPage!$N$2","v":{"v":1,"d":"1.0"}},"202627","CT1",{"$f":"VLOOKUP(J305,Transfer!$X$35:$Y$155,2,FALSE)","v":58},{"$f":"VLOOKUP(K305,Transfer!$X$19:$Y$30,2,FALSE)","v":4},0,0,57,"C",{"$f":"VLOOKUP(F305,PartG,MATCH(G305,PartG!$B$5:$Q$5,0),FALSE)","v":0},null,{"$f":"VLOOKUP(F305,Transfer!$U$19:$V$170,2,FALSE)","v":"G7"},null,0.7693320014072338,0]
["202627-0-D-G7","58_5",{"$f":"FrontPage!$N$2","v":{"v":1,"d":"1.0"}},"202627","CT1",{"$f":"VLOOKUP(J306,Transfer!$X$35:$Y$155,2,FALSE)","v":58},{"$f":"VLOOKUP(K306,Transfer!$X$19:$Y$30,2,FALSE)","v":5},0,0,57,"D",{"$f":"VLOOKUP(F306,PartG,MATCH(G306,PartG!$B$5:$Q$5,0),FALSE)","v":0},null,{"$f":"VLOOKUP(F306,Transfer!$U$19:$V$170,2,FALSE)","v":"G7"},null,0.11586642379970868,0]
["202627-0-E-G7","58_6",{"$f":"FrontPage!$N$2","v":{"v":1,"d":"1.0"}},"202627","CT1",{"$f":"VLOOKUP(J307,Transfer!$X$35:$Y$155,2,FALSE)","v":58},{"$f":"VLOOKUP(K307,Transfer!$X$19:$Y$30,2,FALSE)","v":6},0,0,57,"E",{"$f":"VLOOKUP(F307,PartG,MATCH(G307,PartG!$B$5:$Q$5,0),FALSE)","v":0},null,{"$f":"VLOOKUP(F307,Transfer!$U$19:$V$170,2,FALSE)","v":"G7"},null,0.7033621428729697,0]
["202627-0-F-G7","58_7",{"$f":"FrontPage!$N$2","v":{"v":1,"d":"1.0"}},"202627","CT1",{"$f":"VLOOKUP(J308,Transfer!$X$35:$Y$155,2,FALSE)","v":58},{"$f":"VLOOKUP(K308,Transfer!$X$19:$Y$30,2,FALSE)","v":7},0,0,57,"F",{"$f":"VLOOKUP(F308,PartG,MATCH(G308,PartG!$B$5:$Q$5,0),FALSE)","v":0},null,{"$f":"VLOOKUP(F308,Transfer!$U$19:$V$170,2,FALSE)","v":"G7"},null,0.2587954679492377,0]
["202627-0-G-G7","58_8",{"$f":"FrontPage!$N$2","v":{"v":1,"d":"1.0"}},"202627","CT1",{"$f":"VLOOKUP(J309,Transfer!$X$35:$Y$155,2,FALSE)","v":58},{"$f":"VLOOKUP(K309,Transfer!$X$19:$Y$30,2,FALSE)","v":8},0,0,57,"G",{"$f":"VLOOKUP(F309,PartG,MATCH(G309,PartG!$B$5:$Q$5,0),FALSE)","v":0},null,{"$f":"VLOOKUP(F309,Transfer!$U$19:$V$170,2,FALSE)","v":"G7"},null,0.288048818607079,0]
["202627-0-H-G7","58_9",{"$f":"FrontPage!$N$2","v":{"v":1,"d":"1.0"}},"202627","CT1",{"$f":"VLOOKUP(J310,Transfer!$X$35:$Y$155,2,FALSE)","v":58},{"$f":"VLOOKUP(K310,Transfer!$X$19:$Y$30,2,FALSE)","v":9},0,0,57,"H",{"$f":"VLOOKUP(F310,PartG,MATCH(G310,PartG!$B$5:$Q$5,0),FALSE)","v":0},null,{"$f":"VLOOKUP(F310,Transfer!$U$19:$V$170,2,FALSE)","v":"G7"},null,0.9867516761463309,0]
["202627-0-I-G7","58_10",{"$f":"FrontPage!$N$2","v":{"v":1,"d":"1.0"}},"202627","CT1",{"$f":"VLOOKUP(J311,Transfer!$X$35:$Y$155,2,FALSE)","v":58},{"$f":"VLOOKUP(K311,Transfer!$X$19:$Y$30,2,FALSE)","v":10},0,0,57,"I",{"$f":"VLOOKUP(F311,PartG,MATCH(G311,PartG!$B$5:$Q$5,0),FALSE)","v":0},null,{"$f":"VLOOKUP(F311,Transfer!$U$19:$V$170,2,FALSE)","v":"G7"},null,0.02324271244303333,0]
["202627-0-TOTAL-G7","58_11",{"$f":"FrontPage!$N$2","v":{"v":1,"d":"1.0"}},"202627","CT1",{"$f":"VLOOKUP(J312,Transfer!$X$35:$Y$155,2,FALSE)","v":58},{"$f":"VLOOKUP(K312,Transfer!$X$19:$Y$30,2,FALSE)","v":11},0,0,57,"TOTAL",{"$f":"VLOOKUP(F312,PartG,MATCH(G312,PartG!$B$5:$Q$5,0),FALSE)","v":0},null,{"$f":"VLOOKUP(F312,Transfer!$U$19:$V$170,2,FALSE)","v":"G7"},null,0.5978565391507198,0]
["202627-0-%-G7","58_12",{"$f":"FrontPage!$N$2","v":{"v":1,"d":"1.0"}},"202627","CT1",{"$f":"VLOOKUP(J313,Transfer!$X$35:$Y$155,2,FALSE)","v":58},{"$f":"VLOOKUP(K313,Transfer!$X$19:$Y$30,2,FALSE)","v":12},0,0,57,"%",{"$f":"VLOOKUP(F313,PartG,MATCH(G313,PartG!$B$5:$Q$5,0),FALSE)","v":0},null,{"$f":"VLOOKUP(F313,Transfer!$U$19:$V$170,2,FALSE)","v":"G7"},null,0.6817454619367435,0]
["202627-0-A--G8","59_1",{"$f":"FrontPage!$N$2","v":{"v":1,"d":"1.0"}},"202627","CT1",{"$f":"VLOOKUP(J314,Transfer!$X$35:$Y$155,2,FALSE)","v":59},{"$f":"VLOOKUP(K314,Transfer!$X$19:$Y$30,2,FALSE)","v":1},0,0,58,"A-",{"$f":"VLOOKUP(F314,PartG,MATCH(G314,PartG!$B$5:$Q$5,0),FALSE)","v":0},null,{"$f":"VLOOKUP(F314,Transfer!$U$19:$V$170,2,FALSE)","v":"G8"},null,0.28531173969679324,0]
["202627-0-A-G8","59_2",{"$f":"FrontPage!$N$2","v":{"v":1,"d":"1.0"}},"202627","CT1",{"$f":"VLOOKUP(J315,Transfer!$X$35:$Y$155,2,FALSE)","v":59},{"$f":"VLOOKUP(K315,Transfer!$X$19:$Y$30,2,FALSE)","v":2},0,0,58,"A",{"$f":"VLOOKUP(F315,PartG,MATCH(G315,PartG!$B$5:$Q$5,0),FALSE)","v":0},null,{"$f":"VLOOKUP(F315,Transfer!$U$19:$V$170,2,FALSE)","v":"G8"},null,0.13563140007709362,0]
["202627-0-B-G8","59_3",{"$f":"FrontPage!$N$2","v":{"v":1,"d":"1.0"}},"202627","CT1",{"$f":"VLOOKUP(J316,Transfer!$X$35:$Y$155,2,FALSE)","v":59},{"$f":"VLOOKUP(K316,Transfer!$X$19:$Y$30,2,FALSE)","v":3},0,0,58,"B",{"$f":"VLOOKUP(F316,PartG,MATCH(G316,PartG!$B$5:$Q$5,0),FALSE)","v":0},null,{"$f":"VLOOKUP(F316,Transfer!$U$19:$V$170,2,FALSE)","v":"G8"},null,0.46593579082117276,0]
["202627-0-C-G8","59_4",{"$f":"FrontPage!$N$2","v":{"v":1,"d":"1.0"}},"202627","CT1",{"$f":"VLOOKUP(J317,Transfer!$X$35:$Y$155,2,FALSE)","v":59},{"$f":"VLOOKUP(K317,Transfer!$X$19:$Y$30,2,FALSE)","v":4},0,0,58,"C",{"$f":"VLOOKUP(F317,PartG,MATCH(G317,PartG!$B$5:$Q$5,0),FALSE)","v":0},null,{"$f":"VLOOKUP(F317,Transfer!$U$19:$V$170,2,FALSE)","v":"G8"},null,0.9640390186681502,0]
["202627-0-D-G8","59_5",{"$f":"FrontPage!$N$2","v":{"v":1,"d":"1.0"}},"202627","CT1",{"$f":"VLOOKUP(J318,Transfer!$X$35:$Y$155,2,FALSE)","v":59},{"$f":"VLOOKUP(K318,Transfer!$X$19:$Y$30,2,FALSE)","v":5},0,0,58,"D",{"$f":"VLOOKUP(F318,PartG,MATCH(G318,PartG!$B$5:$Q$5,0),FALSE)","v":0},null,{"$f":"VLOOKUP(F318,Transfer!$U$19:$V$170,2,FALSE)","v":"G8"},null,0.11107569389222904,0]
["202627-0-E-G8","59_6",{"$f":"FrontPage!$N$2","v":{"v":1,"d":"1.0"}},"202627","CT1",{"$f":"VLOOKUP(J319,Transfer!$X$35:$Y$155,2,FALSE)","v":59},{"$f":"VLOOKUP(K319,Transfer!$X$19:$Y$30,2,FALSE)","v":6},0,0,58,"E",{"$f":"VLOOKUP(F319,PartG,MATCH(G319,PartG!$B$5:$Q$5,0),FALSE)","v":0},null,{"$f":"VLOOKUP(F319,Transfer!$U$19:$V$170,2,FALSE)","v":"G8"},null,0.9372206470492037,0]
["202627-0-F-G8","59_7",{"$f":"FrontPage!$N$2","v":{"v":1,"d":"1.0"}},"202627","CT1",{"$f":"VLOOKUP(J320,Transfer!$X$35:$Y$155,2,FALSE)","v":59},{"$f":"VLOOKUP(K320,Transfer!$X$19:$Y$30,2,FALSE)","v":7},0,0,58,"F",{"$f":"VLOOKUP(F320,PartG,MATCH(G320,PartG!$B$5:$Q$5,0),FALSE)","v":0},null,{"$f":"VLOOKUP(F320,Transfer!$U$19:$V$170,2,FALSE)","v":"G8"},null,0.3397603517548977,0]
["202627-0-G-G8","59_8",{"$f":"FrontPage!$N$2","v":{"v":1,"d":"1.0"}},"202627","CT1",{"$f":"VLOOKUP(J321,Transfer!$X$35:$Y$155,2,FALSE)","v":59},{"$f":"VLOOKUP(K321,Transfer!$X$19:$Y$30,2,FALSE)","v":8},0,0,58,"G",{"$f":"VLOOKUP(F321,PartG,MATCH(G321,PartG!$B$5:$Q$5,0),FALSE)","v":0},null,{"$f":"VLOOKUP(F321,Transfer!$U$19:$V$170,2,FALSE)","v":"G8"},null,0.6627146279632362,0]
["202627-0-H-G8","59_9",{"$f":"FrontPage!$N$2","v":{"v":1,"d":"1.0"}},{"$f":"$W$2","v":"202627"},"CT1",{"$f":"VLOOKUP(J322,Transfer!$X$35:$Y$155,2,FALSE)","v":59},{"$f":"VLOOKUP(K322,Transfer!$X$19:$Y$30,2,FALSE)","v":9},{"$f":"uanumber","v":0},0,58,"H",{"$f":"VLOOKUP(F322,PartG,MATCH(G322,PartG!$B$5:$Q$5,0),FALSE)","v":0},null,{"$f":"VLOOKUP(F322,Transfer!$U$19:$V$170,2,FALSE)","v":"G8"},null,0.6901865464291066,{"$f":"+I322*P322","v":0}]
[{"$f":"D323&\"-\"&H323&\"-\"&K323&\"-\"&N323","v":"202627-0-I-G8"},{"$f":"F323&\"_\"&G323","v":"59_10"},{"$f":"FrontPage!$N$2","v":{"v":1,"d":"1.0"}},"202627","CT1",{"$f":"VLOOKUP(J323,Transfer!$X$35:$Y$155,2,FALSE)","v":59},{"$f":"VLOOKUP(K323,Transfer!$X$19:$Y$30,2,FALSE)","v":10},0,0,58,"I",{"$f":"VLOOKUP(F323,PartG,MATCH(G323,PartG!$B$5:$Q$5,0),FALSE)","v":0},null,{"$f":"VLOOKUP(F323,Transfer!$U$19:$V$170,2,FALSE)","v":"G8"},null,0.5549968966370677,0]
["202627-0-TOTAL-G8","59_11",{"$f":"FrontPage!$N$2","v":{"v":1,"d":"1.0"}},"202627",{"$f":"$E$2","v":"CT1"},{"$f":"VLOOKUP(J324,Transfer!$X$35:$Y$155,2,FALSE)","v":59},{"$f":"VLOOKUP(K324,Transfer!$X$19:$Y$30,2,FALSE)","v":11},0,0,58,"TOTAL",{"$f":"VLOOKUP(F324,PartG,MATCH(G324,PartG!$B$5:$Q$5,0),FALSE)","v":0},null,{"$f":"VLOOKUP(F324,Transfer!$U$19:$V$170,2,FALSE)","v":"G8"},null,0.5625599450473542,0]
["202627-0-A--G9","60_1",{"$f":"FrontPage!$N$2","v":{"v":1,"d":"1.0"}},"202627","CT1",{"$f":"VLOOKUP(J325,Transfer!$X$35:$Y$155,2,FALSE)","v":60},{"$f":"VLOOKUP(K325,Transfer!$X$19:$Y$30,2,FALSE)","v":1},0,0,59,"A-",{"$f":"VLOOKUP(F325,PartG,MATCH(G325,PartG!$B$5:$Q$5,0),FALSE)","v":0},null,{"$f":"VLOOKUP(F325,Transfer!$U$19:$V$170,2,FALSE)","v":"G9"},null,0.43599684269435235,0]
["202627-0-A-G9","60_2",{"$f":"FrontPage!$N$2","v":{"v":1,"d":"1.0"}},"202627","CT1",{"$f":"VLOOKUP(J326,Transfer!$X$35:$Y$155,2,FALSE)","v":60},{"$f":"VLOOKUP(K326,Transfer!$X$19:$Y$30,2,FALSE)","v":2},0,0,59,"A",{"$f":"VLOOKUP(F326,PartG,MATCH(G326,PartG!$B$5:$Q$5,0),FALSE)","v":0},null,{"$f":"VLOOKUP(F326,Transfer!$U$19:$V$170,2,FALSE)","v":"G9"},null,0.10552410301156001,0]
["202627-0-B-G9","60_3",{"$f":"FrontPage!$N$2","v":{"v":1,"d":"1.0"}},"202627","CT1",{"$f":"VLOOKUP(J327,Transfer!$X$35:$Y$155,2,FALSE)","v":60},{"$f":"VLOOKUP(K327,Transfer!$X$19:$Y$30,2,FALSE)","v":3},0,0,59,"B",{"$f":"VLOOKUP(F327,PartG,MATCH(G327,PartG!$B$5:$Q$5,0),FALSE)","v":0},null,{"$f":"VLOOKUP(F327,Transfer!$U$19:$V$170,2,FALSE)","v":"G9"},null,0.3042711824536666,0]
["202627-0-C-G9","60_4",{"$f":"FrontPage!$N$2","v":{"v":1,"d":"1.0"}},"202627","CT1",{"$f":"VLOOKUP(J328,Transfer!$X$35:$Y$155,2,FALSE)","v":60},{"$f":"VLOOKUP(K328,Transfer!$X$19:$Y$30,2,FALSE)","v":4},0,0,59,"C",{"$f":"VLOOKUP(F328,PartG,MATCH(G328,PartG!$B$5:$Q$5,0),FALSE)","v":0},null,{"$f":"VLOOKUP(F328,Transfer!$U$19:$V$170,2,FALSE)","v":"G9"},null,0.4663683676917062,0]
["202627-0-D-G9","60_5",{"$f":"FrontPage!$N$2","v":{"v":1,"d":"1.0"}},"202627","CT1",{"$f":"VLOOKUP(J329,Transfer!$X$35:$Y$155,2,FALSE)","v":60},{"$f":"VLOOKUP(K329,Transfer!$X$19:$Y$30,2,FALSE)","v":5},0,0,59,"D",{"$f":"VLOOKUP(F329,PartG,MATCH(G329,PartG!$B$5:$Q$5,0),FALSE)","v":0},null,{"$f":"VLOOKUP(F329,Transfer!$U$19:$V$170,2,FALSE)","v":"G9"},null,0.8993446194330209,0]
["202627-0-E-G9","60_6",{"$f":"FrontPage!$N$2","v":{"v":1,"d":"1.0"}},"202627","CT1",{"$f":"VLOOKUP(J330,Transfer!$X$35:$Y$155,2,FALSE)","v":60},{"$f":"VLOOKUP(K330,Transfer!$X$19:$Y$30,2,FALSE)","v":6},0,0,59,"E",{"$f":"VLOOKUP(F330,PartG,MATCH(G330,PartG!$B$5:$Q$5,0),FALSE)","v":0},null,{"$f":"VLOOKUP(F330,Transfer!$U$19:$V$170,2,FALSE)","v":"G9"},null,0.21262102362407986,0]
["202627-0-F-G9","60_7",{"$f":"FrontPage!$N$2","v":{"v":1,"d":"1.0"}},"202627","CT1",{"$f":"VLOOKUP(J331,Transfer!$X$35:$Y$155,2,FALSE)","v":60},{"$f":"VLOOKUP(K331,Transfer!$X$19:$Y$30,2,FALSE)","v":7},0,0,59,"F",{"$f":"VLOOKUP(F331,PartG,MATCH(G331,PartG!$B$5:$Q$5,0),FALSE)","v":0},null,{"$f":"VLOOKUP(F331,Transfer!$U$19:$V$170,2,FALSE)","v":"G9"},null,0.8099664635098758,0]
["202627-0-G-G9","60_8",{"$f":"FrontPage!$N$2","v":{"v":1,"d":"1.0"}},"202627","CT1",{"$f":"VLOOKUP(J332,Transfer!$X$35:$Y$155,2,FALSE)","v":60},{"$f":"VLOOKUP(K332,Transfer!$X$19:$Y$30,2,FALSE)","v":8},0,0,59,"G",{"$f":"VLOOKUP(F332,PartG,MATCH(G332,PartG!$B$5:$Q$5,0),FALSE)","v":0},null,{"$f":"VLOOKUP(F332,Transfer!$U$19:$V$170,2,FALSE)","v":"G9"},null,0.6829252849031233,0]
["202627-0-H-G9","60_9",{"$f":"FrontPage!$N$2","v":{"v":1,"d":"1.0"}},"202627","CT1",{"$f":"VLOOKUP(J333,Transfer!$X$35:$Y$155,2,FALSE)","v":60},{"$f":"VLOOKUP(K333,Transfer!$X$19:$Y$30,2,FALSE)","v":9},0,0,59,"H",{"$f":"VLOOKUP(F333,PartG,MATCH(G333,PartG!$B$5:$Q$5,0),FALSE)","v":0},null,{"$f":"VLOOKUP(F333,Transfer!$U$19:$V$170,2,FALSE)","v":"G9"},null,0.1323093865952416,0]
["202627-0-I-G9","60_10",{"$f":"FrontPage!$N$2","v":{"v":1,"d":"1.0"}},"202627","CT1",{"$f":"VLOOKUP(J334,Transfer!$X$35:$Y$155,2,FALSE)","v":60},{"$f":"VLOOKUP(K334,Transfer!$X$19:$Y$30,2,FALSE)","v":10},0,0,59,"I",{"$f":"VLOOKUP(F334,PartG,MATCH(G334,PartG!$B$5:$Q$5,0),FALSE)","v":0},null,{"$f":"VLOOKUP(F334,Transfer!$U$19:$V$170,2,FALSE)","v":"G9"},null,0.19296618349535077,0]
["202627-0-TOTAL-G9","60_11",{"$f":"FrontPage!$N$2","v":{"v":1,"d":"1.0"}},"202627","CT1",{"$f":"VLOOKUP(J335,Transfer!$X$35:$Y$155,2,FALSE)","v":60},{"$f":"VLOOKUP(K335,Transfer!$X$19:$Y$30,2,FALSE)","v":11},0,0,59,"TOTAL",{"$f":"VLOOKUP(F335,PartG,MATCH(G335,PartG!$B$5:$Q$5,0),FALSE)","v":0},null,{"$f":"VLOOKUP(F335,Transfer!$U$19:$V$170,2,FALSE)","v":"G9"},null,0.06282420346874473,0]
["202627-0-%-G9","60_12",{"$f":"FrontPage!$N$2","v":{"v":1,"d":"1.0"}},"202627","CT1",{"$f":"VLOOKUP(J336,Transfer!$X$35:$Y$155,2,FALSE)","v":60},{"$f":"VLOOKUP(K336,Transfer!$X$19:$Y$30,2,FALSE)","v":12},0,0,59,"%",{"$f":"VLOOKUP(F336,PartG,MATCH(G336,PartG!$B$5:$Q$5,0),FALSE)","v":0},null,{"$f":"VLOOKUP(F336,Transfer!$U$19:$V$170,2,FALSE)","v":"G9"},null,0.4852864453796888,0]
["202627-0-A--G10","61_1",{"$f":"FrontPage!$N$2","v":{"v":1,"d":"1.0"}},"202627","CT1",{"$f":"VLOOKUP(J337,Transfer!$X$35:$Y$155,2,FALSE)","v":61},{"$f":"VLOOKUP(K337,Transfer!$X$19:$Y$30,2,FALSE)","v":1},0,0,60,"A-",{"$f":"VLOOKUP(F337,PartG,MATCH(G337,PartG!$B$5:$Q$5,0),FALSE)","v":0},null,{"$f":"VLOOKUP(F337,Transfer!$U$19:$V$170,2,FALSE)","v":"G10"},null,0.10590466856704905,0]
["202627-0-A-G10","61_2",{"$f":"FrontPage!$N$2","v":{"v":1,"d":"1.0"}},"202627","CT1",{"$f":"VLOOKUP(J338,Transfer!$X$35:$Y$155,2,FALSE)","v":61},{"$f":"VLOOKUP(K338,Transfer!$X$19:$Y$30,2,FALSE)","v":2},0,0,60,"A",{"$f":"VLOOKUP(F338,PartG,MATCH(G338,PartG!$B$5:$Q$5,0),FALSE)","v":0},null,{"$f":"VLOOKUP(F338,Transfer!$U$19:$V$170,2,FALSE)","v":"G10"},null,0.29205605643917654,0]
["202627-0-B-G10","61_3",{"$f":"FrontPage!$N$2","v":{"v":1,"d":"1.0"}},"202627","CT1",{"$f":"VLOOKUP(J339,Transfer!$X$35:$Y$155,2,FALSE)","v":61},{"$f":"VLOOKUP(K339,Transfer!$X$19:$Y$30,2,FALSE)","v":3},0,0,60,"B",{"$f":"VLOOKUP(F339,PartG,MATCH(G339,PartG!$B$5:$Q$5,0),FALSE)","v":0},null,{"$f":"VLOOKUP(F339,Transfer!$U$19:$V$170,2,FALSE)","v":"G10"},null,0.45013966530882765,0]
["202627-0-C-G10","61_4",{"$f":"FrontPage!$N$2","v":{"v":1,"d":"1.0"}},"202627","CT1",{"$f":"VLOOKUP(J340,Transfer!$X$35:$Y$155,2,FALSE)","v":61},{"$f":"VLOOKUP(K340,Transfer!$X$19:$Y$30,2,FALSE)","v":4},0,{"$f":"L340","v":0},60,"C",{"$f":"VLOOKUP(F340,PartG,MATCH(G340,PartG!$B$5:$Q$5,0),FALSE)","v":0},null,{"$f":"VLOOKUP(F340,Transfer!$U$19:$V$170,2,FALSE)","v":"G10"},null,0.9919808202472538,0]
["202627-0-D-G10","61_5",{"$f":"FrontPage!$N$2","v":{"v":1,"d":"1.0"}},"202627","CT1",{"$f":"VLOOKUP(J341,Transfer!$X$35:$Y$155,2,FALSE)","v":61},{"$f":"VLOOKUP(K341,Transfer!$X$19:$Y$30,2,FALSE)","v":5},0,0,60,"D",{"$f":"VLOOKUP(F341,PartG,MATCH(G341,PartG!$B$5:$Q$5,0),FALSE)","v":0},null,{"$f":"VLOOKUP(F341,Transfer!$U$19:$V$170,2,FALSE)","v":"G10"},null,0.47578640621003354,0]
["202627-0-E-G10","61_6",{"$f":"FrontPage!$N$2","v":{"v":1,"d":"1.0"}},"202627","CT1",{"$f":"VLOOKUP(J342,Transfer!$X$35:$Y$155,2,FALSE)","v":61},{"$f":"VLOOKUP(K342,Transfer!$X$19:$Y$30,2,FALSE)","v":6},0,0,60,"E",{"$f":"VLOOKUP(F342,PartG,MATCH(G342,PartG!$B$5:$Q$5,0),FALSE)","v":0},null,{"$f":"VLOOKUP(F342,Transfer!$U$19:$V$170,2,FALSE)","v":"G10"},null,0.043252218197957104,0]
["202627-0-F-G10","61_7",{"$f":"FrontPage!$N$2","v":{"v":1,"d":"1.0"}},"202627","CT1",{"$f":"VLOOKUP(J343,Transfer!$X$35:$Y$155,2,FALSE)","v":61},{"$f":"VLOOKUP(K343,Transfer!$X$19:$Y$30,2,FALSE)","v":7},0,0,60,"F",{"$f":"VLOOKUP(F343,PartG,MATCH(G343,PartG!$B$5:$Q$5,0),FALSE)","v":0},null,{"$f":"VLOOKUP(F343,Transfer!$U$19:$V$170,2,FALSE)","v":"G10"},null,0.7032919363512212,0]
["202627-0-G-G10","61_8",{"$f":"FrontPage!$N$2","v":{"v":1,"d":"1.0"}},"202627","CT1",{"$f":"VLOOKUP(J344,Transfer!$X$35:$Y$155,2,FALSE)","v":61},{"$f":"VLOOKUP(K344,Transfer!$X$19:$Y$30,2,FALSE)","v":8},0,0,60,"G",{"$f":"VLOOKUP(F344,PartG,MATCH(G344,PartG!$B$5:$Q$5,0),FALSE)","v":0},null,{"$f":"VLOOKUP(F344,Transfer!$U$19:$V$170,2,FALSE)","v":"G10"},null,0.825755293304178,0]
["202627-0-H-G10","61_9",{"$f":"FrontPage!$N$2","v":{"v":1,"d":"1.0"}},"202627","CT1",{"$f":"VLOOKUP(J345,Transfer!$X$35:$Y$155,2,FALSE)","v":61},{"$f":"VLOOKUP(K345,Transfer!$X$19:$Y$30,2,FALSE)","v":9},0,0,60,"H",{"$f":"VLOOKUP(F345,PartG,MATCH(G345,PartG!$B$5:$Q$5,0),FALSE)","v":0},null,{"$f":"VLOOKUP(F345,Transfer!$U$19:$V$170,2,FALSE)","v":"G10"},null,0.8399717161845334,0]
["202627-0-I-G10","61_10",{"$f":"FrontPage!$N$2","v":{"v":1,"d":"1.0"}},"202627","CT1",{"$f":"VLOOKUP(J346,Transfer!$X$35:$Y$155,2,FALSE)","v":61},{"$f":"VLOOKUP(K346,Transfer!$X$19:$Y$30,2,FALSE)","v":10},0,0,60,"I",{"$f":"VLOOKUP(F346,PartG,MATCH(G346,PartG!$B$5:$Q$5,0),FALSE)","v":0},null,{"$f":"VLOOKUP(F346,Transfer!$U$19:$V$170,2,FALSE)","v":"G10"},null,0.417783012942481,0]
["202627-0-TOTAL-G10","61_11",{"$f":"FrontPage!$N$2","v":{"v":1,"d":"1.0"}},"202627","CT1",{"$f":"VLOOKUP(J347,Transfer!$X$35:$Y$155,2,FALSE)","v":61},{"$f":"VLOOKUP(K347,Transfer!$X$19:$Y$30,2,FALSE)","v":11},0,0,60,"TOTAL",{"$f":"VLOOKUP(F347,PartG,MATCH(G347,PartG!$B$5:$Q$5,0),FALSE)","v":0},null,{"$f":"VLOOKUP(F347,Transfer!$U$19:$V$170,2,FALSE)","v":"G10"},null,0.06985758354472038,0]
["202627-0-A--G11","62_1",{"$f":"FrontPage!$N$2","v":{"v":1,"d":"1.0"}},"202627","CT1",{"$f":"VLOOKUP(J348,Transfer!$X$35:$Y$155,2,FALSE)","v":62},{"$f":"VLOOKUP(K348,Transfer!$X$19:$Y$30,2,FALSE)","v":1},0,0,61,"A-",{"$f":"VLOOKUP(F348,PartG,MATCH(G348,PartG!$B$5:$Q$5,0),FALSE)","v":0},null,{"$f":"VLOOKUP(F348,Transfer!$U$19:$V$170,2,FALSE)","v":"G11"},null,0.26348334232101367,0]
["202627-0-A-G11","62_2",{"$f":"FrontPage!$N$2","v":{"v":1,"d":"1.0"}},"202627","CT1",{"$f":"VLOOKUP(J349,Transfer!$X$35:$Y$155,2,FALSE)","v":62},{"$f":"VLOOKUP(K349,Transfer!$X$19:$Y$30,2,FALSE)","v":2},0,0,61,"A",{"$f":"VLOOKUP(F349,PartG,MATCH(G349,PartG!$B$5:$Q$5,0),FALSE)","v":0},null,{"$f":"VLOOKUP(F349,Transfer!$U$19:$V$170,2,FALSE)","v":"G11"},null,0.38724048264729094,0]
["202627-0-B-G11","62_3",{"$f":"FrontPage!$N$2","v":{"v":1,"d":"1.0"}},"202627","CT1",{"$f":"VLOOKUP(J350,Transfer!$X$35:$Y$155,2,FALSE)","v":62},{"$f":"VLOOKUP(K350,Transfer!$X$19:$Y$30,2,FALSE)","v":3},0,0,61,"B",{"$f":"VLOOKUP(F350,PartG,MATCH(G350,PartG!$B$5:$Q$5,0),FALSE)","v":0},null,{"$f":"VLOOKUP(F350,Transfer!$U$19:$V$170,2,FALSE)","v":"G11"},null,0.466851820441589,0]
["202627-0-C-G11","62_4",{"$f":"FrontPage!$N$2","v":{"v":1,"d":"1.0"}},"202627","CT1",{"$f":"VLOOKUP(J351,Transfer!$X$35:$Y$155,2,FALSE)","v":62},{"$f":"VLOOKUP(K351,Transfer!$X$19:$Y$30,2,FALSE)","v":4},0,0,61,"C",{"$f":"VLOOKUP(F351,PartG,MATCH(G351,PartG!$B$5:$Q$5,0),FALSE)","v":0},null,{"$f":"VLOOKUP(F351,Transfer!$U$19:$V$170,2,FALSE)","v":"G11"},null,0.7616897322119349,0]
["202627-0-D-G11","62_5",{"$f":"FrontPage!$N$2","v":{"v":1,"d":"1.0"}},"202627","CT1",{"$f":"VLOOKUP(J352,Transfer!$X$35:$Y$155,2,FALSE)","v":62},{"$f":"VLOOKUP(K352,Transfer!$X$19:$Y$30,2,FALSE)","v":5},0,0,61,"D",{"$f":"VLOOKUP(F352,PartG,MATCH(G352,PartG!$B$5:$Q$5,0),FALSE)","v":0},null,{"$f":"VLOOKUP(F352,Transfer!$U$19:$V$170,2,FALSE)","v":"G11"},null,0.20260381994169063,0]
["202627-0-E-G11","62_6",{"$f":"FrontPage!$N$2","v":{"v":1,"d":"1.0"}},"202627","CT1",{"$f":"VLOOKUP(J353,Transfer!$X$35:$Y$155,2,FALSE)","v":62},{"$f":"VLOOKUP(K353,Transfer!$X$19:$Y$30,2,FALSE)","v":6},0,0,61,"E",{"$f":"VLOOKUP(F353,PartG,MATCH(G353,PartG!$B$5:$Q$5,0),FALSE)","v":0},null,{"$f":"VLOOKUP(F353,Transfer!$U$19:$V$170,2,FALSE)","v":"G11"},null,0.8606647873652842,0]
["202627-0-F-G11","62_7",{"$f":"FrontPage!$N$2","v":{"v":1,"d":"1.0"}},"202627","CT1",{"$f":"VLOOKUP(J354,Transfer!$X$35:$Y$155,2,FALSE)","v":62},{"$f":"VLOOKUP(K354,Transfer!$X$19:$Y$30,2,FALSE)","v":7},0,0,61,"F",{"$f":"VLOOKUP(F354,PartG,MATCH(G354,PartG!$B$5:$Q$5,0),FALSE)","v":0},null,{"$f":"VLOOKUP(F354,Transfer!$U$19:$V$170,2,FALSE)","v":"G11"},null,0.6552165186473297,0]
["202627-0-G-G11","62_8",{"$f":"FrontPage!$N$2","v":{"v":1,"d":"1.0"}},"202627","CT1",{"$f":"VLOOKUP(J355,Transfer!$X$35:$Y$155,2,FALSE)","v":62},{"$f":"VLOOKUP(K355,Transfer!$X$19:$Y$30,2,FALSE)","v":8},0,0,61,"G",{"$f":"VLOOKUP(F355,PartG,MATCH(G355,PartG!$B$5:$Q$5,0),FALSE)","v":0},null,{"$f":"VLOOKUP(F355,Transfer!$U$19:$V$170,2,FALSE)","v":"G11"},null,0.31061010203105455,0]
["202627-0-H-G11","62_9",{"$f":"FrontPage!$N$2","v":{"v":1,"d":"1.0"}},"202627","CT1",{"$f":"VLOOKUP(J356,Transfer!$X$35:$Y$155,2,FALSE)","v":62},{"$f":"VLOOKUP(K356,Transfer!$X$19:$Y$30,2,FALSE)","v":9},0,0,61,"H",{"$f":"VLOOKUP(F356,PartG,MATCH(G356,PartG!$B$5:$Q$5,0),FALSE)","v":0},null,{"$f":"VLOOKUP(F356,Transfer!$U$19:$V$170,2,FALSE)","v":"G11"},null,0.826203873320614,0]
["202627-0-I-G11","62_10",{"$f":"FrontPage!$N$2","v":{"v":1,"d":"1.0"}},"202627","CT1",{"$f":"VLOOKUP(J357,Transfer!$X$35:$Y$155,2,FALSE)","v":62},{"$f":"VLOOKUP(K357,Transfer!$X$19:$Y$30,2,FALSE)","v":10},0,0,61,"I",{"$f":"VLOOKUP(F357,PartG,MATCH(G357,PartG!$B$5:$Q$5,0),FALSE)","v":0},null,{"$f":"VLOOKUP(F357,Transfer!$U$19:$V$170,2,FALSE)","v":"G11"},null,0.8710709235048159,0]
["202627-0-TOTAL-G11","62_11",{"$f":"FrontPage!$N$2","v":{"v":1,"d":"1.0"}},"202627","CT1",{"$f":"VLOOKUP(J358,Transfer!$X$35:$Y$155,2,FALSE)","v":62},{"$f":"VLOOKUP(K358,Transfer!$X$19:$Y$30,2,FALSE)","v":11},0,0,61,"TOTAL",{"$f":"VLOOKUP(F358,PartG,MATCH(G358,PartG!$B$5:$Q$5,0),FALSE)","v":0},null,{"$f":"VLOOKUP(F358,Transfer!$U$19:$V$170,2,FALSE)","v":"G11"},null,0.4360266161750306,0]
["202627-0-A--G12","63_1",{"$f":"FrontPage!$N$2","v":{"v":1,"d":"1.0"}},"202627","CT1",{"$f":"VLOOKUP(J359,Transfer!$X$35:$Y$155,2,FALSE)","v":63},{"$f":"VLOOKUP(K359,Transfer!$X$19:$Y$30,2,FALSE)","v":1},0,0,62,"A-",{"$f":"VLOOKUP(F359,PartG,MATCH(G359,PartG!$B$5:$Q$5,0),FALSE)","v":0},null,{"$f":"VLOOKUP(F359,Transfer!$U$19:$V$170,2,FALSE)","v":"G12"},null,0.7780777331517168,0]
["202627-0-A-G12","63_2",{"$f":"FrontPage!$N$2","v":{"v":1,"d":"1.0"}},"202627","CT1",{"$f":"VLOOKUP(J360,Transfer!$X$35:$Y$155,2,FALSE)","v":63},{"$f":"VLOOKUP(K360,Transfer!$X$19:$Y$30,2,FALSE)","v":2},0,0,62,"A",{"$f":"VLOOKUP(F360,PartG,MATCH(G360,PartG!$B$5:$Q$5,0),FALSE)","v":0},null,{"$f":"VLOOKUP(F360,Transfer!$U$19:$V$170,2,FALSE)","v":"G12"},null,0.3653188266392652,0]
["202627-0-B-G12","63_3",{"$f":"FrontPage!$N$2","v":{"v":1,"d":"1.0"}},"202627","CT1",{"$f":"VLOOKUP(J361,Transfer!$X$35:$Y$155,2,FALSE)","v":63},{"$f":"VLOOKUP(K361,Transfer!$X$19:$Y$30,2,FALSE)","v":3},0,0,62,"B",{"$f":"VLOOKUP(F361,PartG,MATCH(G361,PartG!$B$5:$Q$5,0),FALSE)","v":0},null,{"$f":"VLOOKUP(F361,Transfer!$U$19:$V$170,2,FALSE)","v":"G12"},null,0.7843957740575641,0]
["202627-0-C-G12","63_4",{"$f":"FrontPage!$N$2","v":{"v":1,"d":"1.0"}},"202627","CT1",{"$f":"VLOOKUP(J362,Transfer!$X$35:$Y$155,2,FALSE)","v":63},{"$f":"VLOOKUP(K362,Transfer!$X$19:$Y$30,2,FALSE)","v":4},0,0,62,"C",{"$f":"VLOOKUP(F362,PartG,MATCH(G362,PartG!$B$5:$Q$5,0),FALSE)","v":0},null,{"$f":"VLOOKUP(F362,Transfer!$U$19:$V$170,2,FALSE)","v":"G12"},null,0.5799870691512842,0]
["202627-0-D-G12","63_5",{"$f":"FrontPage!$N$2","v":{"v":1,"d":"1.0"}},"202627","CT1",{"$f":"VLOOKUP(J363,Transfer!$X$35:$Y$155,2,FALSE)","v":63},{"$f":"VLOOKUP(K363,Transfer!$X$19:$Y$30,2,FALSE)","v":5},0,0,62,"D",{"$f":"VLOOKUP(F363,PartG,MATCH(G363,PartG!$B$5:$Q$5,0),FALSE)","v":0},null,{"$f":"VLOOKUP(F363,Transfer!$U$19:$V$170,2,FALSE)","v":"G12"},null,0.8665476466271281,0]
["202627-0-E-G12","63_6",{"$f":"FrontPage!$N$2","v":{"v":1,"d":"1.0"}},"202627","CT1",{"$f":"VLOOKUP(J364,Transfer!$X$35:$Y$155,2,FALSE)","v":63},{"$f":"VLOOKUP(K364,Transfer!$X$19:$Y$30,2,FALSE)","v":6},0,0,62,"E",{"$f":"VLOOKUP(F364,PartG,MATCH(G364,PartG!$B$5:$Q$5,0),FALSE)","v":0},null,{"$f":"VLOOKUP(F364,Transfer!$U$19:$V$170,2,FALSE)","v":"G12"},null,0.6790456938713634,0]
["202627-0-F-G12","63_7",{"$f":"FrontPage!$N$2","v":{"v":1,"d":"1.0"}},"202627","CT1",{"$f":"VLOOKUP(J365,Transfer!$X$35:$Y$155,2,FALSE)","v":63},{"$f":"VLOOKUP(K365,Transfer!$X$19:$Y$30,2,FALSE)","v":7},0,0,62,"F",{"$f":"VLOOKUP(F365,PartG,MATCH(G365,PartG!$B$5:$Q$5,0),FALSE)","v":0},null,{"$f":"VLOOKUP(F365,Transfer!$U$19:$V$170,2,FALSE)","v":"G12"},null,0.30099206471122675,0]
["202627-0-G-G12","63_8",{"$f":"FrontPage!$N$2","v":{"v":1,"d":"1.0"}},"202627","CT1",{"$f":"VLOOKUP(J366,Transfer!$X$35:$Y$155,2,FALSE)","v":63},{"$f":"VLOOKUP(K366,Transfer!$X$19:$Y$30,2,FALSE)","v":8},0,0,62,"G",{"$f":"VLOOKUP(F366,PartG,MATCH(G366,PartG!$B$5:$Q$5,0),FALSE)","v":0},null,{"$f":"VLOOKUP(F366,Transfer!$U$19:$V$170,2,FALSE)","v":"G12"},null,0.11337383810228918,0]
["202627-0-H-G12","63_9",{"$f":"FrontPage!$N$2","v":{"v":1,"d":"1.0"}},"202627","CT1",{"$f":"VLOOKUP(J367,Transfer!$X$35:$Y$155,2,FALSE)","v":63},{"$f":"VLOOKUP(K367,Transfer!$X$19:$Y$30,2,FALSE)","v":9},0,0,62,"H",{"$f":"VLOOKUP(F367,PartG,MATCH(G367,PartG!$B$5:$Q$5,0),FALSE)","v":0},null,{"$f":"VLOOKUP(F367,Transfer!$U$19:$V$170,2,FALSE)","v":"G12"},null,0.6478852801488316,0]
["202627-0-I-G12","63_10",{"$f":"FrontPage!$N$2","v":{"v":1,"d":"1.0"}},"202627","CT1",{"$f":"VLOOKUP(J368,Transfer!$X$35:$Y$155,2,FALSE)","v":63},{"$f":"VLOOKUP(K368,Transfer!$X$19:$Y$30,2,FALSE)","v":10},0,0,62,"I",{"$f":"VLOOKUP(F368,PartG,MATCH(G368,PartG!$B$5:$Q$5,0),FALSE)","v":0},null,{"$f":"VLOOKUP(F368,Transfer!$U$19:$V$170,2,FALSE)","v":"G12"},null,0.2576193292239509,0]
["202627-0-TOTAL-G12","63_11",{"$f":"FrontPage!$N$2","v":{"v":1,"d":"1.0"}},"202627","CT1",{"$f":"VLOOKUP(J369,Transfer!$X$35:$Y$155,2,FALSE)","v":63},{"$f":"VLOOKUP(K369,Transfer!$X$19:$Y$30,2,FALSE)","v":11},0,0,62,"TOTAL",{"$f":"VLOOKUP(F369,PartG,MATCH(G369,PartG!$B$5:$Q$5,0),FALSE)","v":0},"G-End",{"$f":"VLOOKUP(F369,Transfer!$U$19:$V$170,2,FALSE)","v":"G12"},null,0.9167970709321961,0]
["202627-0-A-H1 ","64_2",{"$f":"FrontPage!$N$2","v":{"v":1,"d":"1.0"}},"202627","CT1",{"$f":"VLOOKUP(J370,Transfer!$X$35:$Y$155,2,FALSE)","v":64},{"$f":"VLOOKUP(K370,Transfer!$X$19:$Y$30,2,FALSE)","v":2},0,0,63,"A",{"$f":"VLOOKUP(F370,PartH,MATCH(G370,PartH!$B$4:$N$4,0),FALSE)","v":0},"H-Begin",{"$f":"VLOOKUP(F370,Transfer!$U$19:$V$170,2,FALSE)","v":"H1 "},null,0.9874453276480724,0]
["202627-0-B-H1 ","64_3",{"$f":"FrontPage!$N$2","v":{"v":1,"d":"1.0"}},"202627","CT1",{"$f":"VLOOKUP(J371,Transfer!$X$35:$Y$155,2,FALSE)","v":64},{"$f":"VLOOKUP(K371,Transfer!$X$19:$Y$30,2,FALSE)","v":3},0,0,63,"B",{"$f":"VLOOKUP(F371,PartH,MATCH(G371,PartH!$B$4:$N$4,0),FALSE)","v":0},null,{"$f":"VLOOKUP(F371,Transfer!$U$19:$V$170,2,FALSE)","v":"H1 "},null,0.625623034032907,0]
["202627-0-C-H1 ","64_4",{"$f":"FrontPage!$N$2","v":{"v":1,"d":"1.0"}},"202627","CT1",{"$f":"VLOOKUP(J372,Transfer!$X$35:$Y$155,2,FALSE)","v":64},{"$f":"VLOOKUP(K372,Transfer!$X$19:$Y$30,2,FALSE)","v":4},0,0,63,"C",{"$f":"VLOOKUP(F372,PartH,MATCH(G372,PartH!$B$4:$N$4,0),FALSE)","v":0},null,{"$f":"VLOOKUP(F372,Transfer!$U$19:$V$170,2,FALSE)","v":"H1 "},null,0.417231829527574,0]
["202627-0-D-H1 ","64_5",{"$f":"FrontPage!$N$2","v":{"v":1,"d":"1.0"}},"202627","CT1",{"$f":"VLOOKUP(J373,Transfer!$X$35:$Y$155,2,FALSE)","v":64},{"$f":"VLOOKUP(K373,Transfer!$X$19:$Y$30,2,FALSE)","v":5},0,0,63,"D",{"$f":"VLOOKUP(F373,PartH,MATCH(G373,PartH!$B$4:$N$4,0),FALSE)","v":0},null,{"$f":"VLOOKUP(F373,Transfer!$U$19:$V$170,2,FALSE)","v":"H1 "},null,0.5271544858627906,0]
["202627-0-E-H1 ","64_6",{"$f":"FrontPage!$N$2","v":{"v":1,"d":"1.0"}},"202627","CT1",{"$f":"VLOOKUP(J374,Transfer!$X$35:$Y$155,2,FALSE)","v":64},{"$f":"VLOOKUP(K374,Transfer!$X$19:$Y$30,2,FALSE)","v":6},0,0,63,"E",{"$f":"VLOOKUP(F374,PartH,MATCH(G374,PartH!$B$4:$N$4,0),FALSE)","v":0},null,{"$f":"VLOOKUP(F374,Transfer!$U$19:$V$170,2,FALSE)","v":"H1 "},null,0.5668354418750166,0]
["202627-0-F-H1 ","64_7",{"$f":"FrontPage!$N$2","v":{"v":1,"d":"1.0"}},"202627","CT1",{"$f":"VLOOKUP(J375,Transfer!$X$35:$Y$155,2,FALSE)","v":64},{"$f":"VLOOKUP(K375,Transfer!$X$19:$Y$30,2,FALSE)","v":7},0,0,63,"F",{"$f":"VLOOKUP(F375,PartH,MATCH(G375,PartH!$B$4:$N$4,0),FALSE)","v":0},null,{"$f":"VLOOKUP(F375,Transfer!$U$19:$V$170,2,FALSE)","v":"H1 "},null,0.531908026949808,0]
["202627-0-G-H1 ","64_8",{"$f":"FrontPage!$N$2","v":{"v":1,"d":"1.0"}},"202627","CT1",{"$f":"VLOOKUP(J376,Transfer!$X$35:$Y$155,2,FALSE)","v":64},{"$f":"VLOOKUP(K376,Transfer!$X$19:$Y$30,2,FALSE)","v":8},0,0,63,"G",{"$f":"VLOOKUP(F376,PartH,MATCH(G376,PartH!$B$4:$N$4,0),FALSE)","v":0},null,{"$f":"VLOOKUP(F376,Transfer!$U$19:$V$170,2,FALSE)","v":"H1 "},null,0.04193782053172368,0]
["202627-0-H-H1 ","64_9",{"$f":"FrontPage!$N$2","v":{"v":1,"d":"1.0"}},"202627","CT1",{"$f":"VLOOKUP(J377,Transfer!$X$35:$Y$155,2,FALSE)","v":64},{"$f":"VLOOKUP(K377,Transfer!$X$19:$Y$30,2,FALSE)","v":9},0,0,63,"H",{"$f":"VLOOKUP(F377,PartH,MATCH(G377,PartH!$B$4:$N$4,0),FALSE)","v":0},null,{"$f":"VLOOKUP(F377,Transfer!$U$19:$V$170,2,FALSE)","v":"H1 "},null,0.4712275341265013,0]
["202627-0-I-H1 ","64_10",{"$f":"FrontPage!$N$2","v":{"v":1,"d":"1.0"}},"202627","CT1",{"$f":"VLOOKUP(J378,Transfer!$X$35:$Y$155,2,FALSE)","v":64},{"$f":"VLOOKUP(K378,Transfer!$X$19:$Y$30,2,FALSE)","v":10},0,0,63,"I",{"$f":"VLOOKUP(F378,PartH,MATCH(G378,PartH!$B$4:$N$4,0),FALSE)","v":0},null,{"$f":"VLOOKUP(F378,Transfer!$U$19:$V$170,2,FALSE)","v":"H1 "},null,0.15211117159291876,0]
["202627-0-TOTAL-H1 ","64_11",{"$f":"FrontPage!$N$2","v":{"v":1,"d":"1.0"}},"202627","CT1",{"$f":"VLOOKUP(J379,Transfer!$X$35:$Y$155,2,FALSE)","v":64},{"$f":"VLOOKUP(K379,Transfer!$X$19:$Y$30,2,FALSE)","v":11},0,0,63,"TOTAL",{"$f":"VLOOKUP(F379,PartH,MATCH(G379,PartH!$B$4:$N$4,0),FALSE)","v":0},null,{"$f":"VLOOKUP(F379,Transfer!$U$19:$V$170,2,FALSE)","v":"H1 "},null,0.5339762348911411,0]
[{"$f":"D380&\"-\"&H380&\"-\"&K380&\"-\"&N380","v":"202627-0-A-H1 .1"},{"$f":"F380&\"_\"&G380","v":"64.1_2"},{"$f":"FrontPage!$N$2","v":{"v":1,"d":"1.0"}},"202627","CT1",64.1,{"$f":"VLOOKUP(K380,Transfer!$X$19:$Y$30,2,FALSE)","v":2},0,0,63,"A",{"$f":"VLOOKUP(F380,PartH,MATCH(G380,PartH!$B$4:$N$4,0),FALSE)","v":0},null,"H1 .1",null,0.8665476466271281,0]
["202627-0-B-H1 .1","64.1_3",{"$f":"FrontPage!$N$2","v":{"v":1,"d":"1.0"}},"202627","CT1",64.1,{"$f":"VLOOKUP(K381,Transfer!$X$19:$Y$30,2,FALSE)","v":3},0,0,63,"B",{"$f":"VLOOKUP(F381,PartH,MATCH(G381,PartH!$B$4:$N$4,0),FALSE)","v":0},null,"H1 .1",null,0.6790456938713634,0]
["202627-0-C-H1 .1","64.1_4",{"$f":"FrontPage!$N$2","v":{"v":1,"d":"1.0"}},"202627","CT1",64.1,{"$f":"VLOOKUP(K382,Transfer!$X$19:$Y$30,2,FALSE)","v":4},0,0,63,"C",{"$f":"VLOOKUP(F382,PartH,MATCH(G382,PartH!$B$4:$N$4,0),FALSE)","v":0},null,"H1 .1",null,0.30099206471122675,0]
[{"$f":"D383&\"-\"&H383&\"-\"&K383&\"-\"&N383","v":"202627-0-D-H1 .1"},{"$f":"F383&\"_\"&G383","v":"64.1_5"},{"$f":"FrontPage!$N$2","v":{"v":1,"d":"1.0"}},"202627","CT1",64.1,{"$f":"VLOOKUP(K383,Transfer!$X$19:$Y$30,2,FALSE)","v":5},0,0,63,"D",{"$f":"VLOOKUP(F383,PartH,MATCH(G383,PartH!$B$4:$N$4,0),FALSE)","v":0},null,"H1 .1",null,0.11337383810228918,0]
["202627-0-E-H1 .1","64.1_6",{"$f":"FrontPage!$N$2","v":{"v":1,"d":"1.0"}},"202627","CT1",64.1,{"$f":"VLOOKUP(K384,Transfer!$X$19:$Y$30,2,FALSE)","v":6},0,0,63,"E",{"$f":"VLOOKUP(F384,PartH,MATCH(G384,PartH!$B$4:$N$4,0),FALSE)","v":0},null,"H1 .1",null,0.6478852801488316,0]
["202627-0-F-H1 .1","64.1_7",{"$f":"FrontPage!$N$2","v":{"v":1,"d":"1.0"}},"202627","CT1",64.1,{"$f":"VLOOKUP(K385,Transfer!$X$19:$Y$30,2,FALSE)","v":7},0,0,63,"F",{"$f":"VLOOKUP(F385,PartH,MATCH(G385,PartH!$B$4:$N$4,0),FALSE)","v":0},null,"H1 .1",null,0.2576193292239509,0]
["202627-0-G-H1 .1","64.1_8",{"$f":"FrontPage!$N$2","v":{"v":1,"d":"1.0"}},"202627","CT1",64.1,{"$f":"VLOOKUP(K386,Transfer!$X$19:$Y$30,2,FALSE)","v":8},0,0,63,"G",{"$f":"VLOOKUP(F386,PartH,MATCH(G386,PartH!$B$4:$N$4,0),FALSE)","v":0},null,"H1 .1",null,0.9167970709321961,{"$f":"+I386*P386","v":0}]
["202627-0-H-H1 .1","64.1_9",{"$f":"FrontPage!$N$2","v":{"v":1,"d":"1.0"}},"202627","CT1",64.1,{"$f":"VLOOKUP(K387,Transfer!$X$19:$Y$30,2,FALSE)","v":9},0,0,63,"H",{"$f":"VLOOKUP(F387,PartH,MATCH(G387,PartH!$B$4:$N$4,0),FALSE)","v":0},null,"H1 .1",null,0.9874453276480724,0]
["202627-0-I-H1 .1","64.1_10",{"$f":"FrontPage!$N$2","v":{"v":1,"d":"1.0"}},"202627","CT1",64.1,{"$f":"VLOOKUP(K388,Transfer!$X$19:$Y$30,2,FALSE)","v":10},0,0,63,"I",{"$f":"VLOOKUP(F388,PartH,MATCH(G388,PartH!$B$4:$N$4,0),FALSE)","v":0},null,"H1 .1",null,0.625623034032907,0]
["202627-0-TOTAL-H1 .1","64.1_11",{"$f":"FrontPage!$N$2","v":{"v":1,"d":"1.0"}},"202627","CT1",64.1,{"$f":"VLOOKUP(K389,Transfer!$X$19:$Y$30,2,FALSE)","v":11},0,0,63,"TOTAL",{"$f":"VLOOKUP(F389,PartH,MATCH(G389,PartH!$B$4:$N$4,0),FALSE)","v":0},null,"H1 .1",null,0.417231829527574,0]
["202627-0-A-H2 ","65_2",{"$f":"FrontPage!$N$2","v":{"v":1,"d":"1.0"}},"202627","CT1",{"$f":"VLOOKUP(J390,Transfer!$X$35:$Y$155,2,FALSE)","v":65},{"$f":"VLOOKUP(K390,Transfer!$X$19:$Y$30,2,FALSE)","v":2},0,0,64,"A",{"$f":"VLOOKUP(F390,PartH,MATCH(G390,PartH!$B$4:$N$4,0),FALSE)","v":0},null,{"$f":"VLOOKUP(F390,Transfer!$U$19:$V$170,2,FALSE)","v":"H2 "},null,0.9375155780314245,0]
["202627-0-B-H2 ","65_3",{"$f":"FrontPage!$N$2","v":{"v":1,"d":"1.0"}},"202627","CT1",{"$f":"VLOOKUP(J391,Transfer!$X$35:$Y$155,2,FALSE)","v":65},{"$f":"VLOOKUP(K391,Transfer!$X$19:$Y$30,2,FALSE)","v":3},0,0,64,"B",{"$f":"VLOOKUP(F391,PartH,MATCH(G391,PartH!$B$4:$N$4,0),FALSE)","v":0},null,{"$f":"VLOOKUP(F391,Transfer!$U$19:$V$170,2,FALSE)","v":"H2 "},null,0.07296013062120121,0]
["202627-0-C-H2 ","65_4",{"$f":"FrontPage!$N$2","v":{"v":1,"d":"1.0"}},"202627","CT1",{"$f":"VLOOKUP(J392,Transfer!$X$35:$Y$155,2,FALSE)","v":65},{"$f":"VLOOKUP(K392,Transfer!$X$19:$Y$30,2,FALSE)","v":4},0,0,64,"C",{"$f":"VLOOKUP(F392,PartH,MATCH(G392,PartH!$B$4:$N$4,0),FALSE)","v":0},null,{"$f":"VLOOKUP(F392,Transfer!$U$19:$V$170,2,FALSE)","v":"H2 "},null,0.22673962207476595,0]
["202627-0-D-H2 ","65_5",{"$f":"FrontPage!$N$2","v":{"v":1,"d":"1.0"}},"202627","CT1",{"$f":"VLOOKUP(J393,Transfer!$X$35:$Y$155,2,FALSE)","v":65},{"$f":"VLOOKUP(K393,Transfer!$X$19:$Y$30,2,FALSE)","v":5},0,0,64,"D",{"$f":"VLOOKUP(F393,PartH,MATCH(G393,PartH!$B$4:$N$4,0),FALSE)","v":0},null,{"$f":"VLOOKUP(F393,Transfer!$U$19:$V$170,2,FALSE)","v":"H2 "},null,0.618671259000152,0]
["202627-0-E-H2 ","65_6",{"$f":"FrontPage!$N$2","v":{"v":1,"d":"1.0"}},"202627","CT1",{"$f":"VLOOKUP(J394,Transfer!$X$35:$Y$155,2,FALSE)","v":65},{"$f":"VLOOKUP(K394,Transfer!$X$19:$Y$30,2,FALSE)","v":6},0,0,64,"E",{"$f":"VLOOKUP(F394,PartH,MATCH(G394,PartH!$B$4:$N$4,0),FALSE)","v":0},null,{"$f":"VLOOKUP(F394,Transfer!$U$19:$V$170,2,FALSE)","v":"H2 "},null,0.9442380977620621,0]
["202627-0-F-H2 ","65_7",{"$f":"FrontPage!$N$2","v":{"v":1,"d":"1.0"}},"202627","CT1",{"$f":"VLOOKUP(J395,Transfer!$X$35:$Y$155,2,FALSE)","v":65},{"$f":"VLOOKUP(K395,Transfer!$X$19:$Y$30,2,FALSE)","v":7},0,0,64,"F",{"$f":"VLOOKUP(F395,PartH,MATCH(G395,PartH!$B$4:$N$4,0),FALSE)","v":0},null,{"$f":"VLOOKUP(F395,Transfer!$U$19:$V$170,2,FALSE)","v":"H2 "},null,0.7358841159266151,0]
["202627-0-G-H2 ","65_8",{"$f":"FrontPage!$N$2","v":{"v":1,"d":"1.0"}},{"$f":"$W$2","v":"202627"},"CT1",{"$f":"VLOOKUP(J396,Transfer!$X$35:$Y$155,2,FALSE)","v":65},{"$f":"VLOOKUP(K396,Transfer!$X$19:$Y$30,2,FALSE)","v":8},{"$f":"uanumber","v":0},0,64,"G",{"$f":"VLOOKUP(F396,PartH,MATCH(G396,PartH!$B$4:$N$4,0),FALSE)","v":0},null,{"$f":"VLOOKUP(F396,Transfer!$U$19:$V$170,2,FALSE)","v":"H2 "},null,0.626185384964494,0]
["202627-0-H-H2 ","65_9",{"$f":"FrontPage!$N$2","v":{"v":1,"d":"1.0"}},"202627","CT1",{"$f":"VLOOKUP(J397,Transfer!$X$35:$Y$155,2,FALSE)","v":65},{"$f":"VLOOKUP(K397,Transfer!$X$19:$Y$30,2,FALSE)","v":9},0,0,64,"H",{"$f":"VLOOKUP(F397,PartH,MATCH(G397,PartH!$B$4:$N$4,0),FALSE)","v":0},null,{"$f":"VLOOKUP(F397,Transfer!$U$19:$V$170,2,FALSE)","v":"H2 "},null,0.4854449292271209,0]
["202627-0-I-H2 ","65_10",{"$f":"FrontPage!$N$2","v":{"v":1,"d":"1.0"}},"202627",{"$f":"$E$2","v":"CT1"},{"$f":"VLOOKUP(J398,Transfer!$X$35:$Y$155,2,FALSE)","v":65},{"$f":"VLOOKUP(K398,Transfer!$X$19:$Y$30,2,FALSE)","v":10},0,0,64,"I",{"$f":"VLOOKUP(F398,PartH,MATCH(G398,PartH!$B$4:$N$4,0),FALSE)","v":0},null,{"$f":"VLOOKUP(F398,Transfer!$U$19:$V$170,2,FALSE)","v":"H2 "},null,0.6465187616639975,0]
["202627-0-TOTAL-H2 ","65_11",{"$f":"FrontPage!$N$2","v":{"v":1,"d":"1.0"}},"202627","CT1",{"$f":"VLOOKUP(J399,Transfer!$X$35:$Y$155,2,FALSE)","v":65},{"$f":"VLOOKUP(K399,Transfer!$X$19:$Y$30,2,FALSE)","v":11},0,0,64,"TOTAL",{"$f":"VLOOKUP(F399,PartH,MATCH(G399,PartH!$B$4:$N$4,0),FALSE)","v":0},null,{"$f":"VLOOKUP(F399,Transfer!$U$19:$V$170,2,FALSE)","v":"H2 "},null,0.10278540648381684,0]
["202627-0-A-H2 .1","65.1_2",{"$f":"FrontPage!$N$2","v":{"v":1,"d":"1.0"}},"202627","CT1",65.1,{"$f":"VLOOKUP(K400,Transfer!$X$19:$Y$30,2,FALSE)","v":2},0,{"$f":"L400","v":0},null,"A",{"$f":"VLOOKUP(F400,PartH,MATCH(G400,PartH!$B$4:$N$4,0),FALSE)","v":0},null,"H2 .1",null,0.7187679388443625,0]
["202627-0-B-H2 .1","65.1_3",{"$f":"FrontPage!$N$2","v":{"v":1,"d":"1.0"}},"202627","CT1",65.1,{"$f":"VLOOKUP(K401,Transfer!$X$19:$Y$30,2,FALSE)","v":3},0,0,null,"B",{"$f":"VLOOKUP(F401,PartH,MATCH(G401,PartH!$B$4:$N$4,0),FALSE)","v":0},null,"H2 .1",null,0.26455050768507427,0]
["202627-0-C-H2 .1","65.1_4",{"$f":"FrontPage!$N$2","v":{"v":1,"d":"1.0"}},"202627","CT1",65.1,{"$f":"VLOOKUP(K402,Transfer!$X$19:$Y$30,2,FALSE)","v":4},0,0,null,"C",{"$f":"VLOOKUP(F402,PartH,MATCH(G402,PartH!$B$4:$N$4,0),FALSE)","v":0},null,"H2 .1",null,0.4733738324929805,0]
["202627-0-D-H2 .1","65.1_5",{"$f":"FrontPage!$N$2","v":{"v":1,"d":"1.0"}},"202627","CT1",65.1,{"$f":"VLOOKUP(K403,Transfer!$X$19:$Y$30,2,FALSE)","v":5},0,0,null,"D",{"$f":"VLOOKUP(F403,PartH,MATCH(G403,PartH!$B$4:$N$4,0),FALSE)","v":0},null,"H2 .1",null,0.43407631161861704,0]
["202627-0-E-H2 .1","65.1_6",{"$f":"FrontPage!$N$2","v":{"v":1,"d":"1.0"}},"202627","CT1",65.1,{"$f":"VLOOKUP(K404,Transfer!$X$19:$Y$30,2,FALSE)","v":6},0,0,null,"E",{"$f":"VLOOKUP(F404,PartH,MATCH(G404,PartH!$B$4:$N$4,0),FALSE)","v":0},null,"H2 .1",null,0.4603322243383561,0]
["202627-0-F-H2 .1","65.1_7",{"$f":"FrontPage!$N$2","v":{"v":1,"d":"1.0"}},"202627","CT1",65.1,{"$f":"VLOOKUP(K405,Transfer!$X$19:$Y$30,2,FALSE)","v":7},0,0,null,"F",{"$f":"VLOOKUP(F405,PartH,MATCH(G405,PartH!$B$4:$N$4,0),FALSE)","v":0},null,"H2 .1",null,0.2276417620324308,0]
["202627-0-G-H2 .1","65.1_8",{"$f":"FrontPage!$N$2","v":{"v":1,"d":"1.0"}},"202627","CT1",65.1,{"$f":"VLOOKUP(K406,Transfer!$X$19:$Y$30,2,FALSE)","v":8},0,0,null,"G",{"$f":"VLOOKUP(F406,PartH,MATCH(G406,PartH!$B$4:$N$4,0),FALSE)","v":0},null,"H2 .1",null,0.5131363422711372,0]
["202627-0-H-H2 .1","65.1_9",{"$f":"FrontPage!$N$2","v":{"v":1,"d":"1.0"}},"202627","CT1",65.1,{"$f":"VLOOKUP(K407,Transfer!$X$19:$Y$30,2,FALSE)","v":9},0,0,null,"H",{"$f":"VLOOKUP(F407,PartH,MATCH(G407,PartH!$B$4:$N$4,0),FALSE)","v":0},null,"H2 .1",null,0.85034245230308,0]
["202627-0-I-H2 .1","65.1_10",{"$f":"FrontPage!$N$2","v":{"v":1,"d":"1.0"}},"202627","CT1",65.1,{"$f":"VLOOKUP(K408,Transfer!$X$19:$Y$30,2,FALSE)","v":10},0,0,null,"I",{"$f":"VLOOKUP(F408,PartH,MATCH(G408,PartH!$B$4:$N$4,0),FALSE)","v":0},null,"H2 .1",null,0.495663695045626,0]
[{"$f":"D409&\"-\"&H409&\"-\"&K409&\"-\"&N409","v":"202627-0-TOTAL-H2 .1"},{"$f":"F409&\"_\"&G409","v":"65.1_11"},{"$f":"FrontPage!$N$2","v":{"v":1,"d":"1.0"}},"202627","CT1",65.1,{"$f":"VLOOKUP(K409,Transfer!$X$19:$Y$30,2,FALSE)","v":11},0,0,null,"TOTAL",{"$f":"VLOOKUP(F409,PartH,MATCH(G409,PartH!$B$4:$N$4,0),FALSE)","v":0},null,"H2 .1",null,0.8124337695651324,0]
["202627-0-%-H3b","67_12",{"$f":"FrontPage!$N$2","v":{"v":1,"d":"1.0"}},"202627","CT1",{"$f":"VLOOKUP(J410,Transfer!$X$35:$Y$155,2,FALSE)","v":67},{"$f":"VLOOKUP(K410,Transfer!$X$19:$Y$30,2,FALSE)","v":12},0,25,66,"%",{"$f":"VLOOKUP(F410,PartH,MATCH(G410,PartH!$B$4:$N$4,0),FALSE)","v":25},null,{"$f":"VLOOKUP(F410,Transfer!$U$19:$V$170,2,FALSE)","v":"H3b"},null,0.8512969506904304,21.28242376726076]
["202627-0-A-H3b","67_2",{"$f":"FrontPage!$N$2","v":{"v":1,"d":"1.0"}},"202627","CT1",{"$f":"VLOOKUP(J411,Transfer!$X$35:$Y$155,2,FALSE)","v":67},{"$f":"VLOOKUP(K411,Transfer!$X$19:$Y$30,2,FALSE)","v":2},0,0,66,"A",{"$f":"VLOOKUP(F411,PartH,MATCH(G411,PartH!$B$4:$N$4,0),FALSE)","v":0},null,{"$f":"VLOOKUP(F411,Transfer!$U$19:$V$170,2,FALSE)","v":"H3b"},null,0.5802261205113383,0]
["202627-0-B-H3b","67_3",{"$f":"FrontPage!$N$2","v":{"v":1,"d":"1.0"}},"202627","CT1",{"$f":"VLOOKUP(J412,Transfer!$X$35:$Y$155,2,FALSE)","v":67},{"$f":"VLOOKUP(K412,Transfer!$X$19:$Y$30,2,FALSE)","v":3},0,0,66,"B",{"$f":"VLOOKUP(F412,PartH,MATCH(G412,PartH!$B$4:$N$4,0),FALSE)","v":0},null,{"$f":"VLOOKUP(F412,Transfer!$U$19:$V$170,2,FALSE)","v":"H3b"},null,0.9141114227045798,0]
["202627-0-C-H3b","67_4",{"$f":"FrontPage!$N$2","v":{"v":1,"d":"1.0"}},"202627","CT1",{"$f":"VLOOKUP(J413,Transfer!$X$35:$Y$155,2,FALSE)","v":67},{"$f":"VLOOKUP(K413,Transfer!$X$19:$Y$30,2,FALSE)","v":4},0,{"$f":"L413","v":0},66,"C",{"$f":"VLOOKUP(F413,PartH,MATCH(G413,PartH!$B$4:$N$4,0),FALSE)","v":0},null,{"$f":"VLOOKUP(F413,Transfer!$U$19:$V$170,2,FALSE)","v":"H3b"},null,0.4309169802651557,0]
["202627-0-D-H3b","67_5",{"$f":"FrontPage!$N$2","v":{"v":1,"d":"1.0"}},"202627","CT1",{"$f":"VLOOKUP(J414,Transfer!$X$35:$Y$155,2,FALSE)","v":67},{"$f":"VLOOKUP(K414,Transfer!$X$19:$Y$30,2,FALSE)","v":5},0,0,66,"D",{"$f":"VLOOKUP(F414,PartH,MATCH(G414,PartH!$B$4:$N$4,0),FALSE)","v":0},null,{"$f":"VLOOKUP(F414,Transfer!$U$19:$V$170,2,FALSE)","v":"H3b"},null,0.4554206591808365,0]
["202627-0-E-H3b","67_6",{"$f":"FrontPage!$N$2","v":{"v":1,"d":"1.0"}},"202627","CT1",{"$f":"VLOOKUP(J415,Transfer!$X$35:$Y$155,2,FALSE)","v":67},{"$f":"VLOOKUP(K415,Transfer!$X$19:$Y$30,2,FALSE)","v":6},0,0,66,"E",{"$f":"VLOOKUP(F415,PartH,MATCH(G415,PartH!$B$4:$N$4,0),FALSE)","v":0},null,{"$f":"VLOOKUP(F415,Transfer!$U$19:$V$170,2,FALSE)","v":"H3b"},null,0.42800773790732705,0]
["202627-0-F-H3b","67_7",{"$f":"FrontPage!$N$2","v":{"v":1,"d":"1.0"}},"202627","CT1",{"$f":"VLOOKUP(J416,Transfer!$X$35:$Y$155,2,FALSE)","v":67},{"$f":"VLOOKUP(K416,Transfer!$X$19:$Y$30,2,FALSE)","v":7},0,0,66,"F",{"$f":"VLOOKUP(F416,PartH,MATCH(G416,PartH!$B$4:$N$4,0),FALSE)","v":0},null,{"$f":"VLOOKUP(F416,Transfer!$U$19:$V$170,2,FALSE)","v":"H3b"},null,0.7120082653713767,0]
["202627-0-G-H3b","67_8",{"$f":"FrontPage!$N$2","v":{"v":1,"d":"1.0"}},"202627","CT1",{"$f":"VLOOKUP(J417,Transfer!$X$35:$Y$155,2,FALSE)","v":67},{"$f":"VLOOKUP(K417,Transfer!$X$19:$Y$30,2,FALSE)","v":8},0,0,66,"G",{"$f":"VLOOKUP(F417,PartH,MATCH(G417,PartH!$B$4:$N$4,0),FALSE)","v":0},null,{"$f":"VLOOKUP(F417,Transfer!$U$19:$V$170,2,FALSE)","v":"H3b"},null,0.2645546310922704,0]
["202627-0-H-H3b","67_9",{"$f":"FrontPage!$N$2","v":{"v":1,"d":"1.0"}},"202627","CT1",{"$f":"VLOOKUP(J418,Transfer!$X$35:$Y$155,2,FALSE)","v":67},{"$f":"VLOOKUP(K418,Transfer!$X$19:$Y$30,2,FALSE)","v":9},0,0,66,"H",{"$f":"VLOOKUP(F418,PartH,MATCH(G418,PartH!$B$4:$N$4,0),FALSE)","v":0},null,{"$f":"VLOOKUP(F418,Transfer!$U$19:$V$170,2,FALSE)","v":"H3b"},null,0.720991009932681,0]
["202627-0-I-H3b","67_10",{"$f":"FrontPage!$N$2","v":{"v":1,"d":"1.0"}},"202627","CT1",{"$f":"VLOOKUP(J419,Transfer!$X$35:$Y$155,2,FALSE)","v":67},{"$f":"VLOOKUP(K419,Transfer!$X$19:$Y$30,2,FALSE)","v":10},0,0,66,"I",{"$f":"VLOOKUP(F419,PartH,MATCH(G419,PartH!$B$4:$N$4,0),FALSE)","v":0},null,{"$f":"VLOOKUP(F419,Transfer!$U$19:$V$170,2,FALSE)","v":"H3b"},null,0.6932501193060687,0]
["202627-0-TOTAL-H3b","67_11",{"$f":"FrontPage!$N$2","v":{"v":1,"d":"1.0"}},"202627","CT1",{"$f":"VLOOKUP(J420,Transfer!$X$35:$Y$155,2,FALSE)","v":67},{"$f":"VLOOKUP(K420,Transfer!$X$19:$Y$30,2,FALSE)","v":11},0,0,66,"TOTAL",{"$f":"VLOOKUP(F420,PartH,MATCH(G420,PartH!$B$4:$N$4,0),FALSE)","v":0},null,{"$f":"VLOOKUP(F420,Transfer!$U$19:$V$170,2,FALSE)","v":"H3b"},null,0.028074787014049085,0]
["202627-0-%-H3c","68_12",{"$f":"FrontPage!$N$2","v":{"v":1,"d":"1.0"}},"202627","CT1",{"$f":"VLOOKUP(J421,Transfer!$X$35:$Y$155,2,FALSE)","v":68},{"$f":"VLOOKUP(K421,Transfer!$X$19:$Y$30,2,FALSE)","v":12},0,50,67,"%",{"$f":"VLOOKUP(F421,PartH,MATCH(G421,PartH!$B$4:$N$4,0),FALSE)","v":50},null,{"$f":"VLOOKUP(F421,Transfer!$U$19:$V$170,2,FALSE)","v":"H3c"},null,0.03191225073265258,1.595612536632629]
["202627-0-A-H3c","68_2",{"$f":"FrontPage!$N$2","v":{"v":1,"d":"1.0"}},"202627","CT1",{"$f":"VLOOKUP(J422,Transfer!$X$35:$Y$155,2,FALSE)","v":68},{"$f":"VLOOKUP(K422,Transfer!$X$19:$Y$30,2,FALSE)","v":2},0,0,67,"A",{"$f":"VLOOKUP(F422,PartH,MATCH(G422,PartH!$B$4:$N$4,0),FALSE)","v":0},null,{"$f":"VLOOKUP(F422,Transfer!$U$19:$V$170,2,FALSE)","v":"H3c"},null,0.49386250169149826,0]
["202627-0-B-H3c","68_3",{"$f":"FrontPage!$N$2","v":{"v":1,"d":"1.0"}},"202627","CT1",{"$f":"VLOOKUP(J423,Transfer!$X$35:$Y$155,2,FALSE)","v":68},{"$f":"VLOOKUP(K423,Transfer!$X$19:$Y$30,2,FALSE)","v":3},0,0,67,"B",{"$f":"VLOOKUP(F423,PartH,MATCH(G423,PartH!$B$4:$N$4,0),FALSE)","v":0},null,{"$f":"VLOOKUP(F423,Transfer!$U$19:$V$170,2,FALSE)","v":"H3c"},null,0.7342554435348764,0]
["202627-0-C-H3c","68_4",{"$f":"FrontPage!$N$2","v":{"v":1,"d":"1.0"}},"202627","CT1",{"$f":"VLOOKUP(J424,Transfer!$X$35:$Y$155,2,FALSE)","v":68},{"$f":"VLOOKUP(K424,Transfer!$X$19:$Y$30,2,FALSE)","v":4},0,0,67,"C",{"$f":"VLOOKUP(F424,PartH,MATCH(G424,PartH!$B$4:$N$4,0),FALSE)","v":0},null,{"$f":"VLOOKUP(F424,Transfer!$U$19:$V$170,2,FALSE)","v":"H3c"},null,0.7533121706304924,0]
["202627-0-D-H3c","68_5",{"$f":"FrontPage!$N$2","v":{"v":1,"d":"1.0"}},"202627","CT1",{"$f":"VLOOKUP(J425,Transfer!$X$35:$Y$155,2,FALSE)","v":68},{"$f":"VLOOKUP(K425,Transfer!$X$19:$Y$30,2,FALSE)","v":5},0,0,67,"D",{"$f":"VLOOKUP(F425,PartH,MATCH(G425,PartH!$B$4:$N$4,0),FALSE)","v":0},null,{"$f":"VLOOKUP(F425,Transfer!$U$19:$V$170,2,FALSE)","v":"H3c"},null,0.4482054409581847,0]
["202627-0-E-H3c","68_6",{"$f":"FrontPage!$N$2","v":{"v":1,"d":"1.0"}},"202627","CT1",{"$f":"VLOOKUP(J426,Transfer!$X$35:$Y$155,2,FALSE)","v":68},{"$f":"VLOOKUP(K426,Transfer!$X$19:$Y$30,2,FALSE)","v":6},0,0,67,"E",{"$f":"VLOOKUP(F426,PartH,MATCH(G426,PartH!$B$4:$N$4,0),FALSE)","v":0},null,{"$f":"VLOOKUP(F426,Transfer!$U$19:$V$170,2,FALSE)","v":"H3c"},null,0.2690098049220908,0]
["202627-0-F-H3c","68_7",{"$f":"FrontPage!$N$2","v":{"v":1,"d":"1.0"}},"202627","CT1",{"$f":"VLOOKUP(J427,Transfer!$X$35:$Y$155,2,FALSE)","v":68},{"$f":"VLOOKUP(K427,Transfer!$X$19:$Y$30,2,FALSE)","v":7},0,0,67,"F",{"$f":"VLOOKUP(F427,PartH,MATCH(G427,PartH!$B$4:$N$4,0),FALSE)","v":0},null,{"$f":"VLOOKUP(F427,Transfer!$U$19:$V$170,2,FALSE)","v":"H3c"},null,0.71617653829892,0]
["202627-0-G-H3c","68_8",{"$f":"FrontPage!$N$2","v":{"v":1,"d":"1.0"}},"202627","CT1",{"$f":"VLOOKUP(J428,Transfer!$X$35:$Y$155,2,FALSE)","v":68},{"$f":"VLOOKUP(K428,Transfer!$X$19:$Y$30,2,FALSE)","v":8},0,0,67,"G",{"$f":"VLOOKUP(F428,PartH,MATCH(G428,PartH!$B$4:$N$4,0),FALSE)","v":0},null,{"$f":"VLOOKUP(F428,Transfer!$U$19:$V$170,2,FALSE)","v":"H3c"},null,0.5186100988296409,0]
["202627-0-H-H3c","68_9",{"$f":"FrontPage!$N$2","v":{"v":1,"d":"1.0"}},"202627","CT1",{"$f":"VLOOKUP(J429,Transfer!$X$35:$Y$155,2,FALSE)","v":68},{"$f":"VLOOKUP(K429,Transfer!$X$19:$Y$30,2,FALSE)","v":9},0,0,67,"H",{"$f":"VLOOKUP(F429,PartH,MATCH(G429,PartH!$B$4:$N$4,0),FALSE)","v":0},null,{"$f":"VLOOKUP(F429,Transfer!$U$19:$V$170,2,FALSE)","v":"H3c"},null,0.6700022590624695,0]
["202627-0-I-H3c","68_10",{"$f":"FrontPage!$N$2","v":{"v":1,"d":"1.0"}},"202627","CT1",{"$f":"VLOOKUP(J430,Transfer!$X$35:$Y$155,2,FALSE)","v":68},{"$f":"VLOOKUP(K430,Transfer!$X$19:$Y$30,2,FALSE)","v":10},0,0,67,"I",{"$f":"VLOOKUP(F430,PartH,MATCH(G430,PartH!$B$4:$N$4,0),FALSE)","v":0},null,{"$f":"VLOOKUP(F430,Transfer!$U$19:$V$170,2,FALSE)","v":"H3c"},null,0.8981156960080808,0]
["202627-0-TOTAL-H3c","68_11",{"$f":"FrontPage!$N$2","v":{"v":1,"d":"1.0"}},"202627","CT1",{"$f":"VLOOKUP(J431,Transfer!$X$35:$Y$155,2,FALSE)","v":68},{"$f":"VLOOKUP(K431,Transfer!$X$19:$Y$30,2,FALSE)","v":11},0,0,67,"TOTAL",{"$f":"VLOOKUP(F431,PartH,MATCH(G431,PartH!$B$4:$N$4,0),FALSE)","v":0},null,{"$f":"VLOOKUP(F431,Transfer!$U$19:$V$170,2,FALSE)","v":"H3c"},null,0.8176072707651362,0]
["202627-0-%-H3e","70_12",{"$f":"FrontPage!$N$2","v":{"v":1,"d":"1.0"}},"202627","CT1",{"$f":"VLOOKUP(J432,Transfer!$X$35:$Y$155,2,FALSE)","v":70},{"$f":"VLOOKUP(K432,Transfer!$X$19:$Y$30,2,FALSE)","v":12},0,100,69,"%",{"$f":"VLOOKUP(F432,PartH,MATCH(G432,PartH!$B$4:$N$4,0),FALSE)","v":100},null,{"$f":"VLOOKUP(F432,Transfer!$U$19:$V$170,2,FALSE)","v":"H3e"},null,0.6295506470924269,62.95506470924269]
["202627-0-A-H3e","70_2",{"$f":"FrontPage!$N$2","v":{"v":1,"d":"1.0"}},"202627","CT1",{"$f":"VLOOKUP(J433,Transfer!$X$35:$Y$155,2,FALSE)","v":70},{"$f":"VLOOKUP(K433,Transfer!$X$19:$Y$30,2,FALSE)","v":2},0,0,69,"A",{"$f":"VLOOKUP(F433,PartH,MATCH(G433,PartH!$B$4:$N$4,0),FALSE)","v":0},null,{"$f":"VLOOKUP(F433,Transfer!$U$19:$V$170,2,FALSE)","v":"H3e"},null,0.5236056800323103,0]
["202627-0-B-H3e","70_3",{"$f":"FrontPage!$N$2","v":{"v":1,"d":"1.0"}},"202627","CT1",{"$f":"VLOOKUP(J434,Transfer!$X$35:$Y$155,2,FALSE)","v":70},{"$f":"VLOOKUP(K434,Transfer!$X$19:$Y$30,2,FALSE)","v":3},0,0,69,"B",{"$f":"VLOOKUP(F434,PartH,MATCH(G434,PartH!$B$4:$N$4,0),FALSE)","v":0},null,{"$f":"VLOOKUP(F434,Transfer!$U$19:$V$170,2,FALSE)","v":"H3e"},null,0.8401550633850994,0]
["202627-0-C-H3e","70_4",{"$f":"FrontPage!$N$2","v":{"v":1,"d":"1.0"}},"202627","CT1",{"$f":"VLOOKUP(J435,Transfer!$X$35:$Y$155,2,FALSE)","v":70},{"$f":"VLOOKUP(K435,Transfer!$X$19:$Y$30,2,FALSE)","v":4},0,0,69,"C",{"$f":"VLOOKUP(F435,PartH,MATCH(G435,PartH!$B$4:$N$4,0),FALSE)","v":0},null,{"$f":"VLOOKUP(F435,Transfer!$U$19:$V$170,2,FALSE)","v":"H3e"},null,0.6503176971579784,0]
["202627-0-D-H3e","70_5",{"$f":"FrontPage!$N$2","v":{"v":1,"d":"1.0"}},"202627","CT1",{"$f":"VLOOKUP(J436,Transfer!$X$35:$Y$155,2,FALSE)","v":70},{"$f":"VLOOKUP(K436,Transfer!$X$19:$Y$30,2,FALSE)","v":5},0,0,69,"D",{"$f":"VLOOKUP(F436,PartH,MATCH(G436,PartH!$B$4:$N$4,0),FALSE)","v":0},null,{"$f":"VLOOKUP(F436,Transfer!$U$19:$V$170,2,FALSE)","v":"H3e"},null,0.20399789313821004,0]
["202627-0-E-H3e","70_6",{"$f":"FrontPage!$N$2","v":{"v":1,"d":"1.0"}},"202627","CT1",{"$f":"VLOOKUP(J437,Transfer!$X$35:$Y$155,2,FALSE)","v":70},{"$f":"VLOOKUP(K437,Transfer!$X$19:$Y$30,2,FALSE)","v":6},0,0,69,"E",{"$f":"VLOOKUP(F437,PartH,MATCH(G437,PartH!$B$4:$N$4,0),FALSE)","v":0},null,{"$f":"VLOOKUP(F437,Transfer!$U$19:$V$170,2,FALSE)","v":"H3e"},null,0.9012385546700777,0]
["202627-0-F-H3e","70_7",{"$f":"FrontPage!$N$2","v":{"v":1,"d":"1.0"}},"202627","CT1",{"$f":"VLOOKUP(J438,Transfer!$X$35:$Y$155,2,FALSE)","v":70},{"$f":"VLOOKUP(K438,Transfer!$X$19:$Y$30,2,FALSE)","v":7},0,0,69,"F",{"$f":"VLOOKUP(F438,PartH,MATCH(G438,PartH!$B$4:$N$4,0),FALSE)","v":0},null,{"$f":"VLOOKUP(F438,Transfer!$U$19:$V$170,2,FALSE)","v":"H3e"},null,0.8866298495286884,0]
["202627-0-G-H3e","70_8",{"$f":"FrontPage!$N$2","v":{"v":1,"d":"1.0"}},"202627","CT1",{"$f":"VLOOKUP(J439,Transfer!$X$35:$Y$155,2,FALSE)","v":70},{"$f":"VLOOKUP(K439,Transfer!$X$19:$Y$30,2,FALSE)","v":8},0,0,69,"G",{"$f":"VLOOKUP(F439,PartH,MATCH(G439,PartH!$B$4:$N$4,0),FALSE)","v":0},null,{"$f":"VLOOKUP(F439,Transfer!$U$19:$V$170,2,FALSE)","v":"H3e"},null,0.24988996233697514,0]
["202627-0-H-H3e","70_9",{"$f":"FrontPage!$N$2","v":{"v":1,"d":"1.0"}},"202627","CT1",{"$f":"VLOOKUP(J440,Transfer!$X$35:$Y$155,2,FALSE)","v":70},{"$f":"VLOOKUP(K440,Transfer!$X$19:$Y$30,2,FALSE)","v":9},0,0,69,"H",{"$f":"VLOOKUP(F440,PartH,MATCH(G440,PartH!$B$4:$N$4,0),FALSE)","v":0},null,{"$f":"VLOOKUP(F440,Transfer!$U$19:$V$170,2,FALSE)","v":"H3e"},null,0.5578584651293889,0]
["202627-0-I-H3e","70_10",{"$f":"FrontPage!$N$2","v":{"v":1,"d":"1.0"}},"202627","CT1",{"$f":"VLOOKUP(J441,Transfer!$X$35:$Y$155,2,FALSE)","v":70},{"$f":"VLOOKUP(K441,Transfer!$X$19:$Y$30,2,FALSE)","v":10},0,0,69,"I",{"$f":"VLOOKUP(F441,PartH,MATCH(G441,PartH!$B$4:$N$4,0),FALSE)","v":0},null,{"$f":"VLOOKUP(F441,Transfer!$U$19:$V$170,2,FALSE)","v":"H3e"},null,0.6609600018814831,0]
["202627-0-TOTAL-H3e","70_11",{"$f":"FrontPage!$N$2","v":{"v":1,"d":"1.0"}},"202627","CT1",{"$f":"VLOOKUP(J442,Transfer!$X$35:$Y$155,2,FALSE)","v":70},{"$f":"VLOOKUP(K442,Transfer!$X$19:$Y$30,2,FALSE)","v":11},0,0,69,"TOTAL",{"$f":"VLOOKUP(F442,PartH,MATCH(G442,PartH!$B$4:$N$4,0),FALSE)","v":0},null,{"$f":"VLOOKUP(F442,Transfer!$U$19:$V$170,2,FALSE)","v":"H3e"},null,0.940241996709155,0]
["202627-0-%-H3f","71_12",{"$f":"FrontPage!$N$2","v":{"v":1,"d":"1.0"}},"202627","CT1",{"$f":"VLOOKUP(J443,Transfer!$X$35:$Y$155,2,FALSE)","v":71},{"$f":"VLOOKUP(K443,Transfer!$X$19:$Y$30,2,FALSE)","v":12},0,0,70,"%",{"$f":"VLOOKUP(F443,PartH,MATCH(G443,PartH!$B$4:$N$4,0),FALSE)","v":0},null,{"$f":"VLOOKUP(F443,Transfer!$U$19:$V$170,2,FALSE)","v":"H3f"},null,0.8543158639245813,0]
["202627-0-A-H3f","71_2",{"$f":"FrontPage!$N$2","v":{"v":1,"d":"1.0"}},"202627","CT1",{"$f":"VLOOKUP(J444,Transfer!$X$35:$Y$155,2,FALSE)","v":71},{"$f":"VLOOKUP(K444,Transfer!$X$19:$Y$30,2,FALSE)","v":2},0,0,70,"A",{"$f":"VLOOKUP(F444,PartH,MATCH(G444,PartH!$B$4:$N$4,0),FALSE)","v":0},null,{"$f":"VLOOKUP(F444,Transfer!$U$19:$V$170,2,FALSE)","v":"H3f"},null,0.9035114155176892,0]
["202627-0-B-H3f","71_3",{"$f":"FrontPage!$N$2","v":{"v":1,"d":"1.0"}},"202627","CT1",{"$f":"VLOOKUP(J445,Transfer!$X$35:$Y$155,2,FALSE)","v":71},{"$f":"VLOOKUP(K445,Transfer!$X$19:$Y$30,2,FALSE)","v":3},0,0,70,"B",{"$f":"VLOOKUP(F445,PartH,MATCH(G445,PartH!$B$4:$N$4,0),FALSE)","v":0},null,{"$f":"VLOOKUP(F445,Transfer!$U$19:$V$170,2,FALSE)","v":"H3f"},null,0.6947650381045628,0]
["202627-0-C-H3f","71_4",{"$f":"FrontPage!$N$2","v":{"v":1,"d":"1.0"}},"202627","CT1",{"$f":"VLOOKUP(J446,Transfer!$X$35:$Y$155,2,FALSE)","v":71},{"$f":"VLOOKUP(K446,Transfer!$X$19:$Y$30,2,FALSE)","v":4},0,0,70,"C",{"$f":"VLOOKUP(F446,PartH,MATCH(G446,PartH!$B$4:$N$4,0),FALSE)","v":0},null,{"$f":"VLOOKUP(F446,Transfer!$U$19:$V$170,2,FALSE)","v":"H3f"},null,0.41907027862068136,0]
["202627-0-D-H3f","71_5",{"$f":"FrontPage!$N$2","v":{"v":1,"d":"1.0"}},"202627","CT1",{"$f":"VLOOKUP(J447,Transfer!$X$35:$Y$155,2,FALSE)","v":71},{"$f":"VLOOKUP(K447,Transfer!$X$19:$Y$30,2,FALSE)","v":5},0,0,70,"D",{"$f":"VLOOKUP(F447,PartH,MATCH(G447,PartH!$B$4:$N$4,0),FALSE)","v":0},null,{"$f":"VLOOKUP(F447,Transfer!$U$19:$V$170,2,FALSE)","v":"H3f"},null,0.7794966867214541,0]
["202627-0-E-H3f","71_6",{"$f":"FrontPage!$N$2","v":{"v":1,"d":"1.0"}},{"$f":"$W$2","v":"202627"},"CT1",{"$f":"VLOOKUP(J448,Transfer!$X$35:$Y$155,2,FALSE)","v":71},{"$f":"VLOOKUP(K448,Transfer!$X$19:$Y$30,2,FALSE)","v":6},{"$f":"uanumber","v":0},0,70,"E",{"$f":"VLOOKUP(F448,PartH,MATCH(G448,PartH!$B$4:$N$4,0),FALSE)","v":0},null,{"$f":"VLOOKUP(F448,Transfer!$U$19:$V$170,2,FALSE)","v":"H3f"},null,0.639605688784422,0]
["202627-0-F-H3f","71_7",{"$f":"FrontPage!$N$2","v":{"v":1,"d":"1.0"}},"202627","CT1",{"$f":"VLOOKUP(J449,Transfer!$X$35:$Y$155,2,FALSE)","v":71},{"$f":"VLOOKUP(K449,Transfer!$X$19:$Y$30,2,FALSE)","v":7},0,0,70,"F",{"$f":"VLOOKUP(F449,PartH,MATCH(G449,PartH!$B$4:$N$4,0),FALSE)","v":0},null,{"$f":"VLOOKUP(F449,Transfer!$U$19:$V$170,2,FALSE)","v":"H3f"},null,0.9053326878825112,0]
["202627-0-G-H3f","71_8",{"$f":"FrontPage!$N$2","v":{"v":1,"d":"1.0"}},"202627",{"$f":"$E$2","v":"CT1"},{"$f":"VLOOKUP(J450,Transfer!$X$35:$Y$155,2,FALSE)","v":71},{"$f":"VLOOKUP(K450,Transfer!$X$19:$Y$30,2,FALSE)","v":8},0,0,70,"G",{"$f":"VLOOKUP(F450,PartH,MATCH(G450,PartH!$B$4:$N$4,0),FALSE)","v":0},null,{"$f":"VLOOKUP(F450,Transfer!$U$19:$V$170,2,FALSE)","v":"H3f"},null,0.14191173145305558,{"$f":"+I450*P450","v":0}]
["202627-0-H-H3f","71_9",{"$f":"FrontPage!$N$2","v":{"v":1,"d":"1.0"}},"202627","CT1",{"$f":"VLOOKUP(J451,Transfer!$X$35:$Y$155,2,FALSE)","v":71},{"$f":"VLOOKUP(K451,Transfer!$X$19:$Y$30,2,FALSE)","v":9},0,0,70,"H",{"$f":"VLOOKUP(F451,PartH,MATCH(G451,PartH!$B$4:$N$4,0),FALSE)","v":0},null,{"$f":"VLOOKUP(F451,Transfer!$U$19:$V$170,2,FALSE)","v":"H3f"},null,0.4709896960673584,0]
["202627-0-I-H3f","71_10",{"$f":"FrontPage!$N$2","v":{"v":1,"d":"1.0"}},"202627","CT1",{"$f":"VLOOKUP(J452,Transfer!$X$35:$Y$155,2,FALSE)","v":71},{"$f":"VLOOKUP(K452,Transfer!$X$19:$Y$30,2,FALSE)","v":10},0,0,70,"I",{"$f":"VLOOKUP(F452,PartH,MATCH(G452,PartH!$B$4:$N$4,0),FALSE)","v":0},null,{"$f":"VLOOKUP(F452,Transfer!$U$19:$V$170,2,FALSE)","v":"H3f"},null,0.08205765135510812,0]
["202627-0-TOTAL-H3f","71_11",{"$f":"FrontPage!$N$2","v":{"v":1,"d":"1.0"}},"202627","CT1",{"$f":"VLOOKUP(J453,Transfer!$X$35:$Y$155,2,FALSE)","v":71},{"$f":"VLOOKUP(K453,Transfer!$X$19:$Y$30,2,FALSE)","v":11},0,0,70,"TOTAL",{"$f":"VLOOKUP(F453,PartH,MATCH(G453,PartH!$B$4:$N$4,0),FALSE)","v":0},null,{"$f":"VLOOKUP(F453,Transfer!$U$19:$V$170,2,FALSE)","v":"H3f"},null,0.6869584237034894,0]
["202627-0-%-H3fa","71.1_12",{"$f":"FrontPage!$N$2","v":{"v":1,"d":"1.0"}},"202627","CT1",{"$f":"VLOOKUP(J454,Transfer!$X$35:$Y$157,2,FALSE)","v":71.1},{"$f":"VLOOKUP(K454,Transfer!$X$19:$Y$30,2,FALSE)","v":12},0,{"$f":"L454","v":0},71.1,"%",{"$f":"VLOOKUP(F454,PartH,MATCH(G454,PartH!$B$4:$N$4,0),FALSE)","v":0},null,{"$f":"VLOOKUP(F454,Transfer!$U$19:$V$170,2,FALSE)","v":"H3fa"},null,0.6072958134849122,0]
["202627-0-A-H3fa","71.1_2",{"$f":"FrontPage!$N$2","v":{"v":1,"d":"1.0"}},"202627","CT1",{"$f":"VLOOKUP(J455,Transfer!$X$35:$Y$157,2,FALSE)","v":71.1},{"$f":"VLOOKUP(K455,Transfer!$X$19:$Y$30,2,FALSE)","v":2},0,0,71.1,"A",{"$f":"VLOOKUP(F455,PartH,MATCH(G455,PartH!$B$4:$N$4,0),FALSE)","v":0},null,{"$f":"VLOOKUP(F455,Transfer!$U$19:$V$170,2,FALSE)","v":"H3fa"},null,0.7337663463025315,0]
["202627-0-B-H3fa","71.1_3",{"$f":"FrontPage!$N$2","v":{"v":1,"d":"1.0"}},"202627","CT1",{"$f":"VLOOKUP(J456,Transfer!$X$35:$Y$157,2,FALSE)","v":71.1},{"$f":"VLOOKUP(K456,Transfer!$X$19:$Y$30,2,FALSE)","v":3},0,0,71.1,"B",{"$f":"VLOOKUP(F456,PartH,MATCH(G456,PartH!$B$4:$N$4,0),FALSE)","v":0},null,{"$f":"VLOOKUP(F456,Transfer!$U$19:$V$170,2,FALSE)","v":"H3fa"},null,0.3981659555568887,0]
["202627-0-C-H3fa","71.1_4",{"$f":"FrontPage!$N$2","v":{"v":1,"d":"1.0"}},"202627","CT1",{"$f":"VLOOKUP(J457,Transfer!$X$35:$Y$157,2,FALSE)","v":71.1},{"$f":"VLOOKUP(K457,Transfer!$X$19:$Y$30,2,FALSE)","v":4},0,0,71.1,"C",{"$f":"VLOOKUP(F457,PartH,MATCH(G457,PartH!$B$4:$N$4,0),FALSE)","v":0},null,{"$f":"VLOOKUP(F457,Transfer!$U$19:$V$170,2,FALSE)","v":"H3fa"},null,0.7629087714425142,0]
["202627-0-D-H3fa","71.1_5",{"$f":"FrontPage!$N$2","v":{"v":1,"d":"1.0"}},"202627","CT1",{"$f":"VLOOKUP(J458,Transfer!$X$35:$Y$157,2,FALSE)","v":71.1},{"$f":"VLOOKUP(K458,Transfer!$X$19:$Y$30,2,FALSE)","v":5},0,0,71.1,"D",{"$f":"VLOOKUP(F458,PartH,MATCH(G458,PartH!$B$4:$N$4,0),FALSE)","v":0},null,{"$f":"VLOOKUP(F458,Transfer!$U$19:$V$170,2,FALSE)","v":"H3fa"},null,0.049627971108743285,0]
["202627-0-E-H3fa","71.1_6",{"$f":"FrontPage!$N$2","v":{"v":1,"d":"1.0"}},"202627","CT1",{"$f":"VLOOKUP(J459,Transfer!$X$35:$Y$157,2,FALSE)","v":71.1},{"$f":"VLOOKUP(K459,Transfer!$X$19:$Y$30,2,FALSE)","v":6},0,0,71.1,"E",{"$f":"VLOOKUP(F459,PartH,MATCH(G459,PartH!$B$4:$N$4,0),FALSE)","v":0},null,{"$f":"VLOOKUP(F459,Transfer!$U$19:$V$170,2,FALSE)","v":"H3fa"},null,0.16134328046609492,0]
["202627-0-F-H3fa","71.1_7",{"$f":"FrontPage!$N$2","v":{"v":1,"d":"1.0"}},"202627","CT1",{"$f":"VLOOKUP(J460,Transfer!$X$35:$Y$157,2,FALSE)","v":71.1},{"$f":"VLOOKUP(K460,Transfer!$X$19:$Y$30,2,FALSE)","v":7},0,0,71.1,"F",{"$f":"VLOOKUP(F460,PartH,MATCH(G460,PartH!$B$4:$N$4,0),FALSE)","v":0},null,{"$f":"VLOOKUP(F460,Transfer!$U$19:$V$170,2,FALSE)","v":"H3fa"},null,0.8433938554615026,0]
["202627-0-G-H3fa","71.1_8",{"$f":"FrontPage!$N$2","v":{"v":1,"d":"1.0"}},"202627","CT1",{"$f":"VLOOKUP(J461,Transfer!$X$35:$Y$157,2,FALSE)","v":71.1},{"$f":"VLOOKUP(K461,Transfer!$X$19:$Y$30,2,FALSE)","v":8},0,0,71.1,"G",{"$f":"VLOOKUP(F461,PartH,MATCH(G461,PartH!$B$4:$N$4,0),FALSE)","v":0},null,{"$f":"VLOOKUP(F461,Transfer!$U$19:$V$170,2,FALSE)","v":"H3fa"},null,0.04445040042911508,0]
["202627-0-H-H3fa","71.1_9",{"$f":"FrontPage!$N$2","v":{"v":1,"d":"1.0"}},"202627","CT1",{"$f":"VLOOKUP(J462,Transfer!$X$35:$Y$157,2,FALSE)","v":71.1},{"$f":"VLOOKUP(K462,Transfer!$X$19:$Y$30,2,FALSE)","v":9},0,0,71.1,"H",{"$f":"VLOOKUP(F462,PartH,MATCH(G462,PartH!$B$4:$N$4,0),FALSE)","v":0},null,{"$f":"VLOOKUP(F462,Transfer!$U$19:$V$170,2,FALSE)","v":"H3fa"},null,0.032846494240775015,0]
["202627-0-I-H3fa","71.1_10",{"$f":"FrontPage!$N$2","v":{"v":1,"d":"1.0"}},"202627","CT1",{"$f":"VLOOKUP(J463,Transfer!$X$35:$Y$157,2,FALSE)","v":71.1},{"$f":"VLOOKUP(K463,Transfer!$X$19:$Y$30,2,FALSE)","v":10},0,0,71.1,"I",{"$f":"VLOOKUP(F463,PartH,MATCH(G463,PartH!$B$4:$N$4,0),FALSE)","v":0},null,{"$f":"VLOOKUP(F463,Transfer!$U$19:$V$170,2,FALSE)","v":"H3fa"},null,0.2563435674425506,0]
["202627-0-TOTAL-H3fa","71.1_11",{"$f":"FrontPage!$N$2","v":{"v":1,"d":"1.0"}},"202627","CT1",{"$f":"VLOOKUP(J464,Transfer!$X$35:$Y$157,2,FALSE)","v":71.1},{"$f":"VLOOKUP(K464,Transfer!$X$19:$Y$30,2,FALSE)","v":11},0,0,71.1,"TOTAL",{"$f":"VLOOKUP(F464,PartH,MATCH(G464,PartH!$B$4:$N$4,0),FALSE)","v":0},null,{"$f":"VLOOKUP(F464,Transfer!$U$19:$V$170,2,FALSE)","v":"H3fa"},null,0.3380041811945095,0]
["202627-0-%-H3fb","71.2_12",{"$f":"FrontPage!$N$2","v":{"v":1,"d":"1.0"}},"202627","CT1",{"$f":"VLOOKUP(J465,Transfer!$X$35:$Y$157,2,FALSE)","v":71.2},{"$f":"VLOOKUP(K465,Transfer!$X$19:$Y$30,2,FALSE)","v":12},0,0,71.2,"%",{"$f":"VLOOKUP(F465,PartH,MATCH(G465,PartH!$B$4:$N$4,0),FALSE)","v":0},null,{"$f":"VLOOKUP(F465,Transfer!$U$19:$V$170,2,FALSE)","v":"H3fb"},null,0.4361100095625008,0]
["202627-0-A-H3fb","71.2_2",{"$f":"FrontPage!$N$2","v":{"v":1,"d":"1.0"}},"202627","CT1",{"$f":"VLOOKUP(J466,Transfer!$X$35:$Y$157,2,FALSE)","v":71.2},{"$f":"VLOOKUP(K466,Transfer!$X$19:$Y$30,2,FALSE)","v":2},0,0,71.2,"A",{"$f":"VLOOKUP(F466,PartH,MATCH(G466,PartH!$B$4:$N$4,0),FALSE)","v":0},null,{"$f":"VLOOKUP(F466,Transfer!$U$19:$V$170,2,FALSE)","v":"H3fb"},null,0.8481325913918225,0]
["202627-0-B-H3fb","71.2_3",{"$f":"FrontPage!$N$2","v":{"v":1,"d":"1.0"}},"202627","CT1",{"$f":"VLOOKUP(J467,Transfer!$X$35:$Y$157,2,FALSE)","v":71.2},{"$f":"VLOOKUP(K467,Transfer!$X$19:$Y$30,2,FALSE)","v":3},0,0,71.2,"B",{"$f":"VLOOKUP(F467,PartH,MATCH(G467,PartH!$B$4:$N$4,0),FALSE)","v":0},null,{"$f":"VLOOKUP(F467,Transfer!$U$19:$V$170,2,FALSE)","v":"H3fb"},null,0.6705198758987829,0]
["202627-0-C-H3fb","71.2_4",{"$f":"FrontPage!$N$2","v":{"v":1,"d":"1.0"}},"202627","CT1",{"$f":"VLOOKUP(J468,Transfer!$X$35:$Y$157,2,FALSE)","v":71.2},{"$f":"VLOOKUP(K468,Transfer!$X$19:$Y$30,2,FALSE)","v":4},0,0,71.2,"C",{"$f":"VLOOKUP(F468,PartH,MATCH(G468,PartH!$B$4:$N$4,0),FALSE)","v":0},null,{"$f":"VLOOKUP(F468,Transfer!$U$19:$V$170,2,FALSE)","v":"H3fb"},null,0.4445698372298379,0]
["202627-0-D-H3fb","71.2_5",{"$f":"FrontPage!$N$2","v":{"v":1,"d":"1.0"}},"202627","CT1",{"$f":"VLOOKUP(J469,Transfer!$X$35:$Y$157,2,FALSE)","v":71.2},{"$f":"VLOOKUP(K469,Transfer!$X$19:$Y$30,2,FALSE)","v":5},0,0,71.2,"D",{"$f":"VLOOKUP(F469,PartH,MATCH(G469,PartH!$B$4:$N$4,0),FALSE)","v":0},null,{"$f":"VLOOKUP(F469,Transfer!$U$19:$V$170,2,FALSE)","v":"H3fb"},null,0.5332128978335954,0]
["202627-0-E-H3fb","71.2_6",{"$f":"FrontPage!$N$2","v":{"v":1,"d":"1.0"}},"202627","CT1",{"$f":"VLOOKUP(J470,Transfer!$X$35:$Y$157,2,FALSE)","v":71.2},{"$f":"VLOOKUP(K470,Transfer!$X$19:$Y$30,2,FALSE)","v":6},0,0,71.2,"E",{"$f":"VLOOKUP(F470,PartH,MATCH(G470,PartH!$B$4:$N$4,0),FALSE)","v":0},null,{"$f":"VLOOKUP(F470,Transfer!$U$19:$V$170,2,FALSE)","v":"H3fb"},null,0.24905317130839622,0]
["202627-0-F-H3fb","71.2_7",{"$f":"FrontPage!$N$2","v":{"v":1,"d":"1.0"}},"202627","CT1",{"$f":"VLOOKUP(J471,Transfer!$X$35:$Y$157,2,FALSE)","v":71.2},{"$f":"VLOOKUP(K471,Transfer!$X$19:$Y$30,2,FALSE)","v":7},0,0,71.2,"F",{"$f":"VLOOKUP(F471,PartH,MATCH(G471,PartH!$B$4:$N$4,0),FALSE)","v":0},null,{"$f":"VLOOKUP(F471,Transfer!$U$19:$V$170,2,FALSE)","v":"H3fb"},null,0.8075648719837705,0]
["202627-0-G-H3fb","71.2_8",{"$f":"FrontPage!$N$2","v":{"v":1,"d":"1.0"}},"202627","CT1",{"$f":"VLOOKUP(J472,Transfer!$X$35:$Y$157,2,FALSE)","v":71.2},{"$f":"VLOOKUP(K472,Transfer!$X$19:$Y$30,2,FALSE)","v":8},0,0,71.2,"G",{"$f":"VLOOKUP(F472,PartH,MATCH(G472,PartH!$B$4:$N$4,0),FALSE)","v":0},null,{"$f":"VLOOKUP(F472,Transfer!$U$19:$V$170,2,FALSE)","v":"H3fb"},null,0.8249744021015226,0]
[{"$f":"D473&\"-\"&H473&\"-\"&K473&\"-\"&N473","v":"202627-0-H-H3fb"},{"$f":"F473&\"_\"&G473","v":"71.2_9"},{"$f":"FrontPage!$N$2","v":{"v":1,"d":"1.0"}},"202627","CT1",{"$f":"VLOOKUP(J473,Transfer!$X$35:$Y$157,2,FALSE)","v":71.2},{"$f":"VLOOKUP(K473,Transfer!$X$19:$Y$30,2,FALSE)","v":9},0,0,71.2,"H",{"$f":"VLOOKUP(F473,PartH,MATCH(G473,PartH!$B$4:$N$4,0),FALSE)","v":0},null,{"$f":"VLOOKUP(F473,Transfer!$U$19:$V$170,2,FALSE)","v":"H3fb"},null,0.7773597912348824,0]
["202627-0-I-H3fb","71.2_10",{"$f":"FrontPage!$N$2","v":{"v":1,"d":"1.0"}},"202627","CT1",{"$f":"VLOOKUP(J474,Transfer!$X$35:$Y$157,2,FALSE)","v":71.2},{"$f":"VLOOKUP(K474,Transfer!$X$19:$Y$30,2,FALSE)","v":10},0,0,71.2,"I",{"$f":"VLOOKUP(F474,PartH,MATCH(G474,PartH!$B$4:$N$4,0),FALSE)","v":0},null,{"$f":"VLOOKUP(F474,Transfer!$U$19:$V$170,2,FALSE)","v":"H3fb"},null,0.1299914124718603,0]
["202627-0-TOTAL-H3fb","71.2_11",{"$f":"FrontPage!$N$2","v":{"v":1,"d":"1.0"}},"202627","CT1",{"$f":"VLOOKUP(J475,Transfer!$X$35:$Y$157,2,FALSE)","v":71.2},{"$f":"VLOOKUP(K475,Transfer!$X$19:$Y$30,2,FALSE)","v":11},0,0,71.2,"TOTAL",{"$f":"VLOOKUP(F475,PartH,MATCH(G475,PartH!$B$4:$N$4,0),FALSE)","v":0},null,{"$f":"VLOOKUP(F475,Transfer!$U$19:$V$170,2,FALSE)","v":"H3fb"},null,0.8195196097528239,0]
["202627-0-A-H3g","72_2",{"$f":"FrontPage!$N$2","v":{"v":1,"d":"1.0"}},"202627","CT1",{"$f":"VLOOKUP(J476,Transfer!$X$35:$Y$157,2,FALSE)","v":72},{"$f":"VLOOKUP(K476,Transfer!$X$19:$Y$30,2,FALSE)","v":2},0,0,71,"A",{"$f":"VLOOKUP(F476,PartH,MATCH(G476,PartH!$B$4:$N$4,0),FALSE)","v":0},null,{"$f":"VLOOKUP(F476,Transfer!$U$19:$V$170,2,FALSE)","v":"H3g"},null,0.09133647805258449,0]
["202627-0-B-H3g","72_3",{"$f":"FrontPage!$N$2","v":{"v":1,"d":"1.0"}},"202627","CT1",{"$f":"VLOOKUP(J477,Transfer!$X$35:$Y$157,2,FALSE)","v":72},{"$f":"VLOOKUP(K477,Transfer!$X$19:$Y$30,2,FALSE)","v":3},0,0,71,"B",{"$f":"VLOOKUP(F477,PartH,MATCH(G477,PartH!$B$4:$N$4,0),FALSE)","v":0},null,{"$f":"VLOOKUP(F477,Transfer!$U$19:$V$170,2,FALSE)","v":"H3g"},null,0.8697320893049569,0]
["202627-0-C-H3g","72_4",{"$f":"FrontPage!$N$2","v":{"v":1,"d":"1.0"}},"202627","CT1",{"$f":"VLOOKUP(J478,Transfer!$X$35:$Y$155,2,FALSE)","v":72},{"$f":"VLOOKUP(K478,Transfer!$X$19:$Y$30,2,FALSE)","v":4},0,0,71,"C",{"$f":"VLOOKUP(F478,PartH,MATCH(G478,PartH!$B$4:$N$4,0),FALSE)","v":0},null,{"$f":"VLOOKUP(F478,Transfer!$U$19:$V$170,2,FALSE)","v":"H3g"},null,0.6450035516471825,0]
["202627-0-D-H3g","72_5",{"$f":"FrontPage!$N$2","v":{"v":1,"d":"1.0"}},"202627","CT1",{"$f":"VLOOKUP(J479,Transfer!$X$35:$Y$155,2,FALSE)","v":72},{"$f":"VLOOKUP(K479,Transfer!$X$19:$Y$30,2,FALSE)","v":5},0,0,71,"D",{"$f":"VLOOKUP(F479,PartH,MATCH(G479,PartH!$B$4:$N$4,0),FALSE)","v":0},null,{"$f":"VLOOKUP(F479,Transfer!$U$19:$V$170,2,FALSE)","v":"H3g"},null,0.6714839656959118,0]
["202627-0-E-H3g","72_6",{"$f":"FrontPage!$N$2","v":{"v":1,"d":"1.0"}},"202627","CT1",{"$f":"VLOOKUP(J480,Transfer!$X$35:$Y$155,2,FALSE)","v":72},{"$f":"VLOOKUP(K480,Transfer!$X$19:$Y$30,2,FALSE)","v":6},0,0,71,"E",{"$f":"VLOOKUP(F480,PartH,MATCH(G480,PartH!$B$4:$N$4,0),FALSE)","v":0},null,{"$f":"VLOOKUP(F480,Transfer!$U$19:$V$170,2,FALSE)","v":"H3g"},null,0.9753505394202474,0]
["202627-0-F-H3g","72_7",{"$f":"FrontPage!$N$2","v":{"v":1,"d":"1.0"}},"202627","CT1",{"$f":"VLOOKUP(J481,Transfer!$X$35:$Y$155,2,FALSE)","v":72},{"$f":"VLOOKUP(K481,Transfer!$X$19:$Y$30,2,FALSE)","v":7},0,0,71,"F",{"$f":"VLOOKUP(F481,PartH,MATCH(G481,PartH!$B$4:$N$4,0),FALSE)","v":0},null,{"$f":"VLOOKUP(F481,Transfer!$U$19:$V$170,2,FALSE)","v":"H3g"},null,0.3590542889616929,0]
["202627-0-G-H3g","72_8",{"$f":"FrontPage!$N$2","v":{"v":1,"d":"1.0"}},"202627","CT1",{"$f":"VLOOKUP(J482,Transfer!$X$35:$Y$155,2,FALSE)","v":72},{"$f":"VLOOKUP(K482,Transfer!$X$19:$Y$30,2,FALSE)","v":8},0,0,71,"G",{"$f":"VLOOKUP(F482,PartH,MATCH(G482,PartH!$B$4:$N$4,0),FALSE)","v":0},null,{"$f":"VLOOKUP(F482,Transfer!$U$19:$V$170,2,FALSE)","v":"H3g"},null,0.21796769626689205,0]
["202627-0-H-H3g","72_9",{"$f":"FrontPage!$N$2","v":{"v":1,"d":"1.0"}},"202627","CT1",{"$f":"VLOOKUP(J483,Transfer!$X$35:$Y$155,2,FALSE)","v":72},{"$f":"VLOOKUP(K483,Transfer!$X$19:$Y$30,2,FALSE)","v":9},0,0,71,"H",{"$f":"VLOOKUP(F483,PartH,MATCH(G483,PartH!$B$4:$N$4,0),FALSE)","v":0},null,{"$f":"VLOOKUP(F483,Transfer!$U$19:$V$170,2,FALSE)","v":"H3g"},null,0.6374067218588314,0]
["202627-0-I-H3g","72_10",{"$f":"FrontPage!$N$2","v":{"v":1,"d":"1.0"}},"202627","CT1",{"$f":"VLOOKUP(J484,Transfer!$X$35:$Y$155,2,FALSE)","v":72},{"$f":"VLOOKUP(K484,Transfer!$X$19:$Y$30,2,FALSE)","v":10},0,0,71,"I",{"$f":"VLOOKUP(F484,PartH,MATCH(G484,PartH!$B$4:$N$4,0),FALSE)","v":0},null,{"$f":"VLOOKUP(F484,Transfer!$U$19:$V$170,2,FALSE)","v":"H3g"},null,0.9528185188414631,0]
["202627-0-TOTAL-H3g","72_11",{"$f":"FrontPage!$N$2","v":{"v":1,"d":"1.0"}},"202627","CT1",{"$f":"VLOOKUP(J485,Transfer!$X$35:$Y$155,2,FALSE)","v":72},{"$f":"VLOOKUP(K485,Transfer!$X$19:$Y$30,2,FALSE)","v":11},0,0,71,"TOTAL",{"$f":"VLOOKUP(F485,PartH,MATCH(G485,PartH!$B$4:$N$4,0),FALSE)","v":0},null,{"$f":"VLOOKUP(F485,Transfer!$U$19:$V$170,2,FALSE)","v":"H3g"},null,0.8522819805475579,0]
["202627-0-%-H4b","74_12",{"$f":"FrontPage!$N$2","v":{"v":1,"d":"1.0"}},"202627","CT1",{"$f":"VLOOKUP(J486,Transfer!$X$35:$Y$155,2,FALSE)","v":74},{"$f":"VLOOKUP(K486,Transfer!$X$19:$Y$30,2,FALSE)","v":12},0,{"$f":"L486","v":25},73,"%",{"$f":"VLOOKUP(F486,PartH,MATCH(G486,PartH!$B$4:$N$4,0),FALSE)","v":25},null,{"$f":"VLOOKUP(F486,Transfer!$U$19:$V$170,2,FALSE)","v":"H4b"},null,0.08833651535394405,2.208412883848601]
["202627-0-A-H4b","74_2",{"$f":"FrontPage!$N$2","v":{"v":1,"d":"1.0"}},"202627","CT1",{"$f":"VLOOKUP(J487,Transfer!$X$35:$Y$155,2,FALSE)","v":74},{"$f":"VLOOKUP(K487,Transfer!$X$19:$Y$30,2,FALSE)","v":2},0,0,73,"A",{"$f":"VLOOKUP(F487,PartH,MATCH(G487,PartH!$B$4:$N$4,0),FALSE)","v":0},null,{"$f":"VLOOKUP(F487,Transfer!$U$19:$V$170,2,FALSE)","v":"H4b"},null,0.7292692019366717,0]
["202627-0-B-H4b","74_3",{"$f":"FrontPage!$N$2","v":{"v":1,"d":"1.0"}},"202627","CT1",{"$f":"VLOOKUP(J488,Transfer!$X$35:$Y$155,2,FALSE)","v":74},{"$f":"VLOOKUP(K488,Transfer!$X$19:$Y$30,2,FALSE)","v":3},0,0,73,"B",{"$f":"VLOOKUP(F488,PartH,MATCH(G488,PartH!$B$4:$N$4,0),FALSE)","v":0},null,{"$f":"VLOOKUP(F488,Transfer!$U$19:$V$170,2,FALSE)","v":"H4b"},null,0.03338939637184368,0]
["202627-0-C-H4b","74_4",{"$f":"FrontPage!$N$2","v":{"v":1,"d":"1.0"}},"202627","CT1",{"$f":"VLOOKUP(J489,Transfer!$X$35:$Y$155,2,FALSE)","v":74},{"$f":"VLOOKUP(K489,Transfer!$X$19:$Y$30,2,FALSE)","v":4},0,0,73,"C",{"$f":"VLOOKUP(F489,PartH,MATCH(G489,PartH!$B$4:$N$4,0),FALSE)","v":0},null,{"$f":"VLOOKUP(F489,Transfer!$U$19:$V$170,2,FALSE)","v":"H4b"},null,0.31511771663403654,0]
["202627-0-D-H4b","74_5",{"$f":"FrontPage!$N$2","v":{"v":1,"d":"1.0"}},"202627","CT1",{"$f":"VLOOKUP(J490,Transfer!$X$35:$Y$155,2,FALSE)","v":74},{"$f":"VLOOKUP(K490,Transfer!$X$19:$Y$30,2,FALSE)","v":5},0,0,73,"D",{"$f":"VLOOKUP(F490,PartH,MATCH(G490,PartH!$B$4:$N$4,0),FALSE)","v":0},null,{"$f":"VLOOKUP(F490,Transfer!$U$19:$V$170,2,FALSE)","v":"H4b"},null,0.913158310358553,0]
["202627-0-E-H4b","74_6",{"$f":"FrontPage!$N$2","v":{"v":1,"d":"1.0"}},"202627","CT1",{"$f":"VLOOKUP(J491,Transfer!$X$35:$Y$155,2,FALSE)","v":74},{"$f":"VLOOKUP(K491,Transfer!$X$19:$Y$30,2,FALSE)","v":6},0,0,73,"E",{"$f":"VLOOKUP(F491,PartH,MATCH(G491,PartH!$B$4:$N$4,0),FALSE)","v":0},null,{"$f":"VLOOKUP(F491,Transfer!$U$19:$V$170,2,FALSE)","v":"H4b"},null,0.6473030837775652,0]
["202627-0-F-H4b","74_7",{"$f":"FrontPage!$N$2","v":{"v":1,"d":"1.0"}},"202627","CT1",{"$f":"VLOOKUP(J492,Transfer!$X$35:$Y$155,2,FALSE)","v":74},{"$f":"VLOOKUP(K492,Transfer!$X$19:$Y$30,2,FALSE)","v":7},0,0,73,"F",{"$f":"VLOOKUP(F492,PartH,MATCH(G492,PartH!$B$4:$N$4,0),FALSE)","v":0},null,{"$f":"VLOOKUP(F492,Transfer!$U$19:$V$170,2,FALSE)","v":"H4b"},null,0.41400333346168416,0]
["202627-0-G-H4b","74_8",{"$f":"FrontPage!$N$2","v":{"v":1,"d":"1.0"}},"202627","CT1",{"$f":"VLOOKUP(J493,Transfer!$X$35:$Y$155,2,FALSE)","v":74},{"$f":"VLOOKUP(K493,Transfer!$X$19:$Y$30,2,FALSE)","v":8},0,0,73,"G",{"$f":"VLOOKUP(F493,PartH,MATCH(G493,PartH!$B$4:$N$4,0),FALSE)","v":0},null,{"$f":"VLOOKUP(F493,Transfer!$U$19:$V$170,2,FALSE)","v":"H4b"},null,0.6068120734805487,0]
["202627-0-H-H4b","74_9",{"$f":"FrontPage!$N$2","v":{"v":1,"d":"1.0"}},"202627","CT1",{"$f":"VLOOKUP(J494,Transfer!$X$35:$Y$155,2,FALSE)","v":74},{"$f":"VLOOKUP(K494,Transfer!$X$19:$Y$30,2,FALSE)","v":9},0,0,73,"H",{"$f":"VLOOKUP(F494,PartH,MATCH(G494,PartH!$B$4:$N$4,0),FALSE)","v":0},null,{"$f":"VLOOKUP(F494,Transfer!$U$19:$V$170,2,FALSE)","v":"H4b"},null,0.6784713173612926,0]
["202627-0-I-H4b","74_10",{"$f":"FrontPage!$N$2","v":{"v":1,"d":"1.0"}},"202627","CT1",{"$f":"VLOOKUP(J495,Transfer!$X$35:$Y$155,2,FALSE)","v":74},{"$f":"VLOOKUP(K495,Transfer!$X$19:$Y$30,2,FALSE)","v":10},0,0,73,"I",{"$f":"VLOOKUP(F495,PartH,MATCH(G495,PartH!$B$4:$N$4,0),FALSE)","v":0},null,{"$f":"VLOOKUP(F495,Transfer!$U$19:$V$170,2,FALSE)","v":"H4b"},null,0.32085656128242634,0]
["202627-0-TOTAL-H4b","74_11",{"$f":"FrontPage!$N$2","v":{"v":1,"d":"1.0"}},"202627","CT1",{"$f":"VLOOKUP(J496,Transfer!$X$35:$Y$155,2,FALSE)","v":74},{"$f":"VLOOKUP(K496,Transfer!$X$19:$Y$30,2,FALSE)","v":11},0,0,73,"TOTAL",{"$f":"VLOOKUP(F496,PartH,MATCH(G496,PartH!$B$4:$N$4,0),FALSE)","v":0},null,{"$f":"VLOOKUP(F496,Transfer!$U$19:$V$170,2,FALSE)","v":"H4b"},null,0.4334447548248287,0]
["202627-0-%-H4c","75_12",{"$f":"FrontPage!$N$2","v":{"v":1,"d":"1.0"}},"202627","CT1",{"$f":"VLOOKUP(J497,Transfer!$X$35:$Y$155,2,FALSE)","v":75},{"$f":"VLOOKUP(K497,Transfer!$X$19:$Y$30,2,FALSE)","v":12},0,50,74,"%",{"$f":"VLOOKUP(F497,PartH,MATCH(G497,PartH!$B$4:$N$4,0),FALSE)","v":50},null,{"$f":"VLOOKUP(F497,Transfer!$U$19:$V$170,2,FALSE)","v":"H4c"},null,0.2565561925141383,12.827809625706916]
["202627-0-A-H4c","75_2",{"$f":"FrontPage!$N$2","v":{"v":1,"d":"1.0"}},"202627","CT1",{"$f":"VLOOKUP(J498,Transfer!$X$35:$Y$155,2,FALSE)","v":75},{"$f":"VLOOKUP(K498,Transfer!$X$19:$Y$30,2,FALSE)","v":2},0,0,74,"A",{"$f":"VLOOKUP(F498,PartH,MATCH(G498,PartH!$B$4:$N$4,0),FALSE)","v":0},null,{"$f":"VLOOKUP(F498,Transfer!$U$19:$V$170,2,FALSE)","v":"H4c"},null,0.93127503999647,0]
["202627-0-B-H4c","75_3",{"$f":"FrontPage!$N$2","v":{"v":1,"d":"1.0"}},"202627","CT1",{"$f":"VLOOKUP(J499,Transfer!$X$35:$Y$155,2,FALSE)","v":75},{"$f":"VLOOKUP(K499,Transfer!$X$19:$Y$30,2,FALSE)","v":3},0,0,74,"B",{"$f":"VLOOKUP(F499,PartH,MATCH(G499,PartH!$B$4:$N$4,0),FALSE)","v":0},null,{"$f":"VLOOKUP(F499,Transfer!$U$19:$V$170,2,FALSE)","v":"H4c"},null,0.9922394509052879,0]
["202627-0-C-H4c","75_4",{"$f":"FrontPage!$N$2","v":{"v":1,"d":"1.0"}},"202627","CT1",{"$f":"VLOOKUP(J500,Transfer!$X$35:$Y$155,2,FALSE)","v":75},{"$f":"VLOOKUP(K500,Transfer!$X$19:$Y$30,2,FALSE)","v":4},0,0,74,"C",{"$f":"VLOOKUP(F500,PartH,MATCH(G500,PartH!$B$4:$N$4,0),FALSE)","v":0},null,{"$f":"VLOOKUP(F500,Transfer!$U$19:$V$170,2,FALSE)","v":"H4c"},null,0.3636841971101227,0]
["202627-0-D-H4c","75_5",{"$f":"FrontPage!$N$2","v":{"v":1,"d":"1.0"}},"202627","CT1",{"$f":"VLOOKUP(J501,Transfer!$X$35:$Y$155,2,FALSE)","v":75},{"$f":"VLOOKUP(K501,Transfer!$X$19:$Y$30,2,FALSE)","v":5},0,0,74,"D",{"$f":"VLOOKUP(F501,PartH,MATCH(G501,PartH!$B$4:$N$4,0),FALSE)","v":0},null,{"$f":"VLOOKUP(F501,Transfer!$U$19:$V$170,2,FALSE)","v":"H4c"},null,0.6796258602823767,0]
["202627-0-E-H4c","75_6",{"$f":"FrontPage!$N$2","v":{"v":1,"d":"1.0"}},"202627","CT1",{"$f":"VLOOKUP(J502,Transfer!$X$35:$Y$155,2,FALSE)","v":75},{"$f":"VLOOKUP(K502,Transfer!$X$19:$Y$30,2,FALSE)","v":6},0,0,74,"E",{"$f":"VLOOKUP(F502,PartH,MATCH(G502,PartH!$B$4:$N$4,0),FALSE)","v":0},null,{"$f":"VLOOKUP(F502,Transfer!$U$19:$V$170,2,FALSE)","v":"H4c"},null,0.8645227500523012,0]
["202627-0-F-H4c","75_7",{"$f":"FrontPage!$N$2","v":{"v":1,"d":"1.0"}},"202627","CT1",{"$f":"VLOOKUP(J503,Transfer!$X$35:$Y$155,2,FALSE)","v":75},{"$f":"VLOOKUP(K503,Transfer!$X$19:$Y$30,2,FALSE)","v":7},0,0,74,"F",{"$f":"VLOOKUP(F503,PartH,MATCH(G503,PartH!$B$4:$N$4,0),FALSE)","v":0},null,{"$f":"VLOOKUP(F503,Transfer!$U$19:$V$170,2,FALSE)","v":"H4c"},null,0.7536358794536413,0]
["202627-0-G-H4c","75_8",{"$f":"FrontPage!$N$2","v":{"v":1,"d":"1.0"}},"202627","CT1",{"$f":"VLOOKUP(J504,Transfer!$X$35:$Y$155,2,FALSE)","v":75},{"$f":"VLOOKUP(K504,Transfer!$X$19:$Y$30,2,FALSE)","v":8},0,0,74,"G",{"$f":"VLOOKUP(F504,PartH,MATCH(G504,PartH!$B$4:$N$4,0),FALSE)","v":0},null,{"$f":"VLOOKUP(F504,Transfer!$U$19:$V$170,2,FALSE)","v":"H4c"},null,0.8122089336408926,0]
["202627-0-H-H4c","75_9",{"$f":"FrontPage!$N$2","v":{"v":1,"d":"1.0"}},"202627","CT1",{"$f":"VLOOKUP(J505,Transfer!$X$35:$Y$155,2,FALSE)","v":75},{"$f":"VLOOKUP(K505,Transfer!$X$19:$Y$30,2,FALSE)","v":9},0,0,74,"H",{"$f":"VLOOKUP(F505,PartH,MATCH(G505,PartH!$B$4:$N$4,0),FALSE)","v":0},null,{"$f":"VLOOKUP(F505,Transfer!$U$19:$V$170,2,FALSE)","v":"H4c"},null,0.7471800098509012,0]
["202627-0-I-H4c","75_10",{"$f":"FrontPage!$N$2","v":{"v":1,"d":"1.0"}},"202627","CT1",{"$f":"VLOOKUP(J506,Transfer!$X$35:$Y$155,2,FALSE)","v":75},{"$f":"VLOOKUP(K506,Transfer!$X$19:$Y$30,2,FALSE)","v":10},0,0,74,"I",{"$f":"VLOOKUP(F506,PartH,MATCH(G506,PartH!$B$4:$N$4,0),FALSE)","v":0},null,{"$f":"VLOOKUP(F506,Transfer!$U$19:$V$170,2,FALSE)","v":"H4c"},null,0.9956698668931557,0]
["202627-0-TOTAL-H4c","75_11",{"$f":"FrontPage!$N$2","v":{"v":1,"d":"1.0"}},"202627","CT1",{"$f":"VLOOKUP(J507,Transfer!$X$35:$Y$155,2,FALSE)","v":75},{"$f":"VLOOKUP(K507,Transfer!$X$19:$Y$30,2,FALSE)","v":11},0,0,74,"TOTAL",{"$f":"VLOOKUP(F507,PartH,MATCH(G507,PartH!$B$4:$N$4,0),FALSE)","v":0},null,{"$f":"VLOOKUP(F507,Transfer!$U$19:$V$170,2,FALSE)","v":"H4c"},null,0.39654252601422546,0]
["202627-0-%-H4e","77_12",{"$f":"FrontPage!$N$2","v":{"v":1,"d":"1.0"}},"202627","CT1",{"$f":"VLOOKUP(J508,Transfer!$X$35:$Y$155,2,FALSE)","v":77},{"$f":"VLOOKUP(K508,Transfer!$X$19:$Y$30,2,FALSE)","v":12},0,100,76,"%",{"$f":"VLOOKUP(F508,PartH,MATCH(G508,PartH!$B$4:$N$4,0),FALSE)","v":100},null,{"$f":"VLOOKUP(F508,Transfer!$U$19:$V$170,2,FALSE)","v":"H4e"},null,0.784039220339818,78.4039220339818]
["202627-0-A-H4e","77_2",{"$f":"FrontPage!$N$2","v":{"v":1,"d":"1.0"}},"202627","CT1",{"$f":"VLOOKUP(J509,Transfer!$X$35:$Y$155,2,FALSE)","v":77},{"$f":"VLOOKUP(K509,Transfer!$X$19:$Y$30,2,FALSE)","v":2},0,0,76,"A",{"$f":"VLOOKUP(F509,PartH,MATCH(G509,PartH!$B$4:$N$4,0),FALSE)","v":0},null,{"$f":"VLOOKUP(F509,Transfer!$U$19:$V$170,2,FALSE)","v":"H4e"},null,0.7732108254622636,0]
["202627-0-B-H4e","77_3",{"$f":"FrontPage!$N$2","v":{"v":1,"d":"1.0"}},"202627","CT1",{"$f":"VLOOKUP(J510,Transfer!$X$35:$Y$155,2,FALSE)","v":77},{"$f":"VLOOKUP(K510,Transfer!$X$19:$Y$30,2,FALSE)","v":3},0,0,76,"B",{"$f":"VLOOKUP(F510,PartH,MATCH(G510,PartH!$B$4:$N$4,0),FALSE)","v":0},null,{"$f":"VLOOKUP(F510,Transfer!$U$19:$V$170,2,FALSE)","v":"H4e"},null,0.6987154037096014,0]
["202627-0-C-H4e","77_4",{"$f":"FrontPage!$N$2","v":{"v":1,"d":"1.0"}},"202627","CT1",{"$f":"VLOOKUP(J511,Transfer!$X$35:$Y$155,2,FALSE)","v":77},{"$f":"VLOOKUP(K511,Transfer!$X$19:$Y$30,2,FALSE)","v":4},0,0,76,"C",{"$f":"VLOOKUP(F511,PartH,MATCH(G511,PartH!$B$4:$N$4,0),FALSE)","v":0},null,{"$f":"VLOOKUP(F511,Transfer!$U$19:$V$170,2,FALSE)","v":"H4e"},null,0.4283161986626335,0]
["202627-0-D-H4e","77_5",{"$f":"FrontPage!$N$2","v":{"v":1,"d":"1.0"}},{"$f":"$W$2","v":"202627"},"CT1",{"$f":"VLOOKUP(J512,Transfer!$X$35:$Y$155,2,FALSE)","v":77},{"$f":"VLOOKUP(K512,Transfer!$X$19:$Y$30,2,FALSE)","v":5},{"$f":"uanumber","v":0},0,76,"D",{"$f":"VLOOKUP(F512,PartH,MATCH(G512,PartH!$B$4:$N$4,0),FALSE)","v":0},null,{"$f":"VLOOKUP(F512,Transfer!$U$19:$V$170,2,FALSE)","v":"H4e"},null,0.5771329820068336,0]
["202627-0-E-H4e","77_6",{"$f":"FrontPage!$N$2","v":{"v":1,"d":"1.0"}},"202627","CT1",{"$f":"VLOOKUP(J513,Transfer!$X$35:$Y$155,2,FALSE)","v":77},{"$f":"VLOOKUP(K513,Transfer!$X$19:$Y$30,2,FALSE)","v":6},0,0,76,"E",{"$f":"VLOOKUP(F513,PartH,MATCH(G513,PartH!$B$4:$N$4,0),FALSE)","v":0},null,{"$f":"VLOOKUP(F513,Transfer!$U$19:$V$170,2,FALSE)","v":"H4e"},null,0.5189332084897149,0]
["202627-0-F-H4e","77_7",{"$f":"FrontPage!$N$2","v":{"v":1,"d":"1.0"}},"202627",{"$f":"$E$2","v":"CT1"},{"$f":"VLOOKUP(J514,Transfer!$X$35:$Y$155,2,FALSE)","v":77},{"$f":"VLOOKUP(K514,Transfer!$X$19:$Y$30,2,FALSE)","v":7},0,0,76,"F",{"$f":"VLOOKUP(F514,PartH,MATCH(G514,PartH!$B$4:$N$4,0),FALSE)","v":0},null,{"$f":"VLOOKUP(F514,Transfer!$U$19:$V$170,2,FALSE)","v":"H4e"},null,0.9359556542682296,{"$f":"+I514*P514","v":0}]
["202627-0-G-H4e","77_8",{"$f":"FrontPage!$N$2","v":{"v":1,"d":"1.0"}},"202627","CT1",{"$f":"VLOOKUP(J515,Transfer!$X$35:$Y$155,2,FALSE)","v":77},{"$f":"VLOOKUP(K515,Transfer!$X$19:$Y$30,2,FALSE)","v":8},0,0,76,"G",{"$f":"VLOOKUP(F515,PartH,MATCH(G515,PartH!$B$4:$N$4,0),FALSE)","v":0},null,{"$f":"VLOOKUP(F515,Transfer!$U$19:$V$170,2,FALSE)","v":"H4e"},null,0.24862390098220488,0]
["202627-0-H-H4e","77_9",{"$f":"FrontPage!$N$2","v":{"v":1,"d":"1.0"}},"202627","CT1",{"$f":"VLOOKUP(J516,Transfer!$X$35:$Y$155,2,FALSE)","v":77},{"$f":"VLOOKUP(K516,Transfer!$X$19:$Y$30,2,FALSE)","v":9},0,0,76,"H",{"$f":"VLOOKUP(F516,PartH,MATCH(G516,PartH!$B$4:$N$4,0),FALSE)","v":0},null,{"$f":"VLOOKUP(F516,Transfer!$U$19:$V$170,2,FALSE)","v":"H4e"},null,0.5243858700325658,0]
["202627-0-I-H4e","77_10",{"$f":"FrontPage!$N$2","v":{"v":1,"d":"1.0"}},"202627","CT1",{"$f":"VLOOKUP(J517,Transfer!$X$35:$Y$155,2,FALSE)","v":77},{"$f":"VLOOKUP(K517,Transfer!$X$19:$Y$30,2,FALSE)","v":10},0,0,76,"I",{"$f":"VLOOKUP(F517,PartH,MATCH(G517,PartH!$B$4:$N$4,0),FALSE)","v":0},null,{"$f":"VLOOKUP(F517,Transfer!$U$19:$V$170,2,FALSE)","v":"H4e"},null,0.45393416624951355,0]
["202627-0-TOTAL-H4e","77_11",{"$f":"FrontPage!$N$2","v":{"v":1,"d":"1.0"}},"202627","CT1",{"$f":"VLOOKUP(J518,Transfer!$X$35:$Y$155,2,FALSE)","v":77},{"$f":"VLOOKUP(K518,Transfer!$X$19:$Y$30,2,FALSE)","v":11},0,0,76,"TOTAL",{"$f":"VLOOKUP(F518,PartH,MATCH(G518,PartH!$B$4:$N$4,0),FALSE)","v":0},null,{"$f":"VLOOKUP(F518,Transfer!$U$19:$V$170,2,FALSE)","v":"H4e"},null,0.6549701545157487,0]
["202627-0-%-H4f","78_12",{"$f":"FrontPage!$N$2","v":{"v":1,"d":"1.0"}},"202627","CT1",{"$f":"VLOOKUP(J519,Transfer!$X$35:$Y$155,2,FALSE)","v":78},{"$f":"VLOOKUP(K519,Transfer!$X$19:$Y$30,2,FALSE)","v":12},0,0,77,"%",{"$f":"VLOOKUP(F519,PartH,MATCH(G519,PartH!$B$4:$N$4,0),FALSE)","v":0},null,{"$f":"VLOOKUP(F519,Transfer!$U$19:$V$170,2,FALSE)","v":"H4f"},null,0.19147061647674202,0]
["202627-0-A-H4f","78_2",{"$f":"FrontPage!$N$2","v":{"v":1,"d":"1.0"}},"202627","CT1",{"$f":"VLOOKUP(J520,Transfer!$X$35:$Y$155,2,FALSE)","v":78},{"$f":"VLOOKUP(K520,Transfer!$X$19:$Y$30,2,FALSE)","v":2},0,0,77,"A",{"$f":"VLOOKUP(F520,PartH,MATCH(G520,PartH!$B$4:$N$4,0),FALSE)","v":0},null,{"$f":"VLOOKUP(F520,Transfer!$U$19:$V$170,2,FALSE)","v":"H4f"},null,0.7804793168313883,0]
["202627-0-B-H4f","78_3",{"$f":"FrontPage!$N$2","v":{"v":1,"d":"1.0"}},"202627","CT1",{"$f":"VLOOKUP(J521,Transfer!$X$35:$Y$155,2,FALSE)","v":78},{"$f":"VLOOKUP(K521,Transfer!$X$19:$Y$30,2,FALSE)","v":3},0,0,77,"B",{"$f":"VLOOKUP(F521,PartH,MATCH(G521,PartH!$B$4:$N$4,0),FALSE)","v":0},null,{"$f":"VLOOKUP(F521,Transfer!$U$19:$V$170,2,FALSE)","v":"H4f"},null,0.12243798933220251,0]
["202627-0-C-H4f","78_4",{"$f":"FrontPage!$N$2","v":{"v":1,"d":"1.0"}},"202627","CT1",{"$f":"VLOOKUP(J522,Transfer!$X$35:$Y$155,2,FALSE)","v":78},{"$f":"VLOOKUP(K522,Transfer!$X$19:$Y$30,2,FALSE)","v":4},0,0,77,"C",{"$f":"VLOOKUP(F522,PartH,MATCH(G522,PartH!$B$4:$N$4,0),FALSE)","v":0},null,{"$f":"VLOOKUP(F522,Transfer!$U$19:$V$170,2,FALSE)","v":"H4f"},null,0.07649755654704504,0]
["202627-0-D-H4f","78_5",{"$f":"FrontPage!$N$2","v":{"v":1,"d":"1.0"}},"202627","CT1",{"$f":"VLOOKUP(J523,Transfer!$X$35:$Y$155,2,FALSE)","v":78},{"$f":"VLOOKUP(K523,Transfer!$X$19:$Y$30,2,FALSE)","v":5},0,0,77,"D",{"$f":"VLOOKUP(F523,PartH,MATCH(G523,PartH!$B$4:$N$4,0),FALSE)","v":0},null,{"$f":"VLOOKUP(F523,Transfer!$U$19:$V$170,2,FALSE)","v":"H4f"},null,0.41112899646362544,0]
["202627-0-E-H4f","78_6",{"$f":"FrontPage!$N$2","v":{"v":1,"d":"1.0"}},"202627","CT1",{"$f":"VLOOKUP(J524,Transfer!$X$35:$Y$155,2,FALSE)","v":78},{"$f":"VLOOKUP(K524,Transfer!$X$19:$Y$30,2,FALSE)","v":6},0,0,77,"E",{"$f":"VLOOKUP(F524,PartH,MATCH(G524,PartH!$B$4:$N$4,0),FALSE)","v":0},null,{"$f":"VLOOKUP(F524,Transfer!$U$19:$V$170,2,FALSE)","v":"H4f"},null,0.11433073070361777,0]
["202627-0-F-H4f","78_7",{"$f":"FrontPage!$N$2","v":{"v":1,"d":"1.0"}},"202627","CT1",{"$f":"VLOOKUP(J525,Transfer!$X$35:$Y$155,2,FALSE)","v":78},{"$f":"VLOOKUP(K525,Transfer!$X$19:$Y$30,2,FALSE)","v":7},0,0,77,"F",{"$f":"VLOOKUP(F525,PartH,MATCH(G525,PartH!$B$4:$N$4,0),FALSE)","v":0},null,{"$f":"VLOOKUP(F525,Transfer!$U$19:$V$170,2,FALSE)","v":"H4f"},null,0.8504912595451061,0]
["202627-0-G-H4f","78_8",{"$f":"FrontPage!$N$2","v":{"v":1,"d":"1.0"}},"202627","CT1",{"$f":"VLOOKUP(J526,Transfer!$X$35:$Y$155,2,FALSE)","v":78},{"$f":"VLOOKUP(K526,Transfer!$X$19:$Y$30,2,FALSE)","v":8},0,0,77,"G",{"$f":"VLOOKUP(F526,PartH,MATCH(G526,PartH!$B$4:$N$4,0),FALSE)","v":0},null,{"$f":"VLOOKUP(F526,Transfer!$U$19:$V$170,2,FALSE)","v":"H4f"},null,0.611142960264442,0]
["202627-0-H-H4f","78_9",{"$f":"FrontPage!$N$2","v":{"v":1,"d":"1.0"}},"202627","CT1",{"$f":"VLOOKUP(J527,Transfer!$X$35:$Y$155,2,FALSE)","v":78},{"$f":"VLOOKUP(K527,Transfer!$X$19:$Y$30,2,FALSE)","v":9},0,0,77,"H",{"$f":"VLOOKUP(F527,PartH,MATCH(G527,PartH!$B$4:$N$4,0),FALSE)","v":0},null,{"$f":"VLOOKUP(F527,Transfer!$U$19:$V$170,2,FALSE)","v":"H4f"},null,0.7903952019926783,0]
["202627-0-I-H4f","78_10",{"$f":"FrontPage!$N$2","v":{"v":1,"d":"1.0"}},"202627","CT1",{"$f":"VLOOKUP(J528,Transfer!$X$35:$Y$155,2,FALSE)","v":78},{"$f":"VLOOKUP(K528,Transfer!$X$19:$Y$30,2,FALSE)","v":10},0,0,77,"I",{"$f":"VLOOKUP(F528,PartH,MATCH(G528,PartH!$B$4:$N$4,0),FALSE)","v":0},null,{"$f":"VLOOKUP(F528,Transfer!$U$19:$V$170,2,FALSE)","v":"H4f"},null,0.4324114757746471,0]
["202627-0-TOTAL-H4f","78_11",{"$f":"FrontPage!$N$2","v":{"v":1,"d":"1.0"}},"202627","CT1",{"$f":"VLOOKUP(J529,Transfer!$X$35:$Y$155,2,FALSE)","v":78},{"$f":"VLOOKUP(K529,Transfer!$X$19:$Y$30,2,FALSE)","v":11},0,0,77,"TOTAL",{"$f":"VLOOKUP(F529,PartH,MATCH(G529,PartH!$B$4:$N$4,0),FALSE)","v":0},null,{"$f":"VLOOKUP(F529,Transfer!$U$19:$V$170,2,FALSE)","v":"H4f"},null,0.8718941194661336,0]
["202627-0-%-H4fa","78.1_12",{"$f":"FrontPage!$N$2","v":{"v":1,"d":"1.0"}},"202627","CT1",{"$f":"VLOOKUP(J530,Transfer!$X$35:$Y$157,2,FALSE)","v":78.1},{"$f":"VLOOKUP(K530,Transfer!$X$19:$Y$30,2,FALSE)","v":12},0,{"$f":"L530","v":0},78.1,"%",{"$f":"VLOOKUP(F530,PartH,MATCH(G530,PartH!$B$4:$N$4,0),FALSE)","v":0},null,{"$f":"VLOOKUP(F530,Transfer!$U$19:$V$170,2,FALSE)","v":"H4fa"},null,0.8158841511479875,0]
["202627-0-A-H4fa","78.1_2",{"$f":"FrontPage!$N$2","v":{"v":1,"d":"1.0"}},"202627","CT1",{"$f":"VLOOKUP(J531,Transfer!$X$35:$Y$157,2,FALSE)","v":78.1},{"$f":"VLOOKUP(K531,Transfer!$X$19:$Y$30,2,FALSE)","v":2},0,0,78.1,"A",{"$f":"VLOOKUP(F531,PartH,MATCH(G531,PartH!$B$4:$N$4,0),FALSE)","v":0},null,{"$f":"VLOOKUP(F531,Transfer!$U$19:$V$170,2,FALSE)","v":"H4fa"},null,0.29122758723967856,0]
["202627-0-B-H4fa","78.1_3",{"$f":"FrontPage!$N$2","v":{"v":1,"d":"1.0"}},"202627","CT1",{"$f":"VLOOKUP(J532,Transfer!$X$35:$Y$157,2,FALSE)","v":78.1},{"$f":"VLOOKUP(K532,Transfer!$X$19:$Y$30,2,FALSE)","v":3},0,0,78.1,"B",{"$f":"VLOOKUP(F532,PartH,MATCH(G532,PartH!$B$4:$N$4,0),FALSE)","v":0},null,{"$f":"VLOOKUP(F532,Transfer!$U$19:$V$170,2,FALSE)","v":"H4fa"},null,0.4741450863372344,0]
["202627-0-C-H4fa","78.1_4",{"$f":"FrontPage!$N$2","v":{"v":1,"d":"1.0"}},"202627","CT1",{"$f":"VLOOKUP(J533,Transfer!$X$35:$Y$157,2,FALSE)","v":78.1},{"$f":"VLOOKUP(K533,Transfer!$X$19:$Y$30,2,FALSE)","v":4},0,0,78.1,"C",{"$f":"VLOOKUP(F533,PartH,MATCH(G533,PartH!$B$4:$N$4,0),FALSE)","v":0},null,{"$f":"VLOOKUP(F533,Transfer!$U$19:$V$170,2,FALSE)","v":"H4fa"},null,0.952841708088072,0]
["202627-0-D-H4fa","78.1_5",{"$f":"FrontPage!$N$2","v":{"v":1,"d":"1.0"}},"202627","CT1",{"$f":"VLOOKUP(J534,Transfer!$X$35:$Y$157,2,FALSE)","v":78.1},{"$f":"VLOOKUP(K534,Transfer!$X$19:$Y$30,2,FALSE)","v":5},0,0,78.1,"D",{"$f":"VLOOKUP(F534,PartH,MATCH(G534,PartH!$B$4:$N$4,0),FALSE)","v":0},null,{"$f":"VLOOKUP(F534,Transfer!$U$19:$V$170,2,FALSE)","v":"H4fa"},null,0.813170841786038,0]
["202627-0-E-H4fa","78.1_6",{"$f":"FrontPage!$N$2","v":{"v":1,"d":"1.0"}},"202627","CT1",{"$f":"VLOOKUP(J535,Transfer!$X$35:$Y$157,2,FALSE)","v":78.1},{"$f":"VLOOKUP(K535,Transfer!$X$19:$Y$30,2,FALSE)","v":6},0,0,78.1,"E",{"$f":"VLOOKUP(F535,PartH,MATCH(G535,PartH!$B$4:$N$4,0),FALSE)","v":0},null,{"$f":"VLOOKUP(F535,Transfer!$U$19:$V$170,2,FALSE)","v":"H4fa"},null,0.0738842948193611,0]
["202627-0-F-H4fa","78.1_7",{"$f":"FrontPage!$N$2","v":{"v":1,"d":"1.0"}},"202627","CT1",{"$f":"VLOOKUP(J536,Transfer!$X$35:$Y$157,2,FALSE)","v":78.1},{"$f":"VLOOKUP(K536,Transfer!$X$19:$Y$30,2,FALSE)","v":7},0,0,78.1,"F",{"$f":"VLOOKUP(F536,PartH,MATCH(G536,PartH!$B$4:$N$4,0),FALSE)","v":0},null,{"$f":"VLOOKUP(F536,Transfer!$U$19:$V$170,2,FALSE)","v":"H4fa"},null,0.7376518068295397,0]
[{"$f":"D537&\"-\"&H537&\"-\"&K537&\"-\"&N537","v":"202627-0-G-H4fa"},{"$f":"F537&\"_\"&G537","v":"78.1_8"},{"$f":"FrontPage!$N$2","v":{"v":1,"d":"1.0"}},"202627","CT1",{"$f":"VLOOKUP(J537,Transfer!$X$35:$Y$157,2,FALSE)","v":78.1},{"$f":"VLOOKUP(K537,Transfer!$X$19:$Y$30,2,FALSE)","v":8},0,0,78.1,"G",{"$f":"VLOOKUP(F537,PartH,MATCH(G537,PartH!$B$4:$N$4,0),FALSE)","v":0},null,{"$f":"VLOOKUP(F537,Transfer!$U$19:$V$170,2,FALSE)","v":"H4fa"},null,0.3677605034584367,0]
["202627-0-H-H4fa","78.1_9",{"$f":"FrontPage!$N$2","v":{"v":1,"d":"1.0"}},"202627","CT1",{"$f":"VLOOKUP(J538,Transfer!$X$35:$Y$157,2,FALSE)","v":78.1},{"$f":"VLOOKUP(K538,Transfer!$X$19:$Y$30,2,FALSE)","v":9},0,0,78.1,"H",{"$f":"VLOOKUP(F538,PartH,MATCH(G538,PartH!$B$4:$N$4,0),FALSE)","v":0},null,{"$f":"VLOOKUP(F538,Transfer!$U$19:$V$170,2,FALSE)","v":"H4fa"},null,0.5203499403341857,0]
["202627-0-I-H4fa","78.1_10",{"$f":"FrontPage!$N$2","v":{"v":1,"d":"1.0"}},"202627","CT1",{"$f":"VLOOKUP(J539,Transfer!$X$35:$Y$157,2,FALSE)","v":78.1},{"$f":"VLOOKUP(K539,Transfer!$X$19:$Y$30,2,FALSE)","v":10},0,0,78.1,"I",{"$f":"VLOOKUP(F539,PartH,MATCH(G539,PartH!$B$4:$N$4,0),FALSE)","v":0},null,{"$f":"VLOOKUP(F539,Transfer!$U$19:$V$170,2,FALSE)","v":"H4fa"},null,0.7478043211141554,0]
["202627-0-TOTAL-H4fa","78.1_11",{"$f":"FrontPage!$N$2","v":{"v":1,"d":"1.0"}},"202627","CT1",{"$f":"VLOOKUP(J540,Transfer!$X$35:$Y$157,2,FALSE)","v":78.1},{"$f":"VLOOKUP(K540,Transfer!$X$19:$Y$30,2,FALSE)","v":11},0,0,78.1,"TOTAL",{"$f":"VLOOKUP(F540,PartH,MATCH(G540,PartH!$B$4:$N$4,0),FALSE)","v":0},null,{"$f":"VLOOKUP(F540,Transfer!$U$19:$V$170,2,FALSE)","v":"H4fa"},null,0.9133711226201094,0]
["202627-0-%-H4fb","78.2_12",{"$f":"FrontPage!$N$2","v":{"v":1,"d":"1.0"}},"202627","CT1",{"$f":"VLOOKUP(J541,Transfer!$X$35:$Y$157,2,FALSE)","v":78.2},{"$f":"VLOOKUP(K541,Transfer!$X$19:$Y$30,2,FALSE)","v":12},0,0,78.2,"%",{"$f":"VLOOKUP(F541,PartH,MATCH(G541,PartH!$B$4:$N$4,0),FALSE)","v":0},null,{"$f":"VLOOKUP(F541,Transfer!$U$19:$V$170,2,FALSE)","v":"H4fb"},null,0.5468263696573007,0]
["202627-0-A-H4fb","78.2_2",{"$f":"FrontPage!$N$2","v":{"v":1,"d":"1.0"}},"202627","CT1",{"$f":"VLOOKUP(J542,Transfer!$X$35:$Y$157,2,FALSE)","v":78.2},{"$f":"VLOOKUP(K542,Transfer!$X$19:$Y$30,2,FALSE)","v":2},0,0,78.2,"A",{"$f":"VLOOKUP(F542,PartH,MATCH(G542,PartH!$B$4:$N$4,0),FALSE)","v":0},null,{"$f":"VLOOKUP(F542,Transfer!$U$19:$V$170,2,FALSE)","v":"H4fb"},null,0.21374567122519472,0]
["202627-0-B-H4fb","78.2_3",{"$f":"FrontPage!$N$2","v":{"v":1,"d":"1.0"}},"202627","CT1",{"$f":"VLOOKUP(J543,Transfer!$X$35:$Y$157,2,FALSE)","v":78.2},{"$f":"VLOOKUP(K543,Transfer!$X$19:$Y$30,2,FALSE)","v":3},0,0,78.2,"B",{"$f":"VLOOKUP(F543,PartH,MATCH(G543,PartH!$B$4:$N$4,0),FALSE)","v":0},null,{"$f":"VLOOKUP(F543,Transfer!$U$19:$V$170,2,FALSE)","v":"H4fb"},null,0.8208673822971984,0]
["202627-0-C-H4fb","78.2_4",{"$f":"FrontPage!$N$2","v":{"v":1,"d":"1.0"}},"202627","CT1",{"$f":"VLOOKUP(J544,Transfer!$X$35:$Y$157,2,FALSE)","v":78.2},{"$f":"VLOOKUP(K544,Transfer!$X$19:$Y$30,2,FALSE)","v":4},0,0,78.2,"C",{"$f":"VLOOKUP(F544,PartH,MATCH(G544,PartH!$B$4:$N$4,0),FALSE)","v":0},null,{"$f":"VLOOKUP(F544,Transfer!$U$19:$V$170,2,FALSE)","v":"H4fb"},null,0.2668792017630881,0]
["202627-0-D-H4fb","78.2_5",{"$f":"FrontPage!$N$2","v":{"v":1,"d":"1.0"}},"202627","CT1",{"$f":"VLOOKUP(J545,Transfer!$X$35:$Y$157,2,FALSE)","v":78.2},{"$f":"VLOOKUP(K545,Transfer!$X$19:$Y$30,2,FALSE)","v":5},0,0,78.2,"D",{"$f":"VLOOKUP(F545,PartH,MATCH(G545,PartH!$B$4:$N$4,0),FALSE)","v":0},null,{"$f":"VLOOKUP(F545,Transfer!$U$19:$V$170,2,FALSE)","v":"H4fb"},null,0.6322960879952192,0]
["202627-0-E-H4fb","78.2_6",{"$f":"FrontPage!$N$2","v":{"v":1,"d":"1.0"}},"202627","CT1",{"$f":"VLOOKUP(J546,Transfer!$X$35:$Y$157,2,FALSE)","v":78.2},{"$f":"VLOOKUP(K546,Transfer!$X$19:$Y$30,2,FALSE)","v":6},0,0,78.2,"E",{"$f":"VLOOKUP(F546,PartH,MATCH(G546,PartH!$B$4:$N$4,0),FALSE)","v":0},null,{"$f":"VLOOKUP(F546,Transfer!$U$19:$V$170,2,FALSE)","v":"H4fb"},null,0.868791622376121,0]
["202627-0-F-H4fb","78.2_7",{"$f":"FrontPage!$N$2","v":{"v":1,"d":"1.0"}},"202627","CT1",{"$f":"VLOOKUP(J547,Transfer!$X$35:$Y$157,2,FALSE)","v":78.2},{"$f":"VLOOKUP(K547,Transfer!$X$19:$Y$30,2,FALSE)","v":7},0,0,78.2,"F",{"$f":"VLOOKUP(F547,PartH,MATCH(G547,PartH!$B$4:$N$4,0),FALSE)","v":0},null,{"$f":"VLOOKUP(F547,Transfer!$U$19:$V$170,2,FALSE)","v":"H4fb"},null,0.6660592845318402,0]
["202627-0-G-H4fb","78.2_8",{"$f":"FrontPage!$N$2","v":{"v":1,"d":"1.0"}},"202627","CT1",{"$f":"VLOOKUP(J548,Transfer!$X$35:$Y$157,2,FALSE)","v":78.2},{"$f":"VLOOKUP(K548,Transfer!$X$19:$Y$30,2,FALSE)","v":8},0,0,78.2,"G",{"$f":"VLOOKUP(F548,PartH,MATCH(G548,PartH!$B$4:$N$4,0),FALSE)","v":0},null,{"$f":"VLOOKUP(F548,Transfer!$U$19:$V$170,2,FALSE)","v":"H4fb"},null,0.6113561722951601,0]
["202627-0-H-H4fb","78.2_9",{"$f":"FrontPage!$N$2","v":{"v":1,"d":"1.0"}},"202627","CT1",{"$f":"VLOOKUP(J549,Transfer!$X$35:$Y$157,2,FALSE)","v":78.2},{"$f":"VLOOKUP(K549,Transfer!$X$19:$Y$30,2,FALSE)","v":9},0,0,78.2,"H",{"$f":"VLOOKUP(F549,PartH,MATCH(G549,PartH!$B$4:$N$4,0),FALSE)","v":0},null,{"$f":"VLOOKUP(F549,Transfer!$U$19:$V$170,2,FALSE)","v":"H4fb"},null,0.10333069577179765,0]
["202627-0-I-H4fb","78.2_10",{"$f":"FrontPage!$N$2","v":{"v":1,"d":"1.0"}},"202627","CT1",{"$f":"VLOOKUP(J550,Transfer!$X$35:$Y$157,2,FALSE)","v":78.2},{"$f":"VLOOKUP(K550,Transfer!$X$19:$Y$30,2,FALSE)","v":10},0,0,78.2,"I",{"$f":"VLOOKUP(F550,PartH,MATCH(G550,PartH!$B$4:$N$4,0),FALSE)","v":0},null,{"$f":"VLOOKUP(F550,Transfer!$U$19:$V$170,2,FALSE)","v":"H4fb"},null,0.08206065734175849,0]
["202627-0-TOTAL-H4fb","78.2_11",{"$f":"FrontPage!$N$2","v":{"v":1,"d":"1.0"}},"202627","CT1",{"$f":"VLOOKUP(J551,Transfer!$X$35:$Y$157,2,FALSE)","v":78.2},{"$f":"VLOOKUP(K551,Transfer!$X$19:$Y$30,2,FALSE)","v":11},0,0,78.2,"TOTAL",{"$f":"VLOOKUP(F551,PartH,MATCH(G551,PartH!$B$4:$N$4,0),FALSE)","v":0},null,{"$f":"VLOOKUP(F551,Transfer!$U$19:$V$170,2,FALSE)","v":"H4fb"},null,0.23846880681541005,0]
["202627-0-A-H4g","79_2",{"$f":"FrontPage!$N$2","v":{"v":1,"d":"1.0"}},"202627","CT1",{"$f":"VLOOKUP(J552,Transfer!$X$35:$Y$157,2,FALSE)","v":79},{"$f":"VLOOKUP(K552,Transfer!$X$19:$Y$30,2,FALSE)","v":2},0,{"$f":"L552","v":0},78,"A",{"$f":"VLOOKUP(F552,PartH,MATCH(G552,PartH!$B$4:$N$4,0),FALSE)","v":0},null,{"$f":"VLOOKUP(F552,Transfer!$U$19:$V$170,2,FALSE)","v":"H4g"},null,0.15950381280359704,0]
["202627-0-B-H4g","79_3",{"$f":"FrontPage!$N$2","v":{"v":1,"d":"1.0"}},"202627","CT1",{"$f":"VLOOKUP(J553,Transfer!$X$35:$Y$155,2,FALSE)","v":79},{"$f":"VLOOKUP(K553,Transfer!$X$19:$Y$30,2,FALSE)","v":3},0,0,78,"B",{"$f":"VLOOKUP(F553,PartH,MATCH(G553,PartH!$B$4:$N$4,0),FALSE)","v":0},null,{"$f":"VLOOKUP(F553,Transfer!$U$19:$V$170,2,FALSE)","v":"H4g"},null,0.3764709507357914,0]
["202627-0-C-H4g","79_4",{"$f":"FrontPage!$N$2","v":{"v":1,"d":"1.0"}},"202627","CT1",{"$f":"VLOOKUP(J554,Transfer!$X$35:$Y$155,2,FALSE)","v":79},{"$f":"VLOOKUP(K554,Transfer!$X$19:$Y$30,2,FALSE)","v":4},0,0,78,"C",{"$f":"VLOOKUP(F554,PartH,MATCH(G554,PartH!$B$4:$N$4,0),FALSE)","v":0},null,{"$f":"VLOOKUP(F554,Transfer!$U$19:$V$170,2,FALSE)","v":"H4g"},null,0.03406922330443796,0]
["202627-0-D-H4g","79_5",{"$f":"FrontPage!$N$2","v":{"v":1,"d":"1.0"}},"202627","CT1",{"$f":"VLOOKUP(J555,Transfer!$X$35:$Y$155,2,FALSE)","v":79},{"$f":"VLOOKUP(K555,Transfer!$X$19:$Y$30,2,FALSE)","v":5},0,0,78,"D",{"$f":"VLOOKUP(F555,PartH,MATCH(G555,PartH!$B$4:$N$4,0),FALSE)","v":0},null,{"$f":"VLOOKUP(F555,Transfer!$U$19:$V$170,2,FALSE)","v":"H4g"},null,0.5687158493760351,0]
["202627-0-E-H4g","79_6",{"$f":"FrontPage!$N$2","v":{"v":1,"d":"1.0"}},"202627","CT1",{"$f":"VLOOKUP(J556,Transfer!$X$35:$Y$155,2,FALSE)","v":79},{"$f":"VLOOKUP(K556,Transfer!$X$19:$Y$30,2,FALSE)","v":6},0,0,78,"E",{"$f":"VLOOKUP(F556,PartH,MATCH(G556,PartH!$B$4:$N$4,0),FALSE)","v":0},null,{"$f":"VLOOKUP(F556,Transfer!$U$19:$V$170,2,FALSE)","v":"H4g"},null,0.9139138601868083,0]
["202627-0-F-H4g","79_7",{"$f":"FrontPage!$N$2","v":{"v":1,"d":"1.0"}},"202627","CT1",{"$f":"VLOOKUP(J557,Transfer!$X$35:$Y$155,2,FALSE)","v":79},{"$f":"VLOOKUP(K557,Transfer!$X$19:$Y$30,2,FALSE)","v":7},0,0,78,"F",{"$f":"VLOOKUP(F557,PartH,MATCH(G557,PartH!$B$4:$N$4,0),FALSE)","v":0},null,{"$f":"VLOOKUP(F557,Transfer!$U$19:$V$170,2,FALSE)","v":"H4g"},null,0.6387493883126513,0]
["202627-0-G-H4g","79_8",{"$f":"FrontPage!$N$2","v":{"v":1,"d":"1.0"}},"202627","CT1",{"$f":"VLOOKUP(J558,Transfer!$X$35:$Y$155,2,FALSE)","v":79},{"$f":"VLOOKUP(K558,Transfer!$X$19:$Y$30,2,FALSE)","v":8},0,0,78,"G",{"$f":"VLOOKUP(F558,PartH,MATCH(G558,PartH!$B$4:$N$4,0),FALSE)","v":0},null,{"$f":"VLOOKUP(F558,Transfer!$U$19:$V$170,2,FALSE)","v":"H4g"},null,0.349870735571596,0]
["202627-0-H-H4g","79_9",{"$f":"FrontPage!$N$2","v":{"v":1,"d":"1.0"}},"202627","CT1",{"$f":"VLOOKUP(J559,Transfer!$X$35:$Y$155,2,FALSE)","v":79},{"$f":"VLOOKUP(K559,Transfer!$X$19:$Y$30,2,FALSE)","v":9},0,0,78,"H",{"$f":"VLOOKUP(F559,PartH,MATCH(G559,PartH!$B$4:$N$4,0),FALSE)","v":0},null,{"$f":"VLOOKUP(F559,Transfer!$U$19:$V$170,2,FALSE)","v":"H4g"},null,0.22326210270777846,0]
["202627-0-I-H4g","79_10",{"$f":"FrontPage!$N$2","v":{"v":1,"d":"1.0"}},"202627","CT1",{"$f":"VLOOKUP(J560,Transfer!$X$35:$Y$155,2,FALSE)","v":79},{"$f":"VLOOKUP(K560,Transfer!$X$19:$Y$30,2,FALSE)","v":10},0,0,78,"I",{"$f":"VLOOKUP(F560,PartH,MATCH(G560,PartH!$B$4:$N$4,0),FALSE)","v":0},null,{"$f":"VLOOKUP(F560,Transfer!$U$19:$V$170,2,FALSE)","v":"H4g"},null,0.43002222700633363,0]
["202627-0-TOTAL-H4g","79_11",{"$f":"FrontPage!$N$2","v":{"v":1,"d":"1.0"}},"202627","CT1",{"$f":"VLOOKUP(J561,Transfer!$X$35:$Y$155,2,FALSE)","v":79},{"$f":"VLOOKUP(K561,Transfer!$X$19:$Y$30,2,FALSE)","v":11},0,0,78,"TOTAL",{"$f":"VLOOKUP(F561,PartH,MATCH(G561,PartH!$B$4:$N$4,0),FALSE)","v":0},null,{"$f":"VLOOKUP(F561,Transfer!$U$19:$V$170,2,FALSE)","v":"H4g"},null,0.1733947686798183,0]
["202627-0-%-H5b","81_12",{"$f":"FrontPage!$N$2","v":{"v":1,"d":"1.0"}},"202627","CT1",{"$f":"VLOOKUP(J562,Transfer!$X$35:$Y$155,2,FALSE)","v":81},{"$f":"VLOOKUP(K562,Transfer!$X$19:$Y$30,2,FALSE)","v":12},0,25,80,"%",{"$f":"VLOOKUP(F562,PartH,MATCH(G562,PartH!$B$4:$N$4,0),FALSE)","v":25},null,{"$f":"VLOOKUP(F562,Transfer!$U$19:$V$170,2,FALSE)","v":"H5b"},null,0.019629148458549905,0.49072871146374764]
["202627-0-A-H5b","81_2",{"$f":"FrontPage!$N$2","v":{"v":1,"d":"1.0"}},"202627","CT1",{"$f":"VLOOKUP(J563,Transfer!$X$35:$Y$155,2,FALSE)","v":81},{"$f":"VLOOKUP(K563,Transfer!$X$19:$Y$30,2,FALSE)","v":2},0,0,80,"A",{"$f":"VLOOKUP(F563,PartH,MATCH(G563,PartH!$B$4:$N$4,0),FALSE)","v":0},null,{"$f":"VLOOKUP(F563,Transfer!$U$19:$V$170,2,FALSE)","v":"H5b"},null,0.8075734254038959,0]
["202627-0-B-H5b","81_3",{"$f":"FrontPage!$N$2","v":{"v":1,"d":"1.0"}},"202627","CT1",{"$f":"VLOOKUP(J564,Transfer!$X$35:$Y$155,2,FALSE)","v":81},{"$f":"VLOOKUP(K564,Transfer!$X$19:$Y$30,2,FALSE)","v":3},0,0,80,"B",{"$f":"VLOOKUP(F564,PartH,MATCH(G564,PartH!$B$4:$N$4,0),FALSE)","v":0},null,{"$f":"VLOOKUP(F564,Transfer!$U$19:$V$170,2,FALSE)","v":"H5b"},null,0.4212305013511157,0]
["202627-0-C-H5b","81_4",{"$f":"FrontPage!$N$2","v":{"v":1,"d":"1.0"}},"202627","CT1",{"$f":"VLOOKUP(J565,Transfer!$X$35:$Y$155,2,FALSE)","v":81},{"$f":"VLOOKUP(K565,Transfer!$X$19:$Y$30,2,FALSE)","v":4},0,0,80,"C",{"$f":"VLOOKUP(F565,PartH,MATCH(G565,PartH!$B$4:$N$4,0),FALSE)","v":0},null,{"$f":"VLOOKUP(F565,Transfer!$U$19:$V$170,2,FALSE)","v":"H5b"},null,0.04103194759021245,0]
["202627-0-D-H5b","81_5",{"$f":"FrontPage!$N$2","v":{"v":1,"d":"1.0"}},"202627","CT1",{"$f":"VLOOKUP(J566,Transfer!$X$35:$Y$155,2,FALSE)","v":81},{"$f":"VLOOKUP(K566,Transfer!$X$19:$Y$30,2,FALSE)","v":5},0,0,80,"D",{"$f":"VLOOKUP(F566,PartH,MATCH(G566,PartH!$B$4:$N$4,0),FALSE)","v":0},null,{"$f":"VLOOKUP(F566,Transfer!$U$19:$V$170,2,FALSE)","v":"H5b"},null,0.19980195414949475,0]
["202627-0-E-H5b","81_6",{"$f":"FrontPage!$N$2","v":{"v":1,"d":"1.0"}},"202627","CT1",{"$f":"VLOOKUP(J567,Transfer!$X$35:$Y$155,2,FALSE)","v":81},{"$f":"VLOOKUP(K567,Transfer!$X$19:$Y$30,2,FALSE)","v":6},0,0,80,"E",{"$f":"VLOOKUP(F567,PartH,MATCH(G567,PartH!$B$4:$N$4,0),FALSE)","v":0},null,{"$f":"VLOOKUP(F567,Transfer!$U$19:$V$170,2,FALSE)","v":"H5b"},null,0.29983088128324076,0]
["202627-0-F-H5b","81_7",{"$f":"FrontPage!$N$2","v":{"v":1,"d":"1.0"}},"202627","CT1",{"$f":"VLOOKUP(J568,Transfer!$X$35:$Y$155,2,FALSE)","v":81},{"$f":"VLOOKUP(K568,Transfer!$X$19:$Y$30,2,FALSE)","v":7},0,0,80,"F",{"$f":"VLOOKUP(F568,PartH,MATCH(G568,PartH!$B$4:$N$4,0),FALSE)","v":0},null,{"$f":"VLOOKUP(F568,Transfer!$U$19:$V$170,2,FALSE)","v":"H5b"},null,0.6899048656546876,0]
["202627-0-G-H5b","81_8",{"$f":"FrontPage!$N$2","v":{"v":1,"d":"1.0"}},"202627","CT1",{"$f":"VLOOKUP(J569,Transfer!$X$35:$Y$155,2,FALSE)","v":81},{"$f":"VLOOKUP(K569,Transfer!$X$19:$Y$30,2,FALSE)","v":8},0,0,80,"G",{"$f":"VLOOKUP(F569,PartH,MATCH(G569,PartH!$B$4:$N$4,0),FALSE)","v":0},null,{"$f":"VLOOKUP(F569,Transfer!$U$19:$V$170,2,FALSE)","v":"H5b"},null,0.1077283535506286,0]
["202627-0-H-H5b","81_9",{"$f":"FrontPage!$N$2","v":{"v":1,"d":"1.0"}},"202627","CT1",{"$f":"VLOOKUP(J570,Transfer!$X$35:$Y$155,2,FALSE)","v":81},{"$f":"VLOOKUP(K570,Transfer!$X$19:$Y$30,2,FALSE)","v":9},0,0,80,"H",{"$f":"VLOOKUP(F570,PartH,MATCH(G570,PartH!$B$4:$N$4,0),FALSE)","v":0},null,{"$f":"VLOOKUP(F570,Transfer!$U$19:$V$170,2,FALSE)","v":"H5b"},null,0.8159053858677788,0]
["202627-0-I-H5b","81_10",{"$f":"FrontPage!$N$2","v":{"v":1,"d":"1.0"}},"202627","CT1",{"$f":"VLOOKUP(J571,Transfer!$X$35:$Y$155,2,FALSE)","v":81},{"$f":"VLOOKUP(K571,Transfer!$X$19:$Y$30,2,FALSE)","v":10},0,0,80,"I",{"$f":"VLOOKUP(F571,PartH,MATCH(G571,PartH!$B$4:$N$4,0),FALSE)","v":0},null,{"$f":"VLOOKUP(F571,Transfer!$U$19:$V$170,2,FALSE)","v":"H5b"},null,0.742252698258896,0]
["202627-0-TOTAL-H5b","81_11",{"$f":"FrontPage!$N$2","v":{"v":1,"d":"1.0"}},"202627","CT1",{"$f":"VLOOKUP(J572,Transfer!$X$35:$Y$155,2,FALSE)","v":81},{"$f":"VLOOKUP(K572,Transfer!$X$19:$Y$30,2,FALSE)","v":11},0,0,80,"TOTAL",{"$f":"VLOOKUP(F572,PartH,MATCH(G572,PartH!$B$4:$N$4,0),FALSE)","v":0},null,{"$f":"VLOOKUP(F572,Transfer!$U$19:$V$170,2,FALSE)","v":"H5b"},null,0.3418786596022838,0]
["202627-0-%-H5c","82_12",{"$f":"FrontPage!$N$2","v":{"v":1,"d":"1.0"}},"202627","CT1",{"$f":"VLOOKUP(J573,Transfer!$X$35:$Y$155,2,FALSE)","v":82},{"$f":"VLOOKUP(K573,Transfer!$X$19:$Y$30,2,FALSE)","v":12},0,50,81,"%",{"$f":"VLOOKUP(F573,PartH,MATCH(G573,PartH!$B$4:$N$4,0),FALSE)","v":50},null,{"$f":"VLOOKUP(F573,Transfer!$U$19:$V$170,2,FALSE)","v":"H5c"},null,0.7603907047222549,38.019535236112745]
["202627-0-A-H5c","82_2",{"$f":"FrontPage!$N$2","v":{"v":1,"d":"1.0"}},"202627","CT1",{"$f":"VLOOKUP(J574,Transfer!$X$35:$Y$155,2,FALSE)","v":82},{"$f":"VLOOKUP(K574,Transfer!$X$19:$Y$30,2,FALSE)","v":2},0,0,81,"A",{"$f":"VLOOKUP(F574,PartH,MATCH(G574,PartH!$B$4:$N$4,0),FALSE)","v":0},null,{"$f":"VLOOKUP(F574,Transfer!$U$19:$V$170,2,FALSE)","v":"H5c"},null,0.01312381364728521,0]
["202627-0-B-H5c","82_3",{"$f":"FrontPage!$N$2","v":{"v":1,"d":"1.0"}},"202627","CT1",{"$f":"VLOOKUP(J575,Transfer!$X$35:$Y$155,2,FALSE)","v":82},{"$f":"VLOOKUP(K575,Transfer!$X$19:$Y$30,2,FALSE)","v":3},0,0,81,"B",{"$f":"VLOOKUP(F575,PartH,MATCH(G575,PartH!$B$4:$N$4,0),FALSE)","v":0},null,{"$f":"VLOOKUP(F575,Transfer!$U$19:$V$170,2,FALSE)","v":"H5c"},null,0.8117515750883648,0]
["202627-0-C-H5c","82_4",{"$f":"FrontPage!$N$2","v":{"v":1,"d":"1.0"}},"202627","CT1",{"$f":"VLOOKUP(J576,Transfer!$X$35:$Y$155,2,FALSE)","v":82},{"$f":"VLOOKUP(K576,Transfer!$X$19:$Y$30,2,FALSE)","v":4},0,0,81,"C",{"$f":"VLOOKUP(F576,PartH,MATCH(G576,PartH!$B$4:$N$4,0),FALSE)","v":0},null,{"$f":"VLOOKUP(F576,Transfer!$U$19:$V$170,2,FALSE)","v":"H5c"},null,0.022146100028500926,0]
["202627-0-D-H5c","82_5",{"$f":"FrontPage!$N$2","v":{"v":1,"d":"1.0"}},"202627","CT1",{"$f":"VLOOKUP(J577,Transfer!$X$35:$Y$155,2,FALSE)","v":82},{"$f":"VLOOKUP(K577,Transfer!$X$19:$Y$30,2,FALSE)","v":5},0,0,81,"D",{"$f":"VLOOKUP(F577,PartH,MATCH(G577,PartH!$B$4:$N$4,0),FALSE)","v":0},null,{"$f":"VLOOKUP(F577,Transfer!$U$19:$V$170,2,FALSE)","v":"H5c"},null,0.13347651864608878,0]
["202627-0-E-H5c","82_6",{"$f":"FrontPage!$N$2","v":{"v":1,"d":"1.0"}},"202627","CT1",{"$f":"VLOOKUP(J578,Transfer!$X$35:$Y$155,2,FALSE)","v":82},{"$f":"VLOOKUP(K578,Transfer!$X$19:$Y$30,2,FALSE)","v":6},0,0,81,"E",{"$f":"VLOOKUP(F578,PartH,MATCH(G578,PartH!$B$4:$N$4,0),FALSE)","v":0},null,{"$f":"VLOOKUP(F578,Transfer!$U$19:$V$170,2,FALSE)","v":"H5c"},null,0.18919514468607557,{"$f":"+I578*P578","v":0}]
["202627-0-F-H5c","82_7",{"$f":"FrontPage!$N$2","v":{"v":1,"d":"1.0"}},"202627","CT1",{"$f":"VLOOKUP(J579,Transfer!$X$35:$Y$155,2,FALSE)","v":82},{"$f":"VLOOKUP(K579,Transfer!$X$19:$Y$30,2,FALSE)","v":7},0,0,81,"F",{"$f":"VLOOKUP(F579,PartH,MATCH(G579,PartH!$B$4:$N$4,0),FALSE)","v":0},null,{"$f":"VLOOKUP(F579,Transfer!$U$19:$V$170,2,FALSE)","v":"H5c"},null,0.7819549936728292,0]
["202627-0-G-H5c","82_8",{"$f":"FrontPage!$N$2","v":{"v":1,"d":"1.0"}},"202627","CT1",{"$f":"VLOOKUP(J580,Transfer!$X$35:$Y$155,2,FALSE)","v":82},{"$f":"VLOOKUP(K580,Transfer!$X$19:$Y$30,2,FALSE)","v":8},0,0,81,"G",{"$f":"VLOOKUP(F580,PartH,MATCH(G580,PartH!$B$4:$N$4,0),FALSE)","v":0},null,{"$f":"VLOOKUP(F580,Transfer!$U$19:$V$170,2,FALSE)","v":"H5c"},null,0.8813010722191801,0]
["202627-0-H-H5c","82_9",{"$f":"FrontPage!$N$2","v":{"v":1,"d":"1.0"}},"202627","CT1",{"$f":"VLOOKUP(J581,Transfer!$X$35:$Y$155,2,FALSE)","v":82},{"$f":"VLOOKUP(K581,Transfer!$X$19:$Y$30,2,FALSE)","v":9},0,0,81,"H",{"$f":"VLOOKUP(F581,PartH,MATCH(G581,PartH!$B$4:$N$4,0),FALSE)","v":0},null,{"$f":"VLOOKUP(F581,Transfer!$U$19:$V$170,2,FALSE)","v":"H5c"},null,0.5032903481736631,0]
["202627-0-I-H5c","82_10",{"$f":"FrontPage!$N$2","v":{"v":1,"d":"1.0"}},"202627","CT1",{"$f":"VLOOKUP(J582,Transfer!$X$35:$Y$155,2,FALSE)","v":82},{"$f":"VLOOKUP(K582,Transfer!$X$19:$Y$30,2,FALSE)","v":10},0,0,81,"I",{"$f":"VLOOKUP(F582,PartH,MATCH(G582,PartH!$B$4:$N$4,0),FALSE)","v":0},null,{"$f":"VLOOKUP(F582,Transfer!$U$19:$V$170,2,FALSE)","v":"H5c"},null,0.7680570285443643,0]
["202627-0-TOTAL-H5c","82_11",{"$f":"FrontPage!$N$2","v":{"v":1,"d":"1.0"}},"202627","CT1",{"$f":"VLOOKUP(J583,Transfer!$X$35:$Y$155,2,FALSE)","v":82},{"$f":"VLOOKUP(K583,Transfer!$X$19:$Y$30,2,FALSE)","v":11},0,0,81,"TOTAL",{"$f":"VLOOKUP(F583,PartH,MATCH(G583,PartH!$B$4:$N$4,0),FALSE)","v":0},null,{"$f":"VLOOKUP(F583,Transfer!$U$19:$V$170,2,FALSE)","v":"H5c"},null,0.22044155134680343,0]
["202627-0-%-H5e","84_12",{"$f":"FrontPage!$N$2","v":{"v":1,"d":"1.0"}},{"$f":"$W$2","v":"202627"},{"$f":"$E$2","v":"CT1"},{"$f":"VLOOKUP(J584,Transfer!$X$35:$Y$155,2,FALSE)","v":84},{"$f":"VLOOKUP(K584,Transfer!$X$19:$Y$30,2,FALSE)","v":12},{"$f":"uanumber","v":0},100,83,"%",{"$f":"VLOOKUP(F584,PartH,MATCH(G584,PartH!$B$4:$N$4,0),FALSE)","v":100},null,{"$f":"VLOOKUP(F584,Transfer!$U$19:$V$170,2,FALSE)","v":"H5e"},null,0.1454704574430008,14.54704574430008]
["202627-0-A-H5e","84_2",{"$f":"FrontPage!$N$2","v":{"v":1,"d":"1.0"}},"202627","CT1",{"$f":"VLOOKUP(J585,Transfer!$X$35:$Y$155,2,FALSE)","v":84},{"$f":"VLOOKUP(K585,Transfer!$X$19:$Y$30,2,FALSE)","v":2},0,0,83,"A",{"$f":"VLOOKUP(F585,PartH,MATCH(G585,PartH!$B$4:$N$4,0),FALSE)","v":0},null,{"$f":"VLOOKUP(F585,Transfer!$U$19:$V$170,2,FALSE)","v":"H5e"},null,0.6628346950094931,0]
["202627-0-B-H5e","84_3",{"$f":"FrontPage!$N$2","v":{"v":1,"d":"1.0"}},"202627","CT1",{"$f":"VLOOKUP(J586,Transfer!$X$35:$Y$155,2,FALSE)","v":84},{"$f":"VLOOKUP(K586,Transfer!$X$19:$Y$30,2,FALSE)","v":3},0,0,83,"B",{"$f":"VLOOKUP(F586,PartH,MATCH(G586,PartH!$B$4:$N$4,0),FALSE)","v":0},null,{"$f":"VLOOKUP(F586,Transfer!$U$19:$V$170,2,FALSE)","v":"H5e"},null,0.7155060639650112,0]
["202627-0-C-H5e","84_4",{"$f":"FrontPage!$N$2","v":{"v":1,"d":"1.0"}},"202627","CT1",{"$f":"VLOOKUP(J587,Transfer!$X$35:$Y$155,2,FALSE)","v":84},{"$f":"VLOOKUP(K587,Transfer!$X$19:$Y$30,2,FALSE)","v":4},0,0,83,"C",{"$f":"VLOOKUP(F587,PartH,MATCH(G587,PartH!$B$4:$N$4,0),FALSE)","v":0},null,{"$f":"VLOOKUP(F587,Transfer!$U$19:$V$170,2,FALSE)","v":"H5e"},null,0.17663682327817942,0]
["202627-0-D-H5e","84_5",{"$f":"FrontPage!$N$2","v":{"v":1,"d":"1.0"}},"202627","CT1",{"$f":"VLOOKUP(J588,Transfer!$X$35:$Y$155,2,FALSE)","v":84},{"$f":"VLOOKUP(K588,Transfer!$X$19:$Y$30,2,FALSE)","v":5},0,0,83,"D",{"$f":"VLOOKUP(F588,PartH,MATCH(G588,PartH!$B$4:$N$4,0),FALSE)","v":0},null,{"$f":"VLOOKUP(F588,Transfer!$U$19:$V$170,2,FALSE)","v":"H5e"},null,0.8147580598427345,0]
["202627-0-E-H5e","84_6",{"$f":"FrontPage!$N$2","v":{"v":1,"d":"1.0"}},"202627","CT1",{"$f":"VLOOKUP(J589,Transfer!$X$35:$Y$155,2,FALSE)","v":84},{"$f":"VLOOKUP(K589,Transfer!$X$19:$Y$30,2,FALSE)","v":6},0,0,83,"E",{"$f":"VLOOKUP(F589,PartH,MATCH(G589,PartH!$B$4:$N$4,0),FALSE)","v":0},null,{"$f":"VLOOKUP(F589,Transfer!$U$19:$V$170,2,FALSE)","v":"H5e"},null,0.5616084823972527,0]
["202627-0-F-H5e","84_7",{"$f":"FrontPage!$N$2","v":{"v":1,"d":"1.0"}},"202627","CT1",{"$f":"VLOOKUP(J590,Transfer!$X$35:$Y$155,2,FALSE)","v":84},{"$f":"VLOOKUP(K590,Transfer!$X$19:$Y$30,2,FALSE)","v":7},0,0,83,"F",{"$f":"VLOOKUP(F590,PartH,MATCH(G590,PartH!$B$4:$N$4,0),FALSE)","v":0},null,{"$f":"VLOOKUP(F590,Transfer!$U$19:$V$170,2,FALSE)","v":"H5e"},null,0.07262342260672794,0]
["202627-0-G-H5e","84_8",{"$f":"FrontPage!$N$2","v":{"v":1,"d":"1.0"}},"202627","CT1",{"$f":"VLOOKUP(J591,Transfer!$X$35:$Y$155,2,FALSE)","v":84},{"$f":"VLOOKUP(K591,Transfer!$X$19:$Y$30,2,FALSE)","v":8},0,0,83,"G",{"$f":"VLOOKUP(F591,PartH,MATCH(G591,PartH!$B$4:$N$4,0),FALSE)","v":0},null,{"$f":"VLOOKUP(F591,Transfer!$U$19:$V$170,2,FALSE)","v":"H5e"},null,0.6163476538665578,0]
["202627-0-H-H5e","84_9",{"$f":"FrontPage!$N$2","v":{"v":1,"d":"1.0"}},"202627","CT1",{"$f":"VLOOKUP(J592,Transfer!$X$35:$Y$155,2,FALSE)","v":84},{"$f":"VLOOKUP(K592,Transfer!$X$19:$Y$30,2,FALSE)","v":9},0,0,83,"H",{"$f":"VLOOKUP(F592,PartH,MATCH(G592,PartH!$B$4:$N$4,0),FALSE)","v":0},null,{"$f":"VLOOKUP(F592,Transfer!$U$19:$V$170,2,FALSE)","v":"H5e"},null,0.6767274037059788,0]
["202627-0-I-H5e","84_10",{"$f":"FrontPage!$N$2","v":{"v":1,"d":"1.0"}},"202627","CT1",{"$f":"VLOOKUP(J593,Transfer!$X$35:$Y$155,2,FALSE)","v":84},{"$f":"VLOOKUP(K593,Transfer!$X$19:$Y$30,2,FALSE)","v":10},0,0,83,"I",{"$f":"VLOOKUP(F593,PartH,MATCH(G593,PartH!$B$4:$N$4,0),FALSE)","v":0},null,{"$f":"VLOOKUP(F593,Transfer!$U$19:$V$170,2,FALSE)","v":"H5e"},null,0.28828001492642363,0]
["202627-0-TOTAL-H5e","84_11",{"$f":"FrontPage!$N$2","v":{"v":1,"d":"1.0"}},"202627","CT1",{"$f":"VLOOKUP(J594,Transfer!$X$35:$Y$155,2,FALSE)","v":84},{"$f":"VLOOKUP(K594,Transfer!$X$19:$Y$30,2,FALSE)","v":11},0,{"$f":"L594","v":0},83,"TOTAL",{"$f":"VLOOKUP(F594,PartH,MATCH(G594,PartH!$B$4:$N$4,0),FALSE)","v":0},null,{"$f":"VLOOKUP(F594,Transfer!$U$19:$V$170,2,FALSE)","v":"H5e"},null,0.7855988952704388,0]
["202627-0-%-H5f","85_12",{"$f":"FrontPage!$N$2","v":{"v":1,"d":"1.0"}},"202627","CT1",{"$f":"VLOOKUP(J595,Transfer!$X$35:$Y$155,2,FALSE)","v":85},{"$f":"VLOOKUP(K595,Transfer!$X$19:$Y$30,2,FALSE)","v":12},0,0,84,"%",{"$f":"VLOOKUP(F595,PartH,MATCH(G595,PartH!$B$4:$N$4,0),FALSE)","v":0},null,{"$f":"VLOOKUP(F595,Transfer!$U$19:$V$170,2,FALSE)","v":"H5f"},null,0.8097528483891413,0]
["202627-0-A-H5f","85_2",{"$f":"FrontPage!$N$2","v":{"v":1,"d":"1.0"}},"202627","CT1",{"$f":"VLOOKUP(J596,Transfer!$X$35:$Y$155,2,FALSE)","v":85},{"$f":"VLOOKUP(K596,Transfer!$X$19:$Y$30,2,FALSE)","v":2},0,0,84,"A",{"$f":"VLOOKUP(F596,PartH,MATCH(G596,PartH!$B$4:$N$4,0),FALSE)","v":0},null,{"$f":"VLOOKUP(F596,Transfer!$U$19:$V$170,2,FALSE)","v":"H5f"},null,0.050294536942944834,0]
["202627-0-B-H5f","85_3",{"$f":"FrontPage!$N$2","v":{"v":1,"d":"1.0"}},"202627","CT1",{"$f":"VLOOKUP(J597,Transfer!$X$35:$Y$155,2,FALSE)","v":85},{"$f":"VLOOKUP(K597,Transfer!$X$19:$Y$30,2,FALSE)","v":3},0,0,84,"B",{"$f":"VLOOKUP(F597,PartH,MATCH(G597,PartH!$B$4:$N$4,0),FALSE)","v":0},null,{"$f":"VLOOKUP(F597,Transfer!$U$19:$V$170,2,FALSE)","v":"H5f"},null,0.9634879019474079,0]
["202627-0-C-H5f","85_4",{"$f":"FrontPage!$N$2","v":{"v":1,"d":"1.0"}},"202627","CT1",{"$f":"VLOOKUP(J598,Transfer!$X$35:$Y$155,2,FALSE)","v":85},{"$f":"VLOOKUP(K598,Transfer!$X$19:$Y$30,2,FALSE)","v":4},0,0,84,"C",{"$f":"VLOOKUP(F598,PartH,MATCH(G598,PartH!$B$4:$N$4,0),FALSE)","v":0},null,{"$f":"VLOOKUP(F598,Transfer!$U$19:$V$170,2,FALSE)","v":"H5f"},null,0.2673478723142557,0]
["202627-0-D-H5f","85_5",{"$f":"FrontPage!$N$2","v":{"v":1,"d":"1.0"}},"202627","CT1",{"$f":"VLOOKUP(J599,Transfer!$X$35:$Y$155,2,FALSE)","v":85},{"$f":"VLOOKUP(K599,Transfer!$X$19:$Y$30,2,FALSE)","v":5},0,0,84,"D",{"$f":"VLOOKUP(F599,PartH,MATCH(G599,PartH!$B$4:$N$4,0),FALSE)","v":0},null,{"$f":"VLOOKUP(F599,Transfer!$U$19:$V$170,2,FALSE)","v":"H5f"},null,0.14688739104001847,0]
["202627-0-E-H5f","85_6",{"$f":"FrontPage!$N$2","v":{"v":1,"d":"1.0"}},"202627","CT1",{"$f":"VLOOKUP(J600,Transfer!$X$35:$Y$155,2,FALSE)","v":85},{"$f":"VLOOKUP(K600,Transfer!$X$19:$Y$30,2,FALSE)","v":6},0,0,84,"E",{"$f":"VLOOKUP(F600,PartH,MATCH(G600,PartH!$B$4:$N$4,0),FALSE)","v":0},null,{"$f":"VLOOKUP(F600,Transfer!$U$19:$V$170,2,FALSE)","v":"H5f"},null,0.6778447882399623,0]
[{"$f":"D601&\"-\"&H601&\"-\"&K601&\"-\"&N601","v":"202627-0-F-H5f"},{"$f":"F601&\"_\"&G601","v":"85_7"},{"$f":"FrontPage!$N$2","v":{"v":1,"d":"1.0"}},"202627","CT1",{"$f":"VLOOKUP(J601,Transfer!$X$35:$Y$155,2,FALSE)","v":85},{"$f":"VLOOKUP(K601,Transfer!$X$19:$Y$30,2,FALSE)","v":7},0,0,84,"F",{"$f":"VLOOKUP(F601,PartH,MATCH(G601,PartH!$B$4:$N$4,0),FALSE)","v":0},null,{"$f":"VLOOKUP(F601,Transfer!$U$19:$V$170,2,FALSE)","v":"H5f"},null,0.18339736645948268,0]
["202627-0-G-H5f","85_8",{"$f":"FrontPage!$N$2","v":{"v":1,"d":"1.0"}},"202627","CT1",{"$f":"VLOOKUP(J602,Transfer!$X$35:$Y$155,2,FALSE)","v":85},{"$f":"VLOOKUP(K602,Transfer!$X$19:$Y$30,2,FALSE)","v":8},0,0,84,"G",{"$f":"VLOOKUP(F602,PartH,MATCH(G602,PartH!$B$4:$N$4,0),FALSE)","v":0},null,{"$f":"VLOOKUP(F602,Transfer!$U$19:$V$170,2,FALSE)","v":"H5f"},null,0.4631492018983553,0]
["202627-0-H-H5f","85_9",{"$f":"FrontPage!$N$2","v":{"v":1,"d":"1.0"}},"202627","CT1",{"$f":"VLOOKUP(J603,Transfer!$X$35:$Y$155,2,FALSE)","v":85},{"$f":"VLOOKUP(K603,Transfer!$X$19:$Y$30,2,FALSE)","v":9},0,0,84,"H",{"$f":"VLOOKUP(F603,PartH,MATCH(G603,PartH!$B$4:$N$4,0),FALSE)","v":0},null,{"$f":"VLOOKUP(F603,Transfer!$U$19:$V$170,2,FALSE)","v":"H5f"},null,0.8999763983532459,0]
["202627-0-I-H5f","85_10",{"$f":"FrontPage!$N$2","v":{"v":1,"d":"1.0"}},"202627","CT1",{"$f":"VLOOKUP(J604,Transfer!$X$35:$Y$155,2,FALSE)","v":85},{"$f":"VLOOKUP(K604,Transfer!$X$19:$Y$30,2,FALSE)","v":10},0,0,84,"I",{"$f":"VLOOKUP(F604,PartH,MATCH(G604,PartH!$B$4:$N$4,0),FALSE)","v":0},null,{"$f":"VLOOKUP(F604,Transfer!$U$19:$V$170,2,FALSE)","v":"H5f"},null,0.12748789570857322,0]
["202627-0-TOTAL-H5f","85_11",{"$f":"FrontPage!$N$2","v":{"v":1,"d":"1.0"}},"202627","CT1",{"$f":"VLOOKUP(J605,Transfer!$X$35:$Y$155,2,FALSE)","v":85},{"$f":"VLOOKUP(K605,Transfer!$X$19:$Y$30,2,FALSE)","v":11},0,0,84,"TOTAL",{"$f":"VLOOKUP(F605,PartH,MATCH(G605,PartH!$B$4:$N$4,0),FALSE)","v":0},null,{"$f":"VLOOKUP(F605,Transfer!$U$19:$V$170,2,FALSE)","v":"H5f"},null,0.27252196907747195,0]
["202627-0-%-H5fa","85.1_12",{"$f":"FrontPage!$N$2","v":{"v":1,"d":"1.0"}},"202627","CT1",{"$f":"VLOOKUP(J606,Transfer!$X$35:$Y$157,2,FALSE)","v":85.1},{"$f":"VLOOKUP(K606,Transfer!$X$19:$Y$30,2,FALSE)","v":12},0,{"$f":"L606","v":0},85.1,"%",{"$f":"VLOOKUP(F606,PartH,MATCH(G606,PartH!$B$4:$N$4,0),FALSE)","v":0},null,{"$f":"VLOOKUP(F606,Transfer!$U$19:$V$170,2,FALSE)","v":"H5fa"},null,0.09280375348104042,0]
["202627-0-A-H5fa","85.1_2",{"$f":"FrontPage!$N$2","v":{"v":1,"d":"1.0"}},"202627","CT1",{"$f":"VLOOKUP(J607,Transfer!$X$35:$Y$155,2,FALSE)","v":85.1},{"$f":"VLOOKUP(K607,Transfer!$X$19:$Y$30,2,FALSE)","v":2},0,0,85.1,"A",{"$f":"VLOOKUP(F607,PartH,MATCH(G607,PartH!$B$4:$N$4,0),FALSE)","v":0},null,{"$f":"VLOOKUP(F607,Transfer!$U$19:$V$170,2,FALSE)","v":"H5fa"},null,0.4467883062844594,0]
["202627-0-B-H5fa","85.1_3",{"$f":"FrontPage!$N$2","v":{"v":1,"d":"1.0"}},"202627","CT1",{"$f":"VLOOKUP(J608,Transfer!$X$35:$Y$155,2,FALSE)","v":85.1},{"$f":"VLOOKUP(K608,Transfer!$X$19:$Y$30,2,FALSE)","v":3},0,0,85.1,"B",{"$f":"VLOOKUP(F608,PartH,MATCH(G608,PartH!$B$4:$N$4,0),FALSE)","v":0},null,{"$f":"VLOOKUP(F608,Transfer!$U$19:$V$170,2,FALSE)","v":"H5fa"},null,0.6232189226375814,0]
["202627-0-C-H5fa","85.1_4",{"$f":"FrontPage!$N$2","v":{"v":1,"d":"1.0"}},"202627","CT1",{"$f":"VLOOKUP(J609,Transfer!$X$35:$Y$155,2,FALSE)","v":85.1},{"$f":"VLOOKUP(K609,Transfer!$X$19:$Y$30,2,FALSE)","v":4},0,0,85.1,"C",{"$f":"VLOOKUP(F609,PartH,MATCH(G609,PartH!$B$4:$N$4,0),FALSE)","v":0},null,{"$f":"VLOOKUP(F609,Transfer!$U$19:$V$170,2,FALSE)","v":"H5fa"},null,0.864665857246544,0]
["202627-0-D-H5fa","85.1_5",{"$f":"FrontPage!$N$2","v":{"v":1,"d":"1.0"}},"202627","CT1",{"$f":"VLOOKUP(J610,Transfer!$X$35:$Y$155,2,FALSE)","v":85.1},{"$f":"VLOOKUP(K610,Transfer!$X$19:$Y$30,2,FALSE)","v":5},0,0,85.1,"D",{"$f":"VLOOKUP(F610,PartH,MATCH(G610,PartH!$B$4:$N$4,0),FALSE)","v":0},null,{"$f":"VLOOKUP(F610,Transfer!$U$19:$V$170,2,FALSE)","v":"H5fa"},null,0.2956837212915169,0]
["202627-0-E-H5fa","85.1_6",{"$f":"FrontPage!$N$2","v":{"v":1,"d":"1.0"}},"202627","CT1",{"$f":"VLOOKUP(J611,Transfer!$X$35:$Y$155,2,FALSE)","v":85.1},{"$f":"VLOOKUP(K611,Transfer!$X$19:$Y$30,2,FALSE)","v":6},0,0,85.1,"E",{"$f":"VLOOKUP(F611,PartH,MATCH(G611,PartH!$B$4:$N$4,0),FALSE)","v":0},null,{"$f":"VLOOKUP(F611,Transfer!$U$19:$V$170,2,FALSE)","v":"H5fa"},null,0.3259983188042461,0]
["202627-0-F-H5fa","85.1_7",{"$f":"FrontPage!$N$2","v":{"v":1,"d":"1.0"}},"202627","CT1",{"$f":"VLOOKUP(J612,Transfer!$X$35:$Y$155,2,FALSE)","v":85.1},{"$f":"VLOOKUP(K612,Transfer!$X$19:$Y$30,2,FALSE)","v":7},0,0,85.1,"F",{"$f":"VLOOKUP(F612,PartH,MATCH(G612,PartH!$B$4:$N$4,0),FALSE)","v":0},null,{"$f":"VLOOKUP(F612,Transfer!$U$19:$V$170,2,FALSE)","v":"H5fa"},null,7.2036109287720862E-4,0]
["202627-0-G-H5fa","85.1_8",{"$f":"FrontPage!$N$2","v":{"v":1,"d":"1.0"}},"202627","CT1",{"$f":"VLOOKUP(J613,Transfer!$X$35:$Y$155,2,FALSE)","v":85.1},{"$f":"VLOOKUP(K613,Transfer!$X$19:$Y$30,2,FALSE)","v":8},0,0,85.1,"G",{"$f":"VLOOKUP(F613,PartH,MATCH(G613,PartH!$B$4:$N$4,0),FALSE)","v":0},null,{"$f":"VLOOKUP(F613,Transfer!$U$19:$V$170,2,FALSE)","v":"H5fa"},null,0.12470691344377427,0]
["202627-0-H-H5fa","85.1_9",{"$f":"FrontPage!$N$2","v":{"v":1,"d":"1.0"}},"202627","CT1",{"$f":"VLOOKUP(J614,Transfer!$X$35:$Y$155,2,FALSE)","v":85.1},{"$f":"VLOOKUP(K614,Transfer!$X$19:$Y$30,2,FALSE)","v":9},0,0,85.1,"H",{"$f":"VLOOKUP(F614,PartH,MATCH(G614,PartH!$B$4:$N$4,0),FALSE)","v":0},null,{"$f":"VLOOKUP(F614,Transfer!$U$19:$V$170,2,FALSE)","v":"H5fa"},null,0.31234212314610643,0]
["202627-0-I-H5fa","85.1_10",{"$f":"FrontPage!$N$2","v":{"v":1,"d":"1.0"}},"202627","CT1",{"$f":"VLOOKUP(J615,Transfer!$X$35:$Y$155,2,FALSE)","v":85.1},{"$f":"VLOOKUP(K615,Transfer!$X$19:$Y$30,2,FALSE)","v":10},0,0,85.1,"I",{"$f":"VLOOKUP(F615,PartH,MATCH(G615,PartH!$B$4:$N$4,0),FALSE)","v":0},null,{"$f":"VLOOKUP(F615,Transfer!$U$19:$V$170,2,FALSE)","v":"H5fa"},null,0.6314227164267894,0]
["202627-0-TOTAL-H5fa","85.1_11",{"$f":"FrontPage!$N$2","v":{"v":1,"d":"1.0"}},"202627","CT1",{"$f":"VLOOKUP(J616,Transfer!$X$35:$Y$155,2,FALSE)","v":85.1},{"$f":"VLOOKUP(K616,Transfer!$X$19:$Y$30,2,FALSE)","v":11},0,0,85.1,"TOTAL",{"$f":"VLOOKUP(F616,PartH,MATCH(G616,PartH!$B$4:$N$4,0),FALSE)","v":0},null,{"$f":"VLOOKUP(F616,Transfer!$U$19:$V$170,2,FALSE)","v":"H5fa"},null,0.7043955102323056,0]
["202627-0-%-H5fb","85.2_12",{"$f":"FrontPage!$N$2","v":{"v":1,"d":"1.0"}},"202627","CT1",{"$f":"VLOOKUP(J617,Transfer!$X$35:$Y$155,2,FALSE)","v":85.2},{"$f":"VLOOKUP(K617,Transfer!$X$19:$Y$30,2,FALSE)","v":12},0,0,85.2,"%",{"$f":"VLOOKUP(F617,PartH,MATCH(G617,PartH!$B$4:$N$4,0),FALSE)","v":0},null,{"$f":"VLOOKUP(F617,Transfer!$U$19:$V$170,2,FALSE)","v":"H5fb"},null,0.3844837566841699,0]
["202627-0-A-H5fb","85.2_2",{"$f":"FrontPage!$N$2","v":{"v":1,"d":"1.0"}},"202627","CT1",{"$f":"VLOOKUP(J618,Transfer!$X$35:$Y$155,2,FALSE)","v":85.2},{"$f":"VLOOKUP(K618,Transfer!$X$19:$Y$30,2,FALSE)","v":2},0,0,85.2,"A",{"$f":"VLOOKUP(F618,PartH,MATCH(G618,PartH!$B$4:$N$4,0),FALSE)","v":0},null,{"$f":"VLOOKUP(F618,Transfer!$U$19:$V$170,2,FALSE)","v":"H5fb"},null,0.49920216911297155,0]
["202627-0-B-H5fb","85.2_3",{"$f":"FrontPage!$N$2","v":{"v":1,"d":"1.0"}},"202627","CT1",{"$f":"VLOOKUP(J619,Transfer!$X$35:$Y$155,2,FALSE)","v":85.2},{"$f":"VLOOKUP(K619,Transfer!$X$19:$Y$30,2,FALSE)","v":3},0,0,85.2,"B",{"$f":"VLOOKUP(F619,PartH,MATCH(G619,PartH!$B$4:$N$4,0),FALSE)","v":0},null,{"$f":"VLOOKUP(F619,Transfer!$U$19:$V$170,2,FALSE)","v":"H5fb"},null,0.9176268777273386,0]
["202627-0-C-H5fb","85.2_4",{"$f":"FrontPage!$N$2","v":{"v":1,"d":"1.0"}},"202627","CT1",{"$f":"VLOOKUP(J620,Transfer!$X$35:$Y$155,2,FALSE)","v":85.2},{"$f":"VLOOKUP(K620,Transfer!$X$19:$Y$30,2,FALSE)","v":4},0,0,85.2,"C",{"$f":"VLOOKUP(F620,PartH,MATCH(G620,PartH!$B$4:$N$4,0),FALSE)","v":0},null,{"$f":"VLOOKUP(F620,Transfer!$U$19:$V$170,2,FALSE)","v":"H5fb"},null,0.8751648075884165,0]
["202627-0-D-H5fb","85.2_5",{"$f":"FrontPage!$N$2","v":{"v":1,"d":"1.0"}},"202627","CT1",{"$f":"VLOOKUP(J621,Transfer!$X$35:$Y$155,2,FALSE)","v":85.2},{"$f":"VLOOKUP(K621,Transfer!$X$19:$Y$30,2,FALSE)","v":5},0,0,85.2,"D",{"$f":"VLOOKUP(F621,PartH,MATCH(G621,PartH!$B$4:$N$4,0),FALSE)","v":0},null,{"$f":"VLOOKUP(F621,Transfer!$U$19:$V$170,2,FALSE)","v":"H5fb"},null,0.060325901339915555,0]
["202627-0-E-H5fb","85.2_6",{"$f":"FrontPage!$N$2","v":{"v":1,"d":"1.0"}},"202627","CT1",{"$f":"VLOOKUP(J622,Transfer!$X$35:$Y$155,2,FALSE)","v":85.2},{"$f":"VLOOKUP(K622,Transfer!$X$19:$Y$30,2,FALSE)","v":6},0,0,85.2,"E",{"$f":"VLOOKUP(F622,PartH,MATCH(G622,PartH!$B$4:$N$4,0),FALSE)","v":0},null,{"$f":"VLOOKUP(F622,Transfer!$U$19:$V$170,2,FALSE)","v":"H5fb"},null,0.4561556532470038,0]
["202627-0-F-H5fb","85.2_7",{"$f":"FrontPage!$N$2","v":{"v":1,"d":"1.0"}},"202627","CT1",{"$f":"VLOOKUP(J623,Transfer!$X$35:$Y$155,2,FALSE)","v":85.2},{"$f":"VLOOKUP(K623,Transfer!$X$19:$Y$30,2,FALSE)","v":7},0,0,85.2,"F",{"$f":"VLOOKUP(F623,PartH,MATCH(G623,PartH!$B$4:$N$4,0),FALSE)","v":0},null,{"$f":"VLOOKUP(F623,Transfer!$U$19:$V$170,2,FALSE)","v":"H5fb"},null,0.8829540369186885,0]
["202627-0-G-H5fb","85.2_8",{"$f":"FrontPage!$N$2","v":{"v":1,"d":"1.0"}},"202627","CT1",{"$f":"VLOOKUP(J624,Transfer!$X$35:$Y$155,2,FALSE)","v":85.2},{"$f":"VLOOKUP(K624,Transfer!$X$19:$Y$30,2,FALSE)","v":8},0,0,85.2,"G",{"$f":"VLOOKUP(F624,PartH,MATCH(G624,PartH!$B$4:$N$4,0),FALSE)","v":0},null,{"$f":"VLOOKUP(F624,Transfer!$U$19:$V$170,2,FALSE)","v":"H5fb"},null,0.8138369760120604,0]
["202627-0-H-H5fb","85.2_9",{"$f":"FrontPage!$N$2","v":{"v":1,"d":"1.0"}},"202627","CT1",{"$f":"VLOOKUP(J625,Transfer!$X$35:$Y$155,2,FALSE)","v":85.2},{"$f":"VLOOKUP(K625,Transfer!$X$19:$Y$30,2,FALSE)","v":9},0,0,85.2,"H",{"$f":"VLOOKUP(F625,PartH,MATCH(G625,PartH!$B$4:$N$4,0),FALSE)","v":0},null,{"$f":"VLOOKUP(F625,Transfer!$U$19:$V$170,2,FALSE)","v":"H5fb"},null,0.2543620160514467,0]
["202627-0-I-H5fb","85.2_10",{"$f":"FrontPage!$N$2","v":{"v":1,"d":"1.0"}},"202627","CT1",{"$f":"VLOOKUP(J626,Transfer!$X$35:$Y$155,2,FALSE)","v":85.2},{"$f":"VLOOKUP(K626,Transfer!$X$19:$Y$30,2,FALSE)","v":10},0,0,85.2,"I",{"$f":"VLOOKUP(F626,PartH,MATCH(G626,PartH!$B$4:$N$4,0),FALSE)","v":0},null,{"$f":"VLOOKUP(F626,Transfer!$U$19:$V$170,2,FALSE)","v":"H5fb"},null,0.7346970304938272,0]
["202627-0-TOTAL-H5fb","85.2_11",{"$f":"FrontPage!$N$2","v":{"v":1,"d":"1.0"}},"202627","CT1",{"$f":"VLOOKUP(J627,Transfer!$X$35:$Y$155,2,FALSE)","v":85.2},{"$f":"VLOOKUP(K627,Transfer!$X$19:$Y$30,2,FALSE)","v":11},0,0,85.2,"TOTAL",{"$f":"VLOOKUP(F627,PartH,MATCH(G627,PartH!$B$4:$N$4,0),FALSE)","v":0},null,{"$f":"VLOOKUP(F627,Transfer!$U$19:$V$170,2,FALSE)","v":"H5fb"},null,0.3935119570089569,0]
["202627-0-A-H5g","86_2",{"$f":"FrontPage!$N$2","v":{"v":1,"d":"1.0"}},"202627","CT1",{"$f":"VLOOKUP(J628,Transfer!$X$35:$Y$155,2,FALSE)","v":86},{"$f":"VLOOKUP(K628,Transfer!$X$19:$Y$30,2,FALSE)","v":2},0,0,85,"A",{"$f":"VLOOKUP(F628,PartH,MATCH(G628,PartH!$B$4:$N$4,0),FALSE)","v":0},null,{"$f":"VLOOKUP(F628,Transfer!$U$19:$V$170,2,FALSE)","v":"H5g"},null,0.2511090953992273,0]
["202627-0-B-H5g","86_3",{"$f":"FrontPage!$N$2","v":{"v":1,"d":"1.0"}},"202627","CT1",{"$f":"VLOOKUP(J629,Transfer!$X$35:$Y$155,2,FALSE)","v":86},{"$f":"VLOOKUP(K629,Transfer!$X$19:$Y$30,2,FALSE)","v":3},0,0,85,"B",{"$f":"VLOOKUP(F629,PartH,MATCH(G629,PartH!$B$4:$N$4,0),FALSE)","v":0},null,{"$f":"VLOOKUP(F629,Transfer!$U$19:$V$170,2,FALSE)","v":"H5g"},null,0.024476116985097662,0]
["202627-0-C-H5g","86_4",{"$f":"FrontPage!$N$2","v":{"v":1,"d":"1.0"}},"202627","CT1",{"$f":"VLOOKUP(J630,Transfer!$X$35:$Y$155,2,FALSE)","v":86},{"$f":"VLOOKUP(K630,Transfer!$X$19:$Y$30,2,FALSE)","v":4},0,0,85,"C",{"$f":"VLOOKUP(F630,PartH,MATCH(G630,PartH!$B$4:$N$4,0),FALSE)","v":0},null,{"$f":"VLOOKUP(F630,Transfer!$U$19:$V$170,2,FALSE)","v":"H5g"},null,0.48037151811107315,0]
["202627-0-D-H5g","86_5",{"$f":"FrontPage!$N$2","v":{"v":1,"d":"1.0"}},"202627","CT1",{"$f":"VLOOKUP(J631,Transfer!$X$35:$Y$155,2,FALSE)","v":86},{"$f":"VLOOKUP(K631,Transfer!$X$19:$Y$30,2,FALSE)","v":5},0,0,85,"D",{"$f":"VLOOKUP(F631,PartH,MATCH(G631,PartH!$B$4:$N$4,0),FALSE)","v":0},null,{"$f":"VLOOKUP(F631,Transfer!$U$19:$V$170,2,FALSE)","v":"H5g"},null,0.8970959882831806,0]
["202627-0-E-H5g","86_6",{"$f":"FrontPage!$N$2","v":{"v":1,"d":"1.0"}},"202627","CT1",{"$f":"VLOOKUP(J632,Transfer!$X$35:$Y$155,2,FALSE)","v":86},{"$f":"VLOOKUP(K632,Transfer!$X$19:$Y$30,2,FALSE)","v":6},0,0,85,"E",{"$f":"VLOOKUP(F632,PartH,MATCH(G632,PartH!$B$4:$N$4,0),FALSE)","v":0},null,{"$f":"VLOOKUP(F632,Transfer!$U$19:$V$170,2,FALSE)","v":"H5g"},null,0.5996178198710579,0]
["202627-0-F-H5g","86_7",{"$f":"FrontPage!$N$2","v":{"v":1,"d":"1.0"}},"202627","CT1",{"$f":"VLOOKUP(J633,Transfer!$X$35:$Y$155,2,FALSE)","v":86},{"$f":"VLOOKUP(K633,Transfer!$X$19:$Y$30,2,FALSE)","v":7},0,0,85,"F",{"$f":"VLOOKUP(F633,PartH,MATCH(G633,PartH!$B$4:$N$4,0),FALSE)","v":0},null,{"$f":"VLOOKUP(F633,Transfer!$U$19:$V$170,2,FALSE)","v":"H5g"},null,0.15309697050471127,0]
["202627-0-G-H5g","86_8",{"$f":"FrontPage!$N$2","v":{"v":1,"d":"1.0"}},"202627","CT1",{"$f":"VLOOKUP(J634,Transfer!$X$35:$Y$155,2,FALSE)","v":86},{"$f":"VLOOKUP(K634,Transfer!$X$19:$Y$30,2,FALSE)","v":8},0,0,85,"G",{"$f":"VLOOKUP(F634,PartH,MATCH(G634,PartH!$B$4:$N$4,0),FALSE)","v":0},null,{"$f":"VLOOKUP(F634,Transfer!$U$19:$V$170,2,FALSE)","v":"H5g"},null,0.8105303346357257,0]
["202627-0-H-H5g","86_9",{"$f":"FrontPage!$N$2","v":{"v":1,"d":"1.0"}},"202627","CT1",{"$f":"VLOOKUP(J635,Transfer!$X$35:$Y$155,2,FALSE)","v":86},{"$f":"VLOOKUP(K635,Transfer!$X$19:$Y$30,2,FALSE)","v":9},0,0,85,"H",{"$f":"VLOOKUP(F635,PartH,MATCH(G635,PartH!$B$4:$N$4,0),FALSE)","v":0},null,{"$f":"VLOOKUP(F635,Transfer!$U$19:$V$170,2,FALSE)","v":"H5g"},null,0.2234477389404369,0]
["202627-0-I-H5g","86_10",{"$f":"FrontPage!$N$2","v":{"v":1,"d":"1.0"}},"202627","CT1",{"$f":"VLOOKUP(J636,Transfer!$X$35:$Y$155,2,FALSE)","v":86},{"$f":"VLOOKUP(K636,Transfer!$X$19:$Y$30,2,FALSE)","v":10},0,0,85,"I",{"$f":"VLOOKUP(F636,PartH,MATCH(G636,PartH!$B$4:$N$4,0),FALSE)","v":0},null,{"$f":"VLOOKUP(F636,Transfer!$U$19:$V$170,2,FALSE)","v":"H5g"},null,0.08392092499143511,0]
["202627-0-TOTAL-H5g","86_11",{"$f":"FrontPage!$N$2","v":{"v":1,"d":"1.0"}},"202627","CT1",{"$f":"VLOOKUP(J637,Transfer!$X$35:$Y$155,2,FALSE)","v":86},{"$f":"VLOOKUP(K637,Transfer!$X$19:$Y$30,2,FALSE)","v":11},0,0,85,"TOTAL",{"$f":"VLOOKUP(F637,PartH,MATCH(G637,PartH!$B$4:$N$4,0),FALSE)","v":0},null,{"$f":"VLOOKUP(F637,Transfer!$U$19:$V$170,2,FALSE)","v":"H5g"},null,0.9726238156373471,0]
["202627-0-%-H6b","88_12",{"$f":"FrontPage!$N$2","v":{"v":1,"d":"1.0"}},"202627","CT1",{"$f":"VLOOKUP(J638,Transfer!$X$35:$Y$155,2,FALSE)","v":88},{"$f":"VLOOKUP(K638,Transfer!$X$19:$Y$30,2,FALSE)","v":12},0,25,87,"%",{"$f":"VLOOKUP(F638,PartH,MATCH(G638,PartH!$B$4:$N$4,0),FALSE)","v":25},null,{"$f":"VLOOKUP(F638,Transfer!$U$19:$V$170,2,FALSE)","v":"H6b"},null,0.8665958226114326,21.664895565285818]
["202627-0-A-H6b","88_2",{"$f":"FrontPage!$N$2","v":{"v":1,"d":"1.0"}},"202627","CT1",{"$f":"VLOOKUP(J639,Transfer!$X$35:$Y$155,2,FALSE)","v":88},{"$f":"VLOOKUP(K639,Transfer!$X$19:$Y$30,2,FALSE)","v":2},0,0,87,"A",{"$f":"VLOOKUP(F639,PartH,MATCH(G639,PartH!$B$4:$N$4,0),FALSE)","v":0},null,{"$f":"VLOOKUP(F639,Transfer!$U$19:$V$170,2,FALSE)","v":"H6b"},null,0.5723396506033839,0]
["202627-0-B-H6b","88_3",{"$f":"FrontPage!$N$2","v":{"v":1,"d":"1.0"}},"202627","CT1",{"$f":"VLOOKUP(J640,Transfer!$X$35:$Y$155,2,FALSE)","v":88},{"$f":"VLOOKUP(K640,Transfer!$X$19:$Y$30,2,FALSE)","v":3},0,0,87,"B",{"$f":"VLOOKUP(F640,PartH,MATCH(G640,PartH!$B$4:$N$4,0),FALSE)","v":0},null,{"$f":"VLOOKUP(F640,Transfer!$U$19:$V$170,2,FALSE)","v":"H6b"},null,0.9435996267242265,0]
["202627-0-C-H6b","88_4",{"$f":"FrontPage!$N$2","v":{"v":1,"d":"1.0"}},"202627","CT1",{"$f":"VLOOKUP(J641,Transfer!$X$35:$Y$155,2,FALSE)","v":88},{"$f":"VLOOKUP(K641,Transfer!$X$19:$Y$30,2,FALSE)","v":4},0,0,87,"C",{"$f":"VLOOKUP(F641,PartH,MATCH(G641,PartH!$B$4:$N$4,0),FALSE)","v":0},null,{"$f":"VLOOKUP(F641,Transfer!$U$19:$V$170,2,FALSE)","v":"H6b"},null,0.5795460783020788,0]
["202627-0-D-H6b","88_5",{"$f":"FrontPage!$N$2","v":{"v":1,"d":"1.0"}},"202627","CT1",{"$f":"VLOOKUP(J642,Transfer!$X$35:$Y$155,2,FALSE)","v":88},{"$f":"VLOOKUP(K642,Transfer!$X$19:$Y$30,2,FALSE)","v":5},0,0,87,"D",{"$f":"VLOOKUP(F642,PartH,MATCH(G642,PartH!$B$4:$N$4,0),FALSE)","v":0},null,{"$f":"VLOOKUP(F642,Transfer!$U$19:$V$170,2,FALSE)","v":"H6b"},null,0.9363523479361073,{"$f":"+I642*P642","v":0}]
["202627-0-E-H6b","88_6",{"$f":"FrontPage!$N$2","v":{"v":1,"d":"1.0"}},"202627","CT1",{"$f":"VLOOKUP(J643,Transfer!$X$35:$Y$155,2,FALSE)","v":88},{"$f":"VLOOKUP(K643,Transfer!$X$19:$Y$30,2,FALSE)","v":6},0,0,87,"E",{"$f":"VLOOKUP(F643,PartH,MATCH(G643,PartH!$B$4:$N$4,0),FALSE)","v":0},null,{"$f":"VLOOKUP(F643,Transfer!$U$19:$V$170,2,FALSE)","v":"H6b"},null,0.3285510767322124,0]
["202627-0-F-H6b","88_7",{"$f":"FrontPage!$N$2","v":{"v":1,"d":"1.0"}},"202627","CT1",{"$f":"VLOOKUP(J644,Transfer!$X$35:$Y$155,2,FALSE)","v":88},{"$f":"VLOOKUP(K644,Transfer!$X$19:$Y$30,2,FALSE)","v":7},0,0,87,"F",{"$f":"VLOOKUP(F644,PartH,MATCH(G644,PartH!$B$4:$N$4,0),FALSE)","v":0},null,{"$f":"VLOOKUP(F644,Transfer!$U$19:$V$170,2,FALSE)","v":"H6b"},null,0.18736627437750875,0]
["202627-0-G-H6b","88_8",{"$f":"FrontPage!$N$2","v":{"v":1,"d":"1.0"}},"202627","CT1",{"$f":"VLOOKUP(J645,Transfer!$X$35:$Y$155,2,FALSE)","v":88},{"$f":"VLOOKUP(K645,Transfer!$X$19:$Y$30,2,FALSE)","v":8},0,0,87,"G",{"$f":"VLOOKUP(F645,PartH,MATCH(G645,PartH!$B$4:$N$4,0),FALSE)","v":0},null,{"$f":"VLOOKUP(F645,Transfer!$U$19:$V$170,2,FALSE)","v":"H6b"},null,0.2738227244942979,0]
["202627-0-H-H6b","88_9",{"$f":"FrontPage!$N$2","v":{"v":1,"d":"1.0"}},"202627","CT1",{"$f":"VLOOKUP(J646,Transfer!$X$35:$Y$155,2,FALSE)","v":88},{"$f":"VLOOKUP(K646,Transfer!$X$19:$Y$30,2,FALSE)","v":9},0,0,87,"H",{"$f":"VLOOKUP(F646,PartH,MATCH(G646,PartH!$B$4:$N$4,0),FALSE)","v":0},null,{"$f":"VLOOKUP(F646,Transfer!$U$19:$V$170,2,FALSE)","v":"H6b"},null,0.35919441129529117,0]
["202627-0-I-H6b","88_10",{"$f":"FrontPage!$N$2","v":{"v":1,"d":"1.0"}},"202627","CT1",{"$f":"VLOOKUP(J647,Transfer!$X$35:$Y$155,2,FALSE)","v":88},{"$f":"VLOOKUP(K647,Transfer!$X$19:$Y$30,2,FALSE)","v":10},0,0,87,"I",{"$f":"VLOOKUP(F647,PartH,MATCH(G647,PartH!$B$4:$N$4,0),FALSE)","v":0},null,{"$f":"VLOOKUP(F647,Transfer!$U$19:$V$170,2,FALSE)","v":"H6b"},null,0.9340572208884507,0]
["202627-0-TOTAL-H6b","88_11",{"$f":"FrontPage!$N$2","v":{"v":1,"d":"1.0"}},"202627","CT1",{"$f":"VLOOKUP(J648,Transfer!$X$35:$Y$155,2,FALSE)","v":88},{"$f":"VLOOKUP(K648,Transfer!$X$19:$Y$30,2,FALSE)","v":11},0,0,87,"TOTAL",{"$f":"VLOOKUP(F648,PartH,MATCH(G648,PartH!$B$4:$N$4,0),FALSE)","v":0},null,{"$f":"VLOOKUP(F648,Transfer!$U$19:$V$170,2,FALSE)","v":"H6b"},null,0.7398074927760513,0]
["202627-0-%-H6c","89_12",{"$f":"FrontPage!$N$2","v":{"v":1,"d":"1.0"}},"202627","CT1",{"$f":"VLOOKUP(J649,Transfer!$X$35:$Y$155,2,FALSE)","v":89},{"$f":"VLOOKUP(K649,Transfer!$X$19:$Y$30,2,FALSE)","v":12},0,50,88,"%",{"$f":"VLOOKUP(F649,PartH,MATCH(G649,PartH!$B$4:$N$4,0),FALSE)","v":50},null,{"$f":"VLOOKUP(F649,Transfer!$U$19:$V$170,2,FALSE)","v":"H6c"},null,0.2733591603563995,13.667958017819975]
["202627-0-A-H6c","89_2",{"$f":"FrontPage!$N$2","v":{"v":1,"d":"1.0"}},"202627","CT1",{"$f":"VLOOKUP(J650,Transfer!$X$35:$Y$155,2,FALSE)","v":89},{"$f":"VLOOKUP(K650,Transfer!$X$19:$Y$30,2,FALSE)","v":2},0,0,88,"A",{"$f":"VLOOKUP(F650,PartH,MATCH(G650,PartH!$B$4:$N$4,0),FALSE)","v":0},null,{"$f":"VLOOKUP(F650,Transfer!$U$19:$V$170,2,FALSE)","v":"H6c"},null,0.01335406676663875,0]
["202627-0-B-H6c","89_3",{"$f":"FrontPage!$N$2","v":{"v":1,"d":"1.0"}},{"$f":"$W$2","v":"202627"},"CT1",{"$f":"VLOOKUP(J651,Transfer!$X$35:$Y$155,2,FALSE)","v":89},{"$f":"VLOOKUP(K651,Transfer!$X$19:$Y$30,2,FALSE)","v":3},{"$f":"uanumber","v":0},0,88,"B",{"$f":"VLOOKUP(F651,PartH,MATCH(G651,PartH!$B$4:$N$4,0),FALSE)","v":0},null,{"$f":"VLOOKUP(F651,Transfer!$U$19:$V$170,2,FALSE)","v":"H6c"},null,0.8984357632640981,0]
["202627-0-C-H6c","89_4",{"$f":"FrontPage!$N$2","v":{"v":1,"d":"1.0"}},"202627","CT1",{"$f":"VLOOKUP(J652,Transfer!$X$35:$Y$155,2,FALSE)","v":89},{"$f":"VLOOKUP(K652,Transfer!$X$19:$Y$30,2,FALSE)","v":4},0,0,88,"C",{"$f":"VLOOKUP(F652,PartH,MATCH(G652,PartH!$B$4:$N$4,0),FALSE)","v":0},null,{"$f":"VLOOKUP(F652,Transfer!$U$19:$V$170,2,FALSE)","v":"H6c"},null,0.49779299494994156,0]
["202627-0-D-H6c","89_5",{"$f":"FrontPage!$N$2","v":{"v":1,"d":"1.0"}},"202627",{"$f":"$E$2","v":"CT1"},{"$f":"VLOOKUP(J653,Transfer!$X$35:$Y$155,2,FALSE)","v":89},{"$f":"VLOOKUP(K653,Transfer!$X$19:$Y$30,2,FALSE)","v":5},0,0,88,"D",{"$f":"VLOOKUP(F653,PartH,MATCH(G653,PartH!$B$4:$N$4,0),FALSE)","v":0},null,{"$f":"VLOOKUP(F653,Transfer!$U$19:$V$170,2,FALSE)","v":"H6c"},null,0.9930004493948669,0]
["202627-0-E-H6c","89_6",{"$f":"FrontPage!$N$2","v":{"v":1,"d":"1.0"}},"202627","CT1",{"$f":"VLOOKUP(J654,Transfer!$X$35:$Y$155,2,FALSE)","v":89},{"$f":"VLOOKUP(K654,Transfer!$X$19:$Y$30,2,FALSE)","v":6},0,0,88,"E",{"$f":"VLOOKUP(F654,PartH,MATCH(G654,PartH!$B$4:$N$4,0),FALSE)","v":0},null,{"$f":"VLOOKUP(F654,Transfer!$U$19:$V$170,2,FALSE)","v":"H6c"},null,0.04216304842953844,0]
["202627-0-F-H6c","89_7",{"$f":"FrontPage!$N$2","v":{"v":1,"d":"1.0"}},"202627","CT1",{"$f":"VLOOKUP(J655,Transfer!$X$35:$Y$155,2,FALSE)","v":89},{"$f":"VLOOKUP(K655,Transfer!$X$19:$Y$30,2,FALSE)","v":7},0,0,88,"F",{"$f":"VLOOKUP(F655,PartH,MATCH(G655,PartH!$B$4:$N$4,0),FALSE)","v":0},null,{"$f":"VLOOKUP(F655,Transfer!$U$19:$V$170,2,FALSE)","v":"H6c"},null,0.9511353480895215,0]
["202627-0-G-H6c","89_8",{"$f":"FrontPage!$N$2","v":{"v":1,"d":"1.0"}},"202627","CT1",{"$f":"VLOOKUP(J656,Transfer!$X$35:$Y$155,2,FALSE)","v":89},{"$f":"VLOOKUP(K656,Transfer!$X$19:$Y$30,2,FALSE)","v":8},0,0,88,"G",{"$f":"VLOOKUP(F656,PartH,MATCH(G656,PartH!$B$4:$N$4,0),FALSE)","v":0},null,{"$f":"VLOOKUP(F656,Transfer!$U$19:$V$170,2,FALSE)","v":"H6c"},null,0.08181532500412414,0]
["202627-0-H-H6c","89_9",{"$f":"FrontPage!$N$2","v":{"v":1,"d":"1.0"}},"202627","CT1",{"$f":"VLOOKUP(J657,Transfer!$X$35:$Y$155,2,FALSE)","v":89},{"$f":"VLOOKUP(K657,Transfer!$X$19:$Y$30,2,FALSE)","v":9},0,0,88,"H",{"$f":"VLOOKUP(F657,PartH,MATCH(G657,PartH!$B$4:$N$4,0),FALSE)","v":0},null,{"$f":"VLOOKUP(F657,Transfer!$U$19:$V$170,2,FALSE)","v":"H6c"},null,0.10741634057988536,0]
["202627-0-I-H6c","89_10",{"$f":"FrontPage!$N$2","v":{"v":1,"d":"1.0"}},"202627","CT1",{"$f":"VLOOKUP(J658,Transfer!$X$35:$Y$155,2,FALSE)","v":89},{"$f":"VLOOKUP(K658,Transfer!$X$19:$Y$30,2,FALSE)","v":10},0,0,88,"I",{"$f":"VLOOKUP(F658,PartH,MATCH(G658,PartH!$B$4:$N$4,0),FALSE)","v":0},null,{"$f":"VLOOKUP(F658,Transfer!$U$19:$V$170,2,FALSE)","v":"H6c"},null,0.8427872978134566,0]
["202627-0-TOTAL-H6c","89_11",{"$f":"FrontPage!$N$2","v":{"v":1,"d":"1.0"}},"202627","CT1",{"$f":"VLOOKUP(J659,Transfer!$X$35:$Y$155,2,FALSE)","v":89},{"$f":"VLOOKUP(K659,Transfer!$X$19:$Y$30,2,FALSE)","v":11},0,0,88,"TOTAL",{"$f":"VLOOKUP(F659,PartH,MATCH(G659,PartH!$B$4:$N$4,0),FALSE)","v":0},null,{"$f":"VLOOKUP(F659,Transfer!$U$19:$V$170,2,FALSE)","v":"H6c"},null,0.3243346288757437,0]
["202627-0-%-H6e","91_12",{"$f":"FrontPage!$N$2","v":{"v":1,"d":"1.0"}},"202627","CT1",{"$f":"VLOOKUP(J660,Transfer!$X$35:$Y$155,2,FALSE)","v":91},{"$f":"VLOOKUP(K660,Transfer!$X$19:$Y$30,2,FALSE)","v":12},0,{"$f":"L660","v":100},90,"%",{"$f":"VLOOKUP(F660,PartH,MATCH(G660,PartH!$B$4:$N$4,0),FALSE)","v":100},null,{"$f":"VLOOKUP(F660,Transfer!$U$19:$V$170,2,FALSE)","v":"H6e"},null,0.19538730286728756,19.538730286728757]
["202627-0-A-H6e","91_2",{"$f":"FrontPage!$N$2","v":{"v":1,"d":"1.0"}},"202627","CT1",{"$f":"VLOOKUP(J661,Transfer!$X$35:$Y$155,2,FALSE)","v":91},{"$f":"VLOOKUP(K661,Transfer!$X$19:$Y$30,2,FALSE)","v":2},0,0,90,"A",{"$f":"VLOOKUP(F661,PartH,MATCH(G661,PartH!$B$4:$N$4,0),FALSE)","v":0},null,{"$f":"VLOOKUP(F661,Transfer!$U$19:$V$170,2,FALSE)","v":"H6e"},null,0.10043146503526723,0]
["202627-0-B-H6e","91_3",{"$f":"FrontPage!$N$2","v":{"v":1,"d":"1.0"}},"202627","CT1",{"$f":"VLOOKUP(J662,Transfer!$X$35:$Y$155,2,FALSE)","v":91},{"$f":"VLOOKUP(K662,Transfer!$X$19:$Y$30,2,FALSE)","v":3},0,0,90,"B",{"$f":"VLOOKUP(F662,PartH,MATCH(G662,PartH!$B$4:$N$4,0),FALSE)","v":0},null,{"$f":"VLOOKUP(F662,Transfer!$U$19:$V$170,2,FALSE)","v":"H6e"},null,0.5447907477754359,0]
["202627-0-C-H6e","91_4",{"$f":"FrontPage!$N$2","v":{"v":1,"d":"1.0"}},"202627","CT1",{"$f":"VLOOKUP(J663,Transfer!$X$35:$Y$155,2,FALSE)","v":91},{"$f":"VLOOKUP(K663,Transfer!$X$19:$Y$30,2,FALSE)","v":4},0,0,90,"C",{"$f":"VLOOKUP(F663,PartH,MATCH(G663,PartH!$B$4:$N$4,0),FALSE)","v":0},null,{"$f":"VLOOKUP(F663,Transfer!$U$19:$V$170,2,FALSE)","v":"H6e"},null,0.10048681705846008,0]
["202627-0-D-H6e","91_5",{"$f":"FrontPage!$N$2","v":{"v":1,"d":"1.0"}},"202627","CT1",{"$f":"VLOOKUP(J664,Transfer!$X$35:$Y$155,2,FALSE)","v":91},{"$f":"VLOOKUP(K664,Transfer!$X$19:$Y$30,2,FALSE)","v":5},0,0,90,"D",{"$f":"VLOOKUP(F664,PartH,MATCH(G664,PartH!$B$4:$N$4,0),FALSE)","v":0},null,{"$f":"VLOOKUP(F664,Transfer!$U$19:$V$170,2,FALSE)","v":"H6e"},null,0.9624806159306184,0]
[{"$f":"D665&\"-\"&H665&\"-\"&K665&\"-\"&N665","v":"202627-0-E-H6e"},{"$f":"F665&\"_\"&G665","v":"91_6"},{"$f":"FrontPage!$N$2","v":{"v":1,"d":"1.0"}},"202627","CT1",{"$f":"VLOOKUP(J665,Transfer!$X$35:$Y$155,2,FALSE)","v":91},{"$f":"VLOOKUP(K665,Transfer!$X$19:$Y$30,2,FALSE)","v":6},0,0,90,"E",{"$f":"VLOOKUP(F665,PartH,MATCH(G665,PartH!$B$4:$N$4,0),FALSE)","v":0},null,{"$f":"VLOOKUP(F665,Transfer!$U$19:$V$170,2,FALSE)","v":"H6e"},null,0.6357795058396637,0]
["202627-0-F-H6e","91_7",{"$f":"FrontPage!$N$2","v":{"v":1,"d":"1.0"}},"202627","CT1",{"$f":"VLOOKUP(J666,Transfer!$X$35:$Y$155,2,FALSE)","v":91},{"$f":"VLOOKUP(K666,Transfer!$X$19:$Y$30,2,FALSE)","v":7},0,0,90,"F",{"$f":"VLOOKUP(F666,PartH,MATCH(G666,PartH!$B$4:$N$4,0),FALSE)","v":0},null,{"$f":"VLOOKUP(F666,Transfer!$U$19:$V$170,2,FALSE)","v":"H6e"},null,0.07171485215299378,0]
["202627-0-G-H6e","91_8",{"$f":"FrontPage!$N$2","v":{"v":1,"d":"1.0"}},"202627","CT1",{"$f":"VLOOKUP(J667,Transfer!$X$35:$Y$155,2,FALSE)","v":91},{"$f":"VLOOKUP(K667,Transfer!$X$19:$Y$30,2,FALSE)","v":8},0,0,90,"G",{"$f":"VLOOKUP(F667,PartH,MATCH(G667,PartH!$B$4:$N$4,0),FALSE)","v":0},null,{"$f":"VLOOKUP(F667,Transfer!$U$19:$V$170,2,FALSE)","v":"H6e"},null,0.35879557054506694,0]
["202627-0-H-H6e","91_9",{"$f":"FrontPage!$N$2","v":{"v":1,"d":"1.0"}},"202627","CT1",{"$f":"VLOOKUP(J668,Transfer!$X$35:$Y$155,2,FALSE)","v":91},{"$f":"VLOOKUP(K668,Transfer!$X$19:$Y$30,2,FALSE)","v":9},0,0,90,"H",{"$f":"VLOOKUP(F668,PartH,MATCH(G668,PartH!$B$4:$N$4,0),FALSE)","v":0},null,{"$f":"VLOOKUP(F668,Transfer!$U$19:$V$170,2,FALSE)","v":"H6e"},null,0.2218095059098888,0]
["202627-0-I-H6e","91_10",{"$f":"FrontPage!$N$2","v":{"v":1,"d":"1.0"}},"202627","CT1",{"$f":"VLOOKUP(J669,Transfer!$X$35:$Y$155,2,FALSE)","v":91},{"$f":"VLOOKUP(K669,Transfer!$X$19:$Y$30,2,FALSE)","v":10},0,0,90,"I",{"$f":"VLOOKUP(F669,PartH,MATCH(G669,PartH!$B$4:$N$4,0),FALSE)","v":0},null,{"$f":"VLOOKUP(F669,Transfer!$U$19:$V$170,2,FALSE)","v":"H6e"},null,0.7329560859660821,0]
["202627-0-TOTAL-H6e","91_11",{"$f":"FrontPage!$N$2","v":{"v":1,"d":"1.0"}},"202627","CT1",{"$f":"VLOOKUP(J670,Transfer!$X$35:$Y$155,2,FALSE)","v":91},{"$f":"VLOOKUP(K670,Transfer!$X$19:$Y$30,2,FALSE)","v":11},0,0,90,"TOTAL",{"$f":"VLOOKUP(F670,PartH,MATCH(G670,PartH!$B$4:$N$4,0),FALSE)","v":0},null,{"$f":"VLOOKUP(F670,Transfer!$U$19:$V$170,2,FALSE)","v":"H6e"},null,0.9954383915298068,0]
["202627-0-%-H6f","92_12",{"$f":"FrontPage!$N$2","v":{"v":1,"d":"1.0"}},"202627","CT1",{"$f":"VLOOKUP(J671,Transfer!$X$35:$Y$155,2,FALSE)","v":92},{"$f":"VLOOKUP(K671,Transfer!$X$19:$Y$30,2,FALSE)","v":12},0,0,91,"%",{"$f":"VLOOKUP(F671,PartH,MATCH(G671,PartH!$B$4:$N$4,0),FALSE)","v":0},null,{"$f":"VLOOKUP(F671,Transfer!$U$19:$V$170,2,FALSE)","v":"H6f"},null,0.35105396053770577,0]
["202627-0-A-H6f","92_2",{"$f":"FrontPage!$N$2","v":{"v":1,"d":"1.0"}},"202627","CT1",{"$f":"VLOOKUP(J672,Transfer!$X$35:$Y$155,2,FALSE)","v":92},{"$f":"VLOOKUP(K672,Transfer!$X$19:$Y$30,2,FALSE)","v":2},0,0,91,"A",{"$f":"VLOOKUP(F672,PartH,MATCH(G672,PartH!$B$4:$N$4,0),FALSE)","v":0},null,{"$f":"VLOOKUP(F672,Transfer!$U$19:$V$170,2,FALSE)","v":"H6f"},null,0.12159149967020555,0]
["202627-0-B-H6f","92_3",{"$f":"FrontPage!$N$2","v":{"v":1,"d":"1.0"}},"202627","CT1",{"$f":"VLOOKUP(J673,Transfer!$X$35:$Y$155,2,FALSE)","v":92},{"$f":"VLOOKUP(K673,Transfer!$X$19:$Y$30,2,FALSE)","v":3},0,0,91,"B",{"$f":"VLOOKUP(F673,PartH,MATCH(G673,PartH!$B$4:$N$4,0),FALSE)","v":0},null,{"$f":"VLOOKUP(F673,Transfer!$U$19:$V$170,2,FALSE)","v":"H6f"},null,0.5503019788092894,0]
["202627-0-C-H6f","92_4",{"$f":"FrontPage!$N$2","v":{"v":1,"d":"1.0"}},"202627","CT1",{"$f":"VLOOKUP(J674,Transfer!$X$35:$Y$155,2,FALSE)","v":92},{"$f":"VLOOKUP(K674,Transfer!$X$19:$Y$30,2,FALSE)","v":4},0,0,91,"C",{"$f":"VLOOKUP(F674,PartH,MATCH(G674,PartH!$B$4:$N$4,0),FALSE)","v":0},null,{"$f":"VLOOKUP(F674,Transfer!$U$19:$V$170,2,FALSE)","v":"H6f"},null,0.5345036345828411,0]
["202627-0-D-H6f","92_5",{"$f":"FrontPage!$N$2","v":{"v":1,"d":"1.0"}},"202627","CT1",{"$f":"VLOOKUP(J675,Transfer!$X$35:$Y$155,2,FALSE)","v":92},{"$f":"VLOOKUP(K675,Transfer!$X$19:$Y$30,2,FALSE)","v":5},0,0,91,"D",{"$f":"VLOOKUP(F675,PartH,MATCH(G675,PartH!$B$4:$N$4,0),FALSE)","v":0},null,{"$f":"VLOOKUP(F675,Transfer!$U$19:$V$170,2,FALSE)","v":"H6f"},null,0.3715166250941526,0]
["202627-0-E-H6f","92_6",{"$f":"FrontPage!$N$2","v":{"v":1,"d":"1.0"}},"202627","CT1",{"$f":"VLOOKUP(J676,Transfer!$X$35:$Y$155,2,FALSE)","v":92},{"$f":"VLOOKUP(K676,Transfer!$X$19:$Y$30,2,FALSE)","v":6},0,0,91,"E",{"$f":"VLOOKUP(F676,PartH,MATCH(G676,PartH!$B$4:$N$4,0),FALSE)","v":0},null,{"$f":"VLOOKUP(F676,Transfer!$U$19:$V$170,2,FALSE)","v":"H6f"},null,0.18110934502517995,0]
["202627-0-F-H6f","92_7",{"$f":"FrontPage!$N$2","v":{"v":1,"d":"1.0"}},"202627","CT1",{"$f":"VLOOKUP(J677,Transfer!$X$35:$Y$155,2,FALSE)","v":92},{"$f":"VLOOKUP(K677,Transfer!$X$19:$Y$30,2,FALSE)","v":7},0,0,91,"F",{"$f":"VLOOKUP(F677,PartH,MATCH(G677,PartH!$B$4:$N$4,0),FALSE)","v":0},null,{"$f":"VLOOKUP(F677,Transfer!$U$19:$V$170,2,FALSE)","v":"H6f"},null,0.9134230792925646,0]
["202627-0-G-H6f","92_8",{"$f":"FrontPage!$N$2","v":{"v":1,"d":"1.0"}},"202627","CT1",{"$f":"VLOOKUP(J678,Transfer!$X$35:$Y$155,2,FALSE)","v":92},{"$f":"VLOOKUP(K678,Transfer!$X$19:$Y$30,2,FALSE)","v":8},0,0,91,"G",{"$f":"VLOOKUP(F678,PartH,MATCH(G678,PartH!$B$4:$N$4,0),FALSE)","v":0},null,{"$f":"VLOOKUP(F678,Transfer!$U$19:$V$170,2,FALSE)","v":"H6f"},null,0.9529311044709233,0]
["202627-0-H-H6f","92_9",{"$f":"FrontPage!$N$2","v":{"v":1,"d":"1.0"}},"202627","CT1",{"$f":"VLOOKUP(J679,Transfer!$X$35:$Y$155,2,FALSE)","v":92},{"$f":"VLOOKUP(K679,Transfer!$X$19:$Y$30,2,FALSE)","v":9},0,0,91,"H",{"$f":"VLOOKUP(F679,PartH,MATCH(G679,PartH!$B$4:$N$4,0),FALSE)","v":0},null,{"$f":"VLOOKUP(F679,Transfer!$U$19:$V$170,2,FALSE)","v":"H6f"},null,0.030815005367620385,0]
["202627-0-I-H6f","92_10",{"$f":"FrontPage!$N$2","v":{"v":1,"d":"1.0"}},"202627","CT1",{"$f":"VLOOKUP(J680,Transfer!$X$35:$Y$155,2,FALSE)","v":92},{"$f":"VLOOKUP(K680,Transfer!$X$19:$Y$30,2,FALSE)","v":10},0,0,91,"I",{"$f":"VLOOKUP(F680,PartH,MATCH(G680,PartH!$B$4:$N$4,0),FALSE)","v":0},null,{"$f":"VLOOKUP(F680,Transfer!$U$19:$V$170,2,FALSE)","v":"H6f"},null,0.09357777209267937,0]
["202627-0-TOTAL-H6f","92_11",{"$f":"FrontPage!$N$2","v":{"v":1,"d":"1.0"}},"202627","CT1",{"$f":"VLOOKUP(J681,Transfer!$X$35:$Y$155,2,FALSE)","v":92},{"$f":"VLOOKUP(K681,Transfer!$X$19:$Y$30,2,FALSE)","v":11},0,0,91,"TOTAL",{"$f":"VLOOKUP(F681,PartH,MATCH(G681,PartH!$B$4:$N$4,0),FALSE)","v":0},null,{"$f":"VLOOKUP(F681,Transfer!$U$19:$V$170,2,FALSE)","v":"H6f"},null,0.11288371174937673,0]
["202627-0-%-H6fa","92.1_12",{"$f":"FrontPage!$N$2","v":{"v":1,"d":"1.0"}},"202627","CT1",{"$f":"VLOOKUP(J682,Transfer!$X$35:$Y$155,2,FALSE)","v":92.1},{"$f":"VLOOKUP(K682,Transfer!$X$19:$Y$30,2,FALSE)","v":12},0,{"$f":"L682","v":0},92.1,"%",{"$f":"VLOOKUP(F682,PartH,MATCH(G682,PartH!$B$4:$N$4,0),FALSE)","v":0},null,{"$f":"VLOOKUP(F682,Transfer!$U$19:$V$170,2,FALSE)","v":"H6fa"},null,0.6230888258927247,0]
["202627-0-A-H6fa","92.1_2",{"$f":"FrontPage!$N$2","v":{"v":1,"d":"1.0"}},"202627","CT1",{"$f":"VLOOKUP(J683,Transfer!$X$35:$Y$155,2,FALSE)","v":92.1},{"$f":"VLOOKUP(K683,Transfer!$X$19:$Y$30,2,FALSE)","v":2},0,0,92.1,"A",{"$f":"VLOOKUP(F683,PartH,MATCH(G683,PartH!$B$4:$N$4,0),FALSE)","v":0},null,{"$f":"VLOOKUP(F683,Transfer!$U$19:$V$170,2,FALSE)","v":"H6fa"},null,0.9124085274093217,0]
["202627-0-B-H6fa","92.1_3",{"$f":"FrontPage!$N$2","v":{"v":1,"d":"1.0"}},"202627","CT1",{"$f":"VLOOKUP(J684,Transfer!$X$35:$Y$155,2,FALSE)","v":92.1},{"$f":"VLOOKUP(K684,Transfer!$X$19:$Y$30,2,FALSE)","v":3},0,0,92.1,"B",{"$f":"VLOOKUP(F684,PartH,MATCH(G684,PartH!$B$4:$N$4,0),FALSE)","v":0},null,{"$f":"VLOOKUP(F684,Transfer!$U$19:$V$170,2,FALSE)","v":"H6fa"},null,0.5594649926380088,0]
["202627-0-C-H6fa","92.1_4",{"$f":"FrontPage!$N$2","v":{"v":1,"d":"1.0"}},"202627","CT1",{"$f":"VLOOKUP(J685,Transfer!$X$35:$Y$155,2,FALSE)","v":92.1},{"$f":"VLOOKUP(K685,Transfer!$X$19:$Y$30,2,FALSE)","v":4},0,0,92.1,"C",{"$f":"VLOOKUP(F685,PartH,MATCH(G685,PartH!$B$4:$N$4,0),FALSE)","v":0},null,{"$f":"VLOOKUP(F685,Transfer!$U$19:$V$170,2,FALSE)","v":"H6fa"},null,0.704715549770597,0]
["202627-0-D-H6fa","92.1_5",{"$f":"FrontPage!$N$2","v":{"v":1,"d":"1.0"}},"202627","CT1",{"$f":"VLOOKUP(J686,Transfer!$X$35:$Y$155,2,FALSE)","v":92.1},{"$f":"VLOOKUP(K686,Transfer!$X$19:$Y$30,2,FALSE)","v":5},0,0,92.1,"D",{"$f":"VLOOKUP(F686,PartH,MATCH(G686,PartH!$B$4:$N$4,0),FALSE)","v":0},null,{"$f":"VLOOKUP(F686,Transfer!$U$19:$V$170,2,FALSE)","v":"H6fa"},null,0.5880334569770334,0]
["202627-0-E-H6fa","92.1_6",{"$f":"FrontPage!$N$2","v":{"v":1,"d":"1.0"}},"202627","CT1",{"$f":"VLOOKUP(J687,Transfer!$X$35:$Y$155,2,FALSE)","v":92.1},{"$f":"VLOOKUP(K687,Transfer!$X$19:$Y$30,2,FALSE)","v":6},0,0,92.1,"E",{"$f":"VLOOKUP(F687,PartH,MATCH(G687,PartH!$B$4:$N$4,0),FALSE)","v":0},null,{"$f":"VLOOKUP(F687,Transfer!$U$19:$V$170,2,FALSE)","v":"H6fa"},null,0.3052968570633996,0]
["202627-0-F-H6fa","92.1_7",{"$f":"FrontPage!$N$2","v":{"v":1,"d":"1.0"}},"202627","CT1",{"$f":"VLOOKUP(J688,Transfer!$X$35:$Y$155,2,FALSE)","v":92.1},{"$f":"VLOOKUP(K688,Transfer!$X$19:$Y$30,2,FALSE)","v":7},0,0,92.1,"F",{"$f":"VLOOKUP(F688,PartH,MATCH(G688,PartH!$B$4:$N$4,0),FALSE)","v":0},null,{"$f":"VLOOKUP(F688,Transfer!$U$19:$V$170,2,FALSE)","v":"H6fa"},null,0.26291755662879657,0]
["202627-0-G-H6fa","92.1_8",{"$f":"FrontPage!$N$2","v":{"v":1,"d":"1.0"}},"202627","CT1",{"$f":"VLOOKUP(J689,Transfer!$X$35:$Y$155,2,FALSE)","v":92.1},{"$f":"VLOOKUP(K689,Transfer!$X$19:$Y$30,2,FALSE)","v":8},0,0,92.1,"G",{"$f":"VLOOKUP(F689,PartH,MATCH(G689,PartH!$B$4:$N$4,0),FALSE)","v":0},null,{"$f":"VLOOKUP(F689,Transfer!$U$19:$V$170,2,FALSE)","v":"H6fa"},null,0.7356407339398705,0]
["202627-0-H-H6fa","92.1_9",{"$f":"FrontPage!$N$2","v":{"v":1,"d":"1.0"}},"202627","CT1",{"$f":"VLOOKUP(J690,Transfer!$X$35:$Y$155,2,FALSE)","v":92.1},{"$f":"VLOOKUP(K690,Transfer!$X$19:$Y$30,2,FALSE)","v":9},0,0,92.1,"H",{"$f":"VLOOKUP(F690,PartH,MATCH(G690,PartH!$B$4:$N$4,0),FALSE)","v":0},null,{"$f":"VLOOKUP(F690,Transfer!$U$19:$V$170,2,FALSE)","v":"H6fa"},null,0.8378317737477387,0]
["202627-0-I-H6fa","92.1_10",{"$f":"FrontPage!$N$2","v":{"v":1,"d":"1.0"}},"202627","CT1",{"$f":"VLOOKUP(J691,Transfer!$X$35:$Y$155,2,FALSE)","v":92.1},{"$f":"VLOOKUP(K691,Transfer!$X$19:$Y$30,2,FALSE)","v":10},0,0,92.1,"I",{"$f":"VLOOKUP(F691,PartH,MATCH(G691,PartH!$B$4:$N$4,0),FALSE)","v":0},null,{"$f":"VLOOKUP(F691,Transfer!$U$19:$V$170,2,FALSE)","v":"H6fa"},null,0.4957004353639146,0]
["202627-0-TOTAL-H6fa","92.1_11",{"$f":"FrontPage!$N$2","v":{"v":1,"d":"1.0"}},"202627","CT1",{"$f":"VLOOKUP(J692,Transfer!$X$35:$Y$155,2,FALSE)","v":92.1},{"$f":"VLOOKUP(K692,Transfer!$X$19:$Y$30,2,FALSE)","v":11},0,0,92.1,"TOTAL",{"$f":"VLOOKUP(F692,PartH,MATCH(G692,PartH!$B$4:$N$4,0),FALSE)","v":0},null,{"$f":"VLOOKUP(F692,Transfer!$U$19:$V$170,2,FALSE)","v":"H6fa"},null,0.7719609396948864,0]
["202627-0-%-H6fb","92.2_12",{"$f":"FrontPage!$N$2","v":{"v":1,"d":"1.0"}},"202627","CT1",{"$f":"VLOOKUP(J693,Transfer!$X$35:$Y$155,2,FALSE)","v":92.2},{"$f":"VLOOKUP(K693,Transfer!$X$19:$Y$30,2,FALSE)","v":12},0,0,92.2,"%",{"$f":"VLOOKUP(F693,PartH,MATCH(G693,PartH!$B$4:$N$4,0),FALSE)","v":0},null,{"$f":"VLOOKUP(F693,Transfer!$U$19:$V$170,2,FALSE)","v":"H6fb"},null,0.6854260548537142,0]
["202627-0-A-H6fb","92.2_2",{"$f":"FrontPage!$N$2","v":{"v":1,"d":"1.0"}},"202627","CT1",{"$f":"VLOOKUP(J694,Transfer!$X$35:$Y$155,2,FALSE)","v":92.2},{"$f":"VLOOKUP(K694,Transfer!$X$19:$Y$30,2,FALSE)","v":2},0,0,92.2,"A",{"$f":"VLOOKUP(F694,PartH,MATCH(G694,PartH!$B$4:$N$4,0),FALSE)","v":0},null,{"$f":"VLOOKUP(F694,Transfer!$U$19:$V$170,2,FALSE)","v":"H6fb"},null,0.8949992509132795,0]
["202627-0-B-H6fb","92.2_3",{"$f":"FrontPage!$N$2","v":{"v":1,"d":"1.0"}},"202627","CT1",{"$f":"VLOOKUP(J695,Transfer!$X$35:$Y$155,2,FALSE)","v":92.2},{"$f":"VLOOKUP(K695,Transfer!$X$19:$Y$30,2,FALSE)","v":3},0,0,92.2,"B",{"$f":"VLOOKUP(F695,PartH,MATCH(G695,PartH!$B$4:$N$4,0),FALSE)","v":0},null,{"$f":"VLOOKUP(F695,Transfer!$U$19:$V$170,2,FALSE)","v":"H6fb"},null,0.8206743602863973,0]
["202627-0-C-H6fb","92.2_4",{"$f":"FrontPage!$N$2","v":{"v":1,"d":"1.0"}},"202627","CT1",{"$f":"VLOOKUP(J696,Transfer!$X$35:$Y$155,2,FALSE)","v":92.2},{"$f":"VLOOKUP(K696,Transfer!$X$19:$Y$30,2,FALSE)","v":4},0,0,92.2,"C",{"$f":"VLOOKUP(F696,PartH,MATCH(G696,PartH!$B$4:$N$4,0),FALSE)","v":0},null,{"$f":"VLOOKUP(F696,Transfer!$U$19:$V$170,2,FALSE)","v":"H6fb"},null,0.5361217497539631,0]
["202627-0-D-H6fb","92.2_5",{"$f":"FrontPage!$N$2","v":{"v":1,"d":"1.0"}},"202627","CT1",{"$f":"VLOOKUP(J697,Transfer!$X$35:$Y$155,2,FALSE)","v":92.2},{"$f":"VLOOKUP(K697,Transfer!$X$19:$Y$30,2,FALSE)","v":5},0,0,92.2,"D",{"$f":"VLOOKUP(F697,PartH,MATCH(G697,PartH!$B$4:$N$4,0),FALSE)","v":0},null,{"$f":"VLOOKUP(F697,Transfer!$U$19:$V$170,2,FALSE)","v":"H6fb"},null,0.381672454582871,0]
["202627-0-E-H6fb","92.2_6",{"$f":"FrontPage!$N$2","v":{"v":1,"d":"1.0"}},"202627","CT1",{"$f":"VLOOKUP(J698,Transfer!$X$35:$Y$155,2,FALSE)","v":92.2},{"$f":"VLOOKUP(K698,Transfer!$X$19:$Y$30,2,FALSE)","v":6},0,0,92.2,"E",{"$f":"VLOOKUP(F698,PartH,MATCH(G698,PartH!$B$4:$N$4,0),FALSE)","v":0},null,{"$f":"VLOOKUP(F698,Transfer!$U$19:$V$170,2,FALSE)","v":"H6fb"},null,0.5084082936176679,0]
["202627-0-F-H6fb","92.2_7",{"$f":"FrontPage!$N$2","v":{"v":1,"d":"1.0"}},"202627","CT1",{"$f":"VLOOKUP(J699,Transfer!$X$35:$Y$155,2,FALSE)","v":92.2},{"$f":"VLOOKUP(K699,Transfer!$X$19:$Y$30,2,FALSE)","v":7},0,0,92.2,"F",{"$f":"VLOOKUP(F699,PartH,MATCH(G699,PartH!$B$4:$N$4,0),FALSE)","v":0},null,{"$f":"VLOOKUP(F699,Transfer!$U$19:$V$170,2,FALSE)","v":"H6fb"},null,0.8908717249143062,0]
["202627-0-G-H6fb","92.2_8",{"$f":"FrontPage!$N$2","v":{"v":1,"d":"1.0"}},"202627","CT1",{"$f":"VLOOKUP(J700,Transfer!$X$35:$Y$155,2,FALSE)","v":92.2},{"$f":"VLOOKUP(K700,Transfer!$X$19:$Y$30,2,FALSE)","v":8},0,0,92.2,"G",{"$f":"VLOOKUP(F700,PartH,MATCH(G700,PartH!$B$4:$N$4,0),FALSE)","v":0},null,{"$f":"VLOOKUP(F700,Transfer!$U$19:$V$170,2,FALSE)","v":"H6fb"},null,0.7460313714565284,0]
["202627-0-H-H6fb","92.2_9",{"$f":"FrontPage!$N$2","v":{"v":1,"d":"1.0"}},"202627","CT1",{"$f":"VLOOKUP(J701,Transfer!$X$35:$Y$155,2,FALSE)","v":92.2},{"$f":"VLOOKUP(K701,Transfer!$X$19:$Y$30,2,FALSE)","v":9},0,0,92.2,"H",{"$f":"VLOOKUP(F701,PartH,MATCH(G701,PartH!$B$4:$N$4,0),FALSE)","v":0},null,{"$f":"VLOOKUP(F701,Transfer!$U$19:$V$170,2,FALSE)","v":"H6fb"},null,0.602982991942646,0]
["202627-0-I-H6fb","92.2_10",{"$f":"FrontPage!$N$2","v":{"v":1,"d":"1.0"}},"202627","CT1",{"$f":"VLOOKUP(J702,Transfer!$X$35:$Y$155,2,FALSE)","v":92.2},{"$f":"VLOOKUP(K702,Transfer!$X$19:$Y$30,2,FALSE)","v":10},0,0,92.2,"I",{"$f":"VLOOKUP(F702,PartH,MATCH(G702,PartH!$B$4:$N$4,0),FALSE)","v":0},null,{"$f":"VLOOKUP(F702,Transfer!$U$19:$V$170,2,FALSE)","v":"H6fb"},null,0.8283504581397179,0]
["202627-0-TOTAL-H6fb","92.2_11",{"$f":"FrontPage!$N$2","v":{"v":1,"d":"1.0"}},"202627","CT1",{"$f":"VLOOKUP(J703,Transfer!$X$35:$Y$155,2,FALSE)","v":92.2},{"$f":"VLOOKUP(K703,Transfer!$X$19:$Y$30,2,FALSE)","v":11},0,0,92.2,"TOTAL",{"$f":"VLOOKUP(F703,PartH,MATCH(G703,PartH!$B$4:$N$4,0),FALSE)","v":0},null,{"$f":"VLOOKUP(F703,Transfer!$U$19:$V$170,2,FALSE)","v":"H6fb"},null,0.390264467828648,0]
["202627-0-A-H6g","93_2",{"$f":"FrontPage!$N$2","v":{"v":1,"d":"1.0"}},"202627","CT1",{"$f":"VLOOKUP(J704,Transfer!$X$35:$Y$155,2,FALSE)","v":93},{"$f":"VLOOKUP(K704,Transfer!$X$19:$Y$30,2,FALSE)","v":2},0,0,92,"A",{"$f":"VLOOKUP(F704,PartH,MATCH(G704,PartH!$B$4:$N$4,0),FALSE)","v":0},null,{"$f":"VLOOKUP(F704,Transfer!$U$19:$V$170,2,FALSE)","v":"H6g"},null,0.29495100304409816,0]
["202627-0-B-H6g","93_3",{"$f":"FrontPage!$N$2","v":{"v":1,"d":"1.0"}},"202627","CT1",{"$f":"VLOOKUP(J705,Transfer!$X$35:$Y$155,2,FALSE)","v":93},{"$f":"VLOOKUP(K705,Transfer!$X$19:$Y$30,2,FALSE)","v":3},0,0,92,"B",{"$f":"VLOOKUP(F705,PartH,MATCH(G705,PartH!$B$4:$N$4,0),FALSE)","v":0},null,{"$f":"VLOOKUP(F705,Transfer!$U$19:$V$170,2,FALSE)","v":"H6g"},null,0.2542363421753039,0]
["202627-0-C-H6g","93_4",{"$f":"FrontPage!$N$2","v":{"v":1,"d":"1.0"}},"202627","CT1",{"$f":"VLOOKUP(J706,Transfer!$X$35:$Y$155,2,FALSE)","v":93},{"$f":"VLOOKUP(K706,Transfer!$X$19:$Y$30,2,FALSE)","v":4},0,0,92,"C",{"$f":"VLOOKUP(F706,PartH,MATCH(G706,PartH!$B$4:$N$4,0),FALSE)","v":0},null,{"$f":"VLOOKUP(F706,Transfer!$U$19:$V$170,2,FALSE)","v":"H6g"},null,0.5250622090567351,{"$f":"+I706*P706","v":0}]
["202627-0-D-H6g","93_5",{"$f":"FrontPage!$N$2","v":{"v":1,"d":"1.0"}},"202627","CT1",{"$f":"VLOOKUP(J707,Transfer!$X$35:$Y$155,2,FALSE)","v":93},{"$f":"VLOOKUP(K707,Transfer!$X$19:$Y$30,2,FALSE)","v":5},0,0,92,"D",{"$f":"VLOOKUP(F707,PartH,MATCH(G707,PartH!$B$4:$N$4,0),FALSE)","v":0},null,{"$f":"VLOOKUP(F707,Transfer!$U$19:$V$170,2,FALSE)","v":"H6g"},null,0.7041910153109879,0]
["202627-0-E-H6g","93_6",{"$f":"FrontPage!$N$2","v":{"v":1,"d":"1.0"}},"202627","CT1",{"$f":"VLOOKUP(J708,Transfer!$X$35:$Y$155,2,FALSE)","v":93},{"$f":"VLOOKUP(K708,Transfer!$X$19:$Y$30,2,FALSE)","v":6},0,0,92,"E",{"$f":"VLOOKUP(F708,PartH,MATCH(G708,PartH!$B$4:$N$4,0),FALSE)","v":0},null,{"$f":"VLOOKUP(F708,Transfer!$U$19:$V$170,2,FALSE)","v":"H6g"},null,0.06517826198358612,0]
["202627-0-F-H6g","93_7",{"$f":"FrontPage!$N$2","v":{"v":1,"d":"1.0"}},"202627","CT1",{"$f":"VLOOKUP(J709,Transfer!$X$35:$Y$155,2,FALSE)","v":93},{"$f":"VLOOKUP(K709,Transfer!$X$19:$Y$30,2,FALSE)","v":7},0,0,92,"F",{"$f":"VLOOKUP(F709,PartH,MATCH(G709,PartH!$B$4:$N$4,0),FALSE)","v":0},null,{"$f":"VLOOKUP(F709,Transfer!$U$19:$V$170,2,FALSE)","v":"H6g"},null,0.3790116080909186,0]
["202627-0-G-H6g","93_8",{"$f":"FrontPage!$N$2","v":{"v":1,"d":"1.0"}},"202627","CT1",{"$f":"VLOOKUP(J710,Transfer!$X$35:$Y$155,2,FALSE)","v":93},{"$f":"VLOOKUP(K710,Transfer!$X$19:$Y$30,2,FALSE)","v":8},0,0,92,"G",{"$f":"VLOOKUP(F710,PartH,MATCH(G710,PartH!$B$4:$N$4,0),FALSE)","v":0},null,{"$f":"VLOOKUP(F710,Transfer!$U$19:$V$170,2,FALSE)","v":"H6g"},null,0.8039394671459527,0]
["202627-0-H-H6g","93_9",{"$f":"FrontPage!$N$2","v":{"v":1,"d":"1.0"}},"202627","CT1",{"$f":"VLOOKUP(J711,Transfer!$X$35:$Y$155,2,FALSE)","v":93},{"$f":"VLOOKUP(K711,Transfer!$X$19:$Y$30,2,FALSE)","v":9},0,0,92,"H",{"$f":"VLOOKUP(F711,PartH,MATCH(G711,PartH!$B$4:$N$4,0),FALSE)","v":0},null,{"$f":"VLOOKUP(F711,Transfer!$U$19:$V$170,2,FALSE)","v":"H6g"},null,0.4686814017265736,0]
["202627-0-I-H6g","93_10",{"$f":"FrontPage!$N$2","v":{"v":1,"d":"1.0"}},"202627","CT1",{"$f":"VLOOKUP(J712,Transfer!$X$35:$Y$155,2,FALSE)","v":93},{"$f":"VLOOKUP(K712,Transfer!$X$19:$Y$30,2,FALSE)","v":10},0,0,92,"I",{"$f":"VLOOKUP(F712,PartH,MATCH(G712,PartH!$B$4:$N$4,0),FALSE)","v":0},null,{"$f":"VLOOKUP(F712,Transfer!$U$19:$V$170,2,FALSE)","v":"H6g"},null,0.83680880648773,0]
["202627-0-TOTAL-H6g","93_11",{"$f":"FrontPage!$N$2","v":{"v":1,"d":"1.0"}},"202627","CT1",{"$f":"VLOOKUP(J713,Transfer!$X$35:$Y$155,2,FALSE)","v":93},{"$f":"VLOOKUP(K713,Transfer!$X$19:$Y$30,2,FALSE)","v":11},0,0,92,"TOTAL",{"$f":"VLOOKUP(F713,PartH,MATCH(G713,PartH!$B$4:$N$4,0),FALSE)","v":0},null,{"$f":"VLOOKUP(F713,Transfer!$U$19:$V$170,2,FALSE)","v":"H6g"},null,0.8360817061698514,0]
["202627-0-A-H6g.1","93.1_2",{"$f":"FrontPage!$N$2","v":{"v":1,"d":"1.0"}},"202627","CT1",93.1,{"$f":"VLOOKUP(K714,Transfer!$X$19:$Y$30,2,FALSE)","v":2},0,{"$f":"L714","v":0},null,"A",{"$f":"VLOOKUP(F714,PartH,MATCH(G714,PartH!$B$4:$N$4,0),FALSE)","v":0},null,"H6g.1",null,0.27879304100766333,0]
["202627-0-B-H6g.1","93.1_3",{"$f":"FrontPage!$N$2","v":{"v":1,"d":"1.0"}},"202627","CT1",93.1,{"$f":"VLOOKUP(K715,Transfer!$X$19:$Y$30,2,FALSE)","v":3},0,0,null,"B",{"$f":"VLOOKUP(F715,PartH,MATCH(G715,PartH!$B$4:$N$4,0),FALSE)","v":0},null,"H6g.1",null,0.7575292245359728,0]
["202627-0-C-H6g.1","93.1_4",{"$f":"FrontPage!$N$2","v":{"v":1,"d":"1.0"}},"202627","CT1",93.1,{"$f":"VLOOKUP(K716,Transfer!$X$19:$Y$30,2,FALSE)","v":4},0,0,null,"C",{"$f":"VLOOKUP(F716,PartH,MATCH(G716,PartH!$B$4:$N$4,0),FALSE)","v":0},null,"H6g.1",null,0.24521807524977368,0]
["202627-0-D-H6g.1","93.1_5",{"$f":"FrontPage!$N$2","v":{"v":1,"d":"1.0"}},"202627","CT1",93.1,{"$f":"VLOOKUP(K717,Transfer!$X$19:$Y$30,2,FALSE)","v":5},0,0,null,"D",{"$f":"VLOOKUP(F717,PartH,MATCH(G717,PartH!$B$4:$N$4,0),FALSE)","v":0},null,"H6g.1",null,0.06728711266690801,0]
["202627-0-E-H6g.1","93.1_6",{"$f":"FrontPage!$N$2","v":{"v":1,"d":"1.0"}},"202627","CT1",93.1,{"$f":"VLOOKUP(K718,Transfer!$X$19:$Y$30,2,FALSE)","v":6},0,0,null,"E",{"$f":"VLOOKUP(F718,PartH,MATCH(G718,PartH!$B$4:$N$4,0),FALSE)","v":0},null,"H6g.1",null,0.7724983180308479,0]
["202627-0-F-H6g.1","93.1_7",{"$f":"FrontPage!$N$2","v":{"v":1,"d":"1.0"}},"202627","CT1",93.1,{"$f":"VLOOKUP(K719,Transfer!$X$19:$Y$30,2,FALSE)","v":7},0,0,null,"F",{"$f":"VLOOKUP(F719,PartH,MATCH(G719,PartH!$B$4:$N$4,0),FALSE)","v":0},null,"H6g.1",null,0.768661464098191,0]
["202627-0-G-H6g.1","93.1_8",{"$f":"FrontPage!$N$2","v":{"v":1,"d":"1.0"}},"202627","CT1",93.1,{"$f":"VLOOKUP(K720,Transfer!$X$19:$Y$30,2,FALSE)","v":8},0,0,null,"G",{"$f":"VLOOKUP(F720,PartH,MATCH(G720,PartH!$B$4:$N$4,0),FALSE)","v":0},null,"H6g.1",null,0.7502270534420984,0]
["202627-0-H-H6g.1","93.1_9",{"$f":"FrontPage!$N$2","v":{"v":1,"d":"1.0"}},"202627","CT1",93.1,{"$f":"VLOOKUP(K721,Transfer!$X$19:$Y$30,2,FALSE)","v":9},0,0,null,"H",{"$f":"VLOOKUP(F721,PartH,MATCH(G721,PartH!$B$4:$N$4,0),FALSE)","v":0},null,"H6g.1",null,0.3538078735925426,0]
["202627-0-I-H6g.1","93.1_10",{"$f":"FrontPage!$N$2","v":{"v":1,"d":"1.0"}},"202627","CT1",93.1,{"$f":"VLOOKUP(K722,Transfer!$X$19:$Y$30,2,FALSE)","v":10},0,0,null,"I",{"$f":"VLOOKUP(F722,PartH,MATCH(G722,PartH!$B$4:$N$4,0),FALSE)","v":0},null,"H6g.1",null,0.8378252420722871,0]
["202627-0-TOTAL-H6g.1","93.1_11",{"$f":"FrontPage!$N$2","v":{"v":1,"d":"1.0"}},"202627","CT1",93.1,{"$f":"VLOOKUP(K723,Transfer!$X$19:$Y$30,2,FALSE)","v":11},0,0,null,"TOTAL",{"$f":"VLOOKUP(F723,PartH,MATCH(G723,PartH!$B$4:$N$4,0),FALSE)","v":0},null,"H6g.1",null,0.6254048589922399,0]
["202627-0-A-H7 ","94_2",{"$f":"FrontPage!$N$2","v":{"v":1,"d":"1.0"}},"202627","CT1",{"$f":"VLOOKUP(J724,Transfer!$X$35:$Y$155,2,FALSE)","v":94},{"$f":"VLOOKUP(K724,Transfer!$X$19:$Y$30,2,FALSE)","v":2},0,0,93,"A",{"$f":"VLOOKUP(F724,PartH,MATCH(G724,PartH!$B$4:$N$4,0),FALSE)","v":0},null,{"$f":"VLOOKUP(F724,Transfer!$U$19:$V$170,2,FALSE)","v":"H7 "},null,0.7589784151424483,0]
["202627-0-B-H7 ","94_3",{"$f":"FrontPage!$N$2","v":{"v":1,"d":"1.0"}},"202627","CT1",{"$f":"VLOOKUP(J725,Transfer!$X$35:$Y$155,2,FALSE)","v":94},{"$f":"VLOOKUP(K725,Transfer!$X$19:$Y$30,2,FALSE)","v":3},0,0,93,"B",{"$f":"VLOOKUP(F725,PartH,MATCH(G725,PartH!$B$4:$N$4,0),FALSE)","v":0},null,{"$f":"VLOOKUP(F725,Transfer!$U$19:$V$170,2,FALSE)","v":"H7 "},null,0.3957617925554956,0]
["202627-0-C-H7 ","94_4",{"$f":"FrontPage!$N$2","v":{"v":1,"d":"1.0"}},"202627","CT1",{"$f":"VLOOKUP(J726,Transfer!$X$35:$Y$155,2,FALSE)","v":94},{"$f":"VLOOKUP(K726,Transfer!$X$19:$Y$30,2,FALSE)","v":4},0,0,93,"C",{"$f":"VLOOKUP(F726,PartH,MATCH(G726,PartH!$B$4:$N$4,0),FALSE)","v":0},null,{"$f":"VLOOKUP(F726,Transfer!$U$19:$V$170,2,FALSE)","v":"H7 "},null,0.12242242930874625,0]
["202627-0-D-H7 ","94_5",{"$f":"FrontPage!$N$2","v":{"v":1,"d":"1.0"}},"202627","CT1",{"$f":"VLOOKUP(J727,Transfer!$X$35:$Y$155,2,FALSE)","v":94},{"$f":"VLOOKUP(K727,Transfer!$X$19:$Y$30,2,FALSE)","v":5},0,0,93,"D",{"$f":"VLOOKUP(F727,PartH,MATCH(G727,PartH!$B$4:$N$4,0),FALSE)","v":0},null,{"$f":"VLOOKUP(F727,Transfer!$U$19:$V$170,2,FALSE)","v":"H7 "},null,0.8459203691242139,0]
["202627-0-E-H7 ","94_6",{"$f":"FrontPage!$N$2","v":{"v":1,"d":"1.0"}},"202627","CT1",{"$f":"VLOOKUP(J728,Transfer!$X$35:$Y$155,2,FALSE)","v":94},{"$f":"VLOOKUP(K728,Transfer!$X$19:$Y$30,2,FALSE)","v":6},0,0,93,"E",{"$f":"VLOOKUP(F728,PartH,MATCH(G728,PartH!$B$4:$N$4,0),FALSE)","v":0},null,{"$f":"VLOOKUP(F728,Transfer!$U$19:$V$170,2,FALSE)","v":"H7 "},null,0.6016892296959111,0]
[{"$f":"D729&\"-\"&H729&\"-\"&K729&\"-\"&N729","v":"202627-0-F-H7 "},{"$f":"F729&\"_\"&G729","v":"94_7"},{"$f":"FrontPage!$N$2","v":{"v":1,"d":"1.0"}},"202627","CT1",{"$f":"VLOOKUP(J729,Transfer!$X$35:$Y$155,2,FALSE)","v":94},{"$f":"VLOOKUP(K729,Transfer!$X$19:$Y$30,2,FALSE)","v":7},0,0,93,"F",{"$f":"VLOOKUP(F729,PartH,MATCH(G729,PartH!$B$4:$N$4,0),FALSE)","v":0},null,{"$f":"VLOOKUP(F729,Transfer!$U$19:$V$170,2,FALSE)","v":"H7 "},null,0.655328436038553,0]
["202627-0-G-H7 ","94_8",{"$f":"FrontPage!$N$2","v":{"v":1,"d":"1.0"}},"202627","CT1",{"$f":"VLOOKUP(J730,Transfer!$X$35:$Y$155,2,FALSE)","v":94},{"$f":"VLOOKUP(K730,Transfer!$X$19:$Y$30,2,FALSE)","v":8},0,0,93,"G",{"$f":"VLOOKUP(F730,PartH,MATCH(G730,PartH!$B$4:$N$4,0),FALSE)","v":0},null,{"$f":"VLOOKUP(F730,Transfer!$U$19:$V$170,2,FALSE)","v":"H7 "},null,0.9180702373809466,0]
["202627-0-H-H7 ","94_9",{"$f":"FrontPage!$N$2","v":{"v":1,"d":"1.0"}},"202627","CT1",{"$f":"VLOOKUP(J731,Transfer!$X$35:$Y$155,2,FALSE)","v":94},{"$f":"VLOOKUP(K731,Transfer!$X$19:$Y$30,2,FALSE)","v":9},0,0,93,"H",{"$f":"VLOOKUP(F731,PartH,MATCH(G731,PartH!$B$4:$N$4,0),FALSE)","v":0},null,{"$f":"VLOOKUP(F731,Transfer!$U$19:$V$170,2,FALSE)","v":"H7 "},null,0.927193555643577,0]
["202627-0-I-H7 ","94_10",{"$f":"FrontPage!$N$2","v":{"v":1,"d":"1.0"}},"202627","CT1",{"$f":"VLOOKUP(J732,Transfer!$X$35:$Y$155,2,FALSE)","v":94},{"$f":"VLOOKUP(K732,Transfer!$X$19:$Y$30,2,FALSE)","v":10},0,0,93,"I",{"$f":"VLOOKUP(F732,PartH,MATCH(G732,PartH!$B$4:$N$4,0),FALSE)","v":0},null,{"$f":"VLOOKUP(F732,Transfer!$U$19:$V$170,2,FALSE)","v":"H7 "},null,0.44942815926877266,0]
["202627-0-TOTAL-H7 ","94_11",{"$f":"FrontPage!$N$2","v":{"v":1,"d":"1.0"}},"202627","CT1",{"$f":"VLOOKUP(J733,Transfer!$X$35:$Y$155,2,FALSE)","v":94},{"$f":"VLOOKUP(K733,Transfer!$X$19:$Y$30,2,FALSE)","v":11},0,0,93,"TOTAL",{"$f":"VLOOKUP(F733,PartH,MATCH(G733,PartH!$B$4:$N$4,0),FALSE)","v":0},null,{"$f":"VLOOKUP(F733,Transfer!$U$19:$V$170,2,FALSE)","v":"H7 "},null,0.6086092124271739,0]
["202627-0-A-H8 ","95_2",{"$f":"FrontPage!$N$2","v":{"v":1,"d":"1.0"}},"202627","CT1",{"$f":"VLOOKUP(J734,Transfer!$X$35:$Y$155,2,FALSE)","v":95},{"$f":"VLOOKUP(K734,Transfer!$X$19:$Y$30,2,FALSE)","v":2},0,0,94,"A",{"$f":"VLOOKUP(F734,PartH,MATCH(G734,PartH!$B$4:$N$4,0),FALSE)","v":0},null,{"$f":"VLOOKUP(F734,Transfer!$U$19:$V$170,2,FALSE)","v":"H8 "},null,0.7623332655060558,0]
["202627-0-B-H8 ","95_3",{"$f":"FrontPage!$N$2","v":{"v":1,"d":"1.0"}},"202627","CT1",{"$f":"VLOOKUP(J735,Transfer!$X$35:$Y$155,2,FALSE)","v":95},{"$f":"VLOOKUP(K735,Transfer!$X$19:$Y$30,2,FALSE)","v":3},0,0,94,"B",{"$f":"VLOOKUP(F735,PartH,MATCH(G735,PartH!$B$4:$N$4,0),FALSE)","v":0},null,{"$f":"VLOOKUP(F735,Transfer!$U$19:$V$170,2,FALSE)","v":"H8 "},null,0.011346756880032172,0]
["202627-0-C-H8 ","95_4",{"$f":"FrontPage!$N$2","v":{"v":1,"d":"1.0"}},{"$f":"$W$2","v":"202627"},"CT1",{"$f":"VLOOKUP(J736,Transfer!$X$35:$Y$155,2,FALSE)","v":95},{"$f":"VLOOKUP(K736,Transfer!$X$19:$Y$30,2,FALSE)","v":4},{"$f":"uanumber","v":0},0,94,"C",{"$f":"VLOOKUP(F736,PartH,MATCH(G736,PartH!$B$4:$N$4,0),FALSE)","v":0},null,{"$f":"VLOOKUP(F736,Transfer!$U$19:$V$170,2,FALSE)","v":"H8 "},null,0.45838185354603933,0]
["202627-0-D-H8 ","95_5",{"$f":"FrontPage!$N$2","v":{"v":1,"d":"1.0"}},"202627","CT1",{"$f":"VLOOKUP(J737,Transfer!$X$35:$Y$155,2,FALSE)","v":95},{"$f":"VLOOKUP(K737,Transfer!$X$19:$Y$30,2,FALSE)","v":5},0,0,94,"D",{"$f":"VLOOKUP(F737,PartH,MATCH(G737,PartH!$B$4:$N$4,0),FALSE)","v":0},null,{"$f":"VLOOKUP(F737,Transfer!$U$19:$V$170,2,FALSE)","v":"H8 "},null,0.20303516591804427,0]
["202627-0-E-H8 ","95_6",{"$f":"FrontPage!$N$2","v":{"v":1,"d":"1.0"}},"202627",{"$f":"$E$2","v":"CT1"},{"$f":"VLOOKUP(J738,Transfer!$X$35:$Y$155,2,FALSE)","v":95},{"$f":"VLOOKUP(K738,Transfer!$X$19:$Y$30,2,FALSE)","v":6},0,0,94,"E",{"$f":"VLOOKUP(F738,PartH,MATCH(G738,PartH!$B$4:$N$4,0),FALSE)","v":0},null,{"$f":"VLOOKUP(F738,Transfer!$U$19:$V$170,2,FALSE)","v":"H8 "},null,0.8557987021636612,0]
["202627-0-F-H8 ","95_7",{"$f":"FrontPage!$N$2","v":{"v":1,"d":"1.0"}},"202627","CT1",{"$f":"VLOOKUP(J739,Transfer!$X$35:$Y$155,2,FALSE)","v":95},{"$f":"VLOOKUP(K739,Transfer!$X$19:$Y$30,2,FALSE)","v":7},0,0,94,"F",{"$f":"VLOOKUP(F739,PartH,MATCH(G739,PartH!$B$4:$N$4,0),FALSE)","v":0},null,{"$f":"VLOOKUP(F739,Transfer!$U$19:$V$170,2,FALSE)","v":"H8 "},null,0.2741246859593486,0]
["202627-0-G-H8 ","95_8",{"$f":"FrontPage!$N$2","v":{"v":1,"d":"1.0"}},"202627","CT1",{"$f":"VLOOKUP(J740,Transfer!$X$35:$Y$155,2,FALSE)","v":95},{"$f":"VLOOKUP(K740,Transfer!$X$19:$Y$30,2,FALSE)","v":8},0,0,94,"G",{"$f":"VLOOKUP(F740,PartH,MATCH(G740,PartH!$B$4:$N$4,0),FALSE)","v":0},null,{"$f":"VLOOKUP(F740,Transfer!$U$19:$V$170,2,FALSE)","v":"H8 "},null,0.44921399555835595,0]
["202627-0-H-H8 ","95_9",{"$f":"FrontPage!$N$2","v":{"v":1,"d":"1.0"}},"202627","CT1",{"$f":"VLOOKUP(J741,Transfer!$X$35:$Y$155,2,FALSE)","v":95},{"$f":"VLOOKUP(K741,Transfer!$X$19:$Y$30,2,FALSE)","v":9},0,0,94,"H",{"$f":"VLOOKUP(F741,PartH,MATCH(G741,PartH!$B$4:$N$4,0),FALSE)","v":0},null,{"$f":"VLOOKUP(F741,Transfer!$U$19:$V$170,2,FALSE)","v":"H8 "},null,0.056316024985540114,0]
["202627-0-I-H8 ","95_10",{"$f":"FrontPage!$N$2","v":{"v":1,"d":"1.0"}},"202627","CT1",{"$f":"VLOOKUP(J742,Transfer!$X$35:$Y$155,2,FALSE)","v":95},{"$f":"VLOOKUP(K742,Transfer!$X$19:$Y$30,2,FALSE)","v":10},0,0,94,"I",{"$f":"VLOOKUP(F742,PartH,MATCH(G742,PartH!$B$4:$N$4,0),FALSE)","v":0},null,{"$f":"VLOOKUP(F742,Transfer!$U$19:$V$170,2,FALSE)","v":"H8 "},null,0.5849235700705124,0]
["202627-0-TOTAL-H8 ","95_11",{"$f":"FrontPage!$N$2","v":{"v":1,"d":"1.0"}},"202627","CT1",{"$f":"VLOOKUP(J743,Transfer!$X$35:$Y$155,2,FALSE)","v":95},{"$f":"VLOOKUP(K743,Transfer!$X$19:$Y$30,2,FALSE)","v":11},0,0,94,"TOTAL",{"$f":"VLOOKUP(F743,PartH,MATCH(G743,PartH!$B$4:$N$4,0),FALSE)","v":0},null,{"$f":"VLOOKUP(F743,Transfer!$U$19:$V$170,2,FALSE)","v":"H8 "},null,0.44920550474717436,0]
["202627-0-%-H9b","97_12",{"$f":"FrontPage!$N$2","v":{"v":1,"d":"1.0"}},"202627","CT1",{"$f":"VLOOKUP(J744,Transfer!$X$35:$Y$155,2,FALSE)","v":97},{"$f":"VLOOKUP(K744,Transfer!$X$19:$Y$30,2,FALSE)","v":12},0,{"$f":"L744","v":25},96,"%",{"$f":"VLOOKUP(F744,PartH,MATCH(G744,PartH!$B$4:$N$4,0),FALSE)","v":25},null,{"$f":"VLOOKUP(F744,Transfer!$U$19:$V$170,2,FALSE)","v":"H9b"},null,0.8419403892660245,21.048509731650615]
["202627-0-A-H9b","97_2",{"$f":"FrontPage!$N$2","v":{"v":1,"d":"1.0"}},"202627","CT1",{"$f":"VLOOKUP(J745,Transfer!$X$35:$Y$155,2,FALSE)","v":97},{"$f":"VLOOKUP(K745,Transfer!$X$19:$Y$30,2,FALSE)","v":2},0,0,96,"A",{"$f":"VLOOKUP(F745,PartH,MATCH(G745,PartH!$B$4:$N$4,0),FALSE)","v":0},null,{"$f":"VLOOKUP(F745,Transfer!$U$19:$V$170,2,FALSE)","v":"H9b"},null,0.7241641877944763,0]
["202627-0-B-H9b","97_3",{"$f":"FrontPage!$N$2","v":{"v":1,"d":"1.0"}},"202627","CT1",{"$f":"VLOOKUP(J746,Transfer!$X$35:$Y$155,2,FALSE)","v":97},{"$f":"VLOOKUP(K746,Transfer!$X$19:$Y$30,2,FALSE)","v":3},0,0,96,"B",{"$f":"VLOOKUP(F746,PartH,MATCH(G746,PartH!$B$4:$N$4,0),FALSE)","v":0},null,{"$f":"VLOOKUP(F746,Transfer!$U$19:$V$170,2,FALSE)","v":"H9b"},null,0.06284795105927532,0]
["202627-0-C-H9b","97_4",{"$f":"FrontPage!$N$2","v":{"v":1,"d":"1.0"}},"202627","CT1",{"$f":"VLOOKUP(J747,Transfer!$X$35:$Y$155,2,FALSE)","v":97},{"$f":"VLOOKUP(K747,Transfer!$X$19:$Y$30,2,FALSE)","v":4},0,0,96,"C",{"$f":"VLOOKUP(F747,PartH,MATCH(G747,PartH!$B$4:$N$4,0),FALSE)","v":0},null,{"$f":"VLOOKUP(F747,Transfer!$U$19:$V$170,2,FALSE)","v":"H9b"},null,0.26339217369906853,0]
["202627-0-D-H9b","97_5",{"$f":"FrontPage!$N$2","v":{"v":1,"d":"1.0"}},"202627","CT1",{"$f":"VLOOKUP(J748,Transfer!$X$35:$Y$155,2,FALSE)","v":97},{"$f":"VLOOKUP(K748,Transfer!$X$19:$Y$30,2,FALSE)","v":5},0,0,96,"D",{"$f":"VLOOKUP(F748,PartH,MATCH(G748,PartH!$B$4:$N$4,0),FALSE)","v":0},null,{"$f":"VLOOKUP(F748,Transfer!$U$19:$V$170,2,FALSE)","v":"H9b"},null,0.07651849609317174,0]
["202627-0-E-H9b","97_6",{"$f":"FrontPage!$N$2","v":{"v":1,"d":"1.0"}},"202627","CT1",{"$f":"VLOOKUP(J749,Transfer!$X$35:$Y$155,2,FALSE)","v":97},{"$f":"VLOOKUP(K749,Transfer!$X$19:$Y$30,2,FALSE)","v":6},0,0,96,"E",{"$f":"VLOOKUP(F749,PartH,MATCH(G749,PartH!$B$4:$N$4,0),FALSE)","v":0},null,{"$f":"VLOOKUP(F749,Transfer!$U$19:$V$170,2,FALSE)","v":"H9b"},null,0.2090592272601678,0]
["202627-0-F-H9b","97_7",{"$f":"FrontPage!$N$2","v":{"v":1,"d":"1.0"}},"202627","CT1",{"$f":"VLOOKUP(J750,Transfer!$X$35:$Y$155,2,FALSE)","v":97},{"$f":"VLOOKUP(K750,Transfer!$X$19:$Y$30,2,FALSE)","v":7},0,0,96,"F",{"$f":"VLOOKUP(F750,PartH,MATCH(G750,PartH!$B$4:$N$4,0),FALSE)","v":0},null,{"$f":"VLOOKUP(F750,Transfer!$U$19:$V$170,2,FALSE)","v":"H9b"},null,0.5008323437981494,0]
["202627-0-G-H9b","97_8",{"$f":"FrontPage!$N$2","v":{"v":1,"d":"1.0"}},"202627","CT1",{"$f":"VLOOKUP(J751,Transfer!$X$35:$Y$155,2,FALSE)","v":97},{"$f":"VLOOKUP(K751,Transfer!$X$19:$Y$30,2,FALSE)","v":8},0,0,96,"G",{"$f":"VLOOKUP(F751,PartH,MATCH(G751,PartH!$B$4:$N$4,0),FALSE)","v":0},null,{"$f":"VLOOKUP(F751,Transfer!$U$19:$V$170,2,FALSE)","v":"H9b"},null,0.9204629939194416,0]
["202627-0-H-H9b","97_9",{"$f":"FrontPage!$N$2","v":{"v":1,"d":"1.0"}},"202627","CT1",{"$f":"VLOOKUP(J752,Transfer!$X$35:$Y$155,2,FALSE)","v":97},{"$f":"VLOOKUP(K752,Transfer!$X$19:$Y$30,2,FALSE)","v":9},0,0,96,"H",{"$f":"VLOOKUP(F752,PartH,MATCH(G752,PartH!$B$4:$N$4,0),FALSE)","v":0},null,{"$f":"VLOOKUP(F752,Transfer!$U$19:$V$170,2,FALSE)","v":"H9b"},null,0.08316362264084265,0]
["202627-0-I-H9b","97_10",{"$f":"FrontPage!$N$2","v":{"v":1,"d":"1.0"}},"202627","CT1",{"$f":"VLOOKUP(J753,Transfer!$X$35:$Y$155,2,FALSE)","v":97},{"$f":"VLOOKUP(K753,Transfer!$X$19:$Y$30,2,FALSE)","v":10},0,0,96,"I",{"$f":"VLOOKUP(F753,PartH,MATCH(G753,PartH!$B$4:$N$4,0),FALSE)","v":0},null,{"$f":"VLOOKUP(F753,Transfer!$U$19:$V$170,2,FALSE)","v":"H9b"},null,0.7155248545115315,0]
["202627-0-TOTAL-H9b","97_11",{"$f":"FrontPage!$N$2","v":{"v":1,"d":"1.0"}},"202627","CT1",{"$f":"VLOOKUP(J754,Transfer!$X$35:$Y$155,2,FALSE)","v":97},{"$f":"VLOOKUP(K754,Transfer!$X$19:$Y$30,2,FALSE)","v":11},0,0,96,"TOTAL",{"$f":"VLOOKUP(F754,PartH,MATCH(G754,PartH!$B$4:$N$4,0),FALSE)","v":0},null,{"$f":"VLOOKUP(F754,Transfer!$U$19:$V$170,2,FALSE)","v":"H9b"},null,0.3807701604567757,0]
["202627-0-%-H9c","98_12",{"$f":"FrontPage!$N$2","v":{"v":1,"d":"1.0"}},"202627","CT1",{"$f":"VLOOKUP(J755,Transfer!$X$35:$Y$155,2,FALSE)","v":98},{"$f":"VLOOKUP(K755,Transfer!$X$19:$Y$30,2,FALSE)","v":12},0,50,97,"%",{"$f":"VLOOKUP(F755,PartH,MATCH(G755,PartH!$B$4:$N$4,0),FALSE)","v":50},null,{"$f":"VLOOKUP(F755,Transfer!$U$19:$V$170,2,FALSE)","v":"H9c"},null,0.860321141093202,43.0160570546601]
["202627-0-A-H9c","98_2",{"$f":"FrontPage!$N$2","v":{"v":1,"d":"1.0"}},"202627","CT1",{"$f":"VLOOKUP(J756,Transfer!$X$35:$Y$155,2,FALSE)","v":98},{"$f":"VLOOKUP(K756,Transfer!$X$19:$Y$30,2,FALSE)","v":2},0,0,97,"A",{"$f":"VLOOKUP(F756,PartH,MATCH(G756,PartH!$B$4:$N$4,0),FALSE)","v":0},null,{"$f":"VLOOKUP(F756,Transfer!$U$19:$V$170,2,FALSE)","v":"H9c"},null,0.24185894345363834,0]
["202627-0-B-H9c","98_3",{"$f":"FrontPage!$N$2","v":{"v":1,"d":"1.0"}},"202627","CT1",{"$f":"VLOOKUP(J757,Transfer!$X$35:$Y$155,2,FALSE)","v":98},{"$f":"VLOOKUP(K757,Transfer!$X$19:$Y$30,2,FALSE)","v":3},0,0,97,"B",{"$f":"VLOOKUP(F757,PartH,MATCH(G757,PartH!$B$4:$N$4,0),FALSE)","v":0},null,{"$f":"VLOOKUP(F757,Transfer!$U$19:$V$170,2,FALSE)","v":"H9c"},null,0.8085831846588543,0]
["202627-0-C-H9c","98_4",{"$f":"FrontPage!$N$2","v":{"v":1,"d":"1.0"}},"202627","CT1",{"$f":"VLOOKUP(J758,Transfer!$X$35:$Y$155,2,FALSE)","v":98},{"$f":"VLOOKUP(K758,Transfer!$X$19:$Y$30,2,FALSE)","v":4},0,0,97,"C",{"$f":"VLOOKUP(F758,PartH,MATCH(G758,PartH!$B$4:$N$4,0),FALSE)","v":0},null,{"$f":"VLOOKUP(F758,Transfer!$U$19:$V$170,2,FALSE)","v":"H9c"},null,0.07787113513350552,0]
["202627-0-D-H9c","98_5",{"$f":"FrontPage!$N$2","v":{"v":1,"d":"1.0"}},"202627","CT1",{"$f":"VLOOKUP(J759,Transfer!$X$35:$Y$155,2,FALSE)","v":98},{"$f":"VLOOKUP(K759,Transfer!$X$19:$Y$30,2,FALSE)","v":5},0,0,97,"D",{"$f":"VLOOKUP(F759,PartH,MATCH(G759,PartH!$B$4:$N$4,0),FALSE)","v":0},null,{"$f":"VLOOKUP(F759,Transfer!$U$19:$V$170,2,FALSE)","v":"H9c"},null,0.22147895498307335,0]
["202627-0-E-H9c","98_6",{"$f":"FrontPage!$N$2","v":{"v":1,"d":"1.0"}},"202627","CT1",{"$f":"VLOOKUP(J760,Transfer!$X$35:$Y$155,2,FALSE)","v":98},{"$f":"VLOOKUP(K760,Transfer!$X$19:$Y$30,2,FALSE)","v":6},0,0,97,"E",{"$f":"VLOOKUP(F760,PartH,MATCH(G760,PartH!$B$4:$N$4,0),FALSE)","v":0},null,{"$f":"VLOOKUP(F760,Transfer!$U$19:$V$170,2,FALSE)","v":"H9c"},null,0.6428665426892196,0]
["202627-0-F-H9c","98_7",{"$f":"FrontPage!$N$2","v":{"v":1,"d":"1.0"}},"202627","CT1",{"$f":"VLOOKUP(J761,Transfer!$X$35:$Y$155,2,FALSE)","v":98},{"$f":"VLOOKUP(K761,Transfer!$X$19:$Y$30,2,FALSE)","v":7},0,0,97,"F",{"$f":"VLOOKUP(F761,PartH,MATCH(G761,PartH!$B$4:$N$4,0),FALSE)","v":0},null,{"$f":"VLOOKUP(F761,Transfer!$U$19:$V$170,2,FALSE)","v":"H9c"},null,0.43176176974676284,0]
["202627-0-G-H9c","98_8",{"$f":"FrontPage!$N$2","v":{"v":1,"d":"1.0"}},"202627","CT1",{"$f":"VLOOKUP(J762,Transfer!$X$35:$Y$155,2,FALSE)","v":98},{"$f":"VLOOKUP(K762,Transfer!$X$19:$Y$30,2,FALSE)","v":8},0,0,97,"G",{"$f":"VLOOKUP(F762,PartH,MATCH(G762,PartH!$B$4:$N$4,0),FALSE)","v":0},null,{"$f":"VLOOKUP(F762,Transfer!$U$19:$V$170,2,FALSE)","v":"H9c"},null,0.6718882405911697,0]
["202627-0-H-H9c","98_9",{"$f":"FrontPage!$N$2","v":{"v":1,"d":"1.0"}},"202627","CT1",{"$f":"VLOOKUP(J763,Transfer!$X$35:$Y$155,2,FALSE)","v":98},{"$f":"VLOOKUP(K763,Transfer!$X$19:$Y$30,2,FALSE)","v":9},0,0,97,"H",{"$f":"VLOOKUP(F763,PartH,MATCH(G763,PartH!$B$4:$N$4,0),FALSE)","v":0},null,{"$f":"VLOOKUP(F763,Transfer!$U$19:$V$170,2,FALSE)","v":"H9c"},null,0.40877910843793297,0]
["202627-0-I-H9c","98_10",{"$f":"FrontPage!$N$2","v":{"v":1,"d":"1.0"}},"202627","CT1",{"$f":"VLOOKUP(J764,Transfer!$X$35:$Y$155,2,FALSE)","v":98},{"$f":"VLOOKUP(K764,Transfer!$X$19:$Y$30,2,FALSE)","v":10},0,0,97,"I",{"$f":"VLOOKUP(F764,PartH,MATCH(G764,PartH!$B$4:$N$4,0),FALSE)","v":0},null,{"$f":"VLOOKUP(F764,Transfer!$U$19:$V$170,2,FALSE)","v":"H9c"},null,0.9071033575917489,0]
["202627-0-TOTAL-H9c","98_11",{"$f":"FrontPage!$N$2","v":{"v":1,"d":"1.0"}},"202627","CT1",{"$f":"VLOOKUP(J765,Transfer!$X$35:$Y$155,2,FALSE)","v":98},{"$f":"VLOOKUP(K765,Transfer!$X$19:$Y$30,2,FALSE)","v":11},0,0,97,"TOTAL",{"$f":"VLOOKUP(F765,PartH,MATCH(G765,PartH!$B$4:$N$4,0),FALSE)","v":0},null,{"$f":"VLOOKUP(F765,Transfer!$U$19:$V$170,2,FALSE)","v":"H9c"},null,0.9556017315571647,0]
["202627-0-%-H9e","100_12",{"$f":"FrontPage!$N$2","v":{"v":1,"d":"1.0"}},"202627","CT1",{"$f":"VLOOKUP(J766,Transfer!$X$35:$Y$155,2,FALSE)","v":100},{"$f":"VLOOKUP(K766,Transfer!$X$19:$Y$30,2,FALSE)","v":12},0,100,99,"%",{"$f":"VLOOKUP(F766,PartH,MATCH(G766,PartH!$B$4:$N$4,0),FALSE)","v":100},null,{"$f":"VLOOKUP(F766,Transfer!$U$19:$V$170,2,FALSE)","v":"H9e"},null,0.731425555544525,73.1425555544525]
["202627-0-A-H9e","100_2",{"$f":"FrontPage!$N$2","v":{"v":1,"d":"1.0"}},"202627","CT1",{"$f":"VLOOKUP(J767,Transfer!$X$35:$Y$155,2,FALSE)","v":100},{"$f":"VLOOKUP(K767,Transfer!$X$19:$Y$30,2,FALSE)","v":2},0,0,99,"A",{"$f":"VLOOKUP(F767,PartH,MATCH(G767,PartH!$B$4:$N$4,0),FALSE)","v":0},null,{"$f":"VLOOKUP(F767,Transfer!$U$19:$V$170,2,FALSE)","v":"H9e"},null,0.7344470586309281,0]
["202627-0-B-H9e","100_3",{"$f":"FrontPage!$N$2","v":{"v":1,"d":"1.0"}},"202627","CT1",{"$f":"VLOOKUP(J768,Transfer!$X$35:$Y$155,2,FALSE)","v":100},{"$f":"VLOOKUP(K768,Transfer!$X$19:$Y$30,2,FALSE)","v":3},0,0,99,"B",{"$f":"VLOOKUP(F768,PartH,MATCH(G768,PartH!$B$4:$N$4,0),FALSE)","v":0},null,{"$f":"VLOOKUP(F768,Transfer!$U$19:$V$170,2,FALSE)","v":"H9e"},null,0.11328385073847469,0]
["202627-0-C-H9e","100_4",{"$f":"FrontPage!$N$2","v":{"v":1,"d":"1.0"}},"202627","CT1",{"$f":"VLOOKUP(J769,Transfer!$X$35:$Y$155,2,FALSE)","v":100},{"$f":"VLOOKUP(K769,Transfer!$X$19:$Y$30,2,FALSE)","v":4},0,0,99,"C",{"$f":"VLOOKUP(F769,PartH,MATCH(G769,PartH!$B$4:$N$4,0),FALSE)","v":0},null,{"$f":"VLOOKUP(F769,Transfer!$U$19:$V$170,2,FALSE)","v":"H9e"},null,0.8805681435059246,0]
["202627-0-D-H9e","100_5",{"$f":"FrontPage!$N$2","v":{"v":1,"d":"1.0"}},"202627","CT1",{"$f":"VLOOKUP(J770,Transfer!$X$35:$Y$155,2,FALSE)","v":100},{"$f":"VLOOKUP(K770,Transfer!$X$19:$Y$30,2,FALSE)","v":5},0,0,99,"D",{"$f":"VLOOKUP(F770,PartH,MATCH(G770,PartH!$B$4:$N$4,0),FALSE)","v":0},null,{"$f":"VLOOKUP(F770,Transfer!$U$19:$V$170,2,FALSE)","v":"H9e"},null,0.4804478825064906,{"$f":"+I770*P770","v":0}]
["202627-0-E-H9e","100_6",{"$f":"FrontPage!$N$2","v":{"v":1,"d":"1.0"}},"202627","CT1",{"$f":"VLOOKUP(J771,Transfer!$X$35:$Y$155,2,FALSE)","v":100},{"$f":"VLOOKUP(K771,Transfer!$X$19:$Y$30,2,FALSE)","v":6},0,0,99,"E",{"$f":"VLOOKUP(F771,PartH,MATCH(G771,PartH!$B$4:$N$4,0),FALSE)","v":0},null,{"$f":"VLOOKUP(F771,Transfer!$U$19:$V$170,2,FALSE)","v":"H9e"},null,0.47686320788872727,0]
["202627-0-F-H9e","100_7",{"$f":"FrontPage!$N$2","v":{"v":1,"d":"1.0"}},"202627","CT1",{"$f":"VLOOKUP(J772,Transfer!$X$35:$Y$155,2,FALSE)","v":100},{"$f":"VLOOKUP(K772,Transfer!$X$19:$Y$30,2,FALSE)","v":7},0,0,99,"F",{"$f":"VLOOKUP(F772,PartH,MATCH(G772,PartH!$B$4:$N$4,0),FALSE)","v":0},null,{"$f":"VLOOKUP(F772,Transfer!$U$19:$V$170,2,FALSE)","v":"H9e"},null,0.787874263071811,0]
["202627-0-G-H9e","100_8",{"$f":"FrontPage!$N$2","v":{"v":1,"d":"1.0"}},"202627","CT1",{"$f":"VLOOKUP(J773,Transfer!$X$35:$Y$155,2,FALSE)","v":100},{"$f":"VLOOKUP(K773,Transfer!$X$19:$Y$30,2,FALSE)","v":8},0,0,99,"G",{"$f":"VLOOKUP(F773,PartH,MATCH(G773,PartH!$B$4:$N$4,0),FALSE)","v":0},null,{"$f":"VLOOKUP(F773,Transfer!$U$19:$V$170,2,FALSE)","v":"H9e"},null,0.277898542733617,0]
["202627-0-H-H9e","100_9",{"$f":"FrontPage!$N$2","v":{"v":1,"d":"1.0"}},"202627","CT1",{"$f":"VLOOKUP(J774,Transfer!$X$35:$Y$155,2,FALSE)","v":100},{"$f":"VLOOKUP(K774,Transfer!$X$19:$Y$30,2,FALSE)","v":9},0,0,99,"H",{"$f":"VLOOKUP(F774,PartH,MATCH(G774,PartH!$B$4:$N$4,0),FALSE)","v":0},null,{"$f":"VLOOKUP(F774,Transfer!$U$19:$V$170,2,FALSE)","v":"H9e"},null,0.5350673576352315,0]
["202627-0-I-H9e","100_10",{"$f":"FrontPage!$N$2","v":{"v":1,"d":"1.0"}},"202627","CT1",{"$f":"VLOOKUP(J775,Transfer!$X$35:$Y$155,2,FALSE)","v":100},{"$f":"VLOOKUP(K775,Transfer!$X$19:$Y$30,2,FALSE)","v":10},0,0,99,"I",{"$f":"VLOOKUP(F775,PartH,MATCH(G775,PartH!$B$4:$N$4,0),FALSE)","v":0},null,{"$f":"VLOOKUP(F775,Transfer!$U$19:$V$170,2,FALSE)","v":"H9e"},null,0.19437051928590243,0]
["202627-0-TOTAL-H9e","100_11",{"$f":"FrontPage!$N$2","v":{"v":1,"d":"1.0"}},"202627","CT1",{"$f":"VLOOKUP(J776,Transfer!$X$35:$Y$155,2,FALSE)","v":100},{"$f":"VLOOKUP(K776,Transfer!$X$19:$Y$30,2,FALSE)","v":11},0,0,99,"TOTAL",{"$f":"VLOOKUP(F776,PartH,MATCH(G776,PartH!$B$4:$N$4,0),FALSE)","v":0},null,{"$f":"VLOOKUP(F776,Transfer!$U$19:$V$170,2,FALSE)","v":"H9e"},null,0.4538736220805001,0]
["202627-0-%-H9f","101_12",{"$f":"FrontPage!$N$2","v":{"v":1,"d":"1.0"}},"202627","CT1",{"$f":"VLOOKUP(J777,Transfer!$X$35:$Y$155,2,FALSE)","v":101},{"$f":"VLOOKUP(K777,Transfer!$X$19:$Y$30,2,FALSE)","v":12},0,0,100,"%",{"$f":"VLOOKUP(F777,PartH,MATCH(G777,PartH!$B$4:$N$4,0),FALSE)","v":0},null,{"$f":"VLOOKUP(F777,Transfer!$U$19:$V$170,2,FALSE)","v":"H9f"},null,0.9431541854988692,0]
["202627-0-A-H9f","101_2",{"$f":"FrontPage!$N$2","v":{"v":1,"d":"1.0"}},{"$f":"$W$2","v":"202627"},"CT1",{"$f":"VLOOKUP(J778,Transfer!$X$35:$Y$155,2,FALSE)","v":101},{"$f":"VLOOKUP(K778,Transfer!$X$19:$Y$30,2,FALSE)","v":2},{"$f":"uanumber","v":0},0,100,"A",{"$f":"VLOOKUP(F778,PartH,MATCH(G778,PartH!$B$4:$N$4,0),FALSE)","v":0},null,{"$f":"VLOOKUP(F778,Transfer!$U$19:$V$170,2,FALSE)","v":"H9f"},null,0.8548933796228693,0]
["202627-0-B-H9f","101_3",{"$f":"FrontPage!$N$2","v":{"v":1,"d":"1.0"}},"202627","CT1",{"$f":"VLOOKUP(J779,Transfer!$X$35:$Y$155,2,FALSE)","v":101},{"$f":"VLOOKUP(K779,Transfer!$X$19:$Y$30,2,FALSE)","v":3},0,0,100,"B",{"$f":"VLOOKUP(F779,PartH,MATCH(G779,PartH!$B$4:$N$4,0),FALSE)","v":0},null,{"$f":"VLOOKUP(F779,Transfer!$U$19:$V$170,2,FALSE)","v":"H9f"},null,0.33790838909089405,0]
["202627-0-C-H9f","101_4",{"$f":"FrontPage!$N$2","v":{"v":1,"d":"1.0"}},"202627",{"$f":"$E$2","v":"CT1"},{"$f":"VLOOKUP(J780,Transfer!$X$35:$Y$155,2,FALSE)","v":101},{"$f":"VLOOKUP(K780,Transfer!$X$19:$Y$30,2,FALSE)","v":4},0,0,100,"C",{"$f":"VLOOKUP(F780,PartH,MATCH(G780,PartH!$B$4:$N$4,0),FALSE)","v":0},null,{"$f":"VLOOKUP(F780,Transfer!$U$19:$V$170,2,FALSE)","v":"H9f"},null,0.7799771957898084,0]
["202627-0-D-H9f","101_5",{"$f":"FrontPage!$N$2","v":{"v":1,"d":"1.0"}},"202627","CT1",{"$f":"VLOOKUP(J781,Transfer!$X$35:$Y$155,2,FALSE)","v":101},{"$f":"VLOOKUP(K781,Transfer!$X$19:$Y$30,2,FALSE)","v":5},0,0,100,"D",{"$f":"VLOOKUP(F781,PartH,MATCH(G781,PartH!$B$4:$N$4,0),FALSE)","v":0},null,{"$f":"VLOOKUP(F781,Transfer!$U$19:$V$170,2,FALSE)","v":"H9f"},null,0.3268701830308737,0]
["202627-0-E-H9f","101_6",{"$f":"FrontPage!$N$2","v":{"v":1,"d":"1.0"}},"202627","CT1",{"$f":"VLOOKUP(J782,Transfer!$X$35:$Y$155,2,FALSE)","v":101},{"$f":"VLOOKUP(K782,Transfer!$X$19:$Y$30,2,FALSE)","v":6},0,0,100,"E",{"$f":"VLOOKUP(F782,PartH,MATCH(G782,PartH!$B$4:$N$4,0),FALSE)","v":0},null,{"$f":"VLOOKUP(F782,Transfer!$U$19:$V$170,2,FALSE)","v":"H9f"},null,0.08821273637407734,0]
["202627-0-F-H9f","101_7",{"$f":"FrontPage!$N$2","v":{"v":1,"d":"1.0"}},"202627","CT1",{"$f":"VLOOKUP(J783,Transfer!$X$35:$Y$155,2,FALSE)","v":101},{"$f":"VLOOKUP(K783,Transfer!$X$19:$Y$30,2,FALSE)","v":7},0,0,100,"F",{"$f":"VLOOKUP(F783,PartH,MATCH(G783,PartH!$B$4:$N$4,0),FALSE)","v":0},null,{"$f":"VLOOKUP(F783,Transfer!$U$19:$V$170,2,FALSE)","v":"H9f"},null,0.2976311665801109,0]
["202627-0-G-H9f","101_8",{"$f":"FrontPage!$N$2","v":{"v":1,"d":"1.0"}},"202627","CT1",{"$f":"VLOOKUP(J784,Transfer!$X$35:$Y$155,2,FALSE)","v":101},{"$f":"VLOOKUP(K784,Transfer!$X$19:$Y$30,2,FALSE)","v":8},0,0,100,"G",{"$f":"VLOOKUP(F784,PartH,MATCH(G784,PartH!$B$4:$N$4,0),FALSE)","v":0},null,{"$f":"VLOOKUP(F784,Transfer!$U$19:$V$170,2,FALSE)","v":"H9f"},null,0.7793675731830522,0]
["202627-0-H-H9f","101_9",{"$f":"FrontPage!$N$2","v":{"v":1,"d":"1.0"}},"202627","CT1",{"$f":"VLOOKUP(J785,Transfer!$X$35:$Y$155,2,FALSE)","v":101},{"$f":"VLOOKUP(K785,Transfer!$X$19:$Y$30,2,FALSE)","v":9},0,0,100,"H",{"$f":"VLOOKUP(F785,PartH,MATCH(G785,PartH!$B$4:$N$4,0),FALSE)","v":0},null,{"$f":"VLOOKUP(F785,Transfer!$U$19:$V$170,2,FALSE)","v":"H9f"},null,0.037359751116960216,0]
["202627-0-I-H9f","101_10",{"$f":"FrontPage!$N$2","v":{"v":1,"d":"1.0"}},"202627","CT1",{"$f":"VLOOKUP(J786,Transfer!$X$35:$Y$155,2,FALSE)","v":101},{"$f":"VLOOKUP(K786,Transfer!$X$19:$Y$30,2,FALSE)","v":10},0,0,100,"I",{"$f":"VLOOKUP(F786,PartH,MATCH(G786,PartH!$B$4:$N$4,0),FALSE)","v":0},null,{"$f":"VLOOKUP(F786,Transfer!$U$19:$V$170,2,FALSE)","v":"H9f"},null,0.9336815651673042,0]
["202627-0-TOTAL-H9f","101_11",{"$f":"FrontPage!$N$2","v":{"v":1,"d":"1.0"}},"202627","CT1",{"$f":"VLOOKUP(J787,Transfer!$X$35:$Y$155,2,FALSE)","v":101},{"$f":"VLOOKUP(K787,Transfer!$X$19:$Y$30,2,FALSE)","v":11},0,0,100,"TOTAL",{"$f":"VLOOKUP(F787,PartH,MATCH(G787,PartH!$B$4:$N$4,0),FALSE)","v":0},null,{"$f":"VLOOKUP(F787,Transfer!$U$19:$V$170,2,FALSE)","v":"H9f"},null,0.12461632215999985,0]
["202627-0-%-H9fa","101.1_12",{"$f":"FrontPage!$N$2","v":{"v":1,"d":"1.0"}},"202627","CT1",{"$f":"VLOOKUP(J788,Transfer!$X$35:$Y$155,2,FALSE)","v":101.1},{"$f":"VLOOKUP(K788,Transfer!$X$19:$Y$30,2,FALSE)","v":12},0,{"$f":"L788","v":0},101.1,"%",{"$f":"VLOOKUP(F788,PartH,MATCH(G788,PartH!$B$4:$N$4,0),FALSE)","v":0},null,{"$f":"VLOOKUP(F788,Transfer!$U$19:$V$170,2,FALSE)","v":"H9fa"},null,0.9670470123713608,0]
["202627-0-A-H9fa","101.1_2",{"$f":"FrontPage!$N$2","v":{"v":1,"d":"1.0"}},"202627","CT1",{"$f":"VLOOKUP(J789,Transfer!$X$35:$Y$155,2,FALSE)","v":101.1},{"$f":"VLOOKUP(K789,Transfer!$X$19:$Y$30,2,FALSE)","v":2},0,0,101.1,"A",{"$f":"VLOOKUP(F789,PartH,MATCH(G789,PartH!$B$4:$N$4,0),FALSE)","v":0},null,{"$f":"VLOOKUP(F789,Transfer!$U$19:$V$170,2,FALSE)","v":"H9fa"},null,0.6109404135957783,0]
["202627-0-B-H9fa","101.1_3",{"$f":"FrontPage!$N$2","v":{"v":1,"d":"1.0"}},"202627","CT1",{"$f":"VLOOKUP(J790,Transfer!$X$35:$Y$155,2,FALSE)","v":101.1},{"$f":"VLOOKUP(K790,Transfer!$X$19:$Y$30,2,FALSE)","v":3},0,0,101.1,"B",{"$f":"VLOOKUP(F790,PartH,MATCH(G790,PartH!$B$4:$N$4,0),FALSE)","v":0},null,{"$f":"VLOOKUP(F790,Transfer!$U$19:$V$170,2,FALSE)","v":"H9fa"},null,0.31883517655632343,0]
["202627-0-C-H9fa","101.1_4",{"$f":"FrontPage!$N$2","v":{"v":1,"d":"1.0"}},"202627","CT1",{"$f":"VLOOKUP(J791,Transfer!$X$35:$Y$155,2,FALSE)","v":101.1},{"$f":"VLOOKUP(K791,Transfer!$X$19:$Y$30,2,FALSE)","v":4},0,0,101.1,"C",{"$f":"VLOOKUP(F791,PartH,MATCH(G791,PartH!$B$4:$N$4,0),FALSE)","v":0},null,{"$f":"VLOOKUP(F791,Transfer!$U$19:$V$170,2,FALSE)","v":"H9fa"},null,0.5294042029111553,0]
["202627-0-D-H9fa","101.1_5",{"$f":"FrontPage!$N$2","v":{"v":1,"d":"1.0"}},"202627","CT1",{"$f":"VLOOKUP(J792,Transfer!$X$35:$Y$155,2,FALSE)","v":101.1},{"$f":"VLOOKUP(K792,Transfer!$X$19:$Y$30,2,FALSE)","v":5},0,0,101.1,"D",{"$f":"VLOOKUP(F792,PartH,MATCH(G792,PartH!$B$4:$N$4,0),FALSE)","v":0},null,{"$f":"VLOOKUP(F792,Transfer!$U$19:$V$170,2,FALSE)","v":"H9fa"},null,0.8908119671611509,0]
[{"$f":"D793&\"-\"&H793&\"-\"&K793&\"-\"&N793","v":"202627-0-E-H9fa"},{"$f":"F793&\"_\"&G793","v":"101.1_6"},{"$f":"FrontPage!$N$2","v":{"v":1,"d":"1.0"}},"202627","CT1",{"$f":"VLOOKUP(J793,Transfer!$X$35:$Y$155,2,FALSE)","v":101.1},{"$f":"VLOOKUP(K793,Transfer!$X$19:$Y$30,2,FALSE)","v":6},0,0,101.1,"E",{"$f":"VLOOKUP(F793,PartH,MATCH(G793,PartH!$B$4:$N$4,0),FALSE)","v":0},null,{"$f":"VLOOKUP(F793,Transfer!$U$19:$V$170,2,FALSE)","v":"H9fa"},null,0.3293475802647109,0]
["202627-0-F-H9fa","101.1_7",{"$f":"FrontPage!$N$2","v":{"v":1,"d":"1.0"}},"202627","CT1",{"$f":"VLOOKUP(J794,Transfer!$X$35:$Y$155,2,FALSE)","v":101.1},{"$f":"VLOOKUP(K794,Transfer!$X$19:$Y$30,2,FALSE)","v":7},0,0,101.1,"F",{"$f":"VLOOKUP(F794,PartH,MATCH(G794,PartH!$B$4:$N$4,0),FALSE)","v":0},null,{"$f":"VLOOKUP(F794,Transfer!$U$19:$V$170,2,FALSE)","v":"H9fa"},null,0.9393652396539158,0]
["202627-0-G-H9fa","101.1_8",{"$f":"FrontPage!$N$2","v":{"v":1,"d":"1.0"}},"202627","CT1",{"$f":"VLOOKUP(J795,Transfer!$X$35:$Y$155,2,FALSE)","v":101.1},{"$f":"VLOOKUP(K795,Transfer!$X$19:$Y$30,2,FALSE)","v":8},0,0,101.1,"G",{"$f":"VLOOKUP(F795,PartH,MATCH(G795,PartH!$B$4:$N$4,0),FALSE)","v":0},null,{"$f":"VLOOKUP(F795,Transfer!$U$19:$V$170,2,FALSE)","v":"H9fa"},null,0.6964623782272907,0]
["202627-0-H-H9fa","101.1_9",{"$f":"FrontPage!$N$2","v":{"v":1,"d":"1.0"}},"202627","CT1",{"$f":"VLOOKUP(J796,Transfer!$X$35:$Y$155,2,FALSE)","v":101.1},{"$f":"VLOOKUP(K796,Transfer!$X$19:$Y$30,2,FALSE)","v":9},0,0,101.1,"H",{"$f":"VLOOKUP(F796,PartH,MATCH(G796,PartH!$B$4:$N$4,0),FALSE)","v":0},null,{"$f":"VLOOKUP(F796,Transfer!$U$19:$V$170,2,FALSE)","v":"H9fa"},null,0.18572684699464614,0]
["202627-0-I-H9fa","101.1_10",{"$f":"FrontPage!$N$2","v":{"v":1,"d":"1.0"}},"202627","CT1",{"$f":"VLOOKUP(J797,Transfer!$X$35:$Y$155,2,FALSE)","v":101.1},{"$f":"VLOOKUP(K797,Transfer!$X$19:$Y$30,2,FALSE)","v":10},0,0,101.1,"I",{"$f":"VLOOKUP(F797,PartH,MATCH(G797,PartH!$B$4:$N$4,0),FALSE)","v":0},null,{"$f":"VLOOKUP(F797,Transfer!$U$19:$V$170,2,FALSE)","v":"H9fa"},null,0.3658390522227247,0]
["202627-0-TOTAL-H9fa","101.1_11",{"$f":"FrontPage!$N$2","v":{"v":1,"d":"1.0"}},"202627","CT1",{"$f":"VLOOKUP(J798,Transfer!$X$35:$Y$155,2,FALSE)","v":101.1},{"$f":"VLOOKUP(K798,Transfer!$X$19:$Y$30,2,FALSE)","v":11},0,0,101.1,"TOTAL",{"$f":"VLOOKUP(F798,PartH,MATCH(G798,PartH!$B$4:$N$4,0),FALSE)","v":0},null,{"$f":"VLOOKUP(F798,Transfer!$U$19:$V$170,2,FALSE)","v":"H9fa"},null,0.01745418401734289,0]
["202627-0-%-H9fb","101.2_12",{"$f":"FrontPage!$N$2","v":{"v":1,"d":"1.0"}},"202627","CT1",{"$f":"VLOOKUP(J799,Transfer!$X$35:$Y$155,2,FALSE)","v":101.2},{"$f":"VLOOKUP(K799,Transfer!$X$19:$Y$30,2,FALSE)","v":12},0,0,101.2,"%",{"$f":"VLOOKUP(F799,PartH,MATCH(G799,PartH!$B$4:$N$4,0),FALSE)","v":0},null,{"$f":"VLOOKUP(F799,Transfer!$U$19:$V$170,2,FALSE)","v":"H9fb"},null,0.263982305782951,0]
["202627-0-A-H9fb","101.2_2",{"$f":"FrontPage!$N$2","v":{"v":1,"d":"1.0"}},"202627","CT1",{"$f":"VLOOKUP(J800,Transfer!$X$35:$Y$155,2,FALSE)","v":101.2},{"$f":"VLOOKUP(K800,Transfer!$X$19:$Y$30,2,FALSE)","v":2},0,0,101.2,"A",{"$f":"VLOOKUP(F800,PartH,MATCH(G800,PartH!$B$4:$N$4,0),FALSE)","v":0},null,{"$f":"VLOOKUP(F800,Transfer!$U$19:$V$170,2,FALSE)","v":"H9fb"},null,0.5921761481547405,0]
["202627-0-B-H9fb","101.2_3",{"$f":"FrontPage!$N$2","v":{"v":1,"d":"1.0"}},"202627","CT1",{"$f":"VLOOKUP(J801,Transfer!$X$35:$Y$155,2,FALSE)","v":101.2},{"$f":"VLOOKUP(K801,Transfer!$X$19:$Y$30,2,FALSE)","v":3},0,0,101.2,"B",{"$f":"VLOOKUP(F801,PartH,MATCH(G801,PartH!$B$4:$N$4,0),FALSE)","v":0},null,{"$f":"VLOOKUP(F801,Transfer!$U$19:$V$170,2,FALSE)","v":"H9fb"},null,0.7790893615521911,0]
["202627-0-C-H9fb","101.2_4",{"$f":"FrontPage!$N$2","v":{"v":1,"d":"1.0"}},"202627","CT1",{"$f":"VLOOKUP(J802,Transfer!$X$35:$Y$155,2,FALSE)","v":101.2},{"$f":"VLOOKUP(K802,Transfer!$X$19:$Y$30,2,FALSE)","v":4},0,0,101.2,"C",{"$f":"VLOOKUP(F802,PartH,MATCH(G802,PartH!$B$4:$N$4,0),FALSE)","v":0},null,{"$f":"VLOOKUP(F802,Transfer!$U$19:$V$170,2,FALSE)","v":"H9fb"},null,0.6479858699907807,0]
["202627-0-D-H9fb","101.2_5",{"$f":"FrontPage!$N$2","v":{"v":1,"d":"1.0"}},"202627","CT1",{"$f":"VLOOKUP(J803,Transfer!$X$35:$Y$155,2,FALSE)","v":101.2},{"$f":"VLOOKUP(K803,Transfer!$X$19:$Y$30,2,FALSE)","v":5},0,0,101.2,"D",{"$f":"VLOOKUP(F803,PartH,MATCH(G803,PartH!$B$4:$N$4,0),FALSE)","v":0},null,{"$f":"VLOOKUP(F803,Transfer!$U$19:$V$170,2,FALSE)","v":"H9fb"},null,0.6052206451144848,0]
["202627-0-E-H9fb","101.2_6",{"$f":"FrontPage!$N$2","v":{"v":1,"d":"1.0"}},"202627","CT1",{"$f":"VLOOKUP(J804,Transfer!$X$35:$Y$155,2,FALSE)","v":101.2},{"$f":"VLOOKUP(K804,Transfer!$X$19:$Y$30,2,FALSE)","v":6},0,0,101.2,"E",{"$f":"VLOOKUP(F804,PartH,MATCH(G804,PartH!$B$4:$N$4,0),FALSE)","v":0},null,{"$f":"VLOOKUP(F804,Transfer!$U$19:$V$170,2,FALSE)","v":"H9fb"},null,0.5807198708702995,0]
["202627-0-F-H9fb","101.2_7",{"$f":"FrontPage!$N$2","v":{"v":1,"d":"1.0"}},"202627","CT1",{"$f":"VLOOKUP(J805,Transfer!$X$35:$Y$155,2,FALSE)","v":101.2},{"$f":"VLOOKUP(K805,Transfer!$X$19:$Y$30,2,FALSE)","v":7},0,0,101.2,"F",{"$f":"VLOOKUP(F805,PartH,MATCH(G805,PartH!$B$4:$N$4,0),FALSE)","v":0},null,{"$f":"VLOOKUP(F805,Transfer!$U$19:$V$170,2,FALSE)","v":"H9fb"},null,0.9635982448910738,0]
["202627-0-G-H9fb","101.2_8",{"$f":"FrontPage!$N$2","v":{"v":1,"d":"1.0"}},"202627","CT1",{"$f":"VLOOKUP(J806,Transfer!$X$35:$Y$155,2,FALSE)","v":101.2},{"$f":"VLOOKUP(K806,Transfer!$X$19:$Y$30,2,FALSE)","v":8},0,0,101.2,"G",{"$f":"VLOOKUP(F806,PartH,MATCH(G806,PartH!$B$4:$N$4,0),FALSE)","v":0},null,{"$f":"VLOOKUP(F806,Transfer!$U$19:$V$170,2,FALSE)","v":"H9fb"},null,0.5660683115472811,0]
["202627-0-H-H9fb","101.2_9",{"$f":"FrontPage!$N$2","v":{"v":1,"d":"1.0"}},"202627","CT1",{"$f":"VLOOKUP(J807,Transfer!$X$35:$Y$155,2,FALSE)","v":101.2},{"$f":"VLOOKUP(K807,Transfer!$X$19:$Y$30,2,FALSE)","v":9},0,0,101.2,"H",{"$f":"VLOOKUP(F807,PartH,MATCH(G807,PartH!$B$4:$N$4,0),FALSE)","v":0},null,{"$f":"VLOOKUP(F807,Transfer!$U$19:$V$170,2,FALSE)","v":"H9fb"},null,0.9317742933308648,0]
["202627-0-I-H9fb","101.2_10",{"$f":"FrontPage!$N$2","v":{"v":1,"d":"1.0"}},"202627","CT1",{"$f":"VLOOKUP(J808,Transfer!$X$35:$Y$155,2,FALSE)","v":101.2},{"$f":"VLOOKUP(K808,Transfer!$X$19:$Y$30,2,FALSE)","v":10},0,0,101.2,"I",{"$f":"VLOOKUP(F808,PartH,MATCH(G808,PartH!$B$4:$N$4,0),FALSE)","v":0},null,{"$f":"VLOOKUP(F808,Transfer!$U$19:$V$170,2,FALSE)","v":"H9fb"},null,0.7863597147642655,0]
["202627-0-TOTAL-H9fb","101.2_11",{"$f":"FrontPage!$N$2","v":{"v":1,"d":"1.0"}},"202627","CT1",{"$f":"VLOOKUP(J809,Transfer!$X$35:$Y$155,2,FALSE)","v":101.2},{"$f":"VLOOKUP(K809,Transfer!$X$19:$Y$30,2,FALSE)","v":11},0,0,101.2,"TOTAL",{"$f":"VLOOKUP(F809,PartH,MATCH(G809,PartH!$B$4:$N$4,0),FALSE)","v":0},null,{"$f":"VLOOKUP(F809,Transfer!$U$19:$V$170,2,FALSE)","v":"H9fb"},null,0.3923865901525482,0]
["202627-0-A-H9g","102_2",{"$f":"FrontPage!$N$2","v":{"v":1,"d":"1.0"}},"202627","CT1",{"$f":"VLOOKUP(J810,Transfer!$X$35:$Y$155,2,FALSE)","v":102},{"$f":"VLOOKUP(K810,Transfer!$X$19:$Y$30,2,FALSE)","v":2},0,0,101,"A",{"$f":"VLOOKUP(F810,PartH,MATCH(G810,PartH!$B$4:$N$4,0),FALSE)","v":0},null,{"$f":"VLOOKUP(F810,Transfer!$U$19:$V$170,2,FALSE)","v":"H9g"},null,0.17992159237994954,0]
["202627-0-B-H9g","102_3",{"$f":"FrontPage!$N$2","v":{"v":1,"d":"1.0"}},"202627","CT1",{"$f":"VLOOKUP(J811,Transfer!$X$35:$Y$155,2,FALSE)","v":102},{"$f":"VLOOKUP(K811,Transfer!$X$19:$Y$30,2,FALSE)","v":3},0,0,101,"B",{"$f":"VLOOKUP(F811,PartH,MATCH(G811,PartH!$B$4:$N$4,0),FALSE)","v":0},null,{"$f":"VLOOKUP(F811,Transfer!$U$19:$V$170,2,FALSE)","v":"H9g"},null,0.327795420818645,0]
["202627-0-C-H9g","102_4",{"$f":"FrontPage!$N$2","v":{"v":1,"d":"1.0"}},"202627","CT1",{"$f":"VLOOKUP(J812,Transfer!$X$35:$Y$155,2,FALSE)","v":102},{"$f":"VLOOKUP(K812,Transfer!$X$19:$Y$30,2,FALSE)","v":4},0,0,101,"C",{"$f":"VLOOKUP(F812,PartH,MATCH(G812,PartH!$B$4:$N$4,0),FALSE)","v":0},null,{"$f":"VLOOKUP(F812,Transfer!$U$19:$V$170,2,FALSE)","v":"H9g"},null,0.03898609641612427,0]
["202627-0-D-H9g","102_5",{"$f":"FrontPage!$N$2","v":{"v":1,"d":"1.0"}},"202627","CT1",{"$f":"VLOOKUP(J813,Transfer!$X$35:$Y$155,2,FALSE)","v":102},{"$f":"VLOOKUP(K813,Transfer!$X$19:$Y$30,2,FALSE)","v":5},0,0,101,"D",{"$f":"VLOOKUP(F813,PartH,MATCH(G813,PartH!$B$4:$N$4,0),FALSE)","v":0},null,{"$f":"VLOOKUP(F813,Transfer!$U$19:$V$170,2,FALSE)","v":"H9g"},null,0.8092203119755154,0]
["202627-0-E-H9g","102_6",{"$f":"FrontPage!$N$2","v":{"v":1,"d":"1.0"}},"202627","CT1",{"$f":"VLOOKUP(J814,Transfer!$X$35:$Y$155,2,FALSE)","v":102},{"$f":"VLOOKUP(K814,Transfer!$X$19:$Y$30,2,FALSE)","v":6},0,0,101,"E",{"$f":"VLOOKUP(F814,PartH,MATCH(G814,PartH!$B$4:$N$4,0),FALSE)","v":0},null,{"$f":"VLOOKUP(F814,Transfer!$U$19:$V$170,2,FALSE)","v":"H9g"},null,0.043684162336473764,0]
["202627-0-F-H9g","102_7",{"$f":"FrontPage!$N$2","v":{"v":1,"d":"1.0"}},"202627","CT1",{"$f":"VLOOKUP(J815,Transfer!$X$35:$Y$155,2,FALSE)","v":102},{"$f":"VLOOKUP(K815,Transfer!$X$19:$Y$30,2,FALSE)","v":7},0,0,101,"F",{"$f":"VLOOKUP(F815,PartH,MATCH(G815,PartH!$B$4:$N$4,0),FALSE)","v":0},null,{"$f":"VLOOKUP(F815,Transfer!$U$19:$V$170,2,FALSE)","v":"H9g"},null,0.5752746544093172,0]
["202627-0-G-H9g","102_8",{"$f":"FrontPage!$N$2","v":{"v":1,"d":"1.0"}},"202627","CT1",{"$f":"VLOOKUP(J816,Transfer!$X$35:$Y$155,2,FALSE)","v":102},{"$f":"VLOOKUP(K816,Transfer!$X$19:$Y$30,2,FALSE)","v":8},0,0,101,"G",{"$f":"VLOOKUP(F816,PartH,MATCH(G816,PartH!$B$4:$N$4,0),FALSE)","v":0},null,{"$f":"VLOOKUP(F816,Transfer!$U$19:$V$170,2,FALSE)","v":"H9g"},null,0.46688558412083425,0]
["202627-0-H-H9g","102_9",{"$f":"FrontPage!$N$2","v":{"v":1,"d":"1.0"}},"202627","CT1",{"$f":"VLOOKUP(J817,Transfer!$X$35:$Y$155,2,FALSE)","v":102},{"$f":"VLOOKUP(K817,Transfer!$X$19:$Y$30,2,FALSE)","v":9},0,0,101,"H",{"$f":"VLOOKUP(F817,PartH,MATCH(G817,PartH!$B$4:$N$4,0),FALSE)","v":0},null,{"$f":"VLOOKUP(F817,Transfer!$U$19:$V$170,2,FALSE)","v":"H9g"},null,1.0551542634782418E-3,0]
["202627-0-I-H9g","102_10",{"$f":"FrontPage!$N$2","v":{"v":1,"d":"1.0"}},"202627","CT1",{"$f":"VLOOKUP(J818,Transfer!$X$35:$Y$155,2,FALSE)","v":102},{"$f":"VLOOKUP(K818,Transfer!$X$19:$Y$30,2,FALSE)","v":10},0,{"$f":"L818","v":0},101,"I",{"$f":"VLOOKUP(F818,PartH,MATCH(G818,PartH!$B$4:$N$4,0),FALSE)","v":0},null,{"$f":"VLOOKUP(F818,Transfer!$U$19:$V$170,2,FALSE)","v":"H9g"},null,0.41508916407613083,0]
["202627-0-TOTAL-H9g","102_11",{"$f":"FrontPage!$N$2","v":{"v":1,"d":"1.0"}},"202627","CT1",{"$f":"VLOOKUP(J819,Transfer!$X$35:$Y$155,2,FALSE)","v":102},{"$f":"VLOOKUP(K819,Transfer!$X$19:$Y$30,2,FALSE)","v":11},0,0,101,"TOTAL",{"$f":"VLOOKUP(F819,PartH,MATCH(G819,PartH!$B$4:$N$4,0),FALSE)","v":0},null,{"$f":"VLOOKUP(F819,Transfer!$U$19:$V$170,2,FALSE)","v":"H9g"},null,0.39237446476680926,0]
["202627-0-%-H10b","104_12",{"$f":"FrontPage!$N$2","v":{"v":1,"d":"1.0"}},"202627","CT1",{"$f":"VLOOKUP(J820,Transfer!$X$35:$Y$155,2,FALSE)","v":104},{"$f":"VLOOKUP(K820,Transfer!$X$19:$Y$30,2,FALSE)","v":12},0,25,103,"%",{"$f":"VLOOKUP(F820,PartH,MATCH(G820,PartH!$B$4:$N$4,0),FALSE)","v":25},null,{"$f":"VLOOKUP(F820,Transfer!$U$19:$V$170,2,FALSE)","v":"H10b"},null,0.8732643797539257,21.83160949384814]
["202627-0-A-H10b","104_2",{"$f":"FrontPage!$N$2","v":{"v":1,"d":"1.0"}},"202627","CT1",{"$f":"VLOOKUP(J821,Transfer!$X$35:$Y$155,2,FALSE)","v":104},{"$f":"VLOOKUP(K821,Transfer!$X$19:$Y$30,2,FALSE)","v":2},0,0,103,"A",{"$f":"VLOOKUP(F821,PartH,MATCH(G821,PartH!$B$4:$N$4,0),FALSE)","v":0},null,{"$f":"VLOOKUP(F821,Transfer!$U$19:$V$170,2,FALSE)","v":"H10b"},null,0.5082914715897566,0]
["202627-0-B-H10b","104_3",{"$f":"FrontPage!$N$2","v":{"v":1,"d":"1.0"}},"202627","CT1",{"$f":"VLOOKUP(J822,Transfer!$X$35:$Y$155,2,FALSE)","v":104},{"$f":"VLOOKUP(K822,Transfer!$X$19:$Y$30,2,FALSE)","v":3},0,0,103,"B",{"$f":"VLOOKUP(F822,PartH,MATCH(G822,PartH!$B$4:$N$4,0),FALSE)","v":0},null,{"$f":"VLOOKUP(F822,Transfer!$U$19:$V$170,2,FALSE)","v":"H10b"},null,0.17713813013987456,0]
["202627-0-C-H10b","104_4",{"$f":"FrontPage!$N$2","v":{"v":1,"d":"1.0"}},"202627","CT1",{"$f":"VLOOKUP(J823,Transfer!$X$35:$Y$155,2,FALSE)","v":104},{"$f":"VLOOKUP(K823,Transfer!$X$19:$Y$30,2,FALSE)","v":4},0,0,103,"C",{"$f":"VLOOKUP(F823,PartH,MATCH(G823,PartH!$B$4:$N$4,0),FALSE)","v":0},null,{"$f":"VLOOKUP(F823,Transfer!$U$19:$V$170,2,FALSE)","v":"H10b"},null,0.9143080151956627,0]
["202627-0-D-H10b","104_5",{"$f":"FrontPage!$N$2","v":{"v":1,"d":"1.0"}},"202627","CT1",{"$f":"VLOOKUP(J824,Transfer!$X$35:$Y$155,2,FALSE)","v":104},{"$f":"VLOOKUP(K824,Transfer!$X$19:$Y$30,2,FALSE)","v":5},0,0,103,"D",{"$f":"VLOOKUP(F824,PartH,MATCH(G824,PartH!$B$4:$N$4,0),FALSE)","v":0},null,{"$f":"VLOOKUP(F824,Transfer!$U$19:$V$170,2,FALSE)","v":"H10b"},null,0.1100915946151727,0]
["202627-0-E-H10b","104_6",{"$f":"FrontPage!$N$2","v":{"v":1,"d":"1.0"}},"202627","CT1",{"$f":"VLOOKUP(J825,Transfer!$X$35:$Y$155,2,FALSE)","v":104},{"$f":"VLOOKUP(K825,Transfer!$X$19:$Y$30,2,FALSE)","v":6},0,0,103,"E",{"$f":"VLOOKUP(F825,PartH,MATCH(G825,PartH!$B$4:$N$4,0),FALSE)","v":0},null,{"$f":"VLOOKUP(F825,Transfer!$U$19:$V$170,2,FALSE)","v":"H10b"},null,0.6801395019909117,0]
["202627-0-F-H10b","104_7",{"$f":"FrontPage!$N$2","v":{"v":1,"d":"1.0"}},"202627","CT1",{"$f":"VLOOKUP(J826,Transfer!$X$35:$Y$155,2,FALSE)","v":104},{"$f":"VLOOKUP(K826,Transfer!$X$19:$Y$30,2,FALSE)","v":7},0,0,103,"F",{"$f":"VLOOKUP(F826,PartH,MATCH(G826,PartH!$B$4:$N$4,0),FALSE)","v":0},null,{"$f":"VLOOKUP(F826,Transfer!$U$19:$V$170,2,FALSE)","v":"H10b"},null,0.31544555794241735,0]
["202627-0-G-H10b","104_8",{"$f":"FrontPage!$N$2","v":{"v":1,"d":"1.0"}},"202627","CT1",{"$f":"VLOOKUP(J827,Transfer!$X$35:$Y$155,2,FALSE)","v":104},{"$f":"VLOOKUP(K827,Transfer!$X$19:$Y$30,2,FALSE)","v":8},0,0,103,"G",{"$f":"VLOOKUP(F827,PartH,MATCH(G827,PartH!$B$4:$N$4,0),FALSE)","v":0},null,{"$f":"VLOOKUP(F827,Transfer!$U$19:$V$170,2,FALSE)","v":"H10b"},null,0.9888496536316205,0]
["202627-0-H-H10b","104_9",{"$f":"FrontPage!$N$2","v":{"v":1,"d":"1.0"}},"202627","CT1",{"$f":"VLOOKUP(J828,Transfer!$X$35:$Y$155,2,FALSE)","v":104},{"$f":"VLOOKUP(K828,Transfer!$X$19:$Y$30,2,FALSE)","v":9},0,0,103,"H",{"$f":"VLOOKUP(F828,PartH,MATCH(G828,PartH!$B$4:$N$4,0),FALSE)","v":0},null,{"$f":"VLOOKUP(F828,Transfer!$U$19:$V$170,2,FALSE)","v":"H10b"},null,0.7235741337888438,0]
["202627-0-I-H10b","104_10",{"$f":"FrontPage!$N$2","v":{"v":1,"d":"1.0"}},"202627","CT1",{"$f":"VLOOKUP(J829,Transfer!$X$35:$Y$155,2,FALSE)","v":104},{"$f":"VLOOKUP(K829,Transfer!$X$19:$Y$30,2,FALSE)","v":10},0,0,103,"I",{"$f":"VLOOKUP(F829,PartH,MATCH(G829,PartH!$B$4:$N$4,0),FALSE)","v":0},null,{"$f":"VLOOKUP(F829,Transfer!$U$19:$V$170,2,FALSE)","v":"H10b"},null,0.7056530190402814,0]
["202627-0-TOTAL-H10b","104_11",{"$f":"FrontPage!$N$2","v":{"v":1,"d":"1.0"}},"202627","CT1",{"$f":"VLOOKUP(J830,Transfer!$X$35:$Y$155,2,FALSE)","v":104},{"$f":"VLOOKUP(K830,Transfer!$X$19:$Y$30,2,FALSE)","v":11},0,0,103,"TOTAL",{"$f":"VLOOKUP(F830,PartH,MATCH(G830,PartH!$B$4:$N$4,0),FALSE)","v":0},null,{"$f":"VLOOKUP(F830,Transfer!$U$19:$V$170,2,FALSE)","v":"H10b"},null,0.41373367644751635,0]
["202627-0-%-H10c","105_12",{"$f":"FrontPage!$N$2","v":{"v":1,"d":"1.0"}},"202627","CT1",{"$f":"VLOOKUP(J831,Transfer!$X$35:$Y$155,2,FALSE)","v":105},{"$f":"VLOOKUP(K831,Transfer!$X$19:$Y$30,2,FALSE)","v":12},0,50,104,"%",{"$f":"VLOOKUP(F831,PartH,MATCH(G831,PartH!$B$4:$N$4,0),FALSE)","v":50},null,{"$f":"VLOOKUP(F831,Transfer!$U$19:$V$170,2,FALSE)","v":"H10c"},null,0.013826531328798297,0.6913265664399149]
["202627-0-A-H10c","105_2",{"$f":"FrontPage!$N$2","v":{"v":1,"d":"1.0"}},"202627","CT1",{"$f":"VLOOKUP(J832,Transfer!$X$35:$Y$155,2,FALSE)","v":105},{"$f":"VLOOKUP(K832,Transfer!$X$19:$Y$30,2,FALSE)","v":2},0,0,104,"A",{"$f":"VLOOKUP(F832,PartH,MATCH(G832,PartH!$B$4:$N$4,0),FALSE)","v":0},null,{"$f":"VLOOKUP(F832,Transfer!$U$19:$V$170,2,FALSE)","v":"H10c"},null,0.9259531376487775,0]
["202627-0-B-H10c","105_3",{"$f":"FrontPage!$N$2","v":{"v":1,"d":"1.0"}},"202627","CT1",{"$f":"VLOOKUP(J833,Transfer!$X$35:$Y$155,2,FALSE)","v":105},{"$f":"VLOOKUP(K833,Transfer!$X$19:$Y$30,2,FALSE)","v":3},0,0,104,"B",{"$f":"VLOOKUP(F833,PartH,MATCH(G833,PartH!$B$4:$N$4,0),FALSE)","v":0},null,{"$f":"VLOOKUP(F833,Transfer!$U$19:$V$170,2,FALSE)","v":"H10c"},null,0.9392787455597457,0]
["202627-0-C-H10c","105_4",{"$f":"FrontPage!$N$2","v":{"v":1,"d":"1.0"}},"202627","CT1",{"$f":"VLOOKUP(J834,Transfer!$X$35:$Y$155,2,FALSE)","v":105},{"$f":"VLOOKUP(K834,Transfer!$X$19:$Y$30,2,FALSE)","v":4},0,0,104,"C",{"$f":"VLOOKUP(F834,PartH,MATCH(G834,PartH!$B$4:$N$4,0),FALSE)","v":0},null,{"$f":"VLOOKUP(F834,Transfer!$U$19:$V$170,2,FALSE)","v":"H10c"},null,0.5139223347767753,{"$f":"+I834*P834","v":0}]
["202627-0-D-H10c","105_5",{"$f":"FrontPage!$N$2","v":{"v":1,"d":"1.0"}},"202627","CT1",{"$f":"VLOOKUP(J835,Transfer!$X$35:$Y$155,2,FALSE)","v":105},{"$f":"VLOOKUP(K835,Transfer!$X$19:$Y$30,2,FALSE)","v":5},0,0,104,"D",{"$f":"VLOOKUP(F835,PartH,MATCH(G835,PartH!$B$4:$N$4,0),FALSE)","v":0},null,{"$f":"VLOOKUP(F835,Transfer!$U$19:$V$170,2,FALSE)","v":"H10c"},null,0.9896155649709915,0]
["202627-0-E-H10c","105_6",{"$f":"FrontPage!$N$2","v":{"v":1,"d":"1.0"}},"202627","CT1",{"$f":"VLOOKUP(J836,Transfer!$X$35:$Y$155,2,FALSE)","v":105},{"$f":"VLOOKUP(K836,Transfer!$X$19:$Y$30,2,FALSE)","v":6},0,0,104,"E",{"$f":"VLOOKUP(F836,PartH,MATCH(G836,PartH!$B$4:$N$4,0),FALSE)","v":0},null,{"$f":"VLOOKUP(F836,Transfer!$U$19:$V$170,2,FALSE)","v":"H10c"},null,0.9150587845325127,0]
["202627-0-F-H10c","105_7",{"$f":"FrontPage!$N$2","v":{"v":1,"d":"1.0"}},"202627","CT1",{"$f":"VLOOKUP(J837,Transfer!$X$35:$Y$155,2,FALSE)","v":105},{"$f":"VLOOKUP(K837,Transfer!$X$19:$Y$30,2,FALSE)","v":7},0,0,104,"F",{"$f":"VLOOKUP(F837,PartH,MATCH(G837,PartH!$B$4:$N$4,0),FALSE)","v":0},null,{"$f":"VLOOKUP(F837,Transfer!$U$19:$V$170,2,FALSE)","v":"H10c"},null,0.8475027673097185,0]
["202627-0-G-H10c","105_8",{"$f":"FrontPage!$N$2","v":{"v":1,"d":"1.0"}},"202627","CT1",{"$f":"VLOOKUP(J838,Transfer!$X$35:$Y$155,2,FALSE)","v":105},{"$f":"VLOOKUP(K838,Transfer!$X$19:$Y$30,2,FALSE)","v":8},0,0,104,"G",{"$f":"VLOOKUP(F838,PartH,MATCH(G838,PartH!$B$4:$N$4,0),FALSE)","v":0},null,{"$f":"VLOOKUP(F838,Transfer!$U$19:$V$170,2,FALSE)","v":"H10c"},null,0.222426066715252,0]
["202627-0-H-H10c","105_9",{"$f":"FrontPage!$N$2","v":{"v":1,"d":"1.0"}},"202627","CT1",{"$f":"VLOOKUP(J839,Transfer!$X$35:$Y$155,2,FALSE)","v":105},{"$f":"VLOOKUP(K839,Transfer!$X$19:$Y$30,2,FALSE)","v":9},0,0,104,"H",{"$f":"VLOOKUP(F839,PartH,MATCH(G839,PartH!$B$4:$N$4,0),FALSE)","v":0},null,{"$f":"VLOOKUP(F839,Transfer!$U$19:$V$170,2,FALSE)","v":"H10c"},null,0.5692860852784323,0]
["202627-0-I-H10c","105_10",{"$f":"FrontPage!$N$2","v":{"v":1,"d":"1.0"}},"202627","CT1",{"$f":"VLOOKUP(J840,Transfer!$X$35:$Y$155,2,FALSE)","v":105},{"$f":"VLOOKUP(K840,Transfer!$X$19:$Y$30,2,FALSE)","v":10},0,0,104,"I",{"$f":"VLOOKUP(F840,PartH,MATCH(G840,PartH!$B$4:$N$4,0),FALSE)","v":0},null,{"$f":"VLOOKUP(F840,Transfer!$U$19:$V$170,2,FALSE)","v":"H10c"},null,0.7764770710401018,0]
["202627-0-TOTAL-H10c","105_11",{"$f":"FrontPage!$N$2","v":{"v":1,"d":"1.0"}},"202627","CT1",{"$f":"VLOOKUP(J841,Transfer!$X$35:$Y$155,2,FALSE)","v":105},{"$f":"VLOOKUP(K841,Transfer!$X$19:$Y$30,2,FALSE)","v":11},0,0,104,"TOTAL",{"$f":"VLOOKUP(F841,PartH,MATCH(G841,PartH!$B$4:$N$4,0),FALSE)","v":0},null,{"$f":"VLOOKUP(F841,Transfer!$U$19:$V$170,2,FALSE)","v":"H10c"},null,0.8465247075439677,0]
["202627-0-%-H10e","107_12",{"$f":"FrontPage!$N$2","v":{"v":1,"d":"1.0"}},{"$f":"$W$2","v":"202627"},"CT1",{"$f":"VLOOKUP(J842,Transfer!$X$35:$Y$155,2,FALSE)","v":107},{"$f":"VLOOKUP(K842,Transfer!$X$19:$Y$30,2,FALSE)","v":12},{"$f":"uanumber","v":0},100,106,"%",{"$f":"VLOOKUP(F842,PartH,MATCH(G842,PartH!$B$4:$N$4,0),FALSE)","v":100},null,{"$f":"VLOOKUP(F842,Transfer!$U$19:$V$170,2,FALSE)","v":"H10e"},null,0.0632305732589038,6.32305732589038]
["202627-0-A-H10e","107_2",{"$f":"FrontPage!$N$2","v":{"v":1,"d":"1.0"}},"202627","CT1",{"$f":"VLOOKUP(J843,Transfer!$X$35:$Y$155,2,FALSE)","v":107},{"$f":"VLOOKUP(K843,Transfer!$X$19:$Y$30,2,FALSE)","v":2},0,0,106,"A",{"$f":"VLOOKUP(F843,PartH,MATCH(G843,PartH!$B$4:$N$4,0),FALSE)","v":0},null,{"$f":"VLOOKUP(F843,Transfer!$U$19:$V$170,2,FALSE)","v":"H10e"},null,0.9487499793854739,0]
["202627-0-B-H10e","107_3",{"$f":"FrontPage!$N$2","v":{"v":1,"d":"1.0"}},"202627",{"$f":"$E$2","v":"CT1"},{"$f":"VLOOKUP(J844,Transfer!$X$35:$Y$155,2,FALSE)","v":107},{"$f":"VLOOKUP(K844,Transfer!$X$19:$Y$30,2,FALSE)","v":3},0,0,106,"B",{"$f":"VLOOKUP(F844,PartH,MATCH(G844,PartH!$B$4:$N$4,0),FALSE)","v":0},null,{"$f":"VLOOKUP(F844,Transfer!$U$19:$V$170,2,FALSE)","v":"H10e"},null,0.6760115196307487,0]
["202627-0-C-H10e","107_4",{"$f":"FrontPage!$N$2","v":{"v":1,"d":"1.0"}},"202627","CT1",{"$f":"VLOOKUP(J845,Transfer!$X$35:$Y$155,2,FALSE)","v":107},{"$f":"VLOOKUP(K845,Transfer!$X$19:$Y$30,2,FALSE)","v":4},0,0,106,"C",{"$f":"VLOOKUP(F845,PartH,MATCH(G845,PartH!$B$4:$N$4,0),FALSE)","v":0},null,{"$f":"VLOOKUP(F845,Transfer!$U$19:$V$170,2,FALSE)","v":"H10e"},null,0.7855480161889171,0]
["202627-0-D-H10e","107_5",{"$f":"FrontPage!$N$2","v":{"v":1,"d":"1.0"}},"202627","CT1",{"$f":"VLOOKUP(J846,Transfer!$X$35:$Y$155,2,FALSE)","v":107},{"$f":"VLOOKUP(K846,Transfer!$X$19:$Y$30,2,FALSE)","v":5},0,0,106,"D",{"$f":"VLOOKUP(F846,PartH,MATCH(G846,PartH!$B$4:$N$4,0),FALSE)","v":0},null,{"$f":"VLOOKUP(F846,Transfer!$U$19:$V$170,2,FALSE)","v":"H10e"},null,0.43574020550836945,0]
["202627-0-E-H10e","107_6",{"$f":"FrontPage!$N$2","v":{"v":1,"d":"1.0"}},"202627","CT1",{"$f":"VLOOKUP(J847,Transfer!$X$35:$Y$155,2,FALSE)","v":107},{"$f":"VLOOKUP(K847,Transfer!$X$19:$Y$30,2,FALSE)","v":6},0,0,106,"E",{"$f":"VLOOKUP(F847,PartH,MATCH(G847,PartH!$B$4:$N$4,0),FALSE)","v":0},null,{"$f":"VLOOKUP(F847,Transfer!$U$19:$V$170,2,FALSE)","v":"H10e"},null,0.7251680513206366,0]
["202627-0-F-H10e","107_7",{"$f":"FrontPage!$N$2","v":{"v":1,"d":"1.0"}},"202627","CT1",{"$f":"VLOOKUP(J848,Transfer!$X$35:$Y$155,2,FALSE)","v":107},{"$f":"VLOOKUP(K848,Transfer!$X$19:$Y$30,2,FALSE)","v":7},0,0,106,"F",{"$f":"VLOOKUP(F848,PartH,MATCH(G848,PartH!$B$4:$N$4,0),FALSE)","v":0},null,{"$f":"VLOOKUP(F848,Transfer!$U$19:$V$170,2,FALSE)","v":"H10e"},null,0.11633303873511047,0]
["202627-0-G-H10e","107_8",{"$f":"FrontPage!$N$2","v":{"v":1,"d":"1.0"}},"202627","CT1",{"$f":"VLOOKUP(J849,Transfer!$X$35:$Y$155,2,FALSE)","v":107},{"$f":"VLOOKUP(K849,Transfer!$X$19:$Y$30,2,FALSE)","v":8},0,0,106,"G",{"$f":"VLOOKUP(F849,PartH,MATCH(G849,PartH!$B$4:$N$4,0),FALSE)","v":0},null,{"$f":"VLOOKUP(F849,Transfer!$U$19:$V$170,2,FALSE)","v":"H10e"},null,0.8517634690993175,0]
["202627-0-H-H10e","107_9",{"$f":"FrontPage!$N$2","v":{"v":1,"d":"1.0"}},"202627","CT1",{"$f":"VLOOKUP(J850,Transfer!$X$35:$Y$155,2,FALSE)","v":107},{"$f":"VLOOKUP(K850,Transfer!$X$19:$Y$30,2,FALSE)","v":9},0,0,106,"H",{"$f":"VLOOKUP(F850,PartH,MATCH(G850,PartH!$B$4:$N$4,0),FALSE)","v":0},null,{"$f":"VLOOKUP(F850,Transfer!$U$19:$V$170,2,FALSE)","v":"H10e"},null,0.20808249285820335,0]
["202627-0-I-H10e","107_10",{"$f":"FrontPage!$N$2","v":{"v":1,"d":"1.0"}},"202627","CT1",{"$f":"VLOOKUP(J851,Transfer!$X$35:$Y$155,2,FALSE)","v":107},{"$f":"VLOOKUP(K851,Transfer!$X$19:$Y$30,2,FALSE)","v":10},0,0,106,"I",{"$f":"VLOOKUP(F851,PartH,MATCH(G851,PartH!$B$4:$N$4,0),FALSE)","v":0},null,{"$f":"VLOOKUP(F851,Transfer!$U$19:$V$170,2,FALSE)","v":"H10e"},null,0.9997574188416907,0]
["202627-0-TOTAL-H10e","107_11",{"$f":"FrontPage!$N$2","v":{"v":1,"d":"1.0"}},"202627","CT1",{"$f":"VLOOKUP(J852,Transfer!$X$35:$Y$155,2,FALSE)","v":107},{"$f":"VLOOKUP(K852,Transfer!$X$19:$Y$30,2,FALSE)","v":11},0,0,106,"TOTAL",{"$f":"VLOOKUP(F852,PartH,MATCH(G852,PartH!$B$4:$N$4,0),FALSE)","v":0},null,{"$f":"VLOOKUP(F852,Transfer!$U$19:$V$170,2,FALSE)","v":"H10e"},null,0.1461590939159476,0]
["202627-0-%-H10f","108_12",{"$f":"FrontPage!$N$2","v":{"v":1,"d":"1.0"}},"202627","CT1",{"$f":"VLOOKUP(J853,Transfer!$X$35:$Y$155,2,FALSE)","v":108},{"$f":"VLOOKUP(K853,Transfer!$X$19:$Y$30,2,FALSE)","v":12},0,0,107,"%",{"$f":"VLOOKUP(F853,PartH,MATCH(G853,PartH!$B$4:$N$4,0),FALSE)","v":0},null,{"$f":"VLOOKUP(F853,Transfer!$U$19:$V$170,2,FALSE)","v":"H10f"},null,0.35382236727651983,0]
["202627-0-A-H10f","108_2",{"$f":"FrontPage!$N$2","v":{"v":1,"d":"1.0"}},"202627","CT1",{"$f":"VLOOKUP(J854,Transfer!$X$35:$Y$155,2,FALSE)","v":108},{"$f":"VLOOKUP(K854,Transfer!$X$19:$Y$30,2,FALSE)","v":2},0,0,107,"A",{"$f":"VLOOKUP(F854,PartH,MATCH(G854,PartH!$B$4:$N$4,0),FALSE)","v":0},null,{"$f":"VLOOKUP(F854,Transfer!$U$19:$V$170,2,FALSE)","v":"H10f"},null,0.7512678742789636,0]
["202627-0-B-H10f","108_3",{"$f":"FrontPage!$N$2","v":{"v":1,"d":"1.0"}},"202627","CT1",{"$f":"VLOOKUP(J855,Transfer!$X$35:$Y$155,2,FALSE)","v":108},{"$f":"VLOOKUP(K855,Transfer!$X$19:$Y$30,2,FALSE)","v":3},0,0,107,"B",{"$f":"VLOOKUP(F855,PartH,MATCH(G855,PartH!$B$4:$N$4,0),FALSE)","v":0},null,{"$f":"VLOOKUP(F855,Transfer!$U$19:$V$170,2,FALSE)","v":"H10f"},null,0.8309887133278421,0]
["202627-0-C-H10f","108_4",{"$f":"FrontPage!$N$2","v":{"v":1,"d":"1.0"}},"202627","CT1",{"$f":"VLOOKUP(J856,Transfer!$X$35:$Y$155,2,FALSE)","v":108},{"$f":"VLOOKUP(K856,Transfer!$X$19:$Y$30,2,FALSE)","v":4},0,0,107,"C",{"$f":"VLOOKUP(F856,PartH,MATCH(G856,PartH!$B$4:$N$4,0),FALSE)","v":0},null,{"$f":"VLOOKUP(F856,Transfer!$U$19:$V$170,2,FALSE)","v":"H10f"},null,0.7184932788067173,0]
[{"$f":"D857&\"-\"&H857&\"-\"&K857&\"-\"&N857","v":"202627-0-D-H10f"},{"$f":"F857&\"_\"&G857","v":"108_5"},{"$f":"FrontPage!$N$2","v":{"v":1,"d":"1.0"}},"202627","CT1",{"$f":"VLOOKUP(J857,Transfer!$X$35:$Y$155,2,FALSE)","v":108},{"$f":"VLOOKUP(K857,Transfer!$X$19:$Y$30,2,FALSE)","v":5},0,0,107,"D",{"$f":"VLOOKUP(F857,PartH,MATCH(G857,PartH!$B$4:$N$4,0),FALSE)","v":0},null,{"$f":"VLOOKUP(F857,Transfer!$U$19:$V$170,2,FALSE)","v":"H10f"},null,0.953772748391089,0]
["202627-0-E-H10f","108_6",{"$f":"FrontPage!$N$2","v":{"v":1,"d":"1.0"}},"202627","CT1",{"$f":"VLOOKUP(J858,Transfer!$X$35:$Y$155,2,FALSE)","v":108},{"$f":"VLOOKUP(K858,Transfer!$X$19:$Y$30,2,FALSE)","v":6},0,0,107,"E",{"$f":"VLOOKUP(F858,PartH,MATCH(G858,PartH!$B$4:$N$4,0),FALSE)","v":0},null,{"$f":"VLOOKUP(F858,Transfer!$U$19:$V$170,2,FALSE)","v":"H10f"},null,0.3418600137115182,0]
["202627-0-F-H10f","108_7",{"$f":"FrontPage!$N$2","v":{"v":1,"d":"1.0"}},"202627","CT1",{"$f":"VLOOKUP(J859,Transfer!$X$35:$Y$155,2,FALSE)","v":108},{"$f":"VLOOKUP(K859,Transfer!$X$19:$Y$30,2,FALSE)","v":7},0,0,107,"F",{"$f":"VLOOKUP(F859,PartH,MATCH(G859,PartH!$B$4:$N$4,0),FALSE)","v":0},null,{"$f":"VLOOKUP(F859,Transfer!$U$19:$V$170,2,FALSE)","v":"H10f"},null,0.992486180299447,0]
["202627-0-G-H10f","108_8",{"$f":"FrontPage!$N$2","v":{"v":1,"d":"1.0"}},"202627","CT1",{"$f":"VLOOKUP(J860,Transfer!$X$35:$Y$155,2,FALSE)","v":108},{"$f":"VLOOKUP(K860,Transfer!$X$19:$Y$30,2,FALSE)","v":8},0,{"$f":"L860","v":0},107,"G",{"$f":"VLOOKUP(F860,PartH,MATCH(G860,PartH!$B$4:$N$4,0),FALSE)","v":0},null,{"$f":"VLOOKUP(F860,Transfer!$U$19:$V$170,2,FALSE)","v":"H10f"},null,0.19440008685895827,0]
["202627-0-H-H10f","108_9",{"$f":"FrontPage!$N$2","v":{"v":1,"d":"1.0"}},"202627","CT1",{"$f":"VLOOKUP(J861,Transfer!$X$35:$Y$155,2,FALSE)","v":108},{"$f":"VLOOKUP(K861,Transfer!$X$19:$Y$30,2,FALSE)","v":9},0,0,107,"H",{"$f":"VLOOKUP(F861,PartH,MATCH(G861,PartH!$B$4:$N$4,0),FALSE)","v":0},null,{"$f":"VLOOKUP(F861,Transfer!$U$19:$V$170,2,FALSE)","v":"H10f"},null,0.8737026929317185,0]
["202627-0-I-H10f","108_10",{"$f":"FrontPage!$N$2","v":{"v":1,"d":"1.0"}},"202627","CT1",{"$f":"VLOOKUP(J862,Transfer!$X$35:$Y$155,2,FALSE)","v":108},{"$f":"VLOOKUP(K862,Transfer!$X$19:$Y$30,2,FALSE)","v":10},0,0,107,"I",{"$f":"VLOOKUP(F862,PartH,MATCH(G862,PartH!$B$4:$N$4,0),FALSE)","v":0},null,{"$f":"VLOOKUP(F862,Transfer!$U$19:$V$170,2,FALSE)","v":"H10f"},null,0.17249785436901133,0]
["202627-0-TOTAL-H10f","108_11",{"$f":"FrontPage!$N$2","v":{"v":1,"d":"1.0"}},"202627","CT1",{"$f":"VLOOKUP(J863,Transfer!$X$35:$Y$155,2,FALSE)","v":108},{"$f":"VLOOKUP(K863,Transfer!$X$19:$Y$30,2,FALSE)","v":11},0,0,107,"TOTAL",{"$f":"VLOOKUP(F863,PartH,MATCH(G863,PartH!$B$4:$N$4,0),FALSE)","v":0},null,{"$f":"VLOOKUP(F863,Transfer!$U$19:$V$170,2,FALSE)","v":"H10f"},null,0.7703147088526543,0]
["202627-0-%-H10fa","108.1_12",{"$f":"FrontPage!$N$2","v":{"v":1,"d":"1.0"}},"202627","CT1",{"$f":"VLOOKUP(J864,Transfer!$X$35:$Y$155,2,FALSE)","v":108.1},{"$f":"VLOOKUP(K864,Transfer!$X$19:$Y$30,2,FALSE)","v":12},0,{"$f":"L864","v":0},108.1,"%",{"$f":"VLOOKUP(F864,PartH,MATCH(G864,PartH!$B$4:$N$4,0),FALSE)","v":0},null,{"$f":"VLOOKUP(F864,Transfer!$U$19:$V$170,2,FALSE)","v":"H10fa"},null,0.9298234004195114,0]
["202627-0-A-H10fa","108.1_2",{"$f":"FrontPage!$N$2","v":{"v":1,"d":"1.0"}},"202627","CT1",{"$f":"VLOOKUP(J865,Transfer!$X$35:$Y$155,2,FALSE)","v":108.1},{"$f":"VLOOKUP(K865,Transfer!$X$19:$Y$30,2,FALSE)","v":2},0,0,108.1,"A",{"$f":"VLOOKUP(F865,PartH,MATCH(G865,PartH!$B$4:$N$4,0),FALSE)","v":0},null,{"$f":"VLOOKUP(F865,Transfer!$U$19:$V$170,2,FALSE)","v":"H10fa"},null,0.9690671033113664,0]
["202627-0-B-H10fa","108.1_3",{"$f":"FrontPage!$N$2","v":{"v":1,"d":"1.0"}},"202627","CT1",{"$f":"VLOOKUP(J866,Transfer!$X$35:$Y$155,2,FALSE)","v":108.1},{"$f":"VLOOKUP(K866,Transfer!$X$19:$Y$30,2,FALSE)","v":3},0,0,108.1,"B",{"$f":"VLOOKUP(F866,PartH,MATCH(G866,PartH!$B$4:$N$4,0),FALSE)","v":0},null,{"$f":"VLOOKUP(F866,Transfer!$U$19:$V$170,2,FALSE)","v":"H10fa"},null,0.16868584791351793,0]
["202627-0-C-H10fa","108.1_4",{"$f":"FrontPage!$N$2","v":{"v":1,"d":"1.0"}},"202627","CT1",{"$f":"VLOOKUP(J867,Transfer!$X$35:$Y$155,2,FALSE)","v":108.1},{"$f":"VLOOKUP(K867,Transfer!$X$19:$Y$30,2,FALSE)","v":4},0,0,108.1,"C",{"$f":"VLOOKUP(F867,PartH,MATCH(G867,PartH!$B$4:$N$4,0),FALSE)","v":0},null,{"$f":"VLOOKUP(F867,Transfer!$U$19:$V$170,2,FALSE)","v":"H10fa"},null,0.7584759937986543,0]
["202627-0-D-H10fa","108.1_5",{"$f":"FrontPage!$N$2","v":{"v":1,"d":"1.0"}},"202627","CT1",{"$f":"VLOOKUP(J868,Transfer!$X$35:$Y$155,2,FALSE)","v":108.1},{"$f":"VLOOKUP(K868,Transfer!$X$19:$Y$30,2,FALSE)","v":5},0,0,108.1,"D",{"$f":"VLOOKUP(F868,PartH,MATCH(G868,PartH!$B$4:$N$4,0),FALSE)","v":0},null,{"$f":"VLOOKUP(F868,Transfer!$U$19:$V$170,2,FALSE)","v":"H10fa"},null,0.7600553865991495,0]
["202627-0-E-H10fa","108.1_6",{"$f":"FrontPage!$N$2","v":{"v":1,"d":"1.0"}},"202627","CT1",{"$f":"VLOOKUP(J869,Transfer!$X$35:$Y$155,2,FALSE)","v":108.1},{"$f":"VLOOKUP(K869,Transfer!$X$19:$Y$30,2,FALSE)","v":6},0,0,108.1,"E",{"$f":"VLOOKUP(F869,PartH,MATCH(G869,PartH!$B$4:$N$4,0),FALSE)","v":0},null,{"$f":"VLOOKUP(F869,Transfer!$U$19:$V$170,2,FALSE)","v":"H10fa"},null,0.9162048803246234,0]
["202627-0-F-H10fa","108.1_7",{"$f":"FrontPage!$N$2","v":{"v":1,"d":"1.0"}},"202627","CT1",{"$f":"VLOOKUP(J870,Transfer!$X$35:$Y$155,2,FALSE)","v":108.1},{"$f":"VLOOKUP(K870,Transfer!$X$19:$Y$30,2,FALSE)","v":7},0,0,108.1,"F",{"$f":"VLOOKUP(F870,PartH,MATCH(G870,PartH!$B$4:$N$4,0),FALSE)","v":0},null,{"$f":"VLOOKUP(F870,Transfer!$U$19:$V$170,2,FALSE)","v":"H10fa"},null,0.9576706106053964,0]
["202627-0-G-H10fa","108.1_8",{"$f":"FrontPage!$N$2","v":{"v":1,"d":"1.0"}},"202627","CT1",{"$f":"VLOOKUP(J871,Transfer!$X$35:$Y$155,2,FALSE)","v":108.1},{"$f":"VLOOKUP(K871,Transfer!$X$19:$Y$30,2,FALSE)","v":8},0,0,108.1,"G",{"$f":"VLOOKUP(F871,PartH,MATCH(G871,PartH!$B$4:$N$4,0),FALSE)","v":0},null,{"$f":"VLOOKUP(F871,Transfer!$U$19:$V$170,2,FALSE)","v":"H10fa"},null,0.1654780096142291,0]
["202627-0-H-H10fa","108.1_9",{"$f":"FrontPage!$N$2","v":{"v":1,"d":"1.0"}},"202627","CT1",{"$f":"VLOOKUP(J872,Transfer!$X$35:$Y$155,2,FALSE)","v":108.1},{"$f":"VLOOKUP(K872,Transfer!$X$19:$Y$30,2,FALSE)","v":9},0,0,108.1,"H",{"$f":"VLOOKUP(F872,PartH,MATCH(G872,PartH!$B$4:$N$4,0),FALSE)","v":0},null,{"$f":"VLOOKUP(F872,Transfer!$U$19:$V$170,2,FALSE)","v":"H10fa"},null,0.014938585378249325,0]
["202627-0-I-H10fa","108.1_10",{"$f":"FrontPage!$N$2","v":{"v":1,"d":"1.0"}},"202627","CT1",{"$f":"VLOOKUP(J873,Transfer!$X$35:$Y$155,2,FALSE)","v":108.1},{"$f":"VLOOKUP(K873,Transfer!$X$19:$Y$30,2,FALSE)","v":10},0,0,108.1,"I",{"$f":"VLOOKUP(F873,PartH,MATCH(G873,PartH!$B$4:$N$4,0),FALSE)","v":0},null,{"$f":"VLOOKUP(F873,Transfer!$U$19:$V$170,2,FALSE)","v":"H10fa"},null,0.33488921525098736,0]
["202627-0-TOTAL-H10fa","108.1_11",{"$f":"FrontPage!$N$2","v":{"v":1,"d":"1.0"}},"202627","CT1",{"$f":"VLOOKUP(J874,Transfer!$X$35:$Y$155,2,FALSE)","v":108.1},{"$f":"VLOOKUP(K874,Transfer!$X$19:$Y$30,2,FALSE)","v":11},0,0,108.1,"TOTAL",{"$f":"VLOOKUP(F874,PartH,MATCH(G874,PartH!$B$4:$N$4,0),FALSE)","v":0},null,{"$f":"VLOOKUP(F874,Transfer!$U$19:$V$170,2,FALSE)","v":"H10fa"},null,0.6011318606712542,0]
["202627-0-%-H10fb","108.2_12",{"$f":"FrontPage!$N$2","v":{"v":1,"d":"1.0"}},"202627","CT1",{"$f":"VLOOKUP(J875,Transfer!$X$35:$Y$155,2,FALSE)","v":108.2},{"$f":"VLOOKUP(K875,Transfer!$X$19:$Y$30,2,FALSE)","v":12},0,0,108.2,"%",{"$f":"VLOOKUP(F875,PartH,MATCH(G875,PartH!$B$4:$N$4,0),FALSE)","v":0},null,{"$f":"VLOOKUP(F875,Transfer!$U$19:$V$170,2,FALSE)","v":"H10fb"},null,0.28974895731379546,0]
["202627-0-A-H10fb","108.2_2",{"$f":"FrontPage!$N$2","v":{"v":1,"d":"1.0"}},"202627","CT1",{"$f":"VLOOKUP(J876,Transfer!$X$35:$Y$155,2,FALSE)","v":108.2},{"$f":"VLOOKUP(K876,Transfer!$X$19:$Y$30,2,FALSE)","v":2},0,0,108.2,"A",{"$f":"VLOOKUP(F876,PartH,MATCH(G876,PartH!$B$4:$N$4,0),FALSE)","v":0},null,{"$f":"VLOOKUP(F876,Transfer!$U$19:$V$170,2,FALSE)","v":"H10fb"},null,0.18785716245118322,0]
["202627-0-B-H10fb","108.2_3",{"$f":"FrontPage!$N$2","v":{"v":1,"d":"1.0"}},"202627","CT1",{"$f":"VLOOKUP(J877,Transfer!$X$35:$Y$155,2,FALSE)","v":108.2},{"$f":"VLOOKUP(K877,Transfer!$X$19:$Y$30,2,FALSE)","v":3},0,0,108.2,"B",{"$f":"VLOOKUP(F877,PartH,MATCH(G877,PartH!$B$4:$N$4,0),FALSE)","v":0},null,{"$f":"VLOOKUP(F877,Transfer!$U$19:$V$170,2,FALSE)","v":"H10fb"},null,0.23475744220896788,0]
["202627-0-C-H10fb","108.2_4",{"$f":"FrontPage!$N$2","v":{"v":1,"d":"1.0"}},"202627","CT1",{"$f":"VLOOKUP(J878,Transfer!$X$35:$Y$155,2,FALSE)","v":108.2},{"$f":"VLOOKUP(K878,Transfer!$X$19:$Y$30,2,FALSE)","v":4},0,0,108.2,"C",{"$f":"VLOOKUP(F878,PartH,MATCH(G878,PartH!$B$4:$N$4,0),FALSE)","v":0},null,{"$f":"VLOOKUP(F878,Transfer!$U$19:$V$170,2,FALSE)","v":"H10fb"},null,0.20950390281415132,0]
["202627-0-D-H10fb","108.2_5",{"$f":"FrontPage!$N$2","v":{"v":1,"d":"1.0"}},"202627","CT1",{"$f":"VLOOKUP(J879,Transfer!$X$35:$Y$155,2,FALSE)","v":108.2},{"$f":"VLOOKUP(K879,Transfer!$X$19:$Y$30,2,FALSE)","v":5},0,0,108.2,"D",{"$f":"VLOOKUP(F879,PartH,MATCH(G879,PartH!$B$4:$N$4,0),FALSE)","v":0},null,{"$f":"VLOOKUP(F879,Transfer!$U$19:$V$170,2,FALSE)","v":"H10fb"},null,0.7422278590526158,0]
["202627-0-E-H10fb","108.2_6",{"$f":"FrontPage!$N$2","v":{"v":1,"d":"1.0"}},"202627","CT1",{"$f":"VLOOKUP(J880,Transfer!$X$35:$Y$155,2,FALSE)","v":108.2},{"$f":"VLOOKUP(K880,Transfer!$X$19:$Y$30,2,FALSE)","v":6},0,0,108.2,"E",{"$f":"VLOOKUP(F880,PartH,MATCH(G880,PartH!$B$4:$N$4,0),FALSE)","v":0},null,{"$f":"VLOOKUP(F880,Transfer!$U$19:$V$170,2,FALSE)","v":"H10fb"},null,0.14293189398016082,0]
["202627-0-F-H10fb","108.2_7",{"$f":"FrontPage!$N$2","v":{"v":1,"d":"1.0"}},"202627","CT1",{"$f":"VLOOKUP(J881,Transfer!$X$35:$Y$155,2,FALSE)","v":108.2},{"$f":"VLOOKUP(K881,Transfer!$X$19:$Y$30,2,FALSE)","v":7},0,0,108.2,"F",{"$f":"VLOOKUP(F881,PartH,MATCH(G881,PartH!$B$4:$N$4,0),FALSE)","v":0},null,{"$f":"VLOOKUP(F881,Transfer!$U$19:$V$170,2,FALSE)","v":"H10fb"},null,0.05468725869416269,0]
["202627-0-G-H10fb","108.2_8",{"$f":"FrontPage!$N$2","v":{"v":1,"d":"1.0"}},"202627","CT1",{"$f":"VLOOKUP(J882,Transfer!$X$35:$Y$155,2,FALSE)","v":108.2},{"$f":"VLOOKUP(K882,Transfer!$X$19:$Y$30,2,FALSE)","v":8},0,0,108.2,"G",{"$f":"VLOOKUP(F882,PartH,MATCH(G882,PartH!$B$4:$N$4,0),FALSE)","v":0},null,{"$f":"VLOOKUP(F882,Transfer!$U$19:$V$170,2,FALSE)","v":"H10fb"},null,0.637521815376093,0]
["202627-0-H-H10fb","108.2_9",{"$f":"FrontPage!$N$2","v":{"v":1,"d":"1.0"}},"202627","CT1",{"$f":"VLOOKUP(J883,Transfer!$X$35:$Y$155,2,FALSE)","v":108.2},{"$f":"VLOOKUP(K883,Transfer!$X$19:$Y$30,2,FALSE)","v":9},0,0,108.2,"H",{"$f":"VLOOKUP(F883,PartH,MATCH(G883,PartH!$B$4:$N$4,0),FALSE)","v":0},null,{"$f":"VLOOKUP(F883,Transfer!$U$19:$V$170,2,FALSE)","v":"H10fb"},null,0.10767714272594298,0]
["202627-0-I-H10fb","108.2_10",{"$f":"FrontPage!$N$2","v":{"v":1,"d":"1.0"}},"202627","CT1",{"$f":"VLOOKUP(J884,Transfer!$X$35:$Y$155,2,FALSE)","v":108.2},{"$f":"VLOOKUP(K884,Transfer!$X$19:$Y$30,2,FALSE)","v":10},0,0,108.2,"I",{"$f":"VLOOKUP(F884,PartH,MATCH(G884,PartH!$B$4:$N$4,0),FALSE)","v":0},null,{"$f":"VLOOKUP(F884,Transfer!$U$19:$V$170,2,FALSE)","v":"H10fb"},null,0.4450684604932207,0]
["202627-0-TOTAL-H10fb","108.2_11",{"$f":"FrontPage!$N$2","v":{"v":1,"d":"1.0"}},"202627","CT1",{"$f":"VLOOKUP(J885,Transfer!$X$35:$Y$155,2,FALSE)","v":108.2},{"$f":"VLOOKUP(K885,Transfer!$X$19:$Y$30,2,FALSE)","v":11},0,0,108.2,"TOTAL",{"$f":"VLOOKUP(F885,PartH,MATCH(G885,PartH!$B$4:$N$4,0),FALSE)","v":0},null,{"$f":"VLOOKUP(F885,Transfer!$U$19:$V$170,2,FALSE)","v":"H10fb"},null,0.2649634361594735,0]
["202627-0-A-H10g","109_2",{"$f":"FrontPage!$N$2","v":{"v":1,"d":"1.0"}},"202627","CT1",{"$f":"VLOOKUP(J886,Transfer!$X$35:$Y$155,2,FALSE)","v":109},{"$f":"VLOOKUP(K886,Transfer!$X$19:$Y$30,2,FALSE)","v":2},0,0,108,"A",{"$f":"VLOOKUP(F886,PartH,MATCH(G886,PartH!$B$4:$N$4,0),FALSE)","v":0},null,{"$f":"VLOOKUP(F886,Transfer!$U$19:$V$170,2,FALSE)","v":"H10g"},null,0.20483429276478404,0]
["202627-0-B-H10g","109_3",{"$f":"FrontPage!$N$2","v":{"v":1,"d":"1.0"}},"202627","CT1",{"$f":"VLOOKUP(J887,Transfer!$X$35:$Y$155,2,FALSE)","v":109},{"$f":"VLOOKUP(K887,Transfer!$X$19:$Y$30,2,FALSE)","v":3},0,0,108,"B",{"$f":"VLOOKUP(F887,PartH,MATCH(G887,PartH!$B$4:$N$4,0),FALSE)","v":0},null,{"$f":"VLOOKUP(F887,Transfer!$U$19:$V$170,2,FALSE)","v":"H10g"},null,0.8058730843611406,0]
["202627-0-C-H10g","109_4",{"$f":"FrontPage!$N$2","v":{"v":1,"d":"1.0"}},"202627","CT1",{"$f":"VLOOKUP(J888,Transfer!$X$35:$Y$155,2,FALSE)","v":109},{"$f":"VLOOKUP(K888,Transfer!$X$19:$Y$30,2,FALSE)","v":4},0,0,108,"C",{"$f":"VLOOKUP(F888,PartH,MATCH(G888,PartH!$B$4:$N$4,0),FALSE)","v":0},null,{"$f":"VLOOKUP(F888,Transfer!$U$19:$V$170,2,FALSE)","v":"H10g"},null,0.31034334927100526,0]
["202627-0-D-H10g","109_5",{"$f":"FrontPage!$N$2","v":{"v":1,"d":"1.0"}},"202627","CT1",{"$f":"VLOOKUP(J889,Transfer!$X$35:$Y$155,2,FALSE)","v":109},{"$f":"VLOOKUP(K889,Transfer!$X$19:$Y$30,2,FALSE)","v":5},0,0,108,"D",{"$f":"VLOOKUP(F889,PartH,MATCH(G889,PartH!$B$4:$N$4,0),FALSE)","v":0},null,{"$f":"VLOOKUP(F889,Transfer!$U$19:$V$170,2,FALSE)","v":"H10g"},null,0.6873070823822922,0]
["202627-0-E-H10g","109_6",{"$f":"FrontPage!$N$2","v":{"v":1,"d":"1.0"}},"202627","CT1",{"$f":"VLOOKUP(J890,Transfer!$X$35:$Y$155,2,FALSE)","v":109},{"$f":"VLOOKUP(K890,Transfer!$X$19:$Y$30,2,FALSE)","v":6},0,0,108,"E",{"$f":"VLOOKUP(F890,PartH,MATCH(G890,PartH!$B$4:$N$4,0),FALSE)","v":0},null,{"$f":"VLOOKUP(F890,Transfer!$U$19:$V$170,2,FALSE)","v":"H10g"},null,0.8507033725477524,0]
["202627-0-F-H10g","109_7",{"$f":"FrontPage!$N$2","v":{"v":1,"d":"1.0"}},"202627","CT1",{"$f":"VLOOKUP(J891,Transfer!$X$35:$Y$155,2,FALSE)","v":109},{"$f":"VLOOKUP(K891,Transfer!$X$19:$Y$30,2,FALSE)","v":7},0,0,108,"F",{"$f":"VLOOKUP(F891,PartH,MATCH(G891,PartH!$B$4:$N$4,0),FALSE)","v":0},null,{"$f":"VLOOKUP(F891,Transfer!$U$19:$V$170,2,FALSE)","v":"H10g"},null,0.7821570740558491,0]
["202627-0-G-H10g","109_8",{"$f":"FrontPage!$N$2","v":{"v":1,"d":"1.0"}},"202627","CT1",{"$f":"VLOOKUP(J892,Transfer!$X$35:$Y$155,2,FALSE)","v":109},{"$f":"VLOOKUP(K892,Transfer!$X$19:$Y$30,2,FALSE)","v":8},0,0,108,"G",{"$f":"VLOOKUP(F892,PartH,MATCH(G892,PartH!$B$4:$N$4,0),FALSE)","v":0},null,{"$f":"VLOOKUP(F892,Transfer!$U$19:$V$170,2,FALSE)","v":"H10g"},null,0.5300778081432975,0]
["202627-0-H-H10g","109_9",{"$f":"FrontPage!$N$2","v":{"v":1,"d":"1.0"}},"202627","CT1",{"$f":"VLOOKUP(J893,Transfer!$X$35:$Y$155,2,FALSE)","v":109},{"$f":"VLOOKUP(K893,Transfer!$X$19:$Y$30,2,FALSE)","v":9},0,0,108,"H",{"$f":"VLOOKUP(F893,PartH,MATCH(G893,PartH!$B$4:$N$4,0),FALSE)","v":0},null,{"$f":"VLOOKUP(F893,Transfer!$U$19:$V$170,2,FALSE)","v":"H10g"},null,0.6340809349669199,0]
["202627-0-I-H10g","109_10",{"$f":"FrontPage!$N$2","v":{"v":1,"d":"1.0"}},"202627","CT1",{"$f":"VLOOKUP(J894,Transfer!$X$35:$Y$155,2,FALSE)","v":109},{"$f":"VLOOKUP(K894,Transfer!$X$19:$Y$30,2,FALSE)","v":10},0,0,108,"I",{"$f":"VLOOKUP(F894,PartH,MATCH(G894,PartH!$B$4:$N$4,0),FALSE)","v":0},null,{"$f":"VLOOKUP(F894,Transfer!$U$19:$V$170,2,FALSE)","v":"H10g"},null,0.07698008603032624,0]
["202627-0-TOTAL-H10g","109_11",{"$f":"FrontPage!$N$2","v":{"v":1,"d":"1.0"}},"202627","CT1",{"$f":"VLOOKUP(J895,Transfer!$X$35:$Y$155,2,FALSE)","v":109},{"$f":"VLOOKUP(K895,Transfer!$X$19:$Y$30,2,FALSE)","v":11},0,0,108,"TOTAL",{"$f":"VLOOKUP(F895,PartH,MATCH(G895,PartH!$B$4:$N$4,0),FALSE)","v":0},null,{"$f":"VLOOKUP(F895,Transfer!$U$19:$V$170,2,FALSE)","v":"H10g"},null,0.5126477932210641,0]
["202627-0-%-H11b","111_12",{"$f":"FrontPage!$N$2","v":{"v":1,"d":"1.0"}},"202627","CT1",{"$f":"VLOOKUP(J896,Transfer!$X$35:$Y$155,2,FALSE)","v":111},{"$f":"VLOOKUP(K896,Transfer!$X$19:$Y$30,2,FALSE)","v":12},0,25,110,"%",{"$f":"VLOOKUP(F896,PartH,MATCH(G896,PartH!$B$4:$N$4,0),FALSE)","v":25},null,{"$f":"VLOOKUP(F896,Transfer!$U$19:$V$170,2,FALSE)","v":"H11b"},null,0.38610715095314985,9.652678773828747]
["202627-0-A-H11b","111_2",{"$f":"FrontPage!$N$2","v":{"v":1,"d":"1.0"}},"202627","CT1",{"$f":"VLOOKUP(J897,Transfer!$X$35:$Y$155,2,FALSE)","v":111},{"$f":"VLOOKUP(K897,Transfer!$X$19:$Y$30,2,FALSE)","v":2},0,0,110,"A",{"$f":"VLOOKUP(F897,PartH,MATCH(G897,PartH!$B$4:$N$4,0),FALSE)","v":0},null,{"$f":"VLOOKUP(F897,Transfer!$U$19:$V$170,2,FALSE)","v":"H11b"},null,0.9835121154494533,0]
["202627-0-B-H11b","111_3",{"$f":"FrontPage!$N$2","v":{"v":1,"d":"1.0"}},"202627","CT1",{"$f":"VLOOKUP(J898,Transfer!$X$35:$Y$155,2,FALSE)","v":111},{"$f":"VLOOKUP(K898,Transfer!$X$19:$Y$30,2,FALSE)","v":3},0,0,110,"B",{"$f":"VLOOKUP(F898,PartH,MATCH(G898,PartH!$B$4:$N$4,0),FALSE)","v":0},null,{"$f":"VLOOKUP(F898,Transfer!$U$19:$V$170,2,FALSE)","v":"H11b"},null,0.7821847903852203,{"$f":"+I898*P898","v":0}]
["202627-0-C-H11b","111_4",{"$f":"FrontPage!$N$2","v":{"v":1,"d":"1.0"}},"202627","CT1",{"$f":"VLOOKUP(J899,Transfer!$X$35:$Y$155,2,FALSE)","v":111},{"$f":"VLOOKUP(K899,Transfer!$X$19:$Y$30,2,FALSE)","v":4},0,0,110,"C",{"$f":"VLOOKUP(F899,PartH,MATCH(G899,PartH!$B$4:$N$4,0),FALSE)","v":0},null,{"$f":"VLOOKUP(F899,Transfer!$U$19:$V$170,2,FALSE)","v":"H11b"},null,0.8475698556087103,0]
["202627-0-D-H11b","111_5",{"$f":"FrontPage!$N$2","v":{"v":1,"d":"1.0"}},"202627","CT1",{"$f":"VLOOKUP(J900,Transfer!$X$35:$Y$155,2,FALSE)","v":111},{"$f":"VLOOKUP(K900,Transfer!$X$19:$Y$30,2,FALSE)","v":5},0,0,110,"D",{"$f":"VLOOKUP(F900,PartH,MATCH(G900,PartH!$B$4:$N$4,0),FALSE)","v":0},null,{"$f":"VLOOKUP(F900,Transfer!$U$19:$V$170,2,FALSE)","v":"H11b"},null,0.8681031629671181,0]
["202627-0-E-H11b","111_6",{"$f":"FrontPage!$N$2","v":{"v":1,"d":"1.0"}},"202627","CT1",{"$f":"VLOOKUP(J901,Transfer!$X$35:$Y$155,2,FALSE)","v":111},{"$f":"VLOOKUP(K901,Transfer!$X$19:$Y$30,2,FALSE)","v":6},0,0,110,"E",{"$f":"VLOOKUP(F901,PartH,MATCH(G901,PartH!$B$4:$N$4,0),FALSE)","v":0},null,{"$f":"VLOOKUP(F901,Transfer!$U$19:$V$170,2,FALSE)","v":"H11b"},null,0.6832792793976797,0]
["202627-0-F-H11b","111_7",{"$f":"FrontPage!$N$2","v":{"v":1,"d":"1.0"}},"202627","CT1",{"$f":"VLOOKUP(J902,Transfer!$X$35:$Y$155,2,FALSE)","v":111},{"$f":"VLOOKUP(K902,Transfer!$X$19:$Y$30,2,FALSE)","v":7},0,0,110,"F",{"$f":"VLOOKUP(F902,PartH,MATCH(G902,PartH!$B$4:$N$4,0),FALSE)","v":0},null,{"$f":"VLOOKUP(F902,Transfer!$U$19:$V$170,2,FALSE)","v":"H11b"},null,0.48291598435234306,0]
["202627-0-G-H11b","111_8",{"$f":"FrontPage!$N$2","v":{"v":1,"d":"1.0"}},"202627","CT1",{"$f":"VLOOKUP(J903,Transfer!$X$35:$Y$155,2,FALSE)","v":111},{"$f":"VLOOKUP(K903,Transfer!$X$19:$Y$30,2,FALSE)","v":8},0,0,110,"G",{"$f":"VLOOKUP(F903,PartH,MATCH(G903,PartH!$B$4:$N$4,0),FALSE)","v":0},null,{"$f":"VLOOKUP(F903,Transfer!$U$19:$V$170,2,FALSE)","v":"H11b"},null,0.7698896582771493,0]
["202627-0-H-H11b","111_9",{"$f":"FrontPage!$N$2","v":{"v":1,"d":"1.0"}},"202627","CT1",{"$f":"VLOOKUP(J904,Transfer!$X$35:$Y$155,2,FALSE)","v":111},{"$f":"VLOOKUP(K904,Transfer!$X$19:$Y$30,2,FALSE)","v":9},0,0,110,"H",{"$f":"VLOOKUP(F904,PartH,MATCH(G904,PartH!$B$4:$N$4,0),FALSE)","v":0},null,{"$f":"VLOOKUP(F904,Transfer!$U$19:$V$170,2,FALSE)","v":"H11b"},null,0.6296291156503759,0]
["202627-0-I-H11b","111_10",{"$f":"FrontPage!$N$2","v":{"v":1,"d":"1.0"}},"202627","CT1",{"$f":"VLOOKUP(J905,Transfer!$X$35:$Y$155,2,FALSE)","v":111},{"$f":"VLOOKUP(K905,Transfer!$X$19:$Y$30,2,FALSE)","v":10},0,0,110,"I",{"$f":"VLOOKUP(F905,PartH,MATCH(G905,PartH!$B$4:$N$4,0),FALSE)","v":0},null,{"$f":"VLOOKUP(F905,Transfer!$U$19:$V$170,2,FALSE)","v":"H11b"},null,0.31682534135112705,0]
["202627-0-TOTAL-H11b","111_11",{"$f":"FrontPage!$N$2","v":{"v":1,"d":"1.0"}},"202627","CT1",{"$f":"VLOOKUP(J906,Transfer!$X$35:$Y$155,2,FALSE)","v":111},{"$f":"VLOOKUP(K906,Transfer!$X$19:$Y$30,2,FALSE)","v":11},0,0,110,"TOTAL",{"$f":"VLOOKUP(F906,PartH,MATCH(G906,PartH!$B$4:$N$4,0),FALSE)","v":0},null,{"$f":"VLOOKUP(F906,Transfer!$U$19:$V$170,2,FALSE)","v":"H11b"},null,0.3274425052685065,0]
["202627-0-%-H11c","112_12",{"$f":"FrontPage!$N$2","v":{"v":1,"d":"1.0"}},"202627","CT1",{"$f":"VLOOKUP(J907,Transfer!$X$35:$Y$155,2,FALSE)","v":112},{"$f":"VLOOKUP(K907,Transfer!$X$19:$Y$30,2,FALSE)","v":12},0,50,111,"%",{"$f":"VLOOKUP(F907,PartH,MATCH(G907,PartH!$B$4:$N$4,0),FALSE)","v":50},null,{"$f":"VLOOKUP(F907,Transfer!$U$19:$V$170,2,FALSE)","v":"H11c"},null,0.7713228659397783,38.56614329698891]
["202627-0-A-H11c","112_2",{"$f":"FrontPage!$N$2","v":{"v":1,"d":"1.0"}},"202627","CT1",{"$f":"VLOOKUP(J908,Transfer!$X$35:$Y$155,2,FALSE)","v":112},{"$f":"VLOOKUP(K908,Transfer!$X$19:$Y$30,2,FALSE)","v":2},0,0,111,"A",{"$f":"VLOOKUP(F908,PartH,MATCH(G908,PartH!$B$4:$N$4,0),FALSE)","v":0},null,{"$f":"VLOOKUP(F908,Transfer!$U$19:$V$170,2,FALSE)","v":"H11c"},null,0.14635542944985258,0]
["202627-0-B-H11c","112_3",{"$f":"FrontPage!$N$2","v":{"v":1,"d":"1.0"}},"202627","CT1",{"$f":"VLOOKUP(J909,Transfer!$X$35:$Y$155,2,FALSE)","v":112},{"$f":"VLOOKUP(K909,Transfer!$X$19:$Y$30,2,FALSE)","v":3},0,0,111,"B",{"$f":"VLOOKUP(F909,PartH,MATCH(G909,PartH!$B$4:$N$4,0),FALSE)","v":0},null,{"$f":"VLOOKUP(F909,Transfer!$U$19:$V$170,2,FALSE)","v":"H11c"},null,0.6845030662108343,0]
["202627-0-C-H11c","112_4",{"$f":"FrontPage!$N$2","v":{"v":1,"d":"1.0"}},"202627","CT1",{"$f":"VLOOKUP(J910,Transfer!$X$35:$Y$155,2,FALSE)","v":112},{"$f":"VLOOKUP(K910,Transfer!$X$19:$Y$30,2,FALSE)","v":4},0,0,111,"C",{"$f":"VLOOKUP(F910,PartH,MATCH(G910,PartH!$B$4:$N$4,0),FALSE)","v":0},null,{"$f":"VLOOKUP(F910,Transfer!$U$19:$V$170,2,FALSE)","v":"H11c"},null,0.73896760689083,0]
["202627-0-D-H11c","112_5",{"$f":"FrontPage!$N$2","v":{"v":1,"d":"1.0"}},"202627","CT1",{"$f":"VLOOKUP(J911,Transfer!$X$35:$Y$155,2,FALSE)","v":112},{"$f":"VLOOKUP(K911,Transfer!$X$19:$Y$30,2,FALSE)","v":5},0,0,111,"D",{"$f":"VLOOKUP(F911,PartH,MATCH(G911,PartH!$B$4:$N$4,0),FALSE)","v":0},null,{"$f":"VLOOKUP(F911,Transfer!$U$19:$V$170,2,FALSE)","v":"H11c"},null,0.7732834875048519,0]
["202627-0-E-H11c","112_6",{"$f":"FrontPage!$N$2","v":{"v":1,"d":"1.0"}},"202627","CT1",{"$f":"VLOOKUP(J912,Transfer!$X$35:$Y$155,2,FALSE)","v":112},{"$f":"VLOOKUP(K912,Transfer!$X$19:$Y$30,2,FALSE)","v":6},0,0,111,"E",{"$f":"VLOOKUP(F912,PartH,MATCH(G912,PartH!$B$4:$N$4,0),FALSE)","v":0},null,{"$f":"VLOOKUP(F912,Transfer!$U$19:$V$170,2,FALSE)","v":"H11c"},null,0.3031300902058923,0]
["202627-0-F-H11c","112_7",{"$f":"FrontPage!$N$2","v":{"v":1,"d":"1.0"}},"202627","CT1",{"$f":"VLOOKUP(J913,Transfer!$X$35:$Y$155,2,FALSE)","v":112},{"$f":"VLOOKUP(K913,Transfer!$X$19:$Y$30,2,FALSE)","v":7},0,0,111,"F",{"$f":"VLOOKUP(F913,PartH,MATCH(G913,PartH!$B$4:$N$4,0),FALSE)","v":0},null,{"$f":"VLOOKUP(F913,Transfer!$U$19:$V$170,2,FALSE)","v":"H11c"},null,0.1672775088565538,0]
["202627-0-G-H11c","112_8",{"$f":"FrontPage!$N$2","v":{"v":1,"d":"1.0"}},"202627","CT1",{"$f":"VLOOKUP(J914,Transfer!$X$35:$Y$155,2,FALSE)","v":112},{"$f":"VLOOKUP(K914,Transfer!$X$19:$Y$30,2,FALSE)","v":8},0,0,111,"G",{"$f":"VLOOKUP(F914,PartH,MATCH(G914,PartH!$B$4:$N$4,0),FALSE)","v":0},null,{"$f":"VLOOKUP(F914,Transfer!$U$19:$V$170,2,FALSE)","v":"H11c"},null,0.0556106243359743,0]
["202627-0-H-H11c","112_9",{"$f":"FrontPage!$N$2","v":{"v":1,"d":"1.0"}},"202627","CT1",{"$f":"VLOOKUP(J915,Transfer!$X$35:$Y$155,2,FALSE)","v":112},{"$f":"VLOOKUP(K915,Transfer!$X$19:$Y$30,2,FALSE)","v":9},0,0,111,"H",{"$f":"VLOOKUP(F915,PartH,MATCH(G915,PartH!$B$4:$N$4,0),FALSE)","v":0},null,{"$f":"VLOOKUP(F915,Transfer!$U$19:$V$170,2,FALSE)","v":"H11c"},null,0.6775053898609218,0]
["202627-0-I-H11c","112_10",{"$f":"FrontPage!$N$2","v":{"v":1,"d":"1.0"}},"202627","CT1",{"$f":"VLOOKUP(J916,Transfer!$X$35:$Y$155,2,FALSE)","v":112},{"$f":"VLOOKUP(K916,Transfer!$X$19:$Y$30,2,FALSE)","v":10},0,0,111,"I",{"$f":"VLOOKUP(F916,PartH,MATCH(G916,PartH!$B$4:$N$4,0),FALSE)","v":0},null,{"$f":"VLOOKUP(F916,Transfer!$U$19:$V$170,2,FALSE)","v":"H11c"},null,0.7677180401216354,0]
["202627-0-TOTAL-H11c","112_11",{"$f":"FrontPage!$N$2","v":{"v":1,"d":"1.0"}},{"$f":"$W$2","v":"202627"},"CT1",{"$f":"VLOOKUP(J917,Transfer!$X$35:$Y$155,2,FALSE)","v":112},{"$f":"VLOOKUP(K917,Transfer!$X$19:$Y$30,2,FALSE)","v":11},{"$f":"uanumber","v":0},0,111,"TOTAL",{"$f":"VLOOKUP(F917,PartH,MATCH(G917,PartH!$B$4:$N$4,0),FALSE)","v":0},null,{"$f":"VLOOKUP(F917,Transfer!$U$19:$V$170,2,FALSE)","v":"H11c"},null,0.4597983506797978,0]
["202627-0-%-H11e","114_12",{"$f":"FrontPage!$N$2","v":{"v":1,"d":"1.0"}},"202627",{"$f":"$E$2","v":"CT1"},{"$f":"VLOOKUP(J918,Transfer!$X$35:$Y$155,2,FALSE)","v":114},{"$f":"VLOOKUP(K918,Transfer!$X$19:$Y$30,2,FALSE)","v":12},0,100,113,"%",{"$f":"VLOOKUP(F918,PartH,MATCH(G918,PartH!$B$4:$N$4,0),FALSE)","v":100},null,{"$f":"VLOOKUP(F918,Transfer!$U$19:$V$170,2,FALSE)","v":"H11e"},null,0.3268570191561291,32.68570191561291]
["202627-0-A-H11e","114_2",{"$f":"FrontPage!$N$2","v":{"v":1,"d":"1.0"}},"202627","CT1",{"$f":"VLOOKUP(J919,Transfer!$X$35:$Y$155,2,FALSE)","v":114},{"$f":"VLOOKUP(K919,Transfer!$X$19:$Y$30,2,FALSE)","v":2},0,0,113,"A",{"$f":"VLOOKUP(F919,PartH,MATCH(G919,PartH!$B$4:$N$4,0),FALSE)","v":0},null,{"$f":"VLOOKUP(F919,Transfer!$U$19:$V$170,2,FALSE)","v":"H11e"},null,0.08152005445195276,0]
["202627-0-B-H11e","114_3",{"$f":"FrontPage!$N$2","v":{"v":1,"d":"1.0"}},"202627","CT1",{"$f":"VLOOKUP(J920,Transfer!$X$35:$Y$155,2,FALSE)","v":114},{"$f":"VLOOKUP(K920,Transfer!$X$19:$Y$30,2,FALSE)","v":3},0,0,113,"B",{"$f":"VLOOKUP(F920,PartH,MATCH(G920,PartH!$B$4:$N$4,0),FALSE)","v":0},null,{"$f":"VLOOKUP(F920,Transfer!$U$19:$V$170,2,FALSE)","v":"H11e"},null,0.1394242521254414,0]
[{"$f":"D921&\"-\"&H921&\"-\"&K921&\"-\"&N921","v":"202627-0-C-H11e"},{"$f":"F921&\"_\"&G921","v":"114_4"},{"$f":"FrontPage!$N$2","v":{"v":1,"d":"1.0"}},"202627","CT1",{"$f":"VLOOKUP(J921,Transfer!$X$35:$Y$155,2,FALSE)","v":114},{"$f":"VLOOKUP(K921,Transfer!$X$19:$Y$30,2,FALSE)","v":4},0,0,113,"C",{"$f":"VLOOKUP(F921,PartH,MATCH(G921,PartH!$B$4:$N$4,0),FALSE)","v":0},null,{"$f":"VLOOKUP(F921,Transfer!$U$19:$V$170,2,FALSE)","v":"H11e"},null,0.014172553616556671,0]
["202627-0-D-H11e","114_5",{"$f":"FrontPage!$N$2","v":{"v":1,"d":"1.0"}},"202627","CT1",{"$f":"VLOOKUP(J922,Transfer!$X$35:$Y$155,2,FALSE)","v":114},{"$f":"VLOOKUP(K922,Transfer!$X$19:$Y$30,2,FALSE)","v":5},0,0,113,"D",{"$f":"VLOOKUP(F922,PartH,MATCH(G922,PartH!$B$4:$N$4,0),FALSE)","v":0},null,{"$f":"VLOOKUP(F922,Transfer!$U$19:$V$170,2,FALSE)","v":"H11e"},null,0.8255051900267034,0]
["202627-0-E-H11e","114_6",{"$f":"FrontPage!$N$2","v":{"v":1,"d":"1.0"}},"202627","CT1",{"$f":"VLOOKUP(J923,Transfer!$X$35:$Y$155,2,FALSE)","v":114},{"$f":"VLOOKUP(K923,Transfer!$X$19:$Y$30,2,FALSE)","v":6},0,0,113,"E",{"$f":"VLOOKUP(F923,PartH,MATCH(G923,PartH!$B$4:$N$4,0),FALSE)","v":0},null,{"$f":"VLOOKUP(F923,Transfer!$U$19:$V$170,2,FALSE)","v":"H11e"},null,0.31191782675124946,0]
["202627-0-F-H11e","114_7",{"$f":"FrontPage!$N$2","v":{"v":1,"d":"1.0"}},"202627","CT1",{"$f":"VLOOKUP(J924,Transfer!$X$35:$Y$155,2,FALSE)","v":114},{"$f":"VLOOKUP(K924,Transfer!$X$19:$Y$30,2,FALSE)","v":7},0,{"$f":"L924","v":0},113,"F",{"$f":"VLOOKUP(F924,PartH,MATCH(G924,PartH!$B$4:$N$4,0),FALSE)","v":0},null,{"$f":"VLOOKUP(F924,Transfer!$U$19:$V$170,2,FALSE)","v":"H11e"},null,0.5543300310096343,0]
["202627-0-G-H11e","114_8",{"$f":"FrontPage!$N$2","v":{"v":1,"d":"1.0"}},"202627","CT1",{"$f":"VLOOKUP(J925,Transfer!$X$35:$Y$155,2,FALSE)","v":114},{"$f":"VLOOKUP(K925,Transfer!$X$19:$Y$30,2,FALSE)","v":8},0,0,113,"G",{"$f":"VLOOKUP(F925,PartH,MATCH(G925,PartH!$B$4:$N$4,0),FALSE)","v":0},null,{"$f":"VLOOKUP(F925,Transfer!$U$19:$V$170,2,FALSE)","v":"H11e"},null,0.7333518342059592,0]
["202627-0-H-H11e","114_9",{"$f":"FrontPage!$N$2","v":{"v":1,"d":"1.0"}},"202627","CT1",{"$f":"VLOOKUP(J926,Transfer!$X$35:$Y$155,2,FALSE)","v":114},{"$f":"VLOOKUP(K926,Transfer!$X$19:$Y$30,2,FALSE)","v":9},0,0,113,"H",{"$f":"VLOOKUP(F926,PartH,MATCH(G926,PartH!$B$4:$N$4,0),FALSE)","v":0},null,{"$f":"VLOOKUP(F926,Transfer!$U$19:$V$170,2,FALSE)","v":"H11e"},null,0.9039267923926484,0]
["202627-0-I-H11e","114_10",{"$f":"FrontPage!$N$2","v":{"v":1,"d":"1.0"}},"202627","CT1",{"$f":"VLOOKUP(J927,Transfer!$X$35:$Y$155,2,FALSE)","v":114},{"$f":"VLOOKUP(K927,Transfer!$X$19:$Y$30,2,FALSE)","v":10},0,0,113,"I",{"$f":"VLOOKUP(F927,PartH,MATCH(G927,PartH!$B$4:$N$4,0),FALSE)","v":0},null,{"$f":"VLOOKUP(F927,Transfer!$U$19:$V$170,2,FALSE)","v":"H11e"},null,0.7394340889850436,0]
["202627-0-TOTAL-H11e","114_11",{"$f":"FrontPage!$N$2","v":{"v":1,"d":"1.0"}},"202627","CT1",{"$f":"VLOOKUP(J928,Transfer!$X$35:$Y$155,2,FALSE)","v":114},{"$f":"VLOOKUP(K928,Transfer!$X$19:$Y$30,2,FALSE)","v":11},0,0,113,"TOTAL",{"$f":"VLOOKUP(F928,PartH,MATCH(G928,PartH!$B$4:$N$4,0),FALSE)","v":0},null,{"$f":"VLOOKUP(F928,Transfer!$U$19:$V$170,2,FALSE)","v":"H11e"},null,0.04417729494089728,0]
["202627-0-%-H11f","115_12",{"$f":"FrontPage!$N$2","v":{"v":1,"d":"1.0"}},"202627","CT1",{"$f":"VLOOKUP(J929,Transfer!$X$35:$Y$155,2,FALSE)","v":115},{"$f":"VLOOKUP(K929,Transfer!$X$19:$Y$30,2,FALSE)","v":12},0,0,114,"%",{"$f":"VLOOKUP(F929,PartH,MATCH(G929,PartH!$B$4:$N$4,0),FALSE)","v":0},null,{"$f":"VLOOKUP(F929,Transfer!$U$19:$V$170,2,FALSE)","v":"H11f"},null,0.5178280573635722,0]
["202627-0-A-H11f","115_2",{"$f":"FrontPage!$N$2","v":{"v":1,"d":"1.0"}},"202627","CT1",{"$f":"VLOOKUP(J930,Transfer!$X$35:$Y$155,2,FALSE)","v":115},{"$f":"VLOOKUP(K930,Transfer!$X$19:$Y$30,2,FALSE)","v":2},0,0,114,"A",{"$f":"VLOOKUP(F930,PartH,MATCH(G930,PartH!$B$4:$N$4,0),FALSE)","v":0},null,{"$f":"VLOOKUP(F930,Transfer!$U$19:$V$170,2,FALSE)","v":"H11f"},null,0.2562960537672251,0]
["202627-0-B-H11f","115_3",{"$f":"FrontPage!$N$2","v":{"v":1,"d":"1.0"}},"202627","CT1",{"$f":"VLOOKUP(J931,Transfer!$X$35:$Y$155,2,FALSE)","v":115},{"$f":"VLOOKUP(K931,Transfer!$X$19:$Y$30,2,FALSE)","v":3},0,0,114,"B",{"$f":"VLOOKUP(F931,PartH,MATCH(G931,PartH!$B$4:$N$4,0),FALSE)","v":0},null,{"$f":"VLOOKUP(F931,Transfer!$U$19:$V$170,2,FALSE)","v":"H11f"},null,0.4777698931844794,0]
["202627-0-C-H11f","115_4",{"$f":"FrontPage!$N$2","v":{"v":1,"d":"1.0"}},"202627","CT1",{"$f":"VLOOKUP(J932,Transfer!$X$35:$Y$155,2,FALSE)","v":115},{"$f":"VLOOKUP(K932,Transfer!$X$19:$Y$30,2,FALSE)","v":4},0,0,114,"C",{"$f":"VLOOKUP(F932,PartH,MATCH(G932,PartH!$B$4:$N$4,0),FALSE)","v":0},null,{"$f":"VLOOKUP(F932,Transfer!$U$19:$V$170,2,FALSE)","v":"H11f"},null,0.1583346725313548,0]
["202627-0-D-H11f","115_5",{"$f":"FrontPage!$N$2","v":{"v":1,"d":"1.0"}},"202627","CT1",{"$f":"VLOOKUP(J933,Transfer!$X$35:$Y$155,2,FALSE)","v":115},{"$f":"VLOOKUP(K933,Transfer!$X$19:$Y$30,2,FALSE)","v":5},0,0,114,"D",{"$f":"VLOOKUP(F933,PartH,MATCH(G933,PartH!$B$4:$N$4,0),FALSE)","v":0},null,{"$f":"VLOOKUP(F933,Transfer!$U$19:$V$170,2,FALSE)","v":"H11f"},null,0.5720447925386973,0]
["202627-0-E-H11f","115_6",{"$f":"FrontPage!$N$2","v":{"v":1,"d":"1.0"}},"202627","CT1",{"$f":"VLOOKUP(J934,Transfer!$X$35:$Y$155,2,FALSE)","v":115},{"$f":"VLOOKUP(K934,Transfer!$X$19:$Y$30,2,FALSE)","v":6},0,0,114,"E",{"$f":"VLOOKUP(F934,PartH,MATCH(G934,PartH!$B$4:$N$4,0),FALSE)","v":0},null,{"$f":"VLOOKUP(F934,Transfer!$U$19:$V$170,2,FALSE)","v":"H11f"},null,0.9207827762529891,0]
["202627-0-F-H11f","115_7",{"$f":"FrontPage!$N$2","v":{"v":1,"d":"1.0"}},"202627","CT1",{"$f":"VLOOKUP(J935,Transfer!$X$35:$Y$155,2,FALSE)","v":115},{"$f":"VLOOKUP(K935,Transfer!$X$19:$Y$30,2,FALSE)","v":7},0,0,114,"F",{"$f":"VLOOKUP(F935,PartH,MATCH(G935,PartH!$B$4:$N$4,0),FALSE)","v":0},null,{"$f":"VLOOKUP(F935,Transfer!$U$19:$V$170,2,FALSE)","v":"H11f"},null,0.002526347276762264,0]
["202627-0-G-H11f","115_8",{"$f":"FrontPage!$N$2","v":{"v":1,"d":"1.0"}},"202627","CT1",{"$f":"VLOOKUP(J936,Transfer!$X$35:$Y$155,2,FALSE)","v":115},{"$f":"VLOOKUP(K936,Transfer!$X$19:$Y$30,2,FALSE)","v":8},0,0,114,"G",{"$f":"VLOOKUP(F936,PartH,MATCH(G936,PartH!$B$4:$N$4,0),FALSE)","v":0},null,{"$f":"VLOOKUP(F936,Transfer!$U$19:$V$170,2,FALSE)","v":"H11f"},null,0.47731665345119123,0]
["202627-0-H-H11f","115_9",{"$f":"FrontPage!$N$2","v":{"v":1,"d":"1.0"}},"202627","CT1",{"$f":"VLOOKUP(J937,Transfer!$X$35:$Y$155,2,FALSE)","v":115},{"$f":"VLOOKUP(K937,Transfer!$X$19:$Y$30,2,FALSE)","v":9},0,0,114,"H",{"$f":"VLOOKUP(F937,PartH,MATCH(G937,PartH!$B$4:$N$4,0),FALSE)","v":0},null,{"$f":"VLOOKUP(F937,Transfer!$U$19:$V$170,2,FALSE)","v":"H11f"},null,0.00994093822253228,0]
["202627-0-I-H11f","115_10",{"$f":"FrontPage!$N$2","v":{"v":1,"d":"1.0"}},"202627","CT1",{"$f":"VLOOKUP(J938,Transfer!$X$35:$Y$155,2,FALSE)","v":115},{"$f":"VLOOKUP(K938,Transfer!$X$19:$Y$30,2,FALSE)","v":10},0,0,114,"I",{"$f":"VLOOKUP(F938,PartH,MATCH(G938,PartH!$B$4:$N$4,0),FALSE)","v":0},null,{"$f":"VLOOKUP(F938,Transfer!$U$19:$V$170,2,FALSE)","v":"H11f"},null,0.33196269057277406,0]
["202627-0-TOTAL-H11f","115_11",{"$f":"FrontPage!$N$2","v":{"v":1,"d":"1.0"}},"202627","CT1",{"$f":"VLOOKUP(J939,Transfer!$X$35:$Y$155,2,FALSE)","v":115},{"$f":"VLOOKUP(K939,Transfer!$X$19:$Y$30,2,FALSE)","v":11},0,0,114,"TOTAL",{"$f":"VLOOKUP(F939,PartH,MATCH(G939,PartH!$B$4:$N$4,0),FALSE)","v":0},null,{"$f":"VLOOKUP(F939,Transfer!$U$19:$V$170,2,FALSE)","v":"H11f"},null,0.4215462357187655,0]
["202627-0-%-H11fa","115.1_12",{"$f":"FrontPage!$N$2","v":{"v":1,"d":"1.0"}},"202627","CT1",{"$f":"VLOOKUP(J940,Transfer!$X$35:$Y$155,2,FALSE)","v":115.1},{"$f":"VLOOKUP(K940,Transfer!$X$19:$Y$30,2,FALSE)","v":12},0,{"$f":"L940","v":0},115.1,"%",{"$f":"VLOOKUP(F940,PartH,MATCH(G940,PartH!$B$4:$N$4,0),FALSE)","v":0},null,{"$f":"VLOOKUP(F940,Transfer!$U$19:$V$170,2,FALSE)","v":"H11fa"},null,0.28251960620214467,0]
["202627-0-A-H11fa","115.1_2",{"$f":"FrontPage!$N$2","v":{"v":1,"d":"1.0"}},"202627","CT1",{"$f":"VLOOKUP(J941,Transfer!$X$35:$Y$155,2,FALSE)","v":115.1},{"$f":"VLOOKUP(K941,Transfer!$X$19:$Y$30,2,FALSE)","v":2},0,0,115.1,"A",{"$f":"VLOOKUP(F941,PartH,MATCH(G941,PartH!$B$4:$N$4,0),FALSE)","v":0},null,{"$f":"VLOOKUP(F941,Transfer!$U$19:$V$170,2,FALSE)","v":"H11fa"},null,0.6422292351616454,0]
["202627-0-B-H11fa","115.1_3",{"$f":"FrontPage!$N$2","v":{"v":1,"d":"1.0"}},"202627","CT1",{"$f":"VLOOKUP(J942,Transfer!$X$35:$Y$155,2,FALSE)","v":115.1},{"$f":"VLOOKUP(K942,Transfer!$X$19:$Y$30,2,FALSE)","v":3},0,0,115.1,"B",{"$f":"VLOOKUP(F942,PartH,MATCH(G942,PartH!$B$4:$N$4,0),FALSE)","v":0},null,{"$f":"VLOOKUP(F942,Transfer!$U$19:$V$170,2,FALSE)","v":"H11fa"},null,0.12253253237730122,0]
["202627-0-C-H11fa","115.1_4",{"$f":"FrontPage!$N$2","v":{"v":1,"d":"1.0"}},"202627","CT1",{"$f":"VLOOKUP(J943,Transfer!$X$35:$Y$155,2,FALSE)","v":115.1},{"$f":"VLOOKUP(K943,Transfer!$X$19:$Y$30,2,FALSE)","v":4},0,0,115.1,"C",{"$f":"VLOOKUP(F943,PartH,MATCH(G943,PartH!$B$4:$N$4,0),FALSE)","v":0},null,{"$f":"VLOOKUP(F943,Transfer!$U$19:$V$170,2,FALSE)","v":"H11fa"},null,0.3049822726271565,0]
["202627-0-D-H11fa","115.1_5",{"$f":"FrontPage!$N$2","v":{"v":1,"d":"1.0"}},"202627","CT1",{"$f":"VLOOKUP(J944,Transfer!$X$35:$Y$155,2,FALSE)","v":115.1},{"$f":"VLOOKUP(K944,Transfer!$X$19:$Y$30,2,FALSE)","v":5},0,0,115.1,"D",{"$f":"VLOOKUP(F944,PartH,MATCH(G944,PartH!$B$4:$N$4,0),FALSE)","v":0},null,{"$f":"VLOOKUP(F944,Transfer!$U$19:$V$170,2,FALSE)","v":"H11fa"},null,0.7956722946770756,0]
["202627-0-E-H11fa","115.1_6",{"$f":"FrontPage!$N$2","v":{"v":1,"d":"1.0"}},"202627","CT1",{"$f":"VLOOKUP(J945,Transfer!$X$35:$Y$155,2,FALSE)","v":115.1},{"$f":"VLOOKUP(K945,Transfer!$X$19:$Y$30,2,FALSE)","v":6},0,0,115.1,"E",{"$f":"VLOOKUP(F945,PartH,MATCH(G945,PartH!$B$4:$N$4,0),FALSE)","v":0},null,{"$f":"VLOOKUP(F945,Transfer!$U$19:$V$170,2,FALSE)","v":"H11fa"},null,0.15068953170471766,0]
["202627-0-F-H11fa","115.1_7",{"$f":"FrontPage!$N$2","v":{"v":1,"d":"1.0"}},"202627","CT1",{"$f":"VLOOKUP(J946,Transfer!$X$35:$Y$155,2,FALSE)","v":115.1},{"$f":"VLOOKUP(K946,Transfer!$X$19:$Y$30,2,FALSE)","v":7},0,0,115.1,"F",{"$f":"VLOOKUP(F946,PartH,MATCH(G946,PartH!$B$4:$N$4,0),FALSE)","v":0},null,{"$f":"VLOOKUP(F946,Transfer!$U$19:$V$170,2,FALSE)","v":"H11fa"},null,0.6152444131907658,0]
["202627-0-G-H11fa","115.1_8",{"$f":"FrontPage!$N$2","v":{"v":1,"d":"1.0"}},"202627","CT1",{"$f":"VLOOKUP(J947,Transfer!$X$35:$Y$155,2,FALSE)","v":115.1},{"$f":"VLOOKUP(K947,Transfer!$X$19:$Y$30,2,FALSE)","v":8},0,0,115.1,"G",{"$f":"VLOOKUP(F947,PartH,MATCH(G947,PartH!$B$4:$N$4,0),FALSE)","v":0},null,{"$f":"VLOOKUP(F947,Transfer!$U$19:$V$170,2,FALSE)","v":"H11fa"},null,0.4845247727567369,0]
["202627-0-H-H11fa","115.1_9",{"$f":"FrontPage!$N$2","v":{"v":1,"d":"1.0"}},"202627","CT1",{"$f":"VLOOKUP(J948,Transfer!$X$35:$Y$155,2,FALSE)","v":115.1},{"$f":"VLOOKUP(K948,Transfer!$X$19:$Y$30,2,FALSE)","v":9},0,0,115.1,"H",{"$f":"VLOOKUP(F948,PartH,MATCH(G948,PartH!$B$4:$N$4,0),FALSE)","v":0},null,{"$f":"VLOOKUP(F948,Transfer!$U$19:$V$170,2,FALSE)","v":"H11fa"},null,0.19371275653440068,0]
["202627-0-I-H11fa","115.1_10",{"$f":"FrontPage!$N$2","v":{"v":1,"d":"1.0"}},"202627","CT1",{"$f":"VLOOKUP(J949,Transfer!$X$35:$Y$155,2,FALSE)","v":115.1},{"$f":"VLOOKUP(K949,Transfer!$X$19:$Y$30,2,FALSE)","v":10},0,0,115.1,"I",{"$f":"VLOOKUP(F949,PartH,MATCH(G949,PartH!$B$4:$N$4,0),FALSE)","v":0},null,{"$f":"VLOOKUP(F949,Transfer!$U$19:$V$170,2,FALSE)","v":"H11fa"},null,0.8454368819460051,0]
["202627-0-TOTAL-H11fa","115.1_11",{"$f":"FrontPage!$N$2","v":{"v":1,"d":"1.0"}},"202627","CT1",{"$f":"VLOOKUP(J950,Transfer!$X$35:$Y$155,2,FALSE)","v":115.1},{"$f":"VLOOKUP(K950,Transfer!$X$19:$Y$30,2,FALSE)","v":11},0,0,115.1,"TOTAL",{"$f":"VLOOKUP(F950,PartH,MATCH(G950,PartH!$B$4:$N$4,0),FALSE)","v":0},null,{"$f":"VLOOKUP(F950,Transfer!$U$19:$V$170,2,FALSE)","v":"H11fa"},null,0.3085953861047622,0]
["202627-0-%-H11fb","115.2_12",{"$f":"FrontPage!$N$2","v":{"v":1,"d":"1.0"}},"202627","CT1",{"$f":"VLOOKUP(J951,Transfer!$X$35:$Y$155,2,FALSE)","v":115.2},{"$f":"VLOOKUP(K951,Transfer!$X$19:$Y$30,2,FALSE)","v":12},0,0,115.2,"%",{"$f":"VLOOKUP(F951,PartH,MATCH(G951,PartH!$B$4:$N$4,0),FALSE)","v":0},null,{"$f":"VLOOKUP(F951,Transfer!$U$19:$V$170,2,FALSE)","v":"H11fb"},null,0.9826693940224859,0]
["202627-0-A-H11fb","115.2_2",{"$f":"FrontPage!$N$2","v":{"v":1,"d":"1.0"}},"202627","CT1",{"$f":"VLOOKUP(J952,Transfer!$X$35:$Y$155,2,FALSE)","v":115.2},{"$f":"VLOOKUP(K952,Transfer!$X$19:$Y$30,2,FALSE)","v":2},0,0,115.2,"A",{"$f":"VLOOKUP(F952,PartH,MATCH(G952,PartH!$B$4:$N$4,0),FALSE)","v":0},null,{"$f":"VLOOKUP(F952,Transfer!$U$19:$V$170,2,FALSE)","v":"H11fb"},null,0.6435870845847618,0]
["202627-0-B-H11fb","115.2_3",{"$f":"FrontPage!$N$2","v":{"v":1,"d":"1.0"}},"202627","CT1",{"$f":"VLOOKUP(J953,Transfer!$X$35:$Y$155,2,FALSE)","v":115.2},{"$f":"VLOOKUP(K953,Transfer!$X$19:$Y$30,2,FALSE)","v":3},0,0,115.2,"B",{"$f":"VLOOKUP(F953,PartH,MATCH(G953,PartH!$B$4:$N$4,0),FALSE)","v":0},null,{"$f":"VLOOKUP(F953,Transfer!$U$19:$V$170,2,FALSE)","v":"H11fb"},null,0.5174090892683091,0]
["202627-0-C-H11fb","115.2_4",{"$f":"FrontPage!$N$2","v":{"v":1,"d":"1.0"}},"202627","CT1",{"$f":"VLOOKUP(J954,Transfer!$X$35:$Y$155,2,FALSE)","v":115.2},{"$f":"VLOOKUP(K954,Transfer!$X$19:$Y$30,2,FALSE)","v":4},0,0,115.2,"C",{"$f":"VLOOKUP(F954,PartH,MATCH(G954,PartH!$B$4:$N$4,0),FALSE)","v":0},null,{"$f":"VLOOKUP(F954,Transfer!$U$19:$V$170,2,FALSE)","v":"H11fb"},null,0.7474759177861507,0]
["202627-0-D-H11fb","115.2_5",{"$f":"FrontPage!$N$2","v":{"v":1,"d":"1.0"}},"202627","CT1",{"$f":"VLOOKUP(J955,Transfer!$X$35:$Y$155,2,FALSE)","v":115.2},{"$f":"VLOOKUP(K955,Transfer!$X$19:$Y$30,2,FALSE)","v":5},0,0,115.2,"D",{"$f":"VLOOKUP(F955,PartH,MATCH(G955,PartH!$B$4:$N$4,0),FALSE)","v":0},null,{"$f":"VLOOKUP(F955,Transfer!$U$19:$V$170,2,FALSE)","v":"H11fb"},null,0.7773663316633526,0]
["202627-0-E-H11fb","115.2_6",{"$f":"FrontPage!$N$2","v":{"v":1,"d":"1.0"}},"202627","CT1",{"$f":"VLOOKUP(J956,Transfer!$X$35:$Y$155,2,FALSE)","v":115.2},{"$f":"VLOOKUP(K956,Transfer!$X$19:$Y$30,2,FALSE)","v":6},0,0,115.2,"E",{"$f":"VLOOKUP(F956,PartH,MATCH(G956,PartH!$B$4:$N$4,0),FALSE)","v":0},null,{"$f":"VLOOKUP(F956,Transfer!$U$19:$V$170,2,FALSE)","v":"H11fb"},null,0.2330343604268862,0]
["202627-0-F-H11fb","115.2_7",{"$f":"FrontPage!$N$2","v":{"v":1,"d":"1.0"}},"202627","CT1",{"$f":"VLOOKUP(J957,Transfer!$X$35:$Y$155,2,FALSE)","v":115.2},{"$f":"VLOOKUP(K957,Transfer!$X$19:$Y$30,2,FALSE)","v":7},0,0,115.2,"F",{"$f":"VLOOKUP(F957,PartH,MATCH(G957,PartH!$B$4:$N$4,0),FALSE)","v":0},null,{"$f":"VLOOKUP(F957,Transfer!$U$19:$V$170,2,FALSE)","v":"H11fb"},null,0.014540808540656314,0]
["202627-0-G-H11fb","115.2_8",{"$f":"FrontPage!$N$2","v":{"v":1,"d":"1.0"}},"202627","CT1",{"$f":"VLOOKUP(J958,Transfer!$X$35:$Y$155,2,FALSE)","v":115.2},{"$f":"VLOOKUP(K958,Transfer!$X$19:$Y$30,2,FALSE)","v":8},0,0,115.2,"G",{"$f":"VLOOKUP(F958,PartH,MATCH(G958,PartH!$B$4:$N$4,0),FALSE)","v":0},null,{"$f":"VLOOKUP(F958,Transfer!$U$19:$V$170,2,FALSE)","v":"H11fb"},null,0.9134609072736635,0]
["202627-0-H-H11fb","115.2_9",{"$f":"FrontPage!$N$2","v":{"v":1,"d":"1.0"}},"202627","CT1",{"$f":"VLOOKUP(J959,Transfer!$X$35:$Y$155,2,FALSE)","v":115.2},{"$f":"VLOOKUP(K959,Transfer!$X$19:$Y$30,2,FALSE)","v":9},0,0,115.2,"H",{"$f":"VLOOKUP(F959,PartH,MATCH(G959,PartH!$B$4:$N$4,0),FALSE)","v":0},null,{"$f":"VLOOKUP(F959,Transfer!$U$19:$V$170,2,FALSE)","v":"H11fb"},null,0.2469813767139868,0]
["202627-0-I-H11fb","115.2_10",{"$f":"FrontPage!$N$2","v":{"v":1,"d":"1.0"}},"202627","CT1",{"$f":"VLOOKUP(J960,Transfer!$X$35:$Y$155,2,FALSE)","v":115.2},{"$f":"VLOOKUP(K960,Transfer!$X$19:$Y$30,2,FALSE)","v":10},0,0,115.2,"I",{"$f":"VLOOKUP(F960,PartH,MATCH(G960,PartH!$B$4:$N$4,0),FALSE)","v":0},null,{"$f":"VLOOKUP(F960,Transfer!$U$19:$V$170,2,FALSE)","v":"H11fb"},null,0.5959325003282187,0]
["202627-0-TOTAL-H11fb","115.2_11",{"$f":"FrontPage!$N$2","v":{"v":1,"d":"1.0"}},"202627","CT1",{"$f":"VLOOKUP(J961,Transfer!$X$35:$Y$155,2,FALSE)","v":115.2},{"$f":"VLOOKUP(K961,Transfer!$X$19:$Y$30,2,FALSE)","v":11},0,0,115.2,"TOTAL",{"$f":"VLOOKUP(F961,PartH,MATCH(G961,PartH!$B$4:$N$4,0),FALSE)","v":0},null,{"$f":"VLOOKUP(F961,Transfer!$U$19:$V$170,2,FALSE)","v":"H11fb"},null,0.2288602082059329,0]
["202627-0-A-H11g","116_2",{"$f":"FrontPage!$N$2","v":{"v":1,"d":"1.0"}},"202627","CT1",{"$f":"VLOOKUP(J962,Transfer!$X$35:$Y$155,2,FALSE)","v":116},{"$f":"VLOOKUP(K962,Transfer!$X$19:$Y$30,2,FALSE)","v":2},0,0,115,"A",{"$f":"VLOOKUP(F962,PartH,MATCH(G962,PartH!$B$4:$N$4,0),FALSE)","v":0},null,{"$f":"VLOOKUP(F962,Transfer!$U$19:$V$170,2,FALSE)","v":"H11g"},null,0.942122435483157,{"$f":"+I962*P962","v":0}]
["202627-0-B-H11g","116_3",{"$f":"FrontPage!$N$2","v":{"v":1,"d":"1.0"}},"202627","CT1",{"$f":"VLOOKUP(J963,Transfer!$X$35:$Y$155,2,FALSE)","v":116},{"$f":"VLOOKUP(K963,Transfer!$X$19:$Y$30,2,FALSE)","v":3},0,0,115,"B",{"$f":"VLOOKUP(F963,PartH,MATCH(G963,PartH!$B$4:$N$4,0),FALSE)","v":0},null,{"$f":"VLOOKUP(F963,Transfer!$U$19:$V$170,2,FALSE)","v":"H11g"},null,0.837774875683238,0]
["202627-0-C-H11g","116_4",{"$f":"FrontPage!$N$2","v":{"v":1,"d":"1.0"}},"202627","CT1",{"$f":"VLOOKUP(J964,Transfer!$X$35:$Y$155,2,FALSE)","v":116},{"$f":"VLOOKUP(K964,Transfer!$X$19:$Y$30,2,FALSE)","v":4},0,0,115,"C",{"$f":"VLOOKUP(F964,PartH,MATCH(G964,PartH!$B$4:$N$4,0),FALSE)","v":0},null,{"$f":"VLOOKUP(F964,Transfer!$U$19:$V$170,2,FALSE)","v":"H11g"},null,0.36934513666371993,0]
["202627-0-D-H11g","116_5",{"$f":"FrontPage!$N$2","v":{"v":1,"d":"1.0"}},"202627","CT1",{"$f":"VLOOKUP(J965,Transfer!$X$35:$Y$155,2,FALSE)","v":116},{"$f":"VLOOKUP(K965,Transfer!$X$19:$Y$30,2,FALSE)","v":5},0,0,115,"D",{"$f":"VLOOKUP(F965,PartH,MATCH(G965,PartH!$B$4:$N$4,0),FALSE)","v":0},null,{"$f":"VLOOKUP(F965,Transfer!$U$19:$V$170,2,FALSE)","v":"H11g"},null,0.8310933464563488,0]
["202627-0-E-H11g","116_6",{"$f":"FrontPage!$N$2","v":{"v":1,"d":"1.0"}},"202627","CT1",{"$f":"VLOOKUP(J966,Transfer!$X$35:$Y$155,2,FALSE)","v":116},{"$f":"VLOOKUP(K966,Transfer!$X$19:$Y$30,2,FALSE)","v":6},0,0,115,"E",{"$f":"VLOOKUP(F966,PartH,MATCH(G966,PartH!$B$4:$N$4,0),FALSE)","v":0},null,{"$f":"VLOOKUP(F966,Transfer!$U$19:$V$170,2,FALSE)","v":"H11g"},null,0.5897046173506095,0]
["202627-0-F-H11g","116_7",{"$f":"FrontPage!$N$2","v":{"v":1,"d":"1.0"}},"202627","CT1",{"$f":"VLOOKUP(J967,Transfer!$X$35:$Y$155,2,FALSE)","v":116},{"$f":"VLOOKUP(K967,Transfer!$X$19:$Y$30,2,FALSE)","v":7},0,0,115,"F",{"$f":"VLOOKUP(F967,PartH,MATCH(G967,PartH!$B$4:$N$4,0),FALSE)","v":0},null,{"$f":"VLOOKUP(F967,Transfer!$U$19:$V$170,2,FALSE)","v":"H11g"},null,0.5580458985835745,0]
["202627-0-G-H11g","116_8",{"$f":"FrontPage!$N$2","v":{"v":1,"d":"1.0"}},"202627","CT1",{"$f":"VLOOKUP(J968,Transfer!$X$35:$Y$155,2,FALSE)","v":116},{"$f":"VLOOKUP(K968,Transfer!$X$19:$Y$30,2,FALSE)","v":8},0,0,115,"G",{"$f":"VLOOKUP(F968,PartH,MATCH(G968,PartH!$B$4:$N$4,0),FALSE)","v":0},null,{"$f":"VLOOKUP(F968,Transfer!$U$19:$V$170,2,FALSE)","v":"H11g"},null,0.18952832642127515,0]
["202627-0-H-H11g","116_9",{"$f":"FrontPage!$N$2","v":{"v":1,"d":"1.0"}},"202627","CT1",{"$f":"VLOOKUP(J969,Transfer!$X$35:$Y$155,2,FALSE)","v":116},{"$f":"VLOOKUP(K969,Transfer!$X$19:$Y$30,2,FALSE)","v":9},0,0,115,"H",{"$f":"VLOOKUP(F969,PartH,MATCH(G969,PartH!$B$4:$N$4,0),FALSE)","v":0},null,{"$f":"VLOOKUP(F969,Transfer!$U$19:$V$170,2,FALSE)","v":"H11g"},null,0.30798483274420085,0]
["202627-0-I-H11g","116_10",{"$f":"FrontPage!$N$2","v":{"v":1,"d":"1.0"}},"202627","CT1",{"$f":"VLOOKUP(J970,Transfer!$X$35:$Y$155,2,FALSE)","v":116},{"$f":"VLOOKUP(K970,Transfer!$X$19:$Y$30,2,FALSE)","v":10},0,0,115,"I",{"$f":"VLOOKUP(F970,PartH,MATCH(G970,PartH!$B$4:$N$4,0),FALSE)","v":0},null,{"$f":"VLOOKUP(F970,Transfer!$U$19:$V$170,2,FALSE)","v":"H11g"},null,0.6324300590725915,0]
["202627-0-TOTAL-H11g","116_11",{"$f":"FrontPage!$N$2","v":{"v":1,"d":"1.0"}},"202627","CT1",{"$f":"VLOOKUP(J971,Transfer!$X$35:$Y$155,2,FALSE)","v":116},{"$f":"VLOOKUP(K971,Transfer!$X$19:$Y$30,2,FALSE)","v":11},0,0,115,"TOTAL",{"$f":"VLOOKUP(F971,PartH,MATCH(G971,PartH!$B$4:$N$4,0),FALSE)","v":0},null,{"$f":"VLOOKUP(F971,Transfer!$U$19:$V$170,2,FALSE)","v":"H11g"},null,0.9123983485860486,0]
["202627-0-%-H12b","118_12",{"$f":"FrontPage!$N$2","v":{"v":1,"d":"1.0"}},"202627","CT1",{"$f":"VLOOKUP(J972,Transfer!$X$35:$Y$155,2,FALSE)","v":118},{"$f":"VLOOKUP(K972,Transfer!$X$19:$Y$30,2,FALSE)","v":12},0,25,117,"%",{"$f":"VLOOKUP(F972,PartH,MATCH(G972,PartH!$B$4:$N$4,0),FALSE)","v":25},null,{"$f":"VLOOKUP(F972,Transfer!$U$19:$V$170,2,FALSE)","v":"H12b"},null,0.35567471343707857,8.891867835926965]
["202627-0-A-H12b","118_2",{"$f":"FrontPage!$N$2","v":{"v":1,"d":"1.0"}},"202627","CT1",{"$f":"VLOOKUP(J973,Transfer!$X$35:$Y$155,2,FALSE)","v":118},{"$f":"VLOOKUP(K973,Transfer!$X$19:$Y$30,2,FALSE)","v":2},0,0,117,"A",{"$f":"VLOOKUP(F973,PartH,MATCH(G973,PartH!$B$4:$N$4,0),FALSE)","v":0},null,{"$f":"VLOOKUP(F973,Transfer!$U$19:$V$170,2,FALSE)","v":"H12b"},null,0.3351591190865172,0]
["202627-0-B-H12b","118_3",{"$f":"FrontPage!$N$2","v":{"v":1,"d":"1.0"}},"202627","CT1",{"$f":"VLOOKUP(J974,Transfer!$X$35:$Y$155,2,FALSE)","v":118},{"$f":"VLOOKUP(K974,Transfer!$X$19:$Y$30,2,FALSE)","v":3},0,0,117,"B",{"$f":"VLOOKUP(F974,PartH,MATCH(G974,PartH!$B$4:$N$4,0),FALSE)","v":0},null,{"$f":"VLOOKUP(F974,Transfer!$U$19:$V$170,2,FALSE)","v":"H12b"},null,0.7573528394935071,0]
["202627-0-C-H12b","118_4",{"$f":"FrontPage!$N$2","v":{"v":1,"d":"1.0"}},"202627","CT1",{"$f":"VLOOKUP(J975,Transfer!$X$35:$Y$155,2,FALSE)","v":118},{"$f":"VLOOKUP(K975,Transfer!$X$19:$Y$30,2,FALSE)","v":4},0,0,117,"C",{"$f":"VLOOKUP(F975,PartH,MATCH(G975,PartH!$B$4:$N$4,0),FALSE)","v":0},null,{"$f":"VLOOKUP(F975,Transfer!$U$19:$V$170,2,FALSE)","v":"H12b"},null,0.5444658704875156,0]
["202627-0-D-H12b","118_5",{"$f":"FrontPage!$N$2","v":{"v":1,"d":"1.0"}},"202627","CT1",{"$f":"VLOOKUP(J976,Transfer!$X$35:$Y$155,2,FALSE)","v":118},{"$f":"VLOOKUP(K976,Transfer!$X$19:$Y$30,2,FALSE)","v":5},0,0,117,"D",{"$f":"VLOOKUP(F976,PartH,MATCH(G976,PartH!$B$4:$N$4,0),FALSE)","v":0},null,{"$f":"VLOOKUP(F976,Transfer!$U$19:$V$170,2,FALSE)","v":"H12b"},null,0.3290152949272295,0]
["202627-0-E-H12b","118_6",{"$f":"FrontPage!$N$2","v":{"v":1,"d":"1.0"}},"202627","CT1",{"$f":"VLOOKUP(J977,Transfer!$X$35:$Y$155,2,FALSE)","v":118},{"$f":"VLOOKUP(K977,Transfer!$X$19:$Y$30,2,FALSE)","v":6},0,0,117,"E",{"$f":"VLOOKUP(F977,PartH,MATCH(G977,PartH!$B$4:$N$4,0),FALSE)","v":0},null,{"$f":"VLOOKUP(F977,Transfer!$U$19:$V$170,2,FALSE)","v":"H12b"},null,0.2994247891197205,0]
["202627-0-F-H12b","118_7",{"$f":"FrontPage!$N$2","v":{"v":1,"d":"1.0"}},"202627","CT1",{"$f":"VLOOKUP(J978,Transfer!$X$35:$Y$155,2,FALSE)","v":118},{"$f":"VLOOKUP(K978,Transfer!$X$19:$Y$30,2,FALSE)","v":7},0,0,117,"F",{"$f":"VLOOKUP(F978,PartH,MATCH(G978,PartH!$B$4:$N$4,0),FALSE)","v":0},null,{"$f":"VLOOKUP(F978,Transfer!$U$19:$V$170,2,FALSE)","v":"H12b"},null,0.6166391829534158,0]
["202627-0-G-H12b","118_8",{"$f":"FrontPage!$N$2","v":{"v":1,"d":"1.0"}},"202627","CT1",{"$f":"VLOOKUP(J979,Transfer!$X$35:$Y$155,2,FALSE)","v":118},{"$f":"VLOOKUP(K979,Transfer!$X$19:$Y$30,2,FALSE)","v":8},0,0,117,"G",{"$f":"VLOOKUP(F979,PartH,MATCH(G979,PartH!$B$4:$N$4,0),FALSE)","v":0},null,{"$f":"VLOOKUP(F979,Transfer!$U$19:$V$170,2,FALSE)","v":"H12b"},null,0.3777258873346915,0]
["202627-0-H-H12b","118_9",{"$f":"FrontPage!$N$2","v":{"v":1,"d":"1.0"}},"202627","CT1",{"$f":"VLOOKUP(J980,Transfer!$X$35:$Y$155,2,FALSE)","v":118},{"$f":"VLOOKUP(K980,Transfer!$X$19:$Y$30,2,FALSE)","v":9},0,0,117,"H",{"$f":"VLOOKUP(F980,PartH,MATCH(G980,PartH!$B$4:$N$4,0),FALSE)","v":0},null,{"$f":"VLOOKUP(F980,Transfer!$U$19:$V$170,2,FALSE)","v":"H12b"},null,0.5981920362457874,0]
["202627-0-I-H12b","118_10",{"$f":"FrontPage!$N$2","v":{"v":1,"d":"1.0"}},{"$f":"$W$2","v":"202627"},"CT1",{"$f":"VLOOKUP(J981,Transfer!$X$35:$Y$155,2,FALSE)","v":118},{"$f":"VLOOKUP(K981,Transfer!$X$19:$Y$30,2,FALSE)","v":10},{"$f":"uanumber","v":0},0,117,"I",{"$f":"VLOOKUP(F981,PartH,MATCH(G981,PartH!$B$4:$N$4,0),FALSE)","v":0},null,{"$f":"VLOOKUP(F981,Transfer!$U$19:$V$170,2,FALSE)","v":"H12b"},null,0.2244231347583331,0]
["202627-0-TOTAL-H12b","118_11",{"$f":"FrontPage!$N$2","v":{"v":1,"d":"1.0"}},"202627","CT1",{"$f":"VLOOKUP(J982,Transfer!$X$35:$Y$155,2,FALSE)","v":118},{"$f":"VLOOKUP(K982,Transfer!$X$19:$Y$30,2,FALSE)","v":11},0,0,117,"TOTAL",{"$f":"VLOOKUP(F982,PartH,MATCH(G982,PartH!$B$4:$N$4,0),FALSE)","v":0},null,{"$f":"VLOOKUP(F982,Transfer!$U$19:$V$170,2,FALSE)","v":"H12b"},null,0.13445695194208607,0]
["202627-0-%-H12c","119_12",{"$f":"FrontPage!$N$2","v":{"v":1,"d":"1.0"}},"202627",{"$f":"$E$2","v":"CT1"},{"$f":"VLOOKUP(J983,Transfer!$X$35:$Y$155,2,FALSE)","v":119},{"$f":"VLOOKUP(K983,Transfer!$X$19:$Y$30,2,FALSE)","v":12},0,50,118,"%",{"$f":"VLOOKUP(F983,PartH,MATCH(G983,PartH!$B$4:$N$4,0),FALSE)","v":50},null,{"$f":"VLOOKUP(F983,Transfer!$U$19:$V$170,2,FALSE)","v":"H12c"},null,0.01409670144736963,0.7048350723684815]
["202627-0-A-H12c","119_2",{"$f":"FrontPage!$N$2","v":{"v":1,"d":"1.0"}},"202627","CT1",{"$f":"VLOOKUP(J984,Transfer!$X$35:$Y$155,2,FALSE)","v":119},{"$f":"VLOOKUP(K984,Transfer!$X$19:$Y$30,2,FALSE)","v":2},0,0,118,"A",{"$f":"VLOOKUP(F984,PartH,MATCH(G984,PartH!$B$4:$N$4,0),FALSE)","v":0},null,{"$f":"VLOOKUP(F984,Transfer!$U$19:$V$170,2,FALSE)","v":"H12c"},null,0.7542995756913299,0]
[{"$f":"D985&\"-\"&H985&\"-\"&K985&\"-\"&N985","v":"202627-0-B-H12c"},{"$f":"F985&\"_\"&G985","v":"119_3"},{"$f":"FrontPage!$N$2","v":{"v":1,"d":"1.0"}},"202627","CT1",{"$f":"VLOOKUP(J985,Transfer!$X$35:$Y$155,2,FALSE)","v":119},{"$f":"VLOOKUP(K985,Transfer!$X$19:$Y$30,2,FALSE)","v":3},0,0,118,"B",{"$f":"VLOOKUP(F985,PartH,MATCH(G985,PartH!$B$4:$N$4,0),FALSE)","v":0},null,{"$f":"VLOOKUP(F985,Transfer!$U$19:$V$170,2,FALSE)","v":"H12c"},null,0.4273080898010253,0]
["202627-0-C-H12c","119_4",{"$f":"FrontPage!$N$2","v":{"v":1,"d":"1.0"}},"202627","CT1",{"$f":"VLOOKUP(J986,Transfer!$X$35:$Y$155,2,FALSE)","v":119},{"$f":"VLOOKUP(K986,Transfer!$X$19:$Y$30,2,FALSE)","v":4},0,0,118,"C",{"$f":"VLOOKUP(F986,PartH,MATCH(G986,PartH!$B$4:$N$4,0),FALSE)","v":0},null,{"$f":"VLOOKUP(F986,Transfer!$U$19:$V$170,2,FALSE)","v":"H12c"},null,0.5914863523150922,0]
["202627-0-D-H12c","119_5",{"$f":"FrontPage!$N$2","v":{"v":1,"d":"1.0"}},"202627","CT1",{"$f":"VLOOKUP(J987,Transfer!$X$35:$Y$155,2,FALSE)","v":119},{"$f":"VLOOKUP(K987,Transfer!$X$19:$Y$30,2,FALSE)","v":5},0,0,118,"D",{"$f":"VLOOKUP(F987,PartH,MATCH(G987,PartH!$B$4:$N$4,0),FALSE)","v":0},null,{"$f":"VLOOKUP(F987,Transfer!$U$19:$V$170,2,FALSE)","v":"H12c"},null,0.9107775052288892,0]
["202627-0-E-H12c","119_6",{"$f":"FrontPage!$N$2","v":{"v":1,"d":"1.0"}},"202627","CT1",{"$f":"VLOOKUP(J988,Transfer!$X$35:$Y$155,2,FALSE)","v":119},{"$f":"VLOOKUP(K988,Transfer!$X$19:$Y$30,2,FALSE)","v":6},0,0,118,"E",{"$f":"VLOOKUP(F988,PartH,MATCH(G988,PartH!$B$4:$N$4,0),FALSE)","v":0},null,{"$f":"VLOOKUP(F988,Transfer!$U$19:$V$170,2,FALSE)","v":"H12c"},null,0.17803735756255656,0]
["202627-0-F-H12c","119_7",{"$f":"FrontPage!$N$2","v":{"v":1,"d":"1.0"}},"202627","CT1",{"$f":"VLOOKUP(J989,Transfer!$X$35:$Y$155,2,FALSE)","v":119},{"$f":"VLOOKUP(K989,Transfer!$X$19:$Y$30,2,FALSE)","v":7},0,0,118,"F",{"$f":"VLOOKUP(F989,PartH,MATCH(G989,PartH!$B$4:$N$4,0),FALSE)","v":0},null,{"$f":"VLOOKUP(F989,Transfer!$U$19:$V$170,2,FALSE)","v":"H12c"},null,0.5082630676317589,0]
["202627-0-G-H12c","119_8",{"$f":"FrontPage!$N$2","v":{"v":1,"d":"1.0"}},"202627","CT1",{"$f":"VLOOKUP(J990,Transfer!$X$35:$Y$155,2,FALSE)","v":119},{"$f":"VLOOKUP(K990,Transfer!$X$19:$Y$30,2,FALSE)","v":8},0,0,118,"G",{"$f":"VLOOKUP(F990,PartH,MATCH(G990,PartH!$B$4:$N$4,0),FALSE)","v":0},null,{"$f":"VLOOKUP(F990,Transfer!$U$19:$V$170,2,FALSE)","v":"H12c"},null,0.08116538001403517,0]
["202627-0-H-H12c","119_9",{"$f":"FrontPage!$N$2","v":{"v":1,"d":"1.0"}},"202627","CT1",{"$f":"VLOOKUP(J991,Transfer!$X$35:$Y$155,2,FALSE)","v":119},{"$f":"VLOOKUP(K991,Transfer!$X$19:$Y$30,2,FALSE)","v":9},0,0,118,"H",{"$f":"VLOOKUP(F991,PartH,MATCH(G991,PartH!$B$4:$N$4,0),FALSE)","v":0},null,{"$f":"VLOOKUP(F991,Transfer!$U$19:$V$170,2,FALSE)","v":"H12c"},null,0.6486107943529356,0]
["202627-0-I-H12c","119_10",{"$f":"FrontPage!$N$2","v":{"v":1,"d":"1.0"}},"202627","CT1",{"$f":"VLOOKUP(J992,Transfer!$X$35:$Y$155,2,FALSE)","v":119},{"$f":"VLOOKUP(K992,Transfer!$X$19:$Y$30,2,FALSE)","v":10},0,0,118,"I",{"$f":"VLOOKUP(F992,PartH,MATCH(G992,PartH!$B$4:$N$4,0),FALSE)","v":0},null,{"$f":"VLOOKUP(F992,Transfer!$U$19:$V$170,2,FALSE)","v":"H12c"},null,0.8231442370252545,0]
["202627-0-TOTAL-H12c","119_11",{"$f":"FrontPage!$N$2","v":{"v":1,"d":"1.0"}},"202627","CT1",{"$f":"VLOOKUP(J993,Transfer!$X$35:$Y$155,2,FALSE)","v":119},{"$f":"VLOOKUP(K993,Transfer!$X$19:$Y$30,2,FALSE)","v":11},0,0,118,"TOTAL",{"$f":"VLOOKUP(F993,PartH,MATCH(G993,PartH!$B$4:$N$4,0),FALSE)","v":0},null,{"$f":"VLOOKUP(F993,Transfer!$U$19:$V$170,2,FALSE)","v":"H12c"},null,0.07309852350302215,0]
["202627-0-%-H12e","121_12",{"$f":"FrontPage!$N$2","v":{"v":1,"d":"1.0"}},"202627","CT1",{"$f":"VLOOKUP(J994,Transfer!$X$35:$Y$155,2,FALSE)","v":121},{"$f":"VLOOKUP(K994,Transfer!$X$19:$Y$30,2,FALSE)","v":12},0,{"$f":"L994","v":100},120,"%",{"$f":"VLOOKUP(F994,PartH,MATCH(G994,PartH!$B$4:$N$4,0),FALSE)","v":100},null,{"$f":"VLOOKUP(F994,Transfer!$U$19:$V$170,2,FALSE)","v":"H12e"},null,0.8874842453058204,88.74842453058204]
["202627-0-A-H12e","121_2",{"$f":"FrontPage!$N$2","v":{"v":1,"d":"1.0"}},"202627","CT1",{"$f":"VLOOKUP(J995,Transfer!$X$35:$Y$155,2,FALSE)","v":121},{"$f":"VLOOKUP(K995,Transfer!$X$19:$Y$30,2,FALSE)","v":2},0,0,120,"A",{"$f":"VLOOKUP(F995,PartH,MATCH(G995,PartH!$B$4:$N$4,0),FALSE)","v":0},null,{"$f":"VLOOKUP(F995,Transfer!$U$19:$V$170,2,FALSE)","v":"H12e"},null,0.6605469691577223,0]
["202627-0-B-H12e","121_3",{"$f":"FrontPage!$N$2","v":{"v":1,"d":"1.0"}},"202627","CT1",{"$f":"VLOOKUP(J996,Transfer!$X$35:$Y$155,2,FALSE)","v":121},{"$f":"VLOOKUP(K996,Transfer!$X$19:$Y$30,2,FALSE)","v":3},0,0,120,"B",{"$f":"VLOOKUP(F996,PartH,MATCH(G996,PartH!$B$4:$N$4,0),FALSE)","v":0},null,{"$f":"VLOOKUP(F996,Transfer!$U$19:$V$170,2,FALSE)","v":"H12e"},null,0.6792944122673346,0]
["202627-0-C-H12e","121_4",{"$f":"FrontPage!$N$2","v":{"v":1,"d":"1.0"}},"202627","CT1",{"$f":"VLOOKUP(J997,Transfer!$X$35:$Y$155,2,FALSE)","v":121},{"$f":"VLOOKUP(K997,Transfer!$X$19:$Y$30,2,FALSE)","v":4},0,0,120,"C",{"$f":"VLOOKUP(F997,PartH,MATCH(G997,PartH!$B$4:$N$4,0),FALSE)","v":0},null,{"$f":"VLOOKUP(F997,Transfer!$U$19:$V$170,2,FALSE)","v":"H12e"},null,0.6911619111447878,0]
["202627-0-D-H12e","121_5",{"$f":"FrontPage!$N$2","v":{"v":1,"d":"1.0"}},"202627","CT1",{"$f":"VLOOKUP(J998,Transfer!$X$35:$Y$155,2,FALSE)","v":121},{"$f":"VLOOKUP(K998,Transfer!$X$19:$Y$30,2,FALSE)","v":5},0,0,120,"D",{"$f":"VLOOKUP(F998,PartH,MATCH(G998,PartH!$B$4:$N$4,0),FALSE)","v":0},null,{"$f":"VLOOKUP(F998,Transfer!$U$19:$V$170,2,FALSE)","v":"H12e"},null,0.8549501726040062,0]
["202627-0-E-H12e","121_6",{"$f":"FrontPage!$N$2","v":{"v":1,"d":"1.0"}},"202627","CT1",{"$f":"VLOOKUP(J999,Transfer!$X$35:$Y$155,2,FALSE)","v":121},{"$f":"VLOOKUP(K999,Transfer!$X$19:$Y$30,2,FALSE)","v":6},0,0,120,"E",{"$f":"VLOOKUP(F999,PartH,MATCH(G999,PartH!$B$4:$N$4,0),FALSE)","v":0},null,{"$f":"VLOOKUP(F999,Transfer!$U$19:$V$170,2,FALSE)","v":"H12e"},null,0.8658263405073044,0]
["202627-0-F-H12e","121_7",{"$f":"FrontPage!$N$2","v":{"v":1,"d":"1.0"}},"202627","CT1",{"$f":"VLOOKUP(J1000,Transfer!$X$35:$Y$155,2,FALSE)","v":121},{"$f":"VLOOKUP(K1000,Transfer!$X$19:$Y$30,2,FALSE)","v":7},0,0,120,"F",{"$f":"VLOOKUP(F1000,PartH,MATCH(G1000,PartH!$B$4:$N$4,0),FALSE)","v":0},null,{"$f":"VLOOKUP(F1000,Transfer!$U$19:$V$170,2,FALSE)","v":"H12e"},null,0.26897323008649776,0]
["202627-0-G-H12e","121_8",{"$f":"FrontPage!$N$2","v":{"v":1,"d":"1.0"}},"202627","CT1",{"$f":"VLOOKUP(J1001,Transfer!$X$35:$Y$155,2,FALSE)","v":121},{"$f":"VLOOKUP(K1001,Transfer!$X$19:$Y$30,2,FALSE)","v":8},0,0,120,"G",{"$f":"VLOOKUP(F1001,PartH,MATCH(G1001,PartH!$B$4:$N$4,0),FALSE)","v":0},null,{"$f":"VLOOKUP(F1001,Transfer!$U$19:$V$170,2,FALSE)","v":"H12e"},null,0.4640323135771922,0]
["202627-0-H-H12e","121_9",{"$f":"FrontPage!$N$2","v":{"v":1,"d":"1.0"}},"202627","CT1",{"$f":"VLOOKUP(J1002,Transfer!$X$35:$Y$155,2,FALSE)","v":121},{"$f":"VLOOKUP(K1002,Transfer!$X$19:$Y$30,2,FALSE)","v":9},0,0,120,"H",{"$f":"VLOOKUP(F1002,PartH,MATCH(G1002,PartH!$B$4:$N$4,0),FALSE)","v":0},null,{"$f":"VLOOKUP(F1002,Transfer!$U$19:$V$170,2,FALSE)","v":"H12e"},null,0.18824996026055663,0]
["202627-0-I-H12e","121_10",{"$f":"FrontPage!$N$2","v":{"v":1,"d":"1.0"}},"202627","CT1",{"$f":"VLOOKUP(J1003,Transfer!$X$35:$Y$155,2,FALSE)","v":121},{"$f":"VLOOKUP(K1003,Transfer!$X$19:$Y$30,2,FALSE)","v":10},0,0,120,"I",{"$f":"VLOOKUP(F1003,PartH,MATCH(G1003,PartH!$B$4:$N$4,0),FALSE)","v":0},null,{"$f":"VLOOKUP(F1003,Transfer!$U$19:$V$170,2,FALSE)","v":"H12e"},null,0.41056822854032704,0]
["202627-0-TOTAL-H12e","121_11",{"$f":"FrontPage!$N$2","v":{"v":1,"d":"1.0"}},"202627","CT1",{"$f":"VLOOKUP(J1004,Transfer!$X$35:$Y$155,2,FALSE)","v":121},{"$f":"VLOOKUP(K1004,Transfer!$X$19:$Y$30,2,FALSE)","v":11},0,0,120,"TOTAL",{"$f":"VLOOKUP(F1004,PartH,MATCH(G1004,PartH!$B$4:$N$4,0),FALSE)","v":0},null,{"$f":"VLOOKUP(F1004,Transfer!$U$19:$V$170,2,FALSE)","v":"H12e"},null,0.530676800178589,0]
["202627-0-%-H12f","122_12",{"$f":"FrontPage!$N$2","v":{"v":1,"d":"1.0"}},"202627","CT1",{"$f":"VLOOKUP(J1005,Transfer!$X$35:$Y$155,2,FALSE)","v":122},{"$f":"VLOOKUP(K1005,Transfer!$X$19:$Y$30,2,FALSE)","v":12},0,0,121,"%",{"$f":"VLOOKUP(F1005,PartH,MATCH(G1005,PartH!$B$4:$N$4,0),FALSE)","v":0},null,{"$f":"VLOOKUP(F1005,Transfer!$U$19:$V$170,2,FALSE)","v":"H12f"},null,0.5008552061892587,0]
["202627-0-A-H12f","122_2",{"$f":"FrontPage!$N$2","v":{"v":1,"d":"1.0"}},"202627","CT1",{"$f":"VLOOKUP(J1006,Transfer!$X$35:$Y$155,2,FALSE)","v":122},{"$f":"VLOOKUP(K1006,Transfer!$X$19:$Y$30,2,FALSE)","v":2},0,0,121,"A",{"$f":"VLOOKUP(F1006,PartH,MATCH(G1006,PartH!$B$4:$N$4,0),FALSE)","v":0},null,{"$f":"VLOOKUP(F1006,Transfer!$U$19:$V$170,2,FALSE)","v":"H12f"},null,0.8849833996483512,0]
["202627-0-B-H12f","122_3",{"$f":"FrontPage!$N$2","v":{"v":1,"d":"1.0"}},"202627","CT1",{"$f":"VLOOKUP(J1007,Transfer!$X$35:$Y$155,2,FALSE)","v":122},{"$f":"VLOOKUP(K1007,Transfer!$X$19:$Y$30,2,FALSE)","v":3},0,0,121,"B",{"$f":"VLOOKUP(F1007,PartH,MATCH(G1007,PartH!$B$4:$N$4,0),FALSE)","v":0},null,{"$f":"VLOOKUP(F1007,Transfer!$U$19:$V$170,2,FALSE)","v":"H12f"},null,0.016190070186484218,0]
["202627-0-C-H12f","122_4",{"$f":"FrontPage!$N$2","v":{"v":1,"d":"1.0"}},"202627","CT1",{"$f":"VLOOKUP(J1008,Transfer!$X$35:$Y$155,2,FALSE)","v":122},{"$f":"VLOOKUP(K1008,Transfer!$X$19:$Y$30,2,FALSE)","v":4},0,0,121,"C",{"$f":"VLOOKUP(F1008,PartH,MATCH(G1008,PartH!$B$4:$N$4,0),FALSE)","v":0},null,{"$f":"VLOOKUP(F1008,Transfer!$U$19:$V$170,2,FALSE)","v":"H12f"},null,0.5207577530907369,0]
["202627-0-D-H12f","122_5",{"$f":"FrontPage!$N$2","v":{"v":1,"d":"1.0"}},"202627","CT1",{"$f":"VLOOKUP(J1009,Transfer!$X$35:$Y$155,2,FALSE)","v":122},{"$f":"VLOOKUP(K1009,Transfer!$X$19:$Y$30,2,FALSE)","v":5},0,0,121,"D",{"$f":"VLOOKUP(F1009,PartH,MATCH(G1009,PartH!$B$4:$N$4,0),FALSE)","v":0},null,{"$f":"VLOOKUP(F1009,Transfer!$U$19:$V$170,2,FALSE)","v":"H12f"},null,0.07620116796506382,0]
["202627-0-E-H12f","122_6",{"$f":"FrontPage!$N$2","v":{"v":1,"d":"1.0"}},"202627","CT1",{"$f":"VLOOKUP(J1010,Transfer!$X$35:$Y$155,2,FALSE)","v":122},{"$f":"VLOOKUP(K1010,Transfer!$X$19:$Y$30,2,FALSE)","v":6},0,0,121,"E",{"$f":"VLOOKUP(F1010,PartH,MATCH(G1010,PartH!$B$4:$N$4,0),FALSE)","v":0},null,{"$f":"VLOOKUP(F1010,Transfer!$U$19:$V$170,2,FALSE)","v":"H12f"},null,0.079769859291414,0]
["202627-0-F-H12f","122_7",{"$f":"FrontPage!$N$2","v":{"v":1,"d":"1.0"}},"202627","CT1",{"$f":"VLOOKUP(J1011,Transfer!$X$35:$Y$155,2,FALSE)","v":122},{"$f":"VLOOKUP(K1011,Transfer!$X$19:$Y$30,2,FALSE)","v":7},0,0,121,"F",{"$f":"VLOOKUP(F1011,PartH,MATCH(G1011,PartH!$B$4:$N$4,0),FALSE)","v":0},null,{"$f":"VLOOKUP(F1011,Transfer!$U$19:$V$170,2,FALSE)","v":"H12f"},null,0.4162693874659408,0]
["202627-0-G-H12f","122_8",{"$f":"FrontPage!$N$2","v":{"v":1,"d":"1.0"}},"202627","CT1",{"$f":"VLOOKUP(J1012,Transfer!$X$35:$Y$155,2,FALSE)","v":122},{"$f":"VLOOKUP(K1012,Transfer!$X$19:$Y$30,2,FALSE)","v":8},0,0,121,"G",{"$f":"VLOOKUP(F1012,PartH,MATCH(G1012,PartH!$B$4:$N$4,0),FALSE)","v":0},null,{"$f":"VLOOKUP(F1012,Transfer!$U$19:$V$170,2,FALSE)","v":"H12f"},null,0.27556036064406497,0]
["202627-0-H-H12f","122_9",{"$f":"FrontPage!$N$2","v":{"v":1,"d":"1.0"}},"202627","CT1",{"$f":"VLOOKUP(J1013,Transfer!$X$35:$Y$155,2,FALSE)","v":122},{"$f":"VLOOKUP(K1013,Transfer!$X$19:$Y$30,2,FALSE)","v":9},0,0,121,"H",{"$f":"VLOOKUP(F1013,PartH,MATCH(G1013,PartH!$B$4:$N$4,0),FALSE)","v":0},null,{"$f":"VLOOKUP(F1013,Transfer!$U$19:$V$170,2,FALSE)","v":"H12f"},null,0.9289603002049767,0]
["202627-0-I-H12f","122_10",{"$f":"FrontPage!$N$2","v":{"v":1,"d":"1.0"}},"202627","CT1",{"$f":"VLOOKUP(J1014,Transfer!$X$35:$Y$155,2,FALSE)","v":122},{"$f":"VLOOKUP(K1014,Transfer!$X$19:$Y$30,2,FALSE)","v":10},0,0,121,"I",{"$f":"VLOOKUP(F1014,PartH,MATCH(G1014,PartH!$B$4:$N$4,0),FALSE)","v":0},null,{"$f":"VLOOKUP(F1014,Transfer!$U$19:$V$170,2,FALSE)","v":"H12f"},null,0.1799998309129055,0]
["202627-0-TOTAL-H12f","122_11",{"$f":"FrontPage!$N$2","v":{"v":1,"d":"1.0"}},"202627","CT1",{"$f":"VLOOKUP(J1015,Transfer!$X$35:$Y$155,2,FALSE)","v":122},{"$f":"VLOOKUP(K1015,Transfer!$X$19:$Y$30,2,FALSE)","v":11},0,0,121,"TOTAL",{"$f":"VLOOKUP(F1015,PartH,MATCH(G1015,PartH!$B$4:$N$4,0),FALSE)","v":0},null,{"$f":"VLOOKUP(F1015,Transfer!$U$19:$V$170,2,FALSE)","v":"H12f"},null,0.8567457240717136,0]
["202627-0-%-H12fa","122.1_12",{"$f":"FrontPage!$N$2","v":{"v":1,"d":"1.0"}},"202627","CT1",{"$f":"VLOOKUP(J1016,Transfer!$X$35:$Y$157,2,FALSE)","v":122.1},{"$f":"VLOOKUP(K1016,Transfer!$X$19:$Y$30,2,FALSE)","v":12},0,{"$f":"L1016","v":0},122.1,"%",{"$f":"VLOOKUP(F1016,PartH,MATCH(G1016,PartH!$B$4:$N$4,0),FALSE)","v":0},null,{"$f":"VLOOKUP(F1016,Transfer!$U$19:$V$170,2,FALSE)","v":"H12fa"},null,0.0696857678002275,0]
["202627-0-A-H12fa","122.1_2",{"$f":"FrontPage!$N$2","v":{"v":1,"d":"1.0"}},"202627","CT1",{"$f":"VLOOKUP(J1017,Transfer!$X$35:$Y$157,2,FALSE)","v":122.1},{"$f":"VLOOKUP(K1017,Transfer!$X$19:$Y$30,2,FALSE)","v":2},0,0,122.1,"A",{"$f":"VLOOKUP(F1017,PartH,MATCH(G1017,PartH!$B$4:$N$4,0),FALSE)","v":0},null,{"$f":"VLOOKUP(F1017,Transfer!$U$19:$V$170,2,FALSE)","v":"H12fa"},null,0.6195348059775954,0]
["202627-0-B-H12fa","122.1_3",{"$f":"FrontPage!$N$2","v":{"v":1,"d":"1.0"}},"202627","CT1",{"$f":"VLOOKUP(J1018,Transfer!$X$35:$Y$157,2,FALSE)","v":122.1},{"$f":"VLOOKUP(K1018,Transfer!$X$19:$Y$30,2,FALSE)","v":3},0,0,122.1,"B",{"$f":"VLOOKUP(F1018,PartH,MATCH(G1018,PartH!$B$4:$N$4,0),FALSE)","v":0},null,{"$f":"VLOOKUP(F1018,Transfer!$U$19:$V$170,2,FALSE)","v":"H12fa"},null,0.785420598051312,0]
["202627-0-C-H12fa","122.1_4",{"$f":"FrontPage!$N$2","v":{"v":1,"d":"1.0"}},"202627","CT1",{"$f":"VLOOKUP(J1019,Transfer!$X$35:$Y$157,2,FALSE)","v":122.1},{"$f":"VLOOKUP(K1019,Transfer!$X$19:$Y$30,2,FALSE)","v":4},0,0,122.1,"C",{"$f":"VLOOKUP(F1019,PartH,MATCH(G1019,PartH!$B$4:$N$4,0),FALSE)","v":0},null,{"$f":"VLOOKUP(F1019,Transfer!$U$19:$V$170,2,FALSE)","v":"H12fa"},null,0.91755613802527,0]
["202627-0-D-H12fa","122.1_5",{"$f":"FrontPage!$N$2","v":{"v":1,"d":"1.0"}},"202627","CT1",{"$f":"VLOOKUP(J1020,Transfer!$X$35:$Y$157,2,FALSE)","v":122.1},{"$f":"VLOOKUP(K1020,Transfer!$X$19:$Y$30,2,FALSE)","v":5},0,0,122.1,"D",{"$f":"VLOOKUP(F1020,PartH,MATCH(G1020,PartH!$B$4:$N$4,0),FALSE)","v":0},null,{"$f":"VLOOKUP(F1020,Transfer!$U$19:$V$170,2,FALSE)","v":"H12fa"},null,0.1525543087666541,0]
["202627-0-E-H12fa","122.1_6",{"$f":"FrontPage!$N$2","v":{"v":1,"d":"1.0"}},"202627","CT1",{"$f":"VLOOKUP(J1021,Transfer!$X$35:$Y$157,2,FALSE)","v":122.1},{"$f":"VLOOKUP(K1021,Transfer!$X$19:$Y$30,2,FALSE)","v":6},0,0,122.1,"E",{"$f":"VLOOKUP(F1021,PartH,MATCH(G1021,PartH!$B$4:$N$4,0),FALSE)","v":0},null,{"$f":"VLOOKUP(F1021,Transfer!$U$19:$V$170,2,FALSE)","v":"H12fa"},null,0.6771101431782168,0]
["202627-0-F-H12fa","122.1_7",{"$f":"FrontPage!$N$2","v":{"v":1,"d":"1.0"}},"202627","CT1",{"$f":"VLOOKUP(J1022,Transfer!$X$35:$Y$157,2,FALSE)","v":122.1},{"$f":"VLOOKUP(K1022,Transfer!$X$19:$Y$30,2,FALSE)","v":7},0,0,122.1,"F",{"$f":"VLOOKUP(F1022,PartH,MATCH(G1022,PartH!$B$4:$N$4,0),FALSE)","v":0},null,{"$f":"VLOOKUP(F1022,Transfer!$U$19:$V$170,2,FALSE)","v":"H12fa"},null,0.4793640784502867,0]
["202627-0-G-H12fa","122.1_8",{"$f":"FrontPage!$N$2","v":{"v":1,"d":"1.0"}},"202627","CT1",{"$f":"VLOOKUP(J1023,Transfer!$X$35:$Y$157,2,FALSE)","v":122.1},{"$f":"VLOOKUP(K1023,Transfer!$X$19:$Y$30,2,FALSE)","v":8},0,0,122.1,"G",{"$f":"VLOOKUP(F1023,PartH,MATCH(G1023,PartH!$B$4:$N$4,0),FALSE)","v":0},null,{"$f":"VLOOKUP(F1023,Transfer!$U$19:$V$170,2,FALSE)","v":"H12fa"},null,0.7309508203378249,0]
["202627-0-H-H12fa","122.1_9",{"$f":"FrontPage!$N$2","v":{"v":1,"d":"1.0"}},"202627","CT1",{"$f":"VLOOKUP(J1024,Transfer!$X$35:$Y$157,2,FALSE)","v":122.1},{"$f":"VLOOKUP(K1024,Transfer!$X$19:$Y$30,2,FALSE)","v":9},0,0,122.1,"H",{"$f":"VLOOKUP(F1024,PartH,MATCH(G1024,PartH!$B$4:$N$4,0),FALSE)","v":0},null,{"$f":"VLOOKUP(F1024,Transfer!$U$19:$V$170,2,FALSE)","v":"H12fa"},null,0.011656374875133046,0]
["202627-0-I-H12fa","122.1_10",{"$f":"FrontPage!$N$2","v":{"v":1,"d":"1.0"}},"202627","CT1",{"$f":"VLOOKUP(J1025,Transfer!$X$35:$Y$157,2,FALSE)","v":122.1},{"$f":"VLOOKUP(K1025,Transfer!$X$19:$Y$30,2,FALSE)","v":10},0,0,122.1,"I",{"$f":"VLOOKUP(F1025,PartH,MATCH(G1025,PartH!$B$4:$N$4,0),FALSE)","v":0},null,{"$f":"VLOOKUP(F1025,Transfer!$U$19:$V$170,2,FALSE)","v":"H12fa"},null,0.3931573324851563,0]
["202627-0-TOTAL-H12fa","122.1_11",{"$f":"FrontPage!$N$2","v":{"v":1,"d":"1.0"}},"202627","CT1",{"$f":"VLOOKUP(J1026,Transfer!$X$35:$Y$157,2,FALSE)","v":122.1},{"$f":"VLOOKUP(K1026,Transfer!$X$19:$Y$30,2,FALSE)","v":11},0,0,122.1,"TOTAL",{"$f":"VLOOKUP(F1026,PartH,MATCH(G1026,PartH!$B$4:$N$4,0),FALSE)","v":0},null,{"$f":"VLOOKUP(F1026,Transfer!$U$19:$V$170,2,FALSE)","v":"H12fa"},null,0.3018132452896557,{"$f":"+I1026*P1026","v":0}]
["202627-0-%-H12fb","122.2_12",{"$f":"FrontPage!$N$2","v":{"v":1,"d":"1.0"}},"202627","CT1",{"$f":"VLOOKUP(J1027,Transfer!$X$35:$Y$157,2,FALSE)","v":122.2},{"$f":"VLOOKUP(K1027,Transfer!$X$19:$Y$30,2,FALSE)","v":12},0,0,122.2,"%",{"$f":"VLOOKUP(F1027,PartH,MATCH(G1027,PartH!$B$4:$N$4,0),FALSE)","v":0},null,{"$f":"VLOOKUP(F1027,Transfer!$U$19:$V$170,2,FALSE)","v":"H12fb"},null,0.005428251955072683,0]
["202627-0-A-H12fb","122.2_2",{"$f":"FrontPage!$N$2","v":{"v":1,"d":"1.0"}},"202627","CT1",{"$f":"VLOOKUP(J1028,Transfer!$X$35:$Y$157,2,FALSE)","v":122.2},{"$f":"VLOOKUP(K1028,Transfer!$X$19:$Y$30,2,FALSE)","v":2},0,0,122.2,"A",{"$f":"VLOOKUP(F1028,PartH,MATCH(G1028,PartH!$B$4:$N$4,0),FALSE)","v":0},null,{"$f":"VLOOKUP(F1028,Transfer!$U$19:$V$170,2,FALSE)","v":"H12fb"},null,0.13445695194208607,0]
["202627-0-B-H12fb","122.2_3",{"$f":"FrontPage!$N$2","v":{"v":1,"d":"1.0"}},"202627","CT1",{"$f":"VLOOKUP(J1029,Transfer!$X$35:$Y$157,2,FALSE)","v":122.2},{"$f":"VLOOKUP(K1029,Transfer!$X$19:$Y$30,2,FALSE)","v":3},0,0,122.2,"B",{"$f":"VLOOKUP(F1029,PartH,MATCH(G1029,PartH!$B$4:$N$4,0),FALSE)","v":0},null,{"$f":"VLOOKUP(F1029,Transfer!$U$19:$V$170,2,FALSE)","v":"H12fb"},null,0.01409670144736963,0]
["202627-0-C-H12fb","122.2_4",{"$f":"FrontPage!$N$2","v":{"v":1,"d":"1.0"}},"202627","CT1",{"$f":"VLOOKUP(J1030,Transfer!$X$35:$Y$157,2,FALSE)","v":122.2},{"$f":"VLOOKUP(K1030,Transfer!$X$19:$Y$30,2,FALSE)","v":4},0,0,122.2,"C",{"$f":"VLOOKUP(F1030,PartH,MATCH(G1030,PartH!$B$4:$N$4,0),FALSE)","v":0},null,{"$f":"VLOOKUP(F1030,Transfer!$U$19:$V$170,2,FALSE)","v":"H12fb"},null,0.7542995756913299,0]
["202627-0-D-H12fb","122.2_5",{"$f":"FrontPage!$N$2","v":{"v":1,"d":"1.0"}},"202627","CT1",{"$f":"VLOOKUP(J1031,Transfer!$X$35:$Y$157,2,FALSE)","v":122.2},{"$f":"VLOOKUP(K1031,Transfer!$X$19:$Y$30,2,FALSE)","v":5},0,0,122.2,"D",{"$f":"VLOOKUP(F1031,PartH,MATCH(G1031,PartH!$B$4:$N$4,0),FALSE)","v":0},null,{"$f":"VLOOKUP(F1031,Transfer!$U$19:$V$170,2,FALSE)","v":"H12fb"},null,0.4273080898010253,0]
["202627-0-E-H12fb","122.2_6",{"$f":"FrontPage!$N$2","v":{"v":1,"d":"1.0"}},"202627","CT1",{"$f":"VLOOKUP(J1032,Transfer!$X$35:$Y$157,2,FALSE)","v":122.2},{"$f":"VLOOKUP(K1032,Transfer!$X$19:$Y$30,2,FALSE)","v":6},0,0,122.2,"E",{"$f":"VLOOKUP(F1032,PartH,MATCH(G1032,PartH!$B$4:$N$4,0),FALSE)","v":0},null,{"$f":"VLOOKUP(F1032,Transfer!$U$19:$V$170,2,FALSE)","v":"H12fb"},null,0.5914863523150922,0]
["202627-0-F-H12fb","122.2_7",{"$f":"FrontPage!$N$2","v":{"v":1,"d":"1.0"}},"202627","CT1",{"$f":"VLOOKUP(J1033,Transfer!$X$35:$Y$157,2,FALSE)","v":122.2},{"$f":"VLOOKUP(K1033,Transfer!$X$19:$Y$30,2,FALSE)","v":7},0,0,122.2,"F",{"$f":"VLOOKUP(F1033,PartH,MATCH(G1033,PartH!$B$4:$N$4,0),FALSE)","v":0},null,{"$f":"VLOOKUP(F1033,Transfer!$U$19:$V$170,2,FALSE)","v":"H12fb"},null,0.9107775052288892,0]
["202627-0-G-H12fb","122.2_8",{"$f":"FrontPage!$N$2","v":{"v":1,"d":"1.0"}},"202627","CT1",{"$f":"VLOOKUP(J1034,Transfer!$X$35:$Y$157,2,FALSE)","v":122.2},{"$f":"VLOOKUP(K1034,Transfer!$X$19:$Y$30,2,FALSE)","v":8},0,0,122.2,"G",{"$f":"VLOOKUP(F1034,PartH,MATCH(G1034,PartH!$B$4:$N$4,0),FALSE)","v":0},null,{"$f":"VLOOKUP(F1034,Transfer!$U$19:$V$170,2,FALSE)","v":"H12fb"},null,0.17803735756255656,0]
["202627-0-H-H12fb","122.2_9",{"$f":"FrontPage!$N$2","v":{"v":1,"d":"1.0"}},"202627","CT1",{"$f":"VLOOKUP(J1035,Transfer!$X$35:$Y$157,2,FALSE)","v":122.2},{"$f":"VLOOKUP(K1035,Transfer!$X$19:$Y$30,2,FALSE)","v":9},0,0,122.2,"H",{"$f":"VLOOKUP(F1035,PartH,MATCH(G1035,PartH!$B$4:$N$4,0),FALSE)","v":0},null,{"$f":"VLOOKUP(F1035,Transfer!$U$19:$V$170,2,FALSE)","v":"H12fb"},null,0.5082630676317589,0]
["202627-0-I-H12fb","122.2_10",{"$f":"FrontPage!$N$2","v":{"v":1,"d":"1.0"}},"202627","CT1",{"$f":"VLOOKUP(J1036,Transfer!$X$35:$Y$157,2,FALSE)","v":122.2},{"$f":"VLOOKUP(K1036,Transfer!$X$19:$Y$30,2,FALSE)","v":10},0,0,122.2,"I",{"$f":"VLOOKUP(F1036,PartH,MATCH(G1036,PartH!$B$4:$N$4,0),FALSE)","v":0},null,{"$f":"VLOOKUP(F1036,Transfer!$U$19:$V$170,2,FALSE)","v":"H12fb"},null,0.08116538001403517,0]
["202627-0-TOTAL-H12fb","122.2_11",{"$f":"FrontPage!$N$2","v":{"v":1,"d":"1.0"}},"202627","CT1",{"$f":"VLOOKUP(J1037,Transfer!$X$35:$Y$157,2,FALSE)","v":122.2},{"$f":"VLOOKUP(K1037,Transfer!$X$19:$Y$30,2,FALSE)","v":11},0,0,122.2,"TOTAL",{"$f":"VLOOKUP(F1037,PartH,MATCH(G1037,PartH!$B$4:$N$4,0),FALSE)","v":0},null,{"$f":"VLOOKUP(F1037,Transfer!$U$19:$V$170,2,FALSE)","v":"H12fb"},null,0.6486107943529356,0]
["202627-0-A-H12g","123_2",{"$f":"FrontPage!$N$2","v":{"v":1,"d":"1.0"}},"202627","CT1",{"$f":"VLOOKUP(J1038,Transfer!$X$35:$Y$155,2,FALSE)","v":123},{"$f":"VLOOKUP(K1038,Transfer!$X$19:$Y$30,2,FALSE)","v":2},0,0,122,"A",{"$f":"VLOOKUP(F1038,PartH,MATCH(G1038,PartH!$B$4:$N$4,0),FALSE)","v":0},null,{"$f":"VLOOKUP(F1038,Transfer!$U$19:$V$170,2,FALSE)","v":"H12g"},null,0.8231442370252545,0]
["202627-0-B-H12g","123_3",{"$f":"FrontPage!$N$2","v":{"v":1,"d":"1.0"}},"202627","CT1",{"$f":"VLOOKUP(J1039,Transfer!$X$35:$Y$155,2,FALSE)","v":123},{"$f":"VLOOKUP(K1039,Transfer!$X$19:$Y$30,2,FALSE)","v":3},0,0,122,"B",{"$f":"VLOOKUP(F1039,PartH,MATCH(G1039,PartH!$B$4:$N$4,0),FALSE)","v":0},null,{"$f":"VLOOKUP(F1039,Transfer!$U$19:$V$170,2,FALSE)","v":"H12g"},null,0.07309852350302215,0]
["202627-0-C-H12g","123_4",{"$f":"FrontPage!$N$2","v":{"v":1,"d":"1.0"}},"202627","CT1",{"$f":"VLOOKUP(J1040,Transfer!$X$35:$Y$155,2,FALSE)","v":123},{"$f":"VLOOKUP(K1040,Transfer!$X$19:$Y$30,2,FALSE)","v":4},0,0,122,"C",{"$f":"VLOOKUP(F1040,PartH,MATCH(G1040,PartH!$B$4:$N$4,0),FALSE)","v":0},null,{"$f":"VLOOKUP(F1040,Transfer!$U$19:$V$170,2,FALSE)","v":"H12g"},null,0.8874842453058204,0]
["202627-0-D-H12g","123_5",{"$f":"FrontPage!$N$2","v":{"v":1,"d":"1.0"}},"202627","CT1",{"$f":"VLOOKUP(J1041,Transfer!$X$35:$Y$155,2,FALSE)","v":123},{"$f":"VLOOKUP(K1041,Transfer!$X$19:$Y$30,2,FALSE)","v":5},0,0,122,"D",{"$f":"VLOOKUP(F1041,PartH,MATCH(G1041,PartH!$B$4:$N$4,0),FALSE)","v":0},null,{"$f":"VLOOKUP(F1041,Transfer!$U$19:$V$170,2,FALSE)","v":"H12g"},null,0.6605469691577223,0]
["202627-0-E-H12g","123_6",{"$f":"FrontPage!$N$2","v":{"v":1,"d":"1.0"}},"202627","CT1",{"$f":"VLOOKUP(J1042,Transfer!$X$35:$Y$155,2,FALSE)","v":123},{"$f":"VLOOKUP(K1042,Transfer!$X$19:$Y$30,2,FALSE)","v":6},0,0,122,"E",{"$f":"VLOOKUP(F1042,PartH,MATCH(G1042,PartH!$B$4:$N$4,0),FALSE)","v":0},null,{"$f":"VLOOKUP(F1042,Transfer!$U$19:$V$170,2,FALSE)","v":"H12g"},null,0.6792944122673346,0]
["202627-0-F-H12g","123_7",{"$f":"FrontPage!$N$2","v":{"v":1,"d":"1.0"}},"202627","CT1",{"$f":"VLOOKUP(J1043,Transfer!$X$35:$Y$155,2,FALSE)","v":123},{"$f":"VLOOKUP(K1043,Transfer!$X$19:$Y$30,2,FALSE)","v":7},0,0,122,"F",{"$f":"VLOOKUP(F1043,PartH,MATCH(G1043,PartH!$B$4:$N$4,0),FALSE)","v":0},null,{"$f":"VLOOKUP(F1043,Transfer!$U$19:$V$170,2,FALSE)","v":"H12g"},null,0.6911619111447878,0]
["202627-0-G-H12g","123_8",{"$f":"FrontPage!$N$2","v":{"v":1,"d":"1.0"}},"202627","CT1",{"$f":"VLOOKUP(J1044,Transfer!$X$35:$Y$155,2,FALSE)","v":123},{"$f":"VLOOKUP(K1044,Transfer!$X$19:$Y$30,2,FALSE)","v":8},0,0,122,"G",{"$f":"VLOOKUP(F1044,PartH,MATCH(G1044,PartH!$B$4:$N$4,0),FALSE)","v":0},null,{"$f":"VLOOKUP(F1044,Transfer!$U$19:$V$170,2,FALSE)","v":"H12g"},null,0.8549501726040062,0]
["202627-0-H-H12g","123_9",{"$f":"FrontPage!$N$2","v":{"v":1,"d":"1.0"}},"202627","CT1",{"$f":"VLOOKUP(J1045,Transfer!$X$35:$Y$155,2,FALSE)","v":123},{"$f":"VLOOKUP(K1045,Transfer!$X$19:$Y$30,2,FALSE)","v":9},0,0,122,"H",{"$f":"VLOOKUP(F1045,PartH,MATCH(G1045,PartH!$B$4:$N$4,0),FALSE)","v":0},null,{"$f":"VLOOKUP(F1045,Transfer!$U$19:$V$170,2,FALSE)","v":"H12g"},null,0.8658263405073044,0]
["202627-0-I-H12g","123_10",{"$f":"FrontPage!$N$2","v":{"v":1,"d":"1.0"}},"202627","CT1",{"$f":"VLOOKUP(J1046,Transfer!$X$35:$Y$155,2,FALSE)","v":123},{"$f":"VLOOKUP(K1046,Transfer!$X$19:$Y$30,2,FALSE)","v":10},0,0,122,"I",{"$f":"VLOOKUP(F1046,PartH,MATCH(G1046,PartH!$B$4:$N$4,0),FALSE)","v":0},null,{"$f":"VLOOKUP(F1046,Transfer!$U$19:$V$170,2,FALSE)","v":"H12g"},null,0.26897323008649776,0]
["202627-0-TOTAL-H12g","123_11",{"$f":"FrontPage!$N$2","v":{"v":1,"d":"1.0"}},"202627","CT1",{"$f":"VLOOKUP(J1047,Transfer!$X$35:$Y$155,2,FALSE)","v":123},{"$f":"VLOOKUP(K1047,Transfer!$X$19:$Y$30,2,FALSE)","v":11},0,0,122,"TOTAL",{"$f":"VLOOKUP(F1047,PartH,MATCH(G1047,PartH!$B$4:$N$4,0),FALSE)","v":0},"H-End",{"$f":"VLOOKUP(F1047,Transfer!$U$19:$V$170,2,FALSE)","v":"H12g"},null,0.4640323135771922,0]

{"sheet":"AuthDetails","index":11,"n_rows":53,"n_cols":17,"rows_kept":53,"hidden":true}
["N.B. DO NOT CHANGE ANY HIGHLIGHTED AREAS"]
[{"$nulls":4},"Query from Contacts Database"]
[1,{"$f":"VLOOKUP($A$3,$A$5:$B$27,2)","v":0},{"$f":"VLOOKUP(uanumber,C31:D53,2,FALSE)","v":"Dewiswch eich awdurdod"},null,"Range : Addresses",null,"UPDATED 17/10/25"]
["Index","UACode","UAName","UAName (W)",null,1,2,3,4,5,6,7,8,9,10,11,12]
[1,0,"Please select your authority","Dewiswch eich awdurdod",null,"UACode","AuthorityName","CFOName","Address1","Address2","Address3","Address4","Postcode","CT1Name","CT1EMail","CT1STDCode","CT1Number"]
[2,512,"Isle of Anglesey County Council","Cyngor Sir Ynys Môn",2,512,"Cyngor Sir Ynys Môn","Marc Jones","Swyddfeydd y Cyngor","Llangefni","Ynys Môn",null,"LL77 7TW","Llinos M. Roberts","LlinosRoberts5@ynysmon.llyw.cymru;  egxfi@anglesey.gov.uk; StephTurnock@ynysmon.llyw.cymru;",1248,"752667 / 752651"]
[3,514,"Gwynedd Council","Cyngor Gwynedd",3,514,"Cyngor Gwynedd","Mr Dewi Aeron Morgan","Swyddfa'r Cyngor","Stryd y Jêl","Caernarfon","Gwynedd","LL55 1SH","Bleddyn Jones","edwardbleddynjones@gwynedd.llyw.cymru; sianpugh@gwynedd.llyw.cymru; dewiaeronmorgan@gwynedd.llyw.cymru;",1286,"682841 / 682702"]
[4,516,"Conwy County Borough Council","Cyngor Bwrdeistref Sirol Conwy",4,516,"Conwy County Borough Council","Amanda Hughes","Bodlondeb","Bangor Road","Conwy",null,"LL32 8DU","Susan Elizabeth Plumb","susan.plumb@conwy.gov.uk; Jason.Parker@conwy.gov.uk;",1492,"576447 / 576446"]
[5,518,"Denbighshire County Council","Cyngor Sir Ddinbych",5,518,"Denbighshire County Council","Liz Thomas","County Hall","Wynnstay Road","Ruthin","Denbighshire","LL15 1YN","Leah Gray","leah.gray@denbighshire.gov.uk; paul.barnes@denbighshire.gov.uk;",1824,706459]
[6,520,"Flintshire County Council","Cyngor Sir y Fflint",6,520,"Flintshire County Council","Gary Ferguson","County Hall","Mold","Flintshire",null,"CH7 6NB","Vicki J Hankin","vicki.j.hankin@flintshire.gov.uk; david.barnes@flintshire.gov.uk",1352,"704833 / 702916"]
[7,522,"Wrexham County Borough Council","Cyngor Bwrdeistref Sirol Wrecsam",7,522,"Wrexham County Borough Council","Mr Richard Weigh","1st Floor","Lambpit Street",null,"Wrexham","LL11 1AR","Matthew Evans","lisa.case@wrexham.gov.uk; Karen.Edwards@wrexham.gov.uk; Matthew.Evans@wrexham.gov.uk;",1978,"292841 / 292803"]
[8,524,"Powys County Council","Cyngor Sir Powys",8,524,"Powys County Council","Jane Thomas","County Hall","Llandrindod Wells","Powys",null,"LD1 5LG","Andrew Griffiths","andrew.griffiths@powys.gov.uk ; mari.thomas@powys.gov.uk;",1874,623309]
[9,526,"Ceredigion County Council","Cyngor Sir Ceredigion",9,526,"Ceredigion County Council","Mr Duncan Hall","Canolfan Rheidol, Rhodfa Padarn","Llanbadarn Fawr,","Aberystwyth","Ceredigion","SY23 3UE","Rhodri Morris","Rhodri.Morris@ceredigion.gov.uk; Ann.Ireland@ceredigion.gov.uk;",1970,"633163 / 633160"]
[10,528,"Pembrokeshire County Council","Cyngor Sir Penfro",10,528,"Pembrokeshire County Council","Jonathan Haswell","County Hall","Haverfordwest","Pembrokeshire",null,"SA61 1TP","Heidi Morrison","Heidi.morrison@pembrokeshire.gov.uk",1437,776218]
[11,530,"Carmarthenshire County Council","Cyngor Sir Gaerfyrddin",11,530,"Carmarthenshire County Council","Mr Chris Moore","County Hall","Carmarthen","Carmarthenshire",null,"SA31 1JP","Ann Thomas, Dewi James","AnThomas@carmarthenshire.gov.uk; DewJames@carmarthesnhire.gov.uk; SWThomas@carmarthenshire.gov.uk;",1267,228740]
[12,532,"City and County of Swansea","Cyngor Dinas a Sir Abertawe",12,532,"City and County of Swansea","Ben Smith","Civic Centre","Oystermouth Road","Swansea",null,"SA1 3SN","Heather Young, Paula Lewis","heather.young@swansea.gov.uk; Paula.Lewis@swansea.gov.uk;",1792,"635925 / 635890"]
[13,534,"Neath Port Talbot County Borough Council","Cyngor Bwrdeistref Sirol Castell-Nedd Port Talbot",13,534,"Neath Port Talbot County Borough Council","Mr Huw Jones","Civic Centre","Port Talbot",null,null,"SA13 1PJ","Ann Hinder / Hywel Jenkins","a.hinder@npt.gov.uk; h.jenkins@npt.gov.uk",1639,763908]
[14,536,"Bridgend County Borough Council","Cyngor Bwrdeistref Sirol Pen-y-Bont ar Ogwr",14,536,"Bridgend County Borough Council","Carys Lord","PO Box 4","Civic Offices","Angel Street","Bridgend","CF31 4WB","Helen Rodgers","Helen.Rodgers@bridgend.gov.uk",1656,643194]
[15,538,"The Vale of Glamorgan Council","Cyngor Bro Morgannwg",15,538,"Vale of Glamorgan Council","Matt Bowmer","Civic Offices","Holton Road","Barry","Vale of Glamorgan","CF63 4RU","Andrew Saunders, SP Jones","ajsaunders@valeofglamorgan.gov.uk; spjones@valeofglamorgan.gov.uk",1446,709294]
[16,540,"Rhondda, Cynon, Taff C.B.C.","Cyngor Bwrdeistref Sirol Rhondda Cynon Taf",16,540,"Rhondda Cynon Taf County Borough Council","Mr Barrie Davies","Bronwydd","Porth","Rhondda",null,"CF39 9DL","Matthew Phillips","matthew.d.phillips@rhondda-cynon-taff.gov.uk",1443,680539]
[17,542,"Merthyr Tydfil County Borough Council","Cyngor Bwrdeistref Sirol Merthyr Tudful",17,542,"Merthyr Tydfil County Borough Council","Craig Flynn","Civic Centre","Castle Street","Merthyr Tydfil",null,"CF47 8AN","Mark Price","Mark.Price@merthyr.gov.uk; Revenues@merthyr.gov.uk",1685,"725242 / 725096"]
[18,544,"Caerphilly County Borough Council","Cyngor Bwrdeistref Sirol Caerffili",18,544,"Caerphilly County Borough Council","Stephen Harris","Penallta House","Tredomen Park","Ystrad Mynach",null,"CF82 7PG","Glenn Edwards","HARRISR@CAERPHILLY.GOV.UK; EDWARG1@CAERPHILLY.GOV.UK;SYKESL@caerphilly.gov.uk",1443,"863421 / 864013"]
[19,545,"Blaenau Gwent County Borough Council","Cyngor Bwrdeistref Sirol Blaenau Gwent",19,545,"Blaenau Gwent County Borough Council","Rhian Hayden","Municipal Offices","Civic Centre","Ebbw Vale",null,"NP3 6XB","David Elias","dave.elias@blaenau-gwent.gov.uk",1495,355208]
[20,546,"Torfaen County Borough Council","Cyngor Bwrdeistref Sirol Torfaen",20,546,"Torfaen County Borough Council","Andrew Lovegrove – Strategic Director and S151","Civic Centre","Pontypool","Torfaen",null,"NP4 6YB","Deb Smith / Sharon Lear","deb.smith@torfaen.gov.uk; sharon.lear@torfaen.gov.uk",1495,"742359 / 766333"]
[21,548,"Monmouthshire County Council","Cyngor Sir Fynwy",21,548,"Monmouthshire County Council","Peter Davies","County Hall","Rhadyr","Usk","Monmouthshire","NP15 1GA","Deb Smith","deb.smith@torfaen.gov.uk; RuthDonovan@monmouthshire.gov.uk;",1633,"742359 (Internal 2359)"]
[22,550,"Newport City Council","Cyngor Dinas Casnewydd",22,550,"Newport City Council","Meirion Rushworth","Civic Centre","Newport",null,null,"NP20 4UR","Emma Johnson","Emma.Johnson@newport.gov.uk",1633,851338]
[23,552,"Cardiff County Council","Cyngor Dinas Caerdydd",23,552,"The City of Cardiff Council","Mr Christopher Lee","County Hall","Atlantic Wharf","Cardiff",null,"CF1 5UW","Sally Ormiston, Maria Maddar","sormiston@cardiff.gov.uk; MAMaddar@cardiff.gov.uk",2920,"872290 (x/est. 72290)"]
[]
[]
["DO NOT DELETE - List for Language Drop-Down",null,null,"List for FrontPage DropDown",null,"Certified Date",{"$f":"\"14 November \"&LEFT(Transfer!X2,4)","v":"14 November 2025"},{"$f":"\"14 Tachwedd \"&LEFT(Transfer!X2,4)","v":"14 Tachwedd 2025"},"Ebost: yclll.trosglwyddo@llyw.cymru"]
["Welsh / Cymraeg",null,{"$f":"B5","v":0},{"$f":"IF(FrontPage!$L$4=1,AuthDetails!D5,AuthDetails!C5)","v":"Dewiswch eich awdurdod"},null,"Ratified Date",{"$f":"\"9 January \"&LEFT(Transfer!W2,4)","v":"9 January 2026"},{"$f":"\"9 Ionawr \"&LEFT(Transfer!W2,4)","v":"9 Ionawr 2026"},"Email: lgfs.transfer@gov.wales"]
["English / Saesneg",null,{"$f":"B6","v":512},{"$f":"IF(Data!$O$2=TRUE,\"\",IF(FrontPage!$L$4=1,AuthDetails!D6,AuthDetails!C6))","v":"Cyngor Sir Ynys Môn"}]
[null,null,514,{"$f":"IF(Data!$O$2=TRUE,\"\",IF(FrontPage!$L$4=1,AuthDetails!D7,AuthDetails!C7))","v":"Cyngor Gwynedd"},null,"Certified",{"$f":"IF(FrontPage!$L$4=1,AuthDetails!H30,AuthDetails!G30)","v":"14 Tachwedd 2025"},null,{"$f":"IF(FrontPage!$L$4=1,I30,I31)","v":"Ebost: yclll.trosglwyddo@llyw.cymru"}]
[null,null,516,{"$f":"IF(Data!$O$2=TRUE,\"\",IF(FrontPage!$L$4=1,AuthDetails!D8,AuthDetails!C8))","v":"Cyngor Bwrdeistref Sirol Conwy"},null,"Ratified",{"$f":"IF(FrontPage!$L$4=1,AuthDetails!H31,AuthDetails!G31)","v":"9 Ionawr 2026"}]
[null,null,518,{"$f":"IF(Data!$O$2=TRUE,\"\",IF(FrontPage!$L$4=1,AuthDetails!D9,AuthDetails!C9))","v":"Cyngor Sir Ddinbych"}]
[null,null,520,{"$f":"IF(Data!$O$2=TRUE,\"\",IF(FrontPage!$L$4=1,AuthDetails!D10,AuthDetails!C10))","v":"Cyngor Sir y Fflint"}]
[null,null,522,{"$f":"IF(Data!$O$2=TRUE,\"\",IF(FrontPage!$L$4=1,AuthDetails!D11,AuthDetails!C11))","v":"Cyngor Bwrdeistref Sirol Wrecsam"}]
[null,null,524,{"$f":"IF(Data!$O$2=TRUE,\"\",IF(FrontPage!$L$4=1,AuthDetails!D12,AuthDetails!C12))","v":"Cyngor Sir Powys"}]
[null,null,526,{"$f":"IF(Data!$O$2=TRUE,\"\",IF(FrontPage!$L$4=1,AuthDetails!D13,AuthDetails!C13))","v":"Cyngor Sir Ceredigion"}]
[null,null,528,{"$f":"IF(Data!$O$2=TRUE,\"\",IF(FrontPage!$L$4=1,AuthDetails!D14,AuthDetails!C14))","v":"Cyngor Sir Penfro"}]
[null,null,530,{"$f":"IF(Data!$O$2=TRUE,\"\",IF(FrontPage!$L$4=1,AuthDetails!D15,AuthDetails!C15))","v":"Cyngor Sir Gaerfyrddin"}]
[null,null,532,{"$f":"IF(Data!$O$2=TRUE,\"\",IF(FrontPage!$L$4=1,AuthDetails!D16,AuthDetails!C16))","v":"Cyngor Dinas a Sir Abertawe"}]
[null,null,534,{"$f":"IF(Data!$O$2=TRUE,\"\",IF(FrontPage!$L$4=1,AuthDetails!D17,AuthDetails!C17))","v":"Cyngor Bwrdeistref Sirol Castell-Nedd Port Talbot"}]
[null,null,536,{"$f":"IF(Data!$O$2=TRUE,\"\",IF(FrontPage!$L$4=1,AuthDetails!D18,AuthDetails!C18))","v":"Cyngor Bwrdeistref Sirol Pen-y-Bont ar Ogwr"}]
[null,null,538,{"$f":"IF(Data!$O$2=TRUE,\"\",IF(FrontPage!$L$4=1,AuthDetails!D19,AuthDetails!C19))","v":"Cyngor Bro Morgannwg"}]
[null,null,540,{"$f":"IF(Data!$O$2=TRUE,\"\",IF(FrontPage!$L$4=1,AuthDetails!D20,AuthDetails!C20))","v":"Cyngor Bwrdeistref Sirol Rhondda Cynon Taf"}]
[null,null,542,{"$f":"IF(Data!$O$2=TRUE,\"\",IF(FrontPage!$L$4=1,AuthDetails!D21,AuthDetails!C21))","v":"Cyngor Bwrdeistref Sirol Merthyr Tudful"}]
[null,null,544,{"$f":"IF(Data!$O$2=TRUE,\"\",IF(FrontPage!$L$4=1,AuthDetails!D22,AuthDetails!C22))","v":"Cyngor Bwrdeistref Sirol Caerffili"}]
[null,null,545,{"$f":"IF(Data!$O$2=TRUE,\"\",IF(FrontPage!$L$4=1,AuthDetails!D23,AuthDetails!C23))","v":"Cyngor Bwrdeistref Sirol Blaenau Gwent"}]
[null,null,546,{"$f":"IF(Data!$O$2=TRUE,\"\",IF(FrontPage!$L$4=1,AuthDetails!D24,AuthDetails!C24))","v":"Cyngor Bwrdeistref Sirol Torfaen"}]
[null,null,548,{"$f":"IF(Data!$O$2=TRUE,\"\",IF(FrontPage!$L$4=1,AuthDetails!D25,AuthDetails!C25))","v":"Cyngor Sir Fynwy"}]
[null,null,550,{"$f":"IF(Data!$O$2=TRUE,\"\",IF(FrontPage!$L$4=1,AuthDetails!D26,AuthDetails!C26))","v":"Cyngor Dinas Casnewydd"}]
[null,null,552,{"$f":"IF(Data!$O$2=TRUE,\"\",IF(FrontPage!$L$4=1,AuthDetails!D27,AuthDetails!C27))","v":"Cyngor Dinas Caerdydd"}]

{"sheet":"Translate","index":12,"n_rows":1351,"n_cols":29,"rows_kept":1351,"hidden":true}
["tblTranslate",{"$nulls":10},"\"=\" rows","\"include\" rows",null,"Original Line Description","Line Numbers","English Description","Welsh Description",{"$nulls":10},{"$f":"SUM(AC3:AC540)","v":0}]
["English","Line Info E","Welsh","Line Info W",null,null,"Line Info E","Line Info W",{"$nulls":3},{"$f":"IF(ISERROR(FIND(\"=\",O2)),\"\",RIGHT(O2,LEN(O2)-FIND(\"=\",O2)+3))","v":""},{"$f":"IF(ISERROR(FIND(\" (include\",O2)),\"\",RIGHT(O2,LEN(O2)-FIND(\" (include\",O2)))","v":""},"Fpage","Capital outturn",{"$f":"IF(ISERROR(FIND(\" (line\",O2)),\"\",RIGHT(O2,LEN(O2)-FIND(\" (line\",O2)))","v":""},{"$f":"LEFT(O2,LEN(O2)-LEN(P2))","v":"Capital outturn"},{"$f":"VLOOKUP(Q2,Translate!$A$3:$C$1118,2,FALSE)","v":0},{"$nulls":4},"Remove leading Spaces Section"]
["Total receipts\n\n"," (COR 1-2, column 13)","Cyfanswm derbyniadau",{"$f":"IF(ISERROR(VLOOKUP(B3,Translate!$G$3:$H$168,2,FALSE)),\"\",VLOOKUP(B3,Translate!$G$3:$H$168,2,FALSE))","v":" (COR 1-2, colofn 13)"},null,null," (lines 198, 298, 398, 498, 598 & 698)"," (llinellau 198, 298, 398, 498, 598 a 698)",{"$nulls":3},{"$f":"IF(ISERROR(FIND(\"=\",O3)),\"\",RIGHT(O3,LEN(O3)-FIND(\"=\",O3)+3))","v":""},{"$f":"IF(ISERROR(FIND(\" (include\",O3)),\"\",RIGHT(O3,LEN(O3)-FIND(\" (include\",O3)))","v":""},null,"Please select your authority",{"$f":"IF(ISERROR(FIND(\" (line\",O3)),\"\",RIGHT(O3,LEN(O3)-FIND(\" (line\",O3)))","v":""},{"$f":"LEFT(O3,LEN(O3)-LEN(P3))","v":"Please select your authority"},{"$f":"VLOOKUP(Q3,Translate!$A$3:$C$1118,2,FALSE)","v":0},{"$nulls":4},"Llyfrgelloedd, diwylliant, threftadaeth, chwaraeon ac hamdden:",{"$f":"IF(LEFT(W3,1)=\" \",RIGHT(W3,LEN(W3)-1),W3)","v":"Llyfrgelloedd, diwylliant, threftadaeth, chwaraeon ac hamdden:"},{"$f":"IF(LEFT(X3,1)=\" \",RIGHT(X3,LEN(X3)-1),X3)","v":"Llyfrgelloedd, diwylliant, threftadaeth, chwaraeon ac hamdden:"},{"$f":"IF(LEFT(Y3,1)=\" \",RIGHT(Y3,LEN(Y3)-1),Y3)","v":"Llyfrgelloedd, diwylliant, threftadaeth, chwaraeon ac hamdden:"},{"$f":"IF(LEFT(Z3,1)=\" \",RIGHT(Z3,LEN(Z3)-1),Z3)","v":"Llyfrgelloedd, diwylliant, threftadaeth, chwaraeon ac hamdden:"},{"$f":"IF(LEFT(AA3,1)=\" \",RIGHT(AA3,LEN(AA3)-1),AA3)","v":"Llyfrgelloedd, diwylliant, threftadaeth, chwaraeon ac hamdden:"},{"$f":"IF(LEFT(AB3,1)=\" \",1,0)","v":0}]
["Total expenditure"," (COR 1-2, column 9)","Cyfanswm gwariant",{"$f":"IF(ISERROR(VLOOKUP(B4,Translate!$G$3:$H$168,2,FALSE)),\"\",VLOOKUP(B4,Translate!$G$3:$H$168,2,FALSE))","v":" (COR 1-2, colofn 9)"},null,null," (lines 10 to 14)"," (llinellau 10 i 14)",{"$nulls":3},"","",null,"If necessary, please amend the name and telephone number of our contact in case of queries:-","","If necessary, please amend the name and telephone number of our contact in case of queries:-",{"$f":"VLOOKUP(Q4,Translate!$A$3:$C$1118,2,FALSE)","v":0},{"$nulls":4},"Y gwasanaeth llyfrgelloedd",{"$f":"IF(LEFT(W4,1)=\" \",RIGHT(W4,LEN(W4)-1),W4)","v":"Y gwasanaeth llyfrgelloedd"},"Y gwasanaeth llyfrgelloedd","Y gwasanaeth llyfrgelloedd","Y gwasanaeth llyfrgelloedd","Y gwasanaeth llyfrgelloedd",{"$f":"IF(LEFT(AB4,1)=\" \",1,0)","v":0}]
["Total in-year capital receipts - HRA"," (COR1-2, line 24, column 13)","Cyfanswm derbyniadau cyfalaf yn ystod y flwyddyn - HRA",{"$f":"IF(ISERROR(VLOOKUP(B5,Translate!$G$3:$H$168,2,FALSE)),\"\",VLOOKUP(B5,Translate!$G$3:$H$168,2,FALSE))","v":" (COR1-2, llinell 24, colofn 13)"},null,null," (cyfanswm lines 8.1 to 8.7)"," (cyfanswm llinellau 8.1 i 8.7)",{"$nulls":3},"","",null,"Contact name:        ","","Contact name:        ",{"$f":"VLOOKUP(Q5,Translate!$A$3:$C$1118,2,FALSE)","v":0},{"$nulls":4},"Amgueddfeydd ac orielau","Amgueddfeydd ac orielau","Amgueddfeydd ac orielau","Amgueddfeydd ac orielau","Amgueddfeydd ac orielau","Amgueddfeydd ac orielau",0]
["Total in-year capital receipts non HRA"," (COR1-2, line 66 minus line 24, column 13)","Cyfanswm derbyniadau cyfalaf yn ystod y flwyddyn, ddim HRA",{"$f":"IF(ISERROR(VLOOKUP(B6,Translate!$G$3:$H$168,2,FALSE)),\"\",VLOOKUP(B6,Translate!$G$3:$H$168,2,FALSE))","v":" (COR1-2, llinell 66 tynnu llinell 24, colofn 13)"},null,null," (lines 16 to 23)"," (llinellau 16 i 23)",{"$nulls":3},"","",null,"Contact E-mail:        ","","Contact E-mail:        ",{"$f":"VLOOKUP(Q6,Translate!$A$3:$C$1118,2,FALSE)","v":0},{"$nulls":4},"Archifau","Archifau","Archifau","Archifau","Archifau","Archifau",0]
["Total capital expenditure"," (COR4, line 15, column 3)","Cyfanswm gwariant cyfalaf",{"$f":"IF(ISERROR(VLOOKUP(B7,Translate!$G$3:$H$168,2,FALSE)),\"\",VLOOKUP(B7,Translate!$G$3:$H$168,2,FALSE))","v":" (COR4, llinell 15, colofn 3)"},null,null," (lines 25 to 31)"," (llinellau 25 i 31)",{"$nulls":3},"","",null,"Telephone:        ","","Telephone:        ",{"$f":"VLOOKUP(Q7,Translate!$A$3:$C$1118,2,FALSE)","v":0},{"$nulls":4},"Datblygu a chynorthwyo'r celfyddydau","Datblygu a chynorthwyo'r celfyddydau","Datblygu a chynorthwyo'r celfyddydau","Datblygu a chynorthwyo'r celfyddydau","Datblygu a chynorthwyo'r celfyddydau","Datblygu a chynorthwyo'r celfyddydau",0]
["Total expenditure treated as capital expenditure by virtue of a section 16(2)(b) direction"," (cyfanswm column 4, lines 1 to 11)","Cyfanswm y gwariant a gaiff ei drin fel gwariant cyfalaf yn rhinwedd cyfarwyddyd adran 16(2)(b)",{"$f":"IF(ISERROR(VLOOKUP(B8,Translate!$G$3:$H$168,2,FALSE)),\"\",VLOOKUP(B8,Translate!$G$3:$H$168,2,FALSE))","v":" (cyfanswm colofn 4, llinellau 1 i 11)"},null,null," (lines 33 and 34)"," (llinellau 33 a 34)",{"$nulls":3},"","",null,"The information on this form must be submitted to the Welsh Government under section 14 of the Local Government Act 2003.","","The information on this form must be submitted to the Welsh Government under section 14 of the Local Government Act 2003.",{"$f":"VLOOKUP(Q8,Translate!$A$3:$C$1118,2,FALSE)","v":0},{"$nulls":6},0,0,0,0,0]
["Total expenditure and other transactions"," (cyfanswm lines 12 to 14, column 3)","Cyfanswm gwariant a thrafodiadau eraill",{"$f":"IF(ISERROR(VLOOKUP(B9,Translate!$G$3:$H$168,2,FALSE)),\"\",VLOOKUP(B9,Translate!$G$3:$H$168,2,FALSE))","v":" (cyfanswm llinellau 12 i 14, colofn 3)"},null,null," (lines 24+32+35)"," (llinellau 24+32+35)",{"$nulls":3},"","",null,"This form must be returned by 31 July 2015","","This form must be returned by 31 July 2015",{"$f":"VLOOKUP(Q9,Translate!$A$3:$C$1118,2,FALSE)","v":{"$error":"#N/A"}},{"$nulls":6},0,0,0,0,0]
["Total amount due in year"," (line 1+line 2):","Y cyfanswm sy'n ddyledus yn ystod y flwyddyn",{"$f":"IF(ISERROR(VLOOKUP(B10,Translate!$G$3:$H$168,2,FALSE)),\"\",VLOOKUP(B10,Translate!$G$3:$H$168,2,FALSE))","v":" (llinell 1+llinell 2):"},null,null," (lines 37 to 39)"," (llinellau 37 i 39)",{"$nulls":3},"","",null,"Please email the spreadsheet to the address below, please note that we no longer require a signed hard-copy of this return.","","Please email the spreadsheet to the address below, please note that we no longer require a signed hard-copy of this return.",{"$f":"VLOOKUP(Q10,Translate!$A$3:$C$1118,2,FALSE)","v":0},{"$nulls":6},0,0,0,0,0]
["NDR collection rate  (%)"," (line 11 / line 10.5 x 100)","Cyfradd casglu ardrethi annomestig (%)",{"$f":"IF(ISERROR(VLOOKUP(B11,Translate!$G$3:$H$168,2,FALSE)),\"\",VLOOKUP(B11,Translate!$G$3:$H$168,2,FALSE))","v":" (llinell 11 / llinell 10.5 x 100)"},null,null," (lines 41 to 43)"," (llinellau 41 i 43)",{"$nulls":3},"","",null,"Any queries on completion of the form or spreadsheet should be directed to Frank Kelly or Anthony Newby, via telephone or e-mail, as directed below.","","Any queries on completion of the form or spreadsheet should be directed to Frank Kelly or Anthony Newby, via telephone or e-mail, as directed below.",{"$f":"VLOOKUP(Q11,Translate!$A$3:$C$1118,2,FALSE)","v":0},{"$nulls":6},0,0,0,0,0]
["Transport"," (line 15)","Trafnidiaeth",{"$f":"IF(ISERROR(VLOOKUP(B12,Translate!$G$3:$H$168,2,FALSE)),\"\",VLOOKUP(B12,Translate!$G$3:$H$168,2,FALSE))","v":" (llinell 15)"},null,null," (lines 46 and 47)"," (llinellau 46 a 47)",{"$nulls":3},"","",null,"It is a Welsh Government audit requirement that all cells are completed.  Please ensure that all blank cells are populated with zeros, those that are not will be assumed to be zero.","","It is a Welsh Government audit requirement that all cells are completed.  Please ensure that all blank cells are populated with zeros, those that are not will be assumed to be zero.",{"$f":"VLOOKUP(Q12,Translate!$A$3:$C$1118,2,FALSE)","v":0},{"$nulls":6},0,0,0,0,0]
["Capital expenditure resourced by means of credit"," (line 30 plus line 31)","Gwariant cyfalaf wedi'i gyllido gan gredyd",{"$f":"IF(ISERROR(VLOOKUP(B13,Translate!$G$3:$H$168,2,FALSE)),\"\",VLOOKUP(B13,Translate!$G$3:$H$168,2,FALSE))","v":" (llinell 30+llinell 31)"},null,null," (lines 49 to 59)"," (llinellau 49 i 59)",{"$nulls":3},"","",null,"Local Government Financial Statistics,","","Local Government Financial Statistics,",{"$f":"VLOOKUP(Q13,Translate!$A$3:$C$1118,2,FALSE)","v":0},{"$nulls":6},0,0,0,0,0]
["Capital Financing Requirement as at 31 March"," (line 33 plus line 36)","Gofyniad Cyllido Cyfalaf fel yr oedd ar 31 Mawrth",{"$f":"IF(ISERROR(VLOOKUP(B14,Translate!$G$3:$H$168,2,FALSE)),\"\",VLOOKUP(B14,Translate!$G$3:$H$168,2,FALSE))","v":" (llinell 33 plws llinell 36)"},null,null," (lines 61 to 63)"," (llinellau 61 i 63)",{"$nulls":3},"","",null,"Knowledge and Analytical Services,","","Knowledge and Analytical Services,",{"$f":"VLOOKUP(Q14,Translate!$A$3:$C$1118,2,FALSE)","v":0},{"$nulls":6},0,0,0,0,0]
["Change in Capital Financing Requirement"," (line 34 less line 35)","Newid yn y Gofyniad Cyllido Cyfalaf",{"$f":"IF(ISERROR(VLOOKUP(B15,Translate!$G$3:$H$168,2,FALSE)),\"\",VLOOKUP(B15,Translate!$G$3:$H$168,2,FALSE))","v":" (llinell 34 wedi tynnu llinell 35)"},null,null," (lines 6+7+15+36+40+44+48+60+65)"," (llinellau 6+7+15+36+40+44+48+60+65)",{"$nulls":3},"","",null,"Welsh Government,","","Welsh Government,",{"$f":"VLOOKUP(Q15,Translate!$A$3:$C$1118,2,FALSE)","v":0},{"$nulls":6},0,0,0,0,0]
["Line 4 as a % of Total amount due:"," (line 4 / line 3 x 100)","Llinell 4 fel % o'r cyfanswm sy'n ddyledus:",{"$f":"IF(ISERROR(VLOOKUP(B16,Translate!$G$3:$H$168,2,FALSE)),\"\",VLOOKUP(B16,Translate!$G$3:$H$168,2,FALSE))","v":" (llinell 4 / llinell 3 x 100)"},null,null," (line 6)"," (llinell 6)",{"$nulls":3},"","",null,"Cathays Park,","","Cathays Park,",{"$f":"VLOOKUP(Q16,Translate!$A$3:$C$1118,2,FALSE)","v":0},{"$nulls":6},0,0,0,0,0]
["Libraries, culture and heritage"," (line 40)","Llyfrgelloedd, diwylliant a threftadaeth",{"$f":"IF(ISERROR(VLOOKUP(B17,Translate!$G$3:$H$168,2,FALSE)),\"\",VLOOKUP(B17,Translate!$G$3:$H$168,2,FALSE))","v":" (llinell 40)"},null,null," (line 7)"," (llinell 7)",{"$nulls":3},"","",null,"CARDIFF,","","CARDIFF,",{"$f":"VLOOKUP(Q17,Translate!$A$3:$C$1118,2,FALSE)","v":0},{"$nulls":6},0,0,0,0,0]
["Agriculture and fisheries"," (line 44)","Amaethyddiaeth a physgodfeydd",{"$f":"IF(ISERROR(VLOOKUP(B18,Translate!$G$3:$H$168,2,FALSE)),\"\",VLOOKUP(B18,Translate!$G$3:$H$168,2,FALSE))","v":" (llinell 44)"},null,null," (line 15)"," (llinell 15)",{"$nulls":3},"","",null,"CF10 3NQ.","","CF10 3NQ.",{"$f":"VLOOKUP(Q18,Translate!$A$3:$C$1118,2,FALSE)","v":0},{"$nulls":6},0,0,0,0,0]
["Sport and recreation"," (line 48)","Chwaraeon a hamdden",{"$f":"IF(ISERROR(VLOOKUP(B19,Translate!$G$3:$H$168,2,FALSE)),\"\",VLOOKUP(B19,Translate!$G$3:$H$168,2,FALSE))","v":" (llinell 48)"},null,null," (line 40)"," (llinell 40)",{"$nulls":3},"","",null,"Telephone: 029 2082 5673","","Telephone: 029 2082 5673",{"$f":"VLOOKUP(Q19,Translate!$A$3:$C$1118,2,FALSE)","v":0},{"$nulls":6},0,0,0,0,0]
["Education"," (line 6)","Addysg",{"$f":"IF(ISERROR(VLOOKUP(B20,Translate!$G$3:$H$168,2,FALSE)),\"\",VLOOKUP(B20,Translate!$G$3:$H$168,2,FALSE))","v":" (llinell 6)"},null,null," (line 44)"," (llinell 44)",{"$nulls":3},"","",null,"E-mail: lgfs.transfer@wales.gsi.gov.uk","","E-mail: lgfs.transfer@wales.gsi.gov.uk",{"$f":"VLOOKUP(Q20,Translate!$A$3:$C$1118,2,FALSE)","v":0},{"$nulls":6},0,0,0,0,0]
["Other environmental services"," (line 60)","Gwasanaethau amgylcheddol eraill",{"$f":"IF(ISERROR(VLOOKUP(B21,Translate!$G$3:$H$168,2,FALSE)),\"\",VLOOKUP(B21,Translate!$G$3:$H$168,2,FALSE))","v":" (llinell 60)"},null,null," (line 48)"," (llinell 48)",{"$nulls":3},"","",null,null,"","",{"$f":"VLOOKUP(Q21,Translate!$A$3:$C$1118,2,FALSE)","v":{"$error":"#N/A"}},{"$nulls":6},0,0,0,0,0]
["Fire and rescue service"," (line 61)","Gwasanaeth tân ac achub",{"$f":"IF(ISERROR(VLOOKUP(B22,Translate!$G$3:$H$168,2,FALSE)),\"\",VLOOKUP(B22,Translate!$G$3:$H$168,2,FALSE))","v":" (llinell 61)"},null,null," (line 60)"," (llinell 60)",{"$nulls":3},"","","COR 1-2","Please select your authority on FrontPage","","Please select your authority on FrontPage",{"$f":"VLOOKUP(Q22,Translate!$A$3:$C$1118,2,FALSE)","v":0},{"$nulls":6},0,0,0,0,0]
["Police service"," (line 62)","Gwasanaeth yr heddlu",{"$f":"IF(ISERROR(VLOOKUP(B23,Translate!$G$3:$H$168,2,FALSE)),\"\",VLOOKUP(B23,Translate!$G$3:$H$168,2,FALSE))","v":" (llinell 62)"},null,null," (line 61)"," (llinell 61)",{"$nulls":3},"","",null,"COR1-2:       Capital outturn 1 and 2","","COR1-2:       Capital outturn 1 and 2",{"$f":"VLOOKUP(Q23,Translate!$A$3:$C$1118,2,FALSE)","v":0},{"$nulls":6},0,0,0,0,0]
["Courts"," (line 63)","Llysoedd",{"$f":"IF(ISERROR(VLOOKUP(B24,Translate!$G$3:$H$168,2,FALSE)),\"\",VLOOKUP(B24,Translate!$G$3:$H$168,2,FALSE))","v":" (llinell 63)"},null,null," (line 62)"," (llinell 62)",{"$nulls":3},"","",1.1,"Pre-primary education","","Pre-primary education",{"$f":"VLOOKUP(Q24,Translate!$A$3:$C$1118,2,FALSE)","v":0},{"$nulls":6},0,0,0,0,0]
["Social services"," (line 7)","Gwasanaethau cymdeithasol",{"$f":"IF(ISERROR(VLOOKUP(B25,Translate!$G$3:$H$168,2,FALSE)),\"\",VLOOKUP(B25,Translate!$G$3:$H$168,2,FALSE))","v":" (llinell 7)"},null,null," (line 63)"," (llinell 63)",{"$nulls":3},"","",1.2,"Primary education","","Primary education",{"$f":"VLOOKUP(Q25,Translate!$A$3:$C$1118,2,FALSE)","v":0},{"$nulls":6},0,0,0,0,0]
["Total expenditure / receipts (accruals)"," (lines 1 to 11)","Cyfanswm gwariant / derbyniadau (croniadau)",{"$f":"IF(ISERROR(VLOOKUP(B26,Translate!$G$3:$H$168,2,FALSE)),\"\",VLOOKUP(B26,Translate!$G$3:$H$168,2,FALSE))","v":" (llinellau 1 i 11)"},null,null," (lines 1 to 11)"," (llinellau 1 i 11)",{"$nulls":3},"","",2,"Secondary education","","Secondary education",{"$f":"VLOOKUP(Q26,Translate!$A$3:$C$1118,2,FALSE)","v":0},{"$nulls":4},"Cofrestru etholwyr a cario allan etholiadau","Cofrestru etholwyr a cario allan etholiadau","Cofrestru etholwyr a cario allan etholiadau","Cofrestru etholwyr a cario allan etholiadau","Cofrestru etholwyr a cario allan etholiadau","Cofrestru etholwyr a cario allan etholiadau",0]
["Total education"," (lines 1.1 to 5)","Cyfanswm addysg",{"$f":"IF(ISERROR(VLOOKUP(B27,Translate!$G$3:$H$168,2,FALSE)),\"\",VLOOKUP(B27,Translate!$G$3:$H$168,2,FALSE))","v":" (llinellau 1.1 i 5)"},null,null," (cyfanswm column 4, lines 1 to 11)"," (cyfanswm colofn 4, llinellau 1 i 11)",{"$nulls":3},"","",3,"Special education","","Special education",{"$f":"VLOOKUP(Q27,Translate!$A$3:$C$1118,2,FALSE)","v":0},{"$nulls":4},"Gwasanaethau canolog i'r cyhoedd","Gwasanaethau canolog i'r cyhoedd","Gwasanaethau canolog i'r cyhoedd","Gwasanaethau canolog i'r cyhoedd","Gwasanaethau canolog i'r cyhoedd","Gwasanaethau canolog i'r cyhoedd",0]
["Total other central services to the public"," (lines 10 to 14)","Cyfanswm gwasanaethau canolog eraill i'r cyhoedd",{"$f":"IF(ISERROR(VLOOKUP(B28,Translate!$G$3:$H$168,2,FALSE)),\"\",VLOOKUP(B28,Translate!$G$3:$H$168,2,FALSE))","v":" (llinellau 10 i 14)"},null,null," (cyfanswm lines 12 to 14, column 3)"," (cyfanswm llinellau 12 i 14, colofn 3)",{"$nulls":3},"","",4,"Youth service","","Youth service",{"$f":"VLOOKUP(Q28,Translate!$A$3:$C$1118,2,FALSE)","v":0},{"$nulls":4},"Holl gwasanaethau amgylcheddol lleol","Holl gwasanaethau amgylcheddol lleol","Holl gwasanaethau amgylcheddol lleol","Holl gwasanaethau amgylcheddol lleol","Holl gwasanaethau amgylcheddol lleol","Holl gwasanaethau amgylcheddol lleol",0]
["Total Housing Revenue Account"," (lines 16 to 23)","Cyfanswm Cyfrif Refeniw Tai",{"$f":"IF(ISERROR(VLOOKUP(B29,Translate!$G$3:$H$168,2,FALSE)),\"\",VLOOKUP(B29,Translate!$G$3:$H$168,2,FALSE))","v":" (llinellau 16 i 23)"},null,null," (COR 1-2, column 9)"," (COR 1-2, colofn 9)",{"$nulls":3},"","",5,"Other education services and continuing education","","Other education services and continuing education",{"$f":"VLOOKUP(Q29,Translate!$A$3:$C$1118,2,FALSE)","v":0},{"$nulls":4},"Gwaith cynllunio a datblygu diwydiannol:","Gwaith cynllunio a datblygu diwydiannol:","Gwaith cynllunio a datblygu diwydiannol:","Gwaith cynllunio a datblygu diwydiannol:","Gwaith cynllunio a datblygu diwydiannol:","Gwaith cynllunio a datblygu diwydiannol:",0]
["Specification of other grants"," (lines 198, 298, 398, 498, 598 & 698)","Manylion grantiau eraill",{"$f":"IF(ISERROR(VLOOKUP(B30,Translate!$G$3:$H$168,2,FALSE)),\"\",VLOOKUP(B30,Translate!$G$3:$H$168,2,FALSE))","v":" (llinellau 198, 298, 398, 498, 598 a 698)"},null,null," (COR 1-2, column 13)"," (COR 1-2, colofn 13)",{"$nulls":3},"","",6,"cyfanswm education (lines 1.1 to 5)","(lines 1.1 to 5)","cyfanswm education ",{"$f":"VLOOKUP(Q30,Translate!$A$3:$C$1118,2,FALSE)","v":{"$error":"#N/A"}},{"$nulls":4},"Rheoliadau adeiladu","Rheoliadau adeiladu","Rheoliadau adeiladu","Rheoliadau adeiladu","Rheoliadau adeiladu","Rheoliadau adeiladu",0]
["Total in-year capital receipts"," (lines 20 and 21)","Cyfanswm derbyniadau cyfalaf yn ystod y flwyddyn",{"$f":"IF(ISERROR(VLOOKUP(B31,Translate!$G$3:$H$168,2,FALSE)),\"\",VLOOKUP(B31,Translate!$G$3:$H$168,2,FALSE))","v":" (llinellau 20 a 21)"},null,null," (COR4, line 15, column 3)"," (COR4, llinell 15, colofn 3)",{"$nulls":3},"","",7,"Social services","","Social services",{"$f":"VLOOKUP(Q31,Translate!$A$3:$C$1118,2,FALSE)","v":" (line 7)"},{"$nulls":4},"Rheoliadau datblygu","Rheoliadau datblygu","Rheoliadau datblygu","Rheoliadau datblygu","Rheoliadau datblygu","Rheoliadau datblygu",0]
["Total housing"," (lines 24+32+35)","Cyfanswm tai",{"$f":"IF(ISERROR(VLOOKUP(B32,Translate!$G$3:$H$168,2,FALSE)),\"\",VLOOKUP(B32,Translate!$G$3:$H$168,2,FALSE))","v":" (llinellau 24+32+35)"},null,null," (lines 50 to 52)"," (llinellau 50 i 52)",{"$nulls":3},"","",8.1,"New construction/improvement of roads","","New construction/improvement of roads",{"$f":"VLOOKUP(Q32,Translate!$A$3:$C$1118,2,FALSE)","v":0},{"$nulls":4},"Polisi cynllunio","Polisi cynllunio","Polisi cynllunio","Polisi cynllunio","Polisi cynllunio","Polisi cynllunio",0]
["Total council fund housing"," (lines 25 to 31)","Cyfanswm tai cronfa'r cyngor",{"$f":"IF(ISERROR(VLOOKUP(B33,Translate!$G$3:$H$168,2,FALSE)),\"\",VLOOKUP(B33,Translate!$G$3:$H$168,2,FALSE))","v":" (llinellau 25 i 31)"},null,null," (Lines 30.1 and 30.2)"," (llinellau 30.1 a 30.2)",{"$nulls":3},"","",8.2,"Structural maintenance - principal roads","","Structural maintenance - principal roads",{"$f":"VLOOKUP(Q33,Translate!$A$3:$C$1118,2,FALSE)","v":0},{"$nulls":4},"Mentrau amgylcheddol","Mentrau amgylcheddol","Mentrau amgylcheddol","Mentrau amgylcheddol","Mentrau amgylcheddol","Mentrau amgylcheddol",0]
["Borrowing and credit arrangements that attract central government support"," (Lines 30.1 and 30.2)","Trefniadau benthyca a chredyd sy'n denu cymorth y llywodraeth ganolog",{"$f":"IF(ISERROR(VLOOKUP(B34,Translate!$G$3:$H$168,2,FALSE)),\"\",VLOOKUP(B34,Translate!$G$3:$H$168,2,FALSE))","v":" (llinellau 30.1 a 30.2)"},null,null," (Lines 31.1 and 31.2)"," (Llinellau 31.1 a 31.2)",{"$nulls":3},"","",8.3,"Structural maintenance - other LA roads","","Structural maintenance - other LA roads",{"$f":"VLOOKUP(Q34,Translate!$A$3:$C$1118,2,FALSE)","v":0},{"$nulls":4},"Cymorth busnes","Cymorth busnes","Cymorth busnes","Cymorth busnes","Cymorth busnes","Cymorth busnes",0]
["Other borrowing and credit arrangements"," (Lines 31.1 and 31.2)","Trefniadau benthyca a chredyd eraill",{"$f":"IF(ISERROR(VLOOKUP(B35,Translate!$G$3:$H$168,2,FALSE)),\"\",VLOOKUP(B35,Translate!$G$3:$H$168,2,FALSE))","v":" (Llinellau 31.1 a 31.2)"},null,null," (line 30 plus line 31)"," (llinell 30+llinell 31)",{"$nulls":3},"","",8.4,"Expenditure on bridges","","Expenditure on bridges",{"$f":"VLOOKUP(Q35,Translate!$A$3:$C$1118,2,FALSE)","v":0},{"$nulls":4},"Ymchwil economeg","Ymchwil economeg","Ymchwil economeg","Ymchwil economeg","Ymchwil economeg","Ymchwil economeg",0]
["Total housing / SDA Act advances"," (lines 33 and 34)","Cyfanswm blaensymiau tai / Deddf Caffael Anheddau Bychain",{"$f":"IF(ISERROR(VLOOKUP(B36,Translate!$G$3:$H$168,2,FALSE)),\"\",VLOOKUP(B36,Translate!$G$3:$H$168,2,FALSE))","v":" (llinellau 33 a 34)"},null,null," (line 34 less line 35)"," (llinell 34 wedi tynnu llinell 35)",{"$nulls":3},"","",8.5,"Road safety","","Road safety",{"$f":"VLOOKUP(Q36,Translate!$A$3:$C$1118,2,FALSE)","v":0},{"$nulls":4},"Datblygiad economaidd","Datblygiad economaidd","Datblygiad economaidd","Datblygiad economaidd","Datblygiad economaidd","Datblygiad economaidd",0]
["Total libraries, culture and heritage"," (lines 37 to 39)","Cyfanswm llyfrgelloedd, diwylliant a threftadaeth",{"$f":"IF(ISERROR(VLOOKUP(B37,Translate!$G$3:$H$168,2,FALSE)),\"\",VLOOKUP(B37,Translate!$G$3:$H$168,2,FALSE))","v":" (llinellau 37 i 39)"},null,null," (line 33 plus line 36)"," (llinell 33 plws llinell 36)",{"$nulls":3},"","",8.6,"Street lighting","","Street lighting",{"$f":"VLOOKUP(Q37,Translate!$A$3:$C$1118,2,FALSE)","v":0},{"$nulls":4},"Datblygu cymunedol","Datblygu cymunedol","Datblygu cymunedol","Datblygu cymunedol","Datblygu cymunedol","Datblygu cymunedol",0]
["Total agriculture and fisheries"," (lines 41 to 43)","Cyfanswm amaethyddiaeth a physgodfeydd",{"$f":"IF(ISERROR(VLOOKUP(B38,Translate!$G$3:$H$168,2,FALSE)),\"\",VLOOKUP(B38,Translate!$G$3:$H$168,2,FALSE))","v":" (llinellau 41 i 43)"},null,null," (COR1-2, line 24, column 13)"," (COR1-2, llinell 24, colofn 13)",{"$nulls":3},"","",8.7,"Other","","Other",{"$f":"VLOOKUP(Q38,Translate!$A$3:$C$1118,2,FALSE)","v":0},{"$nulls":4},"Holl gwaith cynllunio a datblygu diwydiannol","Holl gwaith cynllunio a datblygu diwydiannol","Holl gwaith cynllunio a datblygu diwydiannol","Holl gwaith cynllunio a datblygu diwydiannol","Holl gwaith cynllunio a datblygu diwydiannol","Holl gwaith cynllunio a datblygu diwydiannol",0]
["Total sport and recreation"," (lines 46 and 47)","Cyfanswm chwaraeon a hamdden",{"$f":"IF(ISERROR(VLOOKUP(B39,Translate!$G$3:$H$168,2,FALSE)),\"\",VLOOKUP(B39,Translate!$G$3:$H$168,2,FALSE))","v":" (llinellau 46 a 47)"},null,null," (COR1-2, line 66 minus line 24, column 13)"," (COR1-2, llinell 66 tynnu llinell 24, colofn 13)",{"$nulls":3},"","",8,"cyfanswm roads new construction and maintenance, street lighting and road safety (cyfanswm lines 8.1 to 8.7) ","","cyfanswm roads new construction and maintenance, street lighting and road safety (cyfanswm lines 8.1 to 8.7) ",{"$f":"VLOOKUP(Q39,Translate!$A$3:$C$1118,2,FALSE)","v":{"$error":"#N/A"}},{"$nulls":4},"Gweinyddiaeth canolog:","Gweinyddiaeth canolog:","Gweinyddiaeth canolog:","Gweinyddiaeth canolog:","Gweinyddiaeth canolog:","Gweinyddiaeth canolog:",0]
["Total other environmental services"," (lines 49 to 59)","Cyfanswm gwasanaethau amgylcheddol eraill",{"$f":"IF(ISERROR(VLOOKUP(B40,Translate!$G$3:$H$168,2,FALSE)),\"\",VLOOKUP(B40,Translate!$G$3:$H$168,2,FALSE))","v":" (llinellau 49 i 59)"},null,null," (lines 20 and 21)"," (llinellau 20 a 21)",{"$nulls":3},"","",9,"Parking of vehicles (including car parks)","","Parking of vehicles (including car parks)",{"$f":"VLOOKUP(Q40,Translate!$A$3:$C$1118,2,FALSE)","v":0},{"$nulls":4},"Costau heb eu dosbarthu","Costau heb eu dosbarthu","Costau heb eu dosbarthu","Costau heb eu dosbarthu","Costau heb eu dosbarthu","Costau heb eu dosbarthu",0]
["Capital grants and contributions from other sources"," (lines 50 to 52)","Grantiau cyfalaf a chyfraniadau o ffynonellau eraill",{"$f":"IF(ISERROR(VLOOKUP(B41,Translate!$G$3:$H$168,2,FALSE)),\"\",VLOOKUP(B41,Translate!$G$3:$H$168,2,FALSE))","v":" (llinellau 50 i 52)"},null,null," (row 2, col. 2)"," (rhes 2, colofn 2)",{"$nulls":3},"","",10,"Public passenger transport - bus","","Public passenger transport - bus",{"$f":"VLOOKUP(Q41,Translate!$A$3:$C$1118,2,FALSE)","v":0},{"$nulls":4},"Rheolaeth gorfforaethol","Rheolaeth gorfforaethol","Rheolaeth gorfforaethol","Rheolaeth gorfforaethol","Rheolaeth gorfforaethol","Rheolaeth gorfforaethol",0]
["Total all services"," (lines 6+7+15+36+40+44+48+60+65)","Cyfanswm pob gwasanaeth",{"$f":"IF(ISERROR(VLOOKUP(B42,Translate!$G$3:$H$168,2,FALSE)),\"\",VLOOKUP(B42,Translate!$G$3:$H$168,2,FALSE))","v":" (llinellau 6+7+15+36+40+44+48+60+65)"},null,null," (line 11 / line 10.5 x 100)"," (llinell 11 / llinell 10.5 x 100)",{"$nulls":3},"","",11,"Public passenger transport - rail, underground and other","","Public passenger transport - rail, underground and other",{"$f":"VLOOKUP(Q42,Translate!$A$3:$C$1118,2,FALSE)","v":0},{"$nulls":4},"Cynrychiolaeth a rheolaeth ddemocrataidd","Cynrychiolaeth a rheolaeth ddemocrataidd","Cynrychiolaeth a rheolaeth ddemocrataidd","Cynrychiolaeth a rheolaeth ddemocrataidd","Cynrychiolaeth a rheolaeth ddemocrataidd","Cynrychiolaeth a rheolaeth ddemocrataidd",0]
["Total law, order and protective services"," (lines 61 to 63)","Cyfanswm cyfraith, trefn a gwasanaethau diogelu",{"$f":"IF(ISERROR(VLOOKUP(B43,Translate!$G$3:$H$168,2,FALSE)),\"\",VLOOKUP(B43,Translate!$G$3:$H$168,2,FALSE))","v":" (llinellau 61 i 63)"},null,null," (lines 8 to 14)"," (llinell 8 I 14)",{"$nulls":3},"","",12,"Tolled road bridges, tunnels and ferries and public transport companies","","Tolled road bridges, tunnels and ferries and public transport companies",{"$f":"VLOOKUP(Q43,Translate!$A$3:$C$1118,2,FALSE)","v":0},{"$nulls":4},"Gwasanaethau canolog eraill","Gwasanaethau canolog eraill","Gwasanaethau canolog eraill","Gwasanaethau canolog eraill","Gwasanaethau canolog eraill","Gwasanaethau canolog eraill",0]
["Total transport"," (lines 8 to 14)","Cyfanswm trafnidiaeth (llinellau 8 i 14)",{"$f":"IF(ISERROR(VLOOKUP(B44,Translate!$G$3:$H$168,2,FALSE)),\"\",VLOOKUP(B44,Translate!$G$3:$H$168,2,FALSE))","v":" (llinell 8 I 14)"},null,null," (line 4 / line 3 x 100)"," (llinell 4 / llinell 3 x 100)",{"$nulls":3},"","",13,"Local authority ports and piers","","Local authority ports and piers",{"$f":"VLOOKUP(Q44,Translate!$A$3:$C$1118,2,FALSE)","v":0},{"$nulls":4},"Holl gweinyddiaeth canolog","Holl gweinyddiaeth canolog","Holl gweinyddiaeth canolog","Holl gweinyddiaeth canolog","Holl gweinyddiaeth canolog","Holl gweinyddiaeth canolog",0]
["Total roads new construction and maintenance, street lighting and road safety "," (lines 8.1 to 8.7)","Cyfanswm adeiladu ffyrdd newydd a gwella ffyrdd, goleuadau stryd a diogelwch ar y ffyrdd",{"$f":"IF(ISERROR(VLOOKUP(B45,Translate!$G$3:$H$168,2,FALSE)),\"\",VLOOKUP(B45,Translate!$G$3:$H$168,2,FALSE))","v":" (llinellau 8.1 i 8.7)"},null,null," (row 6, cols. 1 and 2)"," (rhes 6, colofnau 1 a 2)",{"$nulls":3},"","",14,"Airports","","Airports",{"$f":"VLOOKUP(Q45,Translate!$A$3:$C$1118,2,FALSE)","v":0},{"$nulls":4},"Gwariant refeniw arall:","Gwariant refeniw arall:","Gwariant refeniw arall:","Gwariant refeniw arall:","Gwariant refeniw arall:","Gwariant refeniw arall:",0]
["Arrears B/F at 2015-16"," (row 1, col. 1)","ôl-ddyledion wedi eu dwyn ymlaen yn 2015-16",{"$f":"IF(ISERROR(VLOOKUP(B46,Translate!$G$3:$H$168,2,FALSE)),\"\",VLOOKUP(B46,Translate!$G$3:$H$168,2,FALSE))","v":" (rhes 1, colofn 1)"},null,null," (row 3, col. 1)"," (rhes 3, colofn 1)",{"$nulls":3},"","",15,"cyfanswm transport (lines 8 to 14)","(lines 8 to 14)","cyfanswm transport ",{"$f":"VLOOKUP(Q46,Translate!$A$3:$C$1118,2,FALSE)","v":{"$error":"#N/A"}},{"$nulls":4},"Gwasanaethau amaethyddiaeth","Gwasanaethau amaethyddiaeth","Gwasanaethau amaethyddiaeth","Gwasanaethau amaethyddiaeth","Gwasanaethau amaethyddiaeth","Gwasanaethau amaethyddiaeth",0]
["Debit for the year"," (row 2, col. 2)","Cyfanswm y debyd ar gyfer y flwyddyn",{"$f":"IF(ISERROR(VLOOKUP(B47,Translate!$G$3:$H$168,2,FALSE)),\"\",VLOOKUP(B47,Translate!$G$3:$H$168,2,FALSE))","v":" (rhes 2, colofn 2)"},null,null," (row 3, col. 2)"," (rhes 3, colofn 2)",{"$nulls":3},"","",16,"Acquisition / sale of land for housing revenue account (HRA)","","Acquisition / sale of land for housing revenue account (HRA)",{"$f":"VLOOKUP(Q47,Translate!$A$3:$C$1118,2,FALSE)","v":0},{"$nulls":4},"Gwariant cyfalaf wedi'i godi ar y cyfrif refeniw (CERA)","Gwariant cyfalaf wedi'i godi ar y cyfrif refeniw (CERA)","Gwariant cyfalaf wedi'i godi ar y cyfrif refeniw (CERA)","Gwariant cyfalaf wedi'i godi ar y cyfrif refeniw (CERA)","Gwariant cyfalaf wedi'i godi ar y cyfrif refeniw (CERA)","Gwariant cyfalaf wedi'i godi ar y cyfrif refeniw (CERA)",0]
["Total amount due"," (row 3, col. 1)","Y cyfanswm sy'n ddyledus",{"$f":"IF(ISERROR(VLOOKUP(B48,Translate!$G$3:$H$168,2,FALSE)),\"\",VLOOKUP(B48,Translate!$G$3:$H$168,2,FALSE))","v":" (rhes 3, colofn 1)"},null,null," (line 1+line 2):"," (llinell 1+llinell 2):",{"$nulls":3},"","",17,"New building of HRA dwellings","","New building of HRA dwellings",{"$f":"VLOOKUP(Q48,Translate!$A$3:$C$1118,2,FALSE)","v":0},{"$nulls":4},"Darpariaeth ar gyfer dyled goll","Darpariaeth ar gyfer dyled goll","Darpariaeth ar gyfer dyled goll","Darpariaeth ar gyfer dyled goll","Darpariaeth ar gyfer dyled goll","Darpariaeth ar gyfer dyled goll",0]
["Total amount due"," (row 3, col. 2)","Y cyfanswm sy'n ddyledus",{"$f":"IF(ISERROR(VLOOKUP(B49,Translate!$G$3:$H$168,2,FALSE)),\"\",VLOOKUP(B49,Translate!$G$3:$H$168,2,FALSE))","v":" (rhes 3, colofn 2)"},null,null," (row 4, col. 1)"," (rhes 4, colofn 1)",{"$nulls":3},"","",18,"Purchase / sale of HRA dwellings","","Purchase / sale of HRA dwellings",{"$f":"VLOOKUP(Q49,Translate!$A$3:$C$1118,2,FALSE)","v":0},{"$nulls":4},"Preseptiau cyngor cymunedol","Preseptiau cyngor cymunedol","Preseptiau cyngor cymunedol","Preseptiau cyngor cymunedol","Preseptiau cyngor cymunedol","Preseptiau cyngor cymunedol",0]
["Received"," (row 4, col. 1)","Y swm a gafwyd",{"$f":"IF(ISERROR(VLOOKUP(B50,Translate!$G$3:$H$168,2,FALSE)),\"\",VLOOKUP(B50,Translate!$G$3:$H$168,2,FALSE))","v":" (rhes 4, colofn 1)"},null,null," (row 4, col. 2)"," (rhes 4, colofn 2)",{"$nulls":3},"","",19.1,"Premature full repayment of principal on mortgages / loans provided for council house purchase","","Premature full repayment of principal on mortgages / loans provided for council house purchase",{"$f":"VLOOKUP(Q50,Translate!$A$3:$C$1118,2,FALSE)","v":0},{"$nulls":4},"Llog allanol","Llog allanol","Llog allanol","Llog allanol","Llog allanol","Llog allanol",0]
["Received"," (row 4, col. 2)","Y swm a gafwyd",{"$f":"IF(ISERROR(VLOOKUP(B51,Translate!$G$3:$H$168,2,FALSE)),\"\",VLOOKUP(B51,Translate!$G$3:$H$168,2,FALSE))","v":" (rhes 4, colofn 2)"},null,null," (row 7)"," (rhes 7)",{"$nulls":3},"","",19.2,"Mortgages / loans provided for council house purchase","","Mortgages / loans provided for council house purchase",{"$f":"VLOOKUP(Q51,Translate!$A$3:$C$1118,2,FALSE)","v":0},{"$nulls":4},"Ardollau","Ardollau","Ardollau","Ardollau","Ardollau","Ardollau",0]
["Arrears O/S, 2014-15"," (row 6, cols. 1 and 2)","Ôl-ddyledion heb eu casglu, 2014-15",{"$f":"IF(ISERROR(VLOOKUP(B52,Translate!$G$3:$H$168,2,FALSE)),\"\",VLOOKUP(B52,Translate!$G$3:$H$168,2,FALSE))","v":" (rhes 6, colofnau 1 a 2)"},null,null," (row 1, col. 1)"," (rhes 1, colofn 1)",{"$nulls":3},"","",20,"Improvements and repairs to HRA PRCs","","Improvements and repairs to HRA PRCs",{"$f":"VLOOKUP(Q52,Translate!$A$3:$C$1118,2,FALSE)","v":0},{"$nulls":4},"Elfen arianau cyfalaf o fewn cynlluniau PFI","Elfen arianau cyfalaf o fewn cynlluniau PFI","Elfen arianau cyfalaf o fewn cynlluniau PFI","Elfen arianau cyfalaf o fewn cynlluniau PFI","Elfen arianau cyfalaf o fewn cynlluniau PFI","Elfen arianau cyfalaf o fewn cynlluniau PFI",0]
["Amount originally budgeted"," (row 7)","Y swm a nodwyd yn y gyllideb yn wreiddiol",{"$f":"IF(ISERROR(VLOOKUP(B53,Translate!$G$3:$H$168,2,FALSE)),\"\",VLOOKUP(B53,Translate!$G$3:$H$168,2,FALSE))","v":" (rhes 7)"},null,null," (lines 8.1 to 8.7)"," (llinellau 8.1 i 8.7)",{"$nulls":3},"","",21,"Improvements and repairs to other HRA dwellings","","Improvements and repairs to other HRA dwellings",{"$f":"VLOOKUP(Q53,Translate!$A$3:$C$1118,2,FALSE)","v":0},{"$nulls":4},"Taliadau prydlesu","Taliadau prydlesu","Taliadau prydlesu","Taliadau prydlesu","Taliadau prydlesu","Taliadau prydlesu",0]
["Total discounts","( G2 + G4 + G6 + G8 + G10 ) ( gweler nodyn 11 )","Cyfanswm disgowntiau",{"$nulls":3}," (lines 1.1 to 5)"," (llinellau 1.1 i 5)",{"$nulls":3},"","",22,"Low cost home ownership (HRA)","","Low cost home ownership (HRA)",{"$f":"VLOOKUP(Q54,Translate!$A$3:$C$1118,2,FALSE)","v":0},{"$nulls":4},"Cymhwysiadau eraill","Cymhwysiadau eraill","Cymhwysiadau eraill","Cymhwysiadau eraill","Cymhwysiadau eraill","Cymhwysiadau eraill",0]
["Adjustments",null,"Addasiadau",{"$f":"IF(ISERROR(VLOOKUP(B55,Translate!$G$3:$H$168,2,FALSE)),\"\",VLOOKUP(B55,Translate!$G$3:$H$168,2,FALSE))","v":""},null,null," (lines 200 to 209)"," (llinellau 200 i 209)",{"$nulls":3},"","",23,"Other HRA","","Other HRA",{"$f":"VLOOKUP(Q55,Translate!$A$3:$C$1118,2,FALSE)","v":0},{"$nulls":4},"Holl gwariant refeniw arall",{"$f":"IF(LEFT(W55,1)=\" \",RIGHT(W55,LEN(W55)-1),W55)","v":"Holl gwariant refeniw arall"},"Holl gwariant refeniw arall","Holl gwariant refeniw arall","Holl gwariant refeniw arall","Holl gwariant refeniw arall",0]
["Adult Community Learning (formerly Community learning)",null,"Dysgu Cymunedol i Oedolion (Dysgu Cymunedol yn flaenorol)",{"$f":"IF(ISERROR(VLOOKUP(B56,Translate!$G$3:$H$168,2,FALSE)),\"\",VLOOKUP(B56,Translate!$G$3:$H$168,2,FALSE))","v":""},null,null," (lines 1 to 10)"," (llinellau 1 i 10)",{"$nulls":3},"","",24,"cyfanswm Housing Revenue Account (lines 16 to 23)","(lines 16 to 23)","cyfanswm Housing Revenue Account ",{"$f":"VLOOKUP(Q56,Translate!$A$3:$C$1118,2,FALSE)","v":{"$error":"#N/A"}},{"$nulls":4},"Ariannu dyled","Ariannu dyled","Ariannu dyled","Ariannu dyled","Ariannu dyled","Ariannu dyled",0]
["Agriculture and fisheries services",null,"Gwasanaethau amaethyddiaeth a physgodfeydd",{"$f":"IF(ISERROR(VLOOKUP(B57,Translate!$G$3:$H$168,2,FALSE)),\"\",VLOOKUP(B57,Translate!$G$3:$H$168,2,FALSE))","v":""},null,null," (lines 12 to 21)"," (llinellau 12 i 21)",{"$nulls":3},"","",25,"Environmental work in renewal areas","","Environmental work in renewal areas",{"$f":"VLOOKUP(Q57,Translate!$A$3:$C$1118,2,FALSE)","v":0},{"$nulls":4},0,0,0,0,0,0,0]
["Any queries on completion of the form or spreadsheet should be directed to Frank Kelly or Anthony Newby via telephone or e-mail, as detailed below.",null,"Dylid cyfeirio pob ymholiad ynghylch llenwi'r ffurflen neu'r daenlen at Frank Kelly neu Anthony Newby, dros y ffôn neu drwy e-bost, yn unol â'r manylion isod.",{"$f":"IF(ISERROR(VLOOKUP(B58,Translate!$G$3:$H$168,2,FALSE)),\"\",VLOOKUP(B58,Translate!$G$3:$H$168,2,FALSE))","v":""},null,null," (lines 23 to 32)"," (llinellau 23 i 32)",{"$nulls":3},"","",26,"Group repair","","Group repair",{"$f":"VLOOKUP(Q58,Translate!$A$3:$C$1118,2,FALSE)","v":0},{"$nulls":4},"diwylliant ac threftadaeth","diwylliant ac threftadaeth","diwylliant ac threftadaeth","diwylliant ac threftadaeth","diwylliant ac threftadaeth","diwylliant ac threftadaeth",0]
["Appropriations to(+) / from(-) Accumulated Absences Account",null,"Dyraniadau i(+) / o(-) Gyfrif Absenoldebau Cronnus",{"$f":"IF(ISERROR(VLOOKUP(B59,Translate!$G$3:$H$168,2,FALSE)),\"\",VLOOKUP(B59,Translate!$G$3:$H$168,2,FALSE))","v":""},null,null," (lines 250 to 259)"," (llinellau 250 i 259)",{"$nulls":3},"","",27,"Slum clearance","","Slum clearance",{"$f":"VLOOKUP(Q59,Translate!$A$3:$C$1118,2,FALSE)","v":0},{"$nulls":4},"Amgueddfeydd ac orielau","Amgueddfeydd ac orielau","Amgueddfeydd ac orielau","Amgueddfeydd ac orielau","Amgueddfeydd ac orielau","Amgueddfeydd ac orielau",0]
["Appropriations to(+) / from(-) earmarked financial reserves (excluding schools' financial reserves)",null,"Dyraniadau i(+) / o(-) gronfeydd wrth gefn wedi'u clustnodi (ac eithrio cronfeydd wrth gefn ysgolion)",{"$f":"IF(ISERROR(VLOOKUP(B60,Translate!$G$3:$H$168,2,FALSE)),\"\",VLOOKUP(B60,Translate!$G$3:$H$168,2,FALSE))","v":""},null,null," (lines 210+11+22+33+260)"," (llinellau 210+11+22+33+260)",{"$nulls":3},"","",28,"Low cost home ownership (non-HRA)","","Low cost home ownership (non-HRA)",{"$f":"VLOOKUP(Q60,Translate!$A$3:$C$1118,2,FALSE)","v":0},{"$nulls":4},0,0,0,0,0,0,0]
["Appropriations to(+) / from(-) financial instruments adjustment account",null,"Dyraniadau i(+) / o(-) gyfrif addasu offerynnau ariannol",{"$f":"IF(ISERROR(VLOOKUP(B61,Translate!$G$3:$H$168,2,FALSE)),\"\",VLOOKUP(B61,Translate!$G$3:$H$168,2,FALSE))","v":""},null,null," (lines 210+300+310+316.1+320+330+340)"," (llinellau 210+300+310+316.1+320+330+340)",{"$nulls":3},"","",29,"Other council fund housing","","Other council fund housing",{"$f":"VLOOKUP(Q61,Translate!$A$3:$C$1118,2,FALSE)","v":0},{"$nulls":4},0,0,0,0,0,0,0]
["Appropriations to(+) / from(-) unallocated financial reserves",null,"Dyraniadau i(+) / o(-) gronfeydd wrth gefn heb eu clustnodi",{"$f":"IF(ISERROR(VLOOKUP(B62,Translate!$G$3:$H$168,2,FALSE)),\"\",VLOOKUP(B62,Translate!$G$3:$H$168,2,FALSE))","v":""},null,null," (lines 11+301+311+316.2+321+331+341)"," (llinellau 11+301+311+316.2+321+331+341)",{"$nulls":3},"","",30,"Renovation grants","","Renovation grants",{"$f":"VLOOKUP(Q62,Translate!$A$3:$C$1118,2,FALSE)","v":0},{"$nulls":4},0,0,0,0,0,0,0]
["Appropriations to(+) / from(-) unequal pay back pay account",null,"Dyraniadau i(+) / o(-) gyfrif ôl-dalu tâl anghyfartal",{"$f":"IF(ISERROR(VLOOKUP(B63,Translate!$G$3:$H$168,2,FALSE)),\"\",VLOOKUP(B63,Translate!$G$3:$H$168,2,FALSE))","v":""},null,null," (lines 22+302+312+316.3+322+332+342)"," (llinellau 22+302+312+316.3+322+332+342)",{"$nulls":3},"","",31,"Other grants","","Other grants",{"$f":"VLOOKUP(Q63,Translate!$A$3:$C$1118,2,FALSE)","v":0},{"$nulls":4},"Ysgolion meithrin","Ysgolion meithrin","Ysgolion meithrin","Ysgolion meithrin","Ysgolion meithrin","Ysgolion meithrin",0]
["Appropriations to(+)/ from(-) financial instruments adjustment account",null,"Dyraniadau i(+) / o(-) gyfrif addasu offerynnau ariannol",{"$f":"IF(ISERROR(VLOOKUP(B64,Translate!$G$3:$H$168,2,FALSE)),\"\",VLOOKUP(B64,Translate!$G$3:$H$168,2,FALSE))","v":""},null,null," (lines 33+303+313+316.4+323+333+343)"," (llinellau 33+303+313+316.4+323+333+343)",{"$nulls":3},"","",32,"cyfanswm council fund housing (lines 25 to 31)","(lines 25 to 31)","cyfanswm council fund housing ",{"$f":"VLOOKUP(Q64,Translate!$A$3:$C$1118,2,FALSE)","v":{"$error":"#N/A"}},{"$nulls":4},"Ysgolion cynradd","Ysgolion cynradd","Ysgolion cynradd","Ysgolion cynradd","Ysgolion cynradd","Ysgolion cynradd",0]
["Asylum seekers grant",null,"Grant ceiswyr lloches",{"$f":"IF(ISERROR(VLOOKUP(B65,Translate!$G$3:$H$168,2,FALSE)),\"\",VLOOKUP(B65,Translate!$G$3:$H$168,2,FALSE))","v":""},null,null," (lines 260+304+314+316.5+324+334+344)"," (llinellau 260+304+314+316.5+324+334+344)",{"$nulls":3},"","",33,"Lending to registered social landlords","","Lending to registered social landlords",{"$f":"VLOOKUP(Q65,Translate!$A$3:$C$1118,2,FALSE)","v":0},{"$nulls":4},"Ysgolion uwchradd","Ysgolion uwchradd","Ysgolion uwchradd","Ysgolion uwchradd","Ysgolion uwchradd","Ysgolion uwchradd",0]
["At 1 April",null,"Ar 1 Ebrill",{"$f":"IF(ISERROR(VLOOKUP(B66,Translate!$G$3:$H$168,2,FALSE)),\"\",VLOOKUP(B66,Translate!$G$3:$H$168,2,FALSE))","v":""},null,null," (lines 360+370+380+390+400+410)"," (llinellau 360+370+380+390+400+410)",{"$nulls":3},"","",34,"Lending to other borrowers","","Lending to other borrowers",{"$f":"VLOOKUP(Q66,Translate!$A$3:$C$1118,2,FALSE)","v":0},{"$nulls":4},"Ysgolion arbennig","Ysgolion arbennig","Ysgolion arbennig","Ysgolion arbennig","Ysgolion arbennig","Ysgolion arbennig",0]
["At 31 March",null,"Ar 31 Mawrth",{"$f":"IF(ISERROR(VLOOKUP(B67,Translate!$G$3:$H$168,2,FALSE)),\"\",VLOOKUP(B67,Translate!$G$3:$H$168,2,FALSE))","v":""},null,null," (lines 361+371+381+391+401+411)"," (llinellau 361+371+381+391+401+411)",{"$nulls":3},{"$f":"IF(ISERROR(FIND(\"=\",O67)),\"\",RIGHT(O67,LEN(O67)-FIND(\"=\",O67)+3))","v":""},{"$f":"IF(ISERROR(FIND(\" (include\",O67)),\"\",RIGHT(O67,LEN(O67)-FIND(\" (include\",O67)))","v":""},35,"cyfanswm housing / SDA Act advances (lines 33 and 34)",{"$f":"IF(ISERROR(FIND(\" (line\",O67)),\"\",RIGHT(O67,LEN(O67)-FIND(\" (line\",O67)))","v":"(lines 33 and 34)"},{"$f":"LEFT(O67,LEN(O67)-LEN(P67))","v":"cyfanswm housing / SDA Act advances "},{"$f":"VLOOKUP(Q67,Translate!$A$3:$C$1118,2,FALSE)","v":{"$error":"#N/A"}},{"$nulls":4},"Ysgolion canolradd","Ysgolion canolradd","Ysgolion canolradd","Ysgolion canolradd","Ysgolion canolradd","Ysgolion canolradd",0]
["Autistic spectrum disorder (education)",null,"Anhwylder ar y sbectrwm awtistig (addysg)",{"$f":"IF(ISERROR(VLOOKUP(B68,Translate!$G$3:$H$168,2,FALSE)),\"\",VLOOKUP(B68,Translate!$G$3:$H$168,2,FALSE))","v":""},null,null," (lines 362+372+382+392+402+412)"," (llinellau 362+372+382+392+402+412)",{"$nulls":3},"","",36,"cyfanswm housing (lines 24+32+35)","(lines 24+32+35)","cyfanswm housing ",{"$f":"VLOOKUP(Q68,Translate!$A$3:$C$1118,2,FALSE)","v":{"$error":"#N/A"}},{"$nulls":4},0,0,0,0,0,0,{"$f":"IF(LEFT(AB68,1)=\" \",1,0)","v":0}]
["Autistic spectrum disorder (social services)",null,"Anhwylder ar y sbectrwm awtistig (gwasanaethau cymdeithasol)",{"$f":"IF(ISERROR(VLOOKUP(B69,Translate!$G$3:$H$168,2,FALSE)),\"\",VLOOKUP(B69,Translate!$G$3:$H$168,2,FALSE))","v":""},null,null," (lines 363+373+383+393+403+413)"," (llinellau 363+373+383+393+403+413)",{"$nulls":3},"","",37,"Library services","","Library services",{"$f":"VLOOKUP(Q69,Translate!$A$3:$C$1118,2,FALSE)","v":0},{"$nulls":4},0,0,0,0,0,0,0]
["Autistic spectrum disorder grant (other)",null,"Anhwylder ar y sbectrwm awtistig (arall)",{"$f":"IF(ISERROR(VLOOKUP(B70,Translate!$G$3:$H$168,2,FALSE)),\"\",VLOOKUP(B70,Translate!$G$3:$H$168,2,FALSE))","v":""},null,null," (lines 364+374+384+394+404+414)"," (llinellau 364+374+384+394+404+414)",{"$nulls":3},"","",38,"Museums and galleries","","Museums and galleries",{"$f":"VLOOKUP(Q70,Translate!$A$3:$C$1118,2,FALSE)","v":0},{"$nulls":4},"Digollediad rhwng awdurdodau","Digollediad rhwng awdurdodau","Digollediad rhwng awdurdodau","Digollediad rhwng awdurdodau","Digollediad rhwng awdurdodau","Digollediad rhwng awdurdodau",0]
["Big lottery fund",null,"Y Gronfa Loteri Fawr",{"$f":"IF(ISERROR(VLOOKUP(B71,Translate!$G$3:$H$168,2,FALSE)),\"\",VLOOKUP(B71,Translate!$G$3:$H$168,2,FALSE))","v":""},null,null," (lines 350+420)"," (llinellau 350+420)",{"$nulls":3},"","",39,"Arts activities and facilities (including theatres)","","Arts activities and facilities (including theatres)",{"$f":"VLOOKUP(Q71,Translate!$A$3:$C$1118,2,FALSE)","v":0},{"$nulls":4},"Arlwyo yn yr ysgol","Arlwyo yn yr ysgol","Arlwyo yn yr ysgol","Arlwyo yn yr ysgol","Arlwyo yn yr ysgol","Arlwyo yn yr ysgol",0]
["Big lottery fund (education)",null,"Y Gronfa Loteri Fawr (addysg)",{"$f":"IF(ISERROR(VLOOKUP(B72,Translate!$G$3:$H$168,2,FALSE)),\"\",VLOOKUP(B72,Translate!$G$3:$H$168,2,FALSE))","v":""},null,null," (lines 351+421)"," (llinellau 351+421)",{"$nulls":3},"","",40,"cyfanswm libraries, culture and heritage (lines 37 to 39)","(lines 37 to 39)","cyfanswm libraries, culture and heritage ",{"$f":"VLOOKUP(Q72,Translate!$A$3:$C$1118,2,FALSE)","v":{"$error":"#N/A"}},{"$nulls":4},"Cyllideb arall ysgolion ","Cyllideb arall ysgolion ","Cyllideb arall ysgolion ","Cyllideb arall ysgolion ","Cyllideb arall ysgolion ","Cyllideb arall ysgolion ",0]
["Big lottery fund (social services)",null,"Y Gronfa Loteroi Fawr (gwasanaethau cymdeithasol)",{"$f":"IF(ISERROR(VLOOKUP(B73,Translate!$G$3:$H$168,2,FALSE)),\"\",VLOOKUP(B73,Translate!$G$3:$H$168,2,FALSE))","v":""},null,null," (lines 352+422)"," (llinellau 352+422)",{"$nulls":3},"","",41,"Land drainage and flood prevention","","Land drainage and flood prevention",{"$f":"VLOOKUP(Q73,Translate!$A$3:$C$1118,2,FALSE)","v":0},{"$nulls":4},"Staff","Staff","Staff","Staff","Staff","Staff",0]
["Budget requirement plus net discretionary NDR relief",null,"Gofyniad cyllidebol plws rhyddhad ardreth annomestig dewisol net",{"$f":"IF(ISERROR(VLOOKUP(B74,Translate!$G$3:$H$168,2,FALSE)),\"\",VLOOKUP(B74,Translate!$G$3:$H$168,2,FALSE))","v":""},null,null," (lines 353+423)"," (llinellau 353+423)",{"$nulls":3},"","",42,"Coast protection","","Coast protection",{"$f":"VLOOKUP(Q74,Translate!$A$3:$C$1118,2,FALSE)","v":0},{"$nulls":4},"Gwariant cyfalaf a godwyd o'r cyfrif refeniw","Gwariant cyfalaf a godwyd o'r cyfrif refeniw","Gwariant cyfalaf a godwyd o'r cyfrif refeniw","Gwariant cyfalaf a godwyd o'r cyfrif refeniw","Gwariant cyfalaf a godwyd o'r cyfrif refeniw","Gwariant cyfalaf a godwyd o'r cyfrif refeniw",0]
["Budgeted net discretionary non-domestic rate (NDR) relief paid for by council fund",null,"Rhyddhad ardreth annomestig net wedi'i gyllidebu, a dalwyd o gronfa'r cyngor",{"$f":"IF(ISERROR(VLOOKUP(B75,Translate!$G$3:$H$168,2,FALSE)),\"\",VLOOKUP(B75,Translate!$G$3:$H$168,2,FALSE))","v":""},null,null," (lines 354+424)"," (llinellau 354+424)",{"$nulls":3},"","",43,"Other agriculture and fisheries","","Other agriculture and fisheries",{"$f":"VLOOKUP(Q75,Translate!$A$3:$C$1118,2,FALSE)","v":0},{"$nulls":4},"Cyllideb ysgolion","Cyllideb ysgolion","Cyllideb ysgolion","Cyllideb ysgolion","Cyllideb ysgolion","Cyllideb ysgolion",0]
["Bus Revenue Support",null,"Cymorth Refeniw Bysiau",{"$f":"IF(ISERROR(VLOOKUP(B76,Translate!$G$3:$H$168,2,FALSE)),\"\",VLOOKUP(B76,Translate!$G$3:$H$168,2,FALSE))","v":""},null,null," (lines 97 to 107.5)"," (llinellau 97 i 107.5)",{"$nulls":3},"","",44,"cyfanswm agriculture and fisheries (lines 41 to 43)","(lines 41 to 43)","cyfanswm agriculture and fisheries ",{"$f":"VLOOKUP(Q76,Translate!$A$3:$C$1118,2,FALSE)","v":{"$error":"#N/A"}},{"$nulls":4},0,0,0,0,0,0,0]
["Bus Services Support Grant",null,"Grant Cymorth Gwasanaethau Bws",{"$f":"IF(ISERROR(VLOOKUP(B77,Translate!$G$3:$H$168,2,FALSE)),\"\",VLOOKUP(B77,Translate!$G$3:$H$168,2,FALSE))","v":""},null,null," (lines 435+108)"," (llinellau 435+108)",{"$nulls":3},"","",46,"Sports facilities","","Sports facilities",{"$f":"VLOOKUP(Q77,Translate!$A$3:$C$1118,2,FALSE)","v":0},{"$nulls":4},"Gwella ysgolion","Gwella ysgolion","Gwella ysgolion","Gwella ysgolion","Gwella ysgolion","Gwella ysgolion",0]
["Capital charges relating to construction projects",null,"Taliadau cyfalaf yn ymwneud â phrosiectau adeiladu",{"$f":"IF(ISERROR(VLOOKUP(B78,Translate!$G$3:$H$168,2,FALSE)),\"\",VLOOKUP(B78,Translate!$G$3:$H$168,2,FALSE))","v":""},null,null," (line 109, column 1.10)"," (llinell 109, colofn 1.10)",{"$nulls":3},"","",47,"Sports development and children's play","","Sports development and children's play",{"$f":"VLOOKUP(Q78,Translate!$A$3:$C$1118,2,FALSE)","v":0},{"$nulls":4},"Mynediad i addysg","Mynediad i addysg","Mynediad i addysg","Mynediad i addysg","Mynediad i addysg","Mynediad i addysg",0]
["Capital financing element within Private Finance Initiative (PFI) schemes",null,"Elfen cyllido cyfalaf cynlluniau Menter Cyllid Preifat (PFI)",{"$f":"IF(ISERROR(VLOOKUP(B79,Translate!$G$3:$H$168,2,FALSE)),\"\",VLOOKUP(B79,Translate!$G$3:$H$168,2,FALSE))","v":""},null,null," (included in line 109, column 1.20)"," (Wedi’i cynnwys yn llinell 109, colofn 1.20)",{"$nulls":3},"","",48,"cyfanswm sport and recreation (lines 46 and 47)","(lines 46 and 47)","cyfanswm sport and recreation ",{"$f":"VLOOKUP(Q79,Translate!$A$3:$C$1118,2,FALSE)","v":{"$error":"#N/A"}},{"$nulls":4},"Cludiant o'r cartref i'r ysgol","Cludiant o'r cartref i'r ysgol","Cludiant o'r cartref i'r ysgol","Cludiant o'r cartref i'r ysgol","Cludiant o'r cartref i'r ysgol","Cludiant o'r cartref i'r ysgol",0]
["Central services",null,"Gwasanaethau canolog",{"$f":"IF(ISERROR(VLOOKUP(B80,Translate!$G$3:$H$168,2,FALSE)),\"\",VLOOKUP(B80,Translate!$G$3:$H$168,2,FALSE))","v":""},null,null," (line 109, columns 1.20, 2 and 3, less line 125)"," (llinell 109, colofn 1.20, 2 and 3, - llinell 125)",{"$nulls":3},"","",49,"Derelict land reclamation (grant aided)","","Derelict land reclamation (grant aided)",{"$f":"VLOOKUP(Q80,Translate!$A$3:$C$1118,2,FALSE)","v":0},{"$nulls":4},"Rheoli strategol","Rheoli strategol","Rheoli strategol","Rheoli strategol","Rheoli strategol","Rheoli strategol",0]
["Change excluding transfers in",null,"Newid, ac eithrio trosglwyddiadau i mewn",{"$f":"IF(ISERROR(VLOOKUP(B81,Translate!$G$3:$H$168,2,FALSE)),\"\",VLOOKUP(B81,Translate!$G$3:$H$168,2,FALSE))","v":""},null,null,"(1.1)+(1.2)+(2)+(3)","(1.1)+(1.2)+(2)+(3)",{"$nulls":3},"","",50,"Parks and open spaces","","Parks and open spaces",{"$f":"VLOOKUP(Q81,Translate!$A$3:$C$1118,2,FALSE)","v":0},{"$nulls":4},"Cyllid ALl ar ysgolion arall","Cyllid ALl ar ysgolion arall","Cyllid ALl ar ysgolion arall","Cyllid ALl ar ysgolion arall","Cyllid ALl ar ysgolion arall","Cyllid ALl ar ysgolion arall",0]
["Change in",null,"Newid, i mewn",{"$f":"IF(ISERROR(VLOOKUP(B82,Translate!$G$3:$H$168,2,FALSE)),\"\",VLOOKUP(B82,Translate!$G$3:$H$168,2,FALSE))","v":""},null,null,5,5,{"$nulls":3},"","",51,"Waste collection","","Waste collection",{"$f":"VLOOKUP(Q82,Translate!$A$3:$C$1118,2,FALSE)","v":0},{"$nulls":4},"Cyllid ALI","Cyllid ALI","Cyllid ALI","Cyllid ALI","Cyllid ALI","Cyllid ALI",0]
["Check net expenditure balances to zero",null,"Gwirio bod y gwariant net yn mantoli i sero",{"$f":"IF(ISERROR(VLOOKUP(B83,Translate!$G$3:$H$168,2,FALSE)),\"\",VLOOKUP(B83,Translate!$G$3:$H$168,2,FALSE))","v":""},null,null,"(6.1)+(6.2)+(7)","(6.1)+(6.2)+(7)",{"$nulls":3},"","",52,"Waste disposal","","Waste disposal",{"$f":"VLOOKUP(Q83,Translate!$A$3:$C$1118,2,FALSE)","v":0},{"$nulls":4},"Cyfaswm gwariant ysgol","Cyfaswm gwariant ysgol","Cyfaswm gwariant ysgol","Cyfaswm gwariant ysgol","Cyfaswm gwariant ysgol","Cyfaswm gwariant ysgol",0]
["Communities First (education)",null,"Cymunedau yn Gyntaf (addysg)",{"$f":"IF(ISERROR(VLOOKUP(B84,Translate!$G$3:$H$168,2,FALSE)),\"\",VLOOKUP(B84,Translate!$G$3:$H$168,2,FALSE))","v":""},null,null,"(5)+(8)","(5)+(8)",{"$nulls":3},"","",52.1,"Trade Waste","","Trade Waste",{"$f":"VLOOKUP(Q84,Translate!$A$3:$C$1118,2,FALSE)","v":0},{"$nulls":4},0,0,0,0,0,0,0]
["Communities First (social services)",null,"Cymunedau yn Gyntaf (gwasanaethau cymdeithasol)",{"$f":"IF(ISERROR(VLOOKUP(B85,Translate!$G$3:$H$168,2,FALSE)),\"\",VLOOKUP(B85,Translate!$G$3:$H$168,2,FALSE))","v":""},null,null,"  (lines 2.1 to 2.3)","  (llinellau 2.1 i 2.3)",{"$nulls":3},"","",52.2,"Recycling","","Recycling",{"$f":"VLOOKUP(Q85,Translate!$A$3:$C$1118,2,FALSE)","v":0},{"$nulls":4},0,0,0,0,0,0,0]
["Community cohesion fund ",null,"Cronfa cydlyniant cymunedol",{"$f":"IF(ISERROR(VLOOKUP(B86,Translate!$G$3:$H$168,2,FALSE)),\"\",VLOOKUP(B86,Translate!$G$3:$H$168,2,FALSE))","v":""},null,null," (lines 3.1 to 3.3)"," (llinellau 3.1 i 3.3)",{"$nulls":3},"","",52.3,"Waste Minimisation","","Waste Minimisation",{"$f":"VLOOKUP(Q86,Translate!$A$3:$C$1118,2,FALSE)","v":0},{"$nulls":4},0,0,0,0,0,0,0]
["Community development (county and county borough councils)",null,"Datblygu cymunedol (cynghorau sir a chynghorau bwrdeistref sirol)",{"$f":"IF(ISERROR(VLOOKUP(B87,Translate!$G$3:$H$168,2,FALSE)),\"\",VLOOKUP(B87,Translate!$G$3:$H$168,2,FALSE))","v":""},null,null," (lines 16 to 17.1)"," (llinellau 16 i 17.1)",{"$nulls":3},"","",52.4,"Climate Change Costs","","Climate Change Costs",{"$f":"VLOOKUP(Q87,Translate!$A$3:$C$1118,2,FALSE)","v":0},{"$nulls":4},0,0,0,0,0,0,0]
["Community fire safety (fire authorities only)",null,"Diogelwch tân cymunedol",{"$f":"IF(ISERROR(VLOOKUP(B88,Translate!$G$3:$H$168,2,FALSE)),\"\",VLOOKUP(B88,Translate!$G$3:$H$168,2,FALSE))","v":""},null,null," (lines 2+3+13+14+15+19)"," (llinellau 2+3+13+14+15+19)",{"$nulls":3},"","",53,"General administration","","General administration",{"$f":"VLOOKUP(Q88,Translate!$A$3:$C$1118,2,FALSE)","v":0},{"$nulls":4},0,0,0,0,0,0,0]
["Community focused schools",null,"Ysgolion bro",{"$f":"IF(ISERROR(VLOOKUP(B89,Translate!$G$3:$H$168,2,FALSE)),\"\",VLOOKUP(B89,Translate!$G$3:$H$168,2,FALSE))","v":""},null,null," (lines 25+26+29)"," (llinellau 25+26+29)",{"$nulls":3},"","",54,"Planning and development (including Gypsy sites)","","Planning and development (including Gypsy sites)",{"$f":"VLOOKUP(Q89,Translate!$A$3:$C$1118,2,FALSE)","v":0},{"$nulls":4},0,0,0,0,0,0,0]
["Community learning",null,"Dysgu cymunedol",{"$f":"IF(ISERROR(VLOOKUP(B90,Translate!$G$3:$H$168,2,FALSE)),\"\",VLOOKUP(B90,Translate!$G$3:$H$168,2,FALSE))","v":""},null,null," (lines 24+32+33)"," (llinellau 24+32+33)",{"$nulls":3},"","",55,"Community safety","","Community safety",{"$f":"VLOOKUP(Q90,Translate!$A$3:$C$1118,2,FALSE)","v":0},{"$nulls":4},0,0,0,0,0,0,0]
["Community purposes (housing)",null,"Dibenion cymunedol (tai)",{"$f":"IF(ISERROR(VLOOKUP(B91,Translate!$G$3:$H$168,2,FALSE)),\"\",VLOOKUP(B91,Translate!$G$3:$H$168,2,FALSE))","v":""},null,null," (lines 1+21+34)"," (llinellau 1+21+34)",{"$nulls":3},"","",55.1,"Community safety (CCTV)","","Community safety (CCTV)",{"$f":"VLOOKUP(Q91,Translate!$A$3:$C$1118,2,FALSE)","v":0},{"$nulls":4},0,0,0,0,0,0,0]
["Community purposes (other)",null,"Dibenion cymunedol (arall)",{"$f":"IF(ISERROR(VLOOKUP(B92,Translate!$G$3:$H$168,2,FALSE)),\"\",VLOOKUP(B92,Translate!$G$3:$H$168,2,FALSE))","v":""},null,null," (included in line 35, column 1)"," (Wedi’i cynnwys yn llinell 35, colofn 1)",{"$nulls":3},"","",56.1,"Regulatory services (Environmental health)","","Regulatory services (Environmental health)",{"$f":"VLOOKUP(Q92,Translate!$A$3:$C$1118,2,FALSE)","v":0},{"$nulls":4},"Staff addysgu","Staff addysgu","Staff addysgu","Staff addysgu","Staff addysgu","Staff addysgu",0]
["Community purposes (social services)",null,"Dibenion cymunedol (gwasanaethau cymdeithasol)",{"$f":"IF(ISERROR(VLOOKUP(B93,Translate!$G$3:$H$168,2,FALSE)),\"\",VLOOKUP(B93,Translate!$G$3:$H$168,2,FALSE))","v":""},null,null,"(1)+(2)+(3)","(1)+(2)+(3)",{"$nulls":3},"","",56.2,"Regulatory services (Trading Standards)","","Regulatory services (Trading Standards)",{"$f":"VLOOKUP(Q93,Translate!$A$3:$C$1118,2,FALSE)","v":0},{"$nulls":4},"Staff cymorth","Staff cymorth","Staff cymorth","Staff cymorth","Staff cymorth","Staff cymorth",0]
["Community safety - crime reduction (excluding CCTV)",null,"Diogelwch cymunedol - gostwng troseddu (ac eithrio teledu cylch cyfyng)",{"$f":"IF(ISERROR(VLOOKUP(B94,Translate!$G$3:$H$168,2,FALSE)),\"\",VLOOKUP(B94,Translate!$G$3:$H$168,2,FALSE))","v":""},null,null,"(6.1)+(6.2)+(7)","(6.1)+(6.2)+(7)",{"$nulls":3},"","",57,"Miscellaneous","","Miscellaneous",{"$f":"VLOOKUP(Q94,Translate!$A$3:$C$1118,2,FALSE)","v":0},{"$nulls":4},"Treuliau anuniongyrchol gweithwyr cyflogedig","Treuliau anuniongyrchol gweithwyr cyflogedig","Treuliau anuniongyrchol gweithwyr cyflogedig","Treuliau anuniongyrchol gweithwyr cyflogedig","Treuliau anuniongyrchol gweithwyr cyflogedig","Treuliau anuniongyrchol gweithwyr cyflogedig",0]
["Community safety - safety services",null,"Diogelwch cymunedol - gwasanaethau diogelwch",{"$f":"IF(ISERROR(VLOOKUP(B95,Translate!$G$3:$H$168,2,FALSE)),\"\",VLOOKUP(B95,Translate!$G$3:$H$168,2,FALSE))","v":""},null,null,"(5)+(8)","(5)+(8)",{"$nulls":3},"","",58,"Industrial and commercial","","Industrial and commercial",{"$f":"VLOOKUP(Q95,Translate!$A$3:$C$1118,2,FALSE)","v":0},{"$nulls":4},"Atgyweirio a chynnal a chadw ","Atgyweirio a chynnal a chadw ","Atgyweirio a chynnal a chadw ","Atgyweirio a chynnal a chadw ","Atgyweirio a chynnal a chadw ","Atgyweirio a chynnal a chadw ",0]
["Conservation",null,"Cadwraeth",{"$f":"IF(ISERROR(VLOOKUP(B96,Translate!$G$3:$H$168,2,FALSE)),\"\",VLOOKUP(B96,Translate!$G$3:$H$168,2,FALSE))","v":""},null,null," (lines 6 to 9)"," (llinellau 6 i 9)",{"$nulls":3},"","",59,"Other trading services","","Other trading services",{"$f":"VLOOKUP(Q96,Translate!$A$3:$C$1118,2,FALSE)","v":0},{"$nulls":4},"Gwariant arall ar safleoedd","Gwariant arall ar safleoedd","Gwariant arall ar safleoedd","Gwariant arall ar safleoedd","Gwariant arall ar safleoedd","Gwariant arall ar safleoedd",0]
["Contribution from(+) / to(-) HRA to(+) / from(-) council fund",null,"Cyfraniad o(+) / i(-) y Cyfrif Refeniw Tai (HRA) i(+) / o(-) gronfa'r cyngor",{"$f":"IF(ISERROR(VLOOKUP(B97,Translate!$G$3:$H$168,2,FALSE)),\"\",VLOOKUP(B97,Translate!$G$3:$H$168,2,FALSE))","v":""},null,null," (lines 13 to 16)"," (llinellau 13 i 16)",{"$nulls":3},"","",60,"cyfanswm other environmental services (lines 49 to 59)","(lines 49 to 59)","cyfanswm other environmental services ",{"$f":"VLOOKUP(Q97,Translate!$A$3:$C$1118,2,FALSE)","v":{"$error":"#N/A"}},{"$nulls":4},"Cyfarpar addysg","Cyfarpar addysg","Cyfarpar addysg","Cyfarpar addysg","Cyfarpar addysg","Cyfarpar addysg",0]
["Contribution to(+) / from(-) the HRA (re items shared by the whole community)",null,"Cyfraniad i(+) / o(-) yr HRA (ar gyfer eitemau a rennir gan y gymuned gyfan) ",{"$f":"IF(ISERROR(VLOOKUP(B98,Translate!$G$3:$H$168,2,FALSE)),\"\",VLOOKUP(B98,Translate!$G$3:$H$168,2,FALSE))","v":""},null,null," (lines 21.4 to 21.6)"," (llinellau 21.4 i 21.6)",{"$nulls":3},"","",61,"Fire and rescue service","","Fire and rescue service",{"$f":"VLOOKUP(Q98,Translate!$A$3:$C$1118,2,FALSE)","v":" (line 61)"},{"$nulls":4},"Gwariant arall","Gwariant arall","Gwariant arall","Gwariant arall","Gwariant arall","Gwariant arall",0]
["Coroners' courts services",null,"Gwasanaethau llysoedd y crwneriaid",{"$f":"IF(ISERROR(VLOOKUP(B99,Translate!$G$3:$H$168,2,FALSE)),\"\",VLOOKUP(B99,Translate!$G$3:$H$168,2,FALSE))","v":""},null,null," (lines 25.4 to 25.42)"," (llinellau 25.4 i 25.42)",{"$nulls":3},"","",62,"Police service","","Police service",{"$f":"VLOOKUP(Q99,Translate!$A$3:$C$1118,2,FALSE)","v":" (line 62)"},{"$nulls":4},"Incwm ysgolion mewn cyfrifon ALl","Incwm ysgolion mewn cyfrifon ALl","Incwm ysgolion mewn cyfrifon ALl","Incwm ysgolion mewn cyfrifon ALl","Incwm ysgolion mewn cyfrifon ALl","Incwm ysgolion mewn cyfrifon ALl",0]
["Corporate and democratic core costs",null,"Costau craidd democrataidd a chorfforaethol",{"$f":"IF(ISERROR(VLOOKUP(B100,Translate!$G$3:$H$168,2,FALSE)),\"\",VLOOKUP(B100,Translate!$G$3:$H$168,2,FALSE))","v":""},null,null," (lines 25.6 to 25.7)"," (llinellau 25.6 i 25.7)",{"$nulls":3},"","",63,"Coroners' courts","","Coroners' courts",{"$f":"VLOOKUP(Q100,Translate!$A$3:$C$1118,2,FALSE)","v":0},{"$nulls":4},"Addasiadau i gyfraniadau i/o gronfeydd wrth gefn ysgolion","Addasiadau i gyfraniadau i/o gronfeydd wrth gefn ysgolion","Addasiadau i gyfraniadau i/o gronfeydd wrth gefn ysgolion","Addasiadau i gyfraniadau i/o gronfeydd wrth gefn ysgolion","Addasiadau i gyfraniadau i/o gronfeydd wrth gefn ysgolion","Addasiadau i gyfraniadau i/o gronfeydd wrth gefn ysgolion",0]
["Council tax collection",null,"Casglu'r dreth gyngor",{"$f":"IF(ISERROR(VLOOKUP(B101,Translate!$G$3:$H$168,2,FALSE)),\"\",VLOOKUP(B101,Translate!$G$3:$H$168,2,FALSE))","v":""},null,null," (lines 1.1+10+17+21+21.7+25+25.49+25.8)"," (llinellau 1.1+10+17+21+21.7+25+25.49+25.8)",{"$nulls":3},"","",65,"cyfanswm law, order and protective services (lines 61 to 63)","(lines 61 to 63)","cyfanswm law, order and protective services ",{"$f":"VLOOKUP(Q101,Translate!$A$3:$C$1118,2,FALSE)","v":{"$error":"#N/A"}},{"$nulls":4},"Cyfanswm gwariant wedi'i ddirprwyo i ysgolion meithrin","Cyfanswm gwariant wedi'i ddirprwyo i ysgolion meithrin","Cyfanswm gwariant wedi'i ddirprwyo i ysgolion meithrin","Cyfanswm gwariant wedi'i ddirprwyo i ysgolion meithrin","Cyfanswm gwariant wedi'i ddirprwyo i ysgolion meithrin","Cyfanswm gwariant wedi'i ddirprwyo i ysgolion meithrin",0]
["Council tax reduction scheme (excluding that amount financed by RSG)",null,"Cynllun gostyngiadau'r dreth gyngor (ac eithrio'r swm a gaiff ei gyllido gan y GCR)",{"$f":"IF(ISERROR(VLOOKUP(B102,Translate!$G$3:$H$168,2,FALSE)),\"\",VLOOKUP(B102,Translate!$G$3:$H$168,2,FALSE))","v":""},null,null," (lines 27 to 36)"," (llinellau 27 i 36)",{"$nulls":3},"","",66,"cyfanswm all services (lines 6+7+15+36+40+44+48+60+65)","(lines 6+7+15+36+40+44+48+60+65)","cyfanswm all services ",{"$f":"VLOOKUP(Q102,Translate!$A$3:$C$1118,2,FALSE)","v":{"$error":"#N/A"}},{"$nulls":4},"Cyfanswm gwariant wedi'i ddirprwyo i ysgolion cynradd","Cyfanswm gwariant wedi'i ddirprwyo i ysgolion cynradd","Cyfanswm gwariant wedi'i ddirprwyo i ysgolion cynradd","Cyfanswm gwariant wedi'i ddirprwyo i ysgolion cynradd","Cyfanswm gwariant wedi'i ddirprwyo i ysgolion cynradd","Cyfanswm gwariant wedi'i ddirprwyo i ysgolion cynradd",0]
["Council tax reduction scheme (including RSG element)",null,"Cynllun gostyngiadau'r dreth gyngor (gan gynnwys yr elfen Grant Cynnal Refeniw)",{"$f":"IF(ISERROR(VLOOKUP(B103,Translate!$G$3:$H$168,2,FALSE)),\"\",VLOOKUP(B103,Translate!$G$3:$H$168,2,FALSE))","v":""},null,null," (lines 38 to 47)"," (llinellau 38 i 47)",{"$nulls":3},"","",null,"Figures in blue are calculated, the cells are protected.","","Figures in blue are calculated, the cells are protected.",{"$f":"VLOOKUP(Q103,Translate!$A$3:$C$1118,2,FALSE)","v":0},{"$nulls":4},"Cyfanswm gwariant wedi'i ddirprwyo i ysgolion uwchradd","Cyfanswm gwariant wedi'i ddirprwyo i ysgolion uwchradd","Cyfanswm gwariant wedi'i ddirprwyo i ysgolion uwchradd","Cyfanswm gwariant wedi'i ddirprwyo i ysgolion uwchradd","Cyfanswm gwariant wedi'i ddirprwyo i ysgolion uwchradd","Cyfanswm gwariant wedi'i ddirprwyo i ysgolion uwchradd",0]
["Council tax reduction scheme administration",null,"Gweinyddu cynllun gostyngiadau'r dreth gyngor",{"$f":"IF(ISERROR(VLOOKUP(B104,Translate!$G$3:$H$168,2,FALSE)),\"\",VLOOKUP(B104,Translate!$G$3:$H$168,2,FALSE))","v":""},null,null," (lines 49 to 58)"," (llinellau 49 i 58)",{"$nulls":3},"","","(1)","Acquisition of land and existing buildings","","Acquisition of land and existing buildings",{"$f":"VLOOKUP(Q104,Translate!$A$3:$C$1118,2,FALSE)","v":0},{"$nulls":4},"Cyfanswm gwariant wedi'i ddirprwyo i ysgolion arbennig","Cyfanswm gwariant wedi'i ddirprwyo i ysgolion arbennig","Cyfanswm gwariant wedi'i ddirprwyo i ysgolion arbennig","Cyfanswm gwariant wedi'i ddirprwyo i ysgolion arbennig","Cyfanswm gwariant wedi'i ddirprwyo i ysgolion arbennig","Cyfanswm gwariant wedi'i ddirprwyo i ysgolion arbennig",0]
["Council tax reduction scheme administration grant",null,"Grant gweinyddu cynllun gostyngiadau'r dreth gyngor",{"$f":"IF(ISERROR(VLOOKUP(B105,Translate!$G$3:$H$168,2,FALSE)),\"\",VLOOKUP(B105,Translate!$G$3:$H$168,2,FALSE))","v":""},null,null," (lines 60 to 69)"," (llinellau 60 i 69)",{"$nulls":3},"","","(2)","New construction, conversion and renovation","","New construction, conversion and renovation",{"$f":"VLOOKUP(Q105,Translate!$A$3:$C$1118,2,FALSE)","v":0},{"$nulls":4},"Cyfanswm gwariant a ddirpwywyd i ysgolion canol ","Cyfanswm gwariant a ddirpwywyd i ysgolion canol ","Cyfanswm gwariant a ddirpwywyd i ysgolion canol ","Cyfanswm gwariant a ddirpwywyd i ysgolion canol ","Cyfanswm gwariant a ddirpwywyd i ysgolion canol ","Cyfanswm gwariant a ddirpwywyd i ysgolion canol ",0]
["Countryside council for Wales",null,"Cyngor Cefn Gwlad Cymru",{"$f":"IF(ISERROR(VLOOKUP(B106,Translate!$G$3:$H$168,2,FALSE)),\"\",VLOOKUP(B106,Translate!$G$3:$H$168,2,FALSE))","v":""},null,null," (lines 76 to 80)"," (llinellau 76 i 80)",{"$nulls":3},"","","(3)","Vehicles","","Vehicles",{"$f":"VLOOKUP(Q106,Translate!$A$3:$C$1118,2,FALSE)","v":0},{"$nulls":4},"Cyfanswm gwariant wedi'i ddirprwyo i ysgolion",{"$f":"IF(LEFT(W106,1)=\" \",RIGHT(W106,LEN(W106)-1),W106)","v":"Cyfanswm gwariant wedi'i ddirprwyo i ysgolion"},"Cyfanswm gwariant wedi'i ddirprwyo i ysgolion","Cyfanswm gwariant wedi'i ddirprwyo i ysgolion","Cyfanswm gwariant wedi'i ddirprwyo i ysgolion","Cyfanswm gwariant wedi'i ddirprwyo i ysgolion",0]
["Crime reduction & anti social behaviour fund",null,"Cronfa gostwng troseddu ac ymddygiad gwrthgymdeithasol",{"$f":"IF(ISERROR(VLOOKUP(B107,Translate!$G$3:$H$168,2,FALSE)),\"\",VLOOKUP(B107,Translate!$G$3:$H$168,2,FALSE))","v":""},null,null," (lines 48+59+70+81)"," (llinellau 48+59+70+81)",{"$nulls":3},"","","(4)","Plant machinery and equipment","","Plant machinery and equipment",{"$f":"VLOOKUP(Q107,Translate!$A$3:$C$1118,2,FALSE)","v":0},{"$nulls":4},"Anghenion dysgu ychwanegol - Ysgolion meithrin","Anghenion dysgu ychwanegol - Ysgolion meithrin","Anghenion dysgu ychwanegol - Ysgolion meithrin","Anghenion dysgu ychwanegol - Ysgolion meithrin","Anghenion dysgu ychwanegol - Ysgolion meithrin","Anghenion dysgu ychwanegol - Ysgolion meithrin",0]
["Culture and Heritage (including CyMAL Innovation and Development Grants)",null,"Diwyllliant a Threftadaeth (gan gynnwys Grantiau Arleosi a Datblygu CyMAL",{"$f":"IF(ISERROR(VLOOKUP(B108,Translate!$G$3:$H$168,2,FALSE)),\"\",VLOOKUP(B108,Translate!$G$3:$H$168,2,FALSE))","v":""},null,null," (lines 26+26.5+37+82)"," (llinellau 26+26.5+37+82)",{"$nulls":3},"","","(5)","cyfanswm expenditure on fixed assets","","cyfanswm expenditure on fixed assets",{"$f":"VLOOKUP(Q108,Translate!$A$3:$C$1118,2,FALSE)","v":{"$error":"#N/A"}},{"$nulls":4},"Anghenion dysgu ychwanegol - Ysgolion cynradd","Anghenion dysgu ychwanegol - Ysgolion cynradd","Anghenion dysgu ychwanegol - Ysgolion cynradd","Anghenion dysgu ychwanegol - Ysgolion cynradd","Anghenion dysgu ychwanegol - Ysgolion cynradd","Anghenion dysgu ychwanegol - Ysgolion cynradd",0]
["Debt financing grants",null,"Grantiau cyllido dyledion",{"$f":"IF(ISERROR(VLOOKUP(B109,Translate!$G$3:$H$168,2,FALSE)),\"\",VLOOKUP(B109,Translate!$G$3:$H$168,2,FALSE))","v":""},null,null," (included in line 84, columns 1a and 1b)"," (Wedi’i cynnwys yn llinell 84, colofn 1a and 1b)",{"$nulls":3},"","","(6)","Capital grants","","Capital grants",{"$f":"VLOOKUP(Q109,Translate!$A$3:$C$1118,2,FALSE)","v":0},{"$nulls":4},"Anghenion dysgu ychwanegol - Ysgolion uwchradd","Anghenion dysgu ychwanegol - Ysgolion uwchradd","Anghenion dysgu ychwanegol - Ysgolion uwchradd","Anghenion dysgu ychwanegol - Ysgolion uwchradd","Anghenion dysgu ychwanegol - Ysgolion uwchradd","Anghenion dysgu ychwanegol - Ysgolion uwchradd",0]
["Dedicated security posts (police authorities only)",null,"Swyddi diogelwch dynodedig (awdurdodau'r heddlu yn unig)",{"$f":"IF(ISERROR(VLOOKUP(B110,Translate!$G$3:$H$168,2,FALSE)),\"\",VLOOKUP(B110,Translate!$G$3:$H$168,2,FALSE))","v":""},null,null,"(1.1)+(1.2)+(2)+(3)","(1.1)+(1.2)+(2)+(3)",{"$nulls":3},"","","(7)","Capital advances","","Capital advances",{"$f":"VLOOKUP(Q110,Translate!$A$3:$C$1118,2,FALSE)","v":0},{"$nulls":4},"Anghenion dysgu ychwanegol - Ysgolion arbennig","Anghenion dysgu ychwanegol - Ysgolion arbennig","Anghenion dysgu ychwanegol - Ysgolion arbennig","Anghenion dysgu ychwanegol - Ysgolion arbennig","Anghenion dysgu ychwanegol - Ysgolion arbennig","Anghenion dysgu ychwanegol - Ysgolion arbennig",0]
["Dedicated security posts (police only)",null,"Swyddi diogelwch dynodedig (yr heddlu yn unig)",{"$f":"IF(ISERROR(VLOOKUP(B111,Translate!$G$3:$H$168,2,FALSE)),\"\",VLOOKUP(B111,Translate!$G$3:$H$168,2,FALSE))","v":""},null,null,5,5,{"$nulls":3},"","","(8)","Intangible fixed assets","","Intangible fixed assets",{"$f":"VLOOKUP(Q111,Translate!$A$3:$C$1118,2,FALSE)","v":0},{"$nulls":4},"Anghenion dysgu ychwanegol - Ysgolion canolradd","Anghenion dysgu ychwanegol - Ysgolion canolradd","Anghenion dysgu ychwanegol - Ysgolion canolradd","Anghenion dysgu ychwanegol - Ysgolion canolradd","Anghenion dysgu ychwanegol - Ysgolion canolradd","Anghenion dysgu ychwanegol - Ysgolion canolradd",0]
["Delegated Expenditure",null,"Gwariant wedi'i Ddirprwyo",{"$f":"IF(ISERROR(VLOOKUP(B112,Translate!$G$3:$H$168,2,FALSE)),\"\",VLOOKUP(B112,Translate!$G$3:$H$168,2,FALSE))","v":""},null,null,"(6.1)+(6.2)+(7)","(6.1)+(6.2)+(7)",{"$nulls":3},"","","(9) = (5 to 8)","cyfanswm capital expenditure","","cyfanswm capital expenditure",{"$f":"VLOOKUP(Q112,Translate!$A$3:$C$1118,2,FALSE)","v":{"$error":"#N/A"}},{"$nulls":4},"Cyfanswm anghenion dysgu ychwanegol","Cyfanswm anghenion dysgu ychwanegol","Cyfanswm anghenion dysgu ychwanegol","Cyfanswm anghenion dysgu ychwanegol","Cyfanswm anghenion dysgu ychwanegol","Cyfanswm anghenion dysgu ychwanegol",0]
["Delivering Transformation",null,"Cyflawni Trawsnewid",{"$f":"IF(ISERROR(VLOOKUP(B113,Translate!$G$3:$H$168,2,FALSE)),\"\",VLOOKUP(B113,Translate!$G$3:$H$168,2,FALSE))","v":""},null,null,"(5)+(8)","(5)+(8)",{"$nulls":3},"","","(10)","Sale of fixed assets","","Sale of fixed assets",{"$f":"VLOOKUP(Q113,Translate!$A$3:$C$1118,2,FALSE)","v":0},{"$nulls":4},"Digollediad rhwng awdurdodau - Ysgolion meithrin","Digollediad rhwng awdurdodau - Ysgolion meithrin","Digollediad rhwng awdurdodau - Ysgolion meithrin","Digollediad rhwng awdurdodau - Ysgolion meithrin","Digollediad rhwng awdurdodau - Ysgolion meithrin","Digollediad rhwng awdurdodau - Ysgolion meithrin",0]
["Domestic abuse",null,"Cam-drin Domestig",{"$f":"IF(ISERROR(VLOOKUP(B114,Translate!$G$3:$H$168,2,FALSE)),\"\",VLOOKUP(B114,Translate!$G$3:$H$168,2,FALSE))","v":""},null,null," (lines 1 to 5)"," (llinellau 1 i 5)",{"$nulls":3},"","","(11)","Repayments of capital advances and grants","","Repayments of capital advances and grants",{"$f":"VLOOKUP(Q114,Translate!$A$3:$C$1118,2,FALSE)","v":0},{"$nulls":4},"Digollediad rhwng awdurdodau - Ysgolion cynradd","Digollediad rhwng awdurdodau - Ysgolion cynradd","Digollediad rhwng awdurdodau - Ysgolion cynradd","Digollediad rhwng awdurdodau - Ysgolion cynradd","Digollediad rhwng awdurdodau - Ysgolion cynradd","Digollediad rhwng awdurdodau - Ysgolion cynradd",0]
["Domestic Abuse Service Grant - DAC & IDVA",null,"Grant Gwasanaeth Cam-drin Domestig - Cydgysylltwyr Cam-drin Domestig a Chynghorwyr Annibynnol ar Drais Domestig",{"$f":"IF(ISERROR(VLOOKUP(B115,Translate!$G$3:$H$168,2,FALSE)),\"\",VLOOKUP(B115,Translate!$G$3:$H$168,2,FALSE))","v":""},null,null," (lines 6+7+10+11+12)"," (llinellau 6+7+10+11+12)",{"$nulls":3},"","","(13) = (10 + 11)","cyfanswm receipts","","cyfanswm receipts",{"$f":"VLOOKUP(Q115,Translate!$A$3:$C$1118,2,FALSE)","v":{"$error":"#N/A"}},{"$nulls":4},"Digollediad rhwng awdurdodau - Ysgolion uwchradd","Digollediad rhwng awdurdodau - Ysgolion uwchradd","Digollediad rhwng awdurdodau - Ysgolion uwchradd","Digollediad rhwng awdurdodau - Ysgolion uwchradd","Digollediad rhwng awdurdodau - Ysgolion uwchradd","Digollediad rhwng awdurdodau - Ysgolion uwchradd",0]
["Education",null,"Addysg",{"$f":"IF(ISERROR(VLOOKUP(B116,Translate!$G$3:$H$168,2,FALSE)),\"\",VLOOKUP(B116,Translate!$G$3:$H$168,2,FALSE))","v":""},null,null," (included in line 13, column 1)"," (Wedi’i cynnwys yn llinell 13, colofn 1)",{"$nulls":3},"","","(14)","Assets not funded by LA capital expenditure","","Assets not funded by LA capital expenditure",{"$f":"VLOOKUP(Q116,Translate!$A$3:$C$1118,2,FALSE)","v":0},{"$nulls":4},"Digollediad rhwng awdurdodau - Ysgolion arbennig","Digollediad rhwng awdurdodau - Ysgolion arbennig","Digollediad rhwng awdurdodau - Ysgolion arbennig","Digollediad rhwng awdurdodau - Ysgolion arbennig","Digollediad rhwng awdurdodau - Ysgolion arbennig","Digollediad rhwng awdurdodau - Ysgolion arbennig",0]
["Education expenditure",null,"Gwariant addysg",{"$f":"IF(ISERROR(VLOOKUP(B117,Translate!$G$3:$H$168,2,FALSE)),\"\",VLOOKUP(B117,Translate!$G$3:$H$168,2,FALSE))","v":""},null,null," (lines 3+6.1)"," (llinellau 3+6.1)",{"$nulls":3},"","",null,"Capital expenditure and receipts","","Capital expenditure and receipts",{"$f":"VLOOKUP(Q117,Translate!$A$3:$C$1118,2,FALSE)","v":0},{"$nulls":4},"Digollediad rhwng awdurdodau - Ysgolion canolradd","Digollediad rhwng awdurdodau - Ysgolion canolradd","Digollediad rhwng awdurdodau - Ysgolion canolradd","Digollediad rhwng awdurdodau - Ysgolion canolradd","Digollediad rhwng awdurdodau - Ysgolion canolradd","Digollediad rhwng awdurdodau - Ysgolion canolradd",0]
["Education Improvement Grant for Schools",null,"Grant Gwella Addysg ar gyfer ysgolion",{"$f":"IF(ISERROR(VLOOKUP(B118,Translate!$G$3:$H$168,2,FALSE)),\"\",VLOOKUP(B118,Translate!$G$3:$H$168,2,FALSE))","v":""},null,null," (line 11.5 to 12)"," (llinell 11.5 i 12)",{"$nulls":3},"","",null,"Expenditure","","Expenditure",{"$f":"VLOOKUP(Q118,Translate!$A$3:$C$1118,2,FALSE)","v":0},{"$nulls":4},"Cyfanswm digollediad rhwng awdurdodau","Cyfanswm digollediad rhwng awdurdodau","Cyfanswm digollediad rhwng awdurdodau","Cyfanswm digollediad rhwng awdurdodau","Cyfanswm digollediad rhwng awdurdodau","Cyfanswm digollediad rhwng awdurdodau",0]
["Education of gypsy children and traveller children",null,"Addysg plant sipsiwn a phlant teithwyr",{"$f":"IF(ISERROR(VLOOKUP(B119,Translate!$G$3:$H$168,2,FALSE)),\"\",VLOOKUP(B119,Translate!$G$3:$H$168,2,FALSE))","v":""},null,null," (lines 25.1 to 25.55)"," (llinellau 25.1 i 25.55)",{"$nulls":3},"","",null,"Receipts","","Receipts",{"$f":"VLOOKUP(Q119,Translate!$A$3:$C$1118,2,FALSE)","v":0},{"$nulls":4},"Arlwyo yn yr ysgol - Ysgolion meithrin","Arlwyo yn yr ysgol - Ysgolion meithrin","Arlwyo yn yr ysgol - Ysgolion meithrin","Arlwyo yn yr ysgol - Ysgolion meithrin","Arlwyo yn yr ysgol - Ysgolion meithrin","Arlwyo yn yr ysgol - Ysgolion meithrin",0]
["EEC milk grant",null,"Grant llefrith y Gymuned Economaidd Ewropeaidd",{"$f":"IF(ISERROR(VLOOKUP(B120,Translate!$G$3:$H$168,2,FALSE)),\"\",VLOOKUP(B120,Translate!$G$3:$H$168,2,FALSE))","v":""},null,null," (lines 1+2+7+8+13+14+19+22+25.6)"," (llinellau 1+2+7+8+13+14+19+22+25.6)",{"$nulls":3},"","",null,"Memo","","Memo",{"$f":"VLOOKUP(Q120,Translate!$A$3:$C$1118,2,FALSE)","v":0},{"$nulls":4},"Arlwyo yn yr ysgol - Ysgolion cynradd","Arlwyo yn yr ysgol - Ysgolion cynradd","Arlwyo yn yr ysgol - Ysgolion cynradd","Arlwyo yn yr ysgol - Ysgolion cynradd","Arlwyo yn yr ysgol - Ysgolion cynradd","Arlwyo yn yr ysgol - Ysgolion cynradd",0]
["Elections",null,"Etholiadau",{"$f":"IF(ISERROR(VLOOKUP(B121,Translate!$G$3:$H$168,2,FALSE)),\"\",VLOOKUP(B121,Translate!$G$3:$H$168,2,FALSE))","v":""},null,null," (included in line 29, column 1)"," (Wedi’i cynnwys yn llinell 29, colofn 1)",{"$nulls":3},"","",null,"£ thousand","","£ thousand",{"$f":"VLOOKUP(Q121,Translate!$A$3:$C$1118,2,FALSE)","v":0},{"$nulls":4},"Arlwyo yn yr ysgol - Ysgolion uwchradd","Arlwyo yn yr ysgol - Ysgolion uwchradd","Arlwyo yn yr ysgol - Ysgolion uwchradd","Arlwyo yn yr ysgol - Ysgolion uwchradd","Arlwyo yn yr ysgol - Ysgolion uwchradd","Arlwyo yn yr ysgol - Ysgolion uwchradd",0]
["E-mail (please enter N/A if unavailable):",null,"E-bost (rhowch Amh os nad yw ar gael):",{"$f":"IF(ISERROR(VLOOKUP(B122,Translate!$G$3:$H$168,2,FALSE)),\"\",VLOOKUP(B122,Translate!$G$3:$H$168,2,FALSE))","v":""},null,null," (lines 1 to 13)"," (llinellau 1 i 13)",{"$nulls":3},"","",null,null,"","",{"$f":"VLOOKUP(Q122,Translate!$A$3:$C$1118,2,FALSE)","v":{"$error":"#N/A"}},{"$nulls":4},"Arlwyo yn yr ysgol - Ysgolion arbennig","Arlwyo yn yr ysgol - Ysgolion arbennig","Arlwyo yn yr ysgol - Ysgolion arbennig","Arlwyo yn yr ysgol - Ysgolion arbennig","Arlwyo yn yr ysgol - Ysgolion arbennig","Arlwyo yn yr ysgol - Ysgolion arbennig",0]
["Emergency planning",null,"Cynllunio at argyfwng",{"$f":"IF(ISERROR(VLOOKUP(B123,Translate!$G$3:$H$168,2,FALSE)),\"\",VLOOKUP(B123,Translate!$G$3:$H$168,2,FALSE))","v":""},null,null," (lines 15+16)"," (llinellau 15+16)",{"$nulls":3},"","","COR4","COR 4:         Capital outturn 4","","COR 4:         Capital outturn 4",{"$f":"VLOOKUP(Q123,Translate!$A$3:$C$1118,2,FALSE)","v":0},{"$nulls":4},"Arlwyo yn yr ysgol - Ysgolion canolradd","Arlwyo yn yr ysgol - Ysgolion canolradd","Arlwyo yn yr ysgol - Ysgolion canolradd","Arlwyo yn yr ysgol - Ysgolion canolradd","Arlwyo yn yr ysgol - Ysgolion canolradd","Arlwyo yn yr ysgol - Ysgolion canolradd",0]
["Employee costs",null,"Costau cyflogeion",{"$f":"IF(ISERROR(VLOOKUP(B124,Translate!$G$3:$H$168,2,FALSE)),\"\",VLOOKUP(B124,Translate!$G$3:$H$168,2,FALSE))","v":""},null,null," (included in line 14, column 1)"," (Wedi’i cynnwys yn llinell 14, colofn 1)",{"$nulls":3},"","",null,"Financing of capital expenditure and capital account summary, 2014-15","","Financing of capital expenditure and capital account summary, 2014-15",{"$f":"VLOOKUP(Q124,Translate!$A$3:$C$1118,2,FALSE)","v":0},{"$nulls":4},"Cyfanswm arlwyo yn yr ysgol","Cyfanswm arlwyo yn yr ysgol","Cyfanswm arlwyo yn yr ysgol","Cyfanswm arlwyo yn yr ysgol","Cyfanswm arlwyo yn yr ysgol","Cyfanswm arlwyo yn yr ysgol",0]
["Enter data in £ thousands",null,"Cofnodwch y data mewn £ miloedd",{"$f":"IF(ISERROR(VLOOKUP(B125,Translate!$G$3:$H$168,2,FALSE)),\"\",VLOOKUP(B125,Translate!$G$3:$H$168,2,FALSE))","v":""},null,null," (included in line 17, column 1)"," (Wedi’i cynnwys yn llinell 17, colofn 1)",{"$nulls":3},"","",null,"Service block (COR 1-2 corresponding references)","","Service block (COR 1-2 corresponding references)",{"$f":"VLOOKUP(Q125,Translate!$A$3:$C$1118,2,FALSE)","v":0},{"$nulls":4},"Cyllid ysgol arall - meithrin","Cyllid ysgol arall - meithrin","Cyllid ysgol arall - meithrin","Cyllid ysgol arall - meithrin","Cyllid ysgol arall - meithrin","Cyllid ysgol arall - meithrin",0]
["Environmental health - food safety",null,"Iechyd yr amgylchedd - diogelwch bwyd",{"$f":"IF(ISERROR(VLOOKUP(B126,Translate!$G$3:$H$168,2,FALSE)),\"\",VLOOKUP(B126,Translate!$G$3:$H$168,2,FALSE))","v":""},null,null," (lines 1 to 18)"," (llinellau 1 i 18)",{"$nulls":3},"","",1,"Education (line 6)","(line 6)","Education ",{"$f":"VLOOKUP(Q126,Translate!$A$3:$C$1118,2,FALSE)","v":{"$error":"#N/A"}},{"$nulls":4},"Cyllid ysgol arall - - Ysgolion cynradd","Cyllid ysgol arall - - Ysgolion cynradd","Cyllid ysgol arall - - Ysgolion cynradd","Cyllid ysgol arall - - Ysgolion cynradd","Cyllid ysgol arall - - Ysgolion cynradd","Cyllid ysgol arall - - Ysgolion cynradd",0]
["Equal pay costs",null,"Costau cyflog cyfartal",{"$f":"IF(ISERROR(VLOOKUP(B127,Translate!$G$3:$H$168,2,FALSE)),\"\",VLOOKUP(B127,Translate!$G$3:$H$168,2,FALSE))","v":""},null,null," (lines 19 to 24)"," (llinellau 19 i 24)",{"$nulls":3},"","",2,"Social services (line 7)","(line 7)","Social services ",{"$f":"VLOOKUP(Q127,Translate!$A$3:$C$1118,2,FALSE)","v":{"$error":"#N/A"}},{"$nulls":4},"Cyllid ysgol arall - - Ysgolion uwchradd","Cyllid ysgol arall - - Ysgolion uwchradd","Cyllid ysgol arall - - Ysgolion uwchradd","Cyllid ysgol arall - - Ysgolion uwchradd","Cyllid ysgol arall - - Ysgolion uwchradd","Cyllid ysgol arall - - Ysgolion uwchradd",0]
["Ethnic minority achievement",null,"Cyflawniad lleiafrifoedd ethnig",{"$f":"IF(ISERROR(VLOOKUP(B128,Translate!$G$3:$H$168,2,FALSE)),\"\",VLOOKUP(B128,Translate!$G$3:$H$168,2,FALSE))","v":""},null,null," (lines 18.5+25)"," (llinellau 18.5+25)",{"$nulls":3},"","",3,"Transport (line 15)","(line 15)","Transport ",{"$f":"VLOOKUP(Q128,Translate!$A$3:$C$1118,2,FALSE)","v":{"$error":"#N/A"}},{"$nulls":4},"Cyllid ysgol arall - - Ysgolion arbennig","Cyllid ysgol arall - - Ysgolion arbennig","Cyllid ysgol arall - - Ysgolion arbennig","Cyllid ysgol arall - - Ysgolion arbennig","Cyllid ysgol arall - - Ysgolion arbennig","Cyllid ysgol arall - - Ysgolion arbennig",0]
["EU milk grant",null,"Grant llefrith yr UE",{"$f":"IF(ISERROR(VLOOKUP(B129,Translate!$G$3:$H$168,2,FALSE)),\"\",VLOOKUP(B129,Translate!$G$3:$H$168,2,FALSE))","v":""},null,null," (- line 24)"," (- llinell 24)",{"$nulls":3},"","",4,"Housing (line 36)","(line 36)","Housing ",{"$f":"VLOOKUP(Q129,Translate!$A$3:$C$1118,2,FALSE)","v":{"$error":"#N/A"}},{"$nulls":4},"Cyllid ysgol arall - - Ysgolion canolradd","Cyllid ysgol arall - - Ysgolion canolradd","Cyllid ysgol arall - - Ysgolion canolradd","Cyllid ysgol arall - - Ysgolion canolradd","Cyllid ysgol arall - - Ysgolion canolradd","Cyllid ysgol arall - - Ysgolion canolradd",0]
["European community grants for education",null,"Grantiau'r Gymuned Ewropeaidd ar gyfer addysg ",{"$f":"IF(ISERROR(VLOOKUP(B130,Translate!$G$3:$H$168,2,FALSE)),\"\",VLOOKUP(B130,Translate!$G$3:$H$168,2,FALSE))","v":""},null,null," (column 10, lines 27 to 31)"," (colofn 10, llinellau 27 i 31)",{"$nulls":3},"","",5,"Libraries, culture and heritage (line 40)","(line 40)","Libraries, culture and heritage ",{"$f":"VLOOKUP(Q130,Translate!$A$3:$C$1118,2,FALSE)","v":{"$error":"#N/A"}},{"$nulls":4},"Cyfanswm cyllid ysgol arall","Cyfanswm cyllid ysgol arall","Cyfanswm cyllid ysgol arall","Cyfanswm cyllid ysgol arall","Cyfanswm cyllid ysgol arall","Cyfanswm cyllid ysgol arall",0]
["European community grants for other local services (Objective 1 etc.)",null,"Grantiau'r Gymuned Ewropeaidd ar gyfer gwasanaethau lleol eraill (Amcan 1 etc) ",{"$f":"IF(ISERROR(VLOOKUP(B131,Translate!$G$3:$H$168,2,FALSE)),\"\",VLOOKUP(B131,Translate!$G$3:$H$168,2,FALSE))","v":""},null,null," (included in line 26, column 1)"," (Wedi’i cynnwys yn llinell 26, colofn 1)",{"$nulls":3},{"$f":"IF(ISERROR(FIND(\"=\",O131)),\"\",RIGHT(O131,LEN(O131)-FIND(\"=\",O131)+3))","v":""},{"$f":"IF(ISERROR(FIND(\" (include\",O131)),\"\",RIGHT(O131,LEN(O131)-FIND(\" (include\",O131)))","v":""},6,"Agriculture and fisheries (line 44)",{"$f":"IF(ISERROR(FIND(\" (line\",O131)),\"\",RIGHT(O131,LEN(O131)-FIND(\" (line\",O131)))","v":"(line 44)"},{"$f":"LEFT(O131,LEN(O131)-LEN(P131))","v":"Agriculture and fisheries "},{"$f":"VLOOKUP(Q131,Translate!$A$3:$C$1118,2,FALSE)","v":{"$error":"#N/A"}},{"$nulls":4},"Staff - Ysgolion meithrin","Staff - Ysgolion meithrin","Staff - Ysgolion meithrin","Staff - Ysgolion meithrin","Staff - Ysgolion meithrin","Staff - Ysgolion meithrin",0]
["European Social Fund - COASTAL",null,"Cronfa Gymdeithasol Ewrop - ARFORDIROL",{"$f":"IF(ISERROR(VLOOKUP(B132,Translate!$G$3:$H$168,2,FALSE)),\"\",VLOOKUP(B132,Translate!$G$3:$H$168,2,FALSE))","v":""},null,null," (lines 1 to 6)"," (llinellau 1 i 6)",{"$nulls":3},"","",7,"Sport and recreation (line 48)","(line 48)","Sport and recreation ",{"$f":"VLOOKUP(Q132,Translate!$A$3:$C$1118,2,FALSE)","v":{"$error":"#N/A"}},{"$nulls":4},"Staff - Ysgolion cynradd","Staff - Ysgolion cynradd","Staff - Ysgolion cynradd","Staff - Ysgolion cynradd","Staff - Ysgolion cynradd","Staff - Ysgolion cynradd",{"$f":"IF(LEFT(AB132,1)=\" \",1,0)","v":0}]
["European Union grants for education",null,"Grantiau'r Undeb Ewropeaidd ar gyfer addysg",{"$f":"IF(ISERROR(VLOOKUP(B133,Translate!$G$3:$H$168,2,FALSE)),\"\",VLOOKUP(B133,Translate!$G$3:$H$168,2,FALSE))","v":""},null,null," (lines 7+15)"," (llinellau 7+15)",{"$nulls":3},"","",8,"Other environmental services (line 60)","(line 60)","Other environmental services ",{"$f":"VLOOKUP(Q133,Translate!$A$3:$C$1118,2,FALSE)","v":{"$error":"#N/A"}},{"$nulls":4},"Staff - Ysgolion uwchradd","Staff - Ysgolion uwchradd","Staff - Ysgolion uwchradd","Staff - Ysgolion uwchradd","Staff - Ysgolion uwchradd","Staff - Ysgolion uwchradd",0]
["Expenditure Check",null,"Gwririo Gwariant",{"$f":"IF(ISERROR(VLOOKUP(B134,Translate!$G$3:$H$168,2,FALSE)),\"\",VLOOKUP(B134,Translate!$G$3:$H$168,2,FALSE))","v":""},null,null," (lines 17+18)"," (llinellau 17+18)",{"$nulls":3},"","",9,"Fire and rescue service (line 61)","(line 61)","Fire and rescue service ",{"$f":"VLOOKUP(Q134,Translate!$A$3:$C$1118,2,FALSE)","v":{"$error":"#N/A"}},{"$nulls":4},"Staff - Ysgolion arbennig","Staff - Ysgolion arbennig","Staff - Ysgolion arbennig","Staff - Ysgolion arbennig","Staff - Ysgolion arbennig","Staff - Ysgolion arbennig",0]
["Expenditure supported by the Environment Development Fund",null,"Gwariant a gefnogwyd gan Gronfa Datblygu'r Amgylchedd",{"$f":"IF(ISERROR(VLOOKUP(B135,Translate!$G$3:$H$168,2,FALSE)),\"\",VLOOKUP(B135,Translate!$G$3:$H$168,2,FALSE))","v":""},null,null," (lines 20 to 28)"," (llinellau 20 i 28)",{"$nulls":3},"","",10,"Police service (line 62)","(line 62)","Police service ",{"$f":"VLOOKUP(Q135,Translate!$A$3:$C$1118,2,FALSE)","v":{"$error":"#N/A"}},{"$nulls":4},"Staff - Ysgolion canolradd","Staff - Ysgolion canolradd","Staff - Ysgolion canolradd","Staff - Ysgolion canolradd","Staff - Ysgolion canolradd","Staff - Ysgolion canolradd",0]
["Explanation",null,"Esboniad",{"$f":"IF(ISERROR(VLOOKUP(B136,Translate!$G$3:$H$168,2,FALSE)),\"\",VLOOKUP(B136,Translate!$G$3:$H$168,2,FALSE))","v":""},null,null," (included in lines 16, 19, 29 and 30, column 1)"," (Wedi’i cynnwys yn llinellau 16, 19, 29 and 30, colofn 1)",{"$nulls":3},"","",11,"Courts (line 63)","(line 63)","Courts ",{"$f":"VLOOKUP(Q136,Translate!$A$3:$C$1118,2,FALSE)","v":{"$error":"#N/A"}},{"$nulls":4},"Cyfanswm staff","Cyfanswm staff","Cyfanswm staff","Cyfanswm staff","Cyfanswm staff","Cyfanswm staff",0]
["External interest payments excluding any premia and discounts on debt rescheduling",null,"Taliadau llog allanol ac eithrio unrhyw bremiymau a disgowntiau ar aildrefnu dyled",{"$f":"IF(ISERROR(VLOOKUP(B137,Translate!$G$3:$H$168,2,FALSE)),\"\",VLOOKUP(B137,Translate!$G$3:$H$168,2,FALSE))","v":""},null,null," (14-19)"," (14-19)",{"$nulls":3},"","",12,"cyfanswm expenditure / receipts (accruals) (lines 1 to 11)","(lines 1 to 11)","cyfanswm expenditure / receipts (accruals) ",{"$f":"VLOOKUP(Q137,Translate!$A$3:$C$1118,2,FALSE)","v":{"$error":"#N/A"}},{"$nulls":4},"Gwariant cyfalaf a godwyd o'r cyfrif refeniw - Ysgolion meithrin","Gwariant cyfalaf a godwyd o'r cyfrif refeniw - Ysgolion meithrin","Gwariant cyfalaf a godwyd o'r cyfrif refeniw - Ysgolion meithrin","Gwariant cyfalaf a godwyd o'r cyfrif refeniw - Ysgolion meithrin","Gwariant cyfalaf a godwyd o'r cyfrif refeniw - Ysgolion meithrin","Gwariant cyfalaf a godwyd o'r cyfrif refeniw - Ysgolion meithrin",0]
["External interest receipts on non-HRA balances",null,"Derbyniadau llog allanol ar falansau heblaw rhai HRA",{"$f":"IF(ISERROR(VLOOKUP(B138,Translate!$G$3:$H$168,2,FALSE)),\"\",VLOOKUP(B138,Translate!$G$3:$H$168,2,FALSE))","v":""},null,null," (lines 199, 299, 399, 499, 599 & 699)"," (llinellau 199, 299, 399, 499, 599 & 699)",{"$nulls":3},"","",13,"cyfanswm expenditure treated as capital expenditure by virtue of a section 16(2)(b) direction (cyfanswm column 4, lines 1 to 11)","","cyfanswm expenditure treated as capital expenditure by virtue of a section 16(2)(b) direction (cyfanswm column 4, lines 1 to 11)",{"$f":"VLOOKUP(Q138,Translate!$A$3:$C$1118,2,FALSE)","v":{"$error":"#N/A"}},{"$nulls":4},"Gwariant cyfalaf a godwyd o'r cyfrif refeniw - Ysgolion cynradd","Gwariant cyfalaf a godwyd o'r cyfrif refeniw - Ysgolion cynradd","Gwariant cyfalaf a godwyd o'r cyfrif refeniw - Ysgolion cynradd","Gwariant cyfalaf a godwyd o'r cyfrif refeniw - Ysgolion cynradd","Gwariant cyfalaf a godwyd o'r cyfrif refeniw - Ysgolion cynradd","Gwariant cyfalaf a godwyd o'r cyfrif refeniw - Ysgolion cynradd",0]
["Families First/Cymorth: other local services ",null,"Teuluoedd yn Gyntaf/Cymorth: gwasanaethau lleol eraill",{"$f":"IF(ISERROR(VLOOKUP(B139,Translate!$G$3:$H$168,2,FALSE)),\"\",VLOOKUP(B139,Translate!$G$3:$H$168,2,FALSE))","v":""},null,null," (lines 198, 298, 398, 498, 598 & 698)"," (llinellau 198, 298, 398, 498, 598 & 698)",{"$nulls":3},"","",14,"Large Scale Voluntary Transfer (LSVT) levy","","Large Scale Voluntary Transfer (LSVT) levy",{"$f":"VLOOKUP(Q139,Translate!$A$3:$C$1118,2,FALSE)","v":0},{"$nulls":4},"Gwariant cyfalaf a godwyd o'r cyfrif refeniw - Ysgolion uwchradd","Gwariant cyfalaf a godwyd o'r cyfrif refeniw - Ysgolion uwchradd","Gwariant cyfalaf a godwyd o'r cyfrif refeniw - Ysgolion uwchradd","Gwariant cyfalaf a godwyd o'r cyfrif refeniw - Ysgolion uwchradd","Gwariant cyfalaf a godwyd o'r cyfrif refeniw - Ysgolion uwchradd","Gwariant cyfalaf a godwyd o'r cyfrif refeniw - Ysgolion uwchradd",0]
["Families First (education)",null,"Teuluoedd yn Gyntaf: wedi'i wario ar addysg",{"$f":"IF(ISERROR(VLOOKUP(B140,Translate!$G$3:$H$168,2,FALSE)),\"\",VLOOKUP(B140,Translate!$G$3:$H$168,2,FALSE))","v":""},null,null," (lines 1.1 to 1.9)"," (llinellau 1.1 i 1.9)",{"$nulls":3},"","",15,"cyfanswm expenditure and other transactions (cyfanswm lines 12 to 14, column 3)","","cyfanswm expenditure and other transactions (cyfanswm lines 12 to 14, column 3)",{"$f":"VLOOKUP(Q140,Translate!$A$3:$C$1118,2,FALSE)","v":{"$error":"#N/A"}},{"$nulls":4},"Gwariant cyfalaf a godwyd o'r cyfrif refeniw - Ysgolion arbennig","Gwariant cyfalaf a godwyd o'r cyfrif refeniw - Ysgolion arbennig","Gwariant cyfalaf a godwyd o'r cyfrif refeniw - Ysgolion arbennig","Gwariant cyfalaf a godwyd o'r cyfrif refeniw - Ysgolion arbennig","Gwariant cyfalaf a godwyd o'r cyfrif refeniw - Ysgolion arbennig","Gwariant cyfalaf a godwyd o'r cyfrif refeniw - Ysgolion arbennig",0]
["Families First (social services)",null,"Teuluoedd yn Gyntaf: wedi'i wario ar wasanaethau cymdeithasol",{"$f":"IF(ISERROR(VLOOKUP(B141,Translate!$G$3:$H$168,2,FALSE)),\"\",VLOOKUP(B141,Translate!$G$3:$H$168,2,FALSE))","v":""},null,null," (lines 7 to 10)"," (llinellau 7 i 10)",{"$nulls":3},"","","(1)","cyfanswm expenditure\nCOR 1-2,\ncolumn 9","","cyfanswm expenditure\nCOR 1-2,\ncolumn 9",{"$f":"VLOOKUP(Q141,Translate!$A$3:$C$1118,2,FALSE)","v":{"$error":"#N/A"}},{"$nulls":4},"Gwariant cyfalaf a godwyd o'r cyfrif refeniw - Ysgolion canolradd","Gwariant cyfalaf a godwyd o'r cyfrif refeniw - Ysgolion canolradd","Gwariant cyfalaf a godwyd o'r cyfrif refeniw - Ysgolion canolradd","Gwariant cyfalaf a godwyd o'r cyfrif refeniw - Ysgolion canolradd","Gwariant cyfalaf a godwyd o'r cyfrif refeniw - Ysgolion canolradd","Gwariant cyfalaf a godwyd o'r cyfrif refeniw - Ysgolion canolradd",0]
["Family learning",null,"Dysgu i'r teulu",{"$f":"IF(ISERROR(VLOOKUP(B142,Translate!$G$3:$H$168,2,FALSE)),\"\",VLOOKUP(B142,Translate!$G$3:$H$168,2,FALSE))","v":""},null,null," (included in lines 6 and 11, column 1)"," (Wedi’i cynnwys yn llinellau 6 and 11, colofn 1)",{"$nulls":3},"","","(2)","Acquisition of share or loan capital","","Acquisition of share or loan capital",{"$f":"VLOOKUP(Q142,Translate!$A$3:$C$1118,2,FALSE)","v":0},{"$nulls":4},"Cyfanswm gwariant cyfalaf a godwyd o'r cyfrif refeniw","Cyfanswm gwariant cyfalaf a godwyd o'r cyfrif refeniw","Cyfanswm gwariant cyfalaf a godwyd o'r cyfrif refeniw","Cyfanswm gwariant cyfalaf a godwyd o'r cyfrif refeniw","Cyfanswm gwariant cyfalaf a godwyd o'r cyfrif refeniw","Cyfanswm gwariant cyfalaf a godwyd o'r cyfrif refeniw",0]
["Fire and Rescue Services",null,"Gwasanaethau tȃn ac achub",{"$f":"IF(ISERROR(VLOOKUP(B143,Translate!$G$3:$H$168,2,FALSE)),\"\",VLOOKUP(B143,Translate!$G$3:$H$168,2,FALSE))","v":""},null,null," (lines 1+2+5)"," (llinellau 1+2+5)",{"$nulls":3},"","","(3) = (1) + (2)","cyfanswm capital expenditure","","cyfanswm capital expenditure",{"$f":"VLOOKUP(Q143,Translate!$A$3:$C$1118,2,FALSE)","v":{"$error":"#N/A"}},{"$nulls":4},"Cyllideb ysgol - ysgolion meithrin","Cyllideb ysgol - ysgolion meithrin","Cyllideb ysgol - ysgolion meithrin","Cyllideb ysgol - ysgolion meithrin","Cyllideb ysgol - ysgolion meithrin","Cyllideb ysgol - ysgolion meithrin",0]
["Flood and Coastal Erosion Risk Management",null,"Rheoli Perygl Llifogydd ac Erydu Arfordirol",{"$f":"IF(ISERROR(VLOOKUP(B144,Translate!$G$3:$H$168,2,FALSE)),\"\",VLOOKUP(B144,Translate!$G$3:$H$168,2,FALSE))","v":""},null,null," (lines 7+8)"," (llinellau 7+8)",{"$nulls":3},"","","(4)","Expenditure by section 16(2) direction","","Expenditure by section 16(2) direction",{"$f":"VLOOKUP(Q144,Translate!$A$3:$C$1118,2,FALSE)","v":0},{"$nulls":4},"Cyllideb ysgol - Ysgolion cynradd","Cyllideb ysgol - Ysgolion cynradd","Cyllideb ysgol - Ysgolion cynradd","Cyllideb ysgol - Ysgolion cynradd","Cyllideb ysgol - Ysgolion cynradd","Cyllideb ysgol - Ysgolion cynradd",0]
["Flood defence and land drainage",null,"Amddiffyn rhag llifogydd a draenio'r tir",{"$f":"IF(ISERROR(VLOOKUP(B145,Translate!$G$3:$H$168,2,FALSE)),\"\",VLOOKUP(B145,Translate!$G$3:$H$168,2,FALSE))","v":""},null,null," (lines 10+11)"," (llinellau 10+11)",{"$nulls":3},"","","(6)","cyfanswm receipts\nCOR 1-2,\ncolumn 13","","cyfanswm receipts\nCOR 1-2,\ncolumn 13",{"$f":"VLOOKUP(Q145,Translate!$A$3:$C$1118,2,FALSE)","v":{"$error":"#N/A"}},{"$nulls":4},"Cyllideb ysgol - Ysgolion uwchradd","Cyllideb ysgol - Ysgolion uwchradd","Cyllideb ysgol - Ysgolion uwchradd","Cyllideb ysgol - Ysgolion uwchradd","Cyllideb ysgol - Ysgolion uwchradd","Cyllideb ysgol - Ysgolion uwchradd",0]
["Flying start (education)",null,"Dechrau'n Deg (addysg)",{"$f":"IF(ISERROR(VLOOKUP(B146,Translate!$G$3:$H$168,2,FALSE)),\"\",VLOOKUP(B146,Translate!$G$3:$H$168,2,FALSE))","v":""},null,null," (lines 6+9+12)"," (llinellau 6+9+12)",{"$nulls":3},"","","(7)","Disposal of share or loan capital","","Disposal of share or loan capital",{"$f":"VLOOKUP(Q146,Translate!$A$3:$C$1118,2,FALSE)","v":0},{"$nulls":4},"Cyllideb ysgol - Ysgolion arbennig","Cyllideb ysgol - Ysgolion arbennig","Cyllideb ysgol - Ysgolion arbennig","Cyllideb ysgol - Ysgolion arbennig","Cyllideb ysgol - Ysgolion arbennig","Cyllideb ysgol - Ysgolion arbennig",0]
["Flying Start (social services)",null,"Dechrau'n Deg (gwasanaethau cymdeithasol)",{"$f":"IF(ISERROR(VLOOKUP(B147,Translate!$G$3:$H$168,2,FALSE)),\"\",VLOOKUP(B147,Translate!$G$3:$H$168,2,FALSE))","v":""},null,null," (lines 14 to 23)"," (llinellau 14 i 23)",{"$nulls":3},"","","(8) = (6) + (7)","cyfanswm capital receipts","","cyfanswm capital receipts",{"$f":"VLOOKUP(Q147,Translate!$A$3:$C$1118,2,FALSE)","v":{"$error":"#N/A"}},{"$nulls":4},"Cyllideb ysgol - Ysgolion canolradd","Cyllideb ysgol - Ysgolion canolradd","Cyllideb ysgol - Ysgolion canolradd","Cyllideb ysgol - Ysgolion canolradd","Cyllideb ysgol - Ysgolion canolradd","Cyllideb ysgol - Ysgolion canolradd",0]
["For return by 29 July",null,"I'w ddychwelyd erbyn 29 Gorffennaf",{"$f":"IF(ISERROR(VLOOKUP(B148,Translate!$G$3:$H$168,2,FALSE)),\"\",VLOOKUP(B148,Translate!$G$3:$H$168,2,FALSE))","v":""},null,null," (included in line 13 , column 1)"," (Wedi’i cynnwys yn llinell 13 , colofn 1)",{"$nulls":3},"","",null,null,"","",{"$f":"VLOOKUP(Q148,Translate!$A$3:$C$1118,2,FALSE)","v":{"$error":"#N/A"}},{"$nulls":4},"Cyfanswm cyllid ysgol","Cyfanswm cyllid ysgol","Cyfanswm cyllid ysgol","Cyfanswm cyllid ysgol","Cyfanswm cyllid ysgol","Cyfanswm cyllid ysgol",0]
["Foundation phase",null,"Y Cyfnod Sylfaen",{"$f":"IF(ISERROR(VLOOKUP(B149,Translate!$G$3:$H$168,2,FALSE)),\"\",VLOOKUP(B149,Translate!$G$3:$H$168,2,FALSE))","v":""},null,null," (lines 1 +2)"," (llinellau 1 +2)",{"$nulls":3},"","","COR4FIN",null,"","",{"$f":"VLOOKUP(Q149,Translate!$A$3:$C$1118,2,FALSE)","v":{"$error":"#N/A"}},{"$nulls":4},"Gwella ysgolion - Ysgolion meithrin","Gwella ysgolion - Ysgolion meithrin","Gwella ysgolion - Ysgolion meithrin","Gwella ysgolion - Ysgolion meithrin","Gwella ysgolion - Ysgolion meithrin","Gwella ysgolion - Ysgolion meithrin",0]
["General grants, bequests and donations",null,"Grantiau, cymynroddion a rhoddion cyffredinol",{"$f":"IF(ISERROR(VLOOKUP(B150,Translate!$G$3:$H$168,2,FALSE)),\"\",VLOOKUP(B150,Translate!$G$3:$H$168,2,FALSE))","v":""},null,null," (lines 3+4.1 to 4.5+13)"," (llinellau 3+4.1 i 4.5+13)",{"$nulls":3},"","",null,"COR 4: Capital outturn 4","","COR 4: Capital outturn 4",{"$f":"VLOOKUP(Q150,Translate!$A$3:$C$1118,2,FALSE)","v":0},{"$nulls":4},"Gwella ysgolion - Ysgolion cynradd","Gwella ysgolion - Ysgolion cynradd","Gwella ysgolion - Ysgolion cynradd","Gwella ysgolion - Ysgolion cynradd","Gwella ysgolion - Ysgolion cynradd","Gwella ysgolion - Ysgolion cynradd",0]
["Grant is more than expenditure",null,"Grant yn fwy na'r gwariant",{"$f":"IF(ISERROR(VLOOKUP(B151,Translate!$G$3:$H$168,2,FALSE)),\"\",VLOOKUP(B151,Translate!$G$3:$H$168,2,FALSE))","v":""},null,null," (lines 15+16)"," (llinellau 15+16)",{"$nulls":3},"","",null,"Financing of capital expenditure and capital account summary, 2014-15","","Financing of capital expenditure and capital account summary, 2014-15",{"$f":"VLOOKUP(Q151,Translate!$A$3:$C$1118,2,FALSE)","v":0},{"$nulls":4},"Gwella ysgolion - Ysgolion uwchradd","Gwella ysgolion - Ysgolion uwchradd","Gwella ysgolion - Ysgolion uwchradd","Gwella ysgolion - Ysgolion uwchradd","Gwella ysgolion - Ysgolion uwchradd","Gwella ysgolion - Ysgolion uwchradd",0]
["Highways, Roads and Transport",null,"Priffyrdd, ffyrdd a thrafnidiaeth",{"$f":"IF(ISERROR(VLOOKUP(B152,Translate!$G$3:$H$168,2,FALSE)),\"\",VLOOKUP(B152,Translate!$G$3:$H$168,2,FALSE))","v":""},null,null," (lines 18+19)"," (llinellau 18+19)",{"$nulls":3},"","",null,"cyfanswm capital expenditure and receipts:","","cyfanswm capital expenditure and receipts:",{"$f":"VLOOKUP(Q152,Translate!$A$3:$C$1118,2,FALSE)","v":{"$error":"#N/A"}},{"$nulls":4},"Gwella ysgolion - Ysgolion arbennig","Gwella ysgolion - Ysgolion arbennig","Gwella ysgolion - Ysgolion arbennig","Gwella ysgolion - Ysgolion arbennig","Gwella ysgolion - Ysgolion arbennig","Gwella ysgolion - Ysgolion arbennig",0]
["Housing",null,"Tai",{"$f":"IF(ISERROR(VLOOKUP(B153,Translate!$G$3:$H$168,2,FALSE)),\"\",VLOOKUP(B153,Translate!$G$3:$H$168,2,FALSE))","v":""},null,null," (lines 14+17+20)"," (llinellau 14+17+20)",{"$nulls":3},"","",19,"cyfanswm capital expenditure (COR4, line 15, column 3)",{"$f":"IF(ISERROR(FIND(\" (line\",O153)),\"\",RIGHT(O153,LEN(O153)-FIND(\" (line\",O153)))","v":""},"cyfanswm capital expenditure (COR4, line 15, column 3)",{"$f":"VLOOKUP(Q153,Translate!$A$3:$C$1118,2,FALSE)","v":{"$error":"#N/A"}},{"$nulls":4},"Gwella ysgolion - Ysgolion canolradd","Gwella ysgolion - Ysgolion canolradd","Gwella ysgolion - Ysgolion canolradd","Gwella ysgolion - Ysgolion canolradd","Gwella ysgolion - Ysgolion canolradd","Gwella ysgolion - Ysgolion canolradd",0]
["Housing benefit administration grant",null,"Grant gweinyddu budd-dal tai",{"$f":"IF(ISERROR(VLOOKUP(B154,Translate!$G$3:$H$168,2,FALSE)),\"\",VLOOKUP(B154,Translate!$G$3:$H$168,2,FALSE))","v":""},null,null," (lines 22 to 28)"," (llinellau 22 i 28)",{"$nulls":3},"","",null,"Resources to be used to finance capital expenditure:",{"$f":"IF(ISERROR(FIND(\" (line\",O154)),\"\",RIGHT(O154,LEN(O154)-FIND(\" (line\",O154)))","v":""},"Resources to be used to finance capital expenditure:",{"$f":"VLOOKUP(Q154,Translate!$A$3:$C$1118,2,FALSE)","v":0},{"$nulls":4},"Cyfanswm hwyluso gwelliant ysgolion","Cyfanswm hwyluso gwelliant ysgolion","Cyfanswm hwyluso gwelliant ysgolion","Cyfanswm hwyluso gwelliant ysgolion","Cyfanswm hwyluso gwelliant ysgolion","Cyfanswm hwyluso gwelliant ysgolion",0]
["Housing Council Fund",null,"Tai Cronfa'r Cyngor",{"$f":"IF(ISERROR(VLOOKUP(B155,Translate!$G$3:$H$168,2,FALSE)),\"\",VLOOKUP(B155,Translate!$G$3:$H$168,2,FALSE))","v":""},null,null," (included in line 21, column 1)"," (Wedi’i cynnwys yn llinell 21, colofn 1)",{"$nulls":3},"","",23,"Capital grants from the Welsh Government and other UK Government Departments","","Capital grants from the Welsh Government and other UK Government Departments",{"$f":"VLOOKUP(Q155,Translate!$A$3:$C$1118,2,FALSE)","v":0},{"$nulls":4},"Mynediad i addysg (heb gynnwys cludiant o'r cartef i'r ysgol) - ysgolion meithrin","Mynediad i addysg (heb gynnwys cludiant o'r cartef i'r ysgol) - ysgolion meithrin","Mynediad i addysg (heb gynnwys cludiant o'r cartef i'r ysgol) - ysgolion meithrin","Mynediad i addysg (heb gynnwys cludiant o'r cartef i'r ysgol) - ysgolion meithrin","Mynediad i addysg (heb gynnwys cludiant o'r cartef i'r ysgol) - ysgolion meithrin","Mynediad i addysg (heb gynnwys cludiant o'r cartef i'r ysgol) - ysgolion meithrin",0]
["Housing revenue account reconciliation",null,"Cysoni'r cyfrif refeniw tai (HRA)",{"$f":"IF(ISERROR(VLOOKUP(B156,Translate!$G$3:$H$168,2,FALSE)),\"\",VLOOKUP(B156,Translate!$G$3:$H$168,2,FALSE))","v":""},null,null,"RO(P), line 10","RO(P), llinell 10",{"$nulls":3},"","",24,"Grants from European Community Structural Funds (including ERDF)","","Grants from European Community Structural Funds (including ERDF)",{"$f":"VLOOKUP(Q156,Translate!$A$3:$C$1118,2,FALSE)","v":0},{"$nulls":4},"Mynediad i addysg (heb gynnwys cludiant o'r cartef i'r ysgol) - Ysgolion cynradd","Mynediad i addysg (heb gynnwys cludiant o'r cartef i'r ysgol) - Ysgolion cynradd","Mynediad i addysg (heb gynnwys cludiant o'r cartef i'r ysgol) - Ysgolion cynradd","Mynediad i addysg (heb gynnwys cludiant o'r cartef i'r ysgol) - Ysgolion cynradd","Mynediad i addysg (heb gynnwys cludiant o'r cartef i'r ysgol) - Ysgolion cynradd","Mynediad i addysg (heb gynnwys cludiant o'r cartef i'r ysgol) - Ysgolion cynradd",0]
["HRA corporate and democratic core costs",null,"Costau craidd corfforaethol a democrataidd  HRA",{"$f":"IF(ISERROR(VLOOKUP(B157,Translate!$G$3:$H$168,2,FALSE)),\"\",VLOOKUP(B157,Translate!$G$3:$H$168,2,FALSE))","v":""},null,null," (lines 60 to 71)"," (llinellau 60 to 71)",{"$nulls":3},"","",50,"Grants and contributions from Welsh Government sponsored public bodies / non-departmental public bodies","","Grants and contributions from Welsh Government sponsored public bodies / non-departmental public bodies",{"$f":"VLOOKUP(Q157,Translate!$A$3:$C$1118,2,FALSE)","v":0},{"$nulls":4},"Mynediad i addysg (heb gynnwys cludiant o'r cartef i'r ysgol) - Ysgolion uwchradd",{"$f":"IF(LEFT(W157,1)=\" \",RIGHT(W157,LEN(W157)-1),W157)","v":"Mynediad i addysg (heb gynnwys cludiant o'r cartef i'r ysgol) - Ysgolion uwchradd"},"Mynediad i addysg (heb gynnwys cludiant o'r cartef i'r ysgol) - Ysgolion uwchradd","Mynediad i addysg (heb gynnwys cludiant o'r cartef i'r ysgol) - Ysgolion uwchradd","Mynediad i addysg (heb gynnwys cludiant o'r cartef i'r ysgol) - Ysgolion uwchradd","Mynediad i addysg (heb gynnwys cludiant o'r cartef i'r ysgol) - Ysgolion uwchradd",0]
["HRA expenditure and income (excluding interactions with the council fund)",null,"Gwariant ac incwm HRA (ac eithrio rhyngweithio gyda chronfa'r cyngor)",{"$f":"IF(ISERROR(VLOOKUP(B158,Translate!$G$3:$H$168,2,FALSE)),\"\",VLOOKUP(B158,Translate!$G$3:$H$168,2,FALSE))","v":""},null,null,"RG, line 700, col 2","RG, llinell 700, col 2",{"$nulls":3},"","",51,"Funding from National Lottery","","Funding from National Lottery",{"$f":"VLOOKUP(Q158,Translate!$A$3:$C$1118,2,FALSE)","v":0},{"$nulls":4},"Mynediad i addysg (heb gynnwys cludiant o'r cartef i'r ysgol) - Ysgolion arbennig","Mynediad i addysg (heb gynnwys cludiant o'r cartef i'r ysgol) - Ysgolion arbennig","Mynediad i addysg (heb gynnwys cludiant o'r cartef i'r ysgol) - Ysgolion arbennig","Mynediad i addysg (heb gynnwys cludiant o'r cartef i'r ysgol) - Ysgolion arbennig","Mynediad i addysg (heb gynnwys cludiant o'r cartef i'r ysgol) - Ysgolion arbennig","Mynediad i addysg (heb gynnwys cludiant o'r cartef i'r ysgol) - Ysgolion arbennig",0]
["HRA 'item 8' interest payments/receipts ",null,"Taliadau/derbyniadau llog 'eitem 8' HRA",{"$f":"IF(ISERROR(VLOOKUP(B159,Translate!$G$3:$H$168,2,FALSE)),\"\",VLOOKUP(B159,Translate!$G$3:$H$168,2,FALSE))","v":""},null,null," (lines 72 to 85)"," (llinellau 72 to 85)",{"$nulls":3},"","",52,"Other grants and contributions including those from private developers","","Other grants and contributions including those from private developers",{"$f":"VLOOKUP(Q159,Translate!$A$3:$C$1118,2,FALSE)","v":0},{"$nulls":4},"Mynediad i addysg (heb gynnwys cludiant o'r cartef i'r ysgol) - Ysgolion canolradd","Mynediad i addysg (heb gynnwys cludiant o'r cartef i'r ysgol) - Ysgolion canolradd","Mynediad i addysg (heb gynnwys cludiant o'r cartef i'r ysgol) - Ysgolion canolradd","Mynediad i addysg (heb gynnwys cludiant o'r cartef i'r ysgol) - Ysgolion canolradd","Mynediad i addysg (heb gynnwys cludiant o'r cartef i'r ysgol) - Ysgolion canolradd","Mynediad i addysg (heb gynnwys cludiant o'r cartef i'r ysgol) - Ysgolion canolradd",0]
["HRA unapportionable central overheads costs",null,"Costau gorbenion canolog HRA na ellir eu dosrannu",{"$f":"IF(ISERROR(VLOOKUP(B160,Translate!$G$3:$H$168,2,FALSE)),\"\",VLOOKUP(B160,Translate!$G$3:$H$168,2,FALSE))","v":""},null,null," (lines 86 and 89.5)"," (llinellau 86 and 89.5)",{"$nulls":3},"","",25,"Capital grants and contributions from other sources (lines 50 to 52)","(lines 50 to 52)","Capital grants and contributions from other sources ",{"$f":"VLOOKUP(Q160,Translate!$A$3:$C$1118,2,FALSE)","v":{"$error":"#N/A"}},{"$nulls":4},"Cyfanswm mynediad i addysg","Cyfanswm mynediad i addysg","Cyfanswm mynediad i addysg","Cyfanswm mynediad i addysg","Cyfanswm mynediad i addysg","Cyfanswm mynediad i addysg",0]
["Icelandic bank impairment",null,"Amhariad banciau Gwlad yr Iâ",{"$f":"IF(ISERROR(VLOOKUP(B161,Translate!$G$3:$H$168,2,FALSE)),\"\",VLOOKUP(B161,Translate!$G$3:$H$168,2,FALSE))","v":""},null,null,"To equal BR1/2 form, line 1","i cyfartal ffurflen BR1/2, llinell 1",{"$nulls":3},"","",26,"Use of capital receipts","","Use of capital receipts",{"$f":"VLOOKUP(Q161,Translate!$A$3:$C$1118,2,FALSE)","v":0},{"$nulls":4},"Cludiant o'r cartref i'r ysgol - Ysgolion meithrin","Cludiant o'r cartref i'r ysgol - Ysgolion meithrin","Cludiant o'r cartref i'r ysgol - Ysgolion meithrin","Cludiant o'r cartref i'r ysgol - Ysgolion meithrin","Cludiant o'r cartref i'r ysgol - Ysgolion meithrin","Cludiant o'r cartref i'r ysgol - Ysgolion meithrin",0]
["In year council tax collection – difference from budget",null,"Casglu'r dreth gyngor yn ystod y flwyddyn - gwahaniaeth o'r gyllideb",{"$f":"IF(ISERROR(VLOOKUP(B162,Translate!$G$3:$H$168,2,FALSE)),\"\",VLOOKUP(B162,Translate!$G$3:$H$168,2,FALSE))","v":""},null,null,"BR1 form, line 2","ffurflen BR1, llinell 2",{"$nulls":3},"","",27,"Major Repairs Allowance (MRA)","","Major Repairs Allowance (MRA)",{"$f":"VLOOKUP(Q162,Translate!$A$3:$C$1118,2,FALSE)","v":0},{"$nulls":4},"Cludiant o'r cartref i'r ysgol - Ysgolion cynradd","Cludiant o'r cartref i'r ysgol - Ysgolion cynradd","Cludiant o'r cartref i'r ysgol - Ysgolion cynradd","Cludiant o'r cartref i'r ysgol - Ysgolion cynradd","Cludiant o'r cartref i'r ysgol - Ysgolion cynradd","Cludiant o'r cartref i'r ysgol - Ysgolion cynradd",0]
["Induction",null,"Ymsefydlu",{"$f":"IF(ISERROR(VLOOKUP(B163,Translate!$G$3:$H$168,2,FALSE)),\"\",VLOOKUP(B163,Translate!$G$3:$H$168,2,FALSE))","v":""},null,null," (line 94+line 99)"," (llinell 94+llinell 99)",{"$nulls":3},"","",28,"Capital expenditure charged to a revenue account (non-HRA)","","Capital expenditure charged to a revenue account (non-HRA)",{"$f":"VLOOKUP(Q163,Translate!$A$3:$C$1118,2,FALSE)","v":0},{"$nulls":4},"Cludiant o'r cartref i'r ysgol - Ysgolion uwchradd","Cludiant o'r cartref i'r ysgol - Ysgolion uwchradd","Cludiant o'r cartref i'r ysgol - Ysgolion uwchradd","Cludiant o'r cartref i'r ysgol - Ysgolion uwchradd","Cludiant o'r cartref i'r ysgol - Ysgolion uwchradd","Cludiant o'r cartref i'r ysgol - Ysgolion uwchradd",0]
["Information specified on these returns must be submitted under section 168 of the 1972 Local Government Act.",null,"Rhaid cyflwyno'r wybodaeth y gofynnir amdani yn y ffurflenni hyn o dan adran 168 o Ddeddf Llywodraeth Leol 1972.",{"$f":"IF(ISERROR(VLOOKUP(B164,Translate!$G$3:$H$168,2,FALSE)),\"\",VLOOKUP(B164,Translate!$G$3:$H$168,2,FALSE))","v":""},null,null,"BR2, line 4","BR2, llinell 4",{"$nulls":3},"","",29,"Capital expenditure charged to a revenue account (HRA)","","Capital expenditure charged to a revenue account (HRA)",{"$f":"VLOOKUP(Q164,Translate!$A$3:$C$1118,2,FALSE)","v":0},{"$nulls":4},"Cludiant o'r cartref i'r ysgol - Ysgolion arbennig","Cludiant o'r cartref i'r ysgol - Ysgolion arbennig","Cludiant o'r cartref i'r ysgol - Ysgolion arbennig","Cludiant o'r cartref i'r ysgol - Ysgolion arbennig","Cludiant o'r cartref i'r ysgol - Ysgolion arbennig","Cludiant o'r cartref i'r ysgol - Ysgolion arbennig",0]
["Integrated family support team",null,"Tîm integredig cymorth i deuluoedd",{"$f":"IF(ISERROR(VLOOKUP(B165,Translate!$G$3:$H$168,2,FALSE)),\"\",VLOOKUP(B165,Translate!$G$3:$H$168,2,FALSE))","v":""},null,null,"BR1 form, line 4 / BR2, line 3","ffurflen BR1, llinell 4 / BR2, llinell 3",{"$nulls":3},"","",30.1,"Borrowing and credit arrangements that attract central government support (non-HRA)","","Borrowing and credit arrangements that attract central government support (non-HRA)",{"$f":"VLOOKUP(Q165,Translate!$A$3:$C$1118,2,FALSE)","v":0},{"$nulls":4},"Cludiant o'r cartref i'r ysgol - Ysgolion canolradd","Cludiant o'r cartref i'r ysgol - Ysgolion canolradd","Cludiant o'r cartref i'r ysgol - Ysgolion canolradd","Cludiant o'r cartref i'r ysgol - Ysgolion canolradd","Cludiant o'r cartref i'r ysgol - Ysgolion canolradd","Cludiant o'r cartref i'r ysgol - Ysgolion canolradd",0]
["Investigation",null,"Ymchwilio",{"$f":"IF(ISERROR(VLOOKUP(B166,Translate!$G$3:$H$168,2,FALSE)),\"\",VLOOKUP(B166,Translate!$G$3:$H$168,2,FALSE))","v":""},null,null,"BR1 form, line 3 / BR2, line 2","ffurflen BR1, llinell 3 / BR2, llinell 2",{"$nulls":3},"","",30.2,"Borrowing and credit arrangements that attract central government support (HRA)","","Borrowing and credit arrangements that attract central government support (HRA)",{"$f":"VLOOKUP(Q166,Translate!$A$3:$C$1118,2,FALSE)","v":0},{"$nulls":4},"Cyfanswm cludiant o'r cartref i'r ysgol","Cyfanswm cludiant o'r cartref i'r ysgol","Cyfanswm cludiant o'r cartref i'r ysgol","Cyfanswm cludiant o'r cartref i'r ysgol","Cyfanswm cludiant o'r cartref i'r ysgol","Cyfanswm cludiant o'r cartref i'r ysgol",0]
["Is a negative expenditure figure correct?",null,"A yw ffigur gwariant negyddol yn gywir?",{"$f":"IF(ISERROR(VLOOKUP(B167,Translate!$G$3:$H$168,2,FALSE)),\"\",VLOOKUP(B167,Translate!$G$3:$H$168,2,FALSE))","v":""},null,null,"To equal BR1, line 5 / BR2, line 6","i cyfartal BR1, llinell 5 / BR2, llinell 6",{"$nulls":3},"","",30,"Borrowing and credit arrangements that attract central government support (Lines 30.1 and 30.2)","","Borrowing and credit arrangements that attract central government support (Lines 30.1 and 30.2)",{"$f":"VLOOKUP(Q167,Translate!$A$3:$C$1118,2,FALSE)","v":{"$error":"#N/A"}},{"$nulls":4},"Rheoli strategol - Ysgolion meithrin","Rheoli strategol - Ysgolion meithrin","Rheoli strategol - Ysgolion meithrin","Rheoli strategol - Ysgolion meithrin","Rheoli strategol - Ysgolion meithrin","Rheoli strategol - Ysgolion meithrin",0]
["LA animal health and welfare framework funding",null,"Cyllid fframwaith iechyd a lles anifeiliaid yr ALl ",{"$f":"IF(ISERROR(VLOOKUP(B168,Translate!$G$3:$H$168,2,FALSE)),\"\",VLOOKUP(B168,Translate!$G$3:$H$168,2,FALSE))","v":""},null,null," (lines 106 and 107)"," (llinellau 106 and 107)",{"$nulls":3},"","",31.1,"Other borrowing and credit arrangements (non-HRA)","","Other borrowing and credit arrangements (non-HRA)",{"$f":"VLOOKUP(Q168,Translate!$A$3:$C$1118,2,FALSE)","v":0},{"$nulls":4},"Rheoli strategol - Ysgolion cynradd","Rheoli strategol - Ysgolion cynradd","Rheoli strategol - Ysgolion cynradd","Rheoli strategol - Ysgolion cynradd","Rheoli strategol - Ysgolion cynradd","Rheoli strategol - Ysgolion cynradd",0]
["Land Reclaimation S16",null,"Adfer Tir A16",{"$f":"IF(ISERROR(VLOOKUP(B169,Translate!$G$3:$H$168,2,FALSE)),\"\",VLOOKUP(B169,Translate!$G$3:$H$168,2,FALSE))","v":""},{"$nulls":7},"","",31.2,"Other borrowing and credit arrangements (HRA)","","Other borrowing and credit arrangements (HRA)",{"$f":"VLOOKUP(Q169,Translate!$A$3:$C$1118,2,FALSE)","v":0},{"$nulls":4},"Rheoli strategol - Ysgolion uwchradd","Rheoli strategol - Ysgolion uwchradd","Rheoli strategol - Ysgolion uwchradd","Rheoli strategol - Ysgolion uwchradd","Rheoli strategol - Ysgolion uwchradd","Rheoli strategol - Ysgolion uwchradd",0]
["Language and play",null,"Iaith a chwarae",{"$f":"IF(ISERROR(VLOOKUP(B170,Translate!$G$3:$H$168,2,FALSE)),\"\",VLOOKUP(B170,Translate!$G$3:$H$168,2,FALSE))","v":""},{"$nulls":7},"","",31,"Other borrowing and credit arrangements (Lines 31.1 and 31.2)","","Other borrowing and credit arrangements (Lines 31.1 and 31.2)",{"$f":"VLOOKUP(Q170,Translate!$A$3:$C$1118,2,FALSE)","v":{"$error":"#N/A"}},{"$nulls":4},"Rheoli strategol - Ysgolion arbennig","Rheoli strategol - Ysgolion arbennig","Rheoli strategol - Ysgolion arbennig","Rheoli strategol - Ysgolion arbennig","Rheoli strategol - Ysgolion arbennig","Rheoli strategol - Ysgolion arbennig",0]
["Lead Local Flood Authorities (LLFA) Grant",null,"Grant Awdurdodau Llifogydd Lleol Arweiniol (LLFA)",{"$f":"IF(ISERROR(VLOOKUP(B171,Translate!$G$3:$H$168,2,FALSE)),\"\",VLOOKUP(B171,Translate!$G$3:$H$168,2,FALSE))","v":""},{"$nulls":7},"","",32,"cyfanswm resources used to finance capital expenditure (the sum of the figures in the white cells above)","","cyfanswm resources used to finance capital expenditure (the sum of the figures in the white cells above)",{"$f":"VLOOKUP(Q171,Translate!$A$3:$C$1118,2,FALSE)","v":{"$error":"#N/A"}},{"$nulls":4},"Rheoli strategol - Ysgolion canolradd","Rheoli strategol - Ysgolion canolradd","Rheoli strategol - Ysgolion canolradd","Rheoli strategol - Ysgolion canolradd","Rheoli strategol - Ysgolion canolradd","Rheoli strategol - Ysgolion canolradd",0]
["Learning pathways (14-19)",null,"Llwybrau dysgu",{"$f":"IF(ISERROR(VLOOKUP(B172,Translate!$G$3:$H$168,2,FALSE)),\"\",VLOOKUP(B172,Translate!$G$3:$H$168,2,FALSE))","v":""},{"$nulls":7},"","",null,"PLEASE COMPLETE THE LINES BELOW ON A PFI ON-BALANCE SHEET BASIS","","PLEASE COMPLETE THE LINES BELOW ON A PFI ON-BALANCE SHEET BASIS",{"$f":"VLOOKUP(Q172,Translate!$A$3:$C$1118,2,FALSE)","v":0},{"$nulls":4},"Cyfanswm rheoli strategol","Cyfanswm rheoli strategol","Cyfanswm rheoli strategol","Cyfanswm rheoli strategol","Cyfanswm rheoli strategol","Cyfanswm rheoli strategol",0]
["Leasing payments (excluding any capital financing element within PFI schemes)",null,"Taliadau prydlesu (ac eithrio unrhyw elfennau cyllido cyfalaf o fewn cylluniau PFI)",{"$f":"IF(ISERROR(VLOOKUP(B173,Translate!$G$3:$H$168,2,FALSE)),\"\",VLOOKUP(B173,Translate!$G$3:$H$168,2,FALSE))","v":""},{"$nulls":7},"","",null,"Capital financing requirement:","","Capital financing requirement:",{"$f":"VLOOKUP(Q173,Translate!$A$3:$C$1118,2,FALSE)","v":0},{"$nulls":4},"Cyllid ALl ar ysgolion arall - ysgolion meithrin","Cyllid ALl ar ysgolion arall - ysgolion meithrin","Cyllid ALl ar ysgolion arall - ysgolion meithrin","Cyllid ALl ar ysgolion arall - ysgolion meithrin","Cyllid ALl ar ysgolion arall - ysgolion meithrin","Cyllid ALl ar ysgolion arall - ysgolion meithrin",0]
["less council tax reduction scheme (including RSG element)",null,"wedi tynnu cynllun gostyngiadau'r dreth gyngor (gan gynnwys yr elfen Grant Cynnal Refeniw)",{"$f":"IF(ISERROR(VLOOKUP(B174,Translate!$G$3:$H$168,2,FALSE)),\"\",VLOOKUP(B174,Translate!$G$3:$H$168,2,FALSE))","v":""},{"$nulls":7},"","",33,"Capital Financing Requirement as at 1 April","","Capital Financing Requirement as at 1 April",{"$f":"VLOOKUP(Q174,Translate!$A$3:$C$1118,2,FALSE)","v":0},{"$nulls":4},"Cyllid ALl ar ysgolion arall - Ysgolion cynradd","Cyllid ALl ar ysgolion arall - Ysgolion cynradd","Cyllid ALl ar ysgolion arall - Ysgolion cynradd","Cyllid ALl ar ysgolion arall - Ysgolion cynradd","Cyllid ALl ar ysgolion arall - Ysgolion cynradd","Cyllid ALl ar ysgolion arall - Ysgolion cynradd",0]
["less council tax reduction scheme grant",null,"wedi tynnu grant cynllun gostyngiadau'r dreth gyngor",{"$f":"IF(ISERROR(VLOOKUP(B175,Translate!$G$3:$H$168,2,FALSE)),\"\",VLOOKUP(B175,Translate!$G$3:$H$168,2,FALSE))","v":""},{"$nulls":7},"","",34,"Capital expenditure resourced by means of credit (line 30 plus line 31)","(line 30 plus line 31)","Capital expenditure resourced by means of credit ",{"$f":"VLOOKUP(Q175,Translate!$A$3:$C$1118,2,FALSE)","v":{"$error":"#N/A"}},{"$nulls":4},"Cyllid ALl ar ysgolion arall - Ysgolion uwchradd","Cyllid ALl ar ysgolion arall - Ysgolion uwchradd","Cyllid ALl ar ysgolion arall - Ysgolion uwchradd","Cyllid ALl ar ysgolion arall - Ysgolion uwchradd","Cyllid ALl ar ysgolion arall - Ysgolion uwchradd","Cyllid ALl ar ysgolion arall - Ysgolion uwchradd",0]
["less specific and special grants (excluding council tax reduction scheme grant)",null,"wedi tynnu grantiau penodol ac arbennig (ac eithrio grant cynllun gostyngiadau'r dreth gyngor)",{"$f":"IF(ISERROR(VLOOKUP(B176,Translate!$G$3:$H$168,2,FALSE)),\"\",VLOOKUP(B176,Translate!$G$3:$H$168,2,FALSE))","v":""},{"$nulls":7},"","",35,"Minimum Revenue Provision & voluntary contributions","","Minimum Revenue Provision & voluntary contributions",{"$f":"VLOOKUP(Q176,Translate!$A$3:$C$1118,2,FALSE)","v":0},{"$nulls":4},"Cyllid ALl ar ysgolion arall - Ysgolion arbennig","Cyllid ALl ar ysgolion arall - Ysgolion arbennig","Cyllid ALl ar ysgolion arall - Ysgolion arbennig","Cyllid ALl ar ysgolion arall - Ysgolion arbennig","Cyllid ALl ar ysgolion arall - Ysgolion arbennig","Cyllid ALl ar ysgolion arall - Ysgolion arbennig",0]
["Levies (Police)",null,"Ardollau (yr Heddlu)",{"$f":"IF(ISERROR(VLOOKUP(B177,Translate!$G$3:$H$168,2,FALSE)),\"\",VLOOKUP(B177,Translate!$G$3:$H$168,2,FALSE))","v":""},{"$nulls":7},"","",36,"Change in Capital Financing Requirement (line 34 less line 35)","(line 34 less line 35)","Change in Capital Financing Requirement ",{"$f":"VLOOKUP(Q177,Translate!$A$3:$C$1118,2,FALSE)","v":{"$error":"#N/A"}},{"$nulls":4},"Cyllid ALl ar ysgolion arall - Ysgolion canolradd","Cyllid ALl ar ysgolion arall - Ysgolion canolradd","Cyllid ALl ar ysgolion arall - Ysgolion canolradd","Cyllid ALl ar ysgolion arall - Ysgolion canolradd","Cyllid ALl ar ysgolion arall - Ysgolion canolradd","Cyllid ALl ar ysgolion arall - Ysgolion canolradd",0]
["Levies income from contributing County and County Borough Councils",null,"Incwm Ardollau gan gynghorau Sir a Chynghorau Bwrdeistref Sirol Sy'n Cyfrannu",{"$f":"IF(ISERROR(VLOOKUP(B178,Translate!$G$3:$H$168,2,FALSE)),\"\",VLOOKUP(B178,Translate!$G$3:$H$168,2,FALSE))","v":""},{"$nulls":7},"","",37,"Capital Financing Requirement as at 31 March (line 33 plus line 36)","(line 33 plus line 36)","Capital Financing Requirement as at 31 March ",{"$f":"VLOOKUP(Q178,Translate!$A$3:$C$1118,2,FALSE)","v":{"$error":"#N/A"}},{"$nulls":4},"Cyfanswm cyllid ALl ar ysgolion arall - ysgolion meithrin","Cyfanswm cyllid ALl ar ysgolion arall - ysgolion meithrin","Cyfanswm cyllid ALl ar ysgolion arall - ysgolion meithrin","Cyfanswm cyllid ALl ar ysgolion arall - ysgolion meithrin","Cyfanswm cyllid ALl ar ysgolion arall - ysgolion meithrin","Cyfanswm cyllid ALl ar ysgolion arall - ysgolion meithrin",0]
["Levies paid to the Environment Agency acting as an Internal Drainage Board",null,"Ardollau a dalwyd i Asiantaeth yr Amgylchedd yn gweithredu fel Bwrdd Draenio Mewnol",{"$f":"IF(ISERROR(VLOOKUP(B179,Translate!$G$3:$H$168,2,FALSE)),\"\",VLOOKUP(B179,Translate!$G$3:$H$168,2,FALSE))","v":""},{"$nulls":7},"","",null,"Borrowing, credit and investments at start of year:","","Borrowing, credit and investments at start of year:",{"$f":"VLOOKUP(Q179,Translate!$A$3:$C$1118,2,FALSE)","v":0},{"$nulls":4},"Cyllid ALl - ysgolion meithrin","Cyllid ALl - ysgolion meithrin","Cyllid ALl - ysgolion meithrin","Cyllid ALl - ysgolion meithrin","Cyllid ALl - ysgolion meithrin","Cyllid ALl - ysgolion meithrin",0]
["Levies paid to the Environment Agency in respect of Local Flood Defence Committees",null,"Ardollau a dalwyd i Asiantaeth yr Amgylchedd mewn perthynas â Phwyllgorau Lleol Amddiffyn rhag Llifogydd",{"$f":"IF(ISERROR(VLOOKUP(B180,Translate!$G$3:$H$168,2,FALSE)),\"\",VLOOKUP(B180,Translate!$G$3:$H$168,2,FALSE))","v":""},{"$nulls":7},"","",38,"Gross borrowing as at start of year","","Gross borrowing as at start of year",{"$f":"VLOOKUP(Q180,Translate!$A$3:$C$1118,2,FALSE)","v":0},{"$nulls":4},"Cyllid ALl - Ysgolion cynradd","Cyllid ALl - Ysgolion cynradd","Cyllid ALl - Ysgolion cynradd","Cyllid ALl - Ysgolion cynradd","Cyllid ALl - Ysgolion cynradd","Cyllid ALl - Ysgolion cynradd",0]
["Local Government Financial Statistics Unit,",null,"Uned Ystadegau Ariannol Llywodraeth Leol,",{"$f":"IF(ISERROR(VLOOKUP(B181,Translate!$G$3:$H$168,2,FALSE)),\"\",VLOOKUP(B181,Translate!$G$3:$H$168,2,FALSE))","v":""},{"$nulls":7},"","",39,"Other long-term liabilities as at start of year","","Other long-term liabilities as at start of year",{"$f":"VLOOKUP(Q181,Translate!$A$3:$C$1118,2,FALSE)","v":0},{"$nulls":4},"Cyllid ALl - Ysgolion uwchradd","Cyllid ALl - Ysgolion uwchradd","Cyllid ALl - Ysgolion uwchradd","Cyllid ALl - Ysgolion uwchradd","Cyllid ALl - Ysgolion uwchradd","Cyllid ALl - Ysgolion uwchradd",0]
["Local land charges",null,"Pridiannau tir lleol",{"$f":"IF(ISERROR(VLOOKUP(B182,Translate!$G$3:$H$168,2,FALSE)),\"\",VLOOKUP(B182,Translate!$G$3:$H$168,2,FALSE))","v":""},{"$nulls":7},"","",40,"Investments as at start of year","","Investments as at start of year",{"$f":"VLOOKUP(Q182,Translate!$A$3:$C$1118,2,FALSE)","v":0},{"$nulls":4},"Cyllid ALl - Ysgolion arbennig","Cyllid ALl - Ysgolion arbennig","Cyllid ALl - Ysgolion arbennig","Cyllid ALl - Ysgolion arbennig","Cyllid ALl - Ysgolion arbennig","Cyllid ALl - Ysgolion arbennig",0]
["Local Transport Fund (formerly Local Transport Grant)",null,"Cronfa Trafnidiaeth Leol (Grant Trafnidiaeth Leol yn flaenorol)",{"$f":"IF(ISERROR(VLOOKUP(B183,Translate!$G$3:$H$168,2,FALSE)),\"\",VLOOKUP(B183,Translate!$G$3:$H$168,2,FALSE))","v":""},{"$nulls":7},"","",null,"Borrowing, credit and investments at end of year:","","Borrowing, credit and investments at end of year:",{"$f":"VLOOKUP(Q183,Translate!$A$3:$C$1118,2,FALSE)","v":0},{"$nulls":4},"Cyllid ALl - Ysgolion canolradd","Cyllid ALl - Ysgolion canolradd","Cyllid ALl - Ysgolion canolradd","Cyllid ALl - Ysgolion canolradd","Cyllid ALl - Ysgolion canolradd","Cyllid ALl - Ysgolion canolradd",0]
["Local Welfare Assistance Schemes",null,"Cynlluniau Cymorth Lles Lleol",{"$f":"IF(ISERROR(VLOOKUP(B184,Translate!$G$3:$H$168,2,FALSE)),\"\",VLOOKUP(B184,Translate!$G$3:$H$168,2,FALSE))","v":""},{"$nulls":7},"","",41,"Gross borrowing as at year end","","Gross borrowing as at year end",{"$f":"VLOOKUP(Q184,Translate!$A$3:$C$1118,2,FALSE)","v":0},{"$nulls":4},"Cyfaswm cyllid ALl","Cyfaswm cyllid ALl","Cyfaswm cyllid ALl","Cyfaswm cyllid ALl","Cyfaswm cyllid ALl","Cyfaswm cyllid ALl",0]
["Mandatory rent allowances",null,"Lwfansau rhent gorfodol",{"$f":"IF(ISERROR(VLOOKUP(B185,Translate!$G$3:$H$168,2,FALSE)),\"\",VLOOKUP(B185,Translate!$G$3:$H$168,2,FALSE))","v":""},{"$nulls":7},"","",42,"Other long-term liabilities as at year end","","Other long-term liabilities as at year end",{"$f":"VLOOKUP(Q185,Translate!$A$3:$C$1118,2,FALSE)","v":0},{"$nulls":4},"Gwariant ysgol - ysgolion meithrin","Gwariant ysgol - ysgolion meithrin","Gwariant ysgol - ysgolion meithrin","Gwariant ysgol - ysgolion meithrin","Gwariant ysgol - ysgolion meithrin","Gwariant ysgol - ysgolion meithrin",0]
["Mandatory rent rebates (HRA)",null,"Ad-daliadau rhent gorfodol (HRA)",{"$f":"IF(ISERROR(VLOOKUP(B186,Translate!$G$3:$H$168,2,FALSE)),\"\",VLOOKUP(B186,Translate!$G$3:$H$168,2,FALSE))","v":""},{"$nulls":7},"","",43,"Investments as at year end","","Investments as at year end",{"$f":"VLOOKUP(Q186,Translate!$A$3:$C$1118,2,FALSE)","v":0},{"$nulls":4},"Gwariant ysgol - Ysgolion cynradd","Gwariant ysgol - Ysgolion cynradd","Gwariant ysgol - Ysgolion cynradd","Gwariant ysgol - Ysgolion cynradd","Gwariant ysgol - Ysgolion cynradd","Gwariant ysgol - Ysgolion cynradd",0]
["Name:",null,"Enw:",{"$f":"IF(ISERROR(VLOOKUP(B187,Translate!$G$3:$H$168,2,FALSE)),\"\",VLOOKUP(B187,Translate!$G$3:$H$168,2,FALSE))","v":""},{"$nulls":7},"","",null,"Operational boundary and authorised limit:","","Operational boundary and authorised limit:",{"$f":"VLOOKUP(Q187,Translate!$A$3:$C$1118,2,FALSE)","v":0},{"$nulls":4},"Gwariant ysgol - Ysgolion uwchradd","Gwariant ysgol - Ysgolion uwchradd","Gwariant ysgol - Ysgolion uwchradd","Gwariant ysgol - Ysgolion uwchradd","Gwariant ysgol - Ysgolion uwchradd","Gwariant ysgol - Ysgolion uwchradd",0]
["National Parks' grant (national park authorities only)",null,"Grant Parciau Cenedlaethol (awdurdodau parciau cenedlaethol yn unig)",{"$f":"IF(ISERROR(VLOOKUP(B188,Translate!$G$3:$H$168,2,FALSE)),\"\",VLOOKUP(B188,Translate!$G$3:$H$168,2,FALSE))","v":""},{"$nulls":7},"","",44,"Operational boundary for external debt as at start of year","","Operational boundary for external debt as at start of year",{"$f":"VLOOKUP(Q188,Translate!$A$3:$C$1118,2,FALSE)","v":0},{"$nulls":4},"Gwariant ysgol - Ysgolion arbennig","Gwariant ysgol - Ysgolion arbennig","Gwariant ysgol - Ysgolion arbennig","Gwariant ysgol - Ysgolion arbennig","Gwariant ysgol - Ysgolion arbennig","Gwariant ysgol - Ysgolion arbennig",0]
["National Parks' revenue grant (national park authorities only)",null,"Grant refeniw Parciau Cenedlaethol (awdurdodau parciau cenedlaethol yn unig)",{"$f":"IF(ISERROR(VLOOKUP(B189,Translate!$G$3:$H$168,2,FALSE)),\"\",VLOOKUP(B189,Translate!$G$3:$H$168,2,FALSE))","v":""},{"$nulls":7},"","",45,"Authorised limit for external debt as at start of year","","Authorised limit for external debt as at start of year",{"$f":"VLOOKUP(Q189,Translate!$A$3:$C$1118,2,FALSE)","v":0},{"$nulls":4},"Gwariant ysgol - Ysgolion canolradd","Gwariant ysgol - Ysgolion canolradd","Gwariant ysgol - Ysgolion canolradd","Gwariant ysgol - Ysgolion canolradd","Gwariant ysgol - Ysgolion canolradd","Gwariant ysgol - Ysgolion canolradd",0]
["National police coordination centre (police authorities only)",null,"Canolfan gydgysylltu genedlaethol yr heddlu (awdurdodau'r heddlu yn unig)",{"$f":"IF(ISERROR(VLOOKUP(B190,Translate!$G$3:$H$168,2,FALSE)),\"\",VLOOKUP(B190,Translate!$G$3:$H$168,2,FALSE))","v":""},{"$nulls":7},"","",46,"Operational boundary for external debt as at year end","","Operational boundary for external debt as at year end",{"$f":"VLOOKUP(Q190,Translate!$A$3:$C$1118,2,FALSE)","v":0},{"$nulls":4},"Cyfanswm gwariant ysgol","Cyfanswm gwariant ysgol","Cyfanswm gwariant ysgol","Cyfanswm gwariant ysgol","Cyfanswm gwariant ysgol","Cyfanswm gwariant ysgol",0]
["National police coordination centre (police only)",null,"Canolfan gydgysylltu genedlaethol yr heddlu (yr heddlu yn unig)",{"$f":"IF(ISERROR(VLOOKUP(B191,Translate!$G$3:$H$168,2,FALSE)),\"\",VLOOKUP(B191,Translate!$G$3:$H$168,2,FALSE))","v":""},{"$nulls":7},"","",47,"Authorised limit for external debt as at year end","","Authorised limit for external debt as at year end",{"$f":"VLOOKUP(Q191,Translate!$A$3:$C$1118,2,FALSE)","v":0},{"$nulls":4},"Rheoli strategol - heblaw ysgolion","Rheoli strategol - heblaw ysgolion","Rheoli strategol - heblaw ysgolion","Rheoli strategol - heblaw ysgolion","Rheoli strategol - heblaw ysgolion","Rheoli strategol - heblaw ysgolion",0]
["Natural Resources Wales (formerly Countryside Council for Wales)",null,"Cyfoeth Naturiol Cymru (Cyngor Cefn Gwlad Cymru yn flaenorol)",{"$f":"IF(ISERROR(VLOOKUP(B192,Translate!$G$3:$H$168,2,FALSE)),\"\",VLOOKUP(B192,Translate!$G$3:$H$168,2,FALSE))","v":""},{"$nulls":7},"","",null,"cyfanswm receipts:","","cyfanswm receipts:",{"$f":"VLOOKUP(Q192,Translate!$A$3:$C$1118,2,FALSE)","v":{"$error":"#N/A"}},{"$nulls":4},"Mynediad i addysg (heb gynnwys cludiant) - heblaw ysgol","Mynediad i addysg (heb gynnwys cludiant) - heblaw ysgol","Mynediad i addysg (heb gynnwys cludiant) - heblaw ysgol","Mynediad i addysg (heb gynnwys cludiant) - heblaw ysgol","Mynediad i addysg (heb gynnwys cludiant) - heblaw ysgol","Mynediad i addysg (heb gynnwys cludiant) - heblaw ysgol",0]
["NDC costs attributable to Carbon Reduction Commitment (CRC) transactions",null,"Costau heb eu dosbarthu yn ymwneud â thrafodiadau Ymrwymiad Lleihau Carbon",{"$f":"IF(ISERROR(VLOOKUP(B193,Translate!$G$3:$H$168,2,FALSE)),\"\",VLOOKUP(B193,Translate!$G$3:$H$168,2,FALSE))","v":""},{"$nulls":7},"","",20,"cyfanswm in-year capital receipts - HRA (COR1-2, line 24, column 13)","","cyfanswm in-year capital receipts - HRA (COR1-2, line 24, column 13)",{"$f":"VLOOKUP(Q193,Translate!$A$3:$C$1118,2,FALSE)","v":{"$error":"#N/A"}},{"$nulls":4},"Darpariaeth dan 5 oed heb fod mewn ysgol feithrin, ysgol gynradd nac ysgol arbennig","Darpariaeth dan 5 oed heb fod mewn ysgol feithrin, ysgol gynradd nac ysgol arbennig","Darpariaeth dan 5 oed heb fod mewn ysgol feithrin, ysgol gynradd nac ysgol arbennig","Darpariaeth dan 5 oed heb fod mewn ysgol feithrin, ysgol gynradd nac ysgol arbennig","Darpariaeth dan 5 oed heb fod mewn ysgol feithrin, ysgol gynradd nac ysgol arbennig","Darpariaeth dan 5 oed heb fod mewn ysgol feithrin, ysgol gynradd nac ysgol arbennig",0]
["NDC costs attributable to council fund housing services",null,"Costau heb eu dosbarthuyn ymwneud â gwasanaethau tai cronfa'r cyngor",{"$f":"IF(ISERROR(VLOOKUP(B194,Translate!$G$3:$H$168,2,FALSE)),\"\",VLOOKUP(B194,Translate!$G$3:$H$168,2,FALSE))","v":""},{"$nulls":7},"","",21,"cyfanswm in-year capital receipts non HRA (COR1-2, line 66 minus line 24, column 13)","","cyfanswm in-year capital receipts non HRA (COR1-2, line 66 minus line 24, column 13)",{"$f":"VLOOKUP(Q194,Translate!$A$3:$C$1118,2,FALSE)","v":{"$error":"#N/A"}},{"$nulls":4},"Addysg i oedolion","Addysg i oedolion","Addysg i oedolion","Addysg i oedolion","Addysg i oedolion","Addysg i oedolion",0]
["NDC costs attributable to courts' services",null,"Costau heb eu dosbarthu yn ymwneud â gwasanaethau llyosedd ",{"$f":"IF(ISERROR(VLOOKUP(B195,Translate!$G$3:$H$168,2,FALSE)),\"\",VLOOKUP(B195,Translate!$G$3:$H$168,2,FALSE))","v":""},{"$nulls":7},{"$f":"IF(ISERROR(FIND(\"=\",O195)),\"\",RIGHT(O195,LEN(O195)-FIND(\"=\",O195)+3))","v":""},{"$f":"IF(ISERROR(FIND(\" (include\",O195)),\"\",RIGHT(O195,LEN(O195)-FIND(\" (include\",O195)))","v":""},22,"cyfanswm in-year capital receipts (lines 20 and 21)","(lines 20 and 21)",{"$f":"LEFT(O195,LEN(O195)-LEN(P195))","v":"cyfanswm in-year capital receipts "},{"$f":"VLOOKUP(Q195,Translate!$A$3:$C$1118,2,FALSE)","v":{"$error":"#N/A"}},{"$nulls":4},"Gwasanaeth ieuenctod","Gwasanaeth ieuenctod","Gwasanaeth ieuenctod","Gwasanaeth ieuenctod","Gwasanaeth ieuenctod","Gwasanaeth ieuenctod",0]
["NDC costs attributable to cultural and related services",null,"Costau heb eu dosbarthu yn ymwneud â gwasanaethau diwylliannol a chysylltiedig",{"$f":"IF(ISERROR(VLOOKUP(B196,Translate!$G$3:$H$168,2,FALSE)),\"\",VLOOKUP(B196,Translate!$G$3:$H$168,2,FALSE))","v":""},{"$nulls":7},"","",null,"Memorandum:","","Memorandum:",{"$f":"VLOOKUP(Q196,Translate!$A$3:$C$1118,2,FALSE)","v":0},{"$nulls":4},"Addysg gymunedol","Addysg gymunedol","Addysg gymunedol","Addysg gymunedol","Addysg gymunedol","Addysg gymunedol",{"$f":"IF(LEFT(AB196,1)=\" \",1,0)","v":0}]
["NDC costs attributable to education services",null,"Costau heb eu dosbarthu yn ymwneud â gwasanaethau addysg ",{"$f":"IF(ISERROR(VLOOKUP(B197,Translate!$G$3:$H$168,2,FALSE)),\"\",VLOOKUP(B197,Translate!$G$3:$H$168,2,FALSE))","v":""},{"$nulls":7},"","",null,"Additional liabilities of Local Authority companies:","","Additional liabilities of Local Authority companies:",{"$f":"VLOOKUP(Q197,Translate!$A$3:$C$1118,2,FALSE)","v":0},{"$nulls":4},"Cludiant o'r cartref i'r coleg","Cludiant o'r cartref i'r coleg","Cludiant o'r cartref i'r coleg","Cludiant o'r cartref i'r coleg","Cludiant o'r cartref i'r coleg","Cludiant o'r cartref i'r coleg",0]
["NDC costs attributable to environmental services",null,"Costau heb eu dosbarthu yn ymwneud â gwasanaethau amgylcheddol ",{"$f":"IF(ISERROR(VLOOKUP(B198,Translate!$G$3:$H$168,2,FALSE)),\"\",VLOOKUP(B198,Translate!$G$3:$H$168,2,FALSE))","v":""},{"$nulls":7},"","",48,"Gross borrowing and other long-term liabilities as at start of year","","Gross borrowing and other long-term liabilities as at start of year",{"$f":"VLOOKUP(Q198,Translate!$A$3:$C$1118,2,FALSE)","v":0},{"$nulls":4},"Cymorth i fyfyrwyr: dyfarniadau dewisol","Cymorth i fyfyrwyr: dyfarniadau dewisol","Cymorth i fyfyrwyr: dyfarniadau dewisol","Cymorth i fyfyrwyr: dyfarniadau dewisol","Cymorth i fyfyrwyr: dyfarniadau dewisol","Cymorth i fyfyrwyr: dyfarniadau dewisol",0]
["NDC costs attributable to highways, roads and transport services",null,"Costau heb eu dosbarthu yn ymwneud â gwasanaethau priffyrdd, ffyrdd a thrafnidiaeth ",{"$f":"IF(ISERROR(VLOOKUP(B199,Translate!$G$3:$H$168,2,FALSE)),\"\",VLOOKUP(B199,Translate!$G$3:$H$168,2,FALSE))","v":""},{"$nulls":7},"","",49,"Gross borrowing and other long-term liabilities as at end of year","","Gross borrowing and other long-term liabilities as at end of year",{"$f":"VLOOKUP(Q199,Translate!$A$3:$C$1118,2,FALSE)","v":0},{"$nulls":4},"Cymorth i fyfyrwyr: Grant dysgu'r Cynulliad","Cymorth i fyfyrwyr: Grant dysgu'r Cynulliad","Cymorth i fyfyrwyr: Grant dysgu'r Cynulliad","Cymorth i fyfyrwyr: Grant dysgu'r Cynulliad","Cymorth i fyfyrwyr: Grant dysgu'r Cynulliad","Cymorth i fyfyrwyr: Grant dysgu'r Cynulliad",0]
["NDC costs attributable to personal social services",null,"Costau heb eu dosbarthu yn ymwneud â gwasanaethau cymdeithasol personol ",{"$f":"IF(ISERROR(VLOOKUP(B200,Translate!$G$3:$H$168,2,FALSE)),\"\",VLOOKUP(B200,Translate!$G$3:$H$168,2,FALSE))","v":""},{"$nulls":7},"","",null,"Gross HRA unsupported borrowing:","","Gross HRA unsupported borrowing:",{"$f":"VLOOKUP(Q200,Translate!$A$3:$C$1118,2,FALSE)","v":0},{"$nulls":4},"Cymorth i fyfyrwyr: dyfarniadau gorfodol","Cymorth i fyfyrwyr: dyfarniadau gorfodol","Cymorth i fyfyrwyr: dyfarniadau gorfodol","Cymorth i fyfyrwyr: dyfarniadau gorfodol","Cymorth i fyfyrwyr: dyfarniadau gorfodol","Cymorth i fyfyrwyr: dyfarniadau gorfodol",0]
["NDC costs attributable to planning and development services",null,"Costau heb eu dosbarthu yn ymwneud â gwasanaethau datblygu ",{"$f":"IF(ISERROR(VLOOKUP(B201,Translate!$G$3:$H$168,2,FALSE)),\"\",VLOOKUP(B201,Translate!$G$3:$H$168,2,FALSE))","v":""},{"$nulls":7},"","",54,"At start of year","","At start of year",{"$f":"VLOOKUP(Q201,Translate!$A$3:$C$1118,2,FALSE)","v":0},{"$nulls":4},"Addysg barhaus arall","Addysg barhaus arall","Addysg barhaus arall","Addysg barhaus arall","Addysg barhaus arall","Addysg barhaus arall",0]
["Non-domestic rates collection",null,"Casglu ardrethi annomestig",{"$f":"IF(ISERROR(VLOOKUP(B202,Translate!$G$3:$H$168,2,FALSE)),\"\",VLOOKUP(B202,Translate!$G$3:$H$168,2,FALSE))","v":""},{"$nulls":7},"","",55,"At end of year","","At end of year",{"$f":"VLOOKUP(Q202,Translate!$A$3:$C$1118,2,FALSE)","v":0},{"$nulls":4},"Rhwymedigaethau pensiwn gweddilliol: addysg bellach","Rhwymedigaethau pensiwn gweddilliol: addysg bellach","Rhwymedigaethau pensiwn gweddilliol: addysg bellach","Rhwymedigaethau pensiwn gweddilliol: addysg bellach","Rhwymedigaethau pensiwn gweddilliol: addysg bellach","Rhwymedigaethau pensiwn gweddilliol: addysg bellach",0]
["not used",null,"heb ei ddefnyddio",{"$f":"IF(ISERROR(VLOOKUP(B203,Translate!$G$3:$H$168,2,FALSE)),\"\",VLOOKUP(B203,Translate!$G$3:$H$168,2,FALSE))","v":""},{"$nulls":7},"","",null,"The Authority’s figures for the LGBI for highways’ improvements","","The Authority’s figures for the LGBI for highways’ improvements",{"$f":"VLOOKUP(Q203,Translate!$A$3:$C$1118,2,FALSE)","v":0},{"$nulls":4},"Rhwymedigaethau pensiwn gweddilliol: gwasanaethau eraill heb fod mewn ysgolion","Rhwymedigaethau pensiwn gweddilliol: gwasanaethau eraill heb fod mewn ysgolion","Rhwymedigaethau pensiwn gweddilliol: gwasanaethau eraill heb fod mewn ysgolion","Rhwymedigaethau pensiwn gweddilliol: gwasanaethau eraill heb fod mewn ysgolion","Rhwymedigaethau pensiwn gweddilliol: gwasanaethau eraill heb fod mewn ysgolion","Rhwymedigaethau pensiwn gweddilliol: gwasanaethau eraill heb fod mewn ysgolion",0]
["NOTE: Only include components relating to Icelandic bank impairment on lines 140 to 142.",null,"SYLWCH: Defnyddiwch elfennau sy'n ymwneud ag amhariad banciau Gwlad yr Iâ ar linellau 140 i 142 yn unig, ",{"$f":"IF(ISERROR(VLOOKUP(B204,Translate!$G$3:$H$168,2,FALSE)),\"\",VLOOKUP(B204,Translate!$G$3:$H$168,2,FALSE))","v":""},{"$nulls":7},"","",56,"Amount included in line 31.1 above relating to the LGBI for highways’ improvements","","Amount included in line 31.1 above relating to the LGBI for highways’ improvements",{"$f":"VLOOKUP(Q204,Translate!$A$3:$C$1118,2,FALSE)","v":0},{"$nulls":4},"Cyllideb ALl arall (nad sydd ar gyfer ysgolion)","Cyllideb ALl arall (nad sydd ar gyfer ysgolion)","Cyllideb ALl arall (nad sydd ar gyfer ysgolion)","Cyllideb ALl arall (nad sydd ar gyfer ysgolion)","Cyllideb ALl arall (nad sydd ar gyfer ysgolion)","Cyllideb ALl arall (nad sydd ar gyfer ysgolion)",0]
["NOVUS",null,"NOVUS",{"$f":"IF(ISERROR(VLOOKUP(B205,Translate!$G$3:$H$168,2,FALSE)),\"\",VLOOKUP(B205,Translate!$G$3:$H$168,2,FALSE))","v":""},{"$nulls":7},"","",null,"Please use white cells for input only","","Please use white cells for input only",{"$f":"VLOOKUP(Q205,Translate!$A$3:$C$1118,2,FALSE)","v":0},{"$nulls":4},"Cyfanswm gwariant addysg nad sydd ar gyfer ysgolion","Cyfanswm gwariant addysg nad sydd ar gyfer ysgolion","Cyfanswm gwariant addysg nad sydd ar gyfer ysgolion","Cyfanswm gwariant addysg nad sydd ar gyfer ysgolion","Cyfanswm gwariant addysg nad sydd ar gyfer ysgolion","Cyfanswm gwariant addysg nad sydd ar gyfer ysgolion",0]
["NOVUS grant",null,"Grant NOVUS",{"$f":"IF(ISERROR(VLOOKUP(B206,Translate!$G$3:$H$168,2,FALSE)),\"\",VLOOKUP(B206,Translate!$G$3:$H$168,2,FALSE))","v":""},{"$nulls":7},"","",null,"Blue cells are calculated","","Blue cells are calculated",{"$f":"VLOOKUP(Q206,Translate!$A$3:$C$1118,2,FALSE)","v":0},{"$nulls":4},"Cyfanswm gwariant refeniw ar addysg","Cyfanswm gwariant refeniw ar addysg","Cyfanswm gwariant refeniw ar addysg","Cyfanswm gwariant refeniw ar addysg","Cyfanswm gwariant refeniw ar addysg","Cyfanswm gwariant refeniw ar addysg",0]
["Number and extension:",null,"Rhif ac estyniad:",{"$f":"IF(ISERROR(VLOOKUP(B207,Translate!$G$3:$H$168,2,FALSE)),\"\",VLOOKUP(B207,Translate!$G$3:$H$168,2,FALSE))","v":""},{"$nulls":7},"","",null,"Gold cells are not used","","Gold cells are not used",{"$f":"VLOOKUP(Q207,Translate!$A$3:$C$1118,2,FALSE)","v":0},{"$nulls":4},0,0,0,0,0,0,0]
["Of which: transfers (#)",null,"Ac o hynny: trosglwyddiadau (#)",{"$f":"IF(ISERROR(VLOOKUP(B208,Translate!$G$3:$H$168,2,FALSE)),\"\",VLOOKUP(B208,Translate!$G$3:$H$168,2,FALSE))","v":""},{"$nulls":7},"","",null,"Lines 32 and 19 should be equal.  Any difference is shown here:          ","","Lines 32 and 19 should be equal.  Any difference is shown here:          ",{"$f":"VLOOKUP(Q208,Translate!$A$3:$C$1118,2,FALSE)","v":0},{"$nulls":4},0,{"$f":"IF(LEFT(W208,1)=\" \",RIGHT(W208,LEN(W208)-1),W208)","v":0},0,0,0,0,0]
["One off equal pay costs  - falling on the schools budget",null,"Costau untro cyflog cyfartal - o gyllideb yr ysgolion",{"$f":"IF(ISERROR(VLOOKUP(B209,Translate!$G$3:$H$168,2,FALSE)),\"\",VLOOKUP(B209,Translate!$G$3:$H$168,2,FALSE))","v":""},{"$nulls":7},"","",null,"On Balance Sheet PFI Financing","","On Balance Sheet PFI Financing",{"$f":"VLOOKUP(Q209,Translate!$A$3:$C$1118,2,FALSE)","v":0},{"$nulls":4},0,0,0,0,0,0,0]
["One off equal pay costs - chargeable to any other revenue account",null,"Costau untro cyflog cyfartal - o unrhyw gyfrif refeniw arall",{"$f":"IF(ISERROR(VLOOKUP(B210,Translate!$G$3:$H$168,2,FALSE)),\"\",VLOOKUP(B210,Translate!$G$3:$H$168,2,FALSE))","v":""},{"$nulls":7},"","",null,null,"","",{"$f":"VLOOKUP(Q210,Translate!$A$3:$C$1118,2,FALSE)","v":{"$error":"#N/A"}},{"$nulls":4},0,0,0,0,0,0,0]
["Other (including emergency financial assistance) (specify in list below line 999)",null,"Arall (gan gynnwys cymorth ariannol brys) (rhowch fanylion yn y rhestr o dan llinell 999)",{"$f":"IF(ISERROR(VLOOKUP(B211,Translate!$G$3:$H$168,2,FALSE)),\"\",VLOOKUP(B211,Translate!$G$3:$H$168,2,FALSE))","v":""},{"$nulls":7},"","","VALIDATIONS",null,"","",{"$f":"VLOOKUP(Q211,Translate!$A$3:$C$1118,2,FALSE)","v":{"$error":"#N/A"}},{"$nulls":4},0,0,0,0,0,0,0]
["Other (please specify)",null,"Arall (rhowch fanylion)",{"$f":"IF(ISERROR(VLOOKUP(B212,Translate!$G$3:$H$168,2,FALSE)),\"\",VLOOKUP(B212,Translate!$G$3:$H$168,2,FALSE))","v":""},{"$nulls":7},"","",null,null,"","",{"$f":"VLOOKUP(Q212,Translate!$A$3:$C$1118,2,FALSE)","v":{"$error":"#N/A"}},{"$nulls":4},0,0,0,0,0,0,0]
["OTHER COUNCIL FUND HOUSING SERVICES",null,"GWASANAETHAU ERAILL TAI CRONFA'R CYNGOR",{"$f":"IF(ISERROR(VLOOKUP(B213,Translate!$G$3:$H$168,2,FALSE)),\"\",VLOOKUP(B213,Translate!$G$3:$H$168,2,FALSE))","v":""},{"$nulls":7},"","",null,"Validation checks","","Validation checks",{"$f":"VLOOKUP(Q213,Translate!$A$3:$C$1118,2,FALSE)","v":0},{"$nulls":4},{"$f":"IF(LEFT(V213,1)=\" \",RIGHT(V213,LEN(V213)-1),V213)","v":0},{"$f":"IF(LEFT(W213,1)=\" \",1,0)","v":0}]
["Other courts services",null,"Arall - gwasanaethau llysoedd",{"$f":"IF(ISERROR(VLOOKUP(B214,Translate!$G$3:$H$168,2,FALSE)),\"\",VLOOKUP(B214,Translate!$G$3:$H$168,2,FALSE))","v":""},{"$nulls":7},"","",null,"CAPITAL FINANCING","","CAPITAL FINANCING",{"$f":"VLOOKUP(Q214,Translate!$A$3:$C$1118,2,FALSE)","v":0},{"$nulls":4},0,0]
["Other education (including emergency financial assistance) (specify in list below line 999)",null,"Arall - addysg (gan gynnwys cymorth ariannol brys) (rhowch fanylion yn y rhestr o dan llinell 999)",{"$f":"IF(ISERROR(VLOOKUP(B215,Translate!$G$3:$H$168,2,FALSE)),\"\",VLOOKUP(B215,Translate!$G$3:$H$168,2,FALSE))","v":""},{"$nulls":7},"","",1,"Line 30.1 and 30.2 greater than 0","","Line 30.1 and 30.2 greater than 0",{"$f":"VLOOKUP(Q215,Translate!$A$3:$C$1118,2,FALSE)","v":0},{"$nulls":4},0,0]
["Other education (please specify)",null,"Arall - addysg (rhowch fanylion)",{"$f":"IF(ISERROR(VLOOKUP(B216,Translate!$G$3:$H$168,2,FALSE)),\"\",VLOOKUP(B216,Translate!$G$3:$H$168,2,FALSE))","v":""},{"$nulls":7},"","",2,"Line 35 as a percentage of line 33","","Line 35 as a percentage of line 33",{"$f":"VLOOKUP(Q216,Translate!$A$3:$C$1118,2,FALSE)","v":0},{"$nulls":4},0,0]
["Other employee costs (included in line 109, column 1.20) ",null,"Arall - costau cyflogeion (wedi'i gynnwys yn llinell 109, colofn 1.20)",{"$f":"IF(ISERROR(VLOOKUP(B217,Translate!$G$3:$H$168,2,FALSE)),\"\",VLOOKUP(B217,Translate!$G$3:$H$168,2,FALSE))","v":""},{"$nulls":7},"","",3,"Line 38 + line 39 greater than 0","","Line 38 + line 39 greater than 0",{"$f":"VLOOKUP(Q217,Translate!$A$3:$C$1118,2,FALSE)","v":0},{"$nulls":4},0,0]
["Other highways, roads and transport (please specify)",null,"Arall - priffyrdd, ffyrdd a thranfnidiaeth (rhowch fanylion)",{"$f":"IF(ISERROR(VLOOKUP(B218,Translate!$G$3:$H$168,2,FALSE)),\"\",VLOOKUP(B218,Translate!$G$3:$H$168,2,FALSE))","v":""},{"$nulls":7},"","",4,"Line 38 + line 39 as a percentage of line 33",{"$f":"IF(ISERROR(FIND(\" (line\",O218)),\"\",RIGHT(O218,LEN(O218)-FIND(\" (line\",O218)))","v":""},"Line 38 + line 39 as a percentage of line 33",{"$f":"VLOOKUP(Q218,Translate!$A$3:$C$1118,2,FALSE)","v":0},{"$nulls":4},0,0]
["Other home office and Lord Chancellor's Department (please specify)",null,"Arall - y Swyddfa Gartref ac Adran yr Arglwydd Ganghellor (rhowch fanylion)",{"$f":"IF(ISERROR(VLOOKUP(B219,Translate!$G$3:$H$168,2,FALSE)),\"\",VLOOKUP(B219,Translate!$G$3:$H$168,2,FALSE))","v":""},{"$nulls":7},"","",5,"Line 40 or 43 greater than 1","","Line 40 or 43 greater than 1",{"$f":"VLOOKUP(Q219,Translate!$A$3:$C$1118,2,FALSE)","v":0},{"$nulls":4},0,0]
["Other Home Office, Department for Constitutional Affairs and Unified Courts Administration (specify on last page)",null,"Arall - y Swyddfa Gartref, yr Adran Materion Cyfansoddiadol a Gweinyddiaeth y Llysoedd Unedig (rhowch fanylion ar y dudalen olaf)",{"$f":"IF(ISERROR(VLOOKUP(B220,Translate!$G$3:$H$168,2,FALSE)),\"\",VLOOKUP(B220,Translate!$G$3:$H$168,2,FALSE))","v":""},{"$nulls":7},"","",6,"Line 41 + line 42 greater than 0","","Line 41 + line 42 greater than 0",{"$f":"VLOOKUP(Q220,Translate!$A$3:$C$1118,2,FALSE)","v":0},{"$nulls":4},0,0]
["Other housing (including Bellwin scheme grants covering housing expenditure) (please specify)",null,"Arall - tai (gan gynnwys grantiau Cynllun Bellwin ar gyfer gwariant tai) (rhowch fanylion) ",{"$f":"IF(ISERROR(VLOOKUP(B221,Translate!$G$3:$H$168,2,FALSE)),\"\",VLOOKUP(B221,Translate!$G$3:$H$168,2,FALSE))","v":""},{"$nulls":7},"","",7,"Line 44 greater than or equal to line 38 + line 39","","Line 44 greater than or equal to line 38 + line 39",{"$f":"VLOOKUP(Q221,Translate!$A$3:$C$1118,2,FALSE)","v":0},{"$nulls":4},0,0]
["Other housing (including Emergency Financial Assistance) (specify in list below line 999)",null,"Arall - tai (gan gynnwys Cymorth Ariannol Brys) (rhowch fanylion yn y rhestr o dan llinell 999)",{"$f":"IF(ISERROR(VLOOKUP(B222,Translate!$G$3:$H$168,2,FALSE)),\"\",VLOOKUP(B222,Translate!$G$3:$H$168,2,FALSE))","v":""},{"$nulls":7},"","",8,"Line 45 greater than or equal to line 44","","Line 45 greater than or equal to line 44",{"$f":"VLOOKUP(Q222,Translate!$A$3:$C$1118,2,FALSE)","v":0},{"$nulls":4},0,0]
["Other NDC costs",null,"Arall - Costau heb eu dosbarthu",{"$f":"IF(ISERROR(VLOOKUP(B223,Translate!$G$3:$H$168,2,FALSE)),\"\",VLOOKUP(B223,Translate!$G$3:$H$168,2,FALSE))","v":""},{"$nulls":7},"","",9,"Line 47 greater than or equal to line 46","","Line 47 greater than or equal to line 46",{"$f":"VLOOKUP(Q223,Translate!$A$3:$C$1118,2,FALSE)","v":0},{"$nulls":4},0,0]
["Other road and transport (specify on last page)",null,"Arall - ffyrdd a thrafnidiaeth (rhowch fanylion ar y dudalen olaf)",{"$f":"IF(ISERROR(VLOOKUP(B224,Translate!$G$3:$H$168,2,FALSE)),\"\",VLOOKUP(B224,Translate!$G$3:$H$168,2,FALSE))","v":""},{"$nulls":7},"","",10,"Line 46 greater than or equal to line 41 + line 42","","Line 46 greater than or equal to line 41 + line 42",{"$f":"VLOOKUP(Q224,Translate!$A$3:$C$1118,2,FALSE)","v":0},{"$nulls":4},0,0]
["Other Services",null,"Gwasanaethau Eraill",{"$f":"IF(ISERROR(VLOOKUP(B225,Translate!$G$3:$H$168,2,FALSE)),\"\",VLOOKUP(B225,Translate!$G$3:$H$168,2,FALSE))","v":""},{"$nulls":7},"","",11,"Line 45 greater than or equal to line 37","","Line 45 greater than or equal to line 37",{"$f":"VLOOKUP(Q225,Translate!$A$3:$C$1118,2,FALSE)","v":0},{"$nulls":4},0,0]
["Other social service (including Bellwin scheme covering social service expenditure) (please specify)",null,"Arall - gwasanaethau cymdeithasol (gan gynnwys Cynllun Bellwin ar gyfer gwariant gwasanaethau cymdeithasol) (rhowch fanylion)",{"$f":"IF(ISERROR(VLOOKUP(B226,Translate!$G$3:$H$168,2,FALSE)),\"\",VLOOKUP(B226,Translate!$G$3:$H$168,2,FALSE))","v":""},{"$nulls":7},"","",12,"Line 47 greater than or equal to line 37","","Line 47 greater than or equal to line 37",{"$f":"VLOOKUP(Q226,Translate!$A$3:$C$1118,2,FALSE)","v":0},{"$nulls":4},0,0]
["Other social services (including emergency financial assistance) (specify in list below line 999)",null,"Arall - gwasanaethau cymdeithasol (gan gynnwys cymorth ariannol brys) (rhowch fanylion yn y rhestr o dan llinell 999)",{"$f":"IF(ISERROR(VLOOKUP(B227,Translate!$G$3:$H$168,2,FALSE)),\"\",VLOOKUP(B227,Translate!$G$3:$H$168,2,FALSE))","v":""},{"$nulls":7},"","",13,"Line 48 less than half of line 38 + line 39","","Line 48 less than half of line 38 + line 39",{"$f":"VLOOKUP(Q227,Translate!$A$3:$C$1118,2,FALSE)","v":0},{"$nulls":4},0,0]
["Other welfare services",null,"Arall - gwasanaethau lles",{"$f":"IF(ISERROR(VLOOKUP(B228,Translate!$G$3:$H$168,2,FALSE)),\"\",VLOOKUP(B228,Translate!$G$3:$H$168,2,FALSE))","v":""},{"$nulls":7},"","",14,"Line 49 + less than half of line 41 + line 42","","Line 49 + less than half of line 41 + line 42",{"$f":"VLOOKUP(Q228,Translate!$A$3:$C$1118,2,FALSE)","v":0},{"$nulls":4},0,0]
["Out of school child care",null,"Gofal plant y tu allan i oriau ysgol ",{"$f":"IF(ISERROR(VLOOKUP(B229,Translate!$G$3:$H$168,2,FALSE)),\"\",VLOOKUP(B229,Translate!$G$3:$H$168,2,FALSE))","v":""},{"$nulls":7},"","",15,"Line 43 greater than 0","","Line 43 greater than 0",{"$f":"VLOOKUP(Q229,Translate!$A$3:$C$1118,2,FALSE)","v":0},{"$nulls":4},0,0]
["Out of School Childcare",null,"Gofal Plant y Tu Allan i Oriau Ysgol ",{"$f":"IF(ISERROR(VLOOKUP(B230,Translate!$G$3:$H$168,2,FALSE)),\"\",VLOOKUP(B230,Translate!$G$3:$H$168,2,FALSE))","v":""},{"$nulls":7},"","",16,"Line 44 greater than 0","","Line 44 greater than 0",{"$f":"VLOOKUP(Q230,Translate!$A$3:$C$1118,2,FALSE)","v":0},{"$nulls":4},0,0]
["Outcome agreement grant (formally IAG)",null,"Grant cytundeb canlyniadau (Grant Cytundeb Gwella yn flaenorol)",{"$f":"IF(ISERROR(VLOOKUP(B231,Translate!$G$3:$H$168,2,FALSE)),\"\",VLOOKUP(B231,Translate!$G$3:$H$168,2,FALSE))","v":""},{"$nulls":7},"","",17,"Line 45 greater than 0","","Line 45 greater than 0",{"$f":"VLOOKUP(Q231,Translate!$A$3:$C$1118,2,FALSE)","v":0},{"$nulls":4},0,0]
["PE & school sports (PESS)",null,"Addysg gorfforol a chwaraeon mewn ysgolion",{"$f":"IF(ISERROR(VLOOKUP(B232,Translate!$G$3:$H$168,2,FALSE)),\"\",VLOOKUP(B232,Translate!$G$3:$H$168,2,FALSE))","v":""},{"$nulls":7},"","",18,"Line 46 greater than 0","","Line 46 greater than 0",{"$f":"VLOOKUP(Q232,Translate!$A$3:$C$1118,2,FALSE)","v":0},{"$nulls":4},0,0]
["Planning improvement fund for local planning authorities",null,"Y gronfa gwella cynllunio ar gyfer awdurdodau cynllunio lleol",{"$f":"IF(ISERROR(VLOOKUP(B233,Translate!$G$3:$H$168,2,FALSE)),\"\",VLOOKUP(B233,Translate!$G$3:$H$168,2,FALSE))","v":""},{"$nulls":7},"","",19,"Line 47 greater than 0","","Line 47 greater than 0",{"$f":"VLOOKUP(Q233,Translate!$A$3:$C$1118,2,FALSE)","v":0},{"$nulls":4},0,0]
["Please ensure that all blank cells are populated with zeros.  It is a Welsh Government audit requirement that all cells are completed.",null,"Gwnewch yn siŵr fod sero ym mhob cell wag. Mae'n un o ofynion archwiliadau Llywodraeth Cymru fod pob cell yn cael ei llenwi. ",{"$f":"IF(ISERROR(VLOOKUP(B234,Translate!$G$3:$H$168,2,FALSE)),\"\",VLOOKUP(B234,Translate!$G$3:$H$168,2,FALSE))","v":""},{"$nulls":7},"","",null,"Difference","","Difference",{"$f":"VLOOKUP(Q234,Translate!$A$3:$C$1118,2,FALSE)","v":0},{"$nulls":4},0,0]
["Please give the name and telephone number of the person who we may contact in case of queries:-",null,"Rhowch enw a rhif ffôn y person y gallwn gysylltu â hwy ar gyfer ymholiadau:-",{"$f":"IF(ISERROR(VLOOKUP(B235,Translate!$G$3:$H$168,2,FALSE)),\"\",VLOOKUP(B235,Translate!$G$3:$H$168,2,FALSE))","v":""},{"$nulls":7},"","",null,"cyfanswm","","cyfanswm",{"$f":"VLOOKUP(Q235,Translate!$A$3:$C$1118,2,FALSE)","v":{"$error":"#N/A"}},{"$nulls":4},0,0]
["Please select your authority from the dropdown box on the FrontPage",null,"Dewiswch eich awdurdod o'r gwymplen ar y dudalen flaen",{"$f":"IF(ISERROR(VLOOKUP(B236,Translate!$G$3:$H$168,2,FALSE)),\"\",VLOOKUP(B236,Translate!$G$3:$H$168,2,FALSE))","v":""},{"$nulls":7},"","",null,"comment","","comment",{"$f":"VLOOKUP(Q236,Translate!$A$3:$C$1118,2,FALSE)","v":0},{"$nulls":4},0,0]
["Police and Home Office",null,"Yr Heddlu a'r Swyddfa Gartref",{"$f":"IF(ISERROR(VLOOKUP(B237,Translate!$G$3:$H$168,2,FALSE)),\"\",VLOOKUP(B237,Translate!$G$3:$H$168,2,FALSE))","v":""},{"$nulls":7},"","",null,"Please comment below if necessary","","Please comment below if necessary",{"$f":"VLOOKUP(Q237,Translate!$A$3:$C$1118,2,FALSE)","v":0},{"$nulls":4},0,0]
["Police community support officers grant from the Welsh Government (police only)",null,"Grant swyddogion cymorth cymunedol yr heddlu gan Lywodraeth Cymru (yr heddlu yn unig)",{"$f":"IF(ISERROR(VLOOKUP(B238,Translate!$G$3:$H$168,2,FALSE)),\"\",VLOOKUP(B238,Translate!$G$3:$H$168,2,FALSE))","v":""},{"$nulls":7},"","",null,"Please comment","","Please comment",{"$f":"VLOOKUP(Q238,Translate!$A$3:$C$1118,2,FALSE)","v":0},{"$nulls":4},0,0]
["Police innovation fund (police only)",null,"Cronfa arloesi yr heddlu (yr heddlu yn unig)",{"$f":"IF(ISERROR(VLOOKUP(B239,Translate!$G$3:$H$168,2,FALSE)),\"\",VLOOKUP(B239,Translate!$G$3:$H$168,2,FALSE))","v":""},{"$nulls":7},"","",null,"Clear","","Clear",{"$f":"VLOOKUP(Q239,Translate!$A$3:$C$1118,2,FALSE)","v":0},{"$nulls":4},0,0]
["Post-16 provision in schools",null,"Darpariaeth ôl-16 mewn ysgolion",{"$f":"IF(ISERROR(VLOOKUP(B240,Translate!$G$3:$H$168,2,FALSE)),\"\",VLOOKUP(B240,Translate!$G$3:$H$168,2,FALSE))","v":""},{"$nulls":7},"","","NARRATIVE",null,"","",{"$f":"VLOOKUP(Q240,Translate!$A$3:$C$1118,2,FALSE)","v":{"$error":"#N/A"}},{"$nulls":4},0,0]
["Public transport",null,"Trafnidiaeth gyhoeddus",{"$f":"IF(ISERROR(VLOOKUP(B241,Translate!$G$3:$H$168,2,FALSE)),\"\",VLOOKUP(B241,Translate!$G$3:$H$168,2,FALSE))","v":""},{"$nulls":7},"","",null,"Please use the box below to give a brief supporting narrative of any major change in circumstances that might have an influence on","","Please use the box below to give a brief supporting narrative of any major change in circumstances that might have an influence on",{"$f":"VLOOKUP(Q241,Translate!$A$3:$C$1118,2,FALSE)","v":0},{"$nulls":4},0,0]
["Pupil deprivation grant",null,"Grant amddifadedd disgyblion",{"$f":"IF(ISERROR(VLOOKUP(B242,Translate!$G$3:$H$168,2,FALSE)),\"\",VLOOKUP(B242,Translate!$G$3:$H$168,2,FALSE))","v":""},{"$nulls":7},"","",null,"forecast figures around this time.","","forecast figures around this time.",{"$f":"VLOOKUP(Q242,Translate!$A$3:$C$1118,2,FALSE)","v":0},{"$nulls":4},0,0]
["Recreation and sport (including sports council)",null,"Hamdden a chwaraeon (gan gynnwys cyngor chwaraeon)",{"$f":"IF(ISERROR(VLOOKUP(B243,Translate!$G$3:$H$168,2,FALSE)),\"\",VLOOKUP(B243,Translate!$G$3:$H$168,2,FALSE))","v":""},{"$nulls":7},"","",null,"For example, significant changes or shifts in forecasts could be caused by: delays to projects, changing priorities for capital investment","","For example, significant changes or shifts in forecasts could be caused by: delays to projects, changing priorities for capital investment",{"$f":"VLOOKUP(Q243,Translate!$A$3:$C$1118,2,FALSE)","v":0},{"$nulls":4},0,0]
["Regional collaboration grant",null,"Grant cydweithredu rhanbarthol ",{"$f":"IF(ISERROR(VLOOKUP(B244,Translate!$G$3:$H$168,2,FALSE)),\"\",VLOOKUP(B244,Translate!$G$3:$H$168,2,FALSE))","v":""},{"$nulls":7},"","",null,"or to tentatively identify any capital expenditure which may need to be covered by a capitalisation direction.","","or to tentatively identify any capital expenditure which may need to be covered by a capitalisation direction.",{"$f":"VLOOKUP(Q244,Translate!$A$3:$C$1118,2,FALSE)","v":0},{"$nulls":4},0,0]
["Regional Transport Services Grant",null,"Grant Gwasanaethau Trafnidiaeth Rhanbarthol",{"$f":"IF(ISERROR(VLOOKUP(B245,Translate!$G$3:$H$168,2,FALSE)),\"\",VLOOKUP(B245,Translate!$G$3:$H$168,2,FALSE))","v":""},{"$nulls":7},"","",null,null,"","",{"$f":"VLOOKUP(Q245,Translate!$A$3:$C$1118,2,FALSE)","v":{"$error":"#N/A"}},{"$nulls":4},0,0]
["Registration of births, marriages and deaths",null,"Cofrestru genedigaethau, priodasau a marwolaethau",{"$f":"IF(ISERROR(VLOOKUP(B246,Translate!$G$3:$H$168,2,FALSE)),\"\",VLOOKUP(B246,Translate!$G$3:$H$168,2,FALSE))","v":""},{"$nulls":7},"","",null,"Survey Response Burden","","Survey Response Burden",{"$f":"VLOOKUP(Q246,Translate!$A$3:$C$1118,2,FALSE)","v":0},{"$nulls":4},0,0]
["Rent rebates granted to HRA tenants",null,"Ad-daliadau rhent a ganiatawyd i denantiaid HRA",{"$f":"IF(ISERROR(VLOOKUP(B247,Translate!$G$3:$H$168,2,FALSE)),\"\",VLOOKUP(B247,Translate!$G$3:$H$168,2,FALSE))","v":""},{"$nulls":7},"","",null,"The Welsh Government are monitoring the burden of completing this data collection form. ","","The Welsh Government are monitoring the burden of completing this data collection form. ",{"$f":"VLOOKUP(Q247,Translate!$A$3:$C$1118,2,FALSE)","v":0},{"$nulls":4},0,0]
["Revenue Outturn",null,"Alldro Refeniw",{"$f":"IF(ISERROR(VLOOKUP(B248,Translate!$G$3:$H$168,2,FALSE)),\"\",VLOOKUP(B248,Translate!$G$3:$H$168,2,FALSE))","v":""},{"$nulls":7},"","",null,"Please enter the time it has taken you (and any colleagues) to prepare and send the return.","","Please enter the time it has taken you (and any colleagues) to prepare and send the return.",{"$f":"VLOOKUP(Q248,Translate!$A$3:$C$1118,2,FALSE)","v":0},{"$nulls":4},0,0]
["Revised general central support (after council tax was set)",null,"Cymorth canolog cyffredinol diwygiedig (ar ôl pennu'r dreth gyngor)",{"$f":"IF(ISERROR(VLOOKUP(B249,Translate!$G$3:$H$168,2,FALSE)),\"\",VLOOKUP(B249,Translate!$G$3:$H$168,2,FALSE))","v":""},{"$nulls":7},"","",null,"Please only include time spent on activities to prepare and send this return, such as:","","Please only include time spent on activities to prepare and send this return, such as:",{"$f":"VLOOKUP(Q249,Translate!$A$3:$C$1118,2,FALSE)","v":0},{"$nulls":4},0,0]
["Revised police grant allocation under principal formula (after council tax was set)",null,"Dyraniad diwygiedig grant yr heddlu o dan y prif fformiwla (ar ôl pennu'r dreth gyngor)",{"$f":"IF(ISERROR(VLOOKUP(B250,Translate!$G$3:$H$168,2,FALSE)),\"\",VLOOKUP(B250,Translate!$G$3:$H$168,2,FALSE))","v":""},{"$nulls":7},"","",null,"collection, analysis and aggregation of records and data required;","","collection, analysis and aggregation of records and data required;",{"$f":"VLOOKUP(Q250,Translate!$A$3:$C$1118,2,FALSE)","v":0},{"$nulls":4},0,0]
["Revised redistributed non-domestic rates income (after council tax was set)",null,"incwm diwygiedig ardrethi annomestig a ailddoabrthwyd (ar ôl pennu'r dreth gyngor)",{"$f":"IF(ISERROR(VLOOKUP(B251,Translate!$G$3:$H$168,2,FALSE)),\"\",VLOOKUP(B251,Translate!$G$3:$H$168,2,FALSE))","v":""},{"$nulls":7},"","",null,"completing, checking, amending and approving the form.","","completing, checking, amending and approving the form.",{"$f":"VLOOKUP(Q251,Translate!$A$3:$C$1118,2,FALSE)","v":0},{"$nulls":4},0,0]
["Revised revenue support grant (after council tax was set)",null,"Grant cynnal refeniw diwygiedig (ar ôl pennu'r dreth gyngor)",{"$f":"IF(ISERROR(VLOOKUP(B252,Translate!$G$3:$H$168,2,FALSE)),\"\",VLOOKUP(B252,Translate!$G$3:$H$168,2,FALSE))","v":""},{"$nulls":7},"","",null,"Hours taken","","Hours taken",{"$f":"VLOOKUP(Q252,Translate!$A$3:$C$1118,2,FALSE)","v":0},{"$nulls":4},0,0]
["Road Safety Grant",null,"Grant Diogelwch ar y Ffyrdd",{"$f":"IF(ISERROR(VLOOKUP(B253,Translate!$G$3:$H$168,2,FALSE)),\"\",VLOOKUP(B253,Translate!$G$3:$H$168,2,FALSE))","v":""},{"$nulls":7},"","",null,"Please feel free to add any comments","","Please feel free to add any comments",{"$f":"VLOOKUP(Q253,Translate!$A$3:$C$1118,2,FALSE)","v":0},{"$nulls":4},0,0]
["Running expenses",null,"Treuliau rhedeg",{"$f":"IF(ISERROR(VLOOKUP(B254,Translate!$G$3:$H$168,2,FALSE)),\"\",VLOOKUP(B254,Translate!$G$3:$H$168,2,FALSE))","v":""},{"$nulls":7},"","",null,"Comments","","Comments",{"$f":"VLOOKUP(Q254,Translate!$A$3:$C$1118,2,FALSE)","v":0},{"$nulls":4},0,0]
["Safer communities fund",null,"Cronfa cymunedau mwy diogel",{"$f":"IF(ISERROR(VLOOKUP(B255,Translate!$G$3:$H$168,2,FALSE)),\"\",VLOOKUP(B255,Translate!$G$3:$H$168,2,FALSE))","v":""},{"$nulls":7},"","",null,"Click the link below for notes for guidance for individual forms (Web access required)","","Click the link below for notes for guidance for individual forms (Web access required)",{"$f":"VLOOKUP(Q255,Translate!$A$3:$C$1118,2,FALSE)","v":0},{"$nulls":4},0,0]
["School effectiveness grant",null,"Grant effeithiolrwydd ysgolion",{"$f":"IF(ISERROR(VLOOKUP(B256,Translate!$G$3:$H$168,2,FALSE)),\"\",VLOOKUP(B256,Translate!$G$3:$H$168,2,FALSE))","v":""},{"$nulls":7},"","",null,"Notes for guidance hyperlink","","Notes for guidance hyperlink",{"$f":"VLOOKUP(Q256,Translate!$A$3:$C$1118,2,FALSE)","v":0},{"$nulls":4},0,0]
["School uniform grant",null,"Grant gwisg ysgol",{"$f":"IF(ISERROR(VLOOKUP(B257,Translate!$G$3:$H$168,2,FALSE)),\"\",VLOOKUP(B257,Translate!$G$3:$H$168,2,FALSE))","v":""},{"$nulls":7},"","",null,"We are continually striving to improve the form to make it easier to complete, whilst still ensuring data integrity and consistency across all authorities. If you have any comments or suggestions that may be useful,  please note them below:","","We are continually striving to improve the form to make it easier to complete, whilst still ensuring data integrity and consistency across all authorities. If you have any comments or suggestions that may be useful,  please note them below:",{"$f":"VLOOKUP(Q257,Translate!$A$3:$C$1118,2,FALSE)","v":0},{"$nulls":4},0,0]
["Service",null,"Gwasanaeth",{"$f":"IF(ISERROR(VLOOKUP(B258,Translate!$G$3:$H$168,2,FALSE)),\"\",VLOOKUP(B258,Translate!$G$3:$H$168,2,FALSE))","v":""},{"$nulls":7},"","",null,"Form Design","","Form Design",{"$f":"VLOOKUP(Q258,Translate!$A$3:$C$1118,2,FALSE)","v":0},{"$nulls":4},0,0]
["Service strategy adult services",null,"Strategaeth gwasanaethau oedolion",{"$f":"IF(ISERROR(VLOOKUP(B259,Translate!$G$3:$H$168,2,FALSE)),\"\",VLOOKUP(B259,Translate!$G$3:$H$168,2,FALSE))","v":""},{"$nulls":7},{"$f":"IF(ISERROR(FIND(\"=\",O259)),\"\",RIGHT(O259,LEN(O259)-FIND(\"=\",O259)+3))","v":""},{"$f":"IF(ISERROR(FIND(\" (include\",O259)),\"\",RIGHT(O259,LEN(O259)-FIND(\" (include\",O259)))","v":""},null,"Validation","",{"$f":"LEFT(O259,LEN(O259)-LEN(P259))","v":"Validation"},{"$f":"VLOOKUP(Q259,Translate!$A$3:$C$1118,2,FALSE)","v":0},{"$nulls":4},0,0]
["Social care workforce development programme",null,"Rhaglen datblygu'r gweithlu gofal cymdeithasol",{"$f":"IF(ISERROR(VLOOKUP(B260,Translate!$G$3:$H$168,2,FALSE)),\"\",VLOOKUP(B260,Translate!$G$3:$H$168,2,FALSE))","v":""},{"$nulls":7},"","",null,"Documentation","",{"$f":"LEFT(O260,LEN(O260)-LEN(P260))","v":"Documentation"},{"$f":"VLOOKUP(Q260,Translate!$A$3:$C$1118,2,FALSE)","v":0},{"$nulls":4},0,0]
["Social services - adults aged under 65 ",null,"Gwasanaethau cymdeithasol - oedolion o dan 65 oed",{"$f":"IF(ISERROR(VLOOKUP(B261,Translate!$G$3:$H$168,2,FALSE)),\"\",VLOOKUP(B261,Translate!$G$3:$H$168,2,FALSE))","v":""},{"$nulls":7},"","",null,"General comments","",{"$f":"LEFT(O261,LEN(O261)-LEN(P261))","v":"General comments"},{"$f":"VLOOKUP(Q261,Translate!$A$3:$C$1118,2,FALSE)","v":0},{"$nulls":4},0,0]
["Social services - children and families services",null,"Gwasanaethau cymdeithasol - gwasanaethau plant a theuluoedd",{"$f":"IF(ISERROR(VLOOKUP(B262,Translate!$G$3:$H$168,2,FALSE)),\"\",VLOOKUP(B262,Translate!$G$3:$H$168,2,FALSE))","v":""},{"$nulls":7},"","",{"$nulls":9},0,0]
["Specialist ring fenced accounts",null,"Cyfrifon arbenigol wedi'u clustnodi",{"$f":"IF(ISERROR(VLOOKUP(B263,Translate!$G$3:$H$168,2,FALSE)),\"\",VLOOKUP(B263,Translate!$G$3:$H$168,2,FALSE))","v":""},{"$nulls":7},"","",{"$nulls":9},0,0]
["Subjective breakdown of gross expenditure on central services, precepts and levies",null,"Dadansoddiad yn ôl pwnc o'r  gwariant gros ar wasanaethau canolog, praeseptau ac ardollau",{"$f":"IF(ISERROR(VLOOKUP(B264,Translate!$G$3:$H$168,2,FALSE)),\"\",VLOOKUP(B264,Translate!$G$3:$H$168,2,FALSE))","v":""},{"$nulls":7},"","",{"$nulls":9},0,0]
["Subjective breakdown of gross expenditure on council fund housing services",null,"Dadansoddiad yn ôl pwnc o'r gwariant gros ar wasanaethau tai cronfa'r cyngor",{"$f":"IF(ISERROR(VLOOKUP(B265,Translate!$G$3:$H$168,2,FALSE)),\"\",VLOOKUP(B265,Translate!$G$3:$H$168,2,FALSE))","v":""},{"$nulls":7},"","",{"$nulls":9},0,0]
["Subjective breakdown of gross expenditure on environmental services",null,"Dadansoddiad yn ôl pwnc o'r gwariant gros ar wasanaethau amgylcheddol",{"$f":"IF(ISERROR(VLOOKUP(B266,Translate!$G$3:$H$168,2,FALSE)),\"\",VLOOKUP(B266,Translate!$G$3:$H$168,2,FALSE))","v":""},{"$nulls":7},"","",{"$nulls":9},0,0]
["Subjective breakdown of gross expenditure on fire services",null,"Dadansoddiad yn ôl pwnc o'r gwariant gros ar wasanaethau tân",{"$f":"IF(ISERROR(VLOOKUP(B267,Translate!$G$3:$H$168,2,FALSE)),\"\",VLOOKUP(B267,Translate!$G$3:$H$168,2,FALSE))","v":""},{"$nulls":7},"","",{"$nulls":9},0,0]
["Subjective breakdown of gross expenditure on national parks' services",null,"Dadansoddiad yn ôl pwnc o'r gwariant gros ar wasanaethau parciau cenedlaethol",{"$f":"IF(ISERROR(VLOOKUP(B268,Translate!$G$3:$H$168,2,FALSE)),\"\",VLOOKUP(B268,Translate!$G$3:$H$168,2,FALSE))","v":""},{"$nulls":7},"","",{"$nulls":9},0,0]
["Subjective breakdown of gross expenditure on planning and development and court services",null,"Dadansoddiad yn ôl pwnc o'r gwariant gros ar gynllunio a datblygu, a gwasanaethau llyosedd",{"$f":"IF(ISERROR(VLOOKUP(B269,Translate!$G$3:$H$168,2,FALSE)),\"\",VLOOKUP(B269,Translate!$G$3:$H$168,2,FALSE))","v":""},{"$nulls":7},"","",{"$nulls":9},0,0]
["Subjective breakdown of gross expenditure on police services",null,"Dadansoddiad yn ôl pwnc o'r gwariant gros ar wasanaethau'r heddlu",{"$f":"IF(ISERROR(VLOOKUP(B270,Translate!$G$3:$H$168,2,FALSE)),\"\",VLOOKUP(B270,Translate!$G$3:$H$168,2,FALSE))","v":""},{"$nulls":7},"","",{"$nulls":9},0,0]
["Substance Mis-use Action Fund",null,"Cronfa Weithredu ar Gamddefnyddio Sylweddau",{"$f":"IF(ISERROR(VLOOKUP(B271,Translate!$G$3:$H$168,2,FALSE)),\"\",VLOOKUP(B271,Translate!$G$3:$H$168,2,FALSE))","v":""},{"$nulls":7},"","",{"$nulls":9},0,0]
["Substance misuse action fund (SMAF)",null,"Cronfa weithredu ar gamddefnyddio sylweddau ",{"$f":"IF(ISERROR(VLOOKUP(B272,Translate!$G$3:$H$168,2,FALSE)),\"\",VLOOKUP(B272,Translate!$G$3:$H$168,2,FALSE))","v":""},{"$nulls":7},"","",{"$nulls":9},0,0]
["Substance misuse action fund (SMAF) (other)",null,"Cronfa weithredu ar gamddefnyddio sylweddau (arall)",{"$f":"IF(ISERROR(VLOOKUP(B273,Translate!$G$3:$H$168,2,FALSE)),\"\",VLOOKUP(B273,Translate!$G$3:$H$168,2,FALSE))","v":""},{"$nulls":7},"","",{"$nulls":9},0,0]
["Supporting people (housing)",null,"Cefnogi pobl (tai)",{"$f":"IF(ISERROR(VLOOKUP(B274,Translate!$G$3:$H$168,2,FALSE)),\"\",VLOOKUP(B274,Translate!$G$3:$H$168,2,FALSE))","v":""},{"$nulls":7},"","",{"$nulls":9},0,0]
["Supporting people (social services)",null,"Cefnogi pobl (gwasanaethau cymdeithasol)",{"$f":"IF(ISERROR(VLOOKUP(B275,Translate!$G$3:$H$168,2,FALSE)),\"\",VLOOKUP(B275,Translate!$G$3:$H$168,2,FALSE))","v":""},{"$nulls":7},"","",{"$nulls":9},0,0]
["Teacher costs (line 109, column 1.10)",null,"Costau athrawon (llinell 109, colofn 1.10)",{"$f":"IF(ISERROR(VLOOKUP(B276,Translate!$G$3:$H$168,2,FALSE)),\"\",VLOOKUP(B276,Translate!$G$3:$H$168,2,FALSE))","v":""},{"$nulls":7},"","",{"$nulls":9},0,0]
["Telephone: 029 2082 - (5673 or 3963)",null,"Ffôn: 029 2082 - (5673 neu 3963)",{"$f":"IF(ISERROR(VLOOKUP(B277,Translate!$G$3:$H$168,2,FALSE)),\"\",VLOOKUP(B277,Translate!$G$3:$H$168,2,FALSE))","v":""},{"$nulls":7},"","",{"$nulls":9},{"$f":"IF(LEFT(V277,1)=\" \",RIGHT(V277,LEN(V277)-1),V277)","v":0},{"$f":"IF(LEFT(W277,1)=\" \",1,0)","v":0}]
["Telephone: STD code:",null,"Ffôn: Cod STD:",{"$f":"IF(ISERROR(VLOOKUP(B278,Translate!$G$3:$H$168,2,FALSE)),\"\",VLOOKUP(B278,Translate!$G$3:$H$168,2,FALSE))","v":""},{"$nulls":7},"","",{"$nulls":9},0,0]
["This form should be completed on a non-FRS17 and PFI \"Off Balance Sheet\" basis.",null,"Dylid llenwi'r ffurflen hon heb fod ar sail FRS17 ac ar sail Menter Cyllid Preifat (PFI) \"oddi ar y fantolen\"",{"$f":"IF(ISERROR(VLOOKUP(B279,Translate!$G$3:$H$168,2,FALSE)),\"\",VLOOKUP(B279,Translate!$G$3:$H$168,2,FALSE))","v":""},{"$nulls":7},"","",{"$nulls":9},0,0]
["Tidy towns grant",null,"Grant trefi taclus",{"$f":"IF(ISERROR(VLOOKUP(B280,Translate!$G$3:$H$168,2,FALSE)),\"\",VLOOKUP(B280,Translate!$G$3:$H$168,2,FALSE))","v":""},{"$nulls":7},"","",{"$nulls":9},0,0]
["Total adults aged under 65 with learning disabilities",null,"Cyfanswm yr oedolion o dan 65 oed sydd ag anableddau dysgu ",{"$f":"IF(ISERROR(VLOOKUP(B281,Translate!$G$3:$H$168,2,FALSE)),\"\",VLOOKUP(B281,Translate!$G$3:$H$168,2,FALSE))","v":""},{"$nulls":7},"","",{"$nulls":9},0,0]
["Total adults aged under 65 with mental health needs",null,"Cyfanswm yr oedolion o dan 65 oed sydd ag anghenion iechyd meddwl",{"$f":"IF(ISERROR(VLOOKUP(B282,Translate!$G$3:$H$168,2,FALSE)),\"\",VLOOKUP(B282,Translate!$G$3:$H$168,2,FALSE))","v":""},{"$nulls":7},"","",{"$nulls":9},0,0]
["Total central services",null,"Cyfanswm gwasanaethau canolog",{"$f":"IF(ISERROR(VLOOKUP(B283,Translate!$G$3:$H$168,2,FALSE)),\"\",VLOOKUP(B283,Translate!$G$3:$H$168,2,FALSE))","v":""},{"$nulls":7},"","",{"$nulls":9},0,0]
["Total central services to the public",null,"Cyfanswm gwasanaethau canolog i'r cyhoedd",{"$f":"IF(ISERROR(VLOOKUP(B284,Translate!$G$3:$H$168,2,FALSE)),\"\",VLOOKUP(B284,Translate!$G$3:$H$168,2,FALSE))","v":""},{"$nulls":7},"","",{"$nulls":9},0,0]
["Total community safety",null,"Cyfanswm diogelwch cymunedol",{"$f":"IF(ISERROR(VLOOKUP(B285,Translate!$G$3:$H$168,2,FALSE)),\"\",VLOOKUP(B285,Translate!$G$3:$H$168,2,FALSE))","v":""},{"$nulls":7},"","",{"$nulls":9},0,0]
["Total conservation",null,"Cyfanswm cadwraeth",{"$f":"IF(ISERROR(VLOOKUP(B286,Translate!$G$3:$H$168,2,FALSE)),\"\",VLOOKUP(B286,Translate!$G$3:$H$168,2,FALSE))","v":""},{"$nulls":7},"","",{"$nulls":9},0,0]
["Total contributing councils",null,"Cyfanswm cynghorau sy'n cyfrannu",{"$f":"IF(ISERROR(VLOOKUP(B287,Translate!$G$3:$H$168,2,FALSE)),\"\",VLOOKUP(B287,Translate!$G$3:$H$168,2,FALSE))","v":""},{"$nulls":7},"","",{"$nulls":9},0,0]
["Total contributing councils",null,"Cyfanswm cynghorau sy'n cyfrannu",{"$f":"IF(ISERROR(VLOOKUP(B288,Translate!$G$3:$H$168,2,FALSE)),\"\",VLOOKUP(B288,Translate!$G$3:$H$168,2,FALSE))","v":""},{"$nulls":7},"","",{"$nulls":9},0,0]
["Total coroners' and other courts services",null,"Cyfanswm llysoedd y crwneriaid a llysoedd eraill",{"$f":"IF(ISERROR(VLOOKUP(B289,Translate!$G$3:$H$168,2,FALSE)),\"\",VLOOKUP(B289,Translate!$G$3:$H$168,2,FALSE))","v":""},{"$nulls":7},"","",{"$nulls":9},0,0]
["Total corporate and democratic core",null,"Cyfanswm y craidd corfforaethol a democrataidd",{"$f":"IF(ISERROR(VLOOKUP(B290,Translate!$G$3:$H$168,2,FALSE)),\"\",VLOOKUP(B290,Translate!$G$3:$H$168,2,FALSE))","v":""},{"$nulls":7},"","",{"$nulls":9},0,0]
["Total corporate and democratic core",null,"Cyfanswm y craidd corfforaethol a democrataidd",{"$f":"IF(ISERROR(VLOOKUP(B291,Translate!$G$3:$H$168,2,FALSE)),\"\",VLOOKUP(B291,Translate!$G$3:$H$168,2,FALSE))","v":""},{"$nulls":7},"","",{"$nulls":9},0,0]
["Total corporate and democratic core costs",null,"Cyfanswm costau'r craidd corfforaethol a democrataidd",{"$f":"IF(ISERROR(VLOOKUP(B292,Translate!$G$3:$H$168,2,FALSE)),\"\",VLOOKUP(B292,Translate!$G$3:$H$168,2,FALSE))","v":""},{"$nulls":7},"","",{"$nulls":9},0,0]
["Total council fund housing",null,"Cyfanswm tai cronfa'r cyngor",{"$f":"IF(ISERROR(VLOOKUP(B293,Translate!$G$3:$H$168,2,FALSE)),\"\",VLOOKUP(B293,Translate!$G$3:$H$168,2,FALSE))","v":""},{"$nulls":7},"","",{"$nulls":9},0,0]
["Total Education",null,"Cyfanswm Addysg",{"$f":"IF(ISERROR(VLOOKUP(B294,Translate!$G$3:$H$168,2,FALSE)),\"\",VLOOKUP(B294,Translate!$G$3:$H$168,2,FALSE))","v":""},{"$nulls":7},"","",{"$nulls":9},0,0]
["Total environmental and regulatory services",null,"Cyfanswm gwasanaethau amgylcheddol a rheoleiddiol",{"$f":"IF(ISERROR(VLOOKUP(B295,Translate!$G$3:$H$168,2,FALSE)),\"\",VLOOKUP(B295,Translate!$G$3:$H$168,2,FALSE))","v":""},{"$nulls":7},"","",{"$nulls":9},0,0]
["Total environmental health",null,"Cyfanswm iechyd yr amgylchedd",{"$f":"IF(ISERROR(VLOOKUP(B296,Translate!$G$3:$H$168,2,FALSE)),\"\",VLOOKUP(B296,Translate!$G$3:$H$168,2,FALSE))","v":""},{"$nulls":7},"","",{"$nulls":9},0,0]
["Total fire services",null,"Cyfanswm gwasanaethau tân",{"$f":"IF(ISERROR(VLOOKUP(B297,Translate!$G$3:$H$168,2,FALSE)),\"\",VLOOKUP(B297,Translate!$G$3:$H$168,2,FALSE))","v":""},{"$nulls":7},"","",{"$nulls":9},0,0]
["Total fire services including central costs",null,"Cyfanswm gwasanaethau tân, gan gynnwys costau canolog",{"$f":"IF(ISERROR(VLOOKUP(B298,Translate!$G$3:$H$168,2,FALSE)),\"\",VLOOKUP(B298,Translate!$G$3:$H$168,2,FALSE))","v":""},{"$nulls":7},"","",{"$nulls":9},0,0]
["Total grants",null,"Cyfanswm grantiau",{"$f":"IF(ISERROR(VLOOKUP(B299,Translate!$G$3:$H$168,2,FALSE)),\"\",VLOOKUP(B299,Translate!$G$3:$H$168,2,FALSE))","v":""},{"$nulls":7},"","",{"$nulls":9},0,0]
["Total Highways, Roads and Transport",null,"Cyfanswm Priffyrdd, Ffyrdd a Thrafnidiaeth",{"$f":"IF(ISERROR(VLOOKUP(B300,Translate!$G$3:$H$168,2,FALSE)),\"\",VLOOKUP(B300,Translate!$G$3:$H$168,2,FALSE))","v":""},{"$nulls":7},"","",{"$nulls":9},0,0]
["Total Home Office, Department for Constitutional Affairs and Unified Courts Administration",null,"Cyfanswm y Swyddfa Gartref, yr Adran Materion Cyfansoddiadol a Gweinyddiaeth y Llysoedd Unedig",{"$f":"IF(ISERROR(VLOOKUP(B301,Translate!$G$3:$H$168,2,FALSE)),\"\",VLOOKUP(B301,Translate!$G$3:$H$168,2,FALSE))","v":""},{"$nulls":7},"","",{"$nulls":9},0,0]
["Total Housing",null,"Cyfanswm Tai",{"$f":"IF(ISERROR(VLOOKUP(B302,Translate!$G$3:$H$168,2,FALSE)),\"\",VLOOKUP(B302,Translate!$G$3:$H$168,2,FALSE))","v":""},{"$nulls":7},"","",{"$nulls":9},0,0]
["Total local tax collection",null,"Cyfanswm casglu trethi lleol",{"$f":"IF(ISERROR(VLOOKUP(B303,Translate!$G$3:$H$168,2,FALSE)),\"\",VLOOKUP(B303,Translate!$G$3:$H$168,2,FALSE))","v":""},{"$nulls":7},"","",{"$nulls":9},0,0]
["Total national park services",null,"Cyfanswm gwasanaethau parciau cenedlaethol",{"$f":"IF(ISERROR(VLOOKUP(B304,Translate!$G$3:$H$168,2,FALSE)),\"\",VLOOKUP(B304,Translate!$G$3:$H$168,2,FALSE))","v":""},{"$nulls":7},"","",{"$nulls":9},0,0]
["Total national park services including central costs",null,"Cyfanswm gwasanaethau parciau cenedlaethol gan gynnwys costau canolog",{"$f":"IF(ISERROR(VLOOKUP(B305,Translate!$G$3:$H$168,2,FALSE)),\"\",VLOOKUP(B305,Translate!$G$3:$H$168,2,FALSE))","v":""},{"$nulls":7},"","",{"$nulls":9},0,0]
["Total non distributed costs",null,"Cyfanswm costau heb eu dosbarthu",{"$f":"IF(ISERROR(VLOOKUP(B306,Translate!$G$3:$H$168,2,FALSE)),\"\",VLOOKUP(B306,Translate!$G$3:$H$168,2,FALSE))","v":""},{"$nulls":7},"","",{"$nulls":9},0,0]
["Total of all grants",null,"Cyfanswm yr holl grantiau",{"$f":"IF(ISERROR(VLOOKUP(B307,Translate!$G$3:$H$168,2,FALSE)),\"\",VLOOKUP(B307,Translate!$G$3:$H$168,2,FALSE))","v":""},{"$nulls":7},"","",{"$nulls":9},0,0]
["Total other central costs",null,"Cyfanswm costau canolog eraill",{"$f":"IF(ISERROR(VLOOKUP(B308,Translate!$G$3:$H$168,2,FALSE)),\"\",VLOOKUP(B308,Translate!$G$3:$H$168,2,FALSE))","v":""},{"$nulls":7},"","",{"$nulls":9},0,0]
["Total other central costs",null,"Cyfanswm costau canolog eraill",{"$f":"IF(ISERROR(VLOOKUP(B309,Translate!$G$3:$H$168,2,FALSE)),\"\",VLOOKUP(B309,Translate!$G$3:$H$168,2,FALSE))","v":""},{"$nulls":7},"","",{"$nulls":9},0,0]
["Total other council fund housing services",null,"Cyfanswm gwasanaethau eraill tai cronfa'r cyngor",{"$f":"IF(ISERROR(VLOOKUP(B310,Translate!$G$3:$H$168,2,FALSE)),\"\",VLOOKUP(B310,Translate!$G$3:$H$168,2,FALSE))","v":""},{"$nulls":7},"","",{"$nulls":9},0,0]
["Total Other Local Services",null,"Cyfanswm Gwasanaethau Lleol Eraill",{"$f":"IF(ISERROR(VLOOKUP(B311,Translate!$G$3:$H$168,2,FALSE)),\"\",VLOOKUP(B311,Translate!$G$3:$H$168,2,FALSE))","v":""},{"$nulls":7},"","",{"$nulls":9},0,0]
["Total Other Services",null,"Cyfanswm Gwasanaethau Eraill",{"$f":"IF(ISERROR(VLOOKUP(B312,Translate!$G$3:$H$168,2,FALSE)),\"\",VLOOKUP(B312,Translate!$G$3:$H$168,2,FALSE))","v":""},{"$nulls":7},"","",{"$nulls":9},0,0]
["Total planning and development services",null,"Cyfanswm gwasanaethau cynllunio a datblygu",{"$f":"IF(ISERROR(VLOOKUP(B313,Translate!$G$3:$H$168,2,FALSE)),\"\",VLOOKUP(B313,Translate!$G$3:$H$168,2,FALSE))","v":""},{"$nulls":7},"","",{"$nulls":9},0,0]
["Total police and Home Office",null,"Cyfanswm yr heddlu a'r Swyddfa Gartref",{"$f":"IF(ISERROR(VLOOKUP(B314,Translate!$G$3:$H$168,2,FALSE)),\"\",VLOOKUP(B314,Translate!$G$3:$H$168,2,FALSE))","v":""},{"$nulls":7},"","",{"$nulls":9},0,0]
["Total police services",null,"Cyfanswm gwasanaethau'r heddlu",{"$f":"IF(ISERROR(VLOOKUP(B315,Translate!$G$3:$H$168,2,FALSE)),\"\",VLOOKUP(B315,Translate!$G$3:$H$168,2,FALSE))","v":""},{"$nulls":7},"","",{"$nulls":9},0,0]
["Total Roads and Transport",null,"Cyfanswm Ffyrdd a Thrafnidiaeth",{"$f":"IF(ISERROR(VLOOKUP(B316,Translate!$G$3:$H$168,2,FALSE)),\"\",VLOOKUP(B316,Translate!$G$3:$H$168,2,FALSE))","v":""},{"$nulls":7},"","",{"$nulls":9},0,0]
["Total waste",null,"Cyfanswm gwastraff",{"$f":"IF(ISERROR(VLOOKUP(B317,Translate!$G$3:$H$168,2,FALSE)),\"\",VLOOKUP(B317,Translate!$G$3:$H$168,2,FALSE))","v":""},{"$nulls":7},"","",{"$nulls":9},0,0]
["Town Centre Partnerships (now includes tidy towns grant)",null,"Partneriaethau Canol Tref (nawr yn cynnwys grant trefi taclus)",{"$f":"IF(ISERROR(VLOOKUP(B318,Translate!$G$3:$H$168,2,FALSE)),\"\",VLOOKUP(B318,Translate!$G$3:$H$168,2,FALSE))","v":""},{"$nulls":7},"","",{"$nulls":9},0,0]
["Tranquil greener, cleaner places",null,"Lleoedd tawelach, gwyrddach a glanach",{"$f":"IF(ISERROR(VLOOKUP(B319,Translate!$G$3:$H$168,2,FALSE)),\"\",VLOOKUP(B319,Translate!$G$3:$H$168,2,FALSE))","v":""},{"$nulls":7},"","",{"$nulls":9},0,0]
["Transfer to HRA balance (column 1) or from (column 6b) HRA balance",null,"Trosglwyddo i falans HRA (colofn 1) neu o (colofn 6b) falans HRA",{"$f":"IF(ISERROR(VLOOKUP(B320,Translate!$G$3:$H$168,2,FALSE)),\"\",VLOOKUP(B320,Translate!$G$3:$H$168,2,FALSE))","v":""},{"$nulls":7},"","",{"$nulls":9},0,0]
["Welsh in education (WEG) grant",null,"Grant y Gymraeg mewn Addysg",{"$f":"IF(ISERROR(VLOOKUP(B321,Translate!$G$3:$H$168,2,FALSE)),\"\",VLOOKUP(B321,Translate!$G$3:$H$168,2,FALSE))","v":""},{"$nulls":7},"","",{"$nulls":9},0,0]
["Youth Concessionary Fares Scheme ",null,"Cynllun Tocynnau Teithio Rhatach i Bobl Ifanc",{"$f":"IF(ISERROR(VLOOKUP(B322,Translate!$G$3:$H$168,2,FALSE)),\"\",VLOOKUP(B322,Translate!$G$3:$H$168,2,FALSE))","v":""},{"$nulls":7},"","",{"$nulls":9},0,0]
["Youth Crime Prevention Fund",null,"Cronfa Atal Troseddau Ieuenctid",{"$f":"IF(ISERROR(VLOOKUP(B323,Translate!$G$3:$H$168,2,FALSE)),\"\",VLOOKUP(B323,Translate!$G$3:$H$168,2,FALSE))","v":""},{"$nulls":7},{"$f":"IF(ISERROR(FIND(\"=\",O323)),\"\",RIGHT(O323,LEN(O323)-FIND(\"=\",O323)+3))","v":""},{"$f":"IF(ISERROR(FIND(\" (include\",O323)),\"\",RIGHT(O323,LEN(O323)-FIND(\" (include\",O323)))","v":""},{"$nulls":9},0,0]
["Youth justice board",null,"Bwrdd cyfiawnder ieuenctid",{"$f":"IF(ISERROR(VLOOKUP(B324,Translate!$G$3:$H$168,2,FALSE)),\"\",VLOOKUP(B324,Translate!$G$3:$H$168,2,FALSE))","v":""},{"$nulls":7},"","",{"$nulls":9},0,0]
["Youth justices board",null,"Bwrdd cyfiawnder ieuenctid",{"$f":"IF(ISERROR(VLOOKUP(B325,Translate!$G$3:$H$168,2,FALSE)),\"\",VLOOKUP(B325,Translate!$G$3:$H$168,2,FALSE))","v":""},{"$nulls":7},"","",{"$nulls":9},0,0]
["Youth Work Strategy Support Grant",null,"Grant Cymorth Strategaeth Gwaith Ieuenctid",{"$f":"IF(ISERROR(VLOOKUP(B326,Translate!$G$3:$H$168,2,FALSE)),\"\",VLOOKUP(B326,Translate!$G$3:$H$168,2,FALSE))","v":""},{"$nulls":7},"","",{"$nulls":9},0,0]
["Validations",null,"Dilysu",{"$f":"IF(ISERROR(VLOOKUP(B327,Translate!$G$3:$H$168,2,FALSE)),\"\",VLOOKUP(B327,Translate!$G$3:$H$168,2,FALSE))","v":""},{"$nulls":7},"","",{"$nulls":9},0,0]
["Comments",null,"Sylwadau",{"$f":"IF(ISERROR(VLOOKUP(B328,Translate!$G$3:$H$168,2,FALSE)),\"\",VLOOKUP(B328,Translate!$G$3:$H$168,2,FALSE))","v":""},{"$nulls":7},"","",{"$nulls":9},0,0]
["Asylum seekers children's services",null,"Gwasanaethau plant i geiswyr lloches",{"$f":"IF(ISERROR(VLOOKUP(B329,Translate!$G$3:$H$168,2,FALSE)),\"\",VLOOKUP(B329,Translate!$G$3:$H$168,2,FALSE))","v":""},{"$nulls":7},"","",{"$nulls":9},0,0]
["Children looked after",null,"Plant sy'n derbyn gofal",{"$f":"IF(ISERROR(VLOOKUP(B330,Translate!$G$3:$H$168,2,FALSE)),\"\",VLOOKUP(B330,Translate!$G$3:$H$168,2,FALSE))","v":""},{"$nulls":7},"","",{"$nulls":9},0,0]
["Family support services",null,"Gwasanaethau cymorth i deuluoedd",{"$f":"IF(ISERROR(VLOOKUP(B331,Translate!$G$3:$H$168,2,FALSE)),\"\",VLOOKUP(B331,Translate!$G$3:$H$168,2,FALSE))","v":""},{"$nulls":7},"","",{"$nulls":9},0,0]
["Safeguarding children and young people's services",null,"Gwasanaethau diogelu plant a phobl ifanc",{"$f":"IF(ISERROR(VLOOKUP(B332,Translate!$G$3:$H$168,2,FALSE)),\"\",VLOOKUP(B332,Translate!$G$3:$H$168,2,FALSE))","v":""},{"$nulls":7},"","",{"$nulls":9},0,0]
["Services for young people",null,"Gwasanaethau i bobl ifanc",{"$f":"IF(ISERROR(VLOOKUP(B333,Translate!$G$3:$H$168,2,FALSE)),\"\",VLOOKUP(B333,Translate!$G$3:$H$168,2,FALSE))","v":""},{"$nulls":7},"","",{"$nulls":9},0,0]
["Additional learning needs within LA budget",null,"Anghenion dysgu ychwanegol o fewn cyllideb yr ALl ",{"$f":"IF(ISERROR(VLOOKUP(B334,Translate!$G$3:$H$168,2,FALSE)),\"\",VLOOKUP(B334,Translate!$G$3:$H$168,2,FALSE))","v":""},{"$nulls":7},"","",{"$nulls":9},0,0]
["Additional learning needs within school budget",null,"Anghenion dysgu ychwanegol o fewn cyllideb yr ysgol",{"$f":"IF(ISERROR(VLOOKUP(B335,Translate!$G$3:$H$168,2,FALSE)),\"\",VLOOKUP(B335,Translate!$G$3:$H$168,2,FALSE))","v":""},{"$nulls":7},"","",{"$nulls":9},0,0]
["Adult social care",null,"Gofal cymdeithasol i Oedolion",{"$f":"IF(ISERROR(VLOOKUP(B336,Translate!$G$3:$H$168,2,FALSE)),\"\",VLOOKUP(B336,Translate!$G$3:$H$168,2,FALSE))","v":""},{"$nulls":7},"","",{"$nulls":9},0,0]
["Adults aged under 65 with a physical disability or sensory impairment",null,"Oedolion o dan 65 oed sydd ag anabledd corfforol neu nam ar y synhwyrau",{"$f":"IF(ISERROR(VLOOKUP(B337,Translate!$G$3:$H$168,2,FALSE)),\"\",VLOOKUP(B337,Translate!$G$3:$H$168,2,FALSE))","v":""},{"$nulls":7},"","",{"$nulls":9},0,0]
["Adults aged under 65 with learning disabilities",null,"Oedolion o dan 65 oed sydd ag anableddau dysgu",{"$f":"IF(ISERROR(VLOOKUP(B338,Translate!$G$3:$H$168,2,FALSE)),\"\",VLOOKUP(B338,Translate!$G$3:$H$168,2,FALSE))","v":""},{"$nulls":7},"","",{"$nulls":9},0,0]
["Adults aged under 65 with mental health needs",null,"Oedolion o dan 65 oed sydd ag anghenion iechyd meddwl",{"$f":"IF(ISERROR(VLOOKUP(B339,Translate!$G$3:$H$168,2,FALSE)),\"\",VLOOKUP(B339,Translate!$G$3:$H$168,2,FALSE))","v":""},{"$nulls":7},"","",{"$nulls":9},0,0]
["Aggregates of schools' financial reserves",null,"Symiau cyfunol cronfeydd ariannol wrth gefn ysgolion",{"$f":"IF(ISERROR(VLOOKUP(B340,Translate!$G$3:$H$168,2,FALSE)),\"\",VLOOKUP(B340,Translate!$G$3:$H$168,2,FALSE))","v":""},{"$nulls":7},"","",{"$nulls":9},0,0]
["Amounts transferred to the capital account in respect of education",null,"Symiau a dosglwyddwyd i'r cyfrif cyfalaf ar gyfer addysg",{"$f":"IF(ISERROR(VLOOKUP(B341,Translate!$G$3:$H$168,2,FALSE)),\"\",VLOOKUP(B341,Translate!$G$3:$H$168,2,FALSE))","v":""},{"$nulls":7},"","",{"$nulls":9},{"$f":"IF(LEFT(V341,1)=\" \",RIGHT(V341,LEN(V341)-1),V341)","v":0},{"$f":"IF(LEFT(W341,1)=\" \",1,0)","v":0}]
["Children's social care",null,"Gofal cymdeithasol i blant",{"$f":"IF(ISERROR(VLOOKUP(B342,Translate!$G$3:$H$168,2,FALSE)),\"\",VLOOKUP(B342,Translate!$G$3:$H$168,2,FALSE))","v":""},{"$nulls":7},"","",{"$nulls":9},0,0]
["Cultural and related services",null,"Gwasanaethau diwylliannol a chysylltiedig",{"$f":"IF(ISERROR(VLOOKUP(B343,Translate!$G$3:$H$168,2,FALSE)),\"\",VLOOKUP(B343,Translate!$G$3:$H$168,2,FALSE))","v":""},{"$nulls":7},"","",{"$nulls":9},0,0]
["Employee costs ",null,"Costau cyflogeion",{"$f":"IF(ISERROR(VLOOKUP(B344,Translate!$G$3:$H$168,2,FALSE)),\"\",VLOOKUP(B344,Translate!$G$3:$H$168,2,FALSE))","v":""},{"$nulls":7},"","",{"$nulls":9},0,0]
["Highways and transport services",null,"Gwasanaethau priffyrdd a thrafnidiaeth",{"$f":"IF(ISERROR(VLOOKUP(B345,Translate!$G$3:$H$168,2,FALSE)),\"\",VLOOKUP(B345,Translate!$G$3:$H$168,2,FALSE))","v":""},{"$nulls":7},"","",{"$nulls":9},0,0]
["MEMORANDUM ITEMS",null,"EITEMAU MEMORANDWM",{"$f":"IF(ISERROR(VLOOKUP(B346,Translate!$G$3:$H$168,2,FALSE)),\"\",VLOOKUP(B346,Translate!$G$3:$H$168,2,FALSE))","v":""},{"$nulls":7},"","",{"$nulls":9},0,0]
["Non-delegated schools expenditure",null,"Gwariant ysgolion heb ei ddirprwyo",{"$f":"IF(ISERROR(VLOOKUP(B347,Translate!$G$3:$H$168,2,FALSE)),\"\",VLOOKUP(B347,Translate!$G$3:$H$168,2,FALSE))","v":""},{"$nulls":7},"","",{"$nulls":9},0,0]
["Of which payments to the voluntary sector",null,"Ac o hynny, taliadau i'r sector gwirfoddol",{"$f":"IF(ISERROR(VLOOKUP(B348,Translate!$G$3:$H$168,2,FALSE)),\"\",VLOOKUP(B348,Translate!$G$3:$H$168,2,FALSE))","v":""},{"$nulls":7},"","",{"$nulls":9},0,0]
["Older people (aged 65 or over) including older mentally ill",null,"Pobl hyn (65 oed a throsodd) gan gynnwys pobl hyn sydd a salwtch meddwl",{"$f":"IF(ISERROR(VLOOKUP(B349,Translate!$G$3:$H$168,2,FALSE)),\"\",VLOOKUP(B349,Translate!$G$3:$H$168,2,FALSE))","v":""},{"$nulls":7},"","",{"$nulls":9},0,0]
["Other adult services (aged under 65)",null,"Gwasanaethau eraill i oedolion (sydd o dan 65 oed)",{"$f":"IF(ISERROR(VLOOKUP(B350,Translate!$G$3:$H$168,2,FALSE)),\"\",VLOOKUP(B350,Translate!$G$3:$H$168,2,FALSE))","v":""},{"$nulls":7},"","",{"$nulls":9},0,0]
["Other employee costs ",null,"Costau eraill cyflogeion",{"$f":"IF(ISERROR(VLOOKUP(B351,Translate!$G$3:$H$168,2,FALSE)),\"\",VLOOKUP(B351,Translate!$G$3:$H$168,2,FALSE))","v":""},{"$nulls":7},"","",{"$nulls":9},0,0]
["pay account",null,"cyfrif tâl",{"$f":"IF(ISERROR(VLOOKUP(B352,Translate!$G$3:$H$168,2,FALSE)),\"\",VLOOKUP(B352,Translate!$G$3:$H$168,2,FALSE))","v":""},{"$nulls":7},"","",{"$nulls":9},0,0]
["Revenue amounts transferred to the capital account",null,"Symiau refeniw wedi'u trosglwyddo i'r cyfrif cyfalaf",{"$f":"IF(ISERROR(VLOOKUP(B353,Translate!$G$3:$H$168,2,FALSE)),\"\",VLOOKUP(B353,Translate!$G$3:$H$168,2,FALSE))","v":""},{"$nulls":7},"","",{"$nulls":9},0,0]
["Running expenses ",null,"Treuliau rhedeg",{"$f":"IF(ISERROR(VLOOKUP(B354,Translate!$G$3:$H$168,2,FALSE)),\"\",VLOOKUP(B354,Translate!$G$3:$H$168,2,FALSE))","v":""},{"$nulls":7},"","",{"$nulls":9},0,0]
["SEN expenditure outside of special schools",null,"Gwariant AAA y tu allan i ysgolion arbennig",{"$f":"IF(ISERROR(VLOOKUP(B355,Translate!$G$3:$H$168,2,FALSE)),\"\",VLOOKUP(B355,Translate!$G$3:$H$168,2,FALSE))","v":""},{"$nulls":7},"","",{"$nulls":9},0,0]
["services",null,"gwasanaethau",{"$f":"IF(ISERROR(VLOOKUP(B356,Translate!$G$3:$H$168,2,FALSE)),\"\",VLOOKUP(B356,Translate!$G$3:$H$168,2,FALSE))","v":""},{"$nulls":7},"","",{"$nulls":9},0,0]
["Social services expenditure",null,"Gwariant gwasanaethau cymdeithasol",{"$f":"IF(ISERROR(VLOOKUP(B357,Translate!$G$3:$H$168,2,FALSE)),\"\",VLOOKUP(B357,Translate!$G$3:$H$168,2,FALSE))","v":""},{"$nulls":7},"","",{"$nulls":9},0,0]
["Subjective breakdown of gross expenditure on cultural and related services",null,"Dadansoddiad yn ôl pwnc o'r gwariant gros ar wasanaethau diwylliannol a chysylltiedig",{"$f":"IF(ISERROR(VLOOKUP(B358,Translate!$G$3:$H$168,2,FALSE)),\"\",VLOOKUP(B358,Translate!$G$3:$H$168,2,FALSE))","v":""},{"$nulls":7},"","",{"$nulls":9},0,0]
["Subjective breakdown of gross expenditure on education services",null,"Dadansoddiad yn ôl pwnc o'r gwariant gros ar wasanaethau addysg",{"$f":"IF(ISERROR(VLOOKUP(B359,Translate!$G$3:$H$168,2,FALSE)),\"\",VLOOKUP(B359,Translate!$G$3:$H$168,2,FALSE))","v":""},{"$nulls":7},"","",{"$nulls":9},0,0]
["Subjective breakdown of gross expenditure on highways, roads and transport services",null,"Dadansoddiad yn ôl pwnc o'r gwariant gros ar wasanaethau priffyrdd, ffyrdd a thrafnidiaeth",{"$f":"IF(ISERROR(VLOOKUP(B360,Translate!$G$3:$H$168,2,FALSE)),\"\",VLOOKUP(B360,Translate!$G$3:$H$168,2,FALSE))","v":""},{"$nulls":7},"","",{"$nulls":9},0,0]
["Subjective breakdown of gross expenditure on social services",null,"Dadansoddiad yn ôl pwnc o'r gwariant gros ar wasanaethau cymdeithasol",{"$f":"IF(ISERROR(VLOOKUP(B361,Translate!$G$3:$H$168,2,FALSE)),\"\",VLOOKUP(B361,Translate!$G$3:$H$168,2,FALSE))","v":""},{"$nulls":7},"","",{"$nulls":9},0,0]
["Teacher costs",null,"Costau athrawon",{"$f":"IF(ISERROR(VLOOKUP(B362,Translate!$G$3:$H$168,2,FALSE)),\"\",VLOOKUP(B362,Translate!$G$3:$H$168,2,FALSE))","v":""},{"$nulls":7},"","",{"$nulls":9},0,0]
["To be transferred to revenue summary form",null,"I'w drosglwyddo i'r ffurflen crynodeb o refeniw",{"$f":"IF(ISERROR(VLOOKUP(B363,Translate!$G$3:$H$168,2,FALSE)),\"\",VLOOKUP(B363,Translate!$G$3:$H$168,2,FALSE))","v":""},{"$nulls":7},"","",{"$nulls":9},0,0]
["Total cultural and related services",null,"Cyfanswm gwasanaethau diwylliannol a chysylltiedig",{"$f":"IF(ISERROR(VLOOKUP(B364,Translate!$G$3:$H$168,2,FALSE)),\"\",VLOOKUP(B364,Translate!$G$3:$H$168,2,FALSE))","v":""},{"$nulls":7},"","",{"$nulls":9},0,0]
["Total culture and heritage",null,"Cyfanswm diwylliant a threftadaeth",{"$f":"IF(ISERROR(VLOOKUP(B365,Translate!$G$3:$H$168,2,FALSE)),\"\",VLOOKUP(B365,Translate!$G$3:$H$168,2,FALSE))","v":""},{"$nulls":7},"","",{"$nulls":9},0,0]
["Total net expenditure on SEN provision: middle schools (statemented and non-statemented pupils)",null,"Cyfanswm gwariant net ar ddarpariaeth AAA: ysgolion canol (disgyblion â datganiad a disgyblion heb ddatganiad)",{"$f":"IF(ISERROR(VLOOKUP(B366,Translate!$G$3:$H$168,2,FALSE)),\"\",VLOOKUP(B366,Translate!$G$3:$H$168,2,FALSE))","v":""},{"$nulls":7},"","",{"$nulls":9},0,0]
["Total net expenditure on SEN provision: nursery schools (statemented and non-statemented pupils)",null,"Cyfanswm gwariant net ar ddarpariaeth AAA: ysgolion meithrin (disgyblion â datganiad a disgyblion heb ddatganiad)",{"$f":"IF(ISERROR(VLOOKUP(B367,Translate!$G$3:$H$168,2,FALSE)),\"\",VLOOKUP(B367,Translate!$G$3:$H$168,2,FALSE))","v":""},{"$nulls":7},"","",{"$nulls":9},0,0]
["Total net expenditure on SEN provision: primary schools (statemented and non-statemented pupils)",null,"Cyfanswm gwariant net ar ddarpariaeth AAA: ysgolion cynradd (disgyblion â datganiad a disgyblion heb ddatganiad)",{"$f":"IF(ISERROR(VLOOKUP(B368,Translate!$G$3:$H$168,2,FALSE)),\"\",VLOOKUP(B368,Translate!$G$3:$H$168,2,FALSE))","v":""},{"$nulls":7},"","",{"$nulls":9},0,0]
["Total net expenditure on SEN provision: secondary schools (statemented and non-statemented pupils)",null,"Cyfanswm gwariant net ar ddarpariaeth AAA: ysgolion uwchradd (disgyblion â datganiad a disgyblion heb ddatganiad)",{"$f":"IF(ISERROR(VLOOKUP(B369,Translate!$G$3:$H$168,2,FALSE)),\"\",VLOOKUP(B369,Translate!$G$3:$H$168,2,FALSE))","v":""},{"$nulls":7},"","",{"$nulls":9},0,0]
["Total structural maintenance, highways and roads",null,"Cyfanswm cynnal a chadw strwythurol, priffyrdd a ffyrdd",{"$f":"IF(ISERROR(VLOOKUP(B370,Translate!$G$3:$H$168,2,FALSE)),\"\",VLOOKUP(B370,Translate!$G$3:$H$168,2,FALSE))","v":""},{"$nulls":7},"","",{"$nulls":9},0,0]
["Transfers from (-) / to (+) schools' financial reserves of another LA",null,"Trosglwyddiadau o (-) / i (+) gronfeydd ariannol wrth gefn ysgolion mewn ALl arall",{"$f":"IF(ISERROR(VLOOKUP(B371,Translate!$G$3:$H$168,2,FALSE)),\"\",VLOOKUP(B371,Translate!$G$3:$H$168,2,FALSE))","v":""},{"$nulls":7},"","",{"$nulls":9},0,0]
["Validations - please ensure these have been cleared before issuing your returns.",null,"Dilysu - gwnewch yn siŵr fod y rhain wedi cael eu cymeradwyo cyn cyflwyno eich ffurflenni",{"$f":"IF(ISERROR(VLOOKUP(B372,Translate!$G$3:$H$168,2,FALSE)),\"\",VLOOKUP(B372,Translate!$G$3:$H$168,2,FALSE))","v":""},{"$nulls":7},"","",{"$nulls":9},0,0]
["If you have a variance, please record the reasons for these under the notes section.",null,"Os oes gennych amrywiant, cofnodwch y rhesymau dros hyn yn yr adran nodiadau.",{"$f":"IF(ISERROR(VLOOKUP(B373,Translate!$G$3:$H$168,2,FALSE)),\"\",VLOOKUP(B373,Translate!$G$3:$H$168,2,FALSE))","v":""},{"$nulls":7},"","",{"$nulls":9},0,0]
["RG Total Education = RS Lines 1 + 2",null,"Cyfanswm RG Addysg = Llinellau RS 1 + 2",{"$f":"IF(ISERROR(VLOOKUP(B374,Translate!$G$3:$H$168,2,FALSE)),\"\",VLOOKUP(B374,Translate!$G$3:$H$168,2,FALSE))","v":""},{"$nulls":7},"","",{"$nulls":9},0,0]
["RG Total Social Services = RS Lines 6 to 8",null,"Cyfanswm RG Gwasanaethau Cymdeithasol = Llinellau RS 6 i 8",{"$f":"IF(ISERROR(VLOOKUP(B375,Translate!$G$3:$H$168,2,FALSE)),\"\",VLOOKUP(B375,Translate!$G$3:$H$168,2,FALSE))","v":""},{"$nulls":7},"","",{"$nulls":9},0,0]
["RG Total Highways = RS Lines 3 to 5",null,"Cyfanswm RG Priffyrdd = Llinellau RS 3 i 5",{"$f":"IF(ISERROR(VLOOKUP(B376,Translate!$G$3:$H$168,2,FALSE)),\"\",VLOOKUP(B376,Translate!$G$3:$H$168,2,FALSE))","v":""},{"$nulls":7},"","",{"$nulls":9},0,0]
["RG Total Housing (less CTRS Admin) = RO8 line 26",null,"Cyfanswm RG Tai (wedi tynnu CTRS Gweinyddol) = RO8 llinell 26",{"$f":"IF(ISERROR(VLOOKUP(B377,Translate!$G$3:$H$168,2,FALSE)),\"\",VLOOKUP(B377,Translate!$G$3:$H$168,2,FALSE))","v":""},{"$nulls":7},"","",{"$nulls":9},0,0]
["Employee Cost <>0",null,"Cost cyflogeion <>0",{"$f":"IF(ISERROR(VLOOKUP(B378,Translate!$G$3:$H$168,2,FALSE)),\"\",VLOOKUP(B378,Translate!$G$3:$H$168,2,FALSE))","v":""},{"$nulls":7},"","",{"$nulls":9},0,0]
["RS Line 70 Column 4 - Should be less than £500k",null,"RS Llinell 70 Colofn 4 - Dylai fod yn llai na £500k",{"$f":"IF(ISERROR(VLOOKUP(B379,Translate!$G$3:$H$168,2,FALSE)),\"\",VLOOKUP(B379,Translate!$G$3:$H$168,2,FALSE))","v":""},{"$nulls":7},"","",{"$nulls":9},0,0]
["(Non-significant) surpluses/deficits on internal trading accounts not disaggregated to services",null,"Gwargedau/Diffygion (ansylweddol) ar gyfrifon masnachu mewnol heb eu dadgyfuno yn ôl gwasanaeth",{"$f":"IF(ISERROR(VLOOKUP(B380,Translate!$G$3:$H$168,2,FALSE)),\"\",VLOOKUP(B380,Translate!$G$3:$H$168,2,FALSE))","v":""},{"$nulls":7},"","",{"$nulls":9},0,0]
["RG Total Police = ROP Lines 6 and 11",null,"Cyfanswm RG Heddlu = ROP Llinellau 6 ac 11",{"$f":"IF(ISERROR(VLOOKUP(B381,Translate!$G$3:$H$168,2,FALSE)),\"\",VLOOKUP(B381,Translate!$G$3:$H$168,2,FALSE))","v":""},{"$nulls":7},"","",{"$nulls":9},0,0]
["RG Line 201 = RO2 Line 26",null,"RG Llinell 201  = RO2 Llinell 26 ",{"$f":"IF(ISERROR(VLOOKUP(B382,Translate!$G$3:$H$168,2,FALSE)),\"\",VLOOKUP(B382,Translate!$G$3:$H$168,2,FALSE))","v":""},{"$nulls":7},"","",{"$nulls":9},0,0]
["Concessionary fares re-imbursement grant",null,"Grant ad-dalu tocynnau teithio rhatach",{"$f":"IF(ISERROR(VLOOKUP(B383,Translate!$G$3:$H$168,2,FALSE)),\"\",VLOOKUP(B383,Translate!$G$3:$H$168,2,FALSE))","v":""},{"$nulls":7},"","",{"$nulls":9},0,0]
["RO5 25.6 Column 11 = RG 624 Column 1",null,"RO5 25.6 Colofn 11 = RG 624 Colofn 1",{"$f":"IF(ISERROR(VLOOKUP(B384,Translate!$G$3:$H$168,2,FALSE)),\"\",VLOOKUP(B384,Translate!$G$3:$H$168,2,FALSE))","v":""},{"$nulls":7},"","",{"$nulls":9},0,0]
["Waste Grant",null,"Grant Gwastraff",{"$f":"IF(ISERROR(VLOOKUP(B385,Translate!$G$3:$H$168,2,FALSE)),\"\",VLOOKUP(B385,Translate!$G$3:$H$168,2,FALSE))","v":""},{"$nulls":7},"","",{"$nulls":9},0,0]
["Tolerance +/- 1K",null,"Goddefiant +/- 1K",{"$f":"IF(ISERROR(VLOOKUP(B386,Translate!$G$3:$H$168,2,FALSE)),\"\",VLOOKUP(B386,Translate!$G$3:$H$168,2,FALSE))","v":""},{"$nulls":7},"","",{"$nulls":9},0,0]
["RO4 Line 6 Column 11 = RG 603 Column 1",null,"RO4 Llinell 6 Colofn 11 = RG 603 Colofn 1",{"$f":"IF(ISERROR(VLOOKUP(B387,Translate!$G$3:$H$168,2,FALSE)),\"\",VLOOKUP(B387,Translate!$G$3:$H$168,2,FALSE))","v":""},{"$nulls":7},{"$f":"IF(ISERROR(FIND(\"=\",O387)),\"\",RIGHT(O387,LEN(O387)-FIND(\"=\",O387)+3))","v":""},{"$f":"IF(ISERROR(FIND(\" (include\",O387)),\"\",RIGHT(O387,LEN(O387)-FIND(\" (include\",O387)))","v":""},{"$nulls":9},0,0]
["Cultural & heritage",null,"Diwylliannol a threftadaeth",{"$f":"IF(ISERROR(VLOOKUP(B388,Translate!$G$3:$H$168,2,FALSE)),\"\",VLOOKUP(B388,Translate!$G$3:$H$168,2,FALSE))","v":""},{"$nulls":7},"","",{"$nulls":9},0,0]
["Less than",null,"Yn llai na",{"$f":"IF(ISERROR(VLOOKUP(B389,Translate!$G$3:$H$168,2,FALSE)),\"\",VLOOKUP(B389,Translate!$G$3:$H$168,2,FALSE))","v":""},{"$nulls":7},"","",{"$nulls":9},0,0]
["Should",null,"Dylai fod",{"$f":"IF(ISERROR(VLOOKUP(B390,Translate!$G$3:$H$168,2,FALSE)),\"\",VLOOKUP(B390,Translate!$G$3:$H$168,2,FALSE))","v":""},{"$nulls":7},"","",{"$nulls":9},0,0]
["RS Line 58 (col 4) / \nRS Line 60 (col 4)",null,"RS Llinell 58 (col 4) / \nRS Llinell 60 (col 4)",{"$f":"IF(ISERROR(VLOOKUP(B391,Translate!$G$3:$H$168,2,FALSE)),\"\",VLOOKUP(B391,Translate!$G$3:$H$168,2,FALSE))","v":""},{"$nulls":7},"","",{"$nulls":9},0,0]
["RS Line 59 (col 4) / \nRS Line 60 (col 4)",null,"RS Llinell 59 (col 4) / \nRS Llinell 60 (col 4)",{"$f":"IF(ISERROR(VLOOKUP(B392,Translate!$G$3:$H$168,2,FALSE)),\"\",VLOOKUP(B392,Translate!$G$3:$H$168,2,FALSE))","v":""},{"$nulls":7},"","",{"$nulls":9},0,0]
["RS Line 90\n(col 5)",null,"RS Llinell 90\n(col 5)",{"$f":"IF(ISERROR(VLOOKUP(B393,Translate!$G$3:$H$168,2,FALSE)),\"\",VLOOKUP(B393,Translate!$G$3:$H$168,2,FALSE))","v":""},{"$nulls":7},"","",{"$nulls":9},0,0]
["RO8 Line 32 column 10",null,"RO8 Llinell 32 colofn 10",{"$f":"IF(ISERROR(VLOOKUP(B394,Translate!$G$3:$H$168,2,FALSE)),\"\",VLOOKUP(B394,Translate!$G$3:$H$168,2,FALSE))","v":""},{"$nulls":7},"","",{"$nulls":9},0,0]
["Notes",null,"Nodiadau",{"$f":"IF(ISERROR(VLOOKUP(B395,Translate!$G$3:$H$168,2,FALSE)),\"\",VLOOKUP(B395,Translate!$G$3:$H$168,2,FALSE))","v":""},{"$nulls":7},"","",{"$nulls":9},0,0]
["Click the link below for notes for guidance for individual forms (Web access required)",null,"Cliciwch ar y ddolen isod i gael canllawiau ar gyfer y ffurflenni unigol (mae angen mynediad at y we)",{"$f":"IF(ISERROR(VLOOKUP(B396,Translate!$G$3:$H$168,2,FALSE)),\"\",VLOOKUP(B396,Translate!$G$3:$H$168,2,FALSE))","v":""},{"$nulls":7},"","",{"$nulls":9},0,0]
["Notes for guidance hyperlink",null,"Hyperddolen canllawiau",{"$f":"IF(ISERROR(VLOOKUP(B397,Translate!$G$3:$H$168,2,FALSE)),\"\",VLOOKUP(B397,Translate!$G$3:$H$168,2,FALSE))","v":""},{"$nulls":7},"","",{"$nulls":9},0,0]
["Capital outturn",null,"Alldro cyfalaf",{"$f":"IF(ISERROR(VLOOKUP(B398,Translate!$G$3:$H$168,2,FALSE)),\"\",VLOOKUP(B398,Translate!$G$3:$H$168,2,FALSE))","v":""},{"$nulls":7},"","",{"$nulls":9},0,0]
["Please select your authority",null,"Dewiswch eich awdurdod",{"$f":"IF(ISERROR(VLOOKUP(B399,Translate!$G$3:$H$168,2,FALSE)),\"\",VLOOKUP(B399,Translate!$G$3:$H$168,2,FALSE))","v":""},{"$nulls":7},"","",{"$nulls":9},0,0]
["If necessary, please amend the name and telephone number of our contact in case of queries:-",null,"Os oes angen, newidiwch enw a rhif ffôn y person y gallwn gysylltu â hwy ar gyfer ymholiadau:- ",{"$f":"IF(ISERROR(VLOOKUP(B400,Translate!$G$3:$H$168,2,FALSE)),\"\",VLOOKUP(B400,Translate!$G$3:$H$168,2,FALSE))","v":""},{"$nulls":7},"","",{"$nulls":9},0,0]
["Contact name:        ",null,"Enw'r person cyswllt:",{"$f":"IF(ISERROR(VLOOKUP(B401,Translate!$G$3:$H$168,2,FALSE)),\"\",VLOOKUP(B401,Translate!$G$3:$H$168,2,FALSE))","v":""},{"$nulls":7},"","",{"$nulls":9},0,0]
["Contact E-mail:        ",null,"E-bost",{"$f":"IF(ISERROR(VLOOKUP(B402,Translate!$G$3:$H$168,2,FALSE)),\"\",VLOOKUP(B402,Translate!$G$3:$H$168,2,FALSE))","v":""},{"$nulls":7},"","",{"$nulls":9},0,0]
["Telephone:        ",null,"Ffôn:",{"$f":"IF(ISERROR(VLOOKUP(B403,Translate!$G$3:$H$168,2,FALSE)),\"\",VLOOKUP(B403,Translate!$G$3:$H$168,2,FALSE))","v":""},{"$nulls":7},"","",{"$nulls":9},0,0]
["The information on this form must be submitted to the Welsh Government under section 14 of the Local Government Act 2003.",null,"Rhaid cyflwyno'r wybodaeth ar y ffurflen hon i Lywodraeth Cymru yn unol ag adran 14 o Ddeddf Llywodraeth Leol 2003.",{"$f":"IF(ISERROR(VLOOKUP(B404,Translate!$G$3:$H$168,2,FALSE)),\"\",VLOOKUP(B404,Translate!$G$3:$H$168,2,FALSE))","v":""},{"$nulls":7},"","",{"$nulls":9},0,0]
["This form must be returned by 31 July",null,"Rhaid dychwelyd y ffurflen hon erbyn 31 Gorffennaf",{"$f":"IF(ISERROR(VLOOKUP(B405,Translate!$G$3:$H$168,2,FALSE)),\"\",VLOOKUP(B405,Translate!$G$3:$H$168,2,FALSE))","v":""},{"$nulls":7},"","",{"$nulls":9},{"$f":"IF(LEFT(V405,1)=\" \",RIGHT(V405,LEN(V405)-1),V405)","v":0},{"$f":"IF(LEFT(W405,1)=\" \",1,0)","v":0}]
["Please email the spreadsheet to the address below, please note that we no longer require a signed hard-copy of this return.",null,"Anfonwch y daenlen drwy e-bost i'r cyfeiriad isod. Sylwch nad oes rhaid inni gael copi caled wedi'i lofnodi o'r ffurflen hon bellach.",{"$f":"IF(ISERROR(VLOOKUP(B406,Translate!$G$3:$H$168,2,FALSE)),\"\",VLOOKUP(B406,Translate!$G$3:$H$168,2,FALSE))","v":""},{"$nulls":7},"","",{"$nulls":9},0,0]
["Any queries on completion of the form or spreadsheet should be directed to Frank Kelly or Anthony Newby, via telephone or e-mail, as directed below.",null,"Dylid cyfeirio pob ymholiad ynghylch llenwi'r ffurflen neu'r daenlen at Frank Kelly neu Anthony Newby, dros y ffôn neu drwy e-bost, yn unol â'r cyfarwyddiadau isod.",{"$f":"IF(ISERROR(VLOOKUP(B407,Translate!$G$3:$H$168,2,FALSE)),\"\",VLOOKUP(B407,Translate!$G$3:$H$168,2,FALSE))","v":""},{"$nulls":7},"","",{"$nulls":9},0,0]
["It is a Welsh Government audit requirement that all cells are completed.  Please ensure that all blank cells are populated with zeros, those that are not will be assumed to be zero.",null,"Mae'n un o ofynion archwiliadau Llywodraeth Cymru fod pob cell yn cael ei llenwi. Gwnewch yn siŵr fod sero ym mhob cell wag. Cymerir yn ganiataol mai sero yw gwerth pob cell sydd heb ei llenwi.",{"$f":"IF(ISERROR(VLOOKUP(B408,Translate!$G$3:$H$168,2,FALSE)),\"\",VLOOKUP(B408,Translate!$G$3:$H$168,2,FALSE))","v":""},{"$nulls":7},"","",{"$nulls":9},0,0]
["Local Government Financial Statistics,",null,"Ystadegau Ariannol Llywodraeth Leol,",{"$f":"IF(ISERROR(VLOOKUP(B409,Translate!$G$3:$H$168,2,FALSE)),\"\",VLOOKUP(B409,Translate!$G$3:$H$168,2,FALSE))","v":""},{"$nulls":7},"","",{"$nulls":9},0,0]
["Knowledge and Analytical Services,",null,"Gwasanaethau Gwybodaeth a Dadansoddi,",{"$f":"IF(ISERROR(VLOOKUP(B410,Translate!$G$3:$H$168,2,FALSE)),\"\",VLOOKUP(B410,Translate!$G$3:$H$168,2,FALSE))","v":""},{"$nulls":7},"","",{"$nulls":9},0,0]
["Welsh Government,",null,"Llywodraeth Cymru,",{"$f":"IF(ISERROR(VLOOKUP(B411,Translate!$G$3:$H$168,2,FALSE)),\"\",VLOOKUP(B411,Translate!$G$3:$H$168,2,FALSE))","v":""},{"$nulls":7},"","",{"$nulls":9},0,0]
["Cathays Park,",null,"Parc Cathays,",{"$f":"IF(ISERROR(VLOOKUP(B412,Translate!$G$3:$H$168,2,FALSE)),\"\",VLOOKUP(B412,Translate!$G$3:$H$168,2,FALSE))","v":""},{"$nulls":7},"","",{"$nulls":9},0,0]
["CARDIFF,",null,"CAERDYDD",{"$f":"IF(ISERROR(VLOOKUP(B413,Translate!$G$3:$H$168,2,FALSE)),\"\",VLOOKUP(B413,Translate!$G$3:$H$168,2,FALSE))","v":""},{"$nulls":7},"","",{"$nulls":9},0,0]
["CF10 3NQ.",null,"CF10 3NQ",{"$f":"IF(ISERROR(VLOOKUP(B414,Translate!$G$3:$H$168,2,FALSE)),\"\",VLOOKUP(B414,Translate!$G$3:$H$168,2,FALSE))","v":""},{"$nulls":8},"",{"$nulls":9},0,0]
["Telephone: 029 2082 5673",null,"Ffôn: 029 2082 5673",{"$f":"IF(ISERROR(VLOOKUP(B415,Translate!$G$3:$H$168,2,FALSE)),\"\",VLOOKUP(B415,Translate!$G$3:$H$168,2,FALSE))","v":""},{"$nulls":8},"",{"$nulls":9},0,0]
["E-mail: lgfs.transfer@wales.gsi.gov.uk",null,"E-bost: lgfs.transfer@wales.gsi.gov.uk",{"$f":"IF(ISERROR(VLOOKUP(B416,Translate!$G$3:$H$168,2,FALSE)),\"\",VLOOKUP(B416,Translate!$G$3:$H$168,2,FALSE))","v":""},{"$nulls":8},"",{"$nulls":9},0,0]
["Please select your authority on FrontPage",null,"Dewiswch eich awdurdod ar y dudalen flaen",{"$f":"IF(ISERROR(VLOOKUP(B417,Translate!$G$3:$H$168,2,FALSE)),\"\",VLOOKUP(B417,Translate!$G$3:$H$168,2,FALSE))","v":""},{"$nulls":8},"",{"$nulls":9},0,0]
["COR1-2:       Capital outturn 1 and 2",null,"COR1-2:       Alldro cyfalaf 1 a 2",{"$f":"IF(ISERROR(VLOOKUP(B418,Translate!$G$3:$H$168,2,FALSE)),\"\",VLOOKUP(B418,Translate!$G$3:$H$168,2,FALSE))","v":""},{"$nulls":8},"",{"$nulls":9},0,0]
["New construction/improvement of roads",null,"Adeiladu ffyrdd newydd / Gwella ffyrdd",{"$f":"IF(ISERROR(VLOOKUP(B419,Translate!$G$3:$H$168,2,FALSE)),\"\",VLOOKUP(B419,Translate!$G$3:$H$168,2,FALSE))","v":""},{"$nulls":8},"",{"$nulls":9},0,0]
["Structural maintenance - principal roads",null,"Cynnal a chadw adeileddol - prif ffyrdd",{"$f":"IF(ISERROR(VLOOKUP(B420,Translate!$G$3:$H$168,2,FALSE)),\"\",VLOOKUP(B420,Translate!$G$3:$H$168,2,FALSE))","v":""},{"$nulls":8},"",{"$nulls":9},0,0]
["Structural maintenance - other LA roads",null,"Cynnal a chadw adeileddol - ffyrdd mewn ALlau eraill",{"$f":"IF(ISERROR(VLOOKUP(B421,Translate!$G$3:$H$168,2,FALSE)),\"\",VLOOKUP(B421,Translate!$G$3:$H$168,2,FALSE))","v":""},{"$nulls":8},"",{"$nulls":9},0,0]
["Expenditure on bridges",null,"Gwariant ar bontydd",{"$f":"IF(ISERROR(VLOOKUP(B422,Translate!$G$3:$H$168,2,FALSE)),\"\",VLOOKUP(B422,Translate!$G$3:$H$168,2,FALSE))","v":""},{"$nulls":8},"",{"$nulls":9},0,0]
["Road safety",null,"Diogelwch ar y ffyrdd",{"$f":"IF(ISERROR(VLOOKUP(B423,Translate!$G$3:$H$168,2,FALSE)),\"\",VLOOKUP(B423,Translate!$G$3:$H$168,2,FALSE))","v":""},{"$nulls":8},"",{"$nulls":9},0,0]
["Parking of vehicles (including car parks)",null,"Parcio cerbydau (gan gynnwys meysydd parcio)",{"$f":"IF(ISERROR(VLOOKUP(B424,Translate!$G$3:$H$168,2,FALSE)),\"\",VLOOKUP(B424,Translate!$G$3:$H$168,2,FALSE))","v":""},{"$nulls":8},"",{"$nulls":9},0,0]
["Public passenger transport - bus",null,"Trafnidiaeth gyhoeddus i deithwyr - bws",{"$f":"IF(ISERROR(VLOOKUP(B425,Translate!$G$3:$H$168,2,FALSE)),\"\",VLOOKUP(B425,Translate!$G$3:$H$168,2,FALSE))","v":""},{"$nulls":8},"",{"$nulls":9},0,0]
["Public passenger transport - rail, underground and other",null,"Trafnidiaeth gyhoeddus i deithwyr - rheilffyrdd, rheilffyrdd tanddaearol ac arall",{"$f":"IF(ISERROR(VLOOKUP(B426,Translate!$G$3:$H$168,2,FALSE)),\"\",VLOOKUP(B426,Translate!$G$3:$H$168,2,FALSE))","v":""},{"$nulls":8},"",{"$nulls":9},0,0]
["Tolled road bridges, tunnels and ferries and public transport companies",null,"Pontydd ffyrdd â tholl, twnelau a fferïau a chwmnïau trafnidiaeth gyhoeddus",{"$f":"IF(ISERROR(VLOOKUP(B427,Translate!$G$3:$H$168,2,FALSE)),\"\",VLOOKUP(B427,Translate!$G$3:$H$168,2,FALSE))","v":""},{"$nulls":8},"",{"$nulls":9},0,0]
["Acquisition / sale of land for housing revenue account (HRA)",null,"Caffael/Gwerthu tir ar gyfer y Cyfrif Refeniw Tai (HRA)",{"$f":"IF(ISERROR(VLOOKUP(B428,Translate!$G$3:$H$168,2,FALSE)),\"\",VLOOKUP(B428,Translate!$G$3:$H$168,2,FALSE))","v":""},{"$nulls":8},"",{"$nulls":9},0,0]
["New building of HRA dwellings",null,"Adeiladu anheddau HRA newydd",{"$f":"IF(ISERROR(VLOOKUP(B429,Translate!$G$3:$H$168,2,FALSE)),\"\",VLOOKUP(B429,Translate!$G$3:$H$168,2,FALSE))","v":""},{"$nulls":8},"",{"$nulls":9},0,0]
["Purchase / sale of HRA dwellings",null,"Prynu/Gwerthu anheddau HRA",{"$f":"IF(ISERROR(VLOOKUP(B430,Translate!$G$3:$H$168,2,FALSE)),\"\",VLOOKUP(B430,Translate!$G$3:$H$168,2,FALSE))","v":""},{"$nulls":8},"",{"$nulls":9},0,0]
["Premature full repayment of principal on mortgages / loans provided for council house purchase",null,"Prifsymiau ar forgeisi / benthyciadau a ddarparwyd i brynu tai cyngor wedi eu had-dalu'n llawn yn gynnar",{"$f":"IF(ISERROR(VLOOKUP(B431,Translate!$G$3:$H$168,2,FALSE)),\"\",VLOOKUP(B431,Translate!$G$3:$H$168,2,FALSE))","v":""},{"$nulls":8},"",{"$nulls":9},0,0]
["Mortgages / loans provided for council house purchase",null,"Morgeisi/Benthyciadau a ddarparwyd ar gyfer prynu tai cyngor",{"$f":"IF(ISERROR(VLOOKUP(B432,Translate!$G$3:$H$168,2,FALSE)),\"\",VLOOKUP(B432,Translate!$G$3:$H$168,2,FALSE))","v":""},{"$nulls":8},"",{"$nulls":9},0,0]
["Improvements and repairs to HRA PRCs",null,"Gwella ac atgyweirio - tai concrit cydnerth parod HRA",{"$f":"IF(ISERROR(VLOOKUP(B433,Translate!$G$3:$H$168,2,FALSE)),\"\",VLOOKUP(B433,Translate!$G$3:$H$168,2,FALSE))","v":""},{"$nulls":8},"",{"$nulls":9},0,0]
["Improvements and repairs to other HRA dwellings",null,"Gwella ac atgyweirio anheddau HRA eraill",{"$f":"IF(ISERROR(VLOOKUP(B434,Translate!$G$3:$H$168,2,FALSE)),\"\",VLOOKUP(B434,Translate!$G$3:$H$168,2,FALSE))","v":""},{"$nulls":8},"",{"$nulls":9},0,0]
["Low cost home ownership (HRA)",null,"Perchentyaeth cost isel (HRA)",{"$f":"IF(ISERROR(VLOOKUP(B435,Translate!$G$3:$H$168,2,FALSE)),\"\",VLOOKUP(B435,Translate!$G$3:$H$168,2,FALSE))","v":""},{"$nulls":8},"",{"$nulls":9},0,0]
["Other HRA",null,"HRA arall",{"$f":"IF(ISERROR(VLOOKUP(B436,Translate!$G$3:$H$168,2,FALSE)),\"\",VLOOKUP(B436,Translate!$G$3:$H$168,2,FALSE))","v":""},{"$nulls":8},"",{"$nulls":9},0,0]
["Environmental work in renewal areas",null,"Gwaith amgylcheddol mewn ardaloedd adnewyddu",{"$f":"IF(ISERROR(VLOOKUP(B437,Translate!$G$3:$H$168,2,FALSE)),\"\",VLOOKUP(B437,Translate!$G$3:$H$168,2,FALSE))","v":""},{"$nulls":8},"",{"$nulls":9},0,0]
["Group repair",null,"Atgyweitio grŵp",{"$f":"IF(ISERROR(VLOOKUP(B438,Translate!$G$3:$H$168,2,FALSE)),\"\",VLOOKUP(B438,Translate!$G$3:$H$168,2,FALSE))","v":""},{"$nulls":8},"",{"$nulls":9},0,0]
["Slum clearance",null,"Clirio slymiau",{"$f":"IF(ISERROR(VLOOKUP(B439,Translate!$G$3:$H$168,2,FALSE)),\"\",VLOOKUP(B439,Translate!$G$3:$H$168,2,FALSE))","v":""},{"$nulls":8},"",{"$nulls":9},0,0]
["Low cost home ownership (non-HRA)",null,"Perchentyaeth cost isel (ddim HRA)",{"$f":"IF(ISERROR(VLOOKUP(B440,Translate!$G$3:$H$168,2,FALSE)),\"\",VLOOKUP(B440,Translate!$G$3:$H$168,2,FALSE))","v":""},{"$nulls":8},"",{"$nulls":9},0,0]
["Renovation grants",null,"Grantiau adnewyddu",{"$f":"IF(ISERROR(VLOOKUP(B441,Translate!$G$3:$H$168,2,FALSE)),\"\",VLOOKUP(B441,Translate!$G$3:$H$168,2,FALSE))","v":""},{"$nulls":8},"",{"$nulls":9},0,0]
["Other grants",null,"Grantiau eraill",{"$f":"IF(ISERROR(VLOOKUP(B442,Translate!$G$3:$H$168,2,FALSE)),\"\",VLOOKUP(B442,Translate!$G$3:$H$168,2,FALSE))","v":""},{"$nulls":8},"",{"$nulls":9},0,0]
["Lending to registered social landlords",null,"Benthyca i landlordiaid cymdeithasol cofrestredig",{"$f":"IF(ISERROR(VLOOKUP(B443,Translate!$G$3:$H$168,2,FALSE)),\"\",VLOOKUP(B443,Translate!$G$3:$H$168,2,FALSE))","v":""},{"$nulls":8},"",{"$nulls":9},0,0]
["Lending to other borrowers",null,"Benthyca i fenthycwyr eraill",{"$f":"IF(ISERROR(VLOOKUP(B444,Translate!$G$3:$H$168,2,FALSE)),\"\",VLOOKUP(B444,Translate!$G$3:$H$168,2,FALSE))","v":""},{"$nulls":8},"",{"$nulls":9},0,0]
["Arts activities and facilities (including theatres)",null,"Gweithgareddau a chyfleusterau y celfyddydau (gan gynnwys theatrau)",{"$f":"IF(ISERROR(VLOOKUP(B445,Translate!$G$3:$H$168,2,FALSE)),\"\",VLOOKUP(B445,Translate!$G$3:$H$168,2,FALSE))","v":""},{"$nulls":8},"",{"$nulls":9},0,0]
["Sports development and children's play",null,"Datblygu chwaraeon a chwarae plant",{"$f":"IF(ISERROR(VLOOKUP(B446,Translate!$G$3:$H$168,2,FALSE)),\"\",VLOOKUP(B446,Translate!$G$3:$H$168,2,FALSE))","v":""},{"$nulls":8},"",{"$nulls":9},0,0]
["Derelict land reclamation (grant aided)",null,"Adfer tir diffaith (cymorth grant)",{"$f":"IF(ISERROR(VLOOKUP(B447,Translate!$G$3:$H$168,2,FALSE)),\"\",VLOOKUP(B447,Translate!$G$3:$H$168,2,FALSE))","v":""},{"$nulls":8},"",{"$nulls":9},0,0]
["Planning and development (including Gypsy sites)",null,"Cynllunio a datblygu (gan gynnwys safleoedd Sipsiwn)",{"$f":"IF(ISERROR(VLOOKUP(B448,Translate!$G$3:$H$168,2,FALSE)),\"\",VLOOKUP(B448,Translate!$G$3:$H$168,2,FALSE))","v":""},{"$nulls":8},"",{"$nulls":9},0,0]
["Fire and rescue service",null,"Gwasanaeth tân ac achub",{"$f":"IF(ISERROR(VLOOKUP(B449,Translate!$G$3:$H$168,2,FALSE)),\"\",VLOOKUP(B449,Translate!$G$3:$H$168,2,FALSE))","v":""},{"$nulls":8},"",{"$nulls":9},0,0]
["Police service",null,"Gwasanaeth yr heddlu",{"$f":"IF(ISERROR(VLOOKUP(B450,Translate!$G$3:$H$168,2,FALSE)),\"\",VLOOKUP(B450,Translate!$G$3:$H$168,2,FALSE))","v":""},{"$nulls":8},"",{"$nulls":9},0,0]
["Figures in blue are calculated, the cells are protected.",null,"Mae'r ffigurau mewn glas yn cael eu cyfrifo, mae'r celloedd wedi'u diogelu",{"$f":"IF(ISERROR(VLOOKUP(B451,Translate!$G$3:$H$168,2,FALSE)),\"\",VLOOKUP(B451,Translate!$G$3:$H$168,2,FALSE))","v":""},{"$nulls":8},{"$f":"IF(ISERROR(FIND(\" (include\",O451)),\"\",RIGHT(O451,LEN(O451)-FIND(\" (include\",O451)))","v":""},{"$nulls":9},0,0]
["Acquisition of land and existing buildings",null,"Caffael tir ac adeiladau presennol",{"$f":"IF(ISERROR(VLOOKUP(B452,Translate!$G$3:$H$168,2,FALSE)),\"\",VLOOKUP(B452,Translate!$G$3:$H$168,2,FALSE))","v":""},{"$nulls":8},"",{"$nulls":9},0,0]
["New construction, conversion and renovation",null,"Adeiladau newydd, addasu ac adnewyddu",{"$f":"IF(ISERROR(VLOOKUP(B453,Translate!$G$3:$H$168,2,FALSE)),\"\",VLOOKUP(B453,Translate!$G$3:$H$168,2,FALSE))","v":""},{"$nulls":8},"",{"$nulls":9},0,0]
["Vehicles",null,"Cerbydau",{"$f":"IF(ISERROR(VLOOKUP(B454,Translate!$G$3:$H$168,2,FALSE)),\"\",VLOOKUP(B454,Translate!$G$3:$H$168,2,FALSE))","v":""},{"$nulls":8},"",{"$nulls":9},0,0]
["Plant machinery and equipment",null,"Peiriannau ac offer safle",{"$f":"IF(ISERROR(VLOOKUP(B455,Translate!$G$3:$H$168,2,FALSE)),\"\",VLOOKUP(B455,Translate!$G$3:$H$168,2,FALSE))","v":""},{"$nulls":8},"",{"$nulls":9},0,0]
["Total expenditure on fixed assets",null,"Cyfanswm gwariant ar asedau sefydlog",{"$f":"IF(ISERROR(VLOOKUP(B456,Translate!$G$3:$H$168,2,FALSE)),\"\",VLOOKUP(B456,Translate!$G$3:$H$168,2,FALSE))","v":""},{"$nulls":8},"",{"$nulls":9},0,0]
["Capital grants",null,"Grantiau cyfalaf",{"$f":"IF(ISERROR(VLOOKUP(B457,Translate!$G$3:$H$168,2,FALSE)),\"\",VLOOKUP(B457,Translate!$G$3:$H$168,2,FALSE))","v":""},{"$nulls":8},"",{"$nulls":9},0,0]
["Capital advances",null,"Blanesymiau cyfalaf",{"$f":"IF(ISERROR(VLOOKUP(B458,Translate!$G$3:$H$168,2,FALSE)),\"\",VLOOKUP(B458,Translate!$G$3:$H$168,2,FALSE))","v":""},{"$nulls":8},"",{"$nulls":9},0,0]
["Intangible fixed assets",null,"Asedau sefylog annirweddol",{"$f":"IF(ISERROR(VLOOKUP(B459,Translate!$G$3:$H$168,2,FALSE)),\"\",VLOOKUP(B459,Translate!$G$3:$H$168,2,FALSE))","v":""},{"$nulls":8},"",{"$nulls":9},0,0]
["Total capital expenditure",null,"Cyfanswm gwariant cyfalaf",{"$f":"IF(ISERROR(VLOOKUP(B460,Translate!$G$3:$H$168,2,FALSE)),\"\",VLOOKUP(B460,Translate!$G$3:$H$168,2,FALSE))","v":""},{"$nulls":8},"",{"$nulls":9},0,0]
["Sale of fixed assets",null,"Gwerthu asedau sefydlog",{"$f":"IF(ISERROR(VLOOKUP(B461,Translate!$G$3:$H$168,2,FALSE)),\"\",VLOOKUP(B461,Translate!$G$3:$H$168,2,FALSE))","v":""},{"$nulls":8},"",{"$nulls":9},0,0]
["Repayments of capital advances and grants",null,"Ad-dalu blaensymiau a grantiau cyfalaf",{"$f":"IF(ISERROR(VLOOKUP(B462,Translate!$G$3:$H$168,2,FALSE)),\"\",VLOOKUP(B462,Translate!$G$3:$H$168,2,FALSE))","v":""},{"$nulls":8},"",{"$nulls":9},0,0]
["Total receipts",null,"Cyfanswm derbyniadau",{"$f":"IF(ISERROR(VLOOKUP(B463,Translate!$G$3:$H$168,2,FALSE)),\"\",VLOOKUP(B463,Translate!$G$3:$H$168,2,FALSE))","v":""},{"$nulls":8},"",{"$nulls":9},0,0]
["Assets not funded by LA capital expenditure",null,"Asedau nad ydynt yn cael eu cyllido gan wariant cyfalaf ALl ",{"$f":"IF(ISERROR(VLOOKUP(B464,Translate!$G$3:$H$168,2,FALSE)),\"\",VLOOKUP(B464,Translate!$G$3:$H$168,2,FALSE))","v":""},{"$nulls":8},"",{"$nulls":9},0,0]
["Capital expenditure and receipts",null,"Gwariant a derbyniadau cyfalaf",{"$f":"IF(ISERROR(VLOOKUP(B465,Translate!$G$3:$H$168,2,FALSE)),\"\",VLOOKUP(B465,Translate!$G$3:$H$168,2,FALSE))","v":""},{"$nulls":8},"",{"$nulls":9},0,0]
["Expenditure",null,"Gwariant",{"$f":"IF(ISERROR(VLOOKUP(B466,Translate!$G$3:$H$168,2,FALSE)),\"\",VLOOKUP(B466,Translate!$G$3:$H$168,2,FALSE))","v":""},{"$nulls":8},"",{"$nulls":9},0,0]
["Receipts",null,"Derbyniadau",{"$f":"IF(ISERROR(VLOOKUP(B467,Translate!$G$3:$H$168,2,FALSE)),\"\",VLOOKUP(B467,Translate!$G$3:$H$168,2,FALSE))","v":""},{"$nulls":8},"",{"$nulls":9},0,0]
["Memo",null,"Memo",{"$f":"IF(ISERROR(VLOOKUP(B468,Translate!$G$3:$H$168,2,FALSE)),\"\",VLOOKUP(B468,Translate!$G$3:$H$168,2,FALSE))","v":""},{"$nulls":8},"",{"$nulls":9},0,0]
["COR 4:         Capital outturn 4",null,"COR 4:         Alldro cyfalaf 4",{"$f":"IF(ISERROR(VLOOKUP(B469,Translate!$G$3:$H$168,2,FALSE)),\"\",VLOOKUP(B469,Translate!$G$3:$H$168,2,FALSE))","v":""},{"$nulls":8},"",{"$nulls":9},{"$f":"IF(LEFT(V469,1)=\" \",RIGHT(V469,LEN(V469)-1),V469)","v":0},{"$f":"IF(LEFT(W469,1)=\" \",1,0)","v":0}]
["Financing of capital expenditure and capital account summary, 2014-15",null,"Crynodeb cyfrif cyfalaf a chyllido gwariant cyfalaf, 2014-15",{"$f":"IF(ISERROR(VLOOKUP(B470,Translate!$G$3:$H$168,2,FALSE)),\"\",VLOOKUP(B470,Translate!$G$3:$H$168,2,FALSE))","v":""},{"$nulls":8},"",{"$nulls":9},0,0]
["Service block (COR 1-2 corresponding references)",null,"Bloc gwasanaethau (COR 1-2 cyfeiriadau cyfatebol)",{"$f":"IF(ISERROR(VLOOKUP(B471,Translate!$G$3:$H$168,2,FALSE)),\"\",VLOOKUP(B471,Translate!$G$3:$H$168,2,FALSE))","v":""},{"$nulls":8},"",{"$nulls":9},0,0]
["Housing (line 36)",null,"Tai (llinell 36)",{"$f":"IF(ISERROR(VLOOKUP(B472,Translate!$G$3:$H$168,2,FALSE)),\"\",VLOOKUP(B472,Translate!$G$3:$H$168,2,FALSE))","v":""},{"$nulls":8},"",{"$nulls":9},0,0]
["Large Scale Voluntary Transfer (LSVT) levy",null,"Ardoll Trosglwyddo Gwirfoddol ar Raddfa Fawr",{"$f":"IF(ISERROR(VLOOKUP(B473,Translate!$G$3:$H$168,2,FALSE)),\"\",VLOOKUP(B473,Translate!$G$3:$H$168,2,FALSE))","v":""},{"$nulls":8},"",{"$nulls":9},0,0]
["Acquisition of share or loan capital",null,"Caffael cyfalaf cyfranddaliadau neu gyfalaf benthyg",{"$f":"IF(ISERROR(VLOOKUP(B474,Translate!$G$3:$H$168,2,FALSE)),\"\",VLOOKUP(B474,Translate!$G$3:$H$168,2,FALSE))","v":""},{"$nulls":8},"",{"$nulls":9},0,0]
["Expenditure by section 16(2) direction",null,"Gwariant drwy gyfarwyddyd adran 16(2)",{"$f":"IF(ISERROR(VLOOKUP(B475,Translate!$G$3:$H$168,2,FALSE)),\"\",VLOOKUP(B475,Translate!$G$3:$H$168,2,FALSE))","v":""},{"$nulls":8},"",{"$nulls":9},0,0]
["Disposal of share or loan capital",null,"Cael gwared ar gyfalaf cyfranddalaiadau neu gyfalaf benthyg",{"$f":"IF(ISERROR(VLOOKUP(B476,Translate!$G$3:$H$168,2,FALSE)),\"\",VLOOKUP(B476,Translate!$G$3:$H$168,2,FALSE))","v":""},{"$nulls":8},"",{"$nulls":9},0,0]
["Total capital receipts",null,"Cyfanswm derbyniadau cyfalaf",{"$f":"IF(ISERROR(VLOOKUP(B477,Translate!$G$3:$H$168,2,FALSE)),\"\",VLOOKUP(B477,Translate!$G$3:$H$168,2,FALSE))","v":""},{"$nulls":8},"",{"$nulls":9},0,0]
["COR 4: Capital outturn 4",null,"COR 4:         Alldro cyfalaf 4",{"$f":"IF(ISERROR(VLOOKUP(B478,Translate!$G$3:$H$168,2,FALSE)),\"\",VLOOKUP(B478,Translate!$G$3:$H$168,2,FALSE))","v":""},{"$nulls":8},"",{"$nulls":9},0,0]
["Total capital expenditure and receipts:",null,"Cyfanswm gwariant a derbyniadau cyfalaf:",{"$f":"IF(ISERROR(VLOOKUP(B479,Translate!$G$3:$H$168,2,FALSE)),\"\",VLOOKUP(B479,Translate!$G$3:$H$168,2,FALSE))","v":""},{"$nulls":8},"",{"$nulls":9},0,0]
["Resources to be used to finance capital expenditure:",null,"Adnoddau i'w defnyddio i gyllido gwariant cyfalaf",{"$f":"IF(ISERROR(VLOOKUP(B480,Translate!$G$3:$H$168,2,FALSE)),\"\",VLOOKUP(B480,Translate!$G$3:$H$168,2,FALSE))","v":""},{"$nulls":8},"",{"$nulls":9},0,0]
["Capital grants from the Welsh Government and other UK Government Departments",null,"Grantiau cyfalaf gan Lywodraeth Cymru ac Adrannau eraill Llywodraeth y DU",{"$f":"IF(ISERROR(VLOOKUP(B481,Translate!$G$3:$H$168,2,FALSE)),\"\",VLOOKUP(B481,Translate!$G$3:$H$168,2,FALSE))","v":""},{"$nulls":8},"",{"$nulls":9},0,0]
["Grants from European Community Structural Funds (including ERDF)",null,"Grantiau o Gronfeydd Strwythurol Ewropeaidd (gan gynnwys ERDF)",{"$f":"IF(ISERROR(VLOOKUP(B482,Translate!$G$3:$H$168,2,FALSE)),\"\",VLOOKUP(B482,Translate!$G$3:$H$168,2,FALSE))","v":""},{"$nulls":8},"",{"$nulls":9},0,0]
["Grants and contributions from Welsh Government sponsored public bodies / non-departmental public bodies",null,"Grantiau a chyfraniadau gan gyrff cyhoeddus a noddir gan Lywodraeth Cymru / cyrff cyhoeddus anadrannol ",{"$f":"IF(ISERROR(VLOOKUP(B483,Translate!$G$3:$H$168,2,FALSE)),\"\",VLOOKUP(B483,Translate!$G$3:$H$168,2,FALSE))","v":""},{"$nulls":8},"",{"$nulls":9},0,0]
["Funding from National Lottery",null,"Cyllid gan y Loteri Genedlaethol",{"$f":"IF(ISERROR(VLOOKUP(B484,Translate!$G$3:$H$168,2,FALSE)),\"\",VLOOKUP(B484,Translate!$G$3:$H$168,2,FALSE))","v":""},{"$nulls":8},"",{"$nulls":9},0,0]
["Other grants and contributions including those from private developers",null,"Grantiau a chyfraniadau eraill, gan gynnwys rhai gan ddatblygwyr preifat",{"$f":"IF(ISERROR(VLOOKUP(B485,Translate!$G$3:$H$168,2,FALSE)),\"\",VLOOKUP(B485,Translate!$G$3:$H$168,2,FALSE))","v":""},{"$nulls":8},"",{"$nulls":9},0,0]
["Use of capital receipts",null,"Defnydd o dderbyniadau cyfalaf",{"$f":"IF(ISERROR(VLOOKUP(B486,Translate!$G$3:$H$168,2,FALSE)),\"\",VLOOKUP(B486,Translate!$G$3:$H$168,2,FALSE))","v":""},{"$nulls":8},"",{"$nulls":9},0,0]
["Major Repairs Allowance (MRA)",null,"Lwfans Atgyweiriadau Mawr (MRA)",{"$f":"IF(ISERROR(VLOOKUP(B487,Translate!$G$3:$H$168,2,FALSE)),\"\",VLOOKUP(B487,Translate!$G$3:$H$168,2,FALSE))","v":""},{"$nulls":8},"",{"$nulls":9},0,0]
["Capital expenditure charged to a revenue account (non-HRA)",null,"Gwariant cyfalaf a roddwyd ar gyfrif refeniw (ddim HRA)",{"$f":"IF(ISERROR(VLOOKUP(B488,Translate!$G$3:$H$168,2,FALSE)),\"\",VLOOKUP(B488,Translate!$G$3:$H$168,2,FALSE))","v":""},{"$nulls":8},"",{"$nulls":9},0,0]
["Capital expenditure charged to a revenue account (HRA)",null,"Gwariant cyfalaf a roddwyd ar gyfrif cyfalaf (HRA)",{"$f":"IF(ISERROR(VLOOKUP(B489,Translate!$G$3:$H$168,2,FALSE)),\"\",VLOOKUP(B489,Translate!$G$3:$H$168,2,FALSE))","v":""},{"$nulls":8},"",{"$nulls":9},0,0]
["Borrowing and credit arrangements that attract central government support (non-HRA)",null,"Trefniadau benthyca a chredyd sy'n denu cymorth y llywodraeth ganolog (ddim HRA)  ",{"$f":"IF(ISERROR(VLOOKUP(B490,Translate!$G$3:$H$168,2,FALSE)),\"\",VLOOKUP(B490,Translate!$G$3:$H$168,2,FALSE))","v":""},{"$nulls":8},"",{"$nulls":9},0,0]
["Borrowing and credit arrangements that attract central government support (HRA)",null,"Trefniadau benthyca a chredyd sy'n denu cymorth y llywodraeth ganolog  (HRA)  ",{"$f":"IF(ISERROR(VLOOKUP(B491,Translate!$G$3:$H$168,2,FALSE)),\"\",VLOOKUP(B491,Translate!$G$3:$H$168,2,FALSE))","v":""},{"$nulls":8},"",{"$nulls":9},0,0]
["Other borrowing and credit arrangements (non-HRA)",null,"Trefniadau benthyca a chredyd eraill (ddim HRA)",{"$f":"IF(ISERROR(VLOOKUP(B492,Translate!$G$3:$H$168,2,FALSE)),\"\",VLOOKUP(B492,Translate!$G$3:$H$168,2,FALSE))","v":""},{"$nulls":8},"",{"$nulls":9},0,0]
["Other borrowing and credit arrangements (HRA)",null,"Trefniadau benthyca a chredyd eraill (HRA)",{"$f":"IF(ISERROR(VLOOKUP(B493,Translate!$G$3:$H$168,2,FALSE)),\"\",VLOOKUP(B493,Translate!$G$3:$H$168,2,FALSE))","v":""},{"$nulls":8},"",{"$nulls":9},0,0]
["Total resources used to finance capital expenditure (the sum of the figures in the white cells above)",null,"Cyfanswm yr adnoddau a ddefnyddiwyd i gyllido gwariant cyfalaf (swm y ffigurau yn y celloedd gwyn uchod)",{"$f":"IF(ISERROR(VLOOKUP(B494,Translate!$G$3:$H$168,2,FALSE)),\"\",VLOOKUP(B494,Translate!$G$3:$H$168,2,FALSE))","v":""},{"$nulls":8},"",{"$nulls":9},0,0]
["PLEASE COMPLETE THE LINES BELOW ON A PFI ON-BALANCE SHEET BASIS",null,"Cwblhewch y llinellau isod ar sail Menter Cyllid Preifat (PFI) 'Ar y Fantolen'",{"$f":"IF(ISERROR(VLOOKUP(B495,Translate!$G$3:$H$168,2,FALSE)),\"\",VLOOKUP(B495,Translate!$G$3:$H$168,2,FALSE))","v":""},{"$nulls":8},"",{"$nulls":9},0,0]
["Capital financing requirement:",null,"Gofyniad cyllido cyfalaf:",{"$f":"IF(ISERROR(VLOOKUP(B496,Translate!$G$3:$H$168,2,FALSE)),\"\",VLOOKUP(B496,Translate!$G$3:$H$168,2,FALSE))","v":""},{"$nulls":8},"",{"$nulls":9},0,0]
["Capital Financing Requirement as at 1 April",null,"Gofyniad Cyllido Cyfalaf fel yr oedd ar 1 Ebrill",{"$f":"IF(ISERROR(VLOOKUP(B497,Translate!$G$3:$H$168,2,FALSE)),\"\",VLOOKUP(B497,Translate!$G$3:$H$168,2,FALSE))","v":""},{"$nulls":8},"",{"$nulls":9},0,0]
["Minimum Revenue Provision & voluntary contributions",null,"Darpariaeth Isafswm Refeniw a chyfraniadau gwirfoddol",{"$f":"IF(ISERROR(VLOOKUP(B498,Translate!$G$3:$H$168,2,FALSE)),\"\",VLOOKUP(B498,Translate!$G$3:$H$168,2,FALSE))","v":""},{"$nulls":8},"",{"$nulls":9},0,0]
["Borrowing, credit and investments at start of year:",null,"Benthyca, credyd a buddsoddiadau ar ddechrau'r flwyddyn:",{"$f":"IF(ISERROR(VLOOKUP(B499,Translate!$G$3:$H$168,2,FALSE)),\"\",VLOOKUP(B499,Translate!$G$3:$H$168,2,FALSE))","v":""},{"$nulls":8},"",{"$nulls":9},0,0]
["Gross borrowing as at start of year",null,"Benthyca gros fel yr oedd ar ddechrau'r flwyddyn",{"$f":"IF(ISERROR(VLOOKUP(B500,Translate!$G$3:$H$168,2,FALSE)),\"\",VLOOKUP(B500,Translate!$G$3:$H$168,2,FALSE))","v":""},{"$nulls":8},"",{"$nulls":9},0,0]
["Other long-term liabilities as at start of year",null,"Rhwymedigaethau hirdymor eraill ar ddechrau'r flwyddyn",{"$f":"IF(ISERROR(VLOOKUP(B501,Translate!$G$3:$H$168,2,FALSE)),\"\",VLOOKUP(B501,Translate!$G$3:$H$168,2,FALSE))","v":""},{"$nulls":8},"",{"$nulls":9},0,0]
["Investments as at start of year",null,"Buddsoddiadau ar ddechrau'r flwyddyn",{"$f":"IF(ISERROR(VLOOKUP(B502,Translate!$G$3:$H$168,2,FALSE)),\"\",VLOOKUP(B502,Translate!$G$3:$H$168,2,FALSE))","v":""},{"$nulls":8},"",{"$nulls":9},0,0]
["Borrowing, credit and investments at end of year:",null,"Benthyca. credyd a buddsoddiadau ar ddiwedd y flwyddyn",{"$f":"IF(ISERROR(VLOOKUP(B503,Translate!$G$3:$H$168,2,FALSE)),\"\",VLOOKUP(B503,Translate!$G$3:$H$168,2,FALSE))","v":""},{"$nulls":8},"",{"$nulls":9},0,0]
["Gross borrowing as at year end",null,"Benthyca gros ar ddiwedd y flwyddyn",{"$f":"IF(ISERROR(VLOOKUP(B504,Translate!$G$3:$H$168,2,FALSE)),\"\",VLOOKUP(B504,Translate!$G$3:$H$168,2,FALSE))","v":""},{"$nulls":8},"",{"$nulls":9},0,0]
["Other long-term liabilities as at year end",null,"Rhwymedigaethau hirdymor eraill ar ddiwedd y flwyddyn",{"$f":"IF(ISERROR(VLOOKUP(B505,Translate!$G$3:$H$168,2,FALSE)),\"\",VLOOKUP(B505,Translate!$G$3:$H$168,2,FALSE))","v":""},{"$nulls":8},"",{"$nulls":9},0,0]
["Investments as at year end",null,"Buddsoddiadau ar ddiwedd y flwyddyn",{"$f":"IF(ISERROR(VLOOKUP(B506,Translate!$G$3:$H$168,2,FALSE)),\"\",VLOOKUP(B506,Translate!$G$3:$H$168,2,FALSE))","v":""},{"$nulls":8},"",{"$nulls":9},0,0]
["Operational boundary and authorised limit:",null,"Ffin weithredol a therfyn awdurdodedig",{"$f":"IF(ISERROR(VLOOKUP(B507,Translate!$G$3:$H$168,2,FALSE)),\"\",VLOOKUP(B507,Translate!$G$3:$H$168,2,FALSE))","v":""},{"$nulls":8},"",{"$nulls":9},0,0]
["Operational boundary for external debt as at start of year",null,"Ffin weithredol ar gyfer dyled allanol ar ddechrau'r flwyddyn",{"$f":"IF(ISERROR(VLOOKUP(B508,Translate!$G$3:$H$168,2,FALSE)),\"\",VLOOKUP(B508,Translate!$G$3:$H$168,2,FALSE))","v":""},{"$nulls":8},"",{"$nulls":9},0,0]
["Authorised limit for external debt as at start of year",null,"Terfyn awdurdodedig ar gyfer dyled allanol ar ddechrau'r flwyddyn",{"$f":"IF(ISERROR(VLOOKUP(B509,Translate!$G$3:$H$168,2,FALSE)),\"\",VLOOKUP(B509,Translate!$G$3:$H$168,2,FALSE))","v":""},{"$nulls":8},"",{"$nulls":9},0,0]
["Operational boundary for external debt as at year end",null,"Ffin weithredol ar gyfer dyled allanol ar ddiwedd y flwyddyn",{"$f":"IF(ISERROR(VLOOKUP(B510,Translate!$G$3:$H$168,2,FALSE)),\"\",VLOOKUP(B510,Translate!$G$3:$H$168,2,FALSE))","v":""},{"$nulls":8},"",{"$nulls":9},0,0]
["Authorised limit for external debt as at year end",null,"Terfyn awdurdodedig ar gyfer dyled allanol ar ddiwedd y flwyddyn",{"$f":"IF(ISERROR(VLOOKUP(B511,Translate!$G$3:$H$168,2,FALSE)),\"\",VLOOKUP(B511,Translate!$G$3:$H$168,2,FALSE))","v":""},{"$nulls":8},"",{"$nulls":9},0,0]
["Total receipts:",null,"Cyfanswm derbyniadau:",{"$f":"IF(ISERROR(VLOOKUP(B512,Translate!$G$3:$H$168,2,FALSE)),\"\",VLOOKUP(B512,Translate!$G$3:$H$168,2,FALSE))","v":""},{"$nulls":8},"",{"$nulls":9},0,0]
["Memorandum:",null,"Memorandwm:",{"$f":"IF(ISERROR(VLOOKUP(B513,Translate!$G$3:$H$168,2,FALSE)),\"\",VLOOKUP(B513,Translate!$G$3:$H$168,2,FALSE))","v":""},{"$nulls":8},"",{"$nulls":9},0,0]
["Additional liabilities of Local Authority companies:",null,"Rhwymedigaethau ychwanegol cwmnïau Awdurdodau Lleol:",{"$f":"IF(ISERROR(VLOOKUP(B514,Translate!$G$3:$H$168,2,FALSE)),\"\",VLOOKUP(B514,Translate!$G$3:$H$168,2,FALSE))","v":""},{"$nulls":8},"",{"$nulls":9},0,0]
["Gross borrowing and other long-term liabilities as at start of year",null,"Benthyca gros a rhwymedigaethau hirdymor eraill ar ddechrau'r flwyddyn",{"$f":"IF(ISERROR(VLOOKUP(B515,Translate!$G$3:$H$168,2,FALSE)),\"\",VLOOKUP(B515,Translate!$G$3:$H$168,2,FALSE))","v":""},{"$nulls":8},{"$f":"IF(ISERROR(FIND(\" (include\",O515)),\"\",RIGHT(O515,LEN(O515)-FIND(\" (include\",O515)))","v":""},{"$nulls":9},0,0]
["Gross borrowing and other long-term liabilities as at end of year",null,"Benthyca gros a rhwymedigaethau hirdymor eraill ar ddiwedd y flwyddyn",{"$f":"IF(ISERROR(VLOOKUP(B516,Translate!$G$3:$H$168,2,FALSE)),\"\",VLOOKUP(B516,Translate!$G$3:$H$168,2,FALSE))","v":""},{"$nulls":8},"",{"$nulls":9},0,0]
["Gross HRA unsupported borrowing:",null,"Benthyca HRA gros heb gymorth:",{"$f":"IF(ISERROR(VLOOKUP(B517,Translate!$G$3:$H$168,2,FALSE)),\"\",VLOOKUP(B517,Translate!$G$3:$H$168,2,FALSE))","v":""},{"$nulls":8},"",{"$nulls":9},0,0]
["At start of year",null,"Ar ddechrau'r flwyddyn",{"$f":"IF(ISERROR(VLOOKUP(B518,Translate!$G$3:$H$168,2,FALSE)),\"\",VLOOKUP(B518,Translate!$G$3:$H$168,2,FALSE))","v":""},{"$nulls":8},"",{"$nulls":9},0,0]
["At end of year",null,"Ar ddiwedd y flwyddyn",{"$f":"IF(ISERROR(VLOOKUP(B519,Translate!$G$3:$H$168,2,FALSE)),\"\",VLOOKUP(B519,Translate!$G$3:$H$168,2,FALSE))","v":""},{"$nulls":8},"",{"$nulls":9},0,0]
["The Authority’s figures for the LGBI for highways’ improvements",null,"Ffigurau'r Awdurdod ar gyfer y Fenter Benthyca Llywodraeth Leol (LGBI) ar gyfer gwella priffyrdd",{"$f":"IF(ISERROR(VLOOKUP(B520,Translate!$G$3:$H$168,2,FALSE)),\"\",VLOOKUP(B520,Translate!$G$3:$H$168,2,FALSE))","v":""},{"$nulls":8},"",{"$nulls":9},0,0]
["Amount included in line 31.1 above relating to the LGBI for highways’ improvements",null,"Swm sydd wedi'i gynnwys yn llinell 31.1 uchod sy'n gysylltiedig â'r LGBI ar gyfer gwella priffyrdd",{"$f":"IF(ISERROR(VLOOKUP(B521,Translate!$G$3:$H$168,2,FALSE)),\"\",VLOOKUP(B521,Translate!$G$3:$H$168,2,FALSE))","v":""},{"$nulls":8},"",{"$nulls":9},0,0]
["Please use white cells for input only",null,"Defnyddiwch y celloedd gwyn yn unig i gofnodi",{"$f":"IF(ISERROR(VLOOKUP(B522,Translate!$G$3:$H$168,2,FALSE)),\"\",VLOOKUP(B522,Translate!$G$3:$H$168,2,FALSE))","v":""},{"$nulls":8},"",{"$nulls":9},0,0]
["Blue cells are calculated",null,"Mae'r celloedd glas wedi'u cyfrifo",{"$f":"IF(ISERROR(VLOOKUP(B523,Translate!$G$3:$H$168,2,FALSE)),\"\",VLOOKUP(B523,Translate!$G$3:$H$168,2,FALSE))","v":""},{"$nulls":8},"",{"$nulls":9},0,0]
["Gold cells are not used",null,"Nid yw'r celloedd aur yn cael eu defnyddio",{"$f":"IF(ISERROR(VLOOKUP(B524,Translate!$G$3:$H$168,2,FALSE)),\"\",VLOOKUP(B524,Translate!$G$3:$H$168,2,FALSE))","v":""},{"$nulls":8},"",{"$nulls":9},0,0]
["Lines 32 and 19 should be equal.  Any difference is shown here:          ",null,"Dylai bod llinellau 32 a 19 yn hafal. Caiff unrhyw wahaniaeth ei ddangos yma:",{"$f":"IF(ISERROR(VLOOKUP(B525,Translate!$G$3:$H$168,2,FALSE)),\"\",VLOOKUP(B525,Translate!$G$3:$H$168,2,FALSE))","v":""},{"$nulls":8},"",{"$nulls":9},0,0]
["On Balance Sheet PFI Financing",null,"Cyllido PFI 'ar y fantolen'",{"$f":"IF(ISERROR(VLOOKUP(B526,Translate!$G$3:$H$168,2,FALSE)),\"\",VLOOKUP(B526,Translate!$G$3:$H$168,2,FALSE))","v":""},{"$nulls":8},"",{"$nulls":9},0,0]
["CAPITAL FINANCING",null,"Cyllido cyfalaf",{"$f":"IF(ISERROR(VLOOKUP(B527,Translate!$G$3:$H$168,2,FALSE)),\"\",VLOOKUP(B527,Translate!$G$3:$H$168,2,FALSE))","v":""},{"$nulls":8},"",{"$nulls":9},0,0]
["Line 30.1 and 30.2 greater than 0",null,"Llinell 30.1 a 30.2 yn fwy na 0",{"$f":"IF(ISERROR(VLOOKUP(B528,Translate!$G$3:$H$168,2,FALSE)),\"\",VLOOKUP(B528,Translate!$G$3:$H$168,2,FALSE))","v":""},{"$nulls":8},"",{"$nulls":9},0,0]
["Line 35 as a percentage of line 33",null,"Llinell 35 fel canran o linell 33",{"$f":"IF(ISERROR(VLOOKUP(B529,Translate!$G$3:$H$168,2,FALSE)),\"\",VLOOKUP(B529,Translate!$G$3:$H$168,2,FALSE))","v":""},{"$nulls":8},"",{"$nulls":9},0,0]
["Line 38 + line 39 greater than 0",null,"Llinell 38 + llinell 39 yn fwy na 0",{"$f":"IF(ISERROR(VLOOKUP(B530,Translate!$G$3:$H$168,2,FALSE)),\"\",VLOOKUP(B530,Translate!$G$3:$H$168,2,FALSE))","v":""},{"$nulls":8},"",{"$nulls":9},0,0]
["Line 38 + line 39 as a percentage of line 33",null,"Liinell 38 + llinell 39 fel canran o linell 33",{"$f":"IF(ISERROR(VLOOKUP(B531,Translate!$G$3:$H$168,2,FALSE)),\"\",VLOOKUP(B531,Translate!$G$3:$H$168,2,FALSE))","v":""},{"$nulls":8},"",{"$nulls":9},0,0]
["Line 40 or 43 greater than 1",null,"Llinell 40 neu 43 yn fwy nag 1",{"$f":"IF(ISERROR(VLOOKUP(B532,Translate!$G$3:$H$168,2,FALSE)),\"\",VLOOKUP(B532,Translate!$G$3:$H$168,2,FALSE))","v":""},{"$nulls":8},"",{"$nulls":9},0,0]
["Line 41 + line 42 greater than 0",null,"Llinell 41 + llinell 42 yn fwy na 0",{"$f":"IF(ISERROR(VLOOKUP(B533,Translate!$G$3:$H$168,2,FALSE)),\"\",VLOOKUP(B533,Translate!$G$3:$H$168,2,FALSE))","v":""},{"$nulls":8},"",{"$nulls":9},{"$f":"IF(LEFT(V533,1)=\" \",RIGHT(V533,LEN(V533)-1),V533)","v":0},{"$f":"IF(LEFT(W533,1)=\" \",1,0)","v":0}]
["Line 44 greater than or equal to line 38 + line 39",null,"Llinell 44 yn fwy na neu yn hafal i linell 38 + llinell 39",{"$f":"IF(ISERROR(VLOOKUP(B534,Translate!$G$3:$H$168,2,FALSE)),\"\",VLOOKUP(B534,Translate!$G$3:$H$168,2,FALSE))","v":""},{"$nulls":8},"",{"$nulls":9},0,0]
["Line 45 greater than or equal to line 44",null,"Llinell 45 yn fwy na neu yn hafal i linell 44",{"$f":"IF(ISERROR(VLOOKUP(B535,Translate!$G$3:$H$168,2,FALSE)),\"\",VLOOKUP(B535,Translate!$G$3:$H$168,2,FALSE))","v":""},{"$nulls":8},"",{"$nulls":9},0,0]
["Line 47 greater than or equal to line 46",null,"Llinell 47 yn fwy na neu yn hafal i linell 46",{"$f":"IF(ISERROR(VLOOKUP(B536,Translate!$G$3:$H$168,2,FALSE)),\"\",VLOOKUP(B536,Translate!$G$3:$H$168,2,FALSE))","v":""},{"$nulls":8},"",{"$nulls":9},0,0]
["Line 46 greater than or equal to line 41 + line 42",null,"Llinell 46 yn fwy na neu yn hafal i linell 41 + llinell 42",{"$f":"IF(ISERROR(VLOOKUP(B537,Translate!$G$3:$H$168,2,FALSE)),\"\",VLOOKUP(B537,Translate!$G$3:$H$168,2,FALSE))","v":""},{"$nulls":8},"",{"$nulls":9},0,0]
["Line 45 greater than or equal to line 37",null,"Llinell 45 yn fwy na neu yn hafal i linell 37",{"$f":"IF(ISERROR(VLOOKUP(B538,Translate!$G$3:$H$168,2,FALSE)),\"\",VLOOKUP(B538,Translate!$G$3:$H$168,2,FALSE))","v":""},{"$nulls":8},"",{"$nulls":9},0,0]
["Line 47 greater than or equal to line 37",null,"Llinell 47 yn fwy na neu yn hafal i linell 37",{"$f":"IF(ISERROR(VLOOKUP(B539,Translate!$G$3:$H$168,2,FALSE)),\"\",VLOOKUP(B539,Translate!$G$3:$H$168,2,FALSE))","v":""},{"$nulls":8},"",{"$nulls":9},0,0]
["Line 48 less than half of line 38 + line 39",null,"Llinell 48 yn llai na hanner llinell 38 + llinell 39",{"$f":"IF(ISERROR(VLOOKUP(B540,Translate!$G$3:$H$168,2,FALSE)),\"\",VLOOKUP(B540,Translate!$G$3:$H$168,2,FALSE))","v":""},{"$nulls":8},"",{"$nulls":9},0,0]
["Line 49 + less than half of line 41 + line 42",null,"Llinell 49 + yn llai na hanner llinell 41 + llinell 42",{"$f":"IF(ISERROR(VLOOKUP(B541,Translate!$G$3:$H$168,2,FALSE)),\"\",VLOOKUP(B541,Translate!$G$3:$H$168,2,FALSE))","v":""},{"$nulls":8},"",{"$nulls":9},0,0]
["Line 43 greater than 0",null,"Llinell 43 yn fwy na 0",{"$f":"IF(ISERROR(VLOOKUP(B542,Translate!$G$3:$H$168,2,FALSE)),\"\",VLOOKUP(B542,Translate!$G$3:$H$168,2,FALSE))","v":""},{"$nulls":8},"",{"$nulls":9},0,0]
["Line 44 greater than 0",null,"Llinell 44 yn fwy na 0",{"$f":"IF(ISERROR(VLOOKUP(B543,Translate!$G$3:$H$168,2,FALSE)),\"\",VLOOKUP(B543,Translate!$G$3:$H$168,2,FALSE))","v":""},{"$nulls":8},"",{"$nulls":9},0,0]
["Line 45 greater than 0",null,"Llinell 45 yn fwy na 0",{"$f":"IF(ISERROR(VLOOKUP(B544,Translate!$G$3:$H$168,2,FALSE)),\"\",VLOOKUP(B544,Translate!$G$3:$H$168,2,FALSE))","v":""},{"$nulls":8},"",{"$nulls":9},0,0]
["Line 46 greater than 0",null,"Llinell 46 yn fwy na 0",{"$f":"IF(ISERROR(VLOOKUP(B545,Translate!$G$3:$H$168,2,FALSE)),\"\",VLOOKUP(B545,Translate!$G$3:$H$168,2,FALSE))","v":""},{"$nulls":8},"",{"$nulls":9},0,0]
["Line 47 greater than 0",null,"Llinell 47 yn fwy na 0",{"$f":"IF(ISERROR(VLOOKUP(B546,Translate!$G$3:$H$168,2,FALSE)),\"\",VLOOKUP(B546,Translate!$G$3:$H$168,2,FALSE))","v":""},{"$nulls":8},"",{"$nulls":9},0,0]
["Total",null,"Cyfanswm",{"$f":"IF(ISERROR(VLOOKUP(B547,Translate!$G$3:$H$168,2,FALSE)),\"\",VLOOKUP(B547,Translate!$G$3:$H$168,2,FALSE))","v":""},{"$nulls":8},"",{"$nulls":9},0,0]
["comment",null,"sylw",{"$f":"IF(ISERROR(VLOOKUP(B548,Translate!$G$3:$H$168,2,FALSE)),\"\",VLOOKUP(B548,Translate!$G$3:$H$168,2,FALSE))","v":""},{"$nulls":8},"",{"$nulls":9},0,0]
["Please use the box below to give a brief supporting narrative of any major change in circumstances that might have an influence on",null,"Defnyddiwch y blwch isod i roi naratif ategol cryno ar unrhyw newid mewn amgylchiadau a allai effeithio ar",{"$f":"IF(ISERROR(VLOOKUP(B549,Translate!$G$3:$H$168,2,FALSE)),\"\",VLOOKUP(B549,Translate!$G$3:$H$168,2,FALSE))","v":""},{"$nulls":8},"",{"$nulls":9},0,0]
["forecast figures around this time.",null,"y ffigurau rhagolygol o gwmpas yr amser hwn.",{"$f":"IF(ISERROR(VLOOKUP(B550,Translate!$G$3:$H$168,2,FALSE)),\"\",VLOOKUP(B550,Translate!$G$3:$H$168,2,FALSE))","v":""},{"$nulls":8},"",{"$nulls":9},0,0]
["For example, significant changes or shifts in forecasts could be caused by: delays to projects, changing priorities for capital investment",null,"Er enghraifft, gallai'r canlynol achosi newid neu addasiad i'r rhagolygon: oedi o ran prosiectau, newid blaenoriaethau ar gyfer budssoddi cyfalaf",{"$f":"IF(ISERROR(VLOOKUP(B551,Translate!$G$3:$H$168,2,FALSE)),\"\",VLOOKUP(B551,Translate!$G$3:$H$168,2,FALSE))","v":""},{"$nulls":8},"",{"$nulls":9},0,0]
["or to tentatively identify any capital expenditure which may need to be covered by a capitalisation direction.",null,"neu i bennu - dros dro - unrhyw wariant cyfalaf y gellid bod angen cyfarwyddyd cyfalafu ar ei gyfer. ",{"$f":"IF(ISERROR(VLOOKUP(B552,Translate!$G$3:$H$168,2,FALSE)),\"\",VLOOKUP(B552,Translate!$G$3:$H$168,2,FALSE))","v":""},{"$nulls":8},"",{"$nulls":9},0,0]
["Written off as bad debts in-year",null,"   Y swm a gafodd ei ddileu fel dyled ddrwg yn ystod y flwyddyn",{"$f":"IF(ISERROR(VLOOKUP(B553,Translate!$G$3:$H$168,2,FALSE)),\"\",VLOOKUP(B553,Translate!$G$3:$H$168,2,FALSE))","v":""},{"$nulls":8},"",{"$nulls":9},0,0]
["Received in-year",null,"   Y swm a gafwyd yn ystod y flwyddyn",{"$f":"IF(ISERROR(VLOOKUP(B554,Translate!$G$3:$H$168,2,FALSE)),\"\",VLOOKUP(B554,Translate!$G$3:$H$168,2,FALSE))","v":""},{"$nulls":8},"",{"$nulls":9},0,0]
["Arrears outstanding at the end of the year (line 3 - line 4 - line 5)",null,"   Yr ôl-ddyledion heb eu talu ar ddiwedd y flwyddyn (llinell 3 - llinell 4 - \n   llinell 5)",{"$f":"IF(ISERROR(VLOOKUP(B555,Translate!$G$3:$H$168,2,FALSE)),\"\",VLOOKUP(B555,Translate!$G$3:$H$168,2,FALSE))","v":""},{"$nulls":8},"",{"$nulls":9},0,0]
["£ thousand",null,"£ miloedd",{"$f":"IF(ISERROR(VLOOKUP(B556,Translate!$G$3:$H$168,2,FALSE)),\"\",VLOOKUP(B556,Translate!$G$3:$H$168,2,FALSE))","v":""},{"$nulls":8},"",{"$nulls":9},0,0]
["'+ Line 16 (£K)",null,"+ llinell 16 (£K)",{"$f":"IF(ISERROR(VLOOKUP(B557,Translate!$G$3:$H$168,2,FALSE)),\"\",VLOOKUP(B557,Translate!$G$3:$H$168,2,FALSE))","v":""},{"$nulls":8},"",{"$nulls":9},0,0]
["'+ row 10",null,"+ rhes 10",{"$f":"IF(ISERROR(VLOOKUP(B558,Translate!$G$3:$H$168,2,FALSE)),\"\",VLOOKUP(B558,Translate!$G$3:$H$168,2,FALSE))","v":""},{"$nulls":8},"",{"$nulls":9},0,0]
["1 April 1993 to 31 March 2015",null,"1 Ebrill 1993 i 31 Mawrth 2015",{"$f":"IF(ISERROR(VLOOKUP(B559,Translate!$G$3:$H$168,2,FALSE)),\"\",VLOOKUP(B559,Translate!$G$3:$H$168,2,FALSE))","v":""},{"$nulls":8},"",{"$nulls":9},0,0]
["transport companies",null,"cwmniau trafnidiaeth gyhoeddus",{"$f":"IF(ISERROR(VLOOKUP(B560,Translate!$G$3:$H$168,2,FALSE)),\"\",VLOOKUP(B560,Translate!$G$3:$H$168,2,FALSE))","v":""},{"$nulls":8},"",{"$nulls":9},0,0]
["of which:",null,"ac o hynny:",{"$f":"IF(ISERROR(VLOOKUP(B561,Translate!$G$3:$H$168,2,FALSE)),\"\",VLOOKUP(B561,Translate!$G$3:$H$168,2,FALSE))","v":""},{"$nulls":8},"",{"$nulls":9},0,0]
["Commutation adjustment",null,"Addasiad cymudiad",{"$f":"IF(ISERROR(VLOOKUP(B562,Translate!$G$3:$H$168,2,FALSE)),\"\",VLOOKUP(B562,Translate!$G$3:$H$168,2,FALSE))","v":""},{"$nulls":8},"",{"$nulls":9},0,0]
["Other adjustments",null,"Addasiadau eraill",{"$f":"IF(ISERROR(VLOOKUP(B563,Translate!$G$3:$H$168,2,FALSE)),\"\",VLOOKUP(B563,Translate!$G$3:$H$168,2,FALSE))","v":""},{"$nulls":8},"",{"$nulls":9},0,0]
["Other adjustments to net current expenditure",null,"Addasiadau eraill i wariant net cyfredol",{"$f":"IF(ISERROR(VLOOKUP(B564,Translate!$G$3:$H$168,2,FALSE)),\"\",VLOOKUP(B564,Translate!$G$3:$H$168,2,FALSE))","v":""},{"$nulls":8},"",{"$nulls":9},0,0]
["Adjustment for contributions to (col 1b) / from (col 6b) school reserves (see note)",null,"Addasiadau ar gyfer cyfraniadau i 1(b) / o (6b) gronfeydd wrth gefn ysgolion",{"$f":"IF(ISERROR(VLOOKUP(B565,Translate!$G$3:$H$168,2,FALSE)),\"\",VLOOKUP(B565,Translate!$G$3:$H$168,2,FALSE))","v":""},{"$nulls":8},"",{"$nulls":9},0,0]
["In year Council Tax adjustments",null,"Addasiadau'r Dreth Gyngor yn ystod y flwyddyn",{"$f":"IF(ISERROR(VLOOKUP(B566,Translate!$G$3:$H$168,2,FALSE)),\"\",VLOOKUP(B566,Translate!$G$3:$H$168,2,FALSE))","v":""},{"$nulls":8},"",{"$nulls":9},0,0]
["Other continuing education",null,"Addysg barhaus arall ",{"$f":"IF(ISERROR(VLOOKUP(B567,Translate!$G$3:$H$168,2,FALSE)),\"\",VLOOKUP(B567,Translate!$G$3:$H$168,2,FALSE))","v":""},{"$nulls":8},"",{"$nulls":9},0,0]
["Special education",null,"Addysg arbennig",{"$f":"IF(ISERROR(VLOOKUP(B568,Translate!$G$3:$H$168,2,FALSE)),\"\",VLOOKUP(B568,Translate!$G$3:$H$168,2,FALSE))","v":""},{"$nulls":8},"",{"$nulls":9},0,0]
["Special education:",null,"Addysg arbennig:",{"$f":"IF(ISERROR(VLOOKUP(B569,Translate!$G$3:$H$168,2,FALSE)),\"\",VLOOKUP(B569,Translate!$G$3:$H$168,2,FALSE))","v":""},{"$nulls":8},"",{"$nulls":9},0,0]
["Continuing education:",null,"Addysg barhaus:",{"$f":"IF(ISERROR(VLOOKUP(B570,Translate!$G$3:$H$168,2,FALSE)),\"\",VLOOKUP(B570,Translate!$G$3:$H$168,2,FALSE))","v":""},{"$nulls":8},"",{"$nulls":9},0,0]
["Pre-primary education",null,"Addysg cyn-gynradd",{"$f":"IF(ISERROR(VLOOKUP(B571,Translate!$G$3:$H$168,2,FALSE)),\"\",VLOOKUP(B571,Translate!$G$3:$H$168,2,FALSE))","v":""},{"$nulls":8},"",{"$nulls":9},0,0]
["Road safety education and safe routes (including school crossing patrols)",null,"Addysg diogelwch ar y ffyrdd a llwybrau diogel (gan gynnwys hebryngwyr croesfannau ysgol)",{"$f":"IF(ISERROR(VLOOKUP(B572,Translate!$G$3:$H$168,2,FALSE)),\"\",VLOOKUP(B572,Translate!$G$3:$H$168,2,FALSE))","v":""},{"$nulls":8},"",{"$nulls":9},0,0]
["Community education",null,"Addysg gymunedol",{"$f":"IF(ISERROR(VLOOKUP(B573,Translate!$G$3:$H$168,2,FALSE)),\"\",VLOOKUP(B573,Translate!$G$3:$H$168,2,FALSE))","v":""},{"$nulls":8},"",{"$nulls":9},0,0]
["Primary education",null,"Addysg gynradd",{"$f":"IF(ISERROR(VLOOKUP(B574,Translate!$G$3:$H$168,2,FALSE)),\"\",VLOOKUP(B574,Translate!$G$3:$H$168,2,FALSE))","v":""},{"$nulls":8},"",{"$nulls":9},0,0]
["Adult education",null,"Addysg i oedolion",{"$f":"IF(ISERROR(VLOOKUP(B575,Translate!$G$3:$H$168,2,FALSE)),\"\",VLOOKUP(B575,Translate!$G$3:$H$168,2,FALSE))","v":""},{"$nulls":8},"",{"$nulls":9},0,0]
["Education of children looked after",null,"Addysg plant sy'n derbyn gofal",{"$f":"IF(ISERROR(VLOOKUP(B576,Translate!$G$3:$H$168,2,FALSE)),\"\",VLOOKUP(B576,Translate!$G$3:$H$168,2,FALSE))","v":""},{"$nulls":8},"",{"$nulls":9},0,0]
["Secondary education",null,"Addysg uwchradd",{"$f":"IF(ISERROR(VLOOKUP(B577,Translate!$G$3:$H$168,2,FALSE)),\"\",VLOOKUP(B577,Translate!$G$3:$H$168,2,FALSE))","v":""},{"$nulls":8},"",{"$nulls":9},0,0]
["Education:",null,"Addysg:",{"$f":"IF(ISERROR(VLOOKUP(B578,Translate!$G$3:$H$168,2,FALSE)),\"\",VLOOKUP(B578,Translate!$G$3:$H$168,2,FALSE))","v":""},{"$nulls":8},"",{"$nulls":9},0,0]
["Private sector housing renewal",null,"Adnewyddu tai'r sector preifat",{"$f":"IF(ISERROR(VLOOKUP(B579,Translate!$G$3:$H$168,2,FALSE)),\"\",VLOOKUP(B579,Translate!$G$3:$H$168,2,FALSE))","v":""},{"$nulls":8},{"$f":"IF(ISERROR(FIND(\" (include\",O579)),\"\",RIGHT(O579,LEN(O579)-FIND(\" (include\",O579)))","v":""},{"$nulls":9},0,0]
["SECTION A - Council tax",null,"ADRAN A – y Dreth Gyngor",{"$f":"IF(ISERROR(VLOOKUP(B580,Translate!$G$3:$H$168,2,FALSE)),\"\",VLOOKUP(B580,Translate!$G$3:$H$168,2,FALSE))","v":""},{"$nulls":8},"",{"$nulls":9},0,0]
["SECTION B - Non-domestic rates",null,"ADRAN B – Ardrethi annomestig",{"$f":"IF(ISERROR(VLOOKUP(B581,Translate!$G$3:$H$168,2,FALSE)),\"\",VLOOKUP(B581,Translate!$G$3:$H$168,2,FALSE))","v":""},{"$nulls":8},"",{"$nulls":9},0,0]
["Recycling",null,"Ailgylchu",{"$f":"IF(ISERROR(VLOOKUP(B582,Translate!$G$3:$H$168,2,FALSE)),\"\",VLOOKUP(B582,Translate!$G$3:$H$168,2,FALSE))","v":""},{"$nulls":8},"",{"$nulls":9},0,0]
["Waste minimisation",null,"Lleihau gwastraff",{"$f":"IF(ISERROR(VLOOKUP(B583,Translate!$G$3:$H$168,2,FALSE)),\"\",VLOOKUP(B583,Translate!$G$3:$H$168,2,FALSE))","v":""},{"$nulls":8},"",{"$nulls":9},0,0]
["Other agriculture and fisheries",null,"Arall - Amaethyddiaeth a physgodfeydd",{"$f":"IF(ISERROR(VLOOKUP(B584,Translate!$G$3:$H$168,2,FALSE)),\"\",VLOOKUP(B584,Translate!$G$3:$H$168,2,FALSE))","v":""},{"$nulls":8},"",{"$nulls":9},0,0]
["Agriculture and fisheries:",null,"Amaethyddiaeth a physgodfeydd:",{"$f":"IF(ISERROR(VLOOKUP(B585,Translate!$G$3:$H$168,2,FALSE)),\"\",VLOOKUP(B585,Translate!$G$3:$H$168,2,FALSE))","v":""},{"$nulls":8},"",{"$nulls":9},0,0]
["Estimated in-year net collectable debit",null,"Amcangyfrif o ddebyd net sydd i'w gasglu yn ystod y flwyddyn",{"$f":"IF(ISERROR(VLOOKUP(B586,Translate!$G$3:$H$168,2,FALSE)),\"\",VLOOKUP(B586,Translate!$G$3:$H$168,2,FALSE))","v":""},{"$nulls":8},"",{"$nulls":9},0,0]
["Coast protection",null,"Amddiffyn yr arfordir",{"$f":"IF(ISERROR(VLOOKUP(B587,Translate!$G$3:$H$168,2,FALSE)),\"\",VLOOKUP(B587,Translate!$G$3:$H$168,2,FALSE))","v":""},{"$nulls":8},"",{"$nulls":9},0,0]
["Museums and art galleries",null,"Amgueddfeydd ac orielau celf",{"$f":"IF(ISERROR(VLOOKUP(B588,Translate!$G$3:$H$168,2,FALSE)),\"\",VLOOKUP(B588,Translate!$G$3:$H$168,2,FALSE))","v":""},{"$nulls":8},"",{"$nulls":9},0,0]
["Museums and galleries",null,"Amgueddfeydd ac orielau",{"$f":"IF(ISERROR(VLOOKUP(B589,Translate!$G$3:$H$168,2,FALSE)),\"\",VLOOKUP(B589,Translate!$G$3:$H$168,2,FALSE))","v":""},{"$nulls":8},"",{"$nulls":9},0,0]
["Miscellaneous",null,"Amrywiol",{"$f":"IF(ISERROR(VLOOKUP(B590,Translate!$G$3:$H$168,2,FALSE)),\"\",VLOOKUP(B590,Translate!$G$3:$H$168,2,FALSE))","v":""},{"$nulls":8},"",{"$nulls":9},0,0]
["Other services to adults aged under 65 with a physical disability or sensory impairment",null,"Gwasanaethau eraill i oedolion o dan 65 oed sydd ag anabledd corfforol neu nam ar eu synhwyrau",{"$f":"IF(ISERROR(VLOOKUP(B591,Translate!$G$3:$H$168,2,FALSE)),\"\",VLOOKUP(B591,Translate!$G$3:$H$168,2,FALSE))","v":""},{"$nulls":8},"",{"$nulls":9},0,0]
["Other services to adults aged under 65 with learning disabilities",null,"Gwasanaethau eraill i oedolion o dan 65 oed sydd ag anableddau dysgu",{"$f":"IF(ISERROR(VLOOKUP(B592,Translate!$G$3:$H$168,2,FALSE)),\"\",VLOOKUP(B592,Translate!$G$3:$H$168,2,FALSE))","v":""},{"$nulls":8},"",{"$nulls":9},0,0]
["Additional learning needs - special",null,"Anghenion dysgu ychwanegol - Ysgolion arbennig",{"$f":"IF(ISERROR(VLOOKUP(B593,Translate!$G$3:$H$168,2,FALSE)),\"\",VLOOKUP(B593,Translate!$G$3:$H$168,2,FALSE))","v":""},{"$nulls":8},"",{"$nulls":9},0,0]
["Additional learning needs - middle",null,"Anghenion dysgu ychwanegol - Ysgolion canol",{"$f":"IF(ISERROR(VLOOKUP(B594,Translate!$G$3:$H$168,2,FALSE)),\"\",VLOOKUP(B594,Translate!$G$3:$H$168,2,FALSE))","v":""},{"$nulls":8},"",{"$nulls":9},0,0]
["Additional learning needs - primary",null,"Anghenion dysgu ychwanegol - Ysgolion cynradd",{"$f":"IF(ISERROR(VLOOKUP(B595,Translate!$G$3:$H$168,2,FALSE)),\"\",VLOOKUP(B595,Translate!$G$3:$H$168,2,FALSE))","v":""},{"$nulls":8},"",{"$nulls":9},0,0]
["Additional learning needs - nursery",null,"Anghenion dysgu ychwanegol - Ysgolion meithrin",{"$f":"IF(ISERROR(VLOOKUP(B596,Translate!$G$3:$H$168,2,FALSE)),\"\",VLOOKUP(B596,Translate!$G$3:$H$168,2,FALSE))","v":""},{"$nulls":8},"",{"$nulls":9},0,0]
["Additional learning needs - secondary",null,"Anghenion dysgu ychwanegol - Ysgolion uwchradd",{"$f":"IF(ISERROR(VLOOKUP(B597,Translate!$G$3:$H$168,2,FALSE)),\"\",VLOOKUP(B597,Translate!$G$3:$H$168,2,FALSE))","v":""},{"$nulls":8},"",{"$nulls":9},{"$f":"IF(LEFT(V597,1)=\" \",RIGHT(V597,LEN(V597)-1),V597)","v":0},{"$f":"IF(LEFT(W597,1)=\" \",1,0)","v":0}]
["Other",null,"Arall",{"$f":"IF(ISERROR(VLOOKUP(B598,Translate!$G$3:$H$168,2,FALSE)),\"\",VLOOKUP(B598,Translate!$G$3:$H$168,2,FALSE))","v":""},{"$nulls":8},"",{"$nulls":9},0,0]
["Archives",null,"Archifau",{"$f":"IF(ISERROR(VLOOKUP(B599,Translate!$G$3:$H$168,2,FALSE)),\"\",VLOOKUP(B599,Translate!$G$3:$H$168,2,FALSE))","v":""},{"$nulls":8},"",{"$nulls":9},0,0]
["Levies",null,"Ardollau",{"$f":"IF(ISERROR(VLOOKUP(B600,Translate!$G$3:$H$168,2,FALSE)),\"\",VLOOKUP(B600,Translate!$G$3:$H$168,2,FALSE))","v":""},{"$nulls":8},"",{"$nulls":9},0,0]
["Other levies",null,"Ardollau eraill",{"$f":"IF(ISERROR(VLOOKUP(B601,Translate!$G$3:$H$168,2,FALSE)),\"\",VLOOKUP(B601,Translate!$G$3:$H$168,2,FALSE))","v":""},{"$nulls":8},"",{"$nulls":9},0,0]
["Levies to national police services",null,"Ardollau i wasanaethau heddlu cenedlaethol",{"$f":"IF(ISERROR(VLOOKUP(B602,Translate!$G$3:$H$168,2,FALSE)),\"\",VLOOKUP(B602,Translate!$G$3:$H$168,2,FALSE))","v":""},{"$nulls":8},"",{"$nulls":9},0,0]
["Levies to/from national parks",null,"Ardollau i/o parciau cenedlaethol",{"$f":"IF(ISERROR(VLOOKUP(B603,Translate!$G$3:$H$168,2,FALSE)),\"\",VLOOKUP(B603,Translate!$G$3:$H$168,2,FALSE))","v":""},{"$nulls":8},"",{"$nulls":9},0,0]
["Levies paid to the Internal Drainage Boards",null,"Ardollau a dalwyd i Fyrddau Draenio Mewnol",{"$f":"IF(ISERROR(VLOOKUP(B604,Translate!$G$3:$H$168,2,FALSE)),\"\",VLOOKUP(B604,Translate!$G$3:$H$168,2,FALSE))","v":""},{"$nulls":8},"",{"$nulls":9},0,0]
["Levies paid to the Environment Agency in respect of",null,"Ardollau a dalwyd i Asiantaeh yr Amgylchedd mewn perthynas â",{"$f":"IF(ISERROR(VLOOKUP(B605,Translate!$G$3:$H$168,2,FALSE)),\"\",VLOOKUP(B605,Translate!$G$3:$H$168,2,FALSE))","v":""},{"$nulls":8},"",{"$nulls":9},0,0]
["Levies paid to the Environment Agency acting as an",null,"Ardollau a dalwyd i Asiantaeth yr Amgylchedd yn gweithredu fel ",{"$f":"IF(ISERROR(VLOOKUP(B606,Translate!$G$3:$H$168,2,FALSE)),\"\",VLOOKUP(B606,Translate!$G$3:$H$168,2,FALSE))","v":""},{"$nulls":8},"",{"$nulls":9},0,0]
["Non distributed costs",null,"Costau heb eu dosbarthu",{"$f":"IF(ISERROR(VLOOKUP(B607,Translate!$G$3:$H$168,2,FALSE)),\"\",VLOOKUP(B607,Translate!$G$3:$H$168,2,FALSE))","v":""},{"$nulls":8},"",{"$nulls":9},0,0]
["adjustment account",null,"cyfrif addasiad",{"$f":"IF(ISERROR(VLOOKUP(B608,Translate!$G$3:$H$168,2,FALSE)),\"\",VLOOKUP(B608,Translate!$G$3:$H$168,2,FALSE))","v":""},{"$nulls":8},"",{"$nulls":9},0,0]
["Debt financing",null,"Ariannu dyled",{"$f":"IF(ISERROR(VLOOKUP(B609,Translate!$G$3:$H$168,2,FALSE)),\"\",VLOOKUP(B609,Translate!$G$3:$H$168,2,FALSE))","v":""},{"$nulls":8},"",{"$nulls":9},0,0]
["School catering",null,"Arlwyo mewn ysgolion",{"$f":"IF(ISERROR(VLOOKUP(B610,Translate!$G$3:$H$168,2,FALSE)),\"\",VLOOKUP(B610,Translate!$G$3:$H$168,2,FALSE))","v":""},{"$nulls":8},"",{"$nulls":9},0,0]
["School catering - special",null,"Arlwyo mewn ysgolion - Ysgolion arbennig",{"$f":"IF(ISERROR(VLOOKUP(B611,Translate!$G$3:$H$168,2,FALSE)),\"\",VLOOKUP(B611,Translate!$G$3:$H$168,2,FALSE))","v":""},{"$nulls":8},"",{"$nulls":9},0,0]
["School catering - middle",null,"Arlwyo mewn ysgolion - Ysgolion canol",{"$f":"IF(ISERROR(VLOOKUP(B612,Translate!$G$3:$H$168,2,FALSE)),\"\",VLOOKUP(B612,Translate!$G$3:$H$168,2,FALSE))","v":""},{"$nulls":8},"",{"$nulls":9},0,0]
["School catering - primary",null,"Arlwyo mewn ysgolion - Ysgolion cynradd",{"$f":"IF(ISERROR(VLOOKUP(B613,Translate!$G$3:$H$168,2,FALSE)),\"\",VLOOKUP(B613,Translate!$G$3:$H$168,2,FALSE))","v":""},{"$nulls":8},"",{"$nulls":9},0,0]
["School catering - nursery",null,"Arlwyo mewn ysgolion - Ysgolion meithrin",{"$f":"IF(ISERROR(VLOOKUP(B614,Translate!$G$3:$H$168,2,FALSE)),\"\",VLOOKUP(B614,Translate!$G$3:$H$168,2,FALSE))","v":""},{"$nulls":8},"",{"$nulls":9},0,0]
["School catering - secondary",null,"Arlwyo mewn ysgolion - Ysgolion uwchradd",{"$f":"IF(ISERROR(VLOOKUP(B615,Translate!$G$3:$H$168,2,FALSE)),\"\",VLOOKUP(B615,Translate!$G$3:$H$168,2,FALSE))","v":""},{"$nulls":8},"",{"$nulls":9},0,0]
["Assessment and care management",null,"Asesu a rheoli gofal",{"$f":"IF(ISERROR(VLOOKUP(B616,Translate!$G$3:$H$168,2,FALSE)),\"\",VLOOKUP(B616,Translate!$G$3:$H$168,2,FALSE))","v":""},{"$nulls":8},"",{"$nulls":9},0,0]
["Repairs and maintenance",null,"Atgyweirio a chynnal a chadw ",{"$f":"IF(ISERROR(VLOOKUP(B617,Translate!$G$3:$H$168,2,FALSE)),\"\",VLOOKUP(B617,Translate!$G$3:$H$168,2,FALSE))","v":""},{"$nulls":8},"",{"$nulls":9},0,0]
["Teachers",null,"Athrawon",{"$f":"IF(ISERROR(VLOOKUP(B618,Translate!$G$3:$H$168,2,FALSE)),\"\",VLOOKUP(B618,Translate!$G$3:$H$168,2,FALSE))","v":""},{"$nulls":8},"",{"$nulls":9},0,0]
["Authority",null,"Awdurdod",{"$f":"IF(ISERROR(VLOOKUP(B619,Translate!$G$3:$H$168,2,FALSE)),\"\",VLOOKUP(B619,Translate!$G$3:$H$168,2,FALSE))","v":""},{"$nulls":8},"",{"$nulls":9},0,0]
["Housing advances",null,"Blaensymiau tai",{"$f":"IF(ISERROR(VLOOKUP(B620,Translate!$G$3:$H$168,2,FALSE)),\"\",VLOOKUP(B620,Translate!$G$3:$H$168,2,FALSE))","v":""},{"$nulls":8},"",{"$nulls":9},0,0]
["Capital financing element within Private Finance",null,"Elfen cyllido cyfalaf o fewn Cyllid Preifat",{"$f":"IF(ISERROR(VLOOKUP(B621,Translate!$G$3:$H$168,2,FALSE)),\"\",VLOOKUP(B621,Translate!$G$3:$H$168,2,FALSE))","v":""},{"$nulls":8},"",{"$nulls":9},0,0]
["BR1, line 5 (£K)",null,"BR1, llinell 5 (£K)",{"$f":"IF(ISERROR(VLOOKUP(B622,Translate!$G$3:$H$168,2,FALSE)),\"\",VLOOKUP(B622,Translate!$G$3:$H$168,2,FALSE))","v":""},{"$nulls":8},"",{"$nulls":9},0,0]
["BR1, line 7",null,"BR1, llinell 7",{"$f":"IF(ISERROR(VLOOKUP(B623,Translate!$G$3:$H$168,2,FALSE)),\"\",VLOOKUP(B623,Translate!$G$3:$H$168,2,FALSE))","v":""},{"$nulls":8},"",{"$nulls":9},0,0]
["Council tax benefit and administration (e)",null,"Budd-dal y dreth gyngor a gweinyddiaeth (e)",{"$f":"IF(ISERROR(VLOOKUP(B624,Translate!$G$3:$H$168,2,FALSE)),\"\",VLOOKUP(B624,Translate!$G$3:$H$168,2,FALSE))","v":""},{"$nulls":8},"",{"$nulls":9},0,0]
["Council tax benefit, administration and local tax collection:",null,"Budd-dâl y dreth gyngor, gweinyddu a chasglu'r dreth leol:",{"$f":"IF(ISERROR(VLOOKUP(B625,Translate!$G$3:$H$168,2,FALSE)),\"\",VLOOKUP(B625,Translate!$G$3:$H$168,2,FALSE))","v":""},{"$nulls":8},"",{"$nulls":9},0,0]
["Local safeguarding children board",null,"Bwrdd Lleol Diogelu Plant",{"$f":"IF(ISERROR(VLOOKUP(B626,Translate!$G$3:$H$168,2,FALSE)),\"\",VLOOKUP(B626,Translate!$G$3:$H$168,2,FALSE))","v":""},{"$nulls":8},"",{"$nulls":9},0,0]
["Conservation of cultural heritage",null,"Cadwraeth treftadaeth ddiwylliannol",{"$f":"IF(ISERROR(VLOOKUP(B627,Translate!$G$3:$H$168,2,FALSE)),\"\",VLOOKUP(B627,Translate!$G$3:$H$168,2,FALSE))","v":""},{"$nulls":8},"",{"$nulls":9},0,0]
["Conservation of the natural environment",null,"Cadwraeth yr amgylchedd naturiol",{"$f":"IF(ISERROR(VLOOKUP(B628,Translate!$G$3:$H$168,2,FALSE)),\"\",VLOOKUP(B628,Translate!$G$3:$H$168,2,FALSE))","v":""},{"$nulls":8},"",{"$nulls":9},0,0]
["Substance abuse (addictions)",null,"Camddefnyddio sylweddau (dibyniaeth)",{"$f":"IF(ISERROR(VLOOKUP(B629,Translate!$G$3:$H$168,2,FALSE)),\"\",VLOOKUP(B629,Translate!$G$3:$H$168,2,FALSE))","v":""},{"$nulls":8},"",{"$nulls":9},0,0]
["Children's Centres/Flying Start and Early Years",null,"Canolfannau Plant / Dechrau’n Deg a'r Blynyddoedd Cynnar",{"$f":"IF(ISERROR(VLOOKUP(B630,Translate!$G$3:$H$168,2,FALSE)),\"\",VLOOKUP(B630,Translate!$G$3:$H$168,2,FALSE))","v":""},{"$nulls":8},"",{"$nulls":9},0,0]
["Percentage",null,"Canran",{"$f":"IF(ISERROR(VLOOKUP(B631,Translate!$G$3:$H$168,2,FALSE)),\"\",VLOOKUP(B631,Translate!$G$3:$H$168,2,FALSE))","v":""},{"$nulls":8},"",{"$nulls":9},0,0]
["Local tax collection",null,"Casglu'r dreth leol",{"$f":"IF(ISERROR(VLOOKUP(B632,Translate!$G$3:$H$168,2,FALSE)),\"\",VLOOKUP(B632,Translate!$G$3:$H$168,2,FALSE))","v":""},{"$nulls":8},"",{"$nulls":9},0,0]
["Waste collection",null,"Casglu gwastraff",{"$f":"IF(ISERROR(VLOOKUP(B633,Translate!$G$3:$H$168,2,FALSE)),\"\",VLOOKUP(B633,Translate!$G$3:$H$168,2,FALSE))","v":""},{"$nulls":8},"",{"$nulls":9},0,0]
["Waste disposal",null,"Gwaredu gwastraff",{"$f":"IF(ISERROR(VLOOKUP(B634,Translate!$G$3:$H$168,2,FALSE)),\"\",VLOOKUP(B634,Translate!$G$3:$H$168,2,FALSE))","v":""},{"$nulls":8},"",{"$nulls":9},0,0]
["collection, analysis and aggregation of records and data required;",null,"casglu, dadansoddi a chyfuno'r cofnodion a'r data gofynnol",{"$f":"IF(ISERROR(VLOOKUP(B635,Translate!$G$3:$H$168,2,FALSE)),\"\",VLOOKUP(B635,Translate!$G$3:$H$168,2,FALSE))","v":""},{"$nulls":8},"",{"$nulls":9},0,0]
["CTC (row 8), 2014-15",null,"Casglu'r Dreth Gyngor (rhes 8), 2014-15",{"$f":"IF(ISERROR(VLOOKUP(B636,Translate!$G$3:$H$168,2,FALSE)),\"\",VLOOKUP(B636,Translate!$G$3:$H$168,2,FALSE))","v":""},{"$nulls":8},"",{"$nulls":9},0,0]
["CTC (row 8), 2015-16",null,"Casglu'r Dreth Gyngor (rhes 8), 2015-16",{"$f":"IF(ISERROR(VLOOKUP(B637,Translate!$G$3:$H$168,2,FALSE)),\"\",VLOOKUP(B637,Translate!$G$3:$H$168,2,FALSE))","v":""},{"$nulls":8},"",{"$nulls":9},0,0]
["Support to operators",null,"Cefnogi gweithredwyr",{"$f":"IF(ISERROR(VLOOKUP(B638,Translate!$G$3:$H$168,2,FALSE)),\"\",VLOOKUP(B638,Translate!$G$3:$H$168,2,FALSE))","v":""},{"$nulls":8},"",{"$nulls":9},0,0]
["Supporting people",null,"Cefnogi pobl",{"$f":"IF(ISERROR(VLOOKUP(B639,Translate!$G$3:$H$168,2,FALSE)),\"\",VLOOKUP(B639,Translate!$G$3:$H$168,2,FALSE))","v":""},{"$nulls":8},"",{"$nulls":9},0,0]
["Rangers, estates and volunteers",null,"Ceidwaid, ystadau a gwirfoddolwyr",{"$f":"IF(ISERROR(VLOOKUP(B640,Translate!$G$3:$H$168,2,FALSE)),\"\",VLOOKUP(B640,Translate!$G$3:$H$168,2,FALSE))","v":""},{"$nulls":8},"",{"$nulls":9},0,0]
["Asylum seekers - children and families:",null,"Ceiswyr lloches - plant a theuluoedd:",{"$f":"IF(ISERROR(VLOOKUP(B641,Translate!$G$3:$H$168,2,FALSE)),\"\",VLOOKUP(B641,Translate!$G$3:$H$168,2,FALSE))","v":""},{"$nulls":8},"",{"$nulls":9},0,0]
["Unaccompanied children (excluding children looked after)",null,"Plant ar eu pen eu hunain (ac eithrio plant sy'n derbyn gofal)",{"$f":"IF(ISERROR(VLOOKUP(B642,Translate!$G$3:$H$168,2,FALSE)),\"\",VLOOKUP(B642,Translate!$G$3:$H$168,2,FALSE))","v":""},{"$nulls":8},"",{"$nulls":9},0,0]
["Families",null,"Teuluoedd",{"$f":"IF(ISERROR(VLOOKUP(B643,Translate!$G$3:$H$168,2,FALSE)),\"\",VLOOKUP(B643,Translate!$G$3:$H$168,2,FALSE))","v":""},{"$nulls":8},{"$f":"IF(ISERROR(FIND(\" (include\",O643)),\"\",RIGHT(O643,LEN(O643)-FIND(\" (include\",O643)))","v":""},{"$nulls":9},0,0]
["Asylum seekers - lone adults and NRPF",null,"Ceiswyr lloches - unig oedolion a dim cefnogaeth o gronfeydd cyhoeddus",{"$f":"IF(ISERROR(VLOOKUP(B644,Translate!$G$3:$H$168,2,FALSE)),\"\",VLOOKUP(B644,Translate!$G$3:$H$168,2,FALSE))","v":""},{"$nulls":8},"",{"$nulls":9},0,0]
["Sports and recreation:",null,"Chwaraeon a hamdden:",{"$f":"IF(ISERROR(VLOOKUP(B645,Translate!$G$3:$H$168,2,FALSE)),\"\",VLOOKUP(B645,Translate!$G$3:$H$168,2,FALSE))","v":""},{"$nulls":8},"",{"$nulls":9},0,0]
["Recreation and sport",null,"Hamdden a chwaraeon",{"$f":"IF(ISERROR(VLOOKUP(B646,Translate!$G$3:$H$168,2,FALSE)),\"\",VLOOKUP(B646,Translate!$G$3:$H$168,2,FALSE))","v":""},{"$nulls":8},"",{"$nulls":9},0,0]
["Clear",null,"Clir",{"$f":"IF(ISERROR(VLOOKUP(B647,Translate!$G$3:$H$168,2,FALSE)),\"\",VLOOKUP(B647,Translate!$G$3:$H$168,2,FALSE))","v":""},{"$nulls":8},"",{"$nulls":9},0,0]
["Home to college transport",null,"Trafnidiaeth o'r cartref i'r coleg",{"$f":"IF(ISERROR(VLOOKUP(B648,Translate!$G$3:$H$168,2,FALSE)),\"\",VLOOKUP(B648,Translate!$G$3:$H$168,2,FALSE))","v":""},{"$nulls":8},"",{"$nulls":9},0,0]
["Home to school transport",null,"Trafnidiaeth o'r cartref i'r ysgol",{"$f":"IF(ISERROR(VLOOKUP(B649,Translate!$G$3:$H$168,2,FALSE)),\"\",VLOOKUP(B649,Translate!$G$3:$H$168,2,FALSE))","v":""},{"$nulls":8},"",{"$nulls":9},0,0]
["Home to school transport - special",null,"Trafnidiaeth o'r cartref i'r ysgol - Ysgolion arbennig",{"$f":"IF(ISERROR(VLOOKUP(B650,Translate!$G$3:$H$168,2,FALSE)),\"\",VLOOKUP(B650,Translate!$G$3:$H$168,2,FALSE))","v":""},{"$nulls":8},"",{"$nulls":9},0,0]
["Home to school transport - middle",null,"Trafnidiaeth o'r cartref i'r ysgol - Ysgolion canol",{"$f":"IF(ISERROR(VLOOKUP(B651,Translate!$G$3:$H$168,2,FALSE)),\"\",VLOOKUP(B651,Translate!$G$3:$H$168,2,FALSE))","v":""},{"$nulls":8},"",{"$nulls":9},0,0]
["Home to school transport - primary",null,"Trafnidiaeth o'r cartref i'r ysgol - Ysgolion cynradd",{"$f":"IF(ISERROR(VLOOKUP(B652,Translate!$G$3:$H$168,2,FALSE)),\"\",VLOOKUP(B652,Translate!$G$3:$H$168,2,FALSE))","v":""},{"$nulls":8},"",{"$nulls":9},0,0]
["Home to school transport - nursery",null,"Trafnidiaeth o'r cartref i'r ysgol - Ysgolion meithrin",{"$f":"IF(ISERROR(VLOOKUP(B653,Translate!$G$3:$H$168,2,FALSE)),\"\",VLOOKUP(B653,Translate!$G$3:$H$168,2,FALSE))","v":""},{"$nulls":8},"",{"$nulls":9},0,0]
["Home to school transport - secondary",null,"Trafnidiaeth o'r cartref i'r ysgol - Ysgolion uwchradd",{"$f":"IF(ISERROR(VLOOKUP(B654,Translate!$G$3:$H$168,2,FALSE)),\"\",VLOOKUP(B654,Translate!$G$3:$H$168,2,FALSE))","v":""},{"$nulls":8},"",{"$nulls":9},0,0]
["reserves (excluding schools)",null,"cronfeydd wrth gefn (ac eithrio ysgolion)",{"$f":"IF(ISERROR(VLOOKUP(B655,Translate!$G$3:$H$168,2,FALSE)),\"\",VLOOKUP(B655,Translate!$G$3:$H$168,2,FALSE))","v":""},{"$nulls":8},"",{"$nulls":9},0,0]
["Authority code",null,"Cod yr awdurdod",{"$f":"IF(ISERROR(VLOOKUP(B656,Translate!$G$3:$H$168,2,FALSE)),\"\",VLOOKUP(B656,Translate!$G$3:$H$168,2,FALSE))","v":""},{"$nulls":8},"",{"$nulls":9},0,0]
["Registration of electors and conducting elections",null,"Cofrestru etholwyr a chynnal etholiadau",{"$f":"IF(ISERROR(VLOOKUP(B657,Translate!$G$3:$H$168,2,FALSE)),\"\",VLOOKUP(B657,Translate!$G$3:$H$168,2,FALSE))","v":""},{"$nulls":8},"",{"$nulls":9},0,0]
["Commissioning and children's services strategy",null,"Comisiynu a strategaeth gwasanaethau plant",{"$f":"IF(ISERROR(VLOOKUP(B658,Translate!$G$3:$H$168,2,FALSE)),\"\",VLOOKUP(B658,Translate!$G$3:$H$168,2,FALSE))","v":""},{"$nulls":8},"",{"$nulls":9},0,0]
["Other central costs",null,"Costau canolog eraill",{"$f":"IF(ISERROR(VLOOKUP(B659,Translate!$G$3:$H$168,2,FALSE)),\"\",VLOOKUP(B659,Translate!$G$3:$H$168,2,FALSE))","v":""},{"$nulls":8},"",{"$nulls":9},0,0]
["Non-domestic rates collection costs",null,"Costau casglu ardrethi annomestig",{"$f":"IF(ISERROR(VLOOKUP(B660,Translate!$G$3:$H$168,2,FALSE)),\"\",VLOOKUP(B660,Translate!$G$3:$H$168,2,FALSE))","v":""},{"$nulls":8},"",{"$nulls":9},0,0]
["Council tax collection costs",null,"Costau casglu’r dreth gyngor",{"$f":"IF(ISERROR(VLOOKUP(B661,Translate!$G$3:$H$168,2,FALSE)),\"\",VLOOKUP(B661,Translate!$G$3:$H$168,2,FALSE))","v":""},{"$nulls":8},"",{"$nulls":9},{"$f":"IF(LEFT(V661,1)=\" \",RIGHT(V661,LEN(V661)-1),V661)","v":0},{"$f":"IF(LEFT(W661,1)=\" \",1,0)","v":0}]
["Central and departmental support services costs",null,"Costau gwasanaethau cymorth canolog ac adrannol",{"$f":"IF(ISERROR(VLOOKUP(B662,Translate!$G$3:$H$168,2,FALSE)),\"\",VLOOKUP(B662,Translate!$G$3:$H$168,2,FALSE))","v":""},{"$nulls":8},"",{"$nulls":9},0,0]
["Climate change costs",null,"Costau newid hinsawdd",{"$f":"IF(ISERROR(VLOOKUP(B663,Translate!$G$3:$H$168,2,FALSE)),\"\",VLOOKUP(B663,Translate!$G$3:$H$168,2,FALSE))","v":""},{"$nulls":8},"",{"$nulls":9},0,0]
["Partnership costs",null,"Costau partneriaeth",{"$f":"IF(ISERROR(VLOOKUP(B664,Translate!$G$3:$H$168,2,FALSE)),\"\",VLOOKUP(B664,Translate!$G$3:$H$168,2,FALSE))","v":""},{"$nulls":8},"",{"$nulls":9},0,0]
["HRA related pension costs",null,"Costau pensiwn sy'n gysylltiedig â'r HRA",{"$f":"IF(ISERROR(VLOOKUP(B665,Translate!$G$3:$H$168,2,FALSE)),\"\",VLOOKUP(B665,Translate!$G$3:$H$168,2,FALSE))","v":""},{"$nulls":8},"",{"$nulls":9},0,0]
["Corporate and democratic core",null,"Craidd corfforaethol a democrataidd",{"$f":"IF(ISERROR(VLOOKUP(B666,Translate!$G$3:$H$168,2,FALSE)),\"\",VLOOKUP(B666,Translate!$G$3:$H$168,2,FALSE))","v":""},{"$nulls":8},"",{"$nulls":9},0,0]
["CTC, line 7 + 10 minus BR1 lines 5 + 16 (in thousands)",null,"Casglu'r Dreth Gyngor, llinell 7 + 10 minws llinellau 5 + 16 BR1 (mewn miloedd)",{"$f":"IF(ISERROR(VLOOKUP(B667,Translate!$G$3:$H$168,2,FALSE)),\"\",VLOOKUP(B667,Translate!$G$3:$H$168,2,FALSE))","v":""},{"$nulls":8},"",{"$nulls":9},0,0]
["CTC, row 7",null,"Casglu'r Dreth Gyngor, rhes 7",{"$f":"IF(ISERROR(VLOOKUP(B668,Translate!$G$3:$H$168,2,FALSE)),\"\",VLOOKUP(B668,Translate!$G$3:$H$168,2,FALSE))","v":""},{"$nulls":8},"",{"$nulls":9},0,0]
["CTC, row 8",null,"Casglu'r Dreth Gyngor, rhes 8",{"$f":"IF(ISERROR(VLOOKUP(B669,Translate!$G$3:$H$168,2,FALSE)),\"\",VLOOKUP(B669,Translate!$G$3:$H$168,2,FALSE))","v":""},{"$nulls":8},"",{"$nulls":9},0,0]
["Intelligence",null,"Cudd-wybodaeth",{"$f":"IF(ISERROR(VLOOKUP(B670,Translate!$G$3:$H$168,2,FALSE)),\"\",VLOOKUP(B670,Translate!$G$3:$H$168,2,FALSE))","v":""},{"$nulls":8},"",{"$nulls":9},0,0]
["completing, checking, amending and approving the form.",null,"cwblhau, gwirio, diwygio a chymeradwyo'r ffurflen.",{"$f":"IF(ISERROR(VLOOKUP(B671,Translate!$G$3:$H$168,2,FALSE)),\"\",VLOOKUP(B671,Translate!$G$3:$H$168,2,FALSE))","v":""},{"$nulls":8},"",{"$nulls":9},0,0]
["Public transport co-ordination",null,"Cydgysylltu trafnidiaeth gyhoeddus",{"$f":"IF(ISERROR(VLOOKUP(B672,Translate!$G$3:$H$168,2,FALSE)),\"\",VLOOKUP(B672,Translate!$G$3:$H$168,2,FALSE))","v":""},{"$nulls":8},"",{"$nulls":9},0,0]
["Totals",null,"Cyfansymiau",{"$f":"IF(ISERROR(VLOOKUP(B673,Translate!$G$3:$H$168,2,FALSE)),\"\",VLOOKUP(B673,Translate!$G$3:$H$168,2,FALSE))","v":""},{"$nulls":8},"",{"$nulls":9},0,0]
["Total Additional learning needs",null,"Cyfanswm anghenion dysgu ychwanegol",{"$f":"IF(ISERROR(VLOOKUP(B674,Translate!$G$3:$H$168,2,FALSE)),\"\",VLOOKUP(B674,Translate!$G$3:$H$168,2,FALSE))","v":""},{"$nulls":8},"",{"$nulls":9},0,0]
["Aggregate of council tax precepts (lines 100 to 104)",null,"Swm cyfunol praeseptau'r dreth gyngor  (llinell 100 i 104)",{"$f":"IF(ISERROR(VLOOKUP(B675,Translate!$G$3:$H$168,2,FALSE)),\"\",VLOOKUP(B675,Translate!$G$3:$H$168,2,FALSE))","v":""},{"$nulls":8},"",{"$nulls":9},0,0]
["Total school catering",null,"Cyfanswm arlwyo mewn ysgolion",{"$f":"IF(ISERROR(VLOOKUP(B676,Translate!$G$3:$H$168,2,FALSE)),\"\",VLOOKUP(B676,Translate!$G$3:$H$168,2,FALSE))","v":""},{"$nulls":8},"",{"$nulls":9},0,0]
["Public transport ",null,"Cyfanswm trafnidiaeth gyhoeddus",{"$f":"IF(ISERROR(VLOOKUP(B677,Translate!$G$3:$H$168,2,FALSE)),\"\",VLOOKUP(B677,Translate!$G$3:$H$168,2,FALSE))","v":""},{"$nulls":8},"",{"$nulls":9},0,0]
["Total Home to school transport",null,"Cyfanswm trafnidiaeth o'r cartref i'r ysgol",{"$f":"IF(ISERROR(VLOOKUP(B678,Translate!$G$3:$H$168,2,FALSE)),\"\",VLOOKUP(B678,Translate!$G$3:$H$168,2,FALSE))","v":""},{"$nulls":8},"",{"$nulls":9},0,0]
["Total housing council fund",null,"Cyfanswm tai cronfa'r cyngor",{"$f":"IF(ISERROR(VLOOKUP(B679,Translate!$G$3:$H$168,2,FALSE)),\"\",VLOOKUP(B679,Translate!$G$3:$H$168,2,FALSE))","v":""},{"$nulls":8},"",{"$nulls":9},0,0]
["Total other LA budget on schools",null,"Cyfanswm cyllid ALl arall ar ysgolion",{"$f":"IF(ISERROR(VLOOKUP(B680,Translate!$G$3:$H$168,2,FALSE)),\"\",VLOOKUP(B680,Translate!$G$3:$H$168,2,FALSE))","v":""},{"$nulls":8},"",{"$nulls":9},0,0]
["Total School budget",null,"Cyfanswm cyllideb ysgol",{"$f":"IF(ISERROR(VLOOKUP(B681,Translate!$G$3:$H$168,2,FALSE)),\"\",VLOOKUP(B681,Translate!$G$3:$H$168,2,FALSE))","v":""},{"$nulls":8},"",{"$nulls":9},0,0]
["Total other school budget",null,"Cyfanswm cyllideb ysgol arall",{"$f":"IF(ISERROR(VLOOKUP(B682,Translate!$G$3:$H$168,2,FALSE)),\"\",VLOOKUP(B682,Translate!$G$3:$H$168,2,FALSE))","v":""},{"$nulls":8},"",{"$nulls":9},0,0]
["Total transport planning, highways, roads and transport",null,"Cyfanswm cynllunio trafnidiaeth, priffyrdd, ffyrdd a thrafnidiaeth",{"$f":"IF(ISERROR(VLOOKUP(B683,Translate!$G$3:$H$168,2,FALSE)),\"\",VLOOKUP(B683,Translate!$G$3:$H$168,2,FALSE))","v":""},{"$nulls":8},"",{"$nulls":9},0,0]
["Total Inter authority recoupment",null,"Cyfanswm digollediad rhwng awdurdodau",{"$f":"IF(ISERROR(VLOOKUP(B684,Translate!$G$3:$H$168,2,FALSE)),\"\",VLOOKUP(B684,Translate!$G$3:$H$168,2,FALSE))","v":""},{"$nulls":8},"",{"$nulls":9},0,0]
["Total expenditure delegated to middle schools",null,"Cyfanswm gwariant wedi ei ddirprwyo i ysgolion canol ",{"$f":"IF(ISERROR(VLOOKUP(B685,Translate!$G$3:$H$168,2,FALSE)),\"\",VLOOKUP(B685,Translate!$G$3:$H$168,2,FALSE))","v":""},{"$nulls":8},"",{"$nulls":9},0,0]
["Total non-school education expenditure",null,"Cyfanswm gwariant addysg heblaw ysgolion",{"$f":"IF(ISERROR(VLOOKUP(B686,Translate!$G$3:$H$168,2,FALSE)),\"\",VLOOKUP(B686,Translate!$G$3:$H$168,2,FALSE))","v":""},{"$nulls":8},"",{"$nulls":9},0,0]
["Total service expenditure",null,"Cyfanswm gwariant ar wasanaethau",{"$f":"IF(ISERROR(VLOOKUP(B687,Translate!$G$3:$H$168,2,FALSE)),\"\",VLOOKUP(B687,Translate!$G$3:$H$168,2,FALSE))","v":""},{"$nulls":8},"",{"$nulls":9},0,0]
["Total Capital expenditure charged to revenue account",null,"Cyfanswm gwariant cyfalaf a roddwyd ar y cyfrif refeniw",{"$f":"IF(ISERROR(VLOOKUP(B688,Translate!$G$3:$H$168,2,FALSE)),\"\",VLOOKUP(B688,Translate!$G$3:$H$168,2,FALSE))","v":""},{"$nulls":8},"",{"$nulls":9},0,0]
["Total education revenue expenditure",null,"Cyfanswm gwariant refeniw ar addysg",{"$f":"IF(ISERROR(VLOOKUP(B689,Translate!$G$3:$H$168,2,FALSE)),\"\",VLOOKUP(B689,Translate!$G$3:$H$168,2,FALSE))","v":""},{"$nulls":8},"",{"$nulls":9},0,0]
["Total delegated schools expenditure",null,"Cyfanswm gwariant wedi'i ddirprwyo i ysgolion",{"$f":"IF(ISERROR(VLOOKUP(B690,Translate!$G$3:$H$168,2,FALSE)),\"\",VLOOKUP(B690,Translate!$G$3:$H$168,2,FALSE))","v":""},{"$nulls":8},"",{"$nulls":9},0,0]
["Total expenditure delegated to special schools",null,"Cyfanswm gwariant wedi'i ddirprwyo i ysgolion arbennig",{"$f":"IF(ISERROR(VLOOKUP(B691,Translate!$G$3:$H$168,2,FALSE)),\"\",VLOOKUP(B691,Translate!$G$3:$H$168,2,FALSE))","v":""},{"$nulls":8},"",{"$nulls":9},0,0]
["Total expenditure delegated to primary schools",null,"Cyfanswm gwariant wedi'i ddirprwyo i ysgolion cynradd",{"$f":"IF(ISERROR(VLOOKUP(B692,Translate!$G$3:$H$168,2,FALSE)),\"\",VLOOKUP(B692,Translate!$G$3:$H$168,2,FALSE))","v":""},{"$nulls":8},"",{"$nulls":9},0,0]
["Total expenditure delegated to nursery schools",null,"Cyfanswm gwariant wedi'i ddirprwyo i ysgolion meithrin",{"$f":"IF(ISERROR(VLOOKUP(B693,Translate!$G$3:$H$168,2,FALSE)),\"\",VLOOKUP(B693,Translate!$G$3:$H$168,2,FALSE))","v":""},{"$nulls":8},"",{"$nulls":9},0,0]
["Total expenditure delegated to secondary schools",null,"Cyfanswm gwariant wedi'i ddirprwyo i ysgolion uwchradd",{"$f":"IF(ISERROR(VLOOKUP(B694,Translate!$G$3:$H$168,2,FALSE)),\"\",VLOOKUP(B694,Translate!$G$3:$H$168,2,FALSE))","v":""},{"$nulls":8},"",{"$nulls":9},0,0]
["Total school expenditure",null,"Cyfanswm gwariant ysgol",{"$f":"IF(ISERROR(VLOOKUP(B695,Translate!$G$3:$H$168,2,FALSE)),\"\",VLOOKUP(B695,Translate!$G$3:$H$168,2,FALSE))","v":""},{"$nulls":8},"",{"$nulls":9},0,0]
["Total services for young people",null,"Cyfanswm gwasanaethau ar gyfer pobl ifanc",{"$f":"IF(ISERROR(VLOOKUP(B696,Translate!$G$3:$H$168,2,FALSE)),\"\",VLOOKUP(B696,Translate!$G$3:$H$168,2,FALSE))","v":""},{"$nulls":8},"",{"$nulls":9},0,0]
["Youth service",null,"Cyfanswm gwasanaeth ieuenctid",{"$f":"IF(ISERROR(VLOOKUP(B697,Translate!$G$3:$H$168,2,FALSE)),\"\",VLOOKUP(B697,Translate!$G$3:$H$168,2,FALSE))","v":""},{"$nulls":8},"",{"$nulls":9},0,0]
["Total social services",null,"Cyfanswm gwasanaethau cymdeithasol",{"$f":"IF(ISERROR(VLOOKUP(B698,Translate!$G$3:$H$168,2,FALSE)),\"\",VLOOKUP(B698,Translate!$G$3:$H$168,2,FALSE))","v":""},{"$nulls":8},"",{"$nulls":9},0,0]
["Total social services for adults aged under 65",null,"Cyfanswm gwasanaethau cymdeithasol i oedolion o dan 65 oed",{"$f":"IF(ISERROR(VLOOKUP(B699,Translate!$G$3:$H$168,2,FALSE)),\"\",VLOOKUP(B699,Translate!$G$3:$H$168,2,FALSE))","v":""},{"$nulls":8},"",{"$nulls":9},0,0]
["Total family support services",null,"Cyfanswm gwasanaethau cymorth i deuluoedd",{"$f":"IF(ISERROR(VLOOKUP(B700,Translate!$G$3:$H$168,2,FALSE)),\"\",VLOOKUP(B700,Translate!$G$3:$H$168,2,FALSE))","v":""},{"$nulls":8},"",{"$nulls":9},0,0]
["Other children's and families' services",null,"Cyfanswm gwasanaethau eraill i blant a theuluoedd",{"$f":"IF(ISERROR(VLOOKUP(B701,Translate!$G$3:$H$168,2,FALSE)),\"\",VLOOKUP(B701,Translate!$G$3:$H$168,2,FALSE))","v":""},{"$nulls":8},"",{"$nulls":9},0,0]
["Total children's and families' services",null,"Cyfanswm gwasanaethau i blant a theuluoedd",{"$f":"IF(ISERROR(VLOOKUP(B702,Translate!$G$3:$H$168,2,FALSE)),\"\",VLOOKUP(B702,Translate!$G$3:$H$168,2,FALSE))","v":""},{"$nulls":8},"",{"$nulls":9},0,0]
["Total children looked after services",null,"Cyfanswm gwasanaethau i blant sy'n derbyn gofal",{"$f":"IF(ISERROR(VLOOKUP(B703,Translate!$G$3:$H$168,2,FALSE)),\"\",VLOOKUP(B703,Translate!$G$3:$H$168,2,FALSE))","v":""},{"$nulls":8},"",{"$nulls":9},0,0]
["Total asylum seekers children's services",null,"Cyfanswm gwasanaethau i blant sy'n geiswyr lloches",{"$f":"IF(ISERROR(VLOOKUP(B704,Translate!$G$3:$H$168,2,FALSE)),\"\",VLOOKUP(B704,Translate!$G$3:$H$168,2,FALSE))","v":""},{"$nulls":8},"",{"$nulls":9},0,0]
["Total School improvement",null,"Cyfanswm gwellia ysgolion",{"$f":"IF(ISERROR(VLOOKUP(B705,Translate!$G$3:$H$168,2,FALSE)),\"\",VLOOKUP(B705,Translate!$G$3:$H$168,2,FALSE))","v":""},{"$nulls":8},"",{"$nulls":9},0,0]
["Total Income",null,"Cyfanswm Incwm",{"$f":"IF(ISERROR(VLOOKUP(B706,Translate!$G$3:$H$168,2,FALSE)),\"\",VLOOKUP(B706,Translate!$G$3:$H$168,2,FALSE))","v":""},{"$nulls":8},"",{"$nulls":9},0,0]
["Total Access to education",null,"Cyfanswm mynediad at addysg",{"$f":"IF(ISERROR(VLOOKUP(B707,Translate!$G$3:$H$168,2,FALSE)),\"\",VLOOKUP(B707,Translate!$G$3:$H$168,2,FALSE))","v":""},{"$nulls":8},{"$f":"IF(ISERROR(FIND(\" (include\",O707)),\"\",RIGHT(O707,LEN(O707)-FIND(\" (include\",O707)))","v":""},{"$nulls":9},0,0]
["Total other adult services (aged under 65)",null,"Cyfanswm gwasanaethau eraill i oedolion (o dan 65 oed)",{"$f":"IF(ISERROR(VLOOKUP(B708,Translate!$G$3:$H$168,2,FALSE)),\"\",VLOOKUP(B708,Translate!$G$3:$H$168,2,FALSE))","v":""},{"$nulls":8},"",{"$nulls":9},0,0]
["Total adults aged under 65 with a physical disability etc.",null,"Cyfanswm oedolion o dan 65 oed ag anabledd corfforol",{"$f":"IF(ISERROR(VLOOKUP(B709,Translate!$G$3:$H$168,2,FALSE)),\"\",VLOOKUP(B709,Translate!$G$3:$H$168,2,FALSE))","v":""},{"$nulls":8},"",{"$nulls":9},0,0]
["Total adults aged under 65 with learning disabilities ",null,"Cyfanswm oedolion o dan 65 oed ag anableddau dysgu",{"$f":"IF(ISERROR(VLOOKUP(B710,Translate!$G$3:$H$168,2,FALSE)),\"\",VLOOKUP(B710,Translate!$G$3:$H$168,2,FALSE))","v":""},{"$nulls":8},"",{"$nulls":9},0,0]
["Total adults aged under 65 with mental health needs ",null,"Cyfanswm oedolion o dan 65 oed ag anghenion iechyd meddwl",{"$f":"IF(ISERROR(VLOOKUP(B711,Translate!$G$3:$H$168,2,FALSE)),\"\",VLOOKUP(B711,Translate!$G$3:$H$168,2,FALSE))","v":""},{"$nulls":8},"",{"$nulls":9},0,0]
["Total older people (aged 65 and over)",null,"Cyfanswm pobl hŷn (65 oed a hŷn)",{"$f":"IF(ISERROR(VLOOKUP(B712,Translate!$G$3:$H$168,2,FALSE)),\"\",VLOOKUP(B712,Translate!$G$3:$H$168,2,FALSE))","v":""},{"$nulls":8},"",{"$nulls":9},0,0]
["Total highways and roads",null,"Cyfanswm priffyrdd a ffyrdd",{"$f":"IF(ISERROR(VLOOKUP(B713,Translate!$G$3:$H$168,2,FALSE)),\"\",VLOOKUP(B713,Translate!$G$3:$H$168,2,FALSE))","v":""},{"$nulls":8},"",{"$nulls":9},0,0]
["Total Strategic management",null,"Cyfanswm rheoli strategol",{"$f":"IF(ISERROR(VLOOKUP(B714,Translate!$G$3:$H$168,2,FALSE)),\"\",VLOOKUP(B714,Translate!$G$3:$H$168,2,FALSE))","v":""},{"$nulls":8},"",{"$nulls":9},0,0]
["Total traffic management and road safety",null,"Cyfanswm rheoli traffig a diogelwch ar y ffyrdd",{"$f":"IF(ISERROR(VLOOKUP(B715,Translate!$G$3:$H$168,2,FALSE)),\"\",VLOOKUP(B715,Translate!$G$3:$H$168,2,FALSE))","v":""},{"$nulls":8},"",{"$nulls":9},0,0]
["Total Staff",null,"Cyfanswm staff",{"$f":"IF(ISERROR(VLOOKUP(B716,Translate!$G$3:$H$168,2,FALSE)),\"\",VLOOKUP(B716,Translate!$G$3:$H$168,2,FALSE))","v":""},{"$nulls":8},"",{"$nulls":9},0,0]
["In-year debit for the year",null,"Cyfanswm y debyd yn ystod y flwyddyn",{"$f":"IF(ISERROR(VLOOKUP(B717,Translate!$G$3:$H$168,2,FALSE)),\"\",VLOOKUP(B717,Translate!$G$3:$H$168,2,FALSE))","v":""},{"$nulls":8},"",{"$nulls":9},0,0]
["Total arrears brought forward at the start of the year",null,"Cyfanswm yr ôl-ddyledion a gafodd eu dwyn ymlaen ar ddechrau'r flwyddyn",{"$f":"IF(ISERROR(VLOOKUP(B718,Translate!$G$3:$H$168,2,FALSE)),\"\",VLOOKUP(B718,Translate!$G$3:$H$168,2,FALSE))","v":""},{"$nulls":8},"",{"$nulls":9},0,0]
["Equipment and adaptations",null,"Cyfarpar ac addasiadau",{"$f":"IF(ISERROR(VLOOKUP(B719,Translate!$G$3:$H$168,2,FALSE)),\"\",VLOOKUP(B719,Translate!$G$3:$H$168,2,FALSE))","v":""},{"$nulls":8},"",{"$nulls":9},0,0]
["Education equipment",null,"Cyfarpar addysg",{"$f":"IF(ISERROR(VLOOKUP(B720,Translate!$G$3:$H$168,2,FALSE)),\"\",VLOOKUP(B720,Translate!$G$3:$H$168,2,FALSE))","v":""},{"$nulls":8},"",{"$nulls":9},0,0]
["Total LA budget",null,"Cyfaswm cyllideb ALl",{"$f":"IF(ISERROR(VLOOKUP(B721,Translate!$G$3:$H$168,2,FALSE)),\"\",VLOOKUP(B721,Translate!$G$3:$H$168,2,FALSE))","v":""},{"$nulls":8},"",{"$nulls":9},0,0]
["Sports facilities",null,"Cyfleusterau chwaraeon",{"$f":"IF(ISERROR(VLOOKUP(B722,Translate!$G$3:$H$168,2,FALSE)),\"\",VLOOKUP(B722,Translate!$G$3:$H$168,2,FALSE))","v":""},{"$nulls":8},"",{"$nulls":9},0,0]
["Short breaks (respite) for disabled children",null,"Egwyliau byr (seibiant) i blant anabl",{"$f":"IF(ISERROR(VLOOKUP(B723,Translate!$G$3:$H$168,2,FALSE)),\"\",VLOOKUP(B723,Translate!$G$3:$H$168,2,FALSE))","v":""},{"$nulls":8},"",{"$nulls":9},0,0]
["Collection rates for 2015-16:",null,"Cyfraddau casglu ar gyfer 2015-16:",{"$f":"IF(ISERROR(VLOOKUP(B724,Translate!$G$3:$H$168,2,FALSE)),\"\",VLOOKUP(B724,Translate!$G$3:$H$168,2,FALSE))","v":""},{"$nulls":8},"",{"$nulls":9},0,0]
["Contribution to health care of individual children",null,"Cyfraniad i ofal iechyd plant unigol",{"$f":"IF(ISERROR(VLOOKUP(B725,Translate!$G$3:$H$168,2,FALSE)),\"\",VLOOKUP(B725,Translate!$G$3:$H$168,2,FALSE))","v":""},{"$nulls":8},"",{"$nulls":9},{"$f":"IF(LEFT(V725,1)=\" \",RIGHT(V725,LEN(V725)-1),V725)","v":0},{"$f":"IF(LEFT(W725,1)=\" \",1,0)","v":0}]
["Contribution to the HRA (d)",null,"Cyfraniad i'r Cyfrif Refeniw Tai (d)",{"$f":"IF(ISERROR(VLOOKUP(B726,Translate!$G$3:$H$168,2,FALSE)),\"\",VLOOKUP(B726,Translate!$G$3:$H$168,2,FALSE))","v":""},{"$nulls":8},"",{"$nulls":9},0,0]
["Housing revenue account (HRA)",null,"Cyfrif refeniw tai (HRA)",{"$f":"IF(ISERROR(VLOOKUP(B727,Translate!$G$3:$H$168,2,FALSE)),\"\",VLOOKUP(B727,Translate!$G$3:$H$168,2,FALSE))","v":""},{"$nulls":8},"",{"$nulls":9},0,0]
["LA budget",null,"Cyllideb ALI",{"$f":"IF(ISERROR(VLOOKUP(B728,Translate!$G$3:$H$168,2,FALSE)),\"\",VLOOKUP(B728,Translate!$G$3:$H$168,2,FALSE))","v":""},{"$nulls":8},"",{"$nulls":9},0,0]
["LA budget - special",null,"Cyllideb ALl - Ysgolion arbennig",{"$f":"IF(ISERROR(VLOOKUP(B729,Translate!$G$3:$H$168,2,FALSE)),\"\",VLOOKUP(B729,Translate!$G$3:$H$168,2,FALSE))","v":""},{"$nulls":8},"",{"$nulls":9},0,0]
["LA budget - middle",null,"Cyllideb ALl - Ysgolion canol",{"$f":"IF(ISERROR(VLOOKUP(B730,Translate!$G$3:$H$168,2,FALSE)),\"\",VLOOKUP(B730,Translate!$G$3:$H$168,2,FALSE))","v":""},{"$nulls":8},"",{"$nulls":9},0,0]
["LA budget - primary",null,"Cyllideb ALl - Ysgolion cynradd",{"$f":"IF(ISERROR(VLOOKUP(B731,Translate!$G$3:$H$168,2,FALSE)),\"\",VLOOKUP(B731,Translate!$G$3:$H$168,2,FALSE))","v":""},{"$nulls":8},"",{"$nulls":9},0,0]
["LA budget - nursery",null,"Cyllideb ALl - ysgolion meithrin",{"$f":"IF(ISERROR(VLOOKUP(B732,Translate!$G$3:$H$168,2,FALSE)),\"\",VLOOKUP(B732,Translate!$G$3:$H$168,2,FALSE))","v":""},{"$nulls":8},"",{"$nulls":9},0,0]
["LA budget - secondary",null,"Cyllideb ALl - Ysgolion uwchradd",{"$f":"IF(ISERROR(VLOOKUP(B733,Translate!$G$3:$H$168,2,FALSE)),\"\",VLOOKUP(B733,Translate!$G$3:$H$168,2,FALSE))","v":""},{"$nulls":8},"",{"$nulls":9},0,0]
["Other LA budget on schools",null,"Cyllideb arall yr ALl ar ysgolion ",{"$f":"IF(ISERROR(VLOOKUP(B734,Translate!$G$3:$H$168,2,FALSE)),\"\",VLOOKUP(B734,Translate!$G$3:$H$168,2,FALSE))","v":""},{"$nulls":8},"",{"$nulls":9},0,0]
["Other LA budget on schools - special",null,"Cyllideb arall yr ALl ar ysgolion - Ysgolion arbennig",{"$f":"IF(ISERROR(VLOOKUP(B735,Translate!$G$3:$H$168,2,FALSE)),\"\",VLOOKUP(B735,Translate!$G$3:$H$168,2,FALSE))","v":""},{"$nulls":8},"",{"$nulls":9},0,0]
["Other LA budget on schools - middle",null,"Cyllideb arall yr ALl ar ysgolion - Ysgolion canol",{"$f":"IF(ISERROR(VLOOKUP(B736,Translate!$G$3:$H$168,2,FALSE)),\"\",VLOOKUP(B736,Translate!$G$3:$H$168,2,FALSE))","v":""},{"$nulls":8},"",{"$nulls":9},0,0]
["Other LA budget on schools - primary",null,"Cyllideb arall yr ALl ar ysgolion  - Ysgolion cynradd",{"$f":"IF(ISERROR(VLOOKUP(B737,Translate!$G$3:$H$168,2,FALSE)),\"\",VLOOKUP(B737,Translate!$G$3:$H$168,2,FALSE))","v":""},{"$nulls":8},"",{"$nulls":9},0,0]
["Other LA budget on schools - nursery",null,"Cyllideb arall yr ALl ar ysgolion  - ysgolion meithrin",{"$f":"IF(ISERROR(VLOOKUP(B738,Translate!$G$3:$H$168,2,FALSE)),\"\",VLOOKUP(B738,Translate!$G$3:$H$168,2,FALSE))","v":""},{"$nulls":8},"",{"$nulls":9},0,0]
["Other LA budget on schools - secondary",null,"Cyllideb arall yr ALl ar ysgolion  - Ysgolion uwchradd",{"$f":"IF(ISERROR(VLOOKUP(B739,Translate!$G$3:$H$168,2,FALSE)),\"\",VLOOKUP(B739,Translate!$G$3:$H$168,2,FALSE))","v":""},{"$nulls":8},"",{"$nulls":9},0,0]
["Other school budget - special",null,"Cyllideb ysgol arall - - Ysgolion arbennig",{"$f":"IF(ISERROR(VLOOKUP(B740,Translate!$G$3:$H$168,2,FALSE)),\"\",VLOOKUP(B740,Translate!$G$3:$H$168,2,FALSE))","v":""},{"$nulls":8},"",{"$nulls":9},0,0]
["Other school budget - middle",null,"Cyllideb ysgol arall - - Ysgolion canol",{"$f":"IF(ISERROR(VLOOKUP(B741,Translate!$G$3:$H$168,2,FALSE)),\"\",VLOOKUP(B741,Translate!$G$3:$H$168,2,FALSE))","v":""},{"$nulls":8},"",{"$nulls":9},0,0]
["Other school budget - primary",null,"Cyllideb ysgol arall - - Ysgolion cynradd",{"$f":"IF(ISERROR(VLOOKUP(B742,Translate!$G$3:$H$168,2,FALSE)),\"\",VLOOKUP(B742,Translate!$G$3:$H$168,2,FALSE))","v":""},{"$nulls":8},"",{"$nulls":9},0,0]
["Other School budget - secondary",null,"Cyllideb ysgol arall - - Ysgolion uwchradd",{"$f":"IF(ISERROR(VLOOKUP(B743,Translate!$G$3:$H$168,2,FALSE)),\"\",VLOOKUP(B743,Translate!$G$3:$H$168,2,FALSE))","v":""},{"$nulls":8},"",{"$nulls":9},0,0]
["Other school budget - nursery",null,"Cyllideb ysgol arall - meithrin",{"$f":"IF(ISERROR(VLOOKUP(B744,Translate!$G$3:$H$168,2,FALSE)),\"\",VLOOKUP(B744,Translate!$G$3:$H$168,2,FALSE))","v":""},{"$nulls":8},"",{"$nulls":9},0,0]
["Other LA budget (non-school)",null,"Cyllideb ALl arall (heblaw ysgolion)",{"$f":"IF(ISERROR(VLOOKUP(B745,Translate!$G$3:$H$168,2,FALSE)),\"\",VLOOKUP(B745,Translate!$G$3:$H$168,2,FALSE))","v":""},{"$nulls":8},"",{"$nulls":9},0,0]
["Other schools budget",null,"Cyllideb  ysgolion arall",{"$f":"IF(ISERROR(VLOOKUP(B746,Translate!$G$3:$H$168,2,FALSE)),\"\",VLOOKUP(B746,Translate!$G$3:$H$168,2,FALSE))","v":""},{"$nulls":8},"",{"$nulls":9},0,0]
["School budget - special",null,"Cyllideb ysgol - Ysgolion arbennig",{"$f":"IF(ISERROR(VLOOKUP(B747,Translate!$G$3:$H$168,2,FALSE)),\"\",VLOOKUP(B747,Translate!$G$3:$H$168,2,FALSE))","v":""},{"$nulls":8},"",{"$nulls":9},0,0]
["School budget - middle",null,"Cyllideb ysgol - Ysgolion canol",{"$f":"IF(ISERROR(VLOOKUP(B748,Translate!$G$3:$H$168,2,FALSE)),\"\",VLOOKUP(B748,Translate!$G$3:$H$168,2,FALSE))","v":""},{"$nulls":8},"",{"$nulls":9},0,0]
["School budget - primary",null,"Cyllideb ysgol - Ysgolion cynradd",{"$f":"IF(ISERROR(VLOOKUP(B749,Translate!$G$3:$H$168,2,FALSE)),\"\",VLOOKUP(B749,Translate!$G$3:$H$168,2,FALSE))","v":""},{"$nulls":8},"",{"$nulls":9},0,0]
["School budget - nursery",null,"Cyllideb ysgol - Ysgolion meithrin",{"$f":"IF(ISERROR(VLOOKUP(B750,Translate!$G$3:$H$168,2,FALSE)),\"\",VLOOKUP(B750,Translate!$G$3:$H$168,2,FALSE))","v":""},{"$nulls":8},"",{"$nulls":9},0,0]
["School budget - secondary",null,"Cyllideb ysgol - Ysgolion uwchradd",{"$f":"IF(ISERROR(VLOOKUP(B751,Translate!$G$3:$H$168,2,FALSE)),\"\",VLOOKUP(B751,Translate!$G$3:$H$168,2,FALSE))","v":""},{"$nulls":8},"",{"$nulls":9},0,0]
["Schools budget",null,"Cyllideb ysgolion",{"$f":"IF(ISERROR(VLOOKUP(B752,Translate!$G$3:$H$168,2,FALSE)),\"\",VLOOKUP(B752,Translate!$G$3:$H$168,2,FALSE))","v":""},{"$nulls":8},"",{"$nulls":9},0,0]
["COMPARISONS WITH THE BUDGET REQUIREMENT RETURN (BR1), 2015-16",null,"Cymharu a'r ffurflen gofynion cyllidebol (BR1), 2015-16",{"$f":"IF(ISERROR(VLOOKUP(B753,Translate!$G$3:$H$168,2,FALSE)),\"\",VLOOKUP(B753,Translate!$G$3:$H$168,2,FALSE))","v":""},{"$nulls":8},"",{"$nulls":9},0,0]
["YEAR ON YEAR COMPARISON",null,"Cymharu'r naill flwyddyn a'r llall",{"$f":"IF(ISERROR(VLOOKUP(B754,Translate!$G$3:$H$168,2,FALSE)),\"\",VLOOKUP(B754,Translate!$G$3:$H$168,2,FALSE))","v":""},{"$nulls":8},"",{"$nulls":9},0,0]
["Other support for disabled children",null,"Cymorth arall ar gyfer plant anabl",{"$f":"IF(ISERROR(VLOOKUP(B755,Translate!$G$3:$H$168,2,FALSE)),\"\",VLOOKUP(B755,Translate!$G$3:$H$168,2,FALSE))","v":""},{"$nulls":8},"",{"$nulls":9},0,0]
["Business support",null,"Cymorth busnes",{"$f":"IF(ISERROR(VLOOKUP(B756,Translate!$G$3:$H$168,2,FALSE)),\"\",VLOOKUP(B756,Translate!$G$3:$H$168,2,FALSE))","v":""},{"$nulls":8},"",{"$nulls":9},0,0]
["Special guardianship support",null,"Cymorth gwarcheidiaeth arbennig",{"$f":"IF(ISERROR(VLOOKUP(B757,Translate!$G$3:$H$168,2,FALSE)),\"\",VLOOKUP(B757,Translate!$G$3:$H$168,2,FALSE))","v":""},{"$nulls":8},"",{"$nulls":9},0,0]
["Student support: discretionary awards",null,"Cymorth i fyfyrwyr: dyfarniadau dewisol",{"$f":"IF(ISERROR(VLOOKUP(B758,Translate!$G$3:$H$168,2,FALSE)),\"\",VLOOKUP(B758,Translate!$G$3:$H$168,2,FALSE))","v":""},{"$nulls":8},"",{"$nulls":9},0,0]
["Student support: mandatory awards",null,"Cymorth i fyfyrwyr: dyfarniadau gorfodol",{"$f":"IF(ISERROR(VLOOKUP(B759,Translate!$G$3:$H$168,2,FALSE)),\"\",VLOOKUP(B759,Translate!$G$3:$H$168,2,FALSE))","v":""},{"$nulls":8},"",{"$nulls":9},0,0]
["Student support: Assembly learning grant",null,"Cymorth i fyfyrwyr: grant dysgu'r Cynulliad",{"$f":"IF(ISERROR(VLOOKUP(B760,Translate!$G$3:$H$168,2,FALSE)),\"\",VLOOKUP(B760,Translate!$G$3:$H$168,2,FALSE))","v":""},{"$nulls":8},"",{"$nulls":9},0,0]
["Universal family support",null,"Cymorth cyffredinol i deuluoedd",{"$f":"IF(ISERROR(VLOOKUP(B761,Translate!$G$3:$H$168,2,FALSE)),\"\",VLOOKUP(B761,Translate!$G$3:$H$168,2,FALSE))","v":""},{"$nulls":8},"",{"$nulls":9},0,0]
["Targeted family support ",null,"Cymorth wedi'i dargedu i deuluoedd ",{"$f":"IF(ISERROR(VLOOKUP(B762,Translate!$G$3:$H$168,2,FALSE)),\"\",VLOOKUP(B762,Translate!$G$3:$H$168,2,FALSE))","v":""},{"$nulls":8},"",{"$nulls":9},0,0]
["Investigative support",null,"Cymorth ymchwiliol",{"$f":"IF(ISERROR(VLOOKUP(B763,Translate!$G$3:$H$168,2,FALSE)),\"\",VLOOKUP(B763,Translate!$G$3:$H$168,2,FALSE))","v":""},{"$nulls":8},"",{"$nulls":9},0,0]
["Housing advice",null,"Cyngor ar dai",{"$f":"IF(ISERROR(VLOOKUP(B764,Translate!$G$3:$H$168,2,FALSE)),\"\",VLOOKUP(B764,Translate!$G$3:$H$168,2,FALSE))","v":""},{"$nulls":8},"",{"$nulls":9},0,0]
["Children's and young peoples plan",null,"Cynllun plant a phobl ifainc",{"$f":"IF(ISERROR(VLOOKUP(B765,Translate!$G$3:$H$168,2,FALSE)),\"\",VLOOKUP(B765,Translate!$G$3:$H$168,2,FALSE))","v":""},{"$nulls":8},"",{"$nulls":9},0,0]
["Planning and development",null,"Cynllunio a datblygu",{"$f":"IF(ISERROR(VLOOKUP(B766,Translate!$G$3:$H$168,2,FALSE)),\"\",VLOOKUP(B766,Translate!$G$3:$H$168,2,FALSE))","v":""},{"$nulls":8},"",{"$nulls":9},0,0]
["Fire service emergency planning",null,"Cynllunio ar gyfer argyfwng -  gwasanaethau tân",{"$f":"IF(ISERROR(VLOOKUP(B767,Translate!$G$3:$H$168,2,FALSE)),\"\",VLOOKUP(B767,Translate!$G$3:$H$168,2,FALSE))","v":""},{"$nulls":8},"",{"$nulls":9},0,0]
["Forward planning and communities",null,"Cynllunio ymlaen a chymunedau",{"$f":"IF(ISERROR(VLOOKUP(B768,Translate!$G$3:$H$168,2,FALSE)),\"\",VLOOKUP(B768,Translate!$G$3:$H$168,2,FALSE))","v":""},{"$nulls":8},"",{"$nulls":9},0,0]
["Structural maintenance of bridges and culverts",null,"Cynnal a chadw adeileddol ar bontydd a chwlfertau ",{"$f":"IF(ISERROR(VLOOKUP(B769,Translate!$G$3:$H$168,2,FALSE)),\"\",VLOOKUP(B769,Translate!$G$3:$H$168,2,FALSE))","v":""},{"$nulls":8},"",{"$nulls":9},0,0]
["Structural maintenance of principal roads",null,"Cynnal a chadw adeileddol ar brif ffyrdd ",{"$f":"IF(ISERROR(VLOOKUP(B770,Translate!$G$3:$H$168,2,FALSE)),\"\",VLOOKUP(B770,Translate!$G$3:$H$168,2,FALSE))","v":""},{"$nulls":8},"",{"$nulls":9},0,0]
["Structural maintenance of other roads",null,"Cynnal a chadw adeileddol ar ffyrdd eraill",{"$f":"IF(ISERROR(VLOOKUP(B771,Translate!$G$3:$H$168,2,FALSE)),\"\",VLOOKUP(B771,Translate!$G$3:$H$168,2,FALSE))","v":""},{"$nulls":8},{"$f":"IF(ISERROR(FIND(\" (include\",O771)),\"\",RIGHT(O771,LEN(O771)-FIND(\" (include\",O771)))","v":""},{"$nulls":9},0,0]
["Structural maintenance:",null,"Cynnal a chadw adeileddol:",{"$f":"IF(ISERROR(VLOOKUP(B772,Translate!$G$3:$H$168,2,FALSE)),\"\",VLOOKUP(B772,Translate!$G$3:$H$168,2,FALSE))","v":""},{"$nulls":8},"",{"$nulls":9},0,0]
["Environment, safety and routine maintenance",null,"Cynnal a chadw amgylcheddol, diogelwch a rheolaidd",{"$f":"IF(ISERROR(VLOOKUP(B773,Translate!$G$3:$H$168,2,FALSE)),\"\",VLOOKUP(B773,Translate!$G$3:$H$168,2,FALSE))","v":""},{"$nulls":8},"",{"$nulls":9},0,0]
["Roads routine maintenance (d)",null,"Cynnal a chadw rheolaidd ar ffyrdd (d)",{"$f":"IF(ISERROR(VLOOKUP(B774,Translate!$G$3:$H$168,2,FALSE)),\"\",VLOOKUP(B774,Translate!$G$3:$H$168,2,FALSE))","v":""},{"$nulls":8},"",{"$nulls":9},0,0]
["Primary",null,"Cynradd",{"$f":"IF(ISERROR(VLOOKUP(B775,Translate!$G$3:$H$168,2,FALSE)),\"\",VLOOKUP(B775,Translate!$G$3:$H$168,2,FALSE))","v":""},{"$nulls":8},"",{"$nulls":9},0,0]
["Democratic representation and management",null,"Cynrychiolaeth a rheolaeth ddemocrataidd",{"$f":"IF(ISERROR(VLOOKUP(B776,Translate!$G$3:$H$168,2,FALSE)),\"\",VLOOKUP(B776,Translate!$G$3:$H$168,2,FALSE))","v":""},{"$nulls":8},"",{"$nulls":9},0,0]
["Please read the notes for guidance before completing this form",null,"Darllenwch y canllawiau cyn llenwi'r ffurflen hon",{"$f":"IF(ISERROR(VLOOKUP(B777,Translate!$G$3:$H$168,2,FALSE)),\"\",VLOOKUP(B777,Translate!$G$3:$H$168,2,FALSE))","v":""},{"$nulls":8},"",{"$nulls":9},0,0]
["Provision for repayment of principal",null,"Darpariaeth ar gyfer ad-dalu'r prifswm",{"$f":"IF(ISERROR(VLOOKUP(B778,Translate!$G$3:$H$168,2,FALSE)),\"\",VLOOKUP(B778,Translate!$G$3:$H$168,2,FALSE))","v":""},{"$nulls":8},"",{"$nulls":9},0,0]
["Bad debt provision",null,"Darpariaeth ar gyfer dyled ddrwg",{"$f":"IF(ISERROR(VLOOKUP(B779,Translate!$G$3:$H$168,2,FALSE)),\"\",VLOOKUP(B779,Translate!$G$3:$H$168,2,FALSE))","v":""},{"$nulls":8},"",{"$nulls":9},0,0]
["Bad debt 'provision'",null,"Darpariaeth' ar gyfer dyled ddrwg",{"$f":"IF(ISERROR(VLOOKUP(B780,Translate!$G$3:$H$168,2,FALSE)),\"\",VLOOKUP(B780,Translate!$G$3:$H$168,2,FALSE))","v":""},{"$nulls":8},"",{"$nulls":9},0,0]
["Under 5 provision not in nursery, primary or special schools",null,"Darpariaeth dan 5 oed heb fod mewn ysgol feithrin, ysgol gynradd nac ysgol arbennig",{"$f":"IF(ISERROR(VLOOKUP(B781,Translate!$G$3:$H$168,2,FALSE)),\"\",VLOOKUP(B781,Translate!$G$3:$H$168,2,FALSE))","v":""},{"$nulls":8},"",{"$nulls":9},0,0]
["Own provision (including joint arrangements)",null,"Darpariaeth eu hunain (gan gynnwys trefniadau ar y cyd)",{"$f":"IF(ISERROR(VLOOKUP(B782,Translate!$G$3:$H$168,2,FALSE)),\"\",VLOOKUP(B782,Translate!$G$3:$H$168,2,FALSE))","v":""},{"$nulls":8},"",{"$nulls":9},0,0]
["Provision by others\n(including joint arrangements)",null,"Darpariaeth gan eraill (gan gynnwys trefniadau ar y cyd)",{"$f":"IF(ISERROR(VLOOKUP(B783,Translate!$G$3:$H$168,2,FALSE)),\"\",VLOOKUP(B783,Translate!$G$3:$H$168,2,FALSE))","v":""},{"$nulls":8},"",{"$nulls":9},0,0]
["Economic development",null,"Datblygu economaidd",{"$f":"IF(ISERROR(VLOOKUP(B784,Translate!$G$3:$H$168,2,FALSE)),\"\",VLOOKUP(B784,Translate!$G$3:$H$168,2,FALSE))","v":""},{"$nulls":8},"",{"$nulls":9},0,0]
["Arts development and support",null,"Datblygu a chynorthwyo'r celfyddydau",{"$f":"IF(ISERROR(VLOOKUP(B785,Translate!$G$3:$H$168,2,FALSE)),\"\",VLOOKUP(B785,Translate!$G$3:$H$168,2,FALSE))","v":""},{"$nulls":8},"",{"$nulls":9},0,0]
["Sports development",null,"Datblygu chwaraeon",{"$f":"IF(ISERROR(VLOOKUP(B786,Translate!$G$3:$H$168,2,FALSE)),\"\",VLOOKUP(B786,Translate!$G$3:$H$168,2,FALSE))","v":""},{"$nulls":8},"",{"$nulls":9},0,0]
["Community development",null,"Datblygu cymundeol",{"$f":"IF(ISERROR(VLOOKUP(B787,Translate!$G$3:$H$168,2,FALSE)),\"\",VLOOKUP(B787,Translate!$G$3:$H$168,2,FALSE))","v":""},{"$nulls":8},"",{"$nulls":9},0,0]
["Dealing with the public",null,"Delio â'r cyhoedd",{"$f":"IF(ISERROR(VLOOKUP(B788,Translate!$G$3:$H$168,2,FALSE)),\"\",VLOOKUP(B788,Translate!$G$3:$H$168,2,FALSE))","v":""},{"$nulls":8},"",{"$nulls":9},0,0]
["Receipts of non-domestic rates for earlier years (net of refunds)",null,"Derbyniadau ardrethi annomestig ar gyfer blynyddoedd cynharach (heb gynnwys ad-daliadau)",{"$f":"IF(ISERROR(VLOOKUP(B789,Translate!$G$3:$H$168,2,FALSE)),\"\",VLOOKUP(B789,Translate!$G$3:$H$168,2,FALSE))","v":""},{"$nulls":8},"",{"$nulls":9},{"$f":"IF(LEFT(V789,1)=\" \",RIGHT(V789,LEN(V789)-1),V789)","v":0},{"$f":"IF(LEFT(W789,1)=\" \",1,0)","v":0}]
["Receipts of in-year non-domestic rates (net of refunds)",null,"Derbyniadau ardrethi annomestig yn ystod y flwyddyn (heb gynnwys ad-daliadau) ",{"$f":"IF(ISERROR(VLOOKUP(B790,Translate!$G$3:$H$168,2,FALSE)),\"\",VLOOKUP(B790,Translate!$G$3:$H$168,2,FALSE))","v":""},{"$nulls":8},"",{"$nulls":9},0,0]
["External interest receipts",null,"Derbyniadau llog allanol",{"$f":"IF(ISERROR(VLOOKUP(B791,Translate!$G$3:$H$168,2,FALSE)),\"\",VLOOKUP(B791,Translate!$G$3:$H$168,2,FALSE))","v":""},{"$nulls":8},"",{"$nulls":9},0,0]
["Homelessness",null,"Digartrefedd",{"$f":"IF(ISERROR(VLOOKUP(B792,Translate!$G$3:$H$168,2,FALSE)),\"\",VLOOKUP(B792,Translate!$G$3:$H$168,2,FALSE))","v":""},{"$nulls":8},"",{"$nulls":9},0,0]
["Inter authority recoupment",null,"Digollediad rhwng awdurdodau",{"$f":"IF(ISERROR(VLOOKUP(B793,Translate!$G$3:$H$168,2,FALSE)),\"\",VLOOKUP(B793,Translate!$G$3:$H$168,2,FALSE))","v":""},{"$nulls":8},"",{"$nulls":9},0,0]
["Inter authority recoupment - special",null,"Digollediad rhwng awdurdodau - Ysgolion arbennig",{"$f":"IF(ISERROR(VLOOKUP(B794,Translate!$G$3:$H$168,2,FALSE)),\"\",VLOOKUP(B794,Translate!$G$3:$H$168,2,FALSE))","v":""},{"$nulls":8},"",{"$nulls":9},0,0]
["Inter authority recoupment - middle",null,"Digollediad rhwng awdurdodau - Ysgolion canol",{"$f":"IF(ISERROR(VLOOKUP(B795,Translate!$G$3:$H$168,2,FALSE)),\"\",VLOOKUP(B795,Translate!$G$3:$H$168,2,FALSE))","v":""},{"$nulls":8},"",{"$nulls":9},0,0]
["Inter authority recoupment - primary",null,"Digollediad rhwng awdurdodau - Ysgolion cynradd",{"$f":"IF(ISERROR(VLOOKUP(B796,Translate!$G$3:$H$168,2,FALSE)),\"\",VLOOKUP(B796,Translate!$G$3:$H$168,2,FALSE))","v":""},{"$nulls":8},"",{"$nulls":9},0,0]
["Inter authority recoupment - nursery",null,"Digollediad rhwng awdurdodau - Ysgolion meithrin",{"$f":"IF(ISERROR(VLOOKUP(B797,Translate!$G$3:$H$168,2,FALSE)),\"\",VLOOKUP(B797,Translate!$G$3:$H$168,2,FALSE))","v":""},{"$nulls":8},"",{"$nulls":9},0,0]
["Inter authority recoupment - secondary",null,"Digollediad rhwng awdurdodau - Ysgolion uwchradd",{"$f":"IF(ISERROR(VLOOKUP(B798,Translate!$G$3:$H$168,2,FALSE)),\"\",VLOOKUP(B798,Translate!$G$3:$H$168,2,FALSE))","v":""},{"$nulls":8},"",{"$nulls":9},0,0]
["Validation",null,"Dilysu",{"$f":"IF(ISERROR(VLOOKUP(B799,Translate!$G$3:$H$168,2,FALSE)),\"\",VLOOKUP(B799,Translate!$G$3:$H$168,2,FALSE))","v":""},{"$nulls":8},"",{"$nulls":9},0,0]
["Community safety",null,"Diogelwch cymunedol",{"$f":"IF(ISERROR(VLOOKUP(B800,Translate!$G$3:$H$168,2,FALSE)),\"\",VLOOKUP(B800,Translate!$G$3:$H$168,2,FALSE))","v":""},{"$nulls":8},"",{"$nulls":9},0,0]
["Community safety (CCTV)",null,"Diogelwch cymunedol (teledu cylch cyfyng)",{"$f":"IF(ISERROR(VLOOKUP(B801,Translate!$G$3:$H$168,2,FALSE)),\"\",VLOOKUP(B801,Translate!$G$3:$H$168,2,FALSE))","v":""},{"$nulls":8},"",{"$nulls":9},0,0]
["Community fire safety",null,"Diogelwch tân cymunedol",{"$f":"IF(ISERROR(VLOOKUP(B802,Translate!$G$3:$H$168,2,FALSE)),\"\",VLOOKUP(B802,Translate!$G$3:$H$168,2,FALSE))","v":""},{"$nulls":8},"",{"$nulls":9},0,0]
["Food safety",null,"Diolgelwch bwyd",{"$f":"IF(ISERROR(VLOOKUP(B803,Translate!$G$3:$H$168,2,FALSE)),\"\",VLOOKUP(B803,Translate!$G$3:$H$168,2,FALSE))","v":""},{"$nulls":8},"",{"$nulls":9},0,0]
["Council tax discounts",null,"Disgowntiau y dreth gyngor",{"$f":"IF(ISERROR(VLOOKUP(B804,Translate!$G$3:$H$168,2,FALSE)),\"\",VLOOKUP(B804,Translate!$G$3:$H$168,2,FALSE))","v":""},{"$nulls":8},"",{"$nulls":9},0,0]
["Industrial and commercial",null,"Diwydiannol a masnachol",{"$f":"IF(ISERROR(VLOOKUP(B805,Translate!$G$3:$H$168,2,FALSE)),\"\",VLOOKUP(B805,Translate!$G$3:$H$168,2,FALSE))","v":""},{"$nulls":8},"",{"$nulls":9},0,0]
["CULTURE AND HERITAGE",null,"Diwylliant a threftadaeth",{"$f":"IF(ISERROR(VLOOKUP(B806,Translate!$G$3:$H$168,2,FALSE)),\"\",VLOOKUP(B806,Translate!$G$3:$H$168,2,FALSE))","v":""},{"$nulls":8},"",{"$nulls":9},0,0]
["Documentation",null,"Dogfennaeth",{"$f":"IF(ISERROR(VLOOKUP(B807,Translate!$G$3:$H$168,2,FALSE)),\"\",VLOOKUP(B807,Translate!$G$3:$H$168,2,FALSE))","v":""},{"$nulls":8},"",{"$nulls":9},0,0]
["Link to Guidance",null,"Dolen at y canllawiau",{"$f":"IF(ISERROR(VLOOKUP(B808,Translate!$G$3:$H$168,2,FALSE)),\"\",VLOOKUP(B808,Translate!$G$3:$H$168,2,FALSE))","v":""},{"$nulls":8},"",{"$nulls":9},0,0]
["Please only include time spent on activities to prepare and send this return, such as:",null,"Dylech gynnwys yr amser a dreuliwyd ar weithgarwch i baratoi ac anfon y ffurflen hon yn unig, megis:",{"$f":"IF(ISERROR(VLOOKUP(B809,Translate!$G$3:$H$168,2,FALSE)),\"\",VLOOKUP(B809,Translate!$G$3:$H$168,2,FALSE))","v":""},{"$nulls":8},"",{"$nulls":9},0,0]
["In-year debit compared to amount originally budgeted to be collected",null,"Dyled yn ystod y flwyddyn o gymharu â'r swm i'w gasglu yn y gyllideb yn wreiddiol ",{"$f":"IF(ISERROR(VLOOKUP(B810,Translate!$G$3:$H$168,2,FALSE)),\"\",VLOOKUP(B810,Translate!$G$3:$H$168,2,FALSE))","v":""},{"$nulls":8},"",{"$nulls":9},0,0]
["Form Design",null,"Dyluniad y ffurflen",{"$f":"IF(ISERROR(VLOOKUP(B811,Translate!$G$3:$H$168,2,FALSE)),\"\",VLOOKUP(B811,Translate!$G$3:$H$168,2,FALSE))","v":""},{"$nulls":8},"",{"$nulls":9},0,0]
["Short breaks (respite) for children looked after",null,"Egwyliau byr (seibiant) ar gyfer plant sy'n derbyn gofal",{"$f":"IF(ISERROR(VLOOKUP(B812,Translate!$G$3:$H$168,2,FALSE)),\"\",VLOOKUP(B812,Translate!$G$3:$H$168,2,FALSE))","v":""},{"$nulls":8},"",{"$nulls":9},0,0]
["Short breaks (respite) for disabled children looked after",null,"Egwyliau byr (seibiant) ar gyfer plant anabl sy'n derbyn gofal",{"$f":"IF(ISERROR(VLOOKUP(B813,Translate!$G$3:$H$168,2,FALSE)),\"\",VLOOKUP(B813,Translate!$G$3:$H$168,2,FALSE))","v":""},{"$nulls":8},"",{"$nulls":9},0,0]
["Other council property",null,"Eiddo arall y cyngor",{"$f":"IF(ISERROR(VLOOKUP(B814,Translate!$G$3:$H$168,2,FALSE)),\"\",VLOOKUP(B814,Translate!$G$3:$H$168,2,FALSE))","v":""},{"$nulls":8},"",{"$nulls":9},0,0]
["Initiative schemes",null,"Cynlluniau menter",{"$f":"IF(ISERROR(VLOOKUP(B815,Translate!$G$3:$H$168,2,FALSE)),\"\",VLOOKUP(B815,Translate!$G$3:$H$168,2,FALSE))","v":""},{"$nulls":8},"",{"$nulls":9},0,0]
["Capital financing element within PFI schemes",null,"Elfen cyllido cyfalaf o fewn cynlluniau PFI",{"$f":"IF(ISERROR(VLOOKUP(B816,Translate!$G$3:$H$168,2,FALSE)),\"\",VLOOKUP(B816,Translate!$G$3:$H$168,2,FALSE))","v":""},{"$nulls":8},"",{"$nulls":9},0,0]
["Other roads",null,"Ffyrdd eraill",{"$f":"IF(ISERROR(VLOOKUP(B817,Translate!$G$3:$H$168,2,FALSE)),\"\",VLOOKUP(B817,Translate!$G$3:$H$168,2,FALSE))","v":""},{"$nulls":8},"",{"$nulls":9},0,0]
["Roads, street lighting and road safety",null,"Ffyrdd, goleuadau stryd a diogelwych ffyrdd",{"$f":"IF(ISERROR(VLOOKUP(B818,Translate!$G$3:$H$168,2,FALSE)),\"\",VLOOKUP(B818,Translate!$G$3:$H$168,2,FALSE))","v":""},{"$nulls":8},"",{"$nulls":9},0,0]
["Enabling",null,"Galluogi",{"$f":"IF(ISERROR(VLOOKUP(B819,Translate!$G$3:$H$168,2,FALSE)),\"\",VLOOKUP(B819,Translate!$G$3:$H$168,2,FALSE))","v":""},{"$nulls":8},"",{"$nulls":9},0,0]
["Street cleansing (not chargeable to highways)",null,"Glanhau strydoedd (ddim yn daladwy o dan priffyrdd)",{"$f":"IF(ISERROR(VLOOKUP(B820,Translate!$G$3:$H$168,2,FALSE)),\"\",VLOOKUP(B820,Translate!$G$3:$H$168,2,FALSE))","v":""},{"$nulls":8},"",{"$nulls":9},0,0]
["Tolerance",null,"Goddefiant",{"$f":"IF(ISERROR(VLOOKUP(B821,Translate!$G$3:$H$168,2,FALSE)),\"\",VLOOKUP(B821,Translate!$G$3:$H$168,2,FALSE))","v":""},{"$nulls":8},"",{"$nulls":9},0,0]
["Home care",null,"Gofal cartref",{"$f":"IF(ISERROR(VLOOKUP(B822,Translate!$G$3:$H$168,2,FALSE)),\"\",VLOOKUP(B822,Translate!$G$3:$H$168,2,FALSE))","v":""},{"$nulls":8},"",{"$nulls":9},0,0]
["Day care",null,"Gofal dydd",{"$f":"IF(ISERROR(VLOOKUP(B823,Translate!$G$3:$H$168,2,FALSE)),\"\",VLOOKUP(B823,Translate!$G$3:$H$168,2,FALSE))","v":""},{"$nulls":8},"",{"$nulls":9},0,0]
["Residential care",null,"Gofal preswyl",{"$f":"IF(ISERROR(VLOOKUP(B824,Translate!$G$3:$H$168,2,FALSE)),\"\",VLOOKUP(B824,Translate!$G$3:$H$168,2,FALSE))","v":""},{"$nulls":8},"",{"$nulls":9},0,0]
["Street lighting",null,"Goleuadau stryd",{"$f":"IF(ISERROR(VLOOKUP(B825,Translate!$G$3:$H$168,2,FALSE)),\"\",VLOOKUP(B825,Translate!$G$3:$H$168,2,FALSE))","v":""},{"$nulls":8},"",{"$nulls":9},0,0]
["Street lighting (including energy costs)",null,"Goleuadau stryd (gan gynnwys costau ynni)",{"$f":"IF(ISERROR(VLOOKUP(B826,Translate!$G$3:$H$168,2,FALSE)),\"\",VLOOKUP(B826,Translate!$G$3:$H$168,2,FALSE))","v":""},{"$nulls":8},"",{"$nulls":9},0,0]
["Specific and special government grants",null,"Grantiau penodol ac arbennig gan y llywodraeth",{"$f":"IF(ISERROR(VLOOKUP(B827,Translate!$G$3:$H$168,2,FALSE)),\"\",VLOOKUP(B827,Translate!$G$3:$H$168,2,FALSE))","v":""},{"$nulls":8},"",{"$nulls":9},0,0]
["Specific grants (c)",null,"Grantiau penodol (c)",{"$f":"IF(ISERROR(VLOOKUP(B828,Translate!$G$3:$H$168,2,FALSE)),\"\",VLOOKUP(B828,Translate!$G$3:$H$168,2,FALSE))","v":""},{"$nulls":8},"",{"$nulls":9},0,0]
["Difference",null,"Gwahaniaeth",{"$f":"IF(ISERROR(VLOOKUP(B829,Translate!$G$3:$H$168,2,FALSE)),\"\",VLOOKUP(B829,Translate!$G$3:$H$168,2,FALSE))","v":""},{"$nulls":8},"",{"$nulls":9},0,0]
["Commissioning and social work",null,"Comisiynu a gwaith cymdeithasol",{"$f":"IF(ISERROR(VLOOKUP(B830,Translate!$G$3:$H$168,2,FALSE)),\"\",VLOOKUP(B830,Translate!$G$3:$H$168,2,FALSE))","v":""},{"$nulls":8},"",{"$nulls":9},0,0]
["Social work (including LA functions in relation to child protection)",null,"Gwaith cymdeithasol (yn cynnwys swyddogaethau ALl mewn cysylltiad ag amddiffyn plant)",{"$f":"IF(ISERROR(VLOOKUP(B831,Translate!$G$3:$H$168,2,FALSE)),\"\",VLOOKUP(B831,Translate!$G$3:$H$168,2,FALSE))","v":""},{"$nulls":8},"",{"$nulls":9},0,0]
["Planning and economic development:",null,"Cynllunio a datblygu economaiddl:",{"$f":"IF(ISERROR(VLOOKUP(B832,Translate!$G$3:$H$168,2,FALSE)),\"\",VLOOKUP(B832,Translate!$G$3:$H$168,2,FALSE))","v":""},{"$nulls":8},"",{"$nulls":9},0,0]
["Non-school education expenditure",null,"Gwariant addysg heblaw ysgolion",{"$f":"IF(ISERROR(VLOOKUP(B833,Translate!$G$3:$H$168,2,FALSE)),\"\",VLOOKUP(B833,Translate!$G$3:$H$168,2,FALSE))","v":""},{"$nulls":8},"",{"$nulls":9},0,0]
["Schools expenditure (including delegated and non-delegated funding)",null,"Gwariant ar ysgolion (yn cynnwys arian wedi'i ddirprwyo ac arian heb ei ddirprwyo)",{"$f":"IF(ISERROR(VLOOKUP(B834,Translate!$G$3:$H$168,2,FALSE)),\"\",VLOOKUP(B834,Translate!$G$3:$H$168,2,FALSE))","v":""},{"$nulls":8},"",{"$nulls":9},0,0]
["Other expenditure",null,"Gwariant arall",{"$f":"IF(ISERROR(VLOOKUP(B835,Translate!$G$3:$H$168,2,FALSE)),\"\",VLOOKUP(B835,Translate!$G$3:$H$168,2,FALSE))","v":""},{"$nulls":8},{"$f":"IF(ISERROR(FIND(\" (include\",O835)),\"\",RIGHT(O835,LEN(O835)-FIND(\" (include\",O835)))","v":""},{"$nulls":9},0,0]
["Other premises expenditure",null,"Gwariant arall ar safleoedd",{"$f":"IF(ISERROR(VLOOKUP(B836,Translate!$G$3:$H$168,2,FALSE)),\"\",VLOOKUP(B836,Translate!$G$3:$H$168,2,FALSE))","v":""},{"$nulls":8},"",{"$nulls":9},0,0]
["Capital expenditure charged to revenue account",null,"Gwariant cyfalaf a godwyd o'r cyfrif refeniw",{"$f":"IF(ISERROR(VLOOKUP(B837,Translate!$G$3:$H$168,2,FALSE)),\"\",VLOOKUP(B837,Translate!$G$3:$H$168,2,FALSE))","v":""},{"$nulls":8},"",{"$nulls":9},0,0]
["Capital expenditure charged to revenue account - special",null,"Gwariant cyfalaf a godwyd o'r cyfrif refeniw - Ysgolion arbennig",{"$f":"IF(ISERROR(VLOOKUP(B838,Translate!$G$3:$H$168,2,FALSE)),\"\",VLOOKUP(B838,Translate!$G$3:$H$168,2,FALSE))","v":""},{"$nulls":8},"",{"$nulls":9},0,0]
["Capital expenditure charged to revenue account - middle",null,"Gwariant cyfalaf a godwyd o'r cyfrif refeniw - Ysgolion canol",{"$f":"IF(ISERROR(VLOOKUP(B839,Translate!$G$3:$H$168,2,FALSE)),\"\",VLOOKUP(B839,Translate!$G$3:$H$168,2,FALSE))","v":""},{"$nulls":8},"",{"$nulls":9},0,0]
["Capital expenditure charged to revenue account - primary",null,"Gwariant cyfalaf a godwyd o'r cyfrif refeniw - Ysgolion cynradd",{"$f":"IF(ISERROR(VLOOKUP(B840,Translate!$G$3:$H$168,2,FALSE)),\"\",VLOOKUP(B840,Translate!$G$3:$H$168,2,FALSE))","v":""},{"$nulls":8},"",{"$nulls":9},0,0]
["Capital expenditure charged to revenue account - nursery",null,"Gwariant cyfalaf a godwyd o'r cyfrif refeniw - Ysgolion meithrin",{"$f":"IF(ISERROR(VLOOKUP(B841,Translate!$G$3:$H$168,2,FALSE)),\"\",VLOOKUP(B841,Translate!$G$3:$H$168,2,FALSE))","v":""},{"$nulls":8},"",{"$nulls":9},0,0]
["Capital expenditure charged to revenue account - secondary",null,"Gwariant cyfalaf a godwyd o'r cyfrif refeniw - Ysgolion uwchradd",{"$f":"IF(ISERROR(VLOOKUP(B842,Translate!$G$3:$H$168,2,FALSE)),\"\",VLOOKUP(B842,Translate!$G$3:$H$168,2,FALSE))","v":""},{"$nulls":8},"",{"$nulls":9},0,0]
["Capital expenditure charged to revenue account (CERA)",null,"Gwariant cyfalaf a godwyd o'r cyfrif refeniw (CERA)",{"$f":"IF(ISERROR(VLOOKUP(B843,Translate!$G$3:$H$168,2,FALSE)),\"\",VLOOKUP(B843,Translate!$G$3:$H$168,2,FALSE))","v":""},{"$nulls":8},"",{"$nulls":9},0,0]
["Net Current Expenditure",null,"Gwariant Cyfredol Net",{"$f":"IF(ISERROR(VLOOKUP(B844,Translate!$G$3:$H$168,2,FALSE)),\"\",VLOOKUP(B844,Translate!$G$3:$H$168,2,FALSE))","v":""},{"$nulls":8},"",{"$nulls":9},0,0]
["Non-current expenditure:",null,"Gwariant anghyfredol:",{"$f":"IF(ISERROR(VLOOKUP(B845,Translate!$G$3:$H$168,2,FALSE)),\"\",VLOOKUP(B845,Translate!$G$3:$H$168,2,FALSE))","v":""},{"$nulls":18},0,0]
["Gross Expenditure",null,"Gwariant Gros",{"$f":"IF(ISERROR(VLOOKUP(B846,Translate!$G$3:$H$168,2,FALSE)),\"\",VLOOKUP(B846,Translate!$G$3:$H$168,2,FALSE))","v":""},{"$nulls":18},0,0]
["Police operational expenditure:",null,"Gwariant gweithredol yr heddlu:",{"$f":"IF(ISERROR(VLOOKUP(B847,Translate!$G$3:$H$168,2,FALSE)),\"\",VLOOKUP(B847,Translate!$G$3:$H$168,2,FALSE))","v":""},{"$nulls":18},0,0]
["Fire operational expenditure:",null,"Gwariant gweithredol tân:",{"$f":"IF(ISERROR(VLOOKUP(B848,Translate!$G$3:$H$168,2,FALSE)),\"\",VLOOKUP(B848,Translate!$G$3:$H$168,2,FALSE))","v":""},{"$nulls":18},0,0]
["Operational expenditure:",null,"Gwariant gweithredol:",{"$f":"IF(ISERROR(VLOOKUP(B849,Translate!$G$3:$H$168,2,FALSE)),\"\",VLOOKUP(B849,Translate!$G$3:$H$168,2,FALSE))","v":""},{"$nulls":18},0,0]
["HIV/AIDS",null,"HIV/AIDS",{"$f":"IF(ISERROR(VLOOKUP(B850,Translate!$G$3:$H$168,2,FALSE)),\"\",VLOOKUP(B850,Translate!$G$3:$H$168,2,FALSE))","v":""},{"$nulls":18},0,0]
["Other revenue expenditure",null,"Gwariant refeniw arall:",{"$f":"IF(ISERROR(VLOOKUP(B851,Translate!$G$3:$H$168,2,FALSE)),\"\",VLOOKUP(B851,Translate!$G$3:$H$168,2,FALSE))","v":""},{"$nulls":18},0,0]
["Gross revenue expenditure",null,"Gwariant refeniw gros",{"$f":"IF(ISERROR(VLOOKUP(B852,Translate!$G$3:$H$168,2,FALSE)),\"\",VLOOKUP(B852,Translate!$G$3:$H$168,2,FALSE))","v":""},{"$nulls":18},0,0]
["Net revenue expenditure",null,"Gwariant refeniw net",{"$f":"IF(ISERROR(VLOOKUP(B853,Translate!$G$3:$H$168,2,FALSE)),\"\",VLOOKUP(B853,Translate!$G$3:$H$168,2,FALSE))","v":""},{"$nulls":18},{"$f":"IF(LEFT(V853,1)=\" \",RIGHT(V853,LEN(V853)-1),V853)","v":0},{"$f":"IF(LEFT(W853,1)=\" \",1,0)","v":0}]
["Appropriations to(+) / from(-) accumulated absences",null,"Dyraniadau i(+) / o(-) absenoldebau cronnus",{"$f":"IF(ISERROR(VLOOKUP(B854,Translate!$G$3:$H$168,2,FALSE)),\"\",VLOOKUP(B854,Translate!$G$3:$H$168,2,FALSE))","v":""},{"$nulls":18},{"$f":"IF(LEFT(V854,1)=\" \",RIGHT(V854,LEN(V854)-1),V854)","v":0},{"$f":"IF(LEFT(W854,1)=\" \",1,0)","v":0}]
["Direct spend (employee costs and running costs)",null,"Gwariant uniongyrchol (costau cyflogeion a costau rhedeg)",{"$f":"IF(ISERROR(VLOOKUP(B855,Translate!$G$3:$H$168,2,FALSE)),\"\",VLOOKUP(B855,Translate!$G$3:$H$168,2,FALSE))","v":""},{"$nulls":18},{"$f":"IF(LEFT(V855,1)=\" \",RIGHT(V855,LEN(V855)-1),V855)","v":0},{"$f":"IF(LEFT(W855,1)=\" \",1,0)","v":0}]
["Other direct spend (employee costs and running costs)",null,"Gwariant uniongyrchol arall (costau cyflogeion a chostau rhedeg",{"$f":"IF(ISERROR(VLOOKUP(B856,Translate!$G$3:$H$168,2,FALSE)),\"\",VLOOKUP(B856,Translate!$G$3:$H$168,2,FALSE))","v":""},{"$nulls":18},{"$f":"IF(LEFT(V856,1)=\" \",RIGHT(V856,LEN(V856)-1),V856)","v":0},{"$f":"IF(LEFT(W856,1)=\" \",1,0)","v":0}]
["School expenditure - special",null,"Gwariant ysgol - Ysgolion arbennig",{"$f":"IF(ISERROR(VLOOKUP(B857,Translate!$G$3:$H$168,2,FALSE)),\"\",VLOOKUP(B857,Translate!$G$3:$H$168,2,FALSE))","v":""},{"$nulls":19},{"$f":"IF(LEFT(W857,1)=\" \",RIGHT(W857,LEN(W857)-1),W857)","v":0},0,0,0,0,{"$f":"IF(LEFT(AB857,1)=\" \",1,0)","v":0}]
["School expenditure - middle",null,"Gwariant ysgol - Ysgolion canol",{"$f":"IF(ISERROR(VLOOKUP(B858,Translate!$G$3:$H$168,2,FALSE)),\"\",VLOOKUP(B858,Translate!$G$3:$H$168,2,FALSE))","v":""},{"$nulls":19},0,0,0,0,0,0]
["School expenditure - primary",null,"Gwariant ysgol - Ysgolion cynradd",{"$f":"IF(ISERROR(VLOOKUP(B859,Translate!$G$3:$H$168,2,FALSE)),\"\",VLOOKUP(B859,Translate!$G$3:$H$168,2,FALSE))","v":""},{"$nulls":19},0,0,0,0,0,0]
["School expenditure - nursery",null,"Gwariant ysgol - ysgolion meithrin",{"$f":"IF(ISERROR(VLOOKUP(B860,Translate!$G$3:$H$168,2,FALSE)),\"\",VLOOKUP(B860,Translate!$G$3:$H$168,2,FALSE))","v":""},{"$nulls":19},0,0,0,0,0,0]
["School expenditure - secondary",null,"Gwariant ysgol - Ysgolion uwchradd",{"$f":"IF(ISERROR(VLOOKUP(B861,Translate!$G$3:$H$168,2,FALSE)),\"\",VLOOKUP(B861,Translate!$G$3:$H$168,2,FALSE))","v":""},{"$nulls":19},0,0,0,0,0,0]
["Other education services and continuing education",null,"Gwasanaeth addysg eraill ac addysg barhaus",{"$f":"IF(ISERROR(VLOOKUP(B862,Translate!$G$3:$H$168,2,FALSE)),\"\",VLOOKUP(B862,Translate!$G$3:$H$168,2,FALSE))","v":""},{"$nulls":19},0,0,0,0,0,0]
["Library services",null,"Gwasanaethau llyfrgelloedd",{"$f":"IF(ISERROR(VLOOKUP(B863,Translate!$G$3:$H$168,2,FALSE)),\"\",VLOOKUP(B863,Translate!$G$3:$H$168,2,FALSE))","v":""},{"$nulls":19},0,0,0,0,0,0]
["Management and support services:",null,"Gwasanaethau rheoli a chynnal:",{"$f":"IF(ISERROR(VLOOKUP(B864,Translate!$G$3:$H$168,2,FALSE)),\"\",VLOOKUP(B864,Translate!$G$3:$H$168,2,FALSE))","v":""},{"$nulls":19},0,0,0,0,0,0]
["Fire service and civil defence",null,"Gwasanaethau tân ac amddiffyn sifil ",{"$f":"IF(ISERROR(VLOOKUP(B865,Translate!$G$3:$H$168,2,FALSE)),\"\",VLOOKUP(B865,Translate!$G$3:$H$168,2,FALSE))","v":""},{"$nulls":19},0,0,0,0,0,0]
["Winter service",null,"Gwasanaeth y gaeaf",{"$f":"IF(ISERROR(VLOOKUP(B866,Translate!$G$3:$H$168,2,FALSE)),\"\",VLOOKUP(B866,Translate!$G$3:$H$168,2,FALSE))","v":""},{"$nulls":19},0,0,0,0,0,0]
["Agricultural services",null,"Gwasanaethau amaethyddiaeth",{"$f":"IF(ISERROR(VLOOKUP(B867,Translate!$G$3:$H$168,2,FALSE)),\"\",VLOOKUP(B867,Translate!$G$3:$H$168,2,FALSE))","v":""},{"$nulls":19},0,0,0,0,0,0]
["Own agriculture and fisheries services",null,"Gwasanaethau amaethyddol a physgodfeydd ei hun",{"$f":"IF(ISERROR(VLOOKUP(B868,Translate!$G$3:$H$168,2,FALSE)),\"\",VLOOKUP(B868,Translate!$G$3:$H$168,2,FALSE))","v":""},{"$nulls":19},0,0,0,0,0,0]
["Own flood defence and land drainage services",null,"Gwasanaethau amddiffyn llifogydd a draeniad tir ei hun",{"$f":"IF(ISERROR(VLOOKUP(B869,Translate!$G$3:$H$168,2,FALSE)),\"\",VLOOKUP(B869,Translate!$G$3:$H$168,2,FALSE))","v":""},{"$nulls":19},0,0,0,0,0,0]
["Other environmental services:",null,"Gwasanaethau amgylcheddol eraill:",{"$f":"IF(ISERROR(VLOOKUP(B870,Translate!$G$3:$H$168,2,FALSE)),\"\",VLOOKUP(B870,Translate!$G$3:$H$168,2,FALSE))","v":""},{"$nulls":19},0,0,0,0,0,0]
["Local environmental services:",null,"Gwasanaethau amgylcheddol lleol:",{"$f":"IF(ISERROR(VLOOKUP(B871,Translate!$G$3:$H$168,2,FALSE)),\"\",VLOOKUP(B871,Translate!$G$3:$H$168,2,FALSE))","v":""},{"$nulls":19},0,0,0,0,0,0]
["Preventative services",null,"Gwasanaethau ataliol",{"$f":"IF(ISERROR(VLOOKUP(B872,Translate!$G$3:$H$168,2,FALSE)),\"\",VLOOKUP(B872,Translate!$G$3:$H$168,2,FALSE))","v":""},{"$nulls":19},0,0,0,0,0,0]
["Teenage pregnancy services",null,"Gwasanaethau beichiogrwydd pobl ifanc yn eu harddegau",{"$f":"IF(ISERROR(VLOOKUP(B873,Translate!$G$3:$H$168,2,FALSE)),\"\",VLOOKUP(B873,Translate!$G$3:$H$168,2,FALSE))","v":""},{"$nulls":19},{"$f":"IF(LEFT(W873,1)=\" \",RIGHT(W873,LEN(W873)-1),W873)","v":0},0,0,0,0,0]
["Substance misuse service",null,"Gwasanaethau camddefnyddio sylweddau",{"$f":"IF(ISERROR(VLOOKUP(B874,Translate!$G$3:$H$168,2,FALSE)),\"\",VLOOKUP(B874,Translate!$G$3:$H$168,2,FALSE))","v":""},{"$nulls":19},0,0,0,0,0,0]
["Other central services",null,"Gwasanaethau canolog eraill",{"$f":"IF(ISERROR(VLOOKUP(B875,Translate!$G$3:$H$168,2,FALSE)),\"\",VLOOKUP(B875,Translate!$G$3:$H$168,2,FALSE))","v":""},{"$nulls":19},0,0,0,0,0,0]
["Other central services to the public",null,"Gwasanaethau canolog eraill i'r cyhoedd",{"$f":"IF(ISERROR(VLOOKUP(B876,Translate!$G$3:$H$168,2,FALSE)),\"\",VLOOKUP(B876,Translate!$G$3:$H$168,2,FALSE))","v":""},{"$nulls":19},0,0,0,0,0,0]
["Coroners' and other courts services",null,"Gwasanaethau crwner a llysoedd eraill",{"$f":"IF(ISERROR(VLOOKUP(B877,Translate!$G$3:$H$168,2,FALSE)),\"\",VLOOKUP(B877,Translate!$G$3:$H$168,2,FALSE))","v":""},{"$nulls":19},0,0,0,0,0,0]
["Universal services for young people",null,"Gwasanaethau cyffredinol ar gyfer pobl ifanc",{"$f":"IF(ISERROR(VLOOKUP(B878,Translate!$G$3:$H$168,2,FALSE)),\"\",VLOOKUP(B878,Translate!$G$3:$H$168,2,FALSE))","v":""},{"$nulls":19},0,0,0,0,0,0]
["Other youth justice services",null,"Gwasanaethau cyfiawnder ieuenctid eraill",{"$f":"IF(ISERROR(VLOOKUP(B879,Translate!$G$3:$H$168,2,FALSE)),\"\",VLOOKUP(B879,Translate!$G$3:$H$168,2,FALSE))","v":""},{"$nulls":19},0,0,0,0,0,0]
["Social services",null,"Gwasanaethau cymdeithasol",{"$f":"IF(ISERROR(VLOOKUP(B880,Translate!$G$3:$H$168,2,FALSE)),\"\",VLOOKUP(B880,Translate!$G$3:$H$168,2,FALSE))","v":""},{"$nulls":19},0,0,0,0,0,0]
["Social services - adults aged under 65",null,"Gwasanaethau cymdeithasol - oedolion o dan 65 oed",{"$f":"IF(ISERROR(VLOOKUP(B881,Translate!$G$3:$H$168,2,FALSE)),\"\",VLOOKUP(B881,Translate!$G$3:$H$168,2,FALSE))","v":""},{"$nulls":19},0,0,0,0,0,0]
["Social services - children and families",null,"Gwasanaethau cymdeithasol - plant a teuluoedd",{"$f":"IF(ISERROR(VLOOKUP(B882,Translate!$G$3:$H$168,2,FALSE)),\"\",VLOOKUP(B882,Translate!$G$3:$H$168,2,FALSE))","v":""},{"$nulls":19},0,0,0,0,0,0]
["Social services - older people",null,"Gwasanaethau cymdeithasol - pobl hŷn",{"$f":"IF(ISERROR(VLOOKUP(B883,Translate!$G$3:$H$168,2,FALSE)),\"\",VLOOKUP(B883,Translate!$G$3:$H$168,2,FALSE))","v":""},{"$nulls":19},0,0,0,0,0,0]
["Leaving care support services",null,"Gwasanaethau cymorth gadael gofal",{"$f":"IF(ISERROR(VLOOKUP(B884,Translate!$G$3:$H$168,2,FALSE)),\"\",VLOOKUP(B884,Translate!$G$3:$H$168,2,FALSE))","v":""},{"$nulls":19},0,0,0,0,0,0]
["Other community services",null,"Gwasanaethau cymunedol eraill",{"$f":"IF(ISERROR(VLOOKUP(B885,Translate!$G$3:$H$168,2,FALSE)),\"\",VLOOKUP(B885,Translate!$G$3:$H$168,2,FALSE))","v":""},{"$nulls":19},0,0,0,0,0,0]
["Other support services",null,"Gwasanaethau cymorth eraill",{"$f":"IF(ISERROR(VLOOKUP(B886,Translate!$G$3:$H$168,2,FALSE)),\"\",VLOOKUP(B886,Translate!$G$3:$H$168,2,FALSE))","v":""},{"$nulls":19},0,0,0,0,0,0]
["Cultural and heritage services",null,"Gwasanaethau diwylliant a threftadaeth",{"$f":"IF(ISERROR(VLOOKUP(B887,Translate!$G$3:$H$168,2,FALSE)),\"\",VLOOKUP(B887,Translate!$G$3:$H$168,2,FALSE))","v":""},{"$nulls":19},0,0,0,0,0,0]
["Advocacy services for children looked after",null,"Gwasanaethau eiriolaeth ar gyfer plant sy'n derbyn gofal",{"$f":"IF(ISERROR(VLOOKUP(B888,Translate!$G$3:$H$168,2,FALSE)),\"\",VLOOKUP(B888,Translate!$G$3:$H$168,2,FALSE))","v":""},{"$nulls":19},0,0,0,0,0,0]
["Other children looked after services",null,"Gwasanaethau eraill ar gyfer plant sy'n derbyn gofal",{"$f":"IF(ISERROR(VLOOKUP(B889,Translate!$G$3:$H$168,2,FALSE)),\"\",VLOOKUP(B889,Translate!$G$3:$H$168,2,FALSE))","v":""},{"$nulls":19},0,0,0,0,0,0]
["Other children looked after services.",null,"Gwasanaethau eraill ar gyfer plant sy'n derbyn gofal",{"$f":"IF(ISERROR(VLOOKUP(B890,Translate!$G$3:$H$168,2,FALSE)),\"\",VLOOKUP(B890,Translate!$G$3:$H$168,2,FALSE))","v":""},{"$nulls":19},0,0,0,0,0,0]
["Other family support services",null,"Gwasanaethau eraill cymorth i deuluoedd",{"$f":"IF(ISERROR(VLOOKUP(B891,Translate!$G$3:$H$168,2,FALSE)),\"\",VLOOKUP(B891,Translate!$G$3:$H$168,2,FALSE))","v":""},{"$nulls":19},0,0,0,0,0,0]
["Other adult services",null,"Gwasanaethau eraill i oedolion",{"$f":"IF(ISERROR(VLOOKUP(B892,Translate!$G$3:$H$168,2,FALSE)),\"\",VLOOKUP(B892,Translate!$G$3:$H$168,2,FALSE))","v":""},{"$nulls":19},0,0,0,0,0,0]
["Police services",null,"Gwasanaethau heddlu",{"$f":"IF(ISERROR(VLOOKUP(B893,Translate!$G$3:$H$168,2,FALSE)),\"\",VLOOKUP(B893,Translate!$G$3:$H$168,2,FALSE))","v":""},{"$nulls":19},0,0,0,0,0,0]
["Police central services:",null,"Gwasanaethau heddlu canolog:",{"$f":"IF(ISERROR(VLOOKUP(B894,Translate!$G$3:$H$168,2,FALSE)),\"\",VLOOKUP(B894,Translate!$G$3:$H$168,2,FALSE))","v":""},{"$nulls":19},0,0,0,0,0,0]
["Welfare services",null,"Gwasanaethau lles",{"$f":"IF(ISERROR(VLOOKUP(B895,Translate!$G$3:$H$168,2,FALSE)),\"\",VLOOKUP(B895,Translate!$G$3:$H$168,2,FALSE))","v":""},{"$nulls":19},0,0,0,0,0,0]
["Adoption services",null,"Gwasanaethau mabwysiadu",{"$f":"IF(ISERROR(VLOOKUP(B896,Translate!$G$3:$H$168,2,FALSE)),\"\",VLOOKUP(B896,Translate!$G$3:$H$168,2,FALSE))","v":""},{"$nulls":19},0,0,0,0,0,0]
["Fostering services",null,"Gwasanaethau maethu",{"$f":"IF(ISERROR(VLOOKUP(B897,Translate!$G$3:$H$168,2,FALSE)),\"\",VLOOKUP(B897,Translate!$G$3:$H$168,2,FALSE))","v":""},{"$nulls":19},0,0,0,0,0,0]
["Other trading services",null,"Gwasanaethau masnachu eraill",{"$f":"IF(ISERROR(VLOOKUP(B898,Translate!$G$3:$H$168,2,FALSE)),\"\",VLOOKUP(B898,Translate!$G$3:$H$168,2,FALSE))","v":""},{"$nulls":19},0,0,0,0,0,0]
["Cemetery, cremation and mortuary services",null,"Gwasanaethau mynwentydd, amlosgfeydd a chorffdai ",{"$f":"IF(ISERROR(VLOOKUP(B899,Translate!$G$3:$H$168,2,FALSE)),\"\",VLOOKUP(B899,Translate!$G$3:$H$168,2,FALSE))","v":""},{"$nulls":19},0,0,0,0,0,0]
["National parks services",null,"Gwasanaethau parciau cenedlaethol",{"$f":"IF(ISERROR(VLOOKUP(B900,Translate!$G$3:$H$168,2,FALSE)),\"\",VLOOKUP(B900,Translate!$G$3:$H$168,2,FALSE))","v":""},{"$nulls":19},0,0,0,0,0,0]
["Regulatory services (Environmental health)",null,"Gwasanaethau rheoleiddio (Iechyd yr amgylchedd)",{"$f":"IF(ISERROR(VLOOKUP(B901,Translate!$G$3:$H$168,2,FALSE)),\"\",VLOOKUP(B901,Translate!$G$3:$H$168,2,FALSE))","v":""},{"$nulls":19},0,0,0,0,0,0]
["Regulatory services (Trading Standards)",null,"Gwasanaethau rheoleiddio (Safonau Masnach)",{"$f":"IF(ISERROR(VLOOKUP(B902,Translate!$G$3:$H$168,2,FALSE)),\"\",VLOOKUP(B902,Translate!$G$3:$H$168,2,FALSE))","v":""},{"$nulls":19},0,0,0,0,0,0]
["Fire services",null,"Gwasanaethau tân",{"$f":"IF(ISERROR(VLOOKUP(B903,Translate!$G$3:$H$168,2,FALSE)),\"\",VLOOKUP(B903,Translate!$G$3:$H$168,2,FALSE))","v":""},{"$nulls":19},0,0,0,0,0,0]
["Fire-fighting and rescue operations",null,"Gwasanaethau ymladd tân a gweithrediadau achub",{"$f":"IF(ISERROR(VLOOKUP(B904,Translate!$G$3:$H$168,2,FALSE)),\"\",VLOOKUP(B904,Translate!$G$3:$H$168,2,FALSE))","v":""},{"$nulls":19},0,0,0,0,0,0]
["Fire central services:",null,"Gwasanaethau tân canolog:",{"$f":"IF(ISERROR(VLOOKUP(B905,Translate!$G$3:$H$168,2,FALSE)),\"\",VLOOKUP(B905,Translate!$G$3:$H$168,2,FALSE))","v":""},{"$nulls":19},0,0,0,0,0,0]
["Targeted services for young people",null,"Gwasanaethau wedi'u targedu ar gyfer pobl ifanc",{"$f":"IF(ISERROR(VLOOKUP(B906,Translate!$G$3:$H$168,2,FALSE)),\"\",VLOOKUP(B906,Translate!$G$3:$H$168,2,FALSE))","v":""},{"$nulls":19},0,0,0,0,0,0]
["Safeguarding children and young people's services ",null,"Gwasanaethu amddiffyn plant a pobl ifanc",{"$f":"IF(ISERROR(VLOOKUP(B907,Translate!$G$3:$H$168,2,FALSE)),\"\",VLOOKUP(B907,Translate!$G$3:$H$168,2,FALSE))","v":""},{"$nulls":19},0,0,0,0,0,0]
["Waste",null,"Gwastraff",{"$f":"IF(ISERROR(VLOOKUP(B908,Translate!$G$3:$H$168,2,FALSE)),\"\",VLOOKUP(B908,Translate!$G$3:$H$168,2,FALSE))","v":""},{"$nulls":19},0,0,0,0,0,0]
["Trade waste",null,"Gwastraff masnach",{"$f":"IF(ISERROR(VLOOKUP(B909,Translate!$G$3:$H$168,2,FALSE)),\"\",VLOOKUP(B909,Translate!$G$3:$H$168,2,FALSE))","v":""},{"$nulls":19},0,0,0,0,0,0]
["Surpluses/deficits on internal trading accounts",null,"Gwargedau/diffygion ar gyfrifon masnachu mewnol",{"$f":"IF(ISERROR(VLOOKUP(B910,Translate!$G$3:$H$168,2,FALSE)),\"\",VLOOKUP(B910,Translate!$G$3:$H$168,2,FALSE))","v":""},{"$nulls":19},0,0,0,0,0,0]
["Central administration:",null,"Gweinyddiaeth ganolog:",{"$f":"IF(ISERROR(VLOOKUP(B911,Translate!$G$3:$H$168,2,FALSE)),\"\",VLOOKUP(B911,Translate!$G$3:$H$168,2,FALSE))","v":""},{"$nulls":19},0,0,0,0,0,0]
["Housing benefit administration",null,"Gweinyddu budd-dâl tai",{"$f":"IF(ISERROR(VLOOKUP(B912,Translate!$G$3:$H$168,2,FALSE)),\"\",VLOOKUP(B912,Translate!$G$3:$H$168,2,FALSE))","v":""},{"$nulls":19},0,0,0,0,0,0]
["Central administration and other revenue",null,"Gweinyddu canolog a refeniw arall",{"$f":"IF(ISERROR(VLOOKUP(B913,Translate!$G$3:$H$168,2,FALSE)),\"\",VLOOKUP(B913,Translate!$G$3:$H$168,2,FALSE))","v":""},{"$nulls":19},0,0,0,0,0,0]
["General administration",null,"Gweinyddu cyffredinol",{"$f":"IF(ISERROR(VLOOKUP(B914,Translate!$G$3:$H$168,2,FALSE)),\"\",VLOOKUP(B914,Translate!$G$3:$H$168,2,FALSE))","v":""},{"$nulls":19},0,0,0,0,0,0]
["Art activities and facilities",null,"Gweithgareddau a chyfleusterau celfyddydau",{"$f":"IF(ISERROR(VLOOKUP(B915,Translate!$G$3:$H$168,2,FALSE)),\"\",VLOOKUP(B915,Translate!$G$3:$H$168,2,FALSE))","v":""},{"$nulls":19},0,0,0,0,0,0]
["Specialist operations",null,"Gweithrediadau arbenigol",{"$f":"IF(ISERROR(VLOOKUP(B916,Translate!$G$3:$H$168,2,FALSE)),\"\",VLOOKUP(B916,Translate!$G$3:$H$168,2,FALSE))","v":""},{"$nulls":19},0,0,0,0,0,0]
["Internal drainage board",null,"Bwrdd Draeniad Mewnol ",{"$f":"IF(ISERROR(VLOOKUP(B917,Translate!$G$3:$H$168,2,FALSE)),\"\",VLOOKUP(B917,Translate!$G$3:$H$168,2,FALSE))","v":""},{"$nulls":19},0,0,0,0,0,0]
["School improvement",null,"Gwella ysgolion",{"$f":"IF(ISERROR(VLOOKUP(B918,Translate!$G$3:$H$168,2,FALSE)),\"\",VLOOKUP(B918,Translate!$G$3:$H$168,2,FALSE))","v":""},{"$nulls":19},0,0,0,0,0,0]
["School improvement - special",null,"Gwella ysgolion - Ysgolion arbennig",{"$f":"IF(ISERROR(VLOOKUP(B919,Translate!$G$3:$H$168,2,FALSE)),\"\",VLOOKUP(B919,Translate!$G$3:$H$168,2,FALSE))","v":""},{"$nulls":19},0,0,0,0,0,0]
["School improvement - middle",null,"Gwella ysgolion - Ysgolion canol",{"$f":"IF(ISERROR(VLOOKUP(B920,Translate!$G$3:$H$168,2,FALSE)),\"\",VLOOKUP(B920,Translate!$G$3:$H$168,2,FALSE))","v":""},{"$nulls":19},0,0,0,0,0,0]
["School improvement - primary",null,"Gwella ysgolion - Ysgolion cynradd",{"$f":"IF(ISERROR(VLOOKUP(B921,Translate!$G$3:$H$168,2,FALSE)),\"\",VLOOKUP(B921,Translate!$G$3:$H$168,2,FALSE))","v":""},{"$nulls":19},0,0,0,0,0,{"$f":"IF(LEFT(AB921,1)=\" \",1,0)","v":0}]
["School improvement - nursery",null,"Gwella ysgolion - Ysgolion meithrin",{"$f":"IF(ISERROR(VLOOKUP(B922,Translate!$G$3:$H$168,2,FALSE)),\"\",VLOOKUP(B922,Translate!$G$3:$H$168,2,FALSE))","v":""},{"$nulls":19},0,0,0,0,0,0]
["School improvement - secondary",null,"Gwella ysgolion - Ysgolion uwchradd",{"$f":"IF(ISERROR(VLOOKUP(B923,Translate!$G$3:$H$168,2,FALSE)),\"\",VLOOKUP(B923,Translate!$G$3:$H$168,2,FALSE))","v":""},{"$nulls":19},0,0,0,0,0,0]
["Validation checks",null,"Gwiriadau dilysu",{"$f":"IF(ISERROR(VLOOKUP(B924,Translate!$G$3:$H$168,2,FALSE)),\"\",VLOOKUP(B924,Translate!$G$3:$H$168,2,FALSE))","v":""},{"$nulls":19},{"$f":"IF(LEFT(W924,1)=\" \",RIGHT(W924,LEN(W924)-1),W924)","v":0},0,0,0,0,0]
["account",null,"cyfrif",{"$f":"IF(ISERROR(VLOOKUP(B925,Translate!$G$3:$H$168,2,FALSE)),\"\",VLOOKUP(B925,Translate!$G$3:$H$168,2,FALSE))","v":""},{"$nulls":19},0,0,0,0,0,0]
["Police",null,"Yr heddlu",{"$f":"IF(ISERROR(VLOOKUP(B926,Translate!$G$3:$H$168,2,FALSE)),\"\",VLOOKUP(B926,Translate!$G$3:$H$168,2,FALSE))","v":""},{"$nulls":19},0,0,0,0,0,0]
["All education",null,"Popeth - Addysg ",{"$f":"IF(ISERROR(VLOOKUP(B927,Translate!$G$3:$H$168,2,FALSE)),\"\",VLOOKUP(B927,Translate!$G$3:$H$168,2,FALSE))","v":""},{"$nulls":19},0,0,0,0,0,0]
["All special education ",null,"Popeth - Addysg arbennig ",{"$f":"IF(ISERROR(VLOOKUP(B928,Translate!$G$3:$H$168,2,FALSE)),\"\",VLOOKUP(B928,Translate!$G$3:$H$168,2,FALSE))","v":""},{"$nulls":19},0,0,0,0,0,0]
["All continuing education",null,"Popeth - Addysg barhaus",{"$f":"IF(ISERROR(VLOOKUP(B929,Translate!$G$3:$H$168,2,FALSE)),\"\",VLOOKUP(B929,Translate!$G$3:$H$168,2,FALSE))","v":""},{"$nulls":19},0,0,0,0,0,0]
["All agriculture and fisheries",null,"Popeth - Amaethyddiaeth a physgodfeydd",{"$f":"IF(ISERROR(VLOOKUP(B930,Translate!$G$3:$H$168,2,FALSE)),\"\",VLOOKUP(B930,Translate!$G$3:$H$168,2,FALSE))","v":""},{"$nulls":19},0,0,0,0,0,0]
["All elderly people",null,"Popeth - Pobl oedrannus",{"$f":"IF(ISERROR(VLOOKUP(B931,Translate!$G$3:$H$168,2,FALSE)),\"\",VLOOKUP(B931,Translate!$G$3:$H$168,2,FALSE))","v":""},{"$nulls":19},0,0,0,0,0,0]
["All council tax benefit, administration and local tax collection",null,"Popeth - Budd-dâl y dreth gyngor, gweinyddu a chasglu'r dreth leol",{"$f":"IF(ISERROR(VLOOKUP(B932,Translate!$G$3:$H$168,2,FALSE)),\"\",VLOOKUP(B932,Translate!$G$3:$H$168,2,FALSE))","v":""},{"$nulls":19},0,0,0,0,0,0]
["All sports and recreation",null,"Popeth - Chwaraeon a hamdden ",{"$f":"IF(ISERROR(VLOOKUP(B933,Translate!$G$3:$H$168,2,FALSE)),\"\",VLOOKUP(B933,Translate!$G$3:$H$168,2,FALSE))","v":""},{"$nulls":19},0,0,0,0,0,0]
["Total structural maintenance",null,"Popeth - Cynnal a chadw adeileddol",{"$f":"IF(ISERROR(VLOOKUP(B934,Translate!$G$3:$H$168,2,FALSE)),\"\",VLOOKUP(B934,Translate!$G$3:$H$168,2,FALSE))","v":""},{"$nulls":19},0,0,0,0,0,0]
["All planning and economic development",null,"Popeth - Cynllunio a datblygu economaidd",{"$f":"IF(ISERROR(VLOOKUP(B935,Translate!$G$3:$H$168,2,FALSE)),\"\",VLOOKUP(B935,Translate!$G$3:$H$168,2,FALSE))","v":""},{"$nulls":19},0,0,0,0,0,0]
["All non-current expenditure",null,"Popeth - Gwariant anghyfredol",{"$f":"IF(ISERROR(VLOOKUP(B936,Translate!$G$3:$H$168,2,FALSE)),\"\",VLOOKUP(B936,Translate!$G$3:$H$168,2,FALSE))","v":""},{"$nulls":19},0,0,0,0,0,0]
["All operational expenditure",null,"Popeth - Gwariant gweithredol ",{"$f":"IF(ISERROR(VLOOKUP(B937,Translate!$G$3:$H$168,2,FALSE)),\"\",VLOOKUP(B937,Translate!$G$3:$H$168,2,FALSE))","v":""},{"$nulls":19},0,0,0,0,0,0]
["All fire operational expenditure",null,"Popeth - Gwariant gweithredol tân",{"$f":"IF(ISERROR(VLOOKUP(B938,Translate!$G$3:$H$168,2,FALSE)),\"\",VLOOKUP(B938,Translate!$G$3:$H$168,2,FALSE))","v":""},{"$nulls":19},0,0,0,0,0,0]
["All police expenditure",null,"Popeth - Gwariant yr heddlu",{"$f":"IF(ISERROR(VLOOKUP(B939,Translate!$G$3:$H$168,2,FALSE)),\"\",VLOOKUP(B939,Translate!$G$3:$H$168,2,FALSE))","v":""},{"$nulls":19},0,0,0,0,0,0]
["All other revenue expenditure",null,"Popeth - Gwariant refeniw arall",{"$f":"IF(ISERROR(VLOOKUP(B940,Translate!$G$3:$H$168,2,FALSE)),\"\",VLOOKUP(B940,Translate!$G$3:$H$168,2,FALSE))","v":""},{"$nulls":19},0,0,0,0,0,0]
["All fire expenditure",null,"Popeth - Gwariant tân ",{"$f":"IF(ISERROR(VLOOKUP(B941,Translate!$G$3:$H$168,2,FALSE)),\"\",VLOOKUP(B941,Translate!$G$3:$H$168,2,FALSE))","v":""},{"$nulls":19},0,0,0,0,0,0]
["All other environmental services",null,"Popeth - Gwasanaethau amgylcheddol eraill",{"$f":"IF(ISERROR(VLOOKUP(B942,Translate!$G$3:$H$168,2,FALSE)),\"\",VLOOKUP(B942,Translate!$G$3:$H$168,2,FALSE))","v":""},{"$nulls":19},0,0,0,0,0,0]
["All local environmental services",null,"Popeth - Gwasanaethau amgylcheddol lleol",{"$f":"IF(ISERROR(VLOOKUP(B943,Translate!$G$3:$H$168,2,FALSE)),\"\",VLOOKUP(B943,Translate!$G$3:$H$168,2,FALSE))","v":""},{"$nulls":19},0,0,0,0,0,0]
["All central administration",null,"Popeth - Gweinyddiaeth ganolog",{"$f":"IF(ISERROR(VLOOKUP(B944,Translate!$G$3:$H$168,2,FALSE)),\"\",VLOOKUP(B944,Translate!$G$3:$H$168,2,FALSE))","v":""},{"$nulls":19},0,0,0,0,0,0]
["All libraries, culture and heritage",null,"Popeth - Llyfrgelloedd, diwylliant a threftadaeth",{"$f":"IF(ISERROR(VLOOKUP(B945,Translate!$G$3:$H$168,2,FALSE)),\"\",VLOOKUP(B945,Translate!$G$3:$H$168,2,FALSE))","v":""},{"$nulls":19},0,0,0,0,0,0]
["All libraries, culture and heritage, sport and recreation",null,"Popeth - Llyfrgelloedd, diwylliant a threftadaeth, chwaraeon a hamdden",{"$f":"IF(ISERROR(VLOOKUP(B946,Translate!$G$3:$H$168,2,FALSE)),\"\",VLOOKUP(B946,Translate!$G$3:$H$168,2,FALSE))","v":""},{"$nulls":19},0,0,0,0,0,0]
["All children and families",null,"Popeth - Plant a theuluoedd",{"$f":"IF(ISERROR(VLOOKUP(B947,Translate!$G$3:$H$168,2,FALSE)),\"\",VLOOKUP(B947,Translate!$G$3:$H$168,2,FALSE))","v":""},{"$nulls":19},0,0,0,0,0,0]
["All highways and roads",null,"Popeth - Prffyrdd a ffyrdd",{"$f":"IF(ISERROR(VLOOKUP(B948,Translate!$G$3:$H$168,2,FALSE)),\"\",VLOOKUP(B948,Translate!$G$3:$H$168,2,FALSE))","v":""},{"$nulls":19},0,0,0,0,0,0]
["All roads and transport",null,"Popeth - Ffyrdd a thrafnidiaeth ",{"$f":"IF(ISERROR(VLOOKUP(B949,Translate!$G$3:$H$168,2,FALSE)),\"\",VLOOKUP(B949,Translate!$G$3:$H$168,2,FALSE))","v":""},{"$nulls":19},0,0,0,0,0,0]
["All housing",null,"Popeth - Tai",{"$f":"IF(ISERROR(VLOOKUP(B950,Translate!$G$3:$H$168,2,FALSE)),\"\",VLOOKUP(B950,Translate!$G$3:$H$168,2,FALSE))","v":""},{"$nulls":19},0,0,0,0,0,0]
["All council fund housing and housing benefit",null,"Popeth - Tai cronfa'r cynghorau a budd-dal tai",{"$f":"IF(ISERROR(VLOOKUP(B951,Translate!$G$3:$H$168,2,FALSE)),\"\",VLOOKUP(B951,Translate!$G$3:$H$168,2,FALSE))","v":""},{"$nulls":19},0,0,0,0,0,0]
["Total capital charges relating to construction projects",null,"Popeth - Taliadau cyfalaf sy'n ymwneud â phrosiectau adeiladu",{"$f":"IF(ISERROR(VLOOKUP(B952,Translate!$G$3:$H$168,2,FALSE)),\"\",VLOOKUP(B952,Translate!$G$3:$H$168,2,FALSE))","v":""},{"$nulls":19},0,0,0,0,0,0]
["All transport",null,"Popeth - Trafnidiaeth",{"$f":"IF(ISERROR(VLOOKUP(B953,Translate!$G$3:$H$168,2,FALSE)),\"\",VLOOKUP(B953,Translate!$G$3:$H$168,2,FALSE))","v":""},{"$nulls":19},0,0,0,0,0,0]
["Total transport ",null,"Cyfanswm trafnidiaeth",{"$f":"IF(ISERROR(VLOOKUP(B954,Translate!$G$3:$H$168,2,FALSE)),\"\",VLOOKUP(B954,Translate!$G$3:$H$168,2,FALSE))","v":""},{"$nulls":19},0,0,0,0,0,0]
["All police central services",null,"Popeth - Gwasanaethau canolog yr heddlu",{"$f":"IF(ISERROR(VLOOKUP(B955,Translate!$G$3:$H$168,2,FALSE)),\"\",VLOOKUP(B955,Translate!$G$3:$H$168,2,FALSE))","v":""},{"$nulls":19},0,0,0,0,0,0]
["All law, order and protective services",null,"Popeth - Cyfraith, trefn a gwasanaethau diogelu",{"$f":"IF(ISERROR(VLOOKUP(B956,Translate!$G$3:$H$168,2,FALSE)),\"\",VLOOKUP(B956,Translate!$G$3:$H$168,2,FALSE))","v":""},{"$nulls":19},0,0,0,0,0,0]
["Promoting understanding",null,"Hyrwyddo dealltwriaeth",{"$f":"IF(ISERROR(VLOOKUP(B957,Translate!$G$3:$H$168,2,FALSE)),\"\",VLOOKUP(B957,Translate!$G$3:$H$168,2,FALSE))","v":""},{"$nulls":19},0,0,0,0,0,0]
["to",null,"i",{"$f":"IF(ISERROR(VLOOKUP(B958,Translate!$G$3:$H$168,2,FALSE)),\"\",VLOOKUP(B958,Translate!$G$3:$H$168,2,FALSE))","v":""},{"$nulls":19},0,0,0,0,0,0]
["Environmental health",null,"Iechyd amgylcheddol",{"$f":"IF(ISERROR(VLOOKUP(B959,Translate!$G$3:$H$168,2,FALSE)),\"\",VLOOKUP(B959,Translate!$G$3:$H$168,2,FALSE))","v":""},{"$nulls":19},0,0,0,0,0,0]
["Other services to adults aged under 65 with mental health needs",null,"Gwasanaethau eraill i oedolion o dan 65 oed ag anghenion iechyd meddwl",{"$f":"IF(ISERROR(VLOOKUP(B960,Translate!$G$3:$H$168,2,FALSE)),\"\",VLOOKUP(B960,Translate!$G$3:$H$168,2,FALSE))","v":""},{"$nulls":19},0,0,0,0,0,0]
["Other income (excluding joint arrangements)",null,"Incwm arall (ac eithrio trefniadau ar y cyd)",{"$f":"IF(ISERROR(VLOOKUP(B961,Translate!$G$3:$H$168,2,FALSE)),\"\",VLOOKUP(B961,Translate!$G$3:$H$168,2,FALSE))","v":""},{"$nulls":19},0,0,0,0,0,0]
["Levies income from county and county borough councils (b)",null,"Incwm ardollau o gynghorau sir a chynghorau bwrdeistref sirol (b)",{"$f":"IF(ISERROR(VLOOKUP(B962,Translate!$G$3:$H$168,2,FALSE)),\"\",VLOOKUP(B962,Translate!$G$3:$H$168,2,FALSE))","v":""},{"$nulls":19},0,0,0,0,0,0]
["Income from joint arrangements with non-local authority bodies",null,"Incwm o drefniadau ar y cyd â chyrff heblaw awdurdodau lleol",{"$f":"IF(ISERROR(VLOOKUP(B963,Translate!$G$3:$H$168,2,FALSE)),\"\",VLOOKUP(B963,Translate!$G$3:$H$168,2,FALSE))","v":""},{"$nulls":19},0,0,0,0,0,0]
["Income from joint arrangements with other local authorities",null,"Incwm o drefniadau ar y cyd ag awdurdodau lleol eraill",{"$f":"IF(ISERROR(VLOOKUP(B964,Translate!$G$3:$H$168,2,FALSE)),\"\",VLOOKUP(B964,Translate!$G$3:$H$168,2,FALSE))","v":""},{"$nulls":19},0,0,0,0,0,0]
["Income from sales, fees and charges",null,"Incwm o werthiannau, ffioedd a thaliadau",{"$f":"IF(ISERROR(VLOOKUP(B965,Translate!$G$3:$H$168,2,FALSE)),\"\",VLOOKUP(B965,Translate!$G$3:$H$168,2,FALSE))","v":""},{"$nulls":19},0,0,0,0,0,0]
["School income within LA accounts (excluding school catering income and insurance payouts)",null,"Incwm ysgolion mewn cyfrifon ALl (ac eithrio incwm arlwyo ysgolion a thaliadau yswiriant)",{"$f":"IF(ISERROR(VLOOKUP(B966,Translate!$G$3:$H$168,2,FALSE)),\"\",VLOOKUP(B966,Translate!$G$3:$H$168,2,FALSE))","v":""},{"$nulls":19},0,0,0,0,0,0]
["Other environmental health",null,"Iechyd amgylcheddol arall",{"$f":"IF(ISERROR(VLOOKUP(B967,Translate!$G$3:$H$168,2,FALSE)),\"\",VLOOKUP(B967,Translate!$G$3:$H$168,2,FALSE))","v":""},{"$nulls":19},0,0,0,0,0,0]
["less police grant allocation under principal formula",null,"wedi tynnu dyraniad grant yr heddlu o dan fformiwla prifswm ",{"$f":"IF(ISERROR(VLOOKUP(B968,Translate!$G$3:$H$168,2,FALSE)),\"\",VLOOKUP(B968,Translate!$G$3:$H$168,2,FALSE))","v":""},{"$nulls":19},0,0,0,0,0,0]
["less council tax benefit grant",null,"wedi tynnu grant budd-dâl y dreth gyngor",{"$f":"IF(ISERROR(VLOOKUP(B969,Translate!$G$3:$H$168,2,FALSE)),\"\",VLOOKUP(B969,Translate!$G$3:$H$168,2,FALSE))","v":""},{"$nulls":19},0,0,0,0,0,0]
["less revenue support grant",null,"wedi tynnu grant cynnal refeniw",{"$f":"IF(ISERROR(VLOOKUP(B970,Translate!$G$3:$H$168,2,FALSE)),\"\",VLOOKUP(B970,Translate!$G$3:$H$168,2,FALSE))","v":""},{"$nulls":19},0,0,0,0,0,0]
["less specific and special grants",null,"wedi tynnu grantiau penodol ac arbennig",{"$f":"IF(ISERROR(VLOOKUP(B971,Translate!$G$3:$H$168,2,FALSE)),\"\",VLOOKUP(B971,Translate!$G$3:$H$168,2,FALSE))","v":""},{"$nulls":19},0,0,0,0,0,0]
["less redistributed non-domestic rates income",null,"wedi tynnu incwm ardrethi annomestig wedi'i ailddosbarthu",{"$f":"IF(ISERROR(VLOOKUP(B972,Translate!$G$3:$H$168,2,FALSE)),\"\",VLOOKUP(B972,Translate!$G$3:$H$168,2,FALSE))","v":""},{"$nulls":19},0,0,0,0,0,0]
["Open spaces",null,"Mannau agored",{"$f":"IF(ISERROR(VLOOKUP(B973,Translate!$G$3:$H$168,2,FALSE)),\"\",VLOOKUP(B973,Translate!$G$3:$H$168,2,FALSE))","v":""},{"$nulls":19},0,0,0,0,0,0]
["Nursing care placements",null,"Lleoliadau gofal nyrsio",{"$f":"IF(ISERROR(VLOOKUP(B974,Translate!$G$3:$H$168,2,FALSE)),\"\",VLOOKUP(B974,Translate!$G$3:$H$168,2,FALSE))","v":""},{"$nulls":19},0,0,0,0,0,0]
["Residential care placements",null,"Lleoliadau gofal preswyl",{"$f":"IF(ISERROR(VLOOKUP(B975,Translate!$G$3:$H$168,2,FALSE)),\"\",VLOOKUP(B975,Translate!$G$3:$H$168,2,FALSE))","v":""},{"$nulls":19},{"$f":"IF(LEFT(W975,1)=\" \",RIGHT(W975,LEN(W975)-1),W975)","v":0},0,0,0,0,0]
["Supported and other accommodation",null,"Llety â chymorth a llety arall",{"$f":"IF(ISERROR(VLOOKUP(B976,Translate!$G$3:$H$168,2,FALSE)),\"\",VLOOKUP(B976,Translate!$G$3:$H$168,2,FALSE))","v":""},{"$nulls":19},0,0,0,0,0,0]
["Secure accommodation (justice)",null,"Llety diogel (cyfiawnder)",{"$f":"IF(ISERROR(VLOOKUP(B977,Translate!$G$3:$H$168,2,FALSE)),\"\",VLOOKUP(B977,Translate!$G$3:$H$168,2,FALSE))","v":""},{"$nulls":19},0,0,0,0,0,0]
["Line 4 as a % of budgeted amount: (line 4 / line 7 x 100)",null,"Llinell 4 fel % o'r swm yn y gyllideb: (llinell 4 / llinell 7 x 100)",{"$f":"IF(ISERROR(VLOOKUP(B978,Translate!$G$3:$H$168,2,FALSE)),\"\",VLOOKUP(B978,Translate!$G$3:$H$168,2,FALSE))","v":""},{"$nulls":19},0,0,0,0,0,0]
["External interest",null,"Llog allanol",{"$f":"IF(ISERROR(VLOOKUP(B979,Translate!$G$3:$H$168,2,FALSE)),\"\",VLOOKUP(B979,Translate!$G$3:$H$168,2,FALSE))","v":""},{"$nulls":19},0,0,0,0,0,0]
["External interest on provision for credit liabilities",null,"Llog allanol ar ddarpariath ar gyfer atebolrwydd credyd  ",{"$f":"IF(ISERROR(VLOOKUP(B980,Translate!$G$3:$H$168,2,FALSE)),\"\",VLOOKUP(B980,Translate!$G$3:$H$168,2,FALSE))","v":""},{"$nulls":19},0,0,0,0,0,0]
["Libraries, culture and heritage:",null,"Llyfrgelloedd, diwylliant a threftadaeth:",{"$f":"IF(ISERROR(VLOOKUP(B981,Translate!$G$3:$H$168,2,FALSE)),\"\",VLOOKUP(B981,Translate!$G$3:$H$168,2,FALSE))","v":""},{"$nulls":19},0,0,0,0,0,0]
["Libraries, culture and heritage, sport and recreation: ",null,"Llyfrgelloedd, diwylliant, threftadaeth, chwaraeon a hamdden:",{"$f":"IF(ISERROR(VLOOKUP(B982,Translate!$G$3:$H$168,2,FALSE)),\"\",VLOOKUP(B982,Translate!$G$3:$H$168,2,FALSE))","v":""},{"$nulls":19},0,0,0,0,0,0]
["Coroners' courts",null,"Llysoedd y crwneriaid",{"$f":"IF(ISERROR(VLOOKUP(B983,Translate!$G$3:$H$168,2,FALSE)),\"\",VLOOKUP(B983,Translate!$G$3:$H$168,2,FALSE))","v":""},{"$nulls":19},0,0,0,0,0,0]
["Please feel free to add any comments",null,"Mae croeso i chi ychwanegu unrhyw sylwadau",{"$f":"IF(ISERROR(VLOOKUP(B984,Translate!$G$3:$H$168,2,FALSE)),\"\",VLOOKUP(B984,Translate!$G$3:$H$168,2,FALSE))","v":""},{"$nulls":19},0,0,0,0,0,0]
["The Welsh Government are monitoring the burden of completing this data collection form. ",null,"Mae Llywodraeth Cymru yn monitro'r baich o lenwi'r ffurflen casglu data hon. ",{"$f":"IF(ISERROR(VLOOKUP(B985,Translate!$G$3:$H$168,2,FALSE)),\"\",VLOOKUP(B985,Translate!$G$3:$H$168,2,FALSE))","v":""},{"$nulls":19},0,0,0,0,0,{"$f":"IF(LEFT(AB985,1)=\" \",1,0)","v":0}]
["Editable area",null,"Maes y gellir ei olygu",{"$f":"IF(ISERROR(VLOOKUP(B986,Translate!$G$3:$H$168,2,FALSE)),\"\",VLOOKUP(B986,Translate!$G$3:$H$168,2,FALSE))","v":""},{"$nulls":19},0,0,0,0,0,0]
["Nursery (d)",null,"Meithrinfa (d)",{"$f":"IF(ISERROR(VLOOKUP(B987,Translate!$G$3:$H$168,2,FALSE)),\"\",VLOOKUP(B987,Translate!$G$3:$H$168,2,FALSE))","v":""},{"$nulls":19},0,0,0,0,0,0]
["Environmental initiatives",null,"Mentrau amgylcheddol",{"$f":"IF(ISERROR(VLOOKUP(B988,Translate!$G$3:$H$168,2,FALSE)),\"\",VLOOKUP(B988,Translate!$G$3:$H$168,2,FALSE))","v":""},{"$nulls":19},0,0,0,0,0,0]
["Airports",null,"Meysydd awyr",{"$f":"IF(ISERROR(VLOOKUP(B989,Translate!$G$3:$H$168,2,FALSE)),\"\",VLOOKUP(B989,Translate!$G$3:$H$168,2,FALSE))","v":""},{"$nulls":19},0,0,0,0,0,0]
["Airports, harbours and toll facilities",null,"Meysydd awyr, harbwrs a chyfleusterau toll",{"$f":"IF(ISERROR(VLOOKUP(B990,Translate!$G$3:$H$168,2,FALSE)),\"\",VLOOKUP(B990,Translate!$G$3:$H$168,2,FALSE))","v":""},{"$nulls":19},0,0,0,0,0,0]
["Airports, harbours and tolled facilities",null,"Meysydd awyr, harbwrs a chyfleusterau toll",{"$f":"IF(ISERROR(VLOOKUP(B991,Translate!$G$3:$H$168,2,FALSE)),\"\",VLOOKUP(B991,Translate!$G$3:$H$168,2,FALSE))","v":""},{"$nulls":19},0,0,0,0,0,0]
["Access to education",null,"Mynediad at addysg",{"$f":"IF(ISERROR(VLOOKUP(B992,Translate!$G$3:$H$168,2,FALSE)),\"\",VLOOKUP(B992,Translate!$G$3:$H$168,2,FALSE))","v":""},{"$nulls":19},0,0,0,0,0,0]
["Access to education (excluding transport) - special",null,"Mynediad at addysg (heb gynnwys trafnidiaeth) - Ysgolion arbennig",{"$f":"IF(ISERROR(VLOOKUP(B993,Translate!$G$3:$H$168,2,FALSE)),\"\",VLOOKUP(B993,Translate!$G$3:$H$168,2,FALSE))","v":""},{"$nulls":19},0,0,0,0,0,0]
["Access to education (excluding transport) - middle",null,"Mynediad at addysg (heb gynnwys trafnidiaeth) - Ysgolion canol",{"$f":"IF(ISERROR(VLOOKUP(B994,Translate!$G$3:$H$168,2,FALSE)),\"\",VLOOKUP(B994,Translate!$G$3:$H$168,2,FALSE))","v":""},{"$nulls":19},0,0,0,0,0,0]
["Access to education (excluding transport) - primary",null,"Mynediad at addysg (heb gynnwys trafnidiaeth) - Ysgolion cynradd",{"$f":"IF(ISERROR(VLOOKUP(B995,Translate!$G$3:$H$168,2,FALSE)),\"\",VLOOKUP(B995,Translate!$G$3:$H$168,2,FALSE))","v":""},{"$nulls":19},0,0,0,0,0,0]
["Access to education (excluding transport) - nursery",null,"Mynediad at addysg (heb gynnwys trafnidiaeth) - ysgolion meithrin",{"$f":"IF(ISERROR(VLOOKUP(B996,Translate!$G$3:$H$168,2,FALSE)),\"\",VLOOKUP(B996,Translate!$G$3:$H$168,2,FALSE))","v":""},{"$nulls":19},0,0,0,0,0,0]
["Access to education (excluding transport) - secondary",null,"Mynediad at addysg (heb gynnwystrafnidiaeth) - Ysgolion uwchradd",{"$f":"IF(ISERROR(VLOOKUP(B997,Translate!$G$3:$H$168,2,FALSE)),\"\",VLOOKUP(B997,Translate!$G$3:$H$168,2,FALSE))","v":""},{"$nulls":19},0,0,0,0,0,0]
["Access to Education (excluding transport) - non-school",null,"Mynediad at addysg (heb gynnwys trafnidiaeth - heblaw ysgol",{"$f":"IF(ISERROR(VLOOKUP(B998,Translate!$G$3:$H$168,2,FALSE)),\"\",VLOOKUP(B998,Translate!$G$3:$H$168,2,FALSE))","v":""},{"$nulls":19},0,0,0,0,0,0]
["Cemeteries and crematoria",null,"Mynwentydd ac amlosgfeydd",{"$f":"IF(ISERROR(VLOOKUP(B999,Translate!$G$3:$H$168,2,FALSE)),\"\",VLOOKUP(B999,Translate!$G$3:$H$168,2,FALSE))","v":""},{"$nulls":19},0,0,0,0,0,0]
["Appropriations to (+) / from (-) financial reserves",null,"Dyraniadau i (+)/ o (-) gronfeydd wrth gefn",{"$f":"IF(ISERROR(VLOOKUP(B1000,Translate!$G$3:$H$168,2,FALSE)),\"\",VLOOKUP(B1000,Translate!$G$3:$H$168,2,FALSE))","v":""},{"$nulls":19},0,0,0,0,0,0]
["Appropriations to (+) / from (-) financial reserves (d)",null,"Dyraniadau i (+)/ o (-) gronfeydd wrth gefn (d)",{"$f":"IF(ISERROR(VLOOKUP(B1001,Translate!$G$3:$H$168,2,FALSE)),\"\",VLOOKUP(B1001,Translate!$G$3:$H$168,2,FALSE))","v":""},{"$nulls":19},0,0,0,0,0,0]
["All amounts are to be net of council tax benefits (see notes)",null,"Dylai'r holl symiau fod yn rhai nad ydynt yn cynnwys budd-daliadau'r dreth gyngor (gweler y nodiadau)",{"$f":"IF(ISERROR(VLOOKUP(B1002,Translate!$G$3:$H$168,2,FALSE)),\"\",VLOOKUP(B1002,Translate!$G$3:$H$168,2,FALSE))","v":""},{"$nulls":19},0,0,0,0,0,0]
["Hours taken",null,"Nifer yr oriau",{"$f":"IF(ISERROR(VLOOKUP(B1003,Translate!$G$3:$H$168,2,FALSE)),\"\",VLOOKUP(B1003,Translate!$G$3:$H$168,2,FALSE))","v":""},{"$nulls":19},0,0,0,0,0,0]
["Please enter the time it has taken you (and any colleagues) to prepare and send the return.",null,"Nodwch yr amser a gymerwyd gennych chi (ac unrhyw gydweithwyr) i baratoi ac anfon y ffurflen. ",{"$f":"IF(ISERROR(VLOOKUP(B1004,Translate!$G$3:$H$168,2,FALSE)),\"\",VLOOKUP(B1004,Translate!$G$3:$H$168,2,FALSE))","v":""},{"$nulls":19},0,0,0,0,0,0]
["Arrears brought forward",null,"Ôl-ddyledion a gafodd eu dwyn ymlaen",{"$f":"IF(ISERROR(VLOOKUP(B1005,Translate!$G$3:$H$168,2,FALSE)),\"\",VLOOKUP(B1005,Translate!$G$3:$H$168,2,FALSE))","v":""},{"$nulls":19},0,0,0,0,0,0]
["Council tax arrears",null,"Ôl-ddyledion y dreth gyngor",{"$f":"IF(ISERROR(VLOOKUP(B1006,Translate!$G$3:$H$168,2,FALSE)),\"\",VLOOKUP(B1006,Translate!$G$3:$H$168,2,FALSE))","v":""},{"$nulls":19},0,0,0,0,0,0]
["ARREARS OF COUNCIL TAX",null,"ÔL-DDYLEDION Y DRETH GYNGOR",{"$f":"IF(ISERROR(VLOOKUP(B1007,Translate!$G$3:$H$168,2,FALSE)),\"\",VLOOKUP(B1007,Translate!$G$3:$H$168,2,FALSE))","v":""},{"$nulls":19},0,0,0,0,0,0]
["Parks and open spaces",null,"Parciau a mannau agored",{"$f":"IF(ISERROR(VLOOKUP(B1008,Translate!$G$3:$H$168,2,FALSE)),\"\",VLOOKUP(B1008,Translate!$G$3:$H$168,2,FALSE))","v":""},{"$nulls":19},0,0,0,0,0,0]
["Parking",null,"Parcio",{"$f":"IF(ISERROR(VLOOKUP(B1009,Translate!$G$3:$H$168,2,FALSE)),\"\",VLOOKUP(B1009,Translate!$G$3:$H$168,2,FALSE))","v":""},{"$nulls":19},0,0,0,0,0,0]
["Parking of vehicles",null,"Parcio cerbydau",{"$f":"IF(ISERROR(VLOOKUP(B1010,Translate!$G$3:$H$168,2,FALSE)),\"\",VLOOKUP(B1010,Translate!$G$3:$H$168,2,FALSE))","v":""},{"$nulls":19},0,0,0,0,0,0]
["Local Flood Defence Committees",null,"Pwyllgorau Amddiffyn rhag Llifogydd",{"$f":"IF(ISERROR(VLOOKUP(B1011,Translate!$G$3:$H$168,2,FALSE)),\"\",VLOOKUP(B1011,Translate!$G$3:$H$168,2,FALSE))","v":""},{"$nulls":19},0,0,0,0,0,0]
["Children and families:",null,"Plant a theuluoedd:",{"$f":"IF(ISERROR(VLOOKUP(B1012,Translate!$G$3:$H$168,2,FALSE)),\"\",VLOOKUP(B1012,Translate!$G$3:$H$168,2,FALSE))","v":""},{"$nulls":19},0,0,0,0,0,0]
["Unaccompanied children",null,"Plant ar eu pen eu hunain",{"$f":"IF(ISERROR(VLOOKUP(B1013,Translate!$G$3:$H$168,2,FALSE)),\"\",VLOOKUP(B1013,Translate!$G$3:$H$168,2,FALSE))","v":""},{"$nulls":19},0,0,0,0,0,0]
["Children placed with family and friends",null,"Plant wedi'u lleoli gyda theulu a ffrindiau",{"$f":"IF(ISERROR(VLOOKUP(B1014,Translate!$G$3:$H$168,2,FALSE)),\"\",VLOOKUP(B1014,Translate!$G$3:$H$168,2,FALSE))","v":""},{"$nulls":19},0,0,0,0,0,0]
["Asylum seeking children looked after",null,"Plant sy'n ceisio lloches ac sy'n derbyn gofal",{"$f":"IF(ISERROR(VLOOKUP(B1015,Translate!$G$3:$H$168,2,FALSE)),\"\",VLOOKUP(B1015,Translate!$G$3:$H$168,2,FALSE))","v":""},{"$nulls":19},0,0,0,0,0,0]
["National policing",null,"Plismona cenedlaethol",{"$f":"IF(ISERROR(VLOOKUP(B1016,Translate!$G$3:$H$168,2,FALSE)),\"\",VLOOKUP(B1016,Translate!$G$3:$H$168,2,FALSE))","v":""},{"$nulls":19},0,0,0,0,0,0]
["Local policing",null,"Plismona lleol",{"$f":"IF(ISERROR(VLOOKUP(B1017,Translate!$G$3:$H$168,2,FALSE)),\"\",VLOOKUP(B1017,Translate!$G$3:$H$168,2,FALSE))","v":""},{"$nulls":19},0,0,0,0,0,0]
["Road policing",null,"Plismona'r ffyrdd",{"$f":"IF(ISERROR(VLOOKUP(B1018,Translate!$G$3:$H$168,2,FALSE)),\"\",VLOOKUP(B1018,Translate!$G$3:$H$168,2,FALSE))","v":""},{"$nulls":19},0,0,0,0,0,0]
["plus discretionary non-domestic rate relief",null,"plws rhyddhad ardreth annomestig dewisiol",{"$f":"IF(ISERROR(VLOOKUP(B1019,Translate!$G$3:$H$168,2,FALSE)),\"\",VLOOKUP(B1019,Translate!$G$3:$H$168,2,FALSE))","v":""},{"$nulls":19},0,0,0,0,0,0]
["All management and support services",null,"Pob gwasanaeth rheoli a chynnal",{"$f":"IF(ISERROR(VLOOKUP(B1020,Translate!$G$3:$H$168,2,FALSE)),\"\",VLOOKUP(B1020,Translate!$G$3:$H$168,2,FALSE))","v":""},{"$nulls":19},0,0,0,0,0,0]
["All fire central services",null,"Pob gwasanaeth tân canolog ",{"$f":"IF(ISERROR(VLOOKUP(B1021,Translate!$G$3:$H$168,2,FALSE)),\"\",VLOOKUP(B1021,Translate!$G$3:$H$168,2,FALSE))","v":""},{"$nulls":19},0,0,0,0,0,0]
["All services",null,"Pob gwasanaeth",{"$f":"IF(ISERROR(VLOOKUP(B1022,Translate!$G$3:$H$168,2,FALSE)),\"\",VLOOKUP(B1022,Translate!$G$3:$H$168,2,FALSE))","v":""},{"$nulls":19},0,0,0,0,0,0]
["All schools",null,"Pob ysgol",{"$f":"IF(ISERROR(VLOOKUP(B1023,Translate!$G$3:$H$168,2,FALSE)),\"\",VLOOKUP(B1023,Translate!$G$3:$H$168,2,FALSE))","v":""},{"$nulls":19},0,0,0,0,0,0]
["Other services to older people",null,"Gwasanaethau eraill i bobl hŷn",{"$f":"IF(ISERROR(VLOOKUP(B1024,Translate!$G$3:$H$168,2,FALSE)),\"\",VLOOKUP(B1024,Translate!$G$3:$H$168,2,FALSE))","v":""},{"$nulls":19},0,0,0,0,0,0]
["Elderly people:",null,"Pobl oedrannus:",{"$f":"IF(ISERROR(VLOOKUP(B1025,Translate!$G$3:$H$168,2,FALSE)),\"\",VLOOKUP(B1025,Translate!$G$3:$H$168,2,FALSE))","v":""},{"$nulls":19},0,0,0,0,0,0]
["Planning policy",null,"Polisi cynllunio",{"$f":"IF(ISERROR(VLOOKUP(B1026,Translate!$G$3:$H$168,2,FALSE)),\"\",VLOOKUP(B1026,Translate!$G$3:$H$168,2,FALSE))","v":""},{"$nulls":19},{"$f":"IF(LEFT(W1026,1)=\" \",RIGHT(W1026,LEN(W1026)-1),W1026)","v":0},0,0,0,0,0]
["Bridges and culverts",null,"Pontydd a chwlfertau",{"$f":"IF(ISERROR(VLOOKUP(B1027,Translate!$G$3:$H$168,2,FALSE)),\"\",VLOOKUP(B1027,Translate!$G$3:$H$168,2,FALSE))","v":""},{"$nulls":19},0,0,0,0,0,0]
["Tolled road bridges, tunnels and ferries, public ",null,"Pontydd ffyrdd â tholl, twnneli a fferïau",{"$f":"IF(ISERROR(VLOOKUP(B1028,Translate!$G$3:$H$168,2,FALSE)),\"\",VLOOKUP(B1028,Translate!$G$3:$H$168,2,FALSE))","v":""},{"$nulls":19},0,0,0,0,0,0]
["Local authorities ports and piers",null,"Porthladdoedd a phierau yr awdurdodau lleol",{"$f":"IF(ISERROR(VLOOKUP(B1029,Translate!$G$3:$H$168,2,FALSE)),\"\",VLOOKUP(B1029,Translate!$G$3:$H$168,2,FALSE))","v":""},{"$nulls":19},0,0,0,0,0,0]
["Local authority ports and piers",null,"Porthladdoedd a phierau yr awdurdod lleol",{"$f":"IF(ISERROR(VLOOKUP(B1030,Translate!$G$3:$H$168,2,FALSE)),\"\",VLOOKUP(B1030,Translate!$G$3:$H$168,2,FALSE))","v":""},{"$nulls":19},0,0,0,0,0,0]
["Premia and discounts on debt rescheduling",null,"Premiymau a disgowntiau ar aildrefnu dyled",{"$f":"IF(ISERROR(VLOOKUP(B1031,Translate!$G$3:$H$168,2,FALSE)),\"\",VLOOKUP(B1031,Translate!$G$3:$H$168,2,FALSE))","v":""},{"$nulls":19},0,0,0,0,0,0]
["Community council precepts",null,"Praeseptiau cyngor cymunedol",{"$f":"IF(ISERROR(VLOOKUP(B1032,Translate!$G$3:$H$168,2,FALSE)),\"\",VLOOKUP(B1032,Translate!$G$3:$H$168,2,FALSE))","v":""},{"$nulls":19},0,0,0,0,0,0]
["Principal roads",null,"Prif ffyrdd",{"$f":"IF(ISERROR(VLOOKUP(B1033,Translate!$G$3:$H$168,2,FALSE)),\"\",VLOOKUP(B1033,Translate!$G$3:$H$168,2,FALSE))","v":""},{"$nulls":19},0,0,0,0,0,0]
["Highways and roads",null,"Priffyrdd a ffyrdd",{"$f":"IF(ISERROR(VLOOKUP(B1034,Translate!$G$3:$H$168,2,FALSE)),\"\",VLOOKUP(B1034,Translate!$G$3:$H$168,2,FALSE))","v":""},{"$nulls":19},0,0,0,0,0,0]
["Highways and roads:",null,"Priffyrdd a ffyrdd:",{"$f":"IF(ISERROR(VLOOKUP(B1035,Translate!$G$3:$H$168,2,FALSE)),\"\",VLOOKUP(B1035,Translate!$G$3:$H$168,2,FALSE))","v":""},{"$nulls":19},0,0,0,0,0,0]
["Child death review process",null,"Proses adolygu marwolaeth plentyn ",{"$f":"IF(ISERROR(VLOOKUP(B1036,Translate!$G$3:$H$168,2,FALSE)),\"\",VLOOKUP(B1036,Translate!$G$3:$H$168,2,FALSE))","v":""}]
["Meals",null,"Prydau",{"$f":"IF(ISERROR(VLOOKUP(B1037,Translate!$G$3:$H$168,2,FALSE)),\"\",VLOOKUP(B1037,Translate!$G$3:$H$168,2,FALSE))","v":""}]
["Development control",null,"Rheoli datblygiad",{"$f":"IF(ISERROR(VLOOKUP(B1038,Translate!$G$3:$H$168,2,FALSE)),\"\",VLOOKUP(B1038,Translate!$G$3:$H$168,2,FALSE))","v":""}]
["Corporate management",null,"Rheoli corfforaethol",{"$f":"IF(ISERROR(VLOOKUP(B1039,Translate!$G$3:$H$168,2,FALSE)),\"\",VLOOKUP(B1039,Translate!$G$3:$H$168,2,FALSE))","v":""}]
["Recreation management and transport",null,"Rheoli hamdden a thrafnidiaeth",{"$f":"IF(ISERROR(VLOOKUP(B1040,Translate!$G$3:$H$168,2,FALSE)),\"\",VLOOKUP(B1040,Translate!$G$3:$H$168,2,FALSE))","v":""}]
["Management and administration",null,"Rheoli a gweinyddu",{"$f":"IF(ISERROR(VLOOKUP(B1041,Translate!$G$3:$H$168,2,FALSE)),\"\",VLOOKUP(B1041,Translate!$G$3:$H$168,2,FALSE))","v":""}]
["Strategic management",null,"Rheoli strategol",{"$f":"IF(ISERROR(VLOOKUP(B1042,Translate!$G$3:$H$168,2,FALSE)),\"\",VLOOKUP(B1042,Translate!$G$3:$H$168,2,FALSE))","v":""}]
["Strategic management of non-school services",null,"Rheoli strategol - heblaw gwasanaethau ysgolion",{"$f":"IF(ISERROR(VLOOKUP(B1043,Translate!$G$3:$H$168,2,FALSE)),\"\",VLOOKUP(B1043,Translate!$G$3:$H$168,2,FALSE))","v":""}]
["Strategic management - special",null,"Rheoli strategol - Ysgolion arbennig",{"$f":"IF(ISERROR(VLOOKUP(B1044,Translate!$G$3:$H$168,2,FALSE)),\"\",VLOOKUP(B1044,Translate!$G$3:$H$168,2,FALSE))","v":""}]
["Strategic management - middle",null,"Rheoli strategol - Ysgolion canol",{"$f":"IF(ISERROR(VLOOKUP(B1045,Translate!$G$3:$H$168,2,FALSE)),\"\",VLOOKUP(B1045,Translate!$G$3:$H$168,2,FALSE))","v":""}]
["Strategic management - primary",null,"Rheoli strategol - Ysgolion cynradd",{"$f":"IF(ISERROR(VLOOKUP(B1046,Translate!$G$3:$H$168,2,FALSE)),\"\",VLOOKUP(B1046,Translate!$G$3:$H$168,2,FALSE))","v":""}]
["Strategic management - nursery",null,"Rheoli strategol - Ysgolion meithrin",{"$f":"IF(ISERROR(VLOOKUP(B1047,Translate!$G$3:$H$168,2,FALSE)),\"\",VLOOKUP(B1047,Translate!$G$3:$H$168,2,FALSE))","v":""}]
["Strategic management - secondary",null,"Rheoli strategol - Ysgolion uwchradd",{"$f":"IF(ISERROR(VLOOKUP(B1048,Translate!$G$3:$H$168,2,FALSE)),\"\",VLOOKUP(B1048,Translate!$G$3:$H$168,2,FALSE))","v":""}]
["Traffic management",null,"Rheoli traffig",{"$f":"IF(ISERROR(VLOOKUP(B1049,Translate!$G$3:$H$168,2,FALSE)),\"\",VLOOKUP(B1049,Translate!$G$3:$H$168,2,FALSE))","v":""}]
["Traffic management and road safety (e)",null,"Rheoli traffig a diogelwch ar y ffyrdd (e)",{"$f":"IF(ISERROR(VLOOKUP(B1050,Translate!$G$3:$H$168,2,FALSE)),\"\",VLOOKUP(B1050,Translate!$G$3:$H$168,2,FALSE))","v":""}]
["Building control",null,"Rheoli adeiladu",{"$f":"IF(ISERROR(VLOOKUP(B1051,Translate!$G$3:$H$168,2,FALSE)),\"\",VLOOKUP(B1051,Translate!$G$3:$H$168,2,FALSE))","v":""}]
["row 2 >= row 7",null,"rhes 2 >= rhes 7",{"$f":"IF(ISERROR(VLOOKUP(B1052,Translate!$G$3:$H$168,2,FALSE)),\"\",VLOOKUP(B1052,Translate!$G$3:$H$168,2,FALSE))","v":""}]
["Please Comment",null,"Rhowch sylw",{"$f":"IF(ISERROR(VLOOKUP(B1053,Translate!$G$3:$H$168,2,FALSE)),\"\",VLOOKUP(B1053,Translate!$G$3:$H$168,2,FALSE))","v":""}]
["Please comment below if necessary",null,"Rhowch sylw isod os oes angen",{"$f":"IF(ISERROR(VLOOKUP(B1054,Translate!$G$3:$H$168,2,FALSE)),\"\",VLOOKUP(B1054,Translate!$G$3:$H$168,2,FALSE))","v":""}]
["Residual pension liabilities: further education",null,"Rhwymedigaethau pensiwn gweddilliol: addysg bellach",{"$f":"IF(ISERROR(VLOOKUP(B1055,Translate!$G$3:$H$168,2,FALSE)),\"\",VLOOKUP(B1055,Translate!$G$3:$H$168,2,FALSE))","v":""}]
["Residual pension liabilities: other non-school services",null,"Rhwymedigaethau pensiwn gweddilliol: gwasanaethau eraill heb fod mewn ysgolion",{"$f":"IF(ISERROR(VLOOKUP(B1056,Translate!$G$3:$H$168,2,FALSE)),\"\",VLOOKUP(B1056,Translate!$G$3:$H$168,2,FALSE))","v":""}]
["We are continually striving to improve the form to make it easier to complete, whilst still ensuring data integrity and consistency across all authorities. If you have any comments or suggestions that may be useful,  please note them below:",null,"Rydym bob amser yn ceisio gwella'r ffurflen i'w gwneud yn haws i'w llenwi, gan barhau i sicrhau cywirdeb data a chysondeb ar gyfer yr holl awdurdodau. Os oes gennych unrhyw sylwadau neu awgrymiadau a allai fod yn ddefnyddiol, nodwch nhw isod: ",{"$f":"IF(ISERROR(VLOOKUP(B1057,Translate!$G$3:$H$168,2,FALSE)),\"\",VLOOKUP(B1057,Translate!$G$3:$H$168,2,FALSE))","v":""}]
["Trading standards",null,"Safonau masnach",{"$f":"IF(ISERROR(VLOOKUP(B1058,Translate!$G$3:$H$168,2,FALSE)),\"\",VLOOKUP(B1058,Translate!$G$3:$H$168,2,FALSE))","v":""}]
["Staff",null,"Staff",{"$f":"IF(ISERROR(VLOOKUP(B1059,Translate!$G$3:$H$168,2,FALSE)),\"\",VLOOKUP(B1059,Translate!$G$3:$H$168,2,FALSE))","v":""}]
["Staff - special",null,"Staff - Ysgolion arbennig",{"$f":"IF(ISERROR(VLOOKUP(B1060,Translate!$G$3:$H$168,2,FALSE)),\"\",VLOOKUP(B1060,Translate!$G$3:$H$168,2,FALSE))","v":""}]
["Staff - middle",null,"Staff - Ysgolion canol",{"$f":"IF(ISERROR(VLOOKUP(B1061,Translate!$G$3:$H$168,2,FALSE)),\"\",VLOOKUP(B1061,Translate!$G$3:$H$168,2,FALSE))","v":""}]
["Staff - primary",null,"Staff - Ysgolion cynradd",{"$f":"IF(ISERROR(VLOOKUP(B1062,Translate!$G$3:$H$168,2,FALSE)),\"\",VLOOKUP(B1062,Translate!$G$3:$H$168,2,FALSE))","v":""}]
["Staff - nursery",null,"Staff - Ysgolion meithrin",{"$f":"IF(ISERROR(VLOOKUP(B1063,Translate!$G$3:$H$168,2,FALSE)),\"\",VLOOKUP(B1063,Translate!$G$3:$H$168,2,FALSE))","v":""}]
["Staff - secondary",null,"Staff - Ysgolion uwchradd",{"$f":"IF(ISERROR(VLOOKUP(B1064,Translate!$G$3:$H$168,2,FALSE)),\"\",VLOOKUP(B1064,Translate!$G$3:$H$168,2,FALSE))","v":""}]
["Teaching staff",null,"Staff addysgu",{"$f":"IF(ISERROR(VLOOKUP(B1065,Translate!$G$3:$H$168,2,FALSE)),\"\",VLOOKUP(B1065,Translate!$G$3:$H$168,2,FALSE))","v":""}]
["Support staff",null,"Staff cymorth",{"$f":"IF(ISERROR(VLOOKUP(B1066,Translate!$G$3:$H$168,2,FALSE)),\"\",VLOOKUP(B1066,Translate!$G$3:$H$168,2,FALSE))","v":""}]
["Service strategy and regulation",null,"Strategaeth a gwaith rheoli gwasanaethau",{"$f":"IF(ISERROR(VLOOKUP(B1067,Translate!$G$3:$H$168,2,FALSE)),\"\",VLOOKUP(B1067,Translate!$G$3:$H$168,2,FALSE))","v":""}]
["Service strategy - adult services",null,"Strategaeth gwasanaeth - gwasanaethau oedolion",{"$f":"IF(ISERROR(VLOOKUP(B1068,Translate!$G$3:$H$168,2,FALSE)),\"\",VLOOKUP(B1068,Translate!$G$3:$H$168,2,FALSE))","v":""}]
["Amount to be raised from council tax payers",null,"Swm i'w godi gan dalwyr treth cyngor",{"$f":"IF(ISERROR(VLOOKUP(B1069,Translate!$G$3:$H$168,2,FALSE)),\"\",VLOOKUP(B1069,Translate!$G$3:$H$168,2,FALSE))","v":""}]
["Central commissioning function",null,"Swyddogaeth comisiynu canolog",{"$f":"IF(ISERROR(VLOOKUP(B1070,Translate!$G$3:$H$168,2,FALSE)),\"\",VLOOKUP(B1070,Translate!$G$3:$H$168,2,FALSE))","v":""}]
["LA functions in relation to child protection",null,"Swyddogaethau awdurdodau lleol sy'n gysylltiedig ag amddiffyn plant",{"$f":"IF(ISERROR(VLOOKUP(B1071,Translate!$G$3:$H$168,2,FALSE)),\"\",VLOOKUP(B1071,Translate!$G$3:$H$168,2,FALSE))","v":""}]
["General Comments",null,"Sylwadau cyffredinol",{"$f":"IF(ISERROR(VLOOKUP(B1072,Translate!$G$3:$H$168,2,FALSE)),\"\",VLOOKUP(B1072,Translate!$G$3:$H$168,2,FALSE))","v":""}]
["Council fund housing and housing benefit:",null,"Tai cronfa'r cynghorau a budd-dal tai:",{"$f":"IF(ISERROR(VLOOKUP(B1073,Translate!$G$3:$H$168,2,FALSE)),\"\",VLOOKUP(B1073,Translate!$G$3:$H$168,2,FALSE))","v":""}]
["Council fund housing",null,"Tai cronfa'r cyngor",{"$f":"IF(ISERROR(VLOOKUP(B1074,Translate!$G$3:$H$168,2,FALSE)),\"\",VLOOKUP(B1074,Translate!$G$3:$H$168,2,FALSE))","v":""}]
["Other council fund housing",null,"Tai cronfa'r cyngor arall",{"$f":"IF(ISERROR(VLOOKUP(B1075,Translate!$G$3:$H$168,2,FALSE)),\"\",VLOOKUP(B1075,Translate!$G$3:$H$168,2,FALSE))","v":""}]
["Housing:",null,"Tai:",{"$f":"IF(ISERROR(VLOOKUP(B1076,Translate!$G$3:$H$168,2,FALSE)),\"\",VLOOKUP(B1076,Translate!$G$3:$H$168,2,FALSE))","v":""}]
["External interest receipts on HRA balances",null,"Derbyniadau llog allanol ar falansau HRA",{"$f":"IF(ISERROR(VLOOKUP(B1077,Translate!$G$3:$H$168,2,FALSE)),\"\",VLOOKUP(B1077,Translate!$G$3:$H$168,2,FALSE))","v":""}]
["Housing benefit payments",null,"Taliadau budd-dâl tai",{"$f":"IF(ISERROR(VLOOKUP(B1078,Translate!$G$3:$H$168,2,FALSE)),\"\",VLOOKUP(B1078,Translate!$G$3:$H$168,2,FALSE))","v":""}]
["Capital charges relating to construction projects:",null,"Taliadau cyfalaf yn ymwneud â phrosiectau adeiladu:",{"$f":"IF(ISERROR(VLOOKUP(B1079,Translate!$G$3:$H$168,2,FALSE)),\"\",VLOOKUP(B1079,Translate!$G$3:$H$168,2,FALSE))","v":""}]
["Capital charges relating to construction projects (other roads)",null,"Taliadau cyfalaf yn ymwneud â phrosiectau adeiladu (ffyrdd eraill)",{"$f":"IF(ISERROR(VLOOKUP(B1080,Translate!$G$3:$H$168,2,FALSE)),\"\",VLOOKUP(B1080,Translate!$G$3:$H$168,2,FALSE))","v":""}]
["Capital charges relating to construction projects  ",null,"Taliadau cyfalaf yn ymwneud â phrosiectau adeiladu ",{"$f":"IF(ISERROR(VLOOKUP(B1081,Translate!$G$3:$H$168,2,FALSE)),\"\",VLOOKUP(B1081,Translate!$G$3:$H$168,2,FALSE))","v":""}]
["Capital charges relating to construction projects (bridges and culverts)",null,"Taliadau cyfalaf yn ymwneud â phrosiectau adeiladu (pontydd a chwlfertau)",{"$f":"IF(ISERROR(VLOOKUP(B1082,Translate!$G$3:$H$168,2,FALSE)),\"\",VLOOKUP(B1082,Translate!$G$3:$H$168,2,FALSE))","v":""}]
["Capital charges relating to construction projects (principal roads)",null,"Taliadau cyfalaf yn ymwneud â phrosiectau adeiladu (prif ffyrdd)",{"$f":"IF(ISERROR(VLOOKUP(B1083,Translate!$G$3:$H$168,2,FALSE)),\"\",VLOOKUP(B1083,Translate!$G$3:$H$168,2,FALSE))","v":""}]
["Payments to/from fire authorities",null,"Taliadau i/o awdurdodau tân",{"$f":"IF(ISERROR(VLOOKUP(B1084,Translate!$G$3:$H$168,2,FALSE)),\"\",VLOOKUP(B1084,Translate!$G$3:$H$168,2,FALSE))","v":""}]
["External interest payments",null,"Taliadau llog allanol",{"$f":"IF(ISERROR(VLOOKUP(B1085,Translate!$G$3:$H$168,2,FALSE)),\"\",VLOOKUP(B1085,Translate!$G$3:$H$168,2,FALSE))","v":""}]
["Leasing payment",null,"Taliadau prydlesu",{"$f":"IF(ISERROR(VLOOKUP(B1086,Translate!$G$3:$H$168,2,FALSE)),\"\",VLOOKUP(B1086,Translate!$G$3:$H$168,2,FALSE))","v":""}]
["Leasing payments",null,"Taliadau prydlesu",{"$f":"IF(ISERROR(VLOOKUP(B1087,Translate!$G$3:$H$168,2,FALSE)),\"\",VLOOKUP(B1087,Translate!$G$3:$H$168,2,FALSE))","v":""}]
["Direct payments",null,"Taliadau uniongyrchol",{"$f":"IF(ISERROR(VLOOKUP(B1088,Translate!$G$3:$H$168,2,FALSE)),\"\",VLOOKUP(B1088,Translate!$G$3:$H$168,2,FALSE))","v":""}]
["HRA 'item 8' interest payments/receipts",null,"Taliadau/derbyniadau llog 'eitem 8' HRA",{"$f":"IF(ISERROR(VLOOKUP(B1089,Translate!$G$3:$H$168,2,FALSE)),\"\",VLOOKUP(B1089,Translate!$G$3:$H$168,2,FALSE))","v":""}]
["Theatres and public entertainment",null,"Theatrau ac adloniant cyhoeddus",{"$f":"IF(ISERROR(VLOOKUP(B1090,Translate!$G$3:$H$168,2,FALSE)),\"\",VLOOKUP(B1090,Translate!$G$3:$H$168,2,FALSE))","v":""}]
["Heritage",null,"Threftadaeth",{"$f":"IF(ISERROR(VLOOKUP(B1091,Translate!$G$3:$H$168,2,FALSE)),\"\",VLOOKUP(B1091,Translate!$G$3:$H$168,2,FALSE))","v":""}]
["Youth offender teams",null,"Timau troseddwyr ifanc",{"$f":"IF(ISERROR(VLOOKUP(B1092,Translate!$G$3:$H$168,2,FALSE)),\"\",VLOOKUP(B1092,Translate!$G$3:$H$168,2,FALSE))","v":""}]
["Derelict land reclamation",null,"Adfer tir diffaith ",{"$f":"IF(ISERROR(VLOOKUP(B1093,Translate!$G$3:$H$168,2,FALSE)),\"\",VLOOKUP(B1093,Translate!$G$3:$H$168,2,FALSE))","v":""}]
["Concessionary fares",null,"Tocynnau teithio rhatach",{"$f":"IF(ISERROR(VLOOKUP(B1094,Translate!$G$3:$H$168,2,FALSE)),\"\",VLOOKUP(B1094,Translate!$G$3:$H$168,2,FALSE))","v":""}]
["Land drainage and flood prevention",null,"Draenio tir ac atal llifogydd",{"$f":"IF(ISERROR(VLOOKUP(B1095,Translate!$G$3:$H$168,2,FALSE)),\"\",VLOOKUP(B1095,Translate!$G$3:$H$168,2,FALSE))","v":""}]
["Transport",null,"Trafnidiaeth",{"$f":"IF(ISERROR(VLOOKUP(B1096,Translate!$G$3:$H$168,2,FALSE)),\"\",VLOOKUP(B1096,Translate!$G$3:$H$168,2,FALSE))","v":""}]
["Transport planning, policy and strategy",null,"Cynllunio, polisi a strategaeth trafnidiaeth",{"$f":"IF(ISERROR(VLOOKUP(B1097,Translate!$G$3:$H$168,2,FALSE)),\"\",VLOOKUP(B1097,Translate!$G$3:$H$168,2,FALSE))","v":""}]
["Public passenger transport (bus)",null,"Trafnidiaeth teithwyr cyhoeddus (bysiau)",{"$f":"IF(ISERROR(VLOOKUP(B1098,Translate!$G$3:$H$168,2,FALSE)),\"\",VLOOKUP(B1098,Translate!$G$3:$H$168,2,FALSE))","v":""}]
["Public passenger transport (rail)",null,"Trafnidiaeth teithwyr cyhoeddus (rheilffyrdd)",{"$f":"IF(ISERROR(VLOOKUP(B1099,Translate!$G$3:$H$168,2,FALSE)),\"\",VLOOKUP(B1099,Translate!$G$3:$H$168,2,FALSE))","v":""}]
["Transport:",null,"Trafnidiaeth:",{"$f":"IF(ISERROR(VLOOKUP(B1100,Translate!$G$3:$H$168,2,FALSE)),\"\",VLOOKUP(B1100,Translate!$G$3:$H$168,2,FALSE))","v":""}]
["Criminal justice arrangements",null,"Trefniadau cyfiawnder troseddol",{"$f":"IF(ISERROR(VLOOKUP(B1101,Translate!$G$3:$H$168,2,FALSE)),\"\",VLOOKUP(B1101,Translate!$G$3:$H$168,2,FALSE))","v":""}]
["Indirect employee expenses",null,"Treuliau anuniongyrchol gweithwyr cyflogedig",{"$f":"IF(ISERROR(VLOOKUP(B1102,Translate!$G$3:$H$168,2,FALSE)),\"\",VLOOKUP(B1102,Translate!$G$3:$H$168,2,FALSE))","v":""}]
["Appropriations to(+) / from(-) financial instruments ",null,"Dyraniadau i (+) / o (-) gyfrif offerynnau ariannol",{"$f":"IF(ISERROR(VLOOKUP(B1103,Translate!$G$3:$H$168,2,FALSE)),\"\",VLOOKUP(B1103,Translate!$G$3:$H$168,2,FALSE))","v":""}]
["Appropriations to(+) / from(-) unequal pay back ",null,"Dyraniadau i (+) / o (-) gyfrif ôl-dalu tâl anghyfartal",{"$f":"IF(ISERROR(VLOOKUP(B1104,Translate!$G$3:$H$168,2,FALSE)),\"\",VLOOKUP(B1104,Translate!$G$3:$H$168,2,FALSE))","v":""}]
["Appropriations to(+) / from(-) unallocated financial",null,"Dyraniadau i(+) / o(-) gronfeydd arian heb eu clustnodi",{"$f":"IF(ISERROR(VLOOKUP(B1105,Translate!$G$3:$H$168,2,FALSE)),\"\",VLOOKUP(B1105,Translate!$G$3:$H$168,2,FALSE))","v":""}]
["Appropriations to(+) / from(-) earmarked financial",null,"Dyraniadau i(+) / o(-) gronfeydd arian wedi'u clustnodi",{"$f":"IF(ISERROR(VLOOKUP(B1106,Translate!$G$3:$H$168,2,FALSE)),\"\",VLOOKUP(B1106,Translate!$G$3:$H$168,2,FALSE))","v":""}]
["Licensing of private sector landlords",null,"Trwyddedu landlordiaid y sector preifat",{"$f":"IF(ISERROR(VLOOKUP(B1107,Translate!$G$3:$H$168,2,FALSE)),\"\",VLOOKUP(B1107,Translate!$G$3:$H$168,2,FALSE))","v":""}]
["Tourism",null,"Twristiaeth",{"$f":"IF(ISERROR(VLOOKUP(B1108,Translate!$G$3:$H$168,2,FALSE)),\"\",VLOOKUP(B1108,Translate!$G$3:$H$168,2,FALSE))","v":""}]
["Secure accommodation (welfare)",null,"Llety diogel (lles)",{"$f":"IF(ISERROR(VLOOKUP(B1109,Translate!$G$3:$H$168,2,FALSE)),\"\",VLOOKUP(B1109,Translate!$G$3:$H$168,2,FALSE))","v":""}]
["Secondary",null,"Uwchradd",{"$f":"IF(ISERROR(VLOOKUP(B1110,Translate!$G$3:$H$168,2,FALSE)),\"\",VLOOKUP(B1110,Translate!$G$3:$H$168,2,FALSE))","v":""}]
["Survey Response Burden",null,"Y Baich o Ymateb i'r Arolwg",{"$f":"IF(ISERROR(VLOOKUP(B1111,Translate!$G$3:$H$168,2,FALSE)),\"\",VLOOKUP(B1111,Translate!$G$3:$H$168,2,FALSE))","v":""}]
["In-year council tax",null,"Y dreth gyngor yn ystod y flwyddyn",{"$f":"IF(ISERROR(VLOOKUP(B1112,Translate!$G$3:$H$168,2,FALSE)),\"\",VLOOKUP(B1112,Translate!$G$3:$H$168,2,FALSE))","v":""}]
["Budget requirement (lines 90 to 93)",null,"Gofyniad cyllidebol (llinell 90 i 93)",{"$f":"IF(ISERROR(VLOOKUP(B1113,Translate!$G$3:$H$168,2,FALSE)),\"\",VLOOKUP(B1113,Translate!$G$3:$H$168,2,FALSE))","v":""}]
["Library service",null,"Y gwasanaeth llyfrgelloedd",{"$f":"IF(ISERROR(VLOOKUP(B1114,Translate!$G$3:$H$168,2,FALSE)),\"\",VLOOKUP(B1114,Translate!$G$3:$H$168,2,FALSE))","v":""}]
["Law, order and protective services:",null,"Y gyfraith, trefn a gwasanaethau diogelu:",{"$f":"IF(ISERROR(VLOOKUP(B1115,Translate!$G$3:$H$168,2,FALSE)),\"\",VLOOKUP(B1115,Translate!$G$3:$H$168,2,FALSE))","v":""}]
["Housing Strategy",null,"Y strategaeth dai",{"$f":"IF(ISERROR(VLOOKUP(B1116,Translate!$G$3:$H$168,2,FALSE)),\"\",VLOOKUP(B1116,Translate!$G$3:$H$168,2,FALSE))","v":""}]
["Amount received as a % of amount due with BR1 equivalent",null,"Y swm a gafwyd fel % o'r swm sy'n ddyledus gyfwerth â BR1",{"$f":"IF(ISERROR(VLOOKUP(B1117,Translate!$G$3:$H$168,2,FALSE)),\"\",VLOOKUP(B1117,Translate!$G$3:$H$168,2,FALSE))","v":""}]
["Amount received as a % of amount due, 2014-15 and 2015-16",null,"Y swm a gafwyd fel % o'r swm sy'n ddyledus, 2014-15 a 2015-16",{"$f":"IF(ISERROR(VLOOKUP(B1118,Translate!$G$3:$H$168,2,FALSE)),\"\",VLOOKUP(B1118,Translate!$G$3:$H$168,2,FALSE))","v":""}]
["Amount received as a percentage of amount due",null,"Y swm a gafwyd fel canran o'r swm sy'n ddyledus",{"$f":"IF(ISERROR(VLOOKUP(B1119,Translate!$G$3:$H$168,2,FALSE)),\"\",VLOOKUP(B1119,Translate!$G$3:$H$168,2,FALSE))","v":""}]
["Amount received compared to amount originally budgeted to be collected",null,"Y swm a gafwyd o gymharu â'r swm i'w gasglu o'r gyllideb wreiddiol",{"$f":"IF(ISERROR(VLOOKUP(B1120,Translate!$G$3:$H$168,2,FALSE)),\"\",VLOOKUP(B1120,Translate!$G$3:$H$168,2,FALSE))","v":""}]
["Amount originally budgeted to be collected for the year when the council tax was set",null,"Y swm yn y gyllideb yn wreiddiol i'w gasglu ar gyfer y flwyddyn pan osodwyd y dreth gyngor ",{"$f":"IF(ISERROR(VLOOKUP(B1121,Translate!$G$3:$H$168,2,FALSE)),\"\",VLOOKUP(B1121,Translate!$G$3:$H$168,2,FALSE))","v":""}]
["Economic research",null,"Ymchwil economaidd",{"$f":"IF(ISERROR(VLOOKUP(B1122,Translate!$G$3:$H$168,2,FALSE)),\"\",VLOOKUP(B1122,Translate!$G$3:$H$168,2,FALSE))","v":""}]
["Specialist investigation",null,"Ymchwilio arbenigol",{"$f":"IF(ISERROR(VLOOKUP(B1123,Translate!$G$3:$H$168,2,FALSE)),\"\",VLOOKUP(B1123,Translate!$G$3:$H$168,2,FALSE))","v":""}]
["Special schools",null,"Ysgolion arbennig",{"$f":"IF(ISERROR(VLOOKUP(B1124,Translate!$G$3:$H$168,2,FALSE)),\"\",VLOOKUP(B1124,Translate!$G$3:$H$168,2,FALSE))","v":""}]
["Middle schools",null,"Ysgolion canol",{"$f":"IF(ISERROR(VLOOKUP(B1125,Translate!$G$3:$H$168,2,FALSE)),\"\",VLOOKUP(B1125,Translate!$G$3:$H$168,2,FALSE))","v":""}]
["Primary schools",null,"Ysgolion cynradd",{"$f":"IF(ISERROR(VLOOKUP(B1126,Translate!$G$3:$H$168,2,FALSE)),\"\",VLOOKUP(B1126,Translate!$G$3:$H$168,2,FALSE))","v":""}]
["Nursery schools",null,"Ysgolion meithrin",{"$f":"IF(ISERROR(VLOOKUP(B1127,Translate!$G$3:$H$168,2,FALSE)),\"\",VLOOKUP(B1127,Translate!$G$3:$H$168,2,FALSE))","v":""}]
["Secondary schools",null,"Ysgolion uwchradd",{"$f":"IF(ISERROR(VLOOKUP(B1128,Translate!$G$3:$H$168,2,FALSE)),\"\",VLOOKUP(B1128,Translate!$G$3:$H$168,2,FALSE))","v":""}]
["Schools:",null,"Ysgolion:",{"$f":"IF(ISERROR(VLOOKUP(B1129,Translate!$G$3:$H$168,2,FALSE)),\"\",VLOOKUP(B1129,Translate!$G$3:$H$168,2,FALSE))","v":""}]
["Street sweeping and cleaning",null,"Ysgubo a glanhau strydoedd",{"$f":"IF(ISERROR(VLOOKUP(B1130,Translate!$G$3:$H$168,2,FALSE)),\"\",VLOOKUP(B1130,Translate!$G$3:$H$168,2,FALSE))","v":""}]
["Line 30.1 + line 30.2",null,"Llinell 30.1 + Llinell 30.2",{"$f":"IF(ISERROR(VLOOKUP(B1131,Translate!$G$3:$H$168,2,FALSE)),\"\",VLOOKUP(B1131,Translate!$G$3:$H$168,2,FALSE))","v":""}]
["Line 35",null,"Llinell 35",{"$f":"IF(ISERROR(VLOOKUP(B1132,Translate!$G$3:$H$168,2,FALSE)),\"\",VLOOKUP(B1132,Translate!$G$3:$H$168,2,FALSE))","v":""}]
["Line 33",null,"Llinell 33",{"$f":"IF(ISERROR(VLOOKUP(B1133,Translate!$G$3:$H$168,2,FALSE)),\"\",VLOOKUP(B1133,Translate!$G$3:$H$168,2,FALSE))","v":""}]
["Line 38",null,"Llinell 38",{"$f":"IF(ISERROR(VLOOKUP(B1134,Translate!$G$3:$H$168,2,FALSE)),\"\",VLOOKUP(B1134,Translate!$G$3:$H$168,2,FALSE))","v":""}]
["Line 39",null,"Llinell 39",{"$f":"IF(ISERROR(VLOOKUP(B1135,Translate!$G$3:$H$168,2,FALSE)),\"\",VLOOKUP(B1135,Translate!$G$3:$H$168,2,FALSE))","v":""}]
["Line 38 + line 39",null,"Llinell 38 + Llinell 39",{"$f":"IF(ISERROR(VLOOKUP(B1136,Translate!$G$3:$H$168,2,FALSE)),\"\",VLOOKUP(B1136,Translate!$G$3:$H$168,2,FALSE))","v":""}]
["Line 33",null,"Llinell 33",{"$f":"IF(ISERROR(VLOOKUP(B1137,Translate!$G$3:$H$168,2,FALSE)),\"\",VLOOKUP(B1137,Translate!$G$3:$H$168,2,FALSE))","v":""}]
["Line 40",null,"Llinell 40",{"$f":"IF(ISERROR(VLOOKUP(B1138,Translate!$G$3:$H$168,2,FALSE)),\"\",VLOOKUP(B1138,Translate!$G$3:$H$168,2,FALSE))","v":""}]
["Line 43",null,"Llinell 43",{"$f":"IF(ISERROR(VLOOKUP(B1139,Translate!$G$3:$H$168,2,FALSE)),\"\",VLOOKUP(B1139,Translate!$G$3:$H$168,2,FALSE))","v":""}]
["Line 41",null,"Llinell 41",{"$f":"IF(ISERROR(VLOOKUP(B1140,Translate!$G$3:$H$168,2,FALSE)),\"\",VLOOKUP(B1140,Translate!$G$3:$H$168,2,FALSE))","v":""}]
["Line 42",null,"Llinell 42",{"$f":"IF(ISERROR(VLOOKUP(B1141,Translate!$G$3:$H$168,2,FALSE)),\"\",VLOOKUP(B1141,Translate!$G$3:$H$168,2,FALSE))","v":""}]
["Line 44",null,"Llinell 44",{"$f":"IF(ISERROR(VLOOKUP(B1142,Translate!$G$3:$H$168,2,FALSE)),\"\",VLOOKUP(B1142,Translate!$G$3:$H$168,2,FALSE))","v":""}]
["Line 38 + line 39",null,"Llinell 38 + Llinell 39",{"$f":"IF(ISERROR(VLOOKUP(B1143,Translate!$G$3:$H$168,2,FALSE)),\"\",VLOOKUP(B1143,Translate!$G$3:$H$168,2,FALSE))","v":""}]
["Line 45",null,"Llinell 45",{"$f":"IF(ISERROR(VLOOKUP(B1144,Translate!$G$3:$H$168,2,FALSE)),\"\",VLOOKUP(B1144,Translate!$G$3:$H$168,2,FALSE))","v":""}]
["Line 44",null,"Llinell 44",{"$f":"IF(ISERROR(VLOOKUP(B1145,Translate!$G$3:$H$168,2,FALSE)),\"\",VLOOKUP(B1145,Translate!$G$3:$H$168,2,FALSE))","v":""}]
["Line 47",null,"Llinell 47",{"$f":"IF(ISERROR(VLOOKUP(B1146,Translate!$G$3:$H$168,2,FALSE)),\"\",VLOOKUP(B1146,Translate!$G$3:$H$168,2,FALSE))","v":""}]
["Line 46",null,"Llinell 46",{"$f":"IF(ISERROR(VLOOKUP(B1147,Translate!$G$3:$H$168,2,FALSE)),\"\",VLOOKUP(B1147,Translate!$G$3:$H$168,2,FALSE))","v":""}]
["Line 46",null,"Llinell 46",{"$f":"IF(ISERROR(VLOOKUP(B1148,Translate!$G$3:$H$168,2,FALSE)),\"\",VLOOKUP(B1148,Translate!$G$3:$H$168,2,FALSE))","v":""}]
["Line 41 + line 42",null,"Llinell 41 + Llinell 42",{"$f":"IF(ISERROR(VLOOKUP(B1149,Translate!$G$3:$H$168,2,FALSE)),\"\",VLOOKUP(B1149,Translate!$G$3:$H$168,2,FALSE))","v":""}]
["Line 45",null,"Llinell 45",{"$f":"IF(ISERROR(VLOOKUP(B1150,Translate!$G$3:$H$168,2,FALSE)),\"\",VLOOKUP(B1150,Translate!$G$3:$H$168,2,FALSE))","v":""}]
["Line 37",null,"Llinell 37",{"$f":"IF(ISERROR(VLOOKUP(B1151,Translate!$G$3:$H$168,2,FALSE)),\"\",VLOOKUP(B1151,Translate!$G$3:$H$168,2,FALSE))","v":""}]
["Line 47",null,"Llinell 47",{"$f":"IF(ISERROR(VLOOKUP(B1152,Translate!$G$3:$H$168,2,FALSE)),\"\",VLOOKUP(B1152,Translate!$G$3:$H$168,2,FALSE))","v":""}]
["Line 37",null,"Llinell 37",{"$f":"IF(ISERROR(VLOOKUP(B1153,Translate!$G$3:$H$168,2,FALSE)),\"\",VLOOKUP(B1153,Translate!$G$3:$H$168,2,FALSE))","v":""}]
["Line 48",null,"Llinell 48",{"$f":"IF(ISERROR(VLOOKUP(B1154,Translate!$G$3:$H$168,2,FALSE)),\"\",VLOOKUP(B1154,Translate!$G$3:$H$168,2,FALSE))","v":""}]
["Line 38 + line 39",null,"Llinell 38 + Llinell 39",{"$f":"IF(ISERROR(VLOOKUP(B1155,Translate!$G$3:$H$168,2,FALSE)),\"\",VLOOKUP(B1155,Translate!$G$3:$H$168,2,FALSE))","v":""}]
["Line 49",null,"Llinell 49",{"$f":"IF(ISERROR(VLOOKUP(B1156,Translate!$G$3:$H$168,2,FALSE)),\"\",VLOOKUP(B1156,Translate!$G$3:$H$168,2,FALSE))","v":""}]
["Line 41 + line 42",null,"Llinell 41 + Llinell 42",{"$f":"IF(ISERROR(VLOOKUP(B1157,Translate!$G$3:$H$168,2,FALSE)),\"\",VLOOKUP(B1157,Translate!$G$3:$H$168,2,FALSE))","v":""}]
["Line 43",null,"Llinell 43",{"$f":"IF(ISERROR(VLOOKUP(B1158,Translate!$G$3:$H$168,2,FALSE)),\"\",VLOOKUP(B1158,Translate!$G$3:$H$168,2,FALSE))","v":""}]
["Line 44",null,"Llinell 44",{"$f":"IF(ISERROR(VLOOKUP(B1159,Translate!$G$3:$H$168,2,FALSE)),\"\",VLOOKUP(B1159,Translate!$G$3:$H$168,2,FALSE))","v":""}]
["Line 45",null,"Llinell 45",{"$f":"IF(ISERROR(VLOOKUP(B1160,Translate!$G$3:$H$168,2,FALSE)),\"\",VLOOKUP(B1160,Translate!$G$3:$H$168,2,FALSE))","v":""}]
["Line 46",null,"Llinell 46",{"$f":"IF(ISERROR(VLOOKUP(B1161,Translate!$G$3:$H$168,2,FALSE)),\"\",VLOOKUP(B1161,Translate!$G$3:$H$168,2,FALSE))","v":""}]
["Line 47",null,"Llinell 47",{"$f":"IF(ISERROR(VLOOKUP(B1162,Translate!$G$3:$H$168,2,FALSE)),\"\",VLOOKUP(B1162,Translate!$G$3:$H$168,2,FALSE))","v":""}]
["OK",null,"iawn",{"$f":"IF(ISERROR(VLOOKUP(B1163,Translate!$G$3:$H$168,2,FALSE)),\"\",VLOOKUP(B1163,Translate!$G$3:$H$168,2,FALSE))","v":""}]
["Environmental and Regulatory Services",null,"gwasanaethau amgylcheddol a rheoleiddiol",{"$f":"IF(ISERROR(VLOOKUP(B1164,Translate!$G$3:$H$168,2,FALSE)),\"\",VLOOKUP(B1164,Translate!$G$3:$H$168,2,FALSE))","v":""}]
["Fire and rescue services",null,"Gwasanaethau tan ac schub ",{"$f":"IF(ISERROR(VLOOKUP(B1165,Translate!$G$3:$H$168,2,FALSE)),\"\",VLOOKUP(B1165,Translate!$G$3:$H$168,2,FALSE))","v":""}]
["Record as negative",null,"Cofnodwch yn negyddol",{"$f":"IF(ISERROR(VLOOKUP(C1166,Translate!$G$3:$H$168,2,FALSE)),\"\",VLOOKUP(C1166,Translate!$G$3:$H$168,2,FALSE))","v":""}]
["Employee costs ",null,"Costau gweithwyr",{"$f":"IF(ISERROR(VLOOKUP(C1167,Translate!$G$3:$H$168,2,FALSE)),\"\",VLOOKUP(C1167,Translate!$G$3:$H$168,2,FALSE))","v":""}]
["Planning, development and court services",null,"Cynllunio, datblygu a gwasanaethau llys",{"$f":"IF(ISERROR(VLOOKUP(C1168,Translate!$G$3:$H$168,2,FALSE)),\"\",VLOOKUP(C1168,Translate!$G$3:$H$168,2,FALSE))","v":""}]
["Council fund housing services",null,"Gwasanaethau tai cronfa'r cyngor",{"$f":"IF(ISERROR(VLOOKUP(C1169,Translate!$G$3:$H$168,2,FALSE)),\"\",VLOOKUP(C1169,Translate!$G$3:$H$168,2,FALSE))","v":""}]
["Revenue expenditure summary",null,"Crynodeb gwariant refeniw",{"$f":"IF(ISERROR(VLOOKUP(C1170,Translate!$G$3:$H$168,2,FALSE)),\"\",VLOOKUP(C1170,Translate!$G$3:$H$168,2,FALSE))","v":""}]
["Provision for repayment of principal (before application of the commutation adjustment)",null,"Darpariaeth ar gyfer ad-daliad y prifswm (cyn gosod yr addasiad cyfnewid)",{"$f":"IF(ISERROR(VLOOKUP(C1171,Translate!$G$3:$H$168,2,FALSE)),\"\",VLOOKUP(C1171,Translate!$G$3:$H$168,2,FALSE))","v":""}]
["Commutation adjustment (enter as a negative any adjustment which reduces MRP and vice versa)",null,"Addasiad cyfnewid (nodwch rhif negyddol ar gyfer unrhyw addasiad sy'n gostwng yr MRP ac i'r gwrthwyneb)",{"$f":"IF(ISERROR(VLOOKUP(C1172,Translate!$G$3:$H$168,2,FALSE)),\"\",VLOOKUP(C1172,Translate!$G$3:$H$168,2,FALSE))","v":""}]
["Specific & special govt grants",null,"Grantiau penodol ac arbennig y llywodraeth",{"$f":"IF(ISERROR(VLOOKUP(C1173,Translate!$G$3:$H$168,2,FALSE)),\"\",VLOOKUP(C1173,Translate!$G$3:$H$168,2,FALSE))","v":""}]
["(£K 3 decimals)",null,"(£K i 3 lle degol)",{"$f":"IF(ISERROR(VLOOKUP(C1174,Translate!$G$3:$H$168,2,FALSE)),\"\",VLOOKUP(C1174,Translate!$G$3:$H$168,2,FALSE))","v":""}]
["For information",null,"Er gwybodaeth",{"$f":"IF(ISERROR(VLOOKUP(C1175,Translate!$G$3:$H$168,2,FALSE)),\"\",VLOOKUP(C1175,Translate!$G$3:$H$168,2,FALSE))","v":""}]
["Unitary authorities only",null,"Awdurdodau unedol yn unig",{"$f":"IF(ISERROR(VLOOKUP(C1176,Translate!$G$3:$H$168,2,FALSE)),\"\",VLOOKUP(C1176,Translate!$G$3:$H$168,2,FALSE))","v":""}]
["Unitary and Fire authorities only",null,"Awdurdodau unedol a thân yn unig",{"$f":"IF(ISERROR(VLOOKUP(C1177,Translate!$G$3:$H$168,2,FALSE)),\"\",VLOOKUP(C1177,Translate!$G$3:$H$168,2,FALSE))","v":""}]
["Unitary and National Park authorities only",null,"Awdurdodau unedol a Pharc Cenedlaethol yn unig",{"$f":"IF(ISERROR(VLOOKUP(C1178,Translate!$G$3:$H$168,2,FALSE)),\"\",VLOOKUP(C1178,Translate!$G$3:$H$168,2,FALSE))","v":""}]
["OPCCs only",null,"Swyddfeydd Comisiynydd Heddlu a Throsedd yn unig ",{"$f":"IF(ISERROR(VLOOKUP(C1179,Translate!$G$3:$H$168,2,FALSE)),\"\",VLOOKUP(C1179,Translate!$G$3:$H$168,2,FALSE))","v":""}]
["Unitary authorities and OPCCs only",null,"Awdurdodau unedol  a Swyddfeydd Comisiynydd Heddlu a Throsedd yn unig",{"$f":"IF(ISERROR(VLOOKUP(C1180,Translate!$G$3:$H$168,2,FALSE)),\"\",VLOOKUP(C1180,Translate!$G$3:$H$168,2,FALSE))","v":""}]
["select your authority",null,"Dewiswch eich awdurdod",{"$f":"IF(ISERROR(VLOOKUP(C1181,Translate!$G$3:$H$168,2,FALSE)),\"\",VLOOKUP(C1181,Translate!$G$3:$H$168,2,FALSE))","v":""}]
["Revenue Grants",null,"Grantiau Refeniw",{"$f":"IF(ISERROR(VLOOKUP(C1182,Translate!$G$3:$H$168,2,FALSE)),\"\",VLOOKUP(C1182,Translate!$G$3:$H$168,2,FALSE))","v":""}]
["Please note \"other\" lines - 198, 298 etc. are now automatically populated from the specification list at the bottom of the page.",null,"Nodwch llinellau \"eraill\" -198, 298 ayb maent bellach yn cael eu poblogi yn awtomatig o'r rhestr ar waelod y dudalen.",{"$f":"IF(ISERROR(VLOOKUP(C1183,Translate!$G$3:$H$168,2,FALSE)),\"\",VLOOKUP(C1183,Translate!$G$3:$H$168,2,FALSE))","v":""}]
["RG row",null,"Rhes RG ",{"$f":"IF(ISERROR(VLOOKUP(C1184,Translate!$G$3:$H$168,2,FALSE)),\"\",VLOOKUP(C1184,Translate!$G$3:$H$168,2,FALSE))","v":""}]
["Details of grants",null,"Manylion y grantiau",{"$f":"IF(ISERROR(VLOOKUP(C1185,Translate!$G$3:$H$168,2,FALSE)),\"\",VLOOKUP(C1185,Translate!$G$3:$H$168,2,FALSE))","v":""}]
["Revenue grants",null,"Grantiau refeniw",{"$f":"IF(ISERROR(VLOOKUP(C1186,Translate!$G$3:$H$168,2,FALSE)),\"\",VLOOKUP(C1186,Translate!$G$3:$H$168,2,FALSE))","v":""}]
["Capital financing grants and capital element of PFI",null,"Grantiau ariannu cyfalaf ac elfen gyfalaf y fenter cyllid preifat",{"$f":"IF(ISERROR(VLOOKUP(C1187,Translate!$G$3:$H$168,2,FALSE)),\"\",VLOOKUP(C1187,Translate!$G$3:$H$168,2,FALSE))","v":""}]
["Current grants",null,"Grantiau cyfredol",{"$f":"IF(ISERROR(VLOOKUP(C1188,Translate!$G$3:$H$168,2,FALSE)),\"\",VLOOKUP(C1188,Translate!$G$3:$H$168,2,FALSE))","v":""}]
["Included in",null,"Wedi’i cynnwys yn",{"$f":"IF(ISERROR(VLOOKUP(C1189,Translate!$G$3:$H$168,2,FALSE)),\"\",VLOOKUP(C1189,Translate!$G$3:$H$168,2,FALSE))","v":""}]
[{"$f":"\"RO \"&LEFT(year,4)&\"-\"&RIGHT(year,2)","v":"RO 2026-27"},null,{"$f":"\"RO \"&LEFT(year,4)&\"-\"&RIGHT(year,2)","v":"RO 2026-27"},{"$f":"IF(ISERROR(VLOOKUP(B1190,Translate!$G$3:$H$168,2,FALSE)),\"\",VLOOKUP(B1190,Translate!$G$3:$H$168,2,FALSE))","v":""}]
["5 x 60",null,"5 x 60",{"$f":"IF(ISERROR(VLOOKUP(B1191,Translate!$G$3:$H$168,2,FALSE)),\"\",VLOOKUP(B1191,Translate!$G$3:$H$168,2,FALSE))","v":""}]
["Communities First (education)",null,"Cymunedau’n Gyntaf (Addysg)"]
["Education Improvement Grant for Schools",null,"Grant Gwella addysg ar gyfer ysgolion"]
["Communities First (social services)",null,"Cymunedau’n Gyntaf (gwasanaethau cymdeithasol)"]
["Domestic Abuse Service Grant - DAC & IDVA",null,"Grant Gwasanaethau Cam-drin Domestig  - Cydlynwyr cam-drin domestig a chynghorwyr annibynnol ar drais domestig"]
["Youth Crime Prevention Fund",null,"Cronfa Atal Troseddu Ieuenctid "]
["Delivering Transformation",null,"Cyflwyno Trawsnewid"]
["Out of School Childcare",null,"Gofal plant tu allan i'r ysgol "]
["Rent rebates granted to HRA tenants",null,"Ad-daliadau rhent a roddwyd i denantiaid cyfrif refeniw tai"]
["Other Home Office, Department for Constitutional Affairs and Unified Courts Administration (specify on last page)",null,"Eraill o'r Swyddfa Gartref, yr Adran Materion Cyfansoddiadol a Gweinyddiaeth Llysoedd Unedig (nodwch ar dudalen olaf)"]
["Total Home Office, Department for Constitutional Affairs and Unified Courts Administration",null,"Cyfanswm y Swyddfa Gartref, yr Adran Materion Cyfansoddiadol a Gweinyddiaeth Llysoedd Unedig"]
["Flood and Coastal Erosion Risk Management",null,"Llifogydd ac erydu arfordirol"]
["Land Reclamation S16",null,"Adennill tir S16"]
["Town Centre Partnerships",null,"Partneriaethau Canol Tref"]
["Youth Work Strategy Support Grant",null,"Grant cymorth strategaeth gwaith ieuenctid"]
["CT1"]
["COUNCIL TAX DWELLINGS RETURN FOR",null,"FFURFLEN ANHEDDAU'R DRETH GYNGOR AR GYFER"]
["Please select your authority and if necessary, amend any incorrect details",null,"Dewiswch eich awdurdod a cywirwch eich cyfeiriad os oes angen"]
["please amend any incorrect contact details below:",null,"Os oes ange,cywirwch enw a rhif ffôn ein cyswllt mewn achos ymholiadau:-"]
["Name:",null,"Enw:"]
["E-mail (please enter N/A if unavailable):",null,"E-bost (nodwch N/A os nad oes ar gael):"]
["Telephone: STD code:",null,"Ffôn: Côd STD:"]
["Number and extension:",null,"Rhif ac estyniad:"]
[{"$f":"\"Authorities are required to calculate the council tax base for \"&year&\" with reference to dwellings shown on the valuation list for the authority as at 31 October \"&LEFT(Transfer!X2,4)&\" supplied to the authority under section 22B(7) of the Local Government Finance Act 1992.\"","v":"Authorities are required to calculate the council tax base for 2026-27 with reference to dwellings shown on the valuation list for the authority as at 31 October 2025 supplied to the authority under section 22B(7) of the Local Government Finance Act 1992."},null,{"$f":"\"Mae angen i awdurdodau gyfrifo'r sylfaen dreth gyngor ar gyfer \"&year&\" drwy gyfeirio at yr anheddau a ddangosir ar restr brisio'r awdurdod ar gyfer 31 Hydref \"&LEFT(Transfer!X2,4)&\" a gyflenwyd i'r awdurdod o dan adran 22B(7) o Ddeddf Cyllid Llywodraeth Leol 1992.\"","v":"Mae angen i awdurdodau gyfrifo'r sylfaen dreth gyngor ar gyfer 2026-27 drwy gyfeirio at yr anheddau a ddangosir ar restr brisio'r awdurdod ar gyfer 31 Hydref 2025 a gyflenwyd i'r awdurdod o dan adran 22B(7) o Ddeddf Cyllid Llywodraeth Leol 1992."}]
[{"$f":"\"The figures should also take account of changes to the valuation list that appear likely to occur during \"&year&\".\"","v":"The figures should also take account of changes to the valuation list that appear likely to occur during 2026-27."},null,{"$f":"\"Dylai'r ffigurau hefyd gymryd i ystyriaeth newidiadau i'r rhestr brisio sy'n debygol o ddigwydd yn ystod \"&year&\".\"","v":"Dylai'r ffigurau hefyd gymryd i ystyriaeth newidiadau i'r rhestr brisio sy'n debygol o ddigwydd yn ystod 2026-27."}]
["The information requested on this return must be submitted to the Welsh Government under section 68 of the Local Government Finance Act 1992.",null,"Mae'n rhaid cyflwyno'r wybodaeth y gofynnir amdani ar y ffurflen hon i Cynulliad Llywodraeth Cymru o dan adran 68 o Ddeddf Cyllid Llywodraeth Leol 1992. "]
["It is a Welsh Government audit requirement that all cells are completed.  Please ensure that all blank cells are populated with zeros, those that are not will be assumed to be zero."]
["Forms should be returned to the address below, according to the following timetable:",null,"Dylir ddychwelyd ffurflenni i'r cyfeiriad isod, yn ôl yr amserlen canlynol"]
["certified signed copy and spreadsheet                     ",null,"llofnodi copi ardystiedig a taenlen                 "]
["Local Government Financial Statistics Unit"]
["Welsh Government"]
["CP2"]
["Cathays Park"]
["Cardiff"]
["CF10 3NQ"]
["Queries on completion of the form or spreadsheet should be sent to:",null,"Dylid cyfeirio ymholiadau ynghylch cwblhau'r daenlen drwy ffôn neu e-bost,  fel a  ddangosir isod."]
["E-mail:",null,"E-bost:"]
["Telephone:",null,"Ffôn:"]
["Part A: Chargeable dwellings",null,"Rhan A: Anheddau trethadwy"]
["All chargeable dwellings",null,"Holl anheddau trethadwy"]
["Dwellings subject to disability reduction (included in line A1)",null,"Anheddau sy'n derbyn gostyngiad anabledd ( sy'n gynwysedig yn llinell A1 )"]
["Adjusted chargeable dwellings (taking into account disability reductions)",null,"Cyfanswm yr anheddau trethadwy wedi'i addasu ( gan gymryd i ystyriaeth y gostyngiadau anabledd )"]
["Part B: Adjusted chargeable dwellings  (see note 4)",null,"Rhan B: Cyfanswm yr anheddau trethadwy wedi'i addasu ( gweler nodyn 4 )"]
["Dwellings with no discount",null,"Anheddau heb disgownt"]
["Dwellings with a 25% discount",null,"Anheddau â gostyngiad o 25%"]
["Dwellings with a 50% discount",null,"Anheddau â gostyngiad o 50%"]
["Dwellings with a discount other than 25% or 50% (Part G, line 11)",null,"Anheddau â gostyngiad ar wahan i 25% neu 50% ( Rhan G, llinell 11 )"]
["Total adjusted chargeable dwellings  (=B1+B2+B3+B3a=A3)",null,"Cyfanswm yr anheddau trethadwy wedi'i addasu ( = B1 + B2 + B3 + B3a = A3 )"]
["Total variable discounts  (=Part G, line 12)",null,"Holl disgowntiau newidiol ( =Rhan G, llinell 12 )"]
["Validation check: B4 should equal A3",null,"Gwiriad dilysu: dylai B4 fod yn gyfartal ag A3"]
["Part C: Calculation of discounted chargeable dwellings",null,"Part C: Calculation of discounted chargeable dwellings"]
["not used",null,"allan o ddefnydd"]
["Total discounted dwellings  (=A3-(B2x0.25-B3x0.5)-B5)  (see note 5) ",null,"Holl anheddau â disgownt  ( = A3- ( B2  x 0.25 - B3 x 0.5 ) - B5 )  ( gweler nodyn 5 ) "]
["Ratio to band D",null,"Cymhareb â band D"]
["Band D equivalents  (=C2xC3)  (rounded to 2 decimal places)",null,"Cyfwerthoedd Band D  ( = C2 x C3 )  ( wedi'u talgrynnu i ddau le degol )"]
["Exempt dwellings Classes A to N and P to W \n(not included in sections A to C above) ",null,"Anheddau ag eithriadau Dosbarthiadau A i N a P i W \n( heb eu cynnwys yn adrannau A i C uchod )  ( gweler nodyn 6 )"]
["Exempt dwellings Class O \n(not included in sections A to C above) ",null,"Anheddau ag eithriad dosbarth O \n( heb eu cynnwys yn adrannau A i C uchod ) ( gweler nodiadau 6 a 7 )"]
["All dwellings in class A prescribed under Section 12 \n(included in section B above)  (see note 8)",null,"Holl anheddau dosbarth A sydd wedi'u pennu o dan Adran 12 (1) \n( wedi'u cynnwys yn adran B uchod ) ( gweler nodyn 8 )"]
["Discount for each dwelling in prescribed class A \n(enter percentage applied)  (see note 9)",null,"Holl anheddau dosbarth B sydd wedi'u pennu o dan Adran 12 (1) \n( wedi'u cynnwys yn rhan B uchod ) ( gweler nodyn 8 )"]
["All dwellings in class B prescribed under Section 12 \n(included in section B above)  (see note 8)",null,"Disgownt i bob annedd wedi'u pennu i ddosbarth B \n( nodwch y canran cymhwysol ) ( gweler nodyn 9 )"]
["Discount for each dwelling in prescribed class B  \n(enter percentage applied)  (see note 9)",null,"Holl anheddau dosbarth C sydd wedi'u pennu o dan Adran 12 (1) \n( wedi'u cynnwys yn rhan B uchod ) ( gweler nodyn 8 )"]
["All dwellings in class C prescribed under Section 12 \n(included in section B above)  (see note 8)",null,"Disgownt i bob annedd wedi'u pennu i ddosbarth C \n( nodwch y canran cymhwysol ) ( gweler nodyn 9 )"]
["Discount for each dwelling in prescribed class C  \n(enter percentage applied)  (see note 9)",null,"Disgownt i bob annedd wedi'u pennu i ddosbarth A \n( nodwch y canran cymhwysol ) ( gweler nodyn 9 )"]
["Validation check: D4=0, or between 0% and 50%",null,"Gwiriad dilysu: D4=0, neu rhwng 0% a 50%"]
["Validation check: D6=0, or between 0% and 50%",null,"Gwiriad dilysu: D4=0, neu rhwng 0% a 50%"]
["Validation check: D8=0, or between 0% and 50%",null,"Gwiriad dilysu: D4=0, neu rhwng 0% a 50%"]
["Valuation band",null,"band priso"]
["Total (= sum of band figures)",null,"Cyfanswm ( = swm ffigurau pob band )"]
["(sum of individual bands - carry to E1)",null,"( swm y bandiau unigol - cario i E1 )"]
["For Welsh Government Administration only",null,"Am gweinyddu Llywodraeth Cymru yn unig"]
["Part E: Calculation of council tax base",null,"Rhan E: Cyfrifo'r sylfaen dreth gyngor"]
["Chargeable dwellings: band D equivalents  (=C4 total)",null,"Anheddau trethadwy: cyfwerthoedd band D ( = cyfanswm C4 )"]
["Collection rate (please enter to 2 decimal places)",null,"Cyfradd gasglu ( wedi'i thalgrynnu i ddau le degol )"]
["= E1 x E2 (rounded to 2 decimal places)",null,"= E1 x E2 ( wedi'i dalgrynnu i ddau le degol )"]
["Class O exempt dwellings: band D equivalents  (please enter to 2 decimal places)",null,"Anheddau Dosbarth O wedi'u heithrio: cyfwerthoedd band D "]
["(see note 10)",null,"( nodwch i ddau le degol ) ( gweler nodyn 10 )"]
["Council tax base for tax-setting purposes  (=E3+E4)",null,"Y sylfaen dreth gyngor at ddiben pennu'r dreth ( = E3 + E4 )"]
["100% council tax base for calculating revenue support grant (=E5a+E4)",null,"100% o'r sylfaen dreth gyngor ar gyfer cyfrifo'r grant cynnal refeniw ( =E5a+E4)"]
["Part F: Exempt dwellings by class of exemption",null,"Rhan F: Anheddau wedi'u heithrio yn ôl dosbarth"]
["Class",null,"Dosbarth"]
["Total all classes",null,"Cyfanswm pob dosbarth"]
["(must match total of lines D1 and D2)",null,"( rhaid cyfateb i gyfanswm llinellau D1 a D2 )"]
["Validation check",null,"Gwiriad dilysu: "]
["Part G : Variable discounts",null,"Rhan G: Disgowntiau newidiol "]
["Area",null,"Ardal"]
["Enter the name of area",null,"Cofnodwch enw ardal"]
["* this may be 'whole authority', a single community area or a number of community areas",null,"* gall hyn fod yr 'awdurdod gyfan', ardal cymuned unigol neu nifer o ardaloedd cymunedol"]
["CERTIFICATE OF CHIEF FINANCIAL OFFICER",null,"ARDYSTIAD Y PRIF SWYDDOG CYLLID"]
["I certify that the council tax base shown in sections A to E above has been calculated by my authority in accordance with the Local Authorities (Calculation of Council Tax Base) Regulations 1995 (Wales) (SI 1995/2561) as amended.   Where indicated below, the figures have been approved, in accordance with section 67 of the Local Government Finance Act 1992, as amended by section 84 of the Local Government Act 2003.",null,"Tystiaf fod fy awdurdod wedi cyfrifo'r sylfaen dreth gyngor a'r ffigurau eraill a nodir ar y ffurflen hon yn unol â Rheoliadau Llywodraeth Leol (Cyfrifo Sylfaen Treth Gyngor) 1995 (Cymru) (OS 1995/2561) fel y'u diwygiwyd. Lle nodir isod, mae'r ffigurau wedi'u cymeradwyo, yn unol ag adran 67 o Ddeddf Cyllid Llywodraeth Leol 1992, fel y'u diwygiwyd gan adran 84 o Ddeddf Llywodraeth Leol 2003."]
["Please tick the appropriate box",null,"Nodwch tic yn y blwch proiodol"]
["The figures have not yet been approved;",null,"Nid yw'r ffigurau wedi'u cymeradwyo eto;"]
["the figures have been approved by executive decision;",null,"mae'r ffigurau wedi'u cymeradwyo trwy benderfyniad gweithredol;"]
["or",null,"neu"]
["the figures have been approved by the full council.",null,"mae'r ffigurau wedi'u cymeradwyo trwy gan y cyngor llawn."]
["Chief Financial Officer:   ",null,"Prif Swyddog Cyllid:"]
["Date:",null,"Dyddiad:"]
["Discount pecentage applied",null,"Canran disgownt wedi'i gymhwyso"]
["Properties",null,"Eiddo"]
["Discounts",null,"Disgowntiau"]
["Number of properties",null,"Nifer o eiddo"]
["Total number of properties",null,"Cyfanswm nifer o eiddo"]
["Band",null,"Band"]
["Difference"]
["Comments",null,"Sylwadau"]
["Please comment",null,"Rhowch sylwadau"]
["Part D: Memorandum items",null,"Rhan D: Eitemau Memorandwm"]
["Line",null,"Llinio"]
["Code",null,"Cod"]
["Year",null,"Blwyddyn"]
["final ratified taxbase",null,"Sylfaen treth derfynol wedi'i chadarnhau"]
["Any queries on completion of the form or spreadsheet should be directed in the first instance, via telephone or e-mail, as directed below:",null,"Dylech gyfeirio unrhyw ymholiadau ynghylch sut i gwblhau'r ffurflen, yn y lle cyntaf, drwy ffon neu e-bost, gan ddilyn y cyfarwyddyd isod:"]
["ID No",null,"Rhif ID"]
["Value",null,"Gwerth"]
["Status",null,"Statws"]
["Problem",null,"Problem"]
["Valuation Office Agency Check",null,"Gwiriad Asiantaeth y  Swyddfa Brisio"]
["Dwellings with no discount or premium (including long term empty properties and second homes with no discount or premium)",null,"Anheddau heb ddisgownt neu premiwm (gan gynnwys eiddo gwag hirdymor ac ail gartrefi heb ddisgownt neu premiwm)"]
["Dwellings with a 25% discount (excluding long term empty properties and second homes)",null,"Anheddau gyda disgownt o 25% (ag eithrio eiddo gwag hirdymor ac ail gartrefi heb ddisgownt)"]
["Dwellings with a 50% discount (excluding long term empty properties and second homes)",null,"Anheddau gyda disgownt o 50% (ag eithrio eiddo gwag hirdymor ac ail gartrefi heb ddisgownt)"]
["Dwellings with a variable discount other than 25% or 50% (Part G, line 11)",null,"Anheddau gyda disgownt amrywiol ag eithrio 25% neu 50% (Rhan G, llinell 11)"]
["Dwellings with long term empty property or second homes discount",null,"Anheddau gyda disgownt eiddo gwag hirdymor neu ail gartref"]
["Dwellings with long term empty property or second homes premium",null,"Anheddau gyda phremiwm eiddo gwag hirdymor neu ail gartref"]
["Total adjusted chargeable dwellings  (sum of B1 to B3c=A3)",null,"Cyfanswm yr anheddau a addaswyd sydd yn daladwy (cyfanswm o B1 i B3c=A3)"]
["Long term empty property and second homes discount adjustment",null,"Addasiad disgownt am eiddo gwag tymor hir ac ail gartref"]
["Long term empty property and second homes premium adjustment",null,"Addasiad premiwm am eiddo gwag tymor hir ac ail gartref"]
["Part C: Calculation of chargeable dwellings with discounts and premiums",null,"Rhan C: Cyfrifiad o anheddau sy'n daladwy gyda disgowntiau a phremiymau"]
["Total dwellings including discounts and premiums  (=A3-(B2ax0.25)-(B2bx0.5)-B5-B6+B7)  ",null,"Cyfanswm anheddau gan gynnwys disgowntiau a phremiymau (=A3-(B2ax0.25)-(B2bx0.5)-B5-B6+B7)  "]
["Discounted chargeable dwellings excluding long term empty and second homes adjustment",null,"Anheddau trethadwy gostyngedig ac eithrio addasiad tymor hir gwag ac ail gartref"]
["Please enter actual dwelling numbers",null,"Cofnodwch y nifer gwirioneddol o anheddau"]
["If the value of percentage discount/premium is not shown in the table please add the percentage value to the bottom rows of the \"Percentage discount\" or \"Percentage premium\" column. ",null,"Os nad yw gwerth y ganran disgownt/premiwm wedi ei ddangos yn y tabl, ychwanegwch y gwerth canran i  res waelod y golofn \"Canran disgownt\" neu \"Canran premiwm\""]
["Band D equivalents excluding long term empty and second homes adjustment",null,"Cyfwerthoedd Band D ac eithrio addasiad tymor hir gwag ac ail gartref"]
["Discount and premium adjustments",null,"Addasiadau disgownt a phremiwm"]
["Chargeable empty properties (over 6 months) with no discount or premium",null,"Eiddo gwag  trethadwy (dros 6 mis) heb unrhyw ddisgownt na phremiwm"]
["Chargeable second homes with no discount or premium",null,"Ail gartrefi sydd yn daladwy heb ddisgownt na phremiwm"]
["Empty Property Discount",null,"Disgownt eiddo gwag"]
["Please enter by band and percentage discount, the number of dwellings that are long term empty as at 31 October 2019.",null,"Cofnodwch, yn ôl band a'r ganran disgownt, nifer yr anheddau sydd yn wag am dymor hir ar 31 Hydref 2019."]
["Percentage Discount",null,"Canran disgownt"]
["Long term empty property premium (over 12 months) ",null,"Premiwm eiddo gwag hirdymor (dros 12 mis)"]
["Please enter by band and percentage the premium your authority charges for long term empty properties and not included in table above.",null,"Cofnodwch, yn ôl band a chanran, y premiwm y mae eich awdurdod yn ei godi ar gyfer eiddo gwag hirdymor nad yw wedi ei  gynnwys yn y tabl uchod"]
["Percentage Premium",null,"Canran premiwm"]
["Second Homes Discount",null,"Disgownt ail gartref"]
["Please enter by band and percentage the discount your authority awards for dwellings registered as second homes",null,"Cofnodwch, yn ôl band a chanran, y disgownt y mae eich awdurdod yn ei ddyfarnu ar gyfer anheddau a gofrestrir fel ail gartrefi"]
["Second Homes Premium",null,"Premiwm ail gartref"]
["Please enter by band and percentage the premium your authority charges for dwellings registered as second homes and not included in table above.",null,"Cofnodwch, yn ôl band a chanran, y premiwm y mae eich awdurdod yn ei godi ar gyfer anheddau a gofrestrir fel ail gartrefi nad yw wedi ei gynnwys yn y tabl uchod"]
["Total chargeable empty properties",null,"Cyfanswm eiddo gwag sy'n daladwy"]
["Total chargeable second homes",null,"Cyfanswm ail gartrefi sy'n daladwy"]
["Dwelling equivalents"," ","Cyfwerthoedd anheddau"]
["Reduction due to long term Empty Property Discount",null,"Gostyngiad oherwydd disgownt eiddo gwag hirdymor"]
["Increase due to long term Empty Property Premium",null,"Cynnydd oherwydd premiwm eiddo gwag hirdymor"]
["Reduction due to Second Homes discount",null,"Gostyngiad oherwydd disgownt ail gartref"]
["Increase due to Second Homes Premium",null,"Cynnydd oherwydd disgownt ail gartref"]
["Please check the validation sheet before sending the form.",null,"Gwiriwch y daenlen ddilysu cyn anfon y  ffurflen"]
["Part H: Chargeable empty properties and second homes - exclude exemptions",null,"Rhan H: Eiddo gwag ac ail gartrefi y codir tâl amdanynt - ag eithrio eithriadau"]
["Total discounted dwellings excluding premium adjustment ",null,"Cyfanswm yr anheddau disgowntiedig ag eithrio addasiad premiwm"]
["Validation checks  -  please insert comments where requested",null,"Gwiriadau dilysu - ychwanegwch sylwadau lle gofynnir am hynny"]
["PartsAtoD exempt totals",null,"Cyfansymiau wedi'u heithrio PartsAtoD"]
["Total of lines",null,"Cyfanswm llinellau"]
["Total discounted dwellings excluding long term empty and second homes adjustment",null,"Cyfanswm anheddau gostyngedig ac eithrio addasiad tymor hir gwag ac ail gartref"]
["Empty property discount",null,"Disgownt eiddo gwag"]
["100% council tax base for calculating revenue support grant (=E5b+E4)",null,"100% o'r sylfaen dreth gyngor ar gyfer cyfrifo'r grant cynnal refeniw ( =E5b+E4)"]
["Please enter by band and percentage discount, the number of dwellings that are empty.",null,"Nodwch yn ôl band a gostyngiad canrannol, nifer yr anheddau sy'n wag."]

{"sheet":"Text","index":13,"n_rows":156,"n_cols":6,"rows_kept":156,"hidden":true}
["Text Conversion Tables"]
["Row Ref","English Text","Line Info E","Welsh Text","Line Info W","Display Text"]
["FrontPage"]
[null,"COUNCIL TAX DWELLINGS RETURN FOR",null,{"$f":"VLOOKUP(B4,Translate!$A$3:$D$1363,3,FALSE)","v":"FFURFLEN ANHEDDAU'R DRETH GYNGOR AR GYFER"},{"$f":"IF(ISERROR(VLOOKUP(C4,Translate!$A$3:$D$1254,3,FALSE)),\"\",VLOOKUP(C4,Translate!$A$3:$D$1254,3,FALSE))","v":""},{"$f":"IF(FrontPage!$L$4=1,D4&E4,B4&C4)","v":"FFURFLEN ANHEDDAU'R DRETH GYNGOR AR GYFER"}]
[null,"Please select your authority and if necessary, amend any incorrect details",null,{"$f":"VLOOKUP(B5,Translate!$A$3:$D$1363,3,FALSE)","v":"Dewiswch eich awdurdod a cywirwch eich cyfeiriad os oes angen"},{"$f":"IF(ISERROR(VLOOKUP(C5,Translate!$A$3:$D$1254,3,FALSE)),\"\",VLOOKUP(C5,Translate!$A$3:$D$1254,3,FALSE))","v":""},{"$f":"IF(FrontPage!$L$4=1,D5&E5,B5&C5)","v":"Dewiswch eich awdurdod a cywirwch eich cyfeiriad os oes angen"}]
[null,"please amend any incorrect contact details below:",null,{"$f":"VLOOKUP(B6,Translate!$A$3:$D$1363,3,FALSE)","v":"Os oes ange,cywirwch enw a rhif ffôn ein cyswllt mewn achos ymholiadau:-"},{"$f":"IF(ISERROR(VLOOKUP(C6,Translate!$A$3:$D$1254,3,FALSE)),\"\",VLOOKUP(C6,Translate!$A$3:$D$1254,3,FALSE))","v":""},{"$f":"IF(FrontPage!$L$4=1,D6&E6,B6&C6)","v":"Os oes ange,cywirwch enw a rhif ffôn ein cyswllt mewn achos ymholiadau:-"}]
[null,"Name:",null,{"$f":"VLOOKUP(B7,Translate!$A$3:$D$1363,3,FALSE)","v":"Enw:"},{"$f":"IF(ISERROR(VLOOKUP(C7,Translate!$A$3:$D$1254,3,FALSE)),\"\",VLOOKUP(C7,Translate!$A$3:$D$1254,3,FALSE))","v":""},{"$f":"IF(FrontPage!$L$4=1,D7&E7,B7&C7)","v":"Enw:"}]
[null,"E-mail (please enter N/A if unavailable):",null,{"$f":"VLOOKUP(B8,Translate!$A$3:$D$1363,3,FALSE)","v":"E-bost (rhowch Amh os nad yw ar gael):"},{"$f":"IF(ISERROR(VLOOKUP(C8,Translate!$A$3:$D$1254,3,FALSE)),\"\",VLOOKUP(C8,Translate!$A$3:$D$1254,3,FALSE))","v":""},{"$f":"IF(FrontPage!$L$4=1,D8&E8,B8&C8)","v":"E-bost (rhowch Amh os nad yw ar gael):"}]
[null,"Telephone: STD code:",null,{"$f":"VLOOKUP(B9,Translate!$A$3:$D$1363,3,FALSE)","v":"Ffôn: Cod STD:"},{"$f":"IF(ISERROR(VLOOKUP(C9,Translate!$A$3:$D$1254,3,FALSE)),\"\",VLOOKUP(C9,Translate!$A$3:$D$1254,3,FALSE))","v":""},{"$f":"IF(FrontPage!$L$4=1,D9&E9,B9&C9)","v":"Ffôn: Cod STD:"}]
[null,"Number and extension:",null,{"$f":"VLOOKUP(B10,Translate!$A$3:$D$1363,3,FALSE)","v":"Rhif ac estyniad:"},{"$f":"IF(ISERROR(VLOOKUP(C10,Translate!$A$3:$D$1254,3,FALSE)),\"\",VLOOKUP(C10,Translate!$A$3:$D$1254,3,FALSE))","v":""},{"$f":"IF(FrontPage!$L$4=1,D10&E10,B10&C10)","v":"Rhif ac estyniad:"}]
[null,{"$f":"\"Authorities are required to calculate the council tax base for \"&year&\" with reference to dwellings shown on the valuation list for the authority as at 31 October \"&LEFT(Transfer!X2,4)&\" supplied to the authority under section 22B(7) of the Local Government Finance Act 1992.\"","v":"Authorities are required to calculate the council tax base for 2026-27 with reference to dwellings shown on the valuation list for the authority as at 31 October 2025 supplied to the authority under section 22B(7) of the Local Government Finance Act 1992."},null,{"$f":"VLOOKUP(B11,Translate!$A$3:$D$1363,3,FALSE)","v":"Mae angen i awdurdodau gyfrifo'r sylfaen dreth gyngor ar gyfer 2026-27 drwy gyfeirio at yr anheddau a ddangosir ar restr brisio'r awdurdod ar gyfer 31 Hydref 2025 a gyflenwyd i'r awdurdod o dan adran 22B(7) o Ddeddf Cyllid Llywodraeth Leol 1992."},{"$f":"IF(ISERROR(VLOOKUP(C11,Translate!$A$3:$D$1254,3,FALSE)),\"\",VLOOKUP(C11,Translate!$A$3:$D$1254,3,FALSE))","v":""},{"$f":"IF(FrontPage!$L$4=1,D11&E11,B11&C11)","v":"Mae angen i awdurdodau gyfrifo'r sylfaen dreth gyngor ar gyfer 2026-27 drwy gyfeirio at yr anheddau a ddangosir ar restr brisio'r awdurdod ar gyfer 31 Hydref 2025 a gyflenwyd i'r awdurdod o dan adran 22B(7) o Ddeddf Cyllid Llywodraeth Leol 1992."}]
[null,{"$f":"\"The figures should also take account of changes to the valuation list that appear likely to occur during \"&year&\".\"","v":"The figures should also take account of changes to the valuation list that appear likely to occur during 2026-27."},null,{"$f":"VLOOKUP(B12,Translate!$A$3:$D$1363,3,FALSE)","v":"Dylai'r ffigurau hefyd gymryd i ystyriaeth newidiadau i'r rhestr brisio sy'n debygol o ddigwydd yn ystod 2026-27."},{"$f":"IF(ISERROR(VLOOKUP(C12,Translate!$A$3:$D$1254,3,FALSE)),\"\",VLOOKUP(C12,Translate!$A$3:$D$1254,3,FALSE))","v":""},{"$f":"IF(FrontPage!$L$4=1,D12&E12,B12&C12)","v":"Dylai'r ffigurau hefyd gymryd i ystyriaeth newidiadau i'r rhestr brisio sy'n debygol o ddigwydd yn ystod 2026-27."}]
[null,"The information requested on this return must be submitted to the Welsh Government under section 68 of the Local Government Finance Act 1992.",null,{"$f":"VLOOKUP(B13,Translate!$A$3:$D$1363,3,FALSE)","v":"Mae'n rhaid cyflwyno'r wybodaeth y gofynnir amdani ar y ffurflen hon i Cynulliad Llywodraeth Cymru o dan adran 68 o Ddeddf Cyllid Llywodraeth Leol 1992. "},{"$f":"IF(ISERROR(VLOOKUP(C13,Translate!$A$3:$D$1254,3,FALSE)),\"\",VLOOKUP(C13,Translate!$A$3:$D$1254,3,FALSE))","v":""},{"$f":"IF(FrontPage!$L$4=1,D13&E13,B13&C13)","v":"Mae'n rhaid cyflwyno'r wybodaeth y gofynnir amdani ar y ffurflen hon i Cynulliad Llywodraeth Cymru o dan adran 68 o Ddeddf Cyllid Llywodraeth Leol 1992. "}]
[null,"Please check the validation sheet before sending the form.",null,{"$f":"VLOOKUP(B14,Translate!$A$3:$D$1363,3,FALSE)","v":"Gwiriwch y daenlen ddilysu cyn anfon y  ffurflen"},{"$f":"IF(ISERROR(VLOOKUP(C14,Translate!$A$3:$D$1254,3,FALSE)),\"\",VLOOKUP(C14,Translate!$A$3:$D$1254,3,FALSE))","v":""},{"$f":"IF(FrontPage!$L$4=1,D14&E14,B14&C14)","v":"Gwiriwch y daenlen ddilysu cyn anfon y  ffurflen"}]
[null,"Forms should be returned to the address below, according to the following timetable:",null,{"$f":"VLOOKUP(B15,Translate!$A$3:$D$1363,3,FALSE)","v":"Dylir ddychwelyd ffurflenni i'r cyfeiriad isod, yn ôl yr amserlen canlynol"},{"$f":"IF(ISERROR(VLOOKUP(C15,Translate!$A$3:$D$1254,3,FALSE)),\"\",VLOOKUP(C15,Translate!$A$3:$D$1254,3,FALSE))","v":""},{"$f":"IF(FrontPage!$L$4=1,D15&E15,B15&C15)","v":"Dylir ddychwelyd ffurflenni i'r cyfeiriad isod, yn ôl yr amserlen canlynol"}]
[null,"certified signed copy and spreadsheet                     ",null,{"$f":"VLOOKUP(B16,Translate!$A$3:$D$1363,3,FALSE)","v":"llofnodi copi ardystiedig a taenlen                 "},{"$f":"IF(ISERROR(VLOOKUP(C16,Translate!$A$3:$D$1254,3,FALSE)),\"\",VLOOKUP(C16,Translate!$A$3:$D$1254,3,FALSE))","v":""},{"$f":"IF(FrontPage!$L$4=1,D16&E16,B16&C16)","v":"llofnodi copi ardystiedig a taenlen                 "}]
[null,"final ratified taxbase",null,{"$f":"VLOOKUP(B17,Translate!$A$3:$D$1363,3,FALSE)","v":"Sylfaen treth derfynol wedi'i chadarnhau"},{"$f":"IF(ISERROR(VLOOKUP(C17,Translate!$A$3:$D$1254,3,FALSE)),\"\",VLOOKUP(C17,Translate!$A$3:$D$1254,3,FALSE))","v":""},{"$f":"IF(FrontPage!$L$4=1,D17&E17,B17&C17)","v":"Sylfaen treth derfynol wedi'i chadarnhau"}]
[null,"Any queries on completion of the form or spreadsheet should be directed in the first instance, via telephone or e-mail, as directed below:",null,{"$f":"VLOOKUP(B18,Translate!$A$3:$D$1363,3,FALSE)","v":"Dylech gyfeirio unrhyw ymholiadau ynghylch sut i gwblhau'r ffurflen, yn y lle cyntaf, drwy ffon neu e-bost, gan ddilyn y cyfarwyddyd isod:"},{"$f":"IF(ISERROR(VLOOKUP(C18,Translate!$A$3:$D$1254,3,FALSE)),\"\",VLOOKUP(C18,Translate!$A$3:$D$1254,3,FALSE))","v":""},{"$f":"IF(FrontPage!$L$4=1,D18&E18,B18&C18)","v":"Dylech gyfeirio unrhyw ymholiadau ynghylch sut i gwblhau'r ffurflen, yn y lle cyntaf, drwy ffon neu e-bost, gan ddilyn y cyfarwyddyd isod:"}]
[null,"It is a Welsh Government audit requirement that all cells are completed.  Please ensure that all blank cells are populated with zeros, those that are not will be assumed to be zero.",null,{"$f":"VLOOKUP(B19,Translate!$A$3:$D$1363,3,FALSE)","v":"Mae'n un o ofynion archwiliadau Llywodraeth Cymru fod pob cell yn cael ei llenwi. Gwnewch yn siŵr fod sero ym mhob cell wag. Cymerir yn ganiataol mai sero yw gwerth pob cell sydd heb ei llenwi."},{"$f":"IF(ISERROR(VLOOKUP(C19,Translate!$A$3:$D$1256,3,FALSE)),\"\",VLOOKUP(C19,Translate!$A$3:$D$1256,3,FALSE))","v":""},{"$f":"IF(FrontPage!$L$4=1,D19&E19,B19&C19)","v":"Mae'n un o ofynion archwiliadau Llywodraeth Cymru fod pob cell yn cael ei llenwi. Gwnewch yn siŵr fod sero ym mhob cell wag. Cymerir yn ganiataol mai sero yw gwerth pob cell sydd heb ei llenwi."}]
[null,"Local Government Financial Statistics Unit,",null,{"$f":"VLOOKUP(B20,Translate!$A$3:$D$1363,3,FALSE)","v":"Uned Ystadegau Ariannol Llywodraeth Leol,"},{"$f":"IF(ISERROR(VLOOKUP(C20,Translate!$A$3:$D$1254,3,FALSE)),\"\",VLOOKUP(C20,Translate!$A$3:$D$1254,3,FALSE))","v":""},{"$f":"IF(FrontPage!$L$4=1,D20&E20,B20&C20)","v":"Uned Ystadegau Ariannol Llywodraeth Leol,"}]
[null,"Welsh Government,",null,{"$f":"VLOOKUP(B21,Translate!$A$3:$D$1363,3,FALSE)","v":"Llywodraeth Cymru,"},{"$f":"IF(ISERROR(VLOOKUP(C21,Translate!$A$3:$D$1254,3,FALSE)),\"\",VLOOKUP(C21,Translate!$A$3:$D$1254,3,FALSE))","v":""},{"$f":"IF(FrontPage!$L$4=1,D21&E21,B21&C21)","v":"Llywodraeth Cymru,"}]
[null,"CP2",null,"CP2",{"$f":"IF(ISERROR(VLOOKUP(C22,Translate!$A$3:$D$1254,3,FALSE)),\"\",VLOOKUP(C22,Translate!$A$3:$D$1254,3,FALSE))","v":""},{"$f":"IF(FrontPage!$L$4=1,D22&E22,B22&C22)","v":"CP2"}]
[null,"Cathays Park,",null,{"$f":"VLOOKUP(B23,Translate!$A$3:$D$1363,3,FALSE)","v":"Parc Cathays,"},{"$f":"IF(ISERROR(VLOOKUP(C23,Translate!$A$3:$D$1254,3,FALSE)),\"\",VLOOKUP(C23,Translate!$A$3:$D$1254,3,FALSE))","v":""},{"$f":"IF(FrontPage!$L$4=1,D23&E23,B23&C23)","v":"Parc Cathays,"}]
[null,"CARDIFF,",null,{"$f":"VLOOKUP(B24,Translate!$A$3:$D$1363,3,FALSE)","v":"CAERDYDD"},{"$f":"IF(ISERROR(VLOOKUP(C24,Translate!$A$3:$D$1254,3,FALSE)),\"\",VLOOKUP(C24,Translate!$A$3:$D$1254,3,FALSE))","v":""},{"$f":"IF(FrontPage!$L$4=1,D24&E24,B24&C24)","v":"CAERDYDD"}]
[null,"CF10 3NQ.",null,{"$f":"VLOOKUP(B25,Translate!$A$3:$D$1363,3,FALSE)","v":"CF10 3NQ"},{"$f":"IF(ISERROR(VLOOKUP(C25,Translate!$A$3:$D$1254,3,FALSE)),\"\",VLOOKUP(C25,Translate!$A$3:$D$1254,3,FALSE))","v":""},{"$f":"IF(FrontPage!$L$4=1,D25&E25,B25&C25)","v":"CF10 3NQ"}]
[null,"E-mail:",null,{"$f":"VLOOKUP(B26,Translate!$A$3:$D$1363,3,FALSE)","v":"E-bost:"},{"$f":"IF(ISERROR(VLOOKUP(C26,Translate!$A$3:$D$1254,3,FALSE)),\"\",VLOOKUP(C26,Translate!$A$3:$D$1254,3,FALSE))","v":""},{"$f":"IF(FrontPage!$L$4=1,D26&E26,B26&C26)","v":"E-bost:"}]
[null,"Telephone:",null,{"$f":"VLOOKUP(B27,Translate!$A$3:$D$1363,3,FALSE)","v":"Ffôn:"},{"$f":"IF(ISERROR(VLOOKUP(C27,Translate!$A$3:$D$1254,3,FALSE)),\"\",VLOOKUP(C27,Translate!$A$3:$D$1254,3,FALSE))","v":""},{"$f":"IF(FrontPage!$L$4=1,D27&E27,B27&C27)","v":"Ffôn:"}]
[null,"Code",null,{"$f":"VLOOKUP(B28,Translate!$A$3:$D$1363,3,FALSE)","v":"Cod"},{"$f":"IF(ISERROR(VLOOKUP(C28,Translate!$A$3:$D$1254,3,FALSE)),\"\",VLOOKUP(C28,Translate!$A$3:$D$1254,3,FALSE))","v":""},{"$f":"IF(FrontPage!$L$4=1,D28&E28,B28&C28)","v":"Cod"}]
[null,"Authority",null,{"$f":"VLOOKUP(B29,Translate!$A$3:$D$1363,3,FALSE)","v":"Awdurdod"},{"$f":"IF(ISERROR(VLOOKUP(C29,Translate!$A$3:$D$1254,3,FALSE)),\"\",VLOOKUP(C29,Translate!$A$3:$D$1254,3,FALSE))","v":""},{"$f":"IF(FrontPage!$L$4=1,D29&E29,B29&C29)","v":"Awdurdod"}]
["PARTSAtoD",{"$nulls":3},{"$f":"IF(ISERROR(VLOOKUP(C30,Translate!$A$3:$D$1254,3,FALSE)),\"\",VLOOKUP(C30,Translate!$A$3:$D$1254,3,FALSE))","v":""},{"$f":"IF(FrontPage!$L$4=1,D30&E30,B30&C30)","v":""}]
[null,"Part A: Chargeable dwellings",null,{"$f":"VLOOKUP(B31,Translate!$A$3:$D$1363,3,FALSE)","v":"Rhan A: Anheddau trethadwy"},{"$f":"IF(ISERROR(VLOOKUP(C31,Translate!$A$3:$D$1254,3,FALSE)),\"\",VLOOKUP(C31,Translate!$A$3:$D$1254,3,FALSE))","v":""},{"$f":"IF(FrontPage!$L$4=1,D31&E31,B31&C31)","v":"Rhan A: Anheddau trethadwy"}]
["A1","All chargeable dwellings",null,{"$f":"VLOOKUP(B32,Translate!$A$3:$D$1363,3,FALSE)","v":"Holl anheddau trethadwy"},{"$f":"IF(ISERROR(VLOOKUP(C32,Translate!$A$3:$D$1254,3,FALSE)),\"\",VLOOKUP(C32,Translate!$A$3:$D$1254,3,FALSE))","v":""},{"$f":"IF(FrontPage!$L$4=1,D32&E32,B32&C32)","v":"Holl anheddau trethadwy"}]
["A2","Dwellings subject to disability reduction (included in line A1)",null,{"$f":"VLOOKUP(B33,Translate!$A$3:$D$1363,3,FALSE)","v":"Anheddau sy'n derbyn gostyngiad anabledd ( sy'n gynwysedig yn llinell A1 )"},{"$f":"IF(ISERROR(VLOOKUP(C33,Translate!$A$3:$D$1254,3,FALSE)),\"\",VLOOKUP(C33,Translate!$A$3:$D$1254,3,FALSE))","v":""},{"$f":"IF(FrontPage!$L$4=1,D33&E33,B33&C33)","v":"Anheddau sy'n derbyn gostyngiad anabledd ( sy'n gynwysedig yn llinell A1 )"}]
["A3","Adjusted chargeable dwellings (taking into account disability reductions)",null,{"$f":"VLOOKUP(B34,Translate!$A$3:$D$1363,3,FALSE)","v":"Cyfanswm yr anheddau trethadwy wedi'i addasu ( gan gymryd i ystyriaeth y gostyngiadau anabledd )"},{"$f":"IF(ISERROR(VLOOKUP(C34,Translate!$A$3:$D$1254,3,FALSE)),\"\",VLOOKUP(C34,Translate!$A$3:$D$1254,3,FALSE))","v":""},{"$f":"IF(FrontPage!$L$4=1,D34&E34,B34&C34)","v":"Cyfanswm yr anheddau trethadwy wedi'i addasu ( gan gymryd i ystyriaeth y gostyngiadau anabledd )"}]
[null,"Part B: Adjusted chargeable dwellings  (see note 4)",null,{"$f":"VLOOKUP(B35,Translate!$A$3:$D$1363,3,FALSE)","v":"Rhan B: Cyfanswm yr anheddau trethadwy wedi'i addasu ( gweler nodyn 4 )"},{"$f":"IF(ISERROR(VLOOKUP(C35,Translate!$A$3:$D$1254,3,FALSE)),\"\",VLOOKUP(C35,Translate!$A$3:$D$1254,3,FALSE))","v":""},{"$f":"IF(FrontPage!$L$4=1,D35&E35,B35&C35)","v":"Rhan B: Cyfanswm yr anheddau trethadwy wedi'i addasu ( gweler nodyn 4 )"}]
["B1","Dwellings with no discount or premium (including long term empty properties and second homes with no discount or premium)",null,{"$f":"VLOOKUP(B36,Translate!$A$3:$D$1363,3,FALSE)","v":"Anheddau heb ddisgownt neu premiwm (gan gynnwys eiddo gwag hirdymor ac ail gartrefi heb ddisgownt neu premiwm)"},{"$f":"IF(ISERROR(VLOOKUP(C36,Translate!$A$3:$D$1254,3,FALSE)),\"\",VLOOKUP(C36,Translate!$A$3:$D$1254,3,FALSE))","v":""},{"$f":"IF(FrontPage!$L$4=1,D36&E36,B36&C36)","v":"Anheddau heb ddisgownt neu premiwm (gan gynnwys eiddo gwag hirdymor ac ail gartrefi heb ddisgownt neu premiwm)"}]
["B2a","Dwellings with a 25% discount (excluding long term empty properties and second homes)",null,{"$f":"VLOOKUP(B37,Translate!$A$3:$D$1363,3,FALSE)","v":"Anheddau gyda disgownt o 25% (ag eithrio eiddo gwag hirdymor ac ail gartrefi heb ddisgownt)"},{"$f":"IF(ISERROR(VLOOKUP(C37,Translate!$A$3:$D$1254,3,FALSE)),\"\",VLOOKUP(C37,Translate!$A$3:$D$1254,3,FALSE))","v":""},{"$f":"IF(FrontPage!$L$4=1,D37&E37,B37&C37)","v":"Anheddau gyda disgownt o 25% (ag eithrio eiddo gwag hirdymor ac ail gartrefi heb ddisgownt)"}]
["B2b","Dwellings with a 50% discount (excluding long term empty properties and second homes)",null,{"$f":"VLOOKUP(B38,Translate!$A$3:$D$1363,3,FALSE)","v":"Anheddau gyda disgownt o 50% (ag eithrio eiddo gwag hirdymor ac ail gartrefi heb ddisgownt)"},{"$f":"IF(ISERROR(VLOOKUP(C38,Translate!$A$3:$D$1254,3,FALSE)),\"\",VLOOKUP(C38,Translate!$A$3:$D$1254,3,FALSE))","v":""},{"$f":"IF(FrontPage!$L$4=1,D38&E38,B38&C38)","v":"Anheddau gyda disgownt o 50% (ag eithrio eiddo gwag hirdymor ac ail gartrefi heb ddisgownt)"}]
["B3a","Dwellings with a variable discount other than 25% or 50% (Part G, line 11)",null,{"$f":"VLOOKUP(B39,Translate!$A$3:$D$1363,3,FALSE)","v":"Anheddau gyda disgownt amrywiol ag eithrio 25% neu 50% (Rhan G, llinell 11)"},{"$f":"IF(ISERROR(VLOOKUP(C39,Translate!$A$3:$D$1254,3,FALSE)),\"\",VLOOKUP(C39,Translate!$A$3:$D$1254,3,FALSE))","v":""},{"$f":"IF(FrontPage!$L$4=1,D39&E39,B39&C39)","v":"Anheddau gyda disgownt amrywiol ag eithrio 25% neu 50% (Rhan G, llinell 11)"}]
["B3b","Dwellings with long term empty property or second homes discount",null,{"$f":"VLOOKUP(B40,Translate!$A$3:$D$1363,3,FALSE)","v":"Anheddau gyda disgownt eiddo gwag hirdymor neu ail gartref"},{"$f":"IF(ISERROR(VLOOKUP(C40,Translate!$A$3:$D$1254,3,FALSE)),\"\",VLOOKUP(C40,Translate!$A$3:$D$1254,3,FALSE))","v":""},{"$f":"IF(FrontPage!$L$4=1,D40&E40,B40&C40)","v":"Anheddau gyda disgownt eiddo gwag hirdymor neu ail gartref"}]
["B3c","Dwellings with long term empty property or second homes premium",null,{"$f":"VLOOKUP(B41,Translate!$A$3:$D$1363,3,FALSE)","v":"Anheddau gyda phremiwm eiddo gwag hirdymor neu ail gartref"},{"$f":"IF(ISERROR(VLOOKUP(C41,Translate!$A$3:$D$1254,3,FALSE)),\"\",VLOOKUP(C41,Translate!$A$3:$D$1254,3,FALSE))","v":""},{"$f":"IF(FrontPage!$L$4=1,D41&E41,B41&C41)","v":"Anheddau gyda phremiwm eiddo gwag hirdymor neu ail gartref"}]
["B4.","Total adjusted chargeable dwellings  (sum of B1 to B3c=A3)",null,{"$f":"VLOOKUP(B42,Translate!$A$3:$D$1363,3,FALSE)","v":"Cyfanswm yr anheddau a addaswyd sydd yn daladwy (cyfanswm o B1 i B3c=A3)"},{"$f":"IF(ISERROR(VLOOKUP(C42,Translate!$A$3:$D$1254,3,FALSE)),\"\",VLOOKUP(C42,Translate!$A$3:$D$1254,3,FALSE))","v":""},{"$f":"IF(FrontPage!$L$4=1,D42&E42,B42&C42)","v":"Cyfanswm yr anheddau a addaswyd sydd yn daladwy (cyfanswm o B1 i B3c=A3)"}]
[null,"Discount and premium adjustments",null,{"$f":"VLOOKUP(B43,Translate!$A$3:$D$1363,3,FALSE)","v":"Addasiadau disgownt a phremiwm"},{"$f":"IF(ISERROR(VLOOKUP(C43,Translate!$A$3:$D$1254,3,FALSE)),\"\",VLOOKUP(C43,Translate!$A$3:$D$1254,3,FALSE))","v":""},{"$f":"IF(FrontPage!$L$4=1,D43&E43,B43&C43)","v":"Addasiadau disgownt a phremiwm"}]
["B5","Total variable discounts  (=Part G, line 12)",null,{"$f":"VLOOKUP(B44,Translate!$A$3:$D$1363,3,FALSE)","v":"Holl disgowntiau newidiol ( =Rhan G, llinell 12 )"},{"$f":"IF(ISERROR(VLOOKUP(C44,Translate!$A$3:$D$1254,3,FALSE)),\"\",VLOOKUP(C44,Translate!$A$3:$D$1254,3,FALSE))","v":""},{"$f":"IF(FrontPage!$L$4=1,D44&E44,B44&C44)","v":"Holl disgowntiau newidiol ( =Rhan G, llinell 12 )"}]
[null,"Validation check: B4 should equal A3",null,{"$f":"VLOOKUP(B45,Translate!$A$3:$D$1363,3,FALSE)","v":"Gwiriad dilysu: dylai B4 fod yn gyfartal ag A3"},{"$f":"IF(ISERROR(VLOOKUP(C45,Translate!$A$3:$D$1254,3,FALSE)),\"\",VLOOKUP(C45,Translate!$A$3:$D$1254,3,FALSE))","v":""},{"$f":"IF(FrontPage!$L$4=1,D45&E45,B45&C45)","v":"Gwiriad dilysu: dylai B4 fod yn gyfartal ag A3"}]
[null,"Part C: Calculation of chargeable dwellings with discounts and premiums",null,{"$f":"VLOOKUP(B46,Translate!$A$3:$D$1363,3,FALSE)","v":"Rhan C: Cyfrifiad o anheddau sy'n daladwy gyda disgowntiau a phremiymau"},{"$f":"IF(ISERROR(VLOOKUP(C46,Translate!$A$3:$D$1254,3,FALSE)),\"\",VLOOKUP(C46,Translate!$A$3:$D$1254,3,FALSE))","v":""},{"$f":"IF(FrontPage!$L$4=1,D46&E46,B46&C46)","v":"Rhan C: Cyfrifiad o anheddau sy'n daladwy gyda disgowntiau a phremiymau"}]
["B6","Long term empty property and second homes discount adjustment"," (Part H, line 9g, 11g)",{"$f":"VLOOKUP(B47,Translate!$A$3:$D$1363,3,FALSE)","v":"Addasiad disgownt am eiddo gwag tymor hir ac ail gartref"}," (Rhan H, llinio 9g, 11g)",{"$f":"IF(FrontPage!$L$4=1,D47&E47,B47&C47)","v":"Addasiad disgownt am eiddo gwag tymor hir ac ail gartref (Rhan H, llinio 9g, 11g)"}]
["B7","Long term empty property and second homes premium adjustment"," (Part H, line 10g, 12g)",{"$f":"VLOOKUP(B48,Translate!$A$3:$D$1363,3,FALSE)","v":"Addasiad premiwm am eiddo gwag tymor hir ac ail gartref"}," (Rhan H, llinio 10g, 12g)",{"$f":"IF(FrontPage!$L$4=1,D48&E48,B48&C48)","v":"Addasiad premiwm am eiddo gwag tymor hir ac ail gartref (Rhan H, llinio 10g, 12g)"}]
["C1","not used",null,{"$f":"VLOOKUP(B49,Translate!$A$3:$D$1363,3,FALSE)","v":"heb ei ddefnyddio"},{"$f":"IF(ISERROR(VLOOKUP(C49,Translate!$A$3:$D$1254,3,FALSE)),\"\",VLOOKUP(C49,Translate!$A$3:$D$1254,3,FALSE))","v":""},{"$f":"IF(FrontPage!$L$4=1,D49&E49,B49&C49)","v":"heb ei ddefnyddio"}]
["C2","Total dwellings including discounts and premiums  (=A3-(B2ax0.25)-(B2bx0.5)-B5-B6+B7)  ",null,{"$f":"VLOOKUP(B50,Translate!$A$3:$D$1363,3,FALSE)","v":"Cyfanswm anheddau gan gynnwys disgowntiau a phremiymau (=A3-(B2ax0.25)-(B2bx0.5)-B5-B6+B7)  "},{"$f":"IF(ISERROR(VLOOKUP(C50,Translate!$A$3:$D$1254,3,FALSE)),\"\",VLOOKUP(C50,Translate!$A$3:$D$1254,3,FALSE))","v":""},{"$f":"IF(FrontPage!$L$4=1,D50&E50,B50&C50)","v":"Cyfanswm anheddau gan gynnwys disgowntiau a phremiymau (=A3-(B2ax0.25)-(B2bx0.5)-B5-B6+B7)  "}]
["C3","Ratio to band D",null,{"$f":"VLOOKUP(B51,Translate!$A$3:$D$1363,3,FALSE)","v":"Cymhareb â band D"},{"$f":"IF(ISERROR(VLOOKUP(C51,Translate!$A$3:$D$1254,3,FALSE)),\"\",VLOOKUP(C51,Translate!$A$3:$D$1254,3,FALSE))","v":""},{"$f":"IF(FrontPage!$L$4=1,D51&E51,B51&C51)","v":"Cymhareb â band D"}]
["C4","Band D equivalents  (=C2xC3)  (rounded to 2 decimal places)",null,{"$f":"VLOOKUP(B52,Translate!$A$3:$D$1363,3,FALSE)","v":"Cyfwerthoedd Band D  ( = C2 x C3 )  ( wedi'u talgrynnu i ddau le degol )"},{"$f":"IF(ISERROR(VLOOKUP(C52,Translate!$A$3:$D$1254,3,FALSE)),\"\",VLOOKUP(C52,Translate!$A$3:$D$1254,3,FALSE))","v":""},{"$f":"IF(FrontPage!$L$4=1,D52&E52,B52&C52)","v":"Cyfwerthoedd Band D  ( = C2 x C3 )  ( wedi'u talgrynnu i ddau le degol )"}]
["C7","Total discounted dwellings excluding long term empty and second homes adjustment",null,{"$f":"VLOOKUP(B53,Translate!$A$3:$D$1363,3,FALSE)","v":"Cyfanswm anheddau gostyngedig ac eithrio addasiad tymor hir gwag ac ail gartref"},{"$f":"IF(ISERROR(VLOOKUP(C53,Translate!$A$3:$D$1254,3,FALSE)),\"\",VLOOKUP(C53,Translate!$A$3:$D$1254,3,FALSE))","v":""},{"$f":"IF(FrontPage!$L$4=1,D53&E53,B53&C53)","v":"Cyfanswm anheddau gostyngedig ac eithrio addasiad tymor hir gwag ac ail gartref"}]
["C8","Band D equivalents excluding long term empty and second homes adjustment",null,{"$f":"VLOOKUP(B54,Translate!$A$3:$D$1363,3,FALSE)","v":"Cyfwerthoedd Band D ac eithrio addasiad tymor hir gwag ac ail gartref"},{"$f":"IF(ISERROR(VLOOKUP(C54,Translate!$A$3:$D$1254,3,FALSE)),\"\",VLOOKUP(C54,Translate!$A$3:$D$1254,3,FALSE))","v":""},{"$f":"IF(FrontPage!$L$4=1,D54&E54,B54&C54)","v":"Cyfwerthoedd Band D ac eithrio addasiad tymor hir gwag ac ail gartref"}]
[null,"Part D: Memorandum items",null,{"$f":"VLOOKUP(B55,Translate!$A$3:$D$1363,3,FALSE)","v":"Rhan D: Eitemau Memorandwm"},{"$f":"IF(ISERROR(VLOOKUP(C55,Translate!$A$3:$D$1254,3,FALSE)),\"\",VLOOKUP(C55,Translate!$A$3:$D$1254,3,FALSE))","v":""},{"$f":"IF(FrontPage!$L$4=1,D55&E55,B55&C55)","v":"Rhan D: Eitemau Memorandwm"}]
["D1","Exempt dwellings Classes A to N and P to W \n(not included in sections A to C above) ",null,{"$f":"VLOOKUP(B56,Translate!$A$3:$D$1363,3,FALSE)","v":"Anheddau ag eithriadau Dosbarthiadau A i N a P i W \n( heb eu cynnwys yn adrannau A i C uchod )  ( gweler nodyn 6 )"},{"$f":"IF(ISERROR(VLOOKUP(C56,Translate!$A$3:$D$1254,3,FALSE)),\"\",VLOOKUP(C56,Translate!$A$3:$D$1254,3,FALSE))","v":""},{"$f":"IF(FrontPage!$L$4=1,D56&E56,B56&C56)","v":"Anheddau ag eithriadau Dosbarthiadau A i N a P i W \n( heb eu cynnwys yn adrannau A i C uchod )  ( gweler nodyn 6 )"}]
["D2","Exempt dwellings Class O \n(not included in sections A to C above) ",null,{"$f":"VLOOKUP(B57,Translate!$A$3:$D$1363,3,FALSE)","v":"Anheddau ag eithriad dosbarth O \n( heb eu cynnwys yn adrannau A i C uchod ) ( gweler nodiadau 6 a 7 )"},{"$f":"IF(ISERROR(VLOOKUP(C57,Translate!$A$3:$D$1254,3,FALSE)),\"\",VLOOKUP(C57,Translate!$A$3:$D$1254,3,FALSE))","v":""},{"$f":"IF(FrontPage!$L$4=1,D57&E57,B57&C57)","v":"Anheddau ag eithriad dosbarth O \n( heb eu cynnwys yn adrannau A i C uchod ) ( gweler nodiadau 6 a 7 )"}]
[null,"Valuation band",null,{"$f":"VLOOKUP(B58,Translate!$A$3:$D$1363,3,FALSE)","v":"band priso"},{"$f":"IF(ISERROR(VLOOKUP(C58,Translate!$A$3:$D$1254,3,FALSE)),\"\",VLOOKUP(C58,Translate!$A$3:$D$1254,3,FALSE))","v":""},{"$f":"IF(FrontPage!$L$4=1,D58&E58,B58&C58)","v":"band priso"}]
[null,"Total (= sum of band figures)",null,{"$f":"VLOOKUP(B59,Translate!$A$3:$D$1363,3,FALSE)","v":"Cyfanswm ( = swm ffigurau pob band )"},{"$f":"IF(ISERROR(VLOOKUP(C59,Translate!$A$3:$D$1254,3,FALSE)),\"\",VLOOKUP(C59,Translate!$A$3:$D$1254,3,FALSE))","v":""},{"$f":"IF(FrontPage!$L$4=1,D59&E59,B59&C59)","v":"Cyfanswm ( = swm ffigurau pob band )"}]
[null,"(sum of individual bands - carry to E1)",null,{"$f":"VLOOKUP(B60,Translate!$A$3:$D$1363,3,FALSE)","v":"( swm y bandiau unigol - cario i E1 )"},{"$f":"IF(ISERROR(VLOOKUP(C60,Translate!$A$3:$D$1254,3,FALSE)),\"\",VLOOKUP(C60,Translate!$A$3:$D$1254,3,FALSE))","v":""},{"$f":"IF(FrontPage!$L$4=1,D60&E60,B60&C60)","v":"( swm y bandiau unigol - cario i E1 )"}]
[null,"For Welsh Government Administration only",null,{"$f":"VLOOKUP(B61,Translate!$A$3:$D$1363,3,FALSE)","v":"Am gweinyddu Llywodraeth Cymru yn unig"},{"$f":"IF(ISERROR(VLOOKUP(C61,Translate!$A$3:$D$1254,3,FALSE)),\"\",VLOOKUP(C61,Translate!$A$3:$D$1254,3,FALSE))","v":""},{"$f":"IF(FrontPage!$L$4=1,D61&E61,B61&C61)","v":"Am gweinyddu Llywodraeth Cymru yn unig"}]
[null,"Validation check",null,{"$f":"VLOOKUP(B62,Translate!$A$3:$D$1363,3,FALSE)","v":"Gwiriad dilysu: "},{"$f":"IF(ISERROR(VLOOKUP(C62,Translate!$A$3:$D$1254,3,FALSE)),\"\",VLOOKUP(C62,Translate!$A$3:$D$1254,3,FALSE))","v":""},{"$f":"IF(FrontPage!$L$4=1,D62&E62,B62&C62)","v":"Gwiriad dilysu: "}]
["PARTSEandF",{"$nulls":3},{"$f":"IF(ISERROR(VLOOKUP(C63,Translate!$A$3:$D$1254,3,FALSE)),\"\",VLOOKUP(C63,Translate!$A$3:$D$1254,3,FALSE))","v":""},{"$f":"IF(FrontPage!$L$4=1,D63&E63,B63&C63)","v":""}]
[null,"Part E: Calculation of council tax base",null,{"$f":"VLOOKUP(B64,Translate!$A$3:$D$1363,3,FALSE)","v":"Rhan E: Cyfrifo'r sylfaen dreth gyngor"},{"$f":"IF(ISERROR(VLOOKUP(C64,Translate!$A$3:$D$1254,3,FALSE)),\"\",VLOOKUP(C64,Translate!$A$3:$D$1254,3,FALSE))","v":""},{"$f":"IF(FrontPage!$L$4=1,D64&E64,B64&C64)","v":"Rhan E: Cyfrifo'r sylfaen dreth gyngor"}]
["E1","Chargeable dwellings: band D equivalents  (=C4 total)",null,{"$f":"VLOOKUP(B65,Translate!$A$3:$D$1363,3,FALSE)","v":"Anheddau trethadwy: cyfwerthoedd band D ( = cyfanswm C4 )"},{"$f":"IF(ISERROR(VLOOKUP(C65,Translate!$A$3:$D$1254,3,FALSE)),\"\",VLOOKUP(C65,Translate!$A$3:$D$1254,3,FALSE))","v":""},{"$f":"IF(FrontPage!$L$4=1,D65&E65,B65&C65)","v":"Anheddau trethadwy: cyfwerthoedd band D ( = cyfanswm C4 )"}]
["E2","Collection rate (please enter to 2 decimal places)",null,{"$f":"VLOOKUP(B66,Translate!$A$3:$D$1363,3,FALSE)","v":"Cyfradd gasglu ( wedi'i thalgrynnu i ddau le degol )"},{"$f":"IF(ISERROR(VLOOKUP(C66,Translate!$A$3:$D$1254,3,FALSE)),\"\",VLOOKUP(C66,Translate!$A$3:$D$1254,3,FALSE))","v":""},{"$f":"IF(FrontPage!$L$4=1,D66&E66,B66&C66)","v":"Cyfradd gasglu ( wedi'i thalgrynnu i ddau le degol )"}]
["E3","= E1 x E2 (rounded to 2 decimal places)",null,{"$f":"VLOOKUP(B67,Translate!$A$3:$D$1363,3,FALSE)","v":"= E1 x E2 ( wedi'i dalgrynnu i ddau le degol )"},{"$f":"IF(ISERROR(VLOOKUP(C67,Translate!$A$3:$D$1254,3,FALSE)),\"\",VLOOKUP(C67,Translate!$A$3:$D$1254,3,FALSE))","v":""},{"$f":"IF(FrontPage!$L$4=1,D67&E67,B67&C67)","v":"= E1 x E2 ( wedi'i dalgrynnu i ddau le degol )"}]
["E4","Class O exempt dwellings: band D equivalents  (please enter to 2 decimal places)",null,{"$f":"VLOOKUP(B68,Translate!$A$3:$D$1363,3,FALSE)","v":"Anheddau Dosbarth O wedi'u heithrio: cyfwerthoedd band D "},{"$f":"IF(ISERROR(VLOOKUP(C68,Translate!$A$3:$D$1254,3,FALSE)),\"\",VLOOKUP(C68,Translate!$A$3:$D$1254,3,FALSE))","v":""},{"$f":"IF(FrontPage!$L$4=1,D68&E68,B68&C68)","v":"Anheddau Dosbarth O wedi'u heithrio: cyfwerthoedd band D "}]
["E5","Council tax base for tax-setting purposes  (=E3+E4)",null,{"$f":"VLOOKUP(B69,Translate!$A$3:$D$1363,3,FALSE)","v":"Y sylfaen dreth gyngor at ddiben pennu'r dreth ( = E3 + E4 )"},{"$f":"IF(ISERROR(VLOOKUP(C69,Translate!$A$3:$D$1254,3,FALSE)),\"\",VLOOKUP(C69,Translate!$A$3:$D$1254,3,FALSE))","v":""},{"$f":"IF(FrontPage!$L$4=1,D69&E69,B69&C69)","v":"Y sylfaen dreth gyngor at ddiben pennu'r dreth ( = E3 + E4 )"}]
["E5b","Discounted chargeable dwellings excluding long term empty and second homes adjustment",null,{"$f":"VLOOKUP(B70,Translate!$A$3:$D$1363,3,FALSE)","v":"Anheddau trethadwy gostyngedig ac eithrio addasiad tymor hir gwag ac ail gartref"},{"$f":"IF(ISERROR(VLOOKUP(C70,Translate!$A$3:$D$1254,3,FALSE)),\"\",VLOOKUP(C70,Translate!$A$3:$D$1254,3,FALSE))","v":""},{"$f":"IF(FrontPage!$L$4=1,D70&E70,B70&C70)","v":"Anheddau trethadwy gostyngedig ac eithrio addasiad tymor hir gwag ac ail gartref"}]
["E6","100% council tax base for calculating revenue support grant (=E5b+E4)",null,{"$f":"VLOOKUP(B71,Translate!$A$3:$D$1363,3,FALSE)","v":"100% o'r sylfaen dreth gyngor ar gyfer cyfrifo'r grant cynnal refeniw ( =E5b+E4)"},{"$f":"IF(ISERROR(VLOOKUP(C71,Translate!$A$3:$D$1254,3,FALSE)),\"\",VLOOKUP(C71,Translate!$A$3:$D$1254,3,FALSE))","v":""},{"$f":"IF(FrontPage!$L$4=1,D71&E71,B71&C71)","v":"100% o'r sylfaen dreth gyngor ar gyfer cyfrifo'r grant cynnal refeniw ( =E5b+E4)"}]
[null,"Part F: Exempt dwellings by class of exemption",null,{"$f":"VLOOKUP(B72,Translate!$A$3:$D$1363,3,FALSE)","v":"Rhan F: Anheddau wedi'u heithrio yn ôl dosbarth"},{"$f":"IF(ISERROR(VLOOKUP(C72,Translate!$A$3:$D$1254,3,FALSE)),\"\",VLOOKUP(C72,Translate!$A$3:$D$1254,3,FALSE))","v":""},{"$f":"IF(FrontPage!$L$4=1,D72&E72,B72&C72)","v":"Rhan F: Anheddau wedi'u heithrio yn ôl dosbarth"}]
[null,"Class",null,{"$f":"VLOOKUP(B73,Translate!$A$3:$D$1363,3,FALSE)","v":"Dosbarth"},{"$f":"IF(ISERROR(VLOOKUP(C73,Translate!$A$3:$D$1254,3,FALSE)),\"\",VLOOKUP(C73,Translate!$A$3:$D$1254,3,FALSE))","v":""},{"$f":"IF(FrontPage!$L$4=1,D73&E73,B73&C73)","v":"Dosbarth"}]
[null,"Total all classes",null,{"$f":"VLOOKUP(B74,Translate!$A$3:$D$1363,3,FALSE)","v":"Cyfanswm pob dosbarth"},{"$f":"IF(ISERROR(VLOOKUP(C74,Translate!$A$3:$D$1254,3,FALSE)),\"\",VLOOKUP(C74,Translate!$A$3:$D$1254,3,FALSE))","v":""},{"$f":"IF(FrontPage!$L$4=1,D74&E74,B74&C74)","v":"Cyfanswm pob dosbarth"}]
[null,"(must match total of lines D1 and D2)",null,{"$f":"VLOOKUP(B75,Translate!$A$3:$D$1363,3,FALSE)","v":"( rhaid cyfateb i gyfanswm llinellau D1 a D2 )"},{"$f":"IF(ISERROR(VLOOKUP(C75,Translate!$A$3:$D$1254,3,FALSE)),\"\",VLOOKUP(C75,Translate!$A$3:$D$1254,3,FALSE))","v":""},{"$f":"IF(FrontPage!$L$4=1,D75&E75,B75&C75)","v":"( rhaid cyfateb i gyfanswm llinellau D1 a D2 )"}]
[null,"PartsAtoD exempt totals",null,{"$f":"VLOOKUP(B76,Translate!$A$3:$D$1363,3,FALSE)","v":"Cyfansymiau wedi'u heithrio PartsAtoD"},{"$f":"IF(ISERROR(VLOOKUP(C76,Translate!$A$3:$D$1254,3,FALSE)),\"\",VLOOKUP(C76,Translate!$A$3:$D$1254,3,FALSE))","v":""},{"$f":"IF(FrontPage!$L$4=1,D76&E76,B76&C76)","v":"Cyfansymiau wedi'u heithrio PartsAtoD"}]
[null,"OK",null,{"$f":"VLOOKUP(B77,Translate!$A$3:$D$1363,3,FALSE)","v":"iawn"},{"$f":"IF(ISERROR(VLOOKUP(C77,Translate!$A$3:$D$1254,3,FALSE)),\"\",VLOOKUP(C77,Translate!$A$3:$D$1254,3,FALSE))","v":""},{"$f":"IF(FrontPage!$L$4=1,D77&E77,B77&C77)","v":"iawn"}]
[null,"Total of lines",null,{"$f":"VLOOKUP(B78,Translate!$A$3:$D$1363,3,FALSE)","v":"Cyfanswm llinellau"},{"$f":"IF(ISERROR(VLOOKUP(C78,Translate!$A$3:$D$1254,3,FALSE)),\"\",VLOOKUP(C78,Translate!$A$3:$D$1254,3,FALSE))","v":""},{"$f":"IF(FrontPage!$L$4=1,D78&E78,B78&C78)","v":"Cyfanswm llinellau"}]
["PartG",{"$nulls":3},{"$f":"IF(ISERROR(VLOOKUP(C79,Translate!$A$3:$D$1254,3,FALSE)),\"\",VLOOKUP(C79,Translate!$A$3:$D$1254,3,FALSE))","v":""},{"$f":"IF(FrontPage!$L$4=1,D79&E79,B79&C79)","v":""}]
[null,"Part G : Variable discounts",null,{"$f":"VLOOKUP(B80,Translate!$A$3:$D$1363,3,FALSE)","v":"Rhan G: Disgowntiau newidiol "},{"$f":"IF(ISERROR(VLOOKUP(C80,Translate!$A$3:$D$1254,3,FALSE)),\"\",VLOOKUP(C80,Translate!$A$3:$D$1254,3,FALSE))","v":""},{"$f":"IF(FrontPage!$L$4=1,D80&E80,B80&C80)","v":"Rhan G: Disgowntiau newidiol "}]
[null,"Area",null,{"$f":"VLOOKUP(B81,Translate!$A$3:$D$1363,3,FALSE)","v":"Ardal"},{"$f":"IF(ISERROR(VLOOKUP(C81,Translate!$A$3:$D$1254,3,FALSE)),\"\",VLOOKUP(C81,Translate!$A$3:$D$1254,3,FALSE))","v":""},{"$f":"IF(FrontPage!$L$4=1,D81&E81,B81&C81)","v":"Ardal"}]
[null,"Enter the name of area",null,{"$f":"VLOOKUP(B82,Translate!$A$3:$D$1363,3,FALSE)","v":"Cofnodwch enw ardal"},{"$f":"IF(ISERROR(VLOOKUP(C82,Translate!$A$3:$D$1254,3,FALSE)),\"\",VLOOKUP(C82,Translate!$A$3:$D$1254,3,FALSE))","v":""},{"$f":"IF(FrontPage!$L$4=1,D82&E82,B82&C82)","v":"Cofnodwch enw ardal"}]
["G12","Total discounts"," (G2+G4+G6+G8+G10) (see note 11)",{"$f":"VLOOKUP(B83,Translate!$A$3:$D$1363,3,FALSE)","v":"Cyfanswm disgowntiau"}," (G2+G4+G6+G8+G10) (gweler nodyn 11)",{"$f":"IF(FrontPage!$L$4=1,D83&E83,B83&C83)","v":"Cyfanswm disgowntiau (G2+G4+G6+G8+G10) (gweler nodyn 11)"}]
[null,"* this may be 'whole authority', a single community area or a number of community areas",null,{"$f":"VLOOKUP(B84,Translate!$A$3:$D$1363,3,FALSE)","v":"* gall hyn fod yr 'awdurdod gyfan', ardal cymuned unigol neu nifer o ardaloedd cymunedol"},{"$f":"IF(ISERROR(VLOOKUP(C84,Translate!$A$3:$D$1254,3,FALSE)),\"\",VLOOKUP(C84,Translate!$A$3:$D$1254,3,FALSE))","v":""},{"$f":"IF(FrontPage!$L$4=1,D84&E84,B84&C84)","v":"* gall hyn fod yr 'awdurdod gyfan', ardal cymuned unigol neu nifer o ardaloedd cymunedol"}]
[null,"CERTIFICATE OF CHIEF FINANCIAL OFFICER",null,{"$f":"VLOOKUP(B85,Translate!$A$3:$D$1363,3,FALSE)","v":"ARDYSTIAD Y PRIF SWYDDOG CYLLID"},{"$f":"IF(ISERROR(VLOOKUP(C85,Translate!$A$3:$D$1254,3,FALSE)),\"\",VLOOKUP(C85,Translate!$A$3:$D$1254,3,FALSE))","v":""},{"$f":"IF(FrontPage!$L$4=1,D85&E85,B85&C85)","v":"ARDYSTIAD Y PRIF SWYDDOG CYLLID"}]
[null,"I certify that the council tax base shown in sections A to E above has been calculated by my authority in accordance with the Local Authorities (Calculation of Council Tax Base) Regulations 1995 (Wales) (SI 1995/2561) as amended.   Where indicated below, the figures have been approved, in accordance with section 67 of the Local Government Finance Act 1992, as amended by section 84 of the Local Government Act 2003.",null,"Tystiaf fod fy awdurdod wedi cyfrifo'r sylfaen dreth gyngor a'r ffigurau eraill a nodir ar y ffurflen hon yn unol â Rheoliadau Llywodraeth Leol (Cyfrifo Sylfaen Treth Gyngor) 1995 (Cymru) (OS 1995/2561) fel y'u diwygiwyd. Lle nodir isod, mae'r ffigurau wedi'u cymeradwyo, yn unol ag adran 67 o Ddeddf Cyllid Llywodraeth Leol 1992, fel y'u diwygiwyd gan adran 84 o Ddeddf Llywodraeth Leol 2003.",{"$f":"IF(ISERROR(VLOOKUP(C86,Translate!$A$3:$D$1254,3,FALSE)),\"\",VLOOKUP(C86,Translate!$A$3:$D$1254,3,FALSE))","v":""},{"$f":"IF(FrontPage!$L$4=1,D86&E86,B86&C86)","v":"Tystiaf fod fy awdurdod wedi cyfrifo'r sylfaen dreth gyngor a'r ffigurau eraill a nodir ar y ffurflen hon yn unol â Rheoliadau Llywodraeth Leol (Cyfrifo Sylfaen Treth Gyngor) 1995 (Cymru) (OS 1995/2561) fel y'u diwygiwyd. Lle nodir isod, mae'r ffigurau wedi'u cymeradwyo, yn unol ag adran 67 o Ddeddf Cyllid Llywodraeth Leol 1992, fel y'u diwygiwyd gan adran 84 o Ddeddf Llywodraeth Leol 2003."}]
[null,"Please tick the appropriate box",null,{"$f":"VLOOKUP(B87,Translate!$A$3:$D$1363,3,FALSE)","v":"Nodwch tic yn y blwch proiodol"},{"$f":"IF(ISERROR(VLOOKUP(C87,Translate!$A$3:$D$1254,3,FALSE)),\"\",VLOOKUP(C87,Translate!$A$3:$D$1254,3,FALSE))","v":""},{"$f":"IF(FrontPage!$L$4=1,D87&E87,B87&C87)","v":"Nodwch tic yn y blwch proiodol"}]
[null,"The figures have not yet been approved;",null,{"$f":"VLOOKUP(B88,Translate!$A$3:$D$1363,3,FALSE)","v":"Nid yw'r ffigurau wedi'u cymeradwyo eto;"},{"$f":"IF(ISERROR(VLOOKUP(C88,Translate!$A$3:$D$1254,3,FALSE)),\"\",VLOOKUP(C88,Translate!$A$3:$D$1254,3,FALSE))","v":""},{"$f":"IF(FrontPage!$L$4=1,D88&E88,B88&C88)","v":"Nid yw'r ffigurau wedi'u cymeradwyo eto;"}]
[null,"the figures have been approved by executive decision;",null,{"$f":"VLOOKUP(B89,Translate!$A$3:$D$1363,3,FALSE)","v":"mae'r ffigurau wedi'u cymeradwyo trwy benderfyniad gweithredol;"},{"$f":"IF(ISERROR(VLOOKUP(C89,Translate!$A$3:$D$1254,3,FALSE)),\"\",VLOOKUP(C89,Translate!$A$3:$D$1254,3,FALSE))","v":""},{"$f":"IF(FrontPage!$L$4=1,D89&E89,B89&C89)","v":"mae'r ffigurau wedi'u cymeradwyo trwy benderfyniad gweithredol;"}]
[null,"or",null,{"$f":"VLOOKUP(B90,Translate!$A$3:$D$1363,3,FALSE)","v":"neu"},{"$f":"IF(ISERROR(VLOOKUP(C90,Translate!$A$3:$D$1254,3,FALSE)),\"\",VLOOKUP(C90,Translate!$A$3:$D$1254,3,FALSE))","v":""},{"$f":"IF(FrontPage!$L$4=1,D90&E90,B90&C90)","v":"neu"}]
[null,"the figures have been approved by the full council.",null,{"$f":"VLOOKUP(B91,Translate!$A$3:$D$1363,3,FALSE)","v":"mae'r ffigurau wedi'u cymeradwyo trwy gan y cyngor llawn."},{"$f":"IF(ISERROR(VLOOKUP(C91,Translate!$A$3:$D$1254,3,FALSE)),\"\",VLOOKUP(C91,Translate!$A$3:$D$1254,3,FALSE))","v":""},{"$f":"IF(FrontPage!$L$4=1,D91&E91,B91&C91)","v":"mae'r ffigurau wedi'u cymeradwyo trwy gan y cyngor llawn."}]
[null,"Chief Financial Officer:   ",null,{"$f":"VLOOKUP(B92,Translate!$A$3:$D$1363,3,FALSE)","v":"Prif Swyddog Cyllid:"},{"$f":"IF(ISERROR(VLOOKUP(C92,Translate!$A$3:$D$1254,3,FALSE)),\"\",VLOOKUP(C92,Translate!$A$3:$D$1254,3,FALSE))","v":""},{"$f":"IF(FrontPage!$L$4=1,D92&E92,B92&C92)","v":"Prif Swyddog Cyllid:"}]
[null,"Date:",null,{"$f":"VLOOKUP(B93,Translate!$A$3:$D$1363,3,FALSE)","v":"Dyddiad:"},{"$f":"IF(ISERROR(VLOOKUP(C93,Translate!$A$3:$D$1254,3,FALSE)),\"\",VLOOKUP(C93,Translate!$A$3:$D$1254,3,FALSE))","v":""},{"$f":"IF(FrontPage!$L$4=1,D93&E93,B93&C93)","v":"Dyddiad:"}]
[null,"Discount pecentage applied",null,{"$f":"VLOOKUP(B94,Translate!$A$3:$D$1363,3,FALSE)","v":"Canran disgownt wedi'i gymhwyso"},{"$f":"IF(ISERROR(VLOOKUP(C94,Translate!$A$3:$D$1254,3,FALSE)),\"\",VLOOKUP(C94,Translate!$A$3:$D$1254,3,FALSE))","v":""},{"$f":"IF(FrontPage!$L$4=1,D94&E94,B94&C94)","v":"Canran disgownt wedi'i gymhwyso"}]
[null,"Properties",null,{"$f":"VLOOKUP(B95,Translate!$A$3:$D$1363,3,FALSE)","v":"Eiddo"},{"$f":"IF(ISERROR(VLOOKUP(C95,Translate!$A$3:$D$1254,3,FALSE)),\"\",VLOOKUP(C95,Translate!$A$3:$D$1254,3,FALSE))","v":""},{"$f":"IF(FrontPage!$L$4=1,D95&E95,B95&C95)","v":"Eiddo"}]
[null,"Discounts",null,{"$f":"VLOOKUP(B96,Translate!$A$3:$D$1363,3,FALSE)","v":"Disgowntiau"},{"$f":"IF(ISERROR(VLOOKUP(C96,Translate!$A$3:$D$1254,3,FALSE)),\"\",VLOOKUP(C96,Translate!$A$3:$D$1254,3,FALSE))","v":""},{"$f":"IF(FrontPage!$L$4=1,D96&E96,B96&C96)","v":"Disgowntiau"}]
[null,"Area",null,{"$f":"VLOOKUP(B97,Translate!$A$3:$D$1363,3,FALSE)","v":"Ardal"},{"$f":"IF(ISERROR(VLOOKUP(C97,Translate!$A$3:$D$1254,3,FALSE)),\"\",VLOOKUP(C97,Translate!$A$3:$D$1254,3,FALSE))","v":""},{"$f":"IF(FrontPage!$L$4=1,D97&E97,B97&C97)","v":"Ardal"}]
[null,"Number of properties",null,{"$f":"VLOOKUP(B98,Translate!$A$3:$D$1363,3,FALSE)","v":"Nifer o eiddo"},{"$f":"IF(ISERROR(VLOOKUP(C98,Translate!$A$3:$D$1254,3,FALSE)),\"\",VLOOKUP(C98,Translate!$A$3:$D$1254,3,FALSE))","v":""},{"$f":"IF(FrontPage!$L$4=1,D98&E98,B98&C98)","v":"Nifer o eiddo"}]
[null,"Total number of properties",null,{"$f":"VLOOKUP(B99,Translate!$A$3:$D$1363,3,FALSE)","v":"Cyfanswm nifer o eiddo"},{"$f":"IF(ISERROR(VLOOKUP(C99,Translate!$A$3:$D$1254,3,FALSE)),\"\",VLOOKUP(C99,Translate!$A$3:$D$1254,3,FALSE))","v":""},{"$f":"IF(FrontPage!$L$4=1,D99&E99,B99&C99)","v":"Cyfanswm nifer o eiddo"}]
[null,"ID No",null,{"$f":"VLOOKUP(B100,Translate!$A$3:$D$1363,3,FALSE)","v":"Rhif ID"},{"$f":"IF(ISERROR(VLOOKUP(C100,Translate!$A$3:$D$1254,3,FALSE)),\"\",VLOOKUP(C100,Translate!$A$3:$D$1254,3,FALSE))","v":""},{"$f":"IF(FrontPage!$L$4=1,D100&E100,B100&C100)","v":"Rhif ID"}]
[null,"Line",null,{"$f":"VLOOKUP(B101,Translate!$A$3:$D$1363,3,FALSE)","v":"Llinio"},{"$f":"IF(ISERROR(VLOOKUP(C101,Translate!$A$3:$D$1254,3,FALSE)),\"\",VLOOKUP(C101,Translate!$A$3:$D$1254,3,FALSE))","v":""},{"$f":"IF(FrontPage!$L$4=1,D101&E101,B101&C101)","v":"Llinio"}]
[null,"Band",null,{"$f":"VLOOKUP(B102,Translate!$A$3:$D$1363,3,FALSE)","v":"Band"},{"$f":"IF(ISERROR(VLOOKUP(C102,Translate!$A$3:$D$1254,3,FALSE)),\"\",VLOOKUP(C102,Translate!$A$3:$D$1254,3,FALSE))","v":""},{"$f":"IF(FrontPage!$L$4=1,D102&E102,B102&C102)","v":"Band"}]
[null,"Difference",null,{"$f":"VLOOKUP(B103,Translate!$A$3:$D$1363,3,FALSE)","v":"Gwahaniaeth"},{"$f":"IF(ISERROR(VLOOKUP(C103,Translate!$A$3:$D$1254,3,FALSE)),\"\",VLOOKUP(C103,Translate!$A$3:$D$1254,3,FALSE))","v":""},{"$f":"IF(FrontPage!$L$4=1,D103&E103,B103&C103)","v":"Gwahaniaeth"}]
[null,"Value",null,{"$f":"VLOOKUP(B104,Translate!$A$3:$D$1363,3,FALSE)","v":"Gwerth"},{"$f":"IF(ISERROR(VLOOKUP(C104,Translate!$A$3:$D$1254,3,FALSE)),\"\",VLOOKUP(C104,Translate!$A$3:$D$1254,3,FALSE))","v":""},{"$f":"IF(FrontPage!$L$4=1,D104&E104,B104&C104)","v":"Gwerth"}]
[null,"Status",null,{"$f":"VLOOKUP(B105,Translate!$A$3:$D$1363,3,FALSE)","v":"Statws"},{"$f":"IF(ISERROR(VLOOKUP(C105,Translate!$A$3:$D$1254,3,FALSE)),\"\",VLOOKUP(C105,Translate!$A$3:$D$1254,3,FALSE))","v":""},{"$f":"IF(FrontPage!$L$4=1,D105&E105,B105&C105)","v":"Statws"}]
[null,"Comments",null,{"$f":"VLOOKUP(B106,Translate!$A$3:$D$1363,3,FALSE)","v":"Sylwadau"},{"$f":"IF(ISERROR(VLOOKUP(C106,Translate!$A$3:$D$1254,3,FALSE)),\"\",VLOOKUP(C106,Translate!$A$3:$D$1254,3,FALSE))","v":""},{"$f":"IF(FrontPage!$L$4=1,D106&E106,B106&C106)","v":"Sylwadau"}]
[null,"Total",null,{"$f":"VLOOKUP(B107,Translate!$A$3:$D$1363,3,FALSE)","v":"Cyfanswm"},{"$f":"IF(ISERROR(VLOOKUP(C107,Translate!$A$3:$D$1254,3,FALSE)),\"\",VLOOKUP(C107,Translate!$A$3:$D$1254,3,FALSE))","v":""},{"$f":"IF(FrontPage!$L$4=1,D107&E107,B107&C107)","v":"Cyfanswm"}]
[null,"Valuation Office Agency Check",null,{"$f":"VLOOKUP(B108,Translate!$A$3:$D$1363,3,FALSE)","v":"Gwiriad Asiantaeth y  Swyddfa Brisio"},{"$f":"IF(ISERROR(VLOOKUP(C108,Translate!$A$3:$D$1254,3,FALSE)),\"\",VLOOKUP(C108,Translate!$A$3:$D$1254,3,FALSE))","v":""},{"$f":"IF(FrontPage!$L$4=1,D108&E108,B108&C108)","v":"Gwiriad Asiantaeth y  Swyddfa Brisio"}]
["Survey Response Burden",{"$nulls":3},{"$f":"IF(ISERROR(VLOOKUP(C109,Translate!$A$3:$D$1254,3,FALSE)),\"\",VLOOKUP(C109,Translate!$A$3:$D$1254,3,FALSE))","v":""},{"$f":"IF(FrontPage!$L$4=1,D109&E109,B109&C109)","v":""}]
[null,"Survey Response Burden",null,{"$f":"VLOOKUP(B110,Translate!$A$3:$D$1363,3,FALSE)","v":"Y Baich o Ymateb i'r Arolwg"},{"$f":"IF(ISERROR(VLOOKUP(C110,Translate!$A$3:$D$1254,3,FALSE)),\"\",VLOOKUP(C110,Translate!$A$3:$D$1254,3,FALSE))","v":""},{"$f":"IF(FrontPage!$L$4=1,D110&E110,B110&C110)","v":"Y Baich o Ymateb i'r Arolwg"}]
[null,"The Welsh Government are monitoring the burden of completing this data collection form. ",null,{"$f":"VLOOKUP(B111,Translate!$A$3:$D$1363,3,FALSE)","v":"Mae Llywodraeth Cymru yn monitro'r baich o lenwi'r ffurflen casglu data hon. "},{"$f":"IF(ISERROR(VLOOKUP(C111,Translate!$A$3:$D$1254,3,FALSE)),\"\",VLOOKUP(C111,Translate!$A$3:$D$1254,3,FALSE))","v":""},{"$f":"IF(FrontPage!$L$4=1,D111&E111,B111&C111)","v":"Mae Llywodraeth Cymru yn monitro'r baich o lenwi'r ffurflen casglu data hon. "}]
[null,"Please enter the time it has taken you (and any colleagues) to prepare and send the return.",null,{"$f":"VLOOKUP(B112,Translate!$A$3:$D$1363,3,FALSE)","v":"Nodwch yr amser a gymerwyd gennych chi (ac unrhyw gydweithwyr) i baratoi ac anfon y ffurflen. "},{"$f":"IF(ISERROR(VLOOKUP(C112,Translate!$A$3:$D$1254,3,FALSE)),\"\",VLOOKUP(C112,Translate!$A$3:$D$1254,3,FALSE))","v":""},{"$f":"IF(FrontPage!$L$4=1,D112&E112,B112&C112)","v":"Nodwch yr amser a gymerwyd gennych chi (ac unrhyw gydweithwyr) i baratoi ac anfon y ffurflen. "}]
[null,"Please only include time spent on activities to prepare and send this return, such as:",null,{"$f":"VLOOKUP(B113,Translate!$A$3:$D$1363,3,FALSE)","v":"Dylech gynnwys yr amser a dreuliwyd ar weithgarwch i baratoi ac anfon y ffurflen hon yn unig, megis:"},{"$f":"IF(ISERROR(VLOOKUP(C113,Translate!$A$3:$D$1254,3,FALSE)),\"\",VLOOKUP(C113,Translate!$A$3:$D$1254,3,FALSE))","v":""},{"$f":"IF(FrontPage!$L$4=1,D113&E113,B113&C113)","v":"Dylech gynnwys yr amser a dreuliwyd ar weithgarwch i baratoi ac anfon y ffurflen hon yn unig, megis:"}]
[null,"collection, analysis and aggregation of records and data required;",null,{"$f":"VLOOKUP(B114,Translate!$A$3:$D$1363,3,FALSE)","v":"casglu, dadansoddi a chyfuno'r cofnodion a'r data gofynnol"},{"$f":"IF(ISERROR(VLOOKUP(C114,Translate!$A$3:$D$1256,3,FALSE)),\"\",VLOOKUP(C114,Translate!$A$3:$D$1256,3,FALSE))","v":""},{"$f":"IF(FrontPage!$L$4=1,D114&E114,B114&C114)","v":"casglu, dadansoddi a chyfuno'r cofnodion a'r data gofynnol"}]
[null,"completing, checking, amending and approving the form.",null,{"$f":"VLOOKUP(B115,Translate!$A$3:$D$1363,3,FALSE)","v":"cwblhau, gwirio, diwygio a chymeradwyo'r ffurflen."},{"$f":"IF(ISERROR(VLOOKUP(C115,Translate!$A$3:$D$1256,3,FALSE)),\"\",VLOOKUP(C115,Translate!$A$3:$D$1256,3,FALSE))","v":""},{"$f":"IF(FrontPage!$L$4=1,D115&E115,B115&C115)","v":"cwblhau, gwirio, diwygio a chymeradwyo'r ffurflen."}]
[null,"Hours taken",null,{"$f":"VLOOKUP(B116,Translate!$A$3:$D$1363,3,FALSE)","v":"Nifer yr oriau"},{"$f":"IF(ISERROR(VLOOKUP(C116,Translate!$A$3:$D$1256,3,FALSE)),\"\",VLOOKUP(C116,Translate!$A$3:$D$1256,3,FALSE))","v":""},{"$f":"IF(FrontPage!$L$4=1,D116&E116,B116&C116)","v":"Nifer yr oriau"}]
[null,"Please feel free to add any comments",null,{"$f":"VLOOKUP(B117,Translate!$A$3:$D$1363,3,FALSE)","v":"Mae croeso i chi ychwanegu unrhyw sylwadau"},{"$f":"IF(ISERROR(VLOOKUP(C117,Translate!$A$3:$D$1256,3,FALSE)),\"\",VLOOKUP(C117,Translate!$A$3:$D$1256,3,FALSE))","v":""},{"$f":"IF(FrontPage!$L$4=1,D117&E117,B117&C117)","v":"Mae croeso i chi ychwanegu unrhyw sylwadau"}]
[null,"Comments",null,{"$f":"VLOOKUP(B118,Translate!$A$3:$D$1363,3,FALSE)","v":"Sylwadau"},{"$f":"IF(ISERROR(VLOOKUP(C118,Translate!$A$3:$D$1256,3,FALSE)),\"\",VLOOKUP(C118,Translate!$A$3:$D$1256,3,FALSE))","v":""},{"$f":"IF(FrontPage!$L$4=1,D118&E118,B118&C118)","v":"Sylwadau"}]
[null,"Click the link below for notes for guidance for individual forms (Web access required)",null,{"$f":"VLOOKUP(B119,Translate!$A$3:$D$1363,3,FALSE)","v":"Cliciwch ar y ddolen isod i gael canllawiau ar gyfer y ffurflenni unigol (mae angen mynediad at y we)"},{"$f":"IF(ISERROR(VLOOKUP(C119,Translate!$A$3:$D$1256,3,FALSE)),\"\",VLOOKUP(C119,Translate!$A$3:$D$1256,3,FALSE))","v":""},{"$f":"IF(FrontPage!$L$4=1,D119&E119,B119&C119)","v":"Cliciwch ar y ddolen isod i gael canllawiau ar gyfer y ffurflenni unigol (mae angen mynediad at y we)"}]
[null,"Notes for guidance hyperlink",null,{"$f":"VLOOKUP(B120,Translate!$A$3:$D$1363,3,FALSE)","v":"Hyperddolen canllawiau"},{"$f":"IF(ISERROR(VLOOKUP(C120,Translate!$A$3:$D$1256,3,FALSE)),\"\",VLOOKUP(C120,Translate!$A$3:$D$1256,3,FALSE))","v":""},{"$f":"IF(FrontPage!$L$4=1,D120&E120,B120&C120)","v":"Hyperddolen canllawiau"}]
[null,"We are continually striving to improve the form to make it easier to complete, whilst still ensuring data integrity and consistency across all authorities. If you have any comments or suggestions that may be useful,  please note them below:",null,{"$f":"VLOOKUP(B121,Translate!$A$3:$D$1363,3,FALSE)","v":"Rydym bob amser yn ceisio gwella'r ffurflen i'w gwneud yn haws i'w llenwi, gan barhau i sicrhau cywirdeb data a chysondeb ar gyfer yr holl awdurdodau. Os oes gennych unrhyw sylwadau neu awgrymiadau a allai fod yn ddefnyddiol, nodwch nhw isod: "},{"$f":"IF(ISERROR(VLOOKUP(C121,Translate!$A$3:$D$1256,3,FALSE)),\"\",VLOOKUP(C121,Translate!$A$3:$D$1256,3,FALSE))","v":""},{"$f":"IF(FrontPage!$L$4=1,D121&E121,B121&C121)","v":"Rydym bob amser yn ceisio gwella'r ffurflen i'w gwneud yn haws i'w llenwi, gan barhau i sicrhau cywirdeb data a chysondeb ar gyfer yr holl awdurdodau. Os oes gennych unrhyw sylwadau neu awgrymiadau a allai fod yn ddefnyddiol, nodwch nhw isod: "}]
[null,"Form Design",null,{"$f":"VLOOKUP(B122,Translate!$A$3:$D$1363,3,FALSE)","v":"Dyluniad y ffurflen"},{"$f":"IF(ISERROR(VLOOKUP(C122,Translate!$A$3:$D$1256,3,FALSE)),\"\",VLOOKUP(C122,Translate!$A$3:$D$1256,3,FALSE))","v":""},{"$f":"IF(FrontPage!$L$4=1,D122&E122,B122&C122)","v":"Dyluniad y ffurflen"}]
[null,"Validation",null,{"$f":"VLOOKUP(B123,Translate!$A$3:$D$1363,3,FALSE)","v":"Dilysu"},{"$f":"IF(ISERROR(VLOOKUP(C123,Translate!$A$3:$D$1256,3,FALSE)),\"\",VLOOKUP(C123,Translate!$A$3:$D$1256,3,FALSE))","v":""},{"$f":"IF(FrontPage!$L$4=1,D123&E123,B123&C123)","v":"Dilysu"}]
[null,"Documentation",null,{"$f":"VLOOKUP(B124,Translate!$A$3:$D$1363,3,FALSE)","v":"Dogfennaeth"},{"$f":"IF(ISERROR(VLOOKUP(C124,Translate!$A$3:$D$1256,3,FALSE)),\"\",VLOOKUP(C124,Translate!$A$3:$D$1256,3,FALSE))","v":""},{"$f":"IF(FrontPage!$L$4=1,D124&E124,B124&C124)","v":"Dogfennaeth"}]
[null,"General comments",null,{"$f":"VLOOKUP(B125,Translate!$A$3:$D$1363,3,FALSE)","v":"Sylwadau cyffredinol"},{"$f":"IF(ISERROR(VLOOKUP(C125,Translate!$A$3:$D$1256,3,FALSE)),\"\",VLOOKUP(C125,Translate!$A$3:$D$1256,3,FALSE))","v":""},{"$f":"IF(FrontPage!$L$4=1,D125&E125,B125&C125)","v":"Sylwadau cyffredinol"}]
[null,"Please comment",null,{"$f":"VLOOKUP(B126,Translate!$A$3:$D$1363,3,FALSE)","v":"Rhowch sylw"},{"$f":"IF(ISERROR(VLOOKUP(C126,Translate!$A$3:$D$1256,3,FALSE)),\"\",VLOOKUP(C126,Translate!$A$3:$D$1256,3,FALSE))","v":""},{"$f":"IF(FrontPage!$L$4=1,D126&E126,B126&C126)","v":"Rhowch sylw"}]
[null,"Validation checks  -  please insert comments where requested",null,{"$f":"VLOOKUP(B127,Translate!$A$3:$D$1363,3,FALSE)","v":"Gwiriadau dilysu - ychwanegwch sylwadau lle gofynnir am hynny"},{"$f":"IF(ISERROR(VLOOKUP(C127,Translate!$A$3:$D$1256,3,FALSE)),\"\",VLOOKUP(C127,Translate!$A$3:$D$1256,3,FALSE))","v":""},{"$f":"IF(FrontPage!$L$4=1,D127&E127,B127&C127)","v":"Gwiriadau dilysu - ychwanegwch sylwadau lle gofynnir am hynny"}]
[null,"Year",null,{"$f":"VLOOKUP(B128,Translate!$A$3:$D$1363,3,FALSE)","v":"Blwyddyn"},{"$f":"IF(ISERROR(VLOOKUP(C128,Translate!$A$3:$D$1256,3,FALSE)),\"\",VLOOKUP(C128,Translate!$A$3:$D$1256,3,FALSE))","v":""},{"$f":"IF(FrontPage!$L$4=1,D128&E128,B128&C128)","v":"Blwyddyn"}]
[null,"tolerance",null,{"$f":"VLOOKUP(B129,Translate!$A$3:$D$1363,3,FALSE)","v":"Goddefiant"},{"$f":"IF(ISERROR(VLOOKUP(C129,Translate!$A$3:$D$1256,3,FALSE)),\"\",VLOOKUP(C129,Translate!$A$3:$D$1256,3,FALSE))","v":""},{"$f":"IF(FrontPage!$L$4=1,D129&E129,B129&C129)","v":"Goddefiant"}]
["Part H",{"$nulls":3},{"$f":"IF(ISERROR(VLOOKUP(C130,Translate!$A$3:$D$1254,3,FALSE)),\"\",VLOOKUP(C130,Translate!$A$3:$D$1254,3,FALSE))","v":""},{"$f":"IF(FrontPage!$L$4=1,D130&E130,B130&C130)","v":""}]
[null,"Part H: Chargeable empty properties and second homes - exclude exemptions",null,{"$f":"VLOOKUP(B131,Translate!$A$3:$D$1363,3,FALSE)","v":"Rhan H: Eiddo gwag ac ail gartrefi y codir tâl amdanynt - ag eithrio eithriadau"},{"$f":"IF(ISERROR(VLOOKUP(C131,Translate!$A$3:$D$1254,3,FALSE)),\"\",VLOOKUP(C131,Translate!$A$3:$D$1254,3,FALSE))","v":""},{"$f":"IF(FrontPage!$L$4=1,D131&E131,B131&C131)","v":"Rhan H: Eiddo gwag ac ail gartrefi y codir tâl amdanynt - ag eithrio eithriadau"}]
[null,"If the value of percentage discount/premium is not shown in the table please add the percentage value to the bottom rows of the \"Percentage discount\" or \"Percentage premium\" column. ",null,{"$f":"VLOOKUP(B132,Translate!$A$3:$D$1363,3,FALSE)","v":"Os nad yw gwerth y ganran disgownt/premiwm wedi ei ddangos yn y tabl, ychwanegwch y gwerth canran i  res waelod y golofn \"Canran disgownt\" neu \"Canran premiwm\""},{"$f":"IF(ISERROR(VLOOKUP(C132,Translate!$A$3:$D$1254,3,FALSE)),\"\",VLOOKUP(C132,Translate!$A$3:$D$1254,3,FALSE))","v":""},{"$f":"IF(FrontPage!$L$4=1,D132&E132,B132&C132)","v":"Os nad yw gwerth y ganran disgownt/premiwm wedi ei ddangos yn y tabl, ychwanegwch y gwerth canran i  res waelod y golofn \"Canran disgownt\" neu \"Canran premiwm\""}]
[null,"Please enter actual dwelling numbers",null,{"$f":"VLOOKUP(B133,Translate!$A$3:$D$1363,3,FALSE)","v":"Cofnodwch y nifer gwirioneddol o anheddau"},{"$f":"IF(ISERROR(VLOOKUP(C133,Translate!$A$3:$D$1254,3,FALSE)),\"\",VLOOKUP(C133,Translate!$A$3:$D$1254,3,FALSE))","v":""},{"$f":"IF(FrontPage!$L$4=1,D133&E133,B133&C133)","v":"Cofnodwch y nifer gwirioneddol o anheddau"}]
["H1","Chargeable empty properties (over 6 months) with no discount or premium",null,{"$f":"VLOOKUP(B134,Translate!$A$3:$D$1363,3,FALSE)","v":"Eiddo gwag  trethadwy (dros 6 mis) heb unrhyw ddisgownt na phremiwm"},{"$f":"IF(ISERROR(VLOOKUP(C134,Translate!$A$3:$D$1254,3,FALSE)),\"\",VLOOKUP(C134,Translate!$A$3:$D$1254,3,FALSE))","v":""},{"$f":"IF(FrontPage!$L$4=1,D134&E134,B134&C134)","v":"Eiddo gwag  trethadwy (dros 6 mis) heb unrhyw ddisgownt na phremiwm"}]
["H1.1","Enter the number of chargeable empty properties over 6 months but less than 12 months (included in H1)  ",null,"Nodwch nifer yr eiddo trethadwy gwag dros 6 mis ond llai na 12 mis (wedi’u cynnwys yn H1)",null,{"$f":"IF(FrontPage!$L$4=1,D135&E135,B135&C135)","v":"Nodwch nifer yr eiddo trethadwy gwag dros 6 mis ond llai na 12 mis (wedi’u cynnwys yn H1)"}]
["H2","Chargeable second homes with no discount or premium",null,{"$f":"VLOOKUP(B136,Translate!$A$3:$D$1363,3,FALSE)","v":"Ail gartrefi sydd yn daladwy heb ddisgownt na phremiwm"},{"$f":"IF(ISERROR(VLOOKUP(C136,Translate!$A$3:$D$1254,3,FALSE)),\"\",VLOOKUP(C136,Translate!$A$3:$D$1254,3,FALSE))","v":""},{"$f":"IF(FrontPage!$L$4=1,D136&E136,B136&C136)","v":"Ail gartrefi sydd yn daladwy heb ddisgownt na phremiwm"}]
["H2.2","Enter the number of chargeable second homes that are caravans, lodges or chalets (included in H2)",null,"Nodwch nifer yr ail gartrefi trethadwy sy’n garafannau, cabanau neu gabanau gwyliau (wedi’u cynnwys yn H2)",null,{"$f":"IF(FrontPage!$L$4=1,D137&E137,B137&C137)","v":"Nodwch nifer yr ail gartrefi trethadwy sy’n garafannau, cabanau neu gabanau gwyliau (wedi’u cynnwys yn H2)"}]
[null,"Empty property discount",null,{"$f":"VLOOKUP(B138,Translate!$A$3:$D$1363,3,FALSE)","v":"Disgownt eiddo gwag"},{"$f":"IF(ISERROR(VLOOKUP(C138,Translate!$A$3:$D$1254,3,FALSE)),\"\",VLOOKUP(C138,Translate!$A$3:$D$1254,3,FALSE))","v":""},{"$f":"IF(FrontPage!$L$4=1,D138&E138,B138&C138)","v":"Disgownt eiddo gwag"}]
[null,"Please enter by band and percentage discount, the number of dwellings that are empty.",null,{"$f":"VLOOKUP(B139,Translate!$A$3:$D$1363,3,FALSE)","v":"Nodwch yn ôl band a gostyngiad canrannol, nifer yr anheddau sy'n wag."},{"$f":"IF(ISERROR(VLOOKUP(C139,Translate!$A$3:$D$1254,3,FALSE)),\"\",VLOOKUP(C139,Translate!$A$3:$D$1254,3,FALSE))","v":""},{"$f":"IF(FrontPage!$L$4=1,D139&E139,B139&C139)","v":"Nodwch yn ôl band a gostyngiad canrannol, nifer yr anheddau sy'n wag."}]
[null,"Percentage discount",null,{"$f":"VLOOKUP(B140,Translate!$A$3:$D$1363,3,FALSE)","v":"Canran disgownt"},{"$f":"IF(ISERROR(VLOOKUP(C140,Translate!$A$3:$D$1254,3,FALSE)),\"\",VLOOKUP(C140,Translate!$A$3:$D$1254,3,FALSE))","v":""},{"$f":"IF(FrontPage!$L$4=1,D140&E140,B140&C140)","v":"Canran disgownt"}]
[null,"Total",null,{"$f":"VLOOKUP(B141,Translate!$A$3:$D$1363,3,FALSE)","v":"Cyfanswm"},{"$f":"IF(ISERROR(VLOOKUP(C141,Translate!$A$3:$D$1254,3,FALSE)),\"\",VLOOKUP(C141,Translate!$A$3:$D$1254,3,FALSE))","v":""},{"$f":"IF(FrontPage!$L$4=1,D141&E141,B141&C141)","v":"Cyfanswm"}]
["H6g.1","Enter the total number of chargeable second homes that are caravans, lodges or chalets and are charged a premium (included in H6g)",null,"Nodwch nifer yr ail gartrefi trethadwy sy’n garafannau, cabanau neu gabanau gwyliau (wedi’u cynnwys yn H6g)",null,{"$f":"IF(FrontPage!$L$4=1,D142&E142,B142&C142)","v":"Nodwch nifer yr ail gartrefi trethadwy sy’n garafannau, cabanau neu gabanau gwyliau (wedi’u cynnwys yn H6g)"}]
[null,"Long term empty property premium (over 12 months) ",null,{"$f":"VLOOKUP(B143,Translate!$A$3:$D$1363,3,FALSE)","v":"Premiwm eiddo gwag hirdymor (dros 12 mis)"},{"$f":"IF(ISERROR(VLOOKUP(C143,Translate!$A$3:$D$1254,3,FALSE)),\"\",VLOOKUP(C143,Translate!$A$3:$D$1254,3,FALSE))","v":""},{"$f":"IF(FrontPage!$L$4=1,D143&E143,B143&C143)","v":"Premiwm eiddo gwag hirdymor (dros 12 mis)"}]
[null,"Please enter by band and percentage the premium your authority charges for long term empty properties and not included in table above.",null,{"$f":"VLOOKUP(B144,Translate!$A$3:$D$1363,3,FALSE)","v":"Cofnodwch, yn ôl band a chanran, y premiwm y mae eich awdurdod yn ei godi ar gyfer eiddo gwag hirdymor nad yw wedi ei  gynnwys yn y tabl uchod"},{"$f":"IF(ISERROR(VLOOKUP(C144,Translate!$A$3:$D$1254,3,FALSE)),\"\",VLOOKUP(C144,Translate!$A$3:$D$1254,3,FALSE))","v":""},{"$f":"IF(FrontPage!$L$4=1,D144&E144,B144&C144)","v":"Cofnodwch, yn ôl band a chanran, y premiwm y mae eich awdurdod yn ei godi ar gyfer eiddo gwag hirdymor nad yw wedi ei  gynnwys yn y tabl uchod"}]
[null,"Percentage premium",null,{"$f":"VLOOKUP(B145,Translate!$A$3:$D$1363,3,FALSE)","v":"Canran premiwm"},{"$f":"IF(ISERROR(VLOOKUP(C145,Translate!$A$3:$D$1254,3,FALSE)),\"\",VLOOKUP(C145,Translate!$A$3:$D$1254,3,FALSE))","v":""},{"$f":"IF(FrontPage!$L$4=1,D145&E145,B145&C145)","v":"Canran premiwm"}]
[null,"Second homes discount",null,{"$f":"VLOOKUP(B146,Translate!$A$3:$D$1363,3,FALSE)","v":"Disgownt ail gartref"},{"$f":"IF(ISERROR(VLOOKUP(C146,Translate!$A$3:$D$1254,3,FALSE)),\"\",VLOOKUP(C146,Translate!$A$3:$D$1254,3,FALSE))","v":""},{"$f":"IF(FrontPage!$L$4=1,D146&E146,B146&C146)","v":"Disgownt ail gartref"}]
[null,"Please enter by band and percentage the discount your authority awards for dwellings registered as second homes",null,{"$f":"VLOOKUP(B147,Translate!$A$3:$D$1363,3,FALSE)","v":"Cofnodwch, yn ôl band a chanran, y disgownt y mae eich awdurdod yn ei ddyfarnu ar gyfer anheddau a gofrestrir fel ail gartrefi"},{"$f":"IF(ISERROR(VLOOKUP(C147,Translate!$A$3:$D$1254,3,FALSE)),\"\",VLOOKUP(C147,Translate!$A$3:$D$1254,3,FALSE))","v":""},{"$f":"IF(FrontPage!$L$4=1,D147&E147,B147&C147)","v":"Cofnodwch, yn ôl band a chanran, y disgownt y mae eich awdurdod yn ei ddyfarnu ar gyfer anheddau a gofrestrir fel ail gartrefi"}]
[null,"Second homes premium",null,{"$f":"VLOOKUP(B148,Translate!$A$3:$D$1363,3,FALSE)","v":"Premiwm ail gartref"},{"$f":"IF(ISERROR(VLOOKUP(C148,Translate!$A$3:$D$1254,3,FALSE)),\"\",VLOOKUP(C148,Translate!$A$3:$D$1254,3,FALSE))","v":""},{"$f":"IF(FrontPage!$L$4=1,D148&E148,B148&C148)","v":"Premiwm ail gartref"}]
[null,"Please enter by band and percentage the premium your authority charges for dwellings registered as second homes and not included in table above.",null,{"$f":"VLOOKUP(B149,Translate!$A$3:$D$1363,3,FALSE)","v":"Cofnodwch, yn ôl band a chanran, y premiwm y mae eich awdurdod yn ei godi ar gyfer anheddau a gofrestrir fel ail gartrefi nad yw wedi ei gynnwys yn y tabl uchod"},{"$f":"IF(ISERROR(VLOOKUP(C149,Translate!$A$3:$D$1254,3,FALSE)),\"\",VLOOKUP(C149,Translate!$A$3:$D$1254,3,FALSE))","v":""},{"$f":"IF(FrontPage!$L$4=1,D149&E149,B149&C149)","v":"Cofnodwch, yn ôl band a chanran, y premiwm y mae eich awdurdod yn ei godi ar gyfer anheddau a gofrestrir fel ail gartrefi nad yw wedi ei gynnwys yn y tabl uchod"}]
[null,"Total chargeable empty properties",null,{"$f":"VLOOKUP(B150,Translate!$A$3:$D$1363,3,FALSE)","v":"Cyfanswm eiddo gwag sy'n daladwy"},{"$f":"IF(ISERROR(VLOOKUP(C150,Translate!$A$3:$D$1254,3,FALSE)),\"\",VLOOKUP(C150,Translate!$A$3:$D$1254,3,FALSE))","v":""},{"$f":"IF(FrontPage!$L$4=1,D150&E150,B150&C150)","v":"Cyfanswm eiddo gwag sy'n daladwy"}]
[null,"Total chargeable second homes",null,{"$f":"VLOOKUP(B151,Translate!$A$3:$D$1363,3,FALSE)","v":"Cyfanswm ail gartrefi sy'n daladwy"},{"$f":"IF(ISERROR(VLOOKUP(C151,Translate!$A$3:$D$1254,3,FALSE)),\"\",VLOOKUP(C151,Translate!$A$3:$D$1254,3,FALSE))","v":""},{"$f":"IF(FrontPage!$L$4=1,D151&E151,B151&C151)","v":"Cyfanswm ail gartrefi sy'n daladwy"}]
[null,"Dwelling equivalents",null,{"$f":"VLOOKUP(B152,Translate!$A$3:$D$1363,3,FALSE)","v":"Cyfwerthoedd anheddau"},{"$f":"IF(ISERROR(VLOOKUP(C152,Translate!$A$3:$D$1254,3,FALSE)),\"\",VLOOKUP(C152,Translate!$A$3:$D$1254,3,FALSE))","v":""},{"$f":"IF(FrontPage!$L$4=1,D152&E152,B152&C152)","v":"Cyfwerthoedd anheddau"}]
[null,"Reduction due to long term empty property discount",null,{"$f":"VLOOKUP(B153,Translate!$A$3:$D$1363,3,FALSE)","v":"Gostyngiad oherwydd disgownt eiddo gwag hirdymor"},{"$f":"IF(ISERROR(VLOOKUP(C153,Translate!$A$3:$D$1254,3,FALSE)),\"\",VLOOKUP(C153,Translate!$A$3:$D$1254,3,FALSE))","v":""},{"$f":"IF(FrontPage!$L$4=1,D153&E153,B153&C153)","v":"Gostyngiad oherwydd disgownt eiddo gwag hirdymor"}]
[null,"Increase due to long term empty property premium",null,{"$f":"VLOOKUP(B154,Translate!$A$3:$D$1363,3,FALSE)","v":"Cynnydd oherwydd premiwm eiddo gwag hirdymor"},{"$f":"IF(ISERROR(VLOOKUP(C154,Translate!$A$3:$D$1254,3,FALSE)),\"\",VLOOKUP(C154,Translate!$A$3:$D$1254,3,FALSE))","v":""},{"$f":"IF(FrontPage!$L$4=1,D154&E154,B154&C154)","v":"Cynnydd oherwydd premiwm eiddo gwag hirdymor"}]
[null,"Reduction due to second homes discount",null,{"$f":"VLOOKUP(B155,Translate!$A$3:$D$1363,3,FALSE)","v":"Gostyngiad oherwydd disgownt ail gartref"},{"$f":"IF(ISERROR(VLOOKUP(C155,Translate!$A$3:$D$1254,3,FALSE)),\"\",VLOOKUP(C155,Translate!$A$3:$D$1254,3,FALSE))","v":""},{"$f":"IF(FrontPage!$L$4=1,D155&E155,B155&C155)","v":"Gostyngiad oherwydd disgownt ail gartref"}]
[null,"Increase due to second homes premium",null,{"$f":"VLOOKUP(B156,Translate!$A$3:$D$1363,3,FALSE)","v":"Cynnydd oherwydd disgownt ail gartref"},{"$f":"IF(ISERROR(VLOOKUP(C156,Translate!$A$3:$D$1254,3,FALSE)),\"\",VLOOKUP(C156,Translate!$A$3:$D$1254,3,FALSE))","v":""},{"$f":"IF(FrontPage!$L$4=1,D156&E156,B156&C156)","v":"Cynnydd oherwydd disgownt ail gartref"}]

{"sheet":"Data","index":14,"n_rows":67719,"n_cols":37,"rows_kept":4500,"cut":true,"hidden":true,"merged":[[9,34,11,34],[9,35,11,35],[9,36,11,36],[12,34,13,34],[12,35,13,35],[12,36,13,36],[14,34,15,34],[14,35,15,35],[14,36,15,36]],"bounds":{"rows_first":2000,"rows_last":500,"rows_between":2000,"halvings":0}}
[null,"Tolerance Table",{"$nulls":9},{"$f":"uanumber","v":0},"UACheck",null,"YearFrom",{"$f":"Transfer!X2-101","v":202425},null,null,"Drop-down list for Status field - DO NOT DELETE ORANGE",{"$nulls":4},"√",null,{"$f":"P1+202","v":202627},{"$nulls":3},"LINE CHECKS - Comparison of year-on-year figures",{"$nulls":4},"GWIRIADAU LLINELL - cymhariaeth o ffigurau flwyddyn ar flwyddyn",null,{"$f":"IF(FrontPage!$L$4=1,AI1,AD1)","v":"GWIRIADAU LLINELL - cymhariaeth o ffigurau flwyddyn ar flwyddyn"}]
[null,"Tol",{"$nulls":8},"qData",{"$nulls":7},"A","C","NB","S","U","W","T",{"$nulls":4},"Please follow the instructions below when completing this page:",{"$nulls":4},"Dilynwch y cyfarwyddiadau isod wrth lenwi'r dudalen hon:",null,{"$f":"IF(FrontPage!$L$4=1,AI2,AD2)","v":"Dilynwch y cyfarwyddiadau isod wrth lenwi'r dudalen hon:"}]
[null,"Index","Row","Col","Line","Band","Value","%",null,null,"Index","YearCode","AuthCode","FormRef","RowRef","ColumnRef","Data",null,"Rows","RowRef","StandDesc","StandDescWelsh","DisplayText",{"$nulls":4},"Translation for LineCheck",{"$nulls":3},"Text box data",null,null,"Instruction data"]
[null,{"$f":"C4&\"_\"&D4","v":"1_2"},1,2,"A1","A",50,{"v":0.05,"d":"5.0%"},null,null,{"$f":"M4&\"_\"&O4&\"_\"&P4&\"_\"&L4","v":"512_1_2_202324"},202324,512,"CT1",1,2,4643,null,null,1,"A1 - All chargeable dwellings","A1 - Holl anheddau trethadwy",{"$f":"IF(FrontPage!$L$4=1,V4,U4)","v":"A1 - Holl anheddau trethadwy"}]
[null,"1_3",1,3,"A1","B",50,{"v":0.05,"d":"5.0%"},null,null,"514_1_2_202324",202324,514,"CT1",1,2,8189.317999999999,null,null,2,"A2 - Dwellings subject to disability reduction (included in line A1)","A2 - Anheddau sy'n derbyn gostyngiad anabledd ( sy'n gynwysedig yn llinell A1 )",{"$f":"IF(FrontPage!$L$4=1,V5,U5)","v":"A2 - Anheddau sy'n derbyn gostyngiad anabledd ( sy'n gynwysedig yn llinell A1 )"},{"$nulls":4},"English","Welsh","Text",null,"English","Welsh","Text","English","Welsh","Text"]
[null,"1_4",1,4,"A1","C",50,{"v":0.05,"d":"5.0%"},null,null,"516_1_2_202324",202324,516,"CT1",1,2,5077,null,null,3,"A3 - Adjusted chargeable dwellings (taking into account disability reductions)","A3 - Cyfanswm yr anheddau trethadwy wedi'i addasu ( gan gymryd i ystyriaeth y gostyngiadau anabledd )",{"$f":"IF(FrontPage!$L$4=1,V6,U6)","v":"A3 - Cyfanswm yr anheddau trethadwy wedi'i addasu ( gan gymryd i ystyriaeth y gostyngiadau anabledd )"},{"$nulls":4},"select","dewiswch",{"$f":"IF(FrontPage!$L$4=1,AC6,AB6)","v":"dewiswch"},null,"COLUMN FIELD KEY","ALLWEDD MAES COLOFN",{"$f":"IF(FrontPage!$L$4=1,AG6,AF6)","v":"ALLWEDD MAES COLOFN"},null,"\n\n\n\n\n\n"]
[null,"1_5",1,5,"A1","D",50,{"v":0.05,"d":"5.0%"},null,null,"518_1_2_202324",202324,518,"CT1",1,2,3921,null,null,4,"B1 - Dwellings with no discount or premium (including long term empty properties and second homes with no discount or premium)","B1 - Anheddau heb ddisgownt neu premiwm (gan gynnwys eiddo gwag hirdymor ac ail gartrefi heb ddisgownt neu premiwm)",{"$f":"IF(FrontPage!$L$4=1,V7,U7)","v":"B1 - Anheddau heb ddisgownt neu premiwm (gan gynnwys eiddo gwag hirdymor ac ail gartrefi heb ddisgownt neu premiwm)"},{"$nulls":4},"row","rhes",{"$f":"IF(FrontPage!$L$4=1,AC7,AB7)","v":"rhes"},null,"STATUS FIELD KEY\nA - to be actioned by WG\nC - Cleared\nNB - Important\nT - Cleared with Text\nU - Unresolved\nW - Waiting for action from LA","ALLWEDD STATWS MAES\nA - i gael eu gweithredu gan LlC\nC - wedi’i glirio \nNB - pwysig\nT - wedi'i glirio gyda thestun\nU - heb eu datrys \nW - yn aros ar gyfer gweithrediad gan All",{"$f":"IF(FrontPage!$L$4=1,AG7,AF7)","v":"ALLWEDD STATWS MAES\nA - i gael eu gweithredu gan LlC\nC - wedi’i glirio \nNB - pwysig\nT - wedi'i glirio gyda thestun\nU - heb eu datrys \nW - yn aros ar gyfer gweithrediad gan All"},"After completing the form - check any figures that are flagged outside tolerance (marked '1' in the 'Auto' column). ","Ar ôl cwblhau’r ffurflen - gwiriwch unrhyw ffigurau sydd gyda fflag eu bod tu hwnt i’r goddefiant (wedi'i farcio '1' yn y golofn 'Awtomatig'). ",{"$f":"IF(FrontPage!$L$4=1,AJ7,AI7)","v":"Ar ôl cwblhau’r ffurflen - gwiriwch unrhyw ffigurau sydd gyda fflag eu bod tu hwnt i’r goddefiant (wedi'i farcio '1' yn y golofn 'Awtomatig'). "}]
[null,"1_6",1,6,"A1","E",50,{"v":0.05,"d":"5.0%"},null,null,"520_1_2_202324",202324,520,"CT1",1,2,4169,null,null,4.1,"B2a - Dwellings with a 25% discount (excluding long term empty properties and second homes)","B2a - Anheddau gyda disgownt o 25% (ag eithrio eiddo gwag hirdymor ac ail gartrefi heb ddisgownt)",{"$f":"IF(FrontPage!$L$4=1,V8,U8)","v":"B2a - Anheddau gyda disgownt o 25% (ag eithrio eiddo gwag hirdymor ac ail gartrefi heb ddisgownt)"},{"$nulls":4},"column","colofn",{"$f":"IF(FrontPage!$L$4=1,AC8,AB8)","v":"colofn"},null,"TYPE FIELD KEY\n1. Value only breach\n2.  % only breach\n3. both breached\n9. Either figure is Zero","ALLWEDD MATH O FAES \n1. Toriad gwerth unig \n2.  Toriad % yn unig \n3. Toriad yn y ddau\n9. Naill ai ffigur yn sero",{"$f":"IF(FrontPage!$L$4=1,AG8,AF8)","v":"ALLWEDD MATH O FAES \n1. Toriad gwerth unig \n2.  Toriad % yn unig \n3. Toriad yn y ddau\n9. Naill ai ffigur yn sero"},"The line tolerance limits (columns M and N) are either pre-set or can be adjusted manually (currently set at 50 and 5% - cells M7 and N7).","Mae’r terfynau goddefiant llinell (colofnau M ac N) naill ai wedi eu bennu ymlaen llaw, neu gellir addasu eich hun (ar hyn o bryd wedi eu gosod at 50 a 5%-celloedd M7 a N7).   ",{"$f":"IF(FrontPage!$L$4=1,AJ8,AI8)","v":"Mae’r terfynau goddefiant llinell (colofnau M ac N) naill ai wedi eu bennu ymlaen llaw, neu gellir addasu eich hun (ar hyn o bryd wedi eu gosod at 50 a 5%-celloedd M7 a N7).   "}]
[null,"1_7",1,7,"A1","F",50,{"v":0.05,"d":"5.0%"},null,null,"522_1_2_202324",202324,522,"CT1",1,2,4137,null,null,4.2,"B2b - Dwellings with a 50% discount (excluding long term empty properties and second homes)","B2b - Anheddau gyda disgownt o 50% (ag eithrio eiddo gwag hirdymor ac ail gartrefi heb ddisgownt)",{"$f":"IF(FrontPage!$L$4=1,V9,U9)","v":"B2b - Anheddau gyda disgownt o 50% (ag eithrio eiddo gwag hirdymor ac ail gartrefi heb ddisgownt)"},{"$nulls":4},"row description (sum lines shown in bold)","disgrifiad rhes (Llinellau swm a ddangosir mewn print trwm)",{"$f":"IF(FrontPage!$L$4=1,AC9,AB9)","v":"disgrifiad rhes (Llinellau swm a ddangosir mewn print trwm)"},{"$nulls":4},"If you wish to add supporting information to any row please put it in ‘Your Comments’, otherwise an email confirming that you are happy with the figures will do. ","Os ydych am ychwanegu gwybodaeth ategol i unrhyw res, rhowch yn 'Eich sylwadau', fel arall bydd e-bost yn cadarnhau eich bod yn fodlon ar y ffigurau yn ddigon. ",{"$f":"IF(FrontPage!$L$4=1,AJ9,AI9)","v":"Os ydych am ychwanegu gwybodaeth ategol i unrhyw res, rhowch yn 'Eich sylwadau', fel arall bydd e-bost yn cadarnhau eich bod yn fodlon ar y ffigurau yn ddigon. "}]
[null,"1_8",1,8,"A1","G",30,{"v":0.05,"d":"5.0%"},null,null,"524_1_2_202324",202324,524,"CT1",1,2,5659,null,null,7,"B3a - Dwellings with a variable discount other than 25% or 50% (Part G, line 11)","B3a - Anheddau gyda disgownt amrywiol ag eithrio 25% neu 50% (Rhan G, llinell 11)",{"$f":"IF(FrontPage!$L$4=1,V10,U10)","v":"B3a - Anheddau gyda disgownt amrywiol ag eithrio 25% neu 50% (Rhan G, llinell 11)"},{"$nulls":4},"value","prisio",{"$f":"IF(FrontPage!$L$4=1,AC10,AB10)","v":"prisio"},{"$nulls":4},"After receiving the completed form - we will mark any rows that we think need to be cleared using the 'Check' column along with adding any comments and/or","Ar ôl derbyn y ffurflen wedi'i chwblhau - bydden yn nodi unrhyw rhesi y credwn y mae angen eu clirio gan ddefnyddio y golofn 'Gwirio' ynghyd ag ychwanegu unrhyw sylwadau a/neu ",{"$f":"IF(FrontPage!$L$4=1,AJ10,AI10)","v":"Ar ôl derbyn y ffurflen wedi'i chwblhau - bydden yn nodi unrhyw rhesi y credwn y mae angen eu clirio gan ddefnyddio y golofn 'Gwirio' ynghyd ag ychwanegu unrhyw sylwadau a/neu "}]
[null,"1_9",1,9,"A1","H",20,{"v":0.05,"d":"5.0%"},null,null,"526_1_2_202324",202324,526,"CT1",1,2,1665,null,null,7.1,"B3b - Dwellings with long term empty property or second homes discount","B3b - Anheddau gyda disgownt eiddo gwag hirdymor neu ail gartref",{"$f":"IF(FrontPage!$L$4=1,V11,U11)","v":"B3b - Anheddau gyda disgownt eiddo gwag hirdymor neu ail gartref"},{"$nulls":4},"type","deipio",{"$f":"IF(FrontPage!$L$4=1,AC11,AB11)","v":"deipio"}]
[null,"1_10",1,10,"A1","I",10,{"v":0.05,"d":"5.0%"},null,null,"528_1_2_202324",202324,528,"CT1",1,2,6214,null,null,7.2,"B3c - Dwellings with long term empty property or second homes premium","B3c - Anheddau gyda phremiwm eiddo gwag hirdymor neu ail gartref",{"$f":"IF(FrontPage!$L$4=1,V12,U12)","v":"B3c - Anheddau gyda phremiwm eiddo gwag hirdymor neu ail gartref"},{"$nulls":4},"auto","awto",{"$f":"IF(FrontPage!$L$4=1,AC12,AB12)","v":"awto"}]
[null,"1_11",1,11,"A1","Total",100,{"v":0.05,"d":"5.0%"},null,null,"530_1_2_202324",202324,530,"CT1",1,2,8730,null,null,8,"B4 - Total adjusted chargeable dwellings (sum of B1 to B3c=A3)","B4 - Cyfanswm yr anheddau a addaswyd sydd yn daladwy (cyfanswm o B1 i B3c=A3)",{"$f":"IF(FrontPage!$L$4=1,V13,U13)","v":"B4 - Cyfanswm yr anheddau a addaswyd sydd yn daladwy (cyfanswm o B1 i B3c=A3)"},{"$nulls":4},"mark","marcio",{"$f":"IF(FrontPage!$L$4=1,AC13,AB13)","v":"marcio"},{"$nulls":4},"any relevant previous comments provided by your authority in the 'Our Comments' column. We may ask you for further information if required. ","unrhyw sylwadau blaenorol perthnasol a ddarperir gan eich awdurdod yn y golofn 'Ein sylwadau’. Gallem ofyn i chi am ragor o wybodaeth os oes angen.",{"$f":"IF(FrontPage!$L$4=1,AJ13,AI13)","v":"unrhyw sylwadau blaenorol perthnasol a ddarperir gan eich awdurdod yn y golofn 'Ein sylwadau’. Gallem ofyn i chi am ragor o wybodaeth os oes angen."}]
[null,"2_2",2,{"$f":"D4","v":2},"A2","A",30,{"v":0.1,"d":"10.0%"},null,null,"532_1_2_202324",202324,532,"CT1",1,2,16272,null,null,9,"B5 - Total variable discounts (=Part G, line 12)","B5 - Holl disgowntiau newidiol ( =Rhan G, llinell 12 )",{"$f":"IF(FrontPage!$L$4=1,V14,U14)","v":"B5 - Holl disgowntiau newidiol ( =Rhan G, llinell 12 )"},{"$nulls":4},"check","wirio",{"$f":"IF(FrontPage!$L$4=1,AC14,AB14)","v":"wirio"}]
[null,"2_3",2,{"$f":"D5","v":3},"A2","B",30,{"v":0.1,"d":"10.0%"},null,null,"534_1_2_202324",202324,534,"CT1",1,2,12996,null,null,9.1,"B6 - Long term empty property and second homes discount adjustment (Part H, line 9g, 11g)","B6 - Addasiad disgownt am eiddo gwag tymor hir ac ail gartref (Rhan H, llinio 9g, 11g)",{"$f":"IF(FrontPage!$L$4=1,V15,U15)","v":"B6 - Addasiad disgownt am eiddo gwag tymor hir ac ail gartref (Rhan H, llinio 9g, 11g)"},{"$nulls":4},"status","statws",{"$f":"IF(FrontPage!$L$4=1,AC15,AB15)","v":"statws"},{"$nulls":4},"Any cleared item swill be marked 'C' in the 'Status' column (column U).","Bydd unrhyw eitem sydd wedi'i glirio wedi’i marcio 'C' yn y golofn 'Statws' (Colofn U).",{"$f":"IF(FrontPage!$L$4=1,AJ15,AI15)","v":"Bydd unrhyw eitem sydd wedi'i glirio wedi’i marcio 'C' yn y golofn 'Statws' (Colofn U)."}]
[null,"2_4",2,4,"A2","C",30,{"v":0.1,"d":"10.0%"},null,null,"536_1_2_202324",202324,536,"CT1",1,2,10240,null,null,9.2,"B7 - Long term empty property and second homes premium adjustment (Part H, line 10g, 12g)","B7 - Addasiad premiwm am eiddo gwag tymor hir ac ail gartref (Rhan H, llinio 10g, 12g)",{"$f":"IF(FrontPage!$L$4=1,V16,U16)","v":"B7 - Addasiad premiwm am eiddo gwag tymor hir ac ail gartref (Rhan H, llinio 10g, 12g)"},{"$nulls":4},"Your Comments","Eich Sylwadau",{"$f":"IF(FrontPage!$L$4=1,AC16,AB16)","v":"Eich Sylwadau"}]
[null,"2_5",2,5,"A2","D",30,{"v":0.1,"d":"10.0%"},null,null,"538_1_2_202324",202324,538,"CT1",1,2,1398,null,null,11,"C2 - Total dwellings including discounts and premiums (=A3-(B2ax0.25)-(B2bx0.5)-B5-B6+B7) ","C2 - Cyfanswm anheddau gan gynnwys disgowntiau a phremiymau (=A3-(B2ax0.25)-(B2bx0.5)-B5-B6+B7) ",{"$f":"IF(FrontPage!$L$4=1,V17,U17)","v":"C2 - Cyfanswm anheddau gan gynnwys disgowntiau a phremiymau (=A3-(B2ax0.25)-(B2bx0.5)-B5-B6+B7) "},{"$nulls":4},"our comments","ein sylwadau",{"$f":"IF(FrontPage!$L$4=1,AC17,AB17)","v":"ein sylwadau"}]
[null,"2_6",2,6,"A2","E",30,{"v":0.1,"d":"10.0%"},null,null,"540_1_2_202324",202324,540,"CT1",1,2,44995,null,null,13,"C4 - Band D equivalents (=C2xC3) (rounded to 2 decimal places)","C4 - Cyfwerthoedd Band D ( = C2 x C3 ) ( wedi'u talgrynnu i ddau le degol )",{"$f":"IF(FrontPage!$L$4=1,V18,U18)","v":"C4 - Cyfwerthoedd Band D ( = C2 x C3 ) ( wedi'u talgrynnu i ddau le degol )"},{"$nulls":4},"sign by","arwydd gan",{"$f":"IF(FrontPage!$L$4=1,AC18,AB18)","v":"arwydd gan"}]
[null,"2_7",2,7,"A2","F",30,{"v":0.1,"d":"10.0%"},null,null,"542_1_2_202324",202324,542,"CT1",1,2,13612,null,null,13.3,"C7 - Total discounted dwellings excluding long term empty and second homes adjustment","C7 - Cyfanswm anheddau gostyngedig ac eithrio addasiad tymor hir gwag ac ail gartref",{"$f":"IF(FrontPage!$L$4=1,V19,U19)","v":"C7 - Cyfanswm anheddau gostyngedig ac eithrio addasiad tymor hir gwag ac ail gartref"},{"$nulls":4},"date","dyddiad",{"$f":"IF(FrontPage!$L$4=1,AC19,AB19)","v":"dyddiad"}]
[null,"2_8",2,8,"A2","G",30,{"v":0.1,"d":"10.0%"},null,null,"544_1_2_202324",202324,544,"CT1",1,2,14755,null,null,13.4,"C8 - Band D equivalents excluding long term empty and second homes adjustment","C8 - Cyfwerthoedd Band D ac eithrio addasiad tymor hir gwag ac ail gartref",{"$f":"IF(FrontPage!$L$4=1,V20,U20)","v":"C8 - Cyfwerthoedd Band D ac eithrio addasiad tymor hir gwag ac ail gartref"},{"$nulls":4},"difference","gwahaniaeth",{"$f":"IF(FrontPage!$L$4=1,AC20,AB20)","v":"gwahaniaeth"}]
[null,"2_9",2,9,"A2","H",30,{"v":0.1,"d":"10.0%"},null,null,"545_1_2_202324",202324,545,"CT1",1,2,18657,null,null,14,"D1 - Exempt dwellings Classes A to N and P to W (not included in sections A to C above) ","D1 - Anheddau ag eithriadau Dosbarthiadau A i N a P i W ( heb eu cynnwys yn adrannau A i C uchod ) ( gweler nodyn 6 )",{"$f":"IF(FrontPage!$L$4=1,V21,U21)","v":"D1 - Anheddau ag eithriadau Dosbarthiadau A i N a P i W ( heb eu cynnwys yn adrannau A i C uchod ) ( gweler nodyn 6 )"},{"$nulls":4},"tolerance","goddefiant",{"$f":"IF(FrontPage!$L$4=1,AC21,AB21)","v":"goddefiant"}]
[null,"2_10",2,10,"A2","I",20,{"v":0.1,"d":"10.0%"},null,null,"546_1_2_202324",202324,546,"CT1",1,2,5954,null,null,15,"D2 - Exempt dwellings Class O (not included in sections A to C above) ","D2 - Anheddau ag eithriad dosbarth O ( heb eu cynnwys yn adrannau A i C uchod ) ( gweler nodiadau 6 a 7 )",{"$f":"IF(FrontPage!$L$4=1,V22,U22)","v":"D2 - Anheddau ag eithriad dosbarth O ( heb eu cynnwys yn adrannau A i C uchod ) ( gweler nodiadau 6 a 7 )"},{"$nulls":4},"zero?","sero?",{"$f":"IF(FrontPage!$L$4=1,AC22,AB22)","v":"sero?"}]
[null,"2_11",2,11,"A2","Total",50,{"v":0.1,"d":"10.0%"},null,null,"548_1_2_202324",202324,548,"CT1",1,2,485,null,null,22,"E1 - Chargeable dwellings: band D equivalents (=C4 total)","E1 - Anheddau trethadwy: cyfwerthoedd band D ( = cyfanswm C4 )",{"$f":"IF(FrontPage!$L$4=1,V23,U23)","v":"E1 - Anheddau trethadwy: cyfwerthoedd band D ( = cyfanswm C4 )"},{"$nulls":4},"Totals","Cyfansymiau",{"$f":"IF(FrontPage!$L$4=1,AC23,AB23)","v":"Cyfansymiau"}]
[null,"4_1",4,1,"B1","A-",50,{"v":0.1,"d":"10.0%"},null,null,"550_1_2_202324",202324,550,"CT1",1,2,6430,null,null,23,"E2 - Collection rate (please enter to 2 decimal places)","E2 - Cyfradd gasglu ( wedi'i thalgrynnu i ddau le degol )",{"$f":"IF(FrontPage!$L$4=1,V24,U24)","v":"E2 - Cyfradd gasglu ( wedi'i thalgrynnu i ddau le degol )"}]
[null,"4_2",4,2,"B1","A",100,{"v":0.15,"d":"15.0%"},null,null,"552_1_2_202324",202324,552,"CT1",1,2,4188,null,null,24,"E3 - = E1 x E2 (rounded to 2 decimal places)","E3 - = E1 x E2 ( wedi'i dalgrynnu i ddau le degol )",{"$f":"IF(FrontPage!$L$4=1,V25,U25)","v":"E3 - = E1 x E2 ( wedi'i dalgrynnu i ddau le degol )"}]
[null,"4_3",4,3,"B1","B",50,{"v":0.1,"d":"10.0%"},null,null,"512_1_3_202324",202324,512,"CT1",1,3,6704,null,null,25,"E4 - Class O exempt dwellings: band D equivalents (please enter to 2 decimal places)","E4 - Anheddau Dosbarth O wedi'u heithrio: cyfwerthoedd band D ",{"$f":"IF(FrontPage!$L$4=1,V26,U26)","v":"E4 - Anheddau Dosbarth O wedi'u heithrio: cyfwerthoedd band D "}]
[null,"4_4",4,4,"B1","C",50,{"v":0.1,"d":"10.0%"},null,null,"514_1_3_202324",202324,514,"CT1",1,3,14515.532,null,null,26,"E5 - Council tax base for tax-setting purposes (=E3+E4)","E5 - Y sylfaen dreth gyngor at ddiben pennu'r dreth ( = E3 + E4 )",{"$f":"IF(FrontPage!$L$4=1,V27,U27)","v":"E5 - Y sylfaen dreth gyngor at ddiben pennu'r dreth ( = E3 + E4 )"}]
[null,"4_5",4,5,"B1","D",50,{"v":0.1,"d":"10.0%"},null,null,"516_1_3_202324",202324,516,"CT1",1,3,7915,null,null,26.2,"E5b - Discounted chargeable dwellings excluding long term empty and second homes adjustment","E5b - Anheddau trethadwy gostyngedig ac eithrio addasiad tymor hir gwag ac ail gartref",{"$f":"IF(FrontPage!$L$4=1,V28,U28)","v":"E5b - Anheddau trethadwy gostyngedig ac eithrio addasiad tymor hir gwag ac ail gartref"}]
[null,"4_6",4,6,"B1","E",50,{"v":0.1,"d":"10.0%"},null,null,"518_1_3_202324",202324,518,"CT1",1,3,7025,null,null,27,"E6 - 100% council tax base for calculating revenue support grant (=E5a+E4)","E6 - 100% o'r sylfaen dreth gyngor ar gyfer cyfrifo'r grant cynnal refeniw ( =E5a+E4)",{"$f":"IF(FrontPage!$L$4=1,V29,U29)","v":"E6 - 100% o'r sylfaen dreth gyngor ar gyfer cyfrifo'r grant cynnal refeniw ( =E5a+E4)"}]
[null,"4_7",4,7,"B1","F",50,{"v":0.1,"d":"10.0%"},null,null,"520_1_3_202324",202324,520,"CT1",1,3,9205,null,null,28,"Exempt dwellings - class A - a vacant dwelling which: - requires or is undergoing major repairs - undergoing structural alteration, or - has been vacant for a continuous period of less than 6 months following substantial completion of any such repair","Rhan F: Anheddau wedi'u heithrio yn ôl dosbarth - Dosbarth A",{"$f":"IF(FrontPage!$L$4=1,V30,U30)","v":"Rhan F: Anheddau wedi'u heithrio yn ôl dosbarth - Dosbarth A"}]
[null,"4_8",4,8,"B1","G",30,{"v":0.1,"d":"10.0%"},null,null,"522_1_3_202324",202324,522,"CT1",1,3,12247,null,null,29,"Exempt dwellings - class B - an unoccupied dwelling: - owned by a body established for charitable purposes and last occupied for the purposes of that organisation - applies for up to 6 months","Rhan F: Anheddau wedi'u heithrio yn ôl dosbarth - Dosbarth B",{"$f":"IF(FrontPage!$L$4=1,V31,U31)","v":"Rhan F: Anheddau wedi'u heithrio yn ôl dosbarth - Dosbarth B"}]
[null,"4_9",4,9,"B1","H",20,{"v":0.1,"d":"10.0%"},null,null,"524_1_3_202324",202324,524,"CT1",1,3,8899,null,null,30,"Exempt dwellings - class C - a vacant dwelling: - which has been such a for a continuous period of less than 6 months","Rhan F: Anheddau wedi'u heithrio yn ôl dosbarth - Dosbarth C",{"$f":"IF(FrontPage!$L$4=1,V32,U32)","v":"Rhan F: Anheddau wedi'u heithrio yn ôl dosbarth - Dosbarth C"}]
[null,"4_10",4,10,"B1","I",10,{"v":0.1,"d":"10.0%"},null,null,"526_1_3_202324",202324,526,"CT1",1,3,4619,null,null,31,"Exempt dwellings - class D - an unoccupied dwelling: - the previous occupier)s) are detained in prison, hospital or other place under a court order","Rhan F: Anheddau wedi'u heithrio yn ôl dosbarth - Dosbarth D",{"$f":"IF(FrontPage!$L$4=1,V33,U33)","v":"Rhan F: Anheddau wedi'u heithrio yn ôl dosbarth - Dosbarth D"}]
[null,"4_11",4,11,"B1","Total",100,{"v":0.1,"d":"10.0%"},null,null,"528_1_3_202324",202324,528,"CT1",1,3,9116,null,null,32,"Exempt dwellings - class E - an unoccupied dwelling: - owner or tenant is a patient in a NHS or military hospital or a care home or hostel - sole or main residence must have changed and must have been 'relevant absentee' for period","Rhan F: Anheddau wedi'u heithrio yn ôl dosbarth - Dosbarth E",{"$f":"IF(FrontPage!$L$4=1,V34,U34)","v":"Rhan F: Anheddau wedi'u heithrio yn ôl dosbarth - Dosbarth E"}]
[null,"14_2",14,2,"D1","A",50,{"v":0.1,"d":"10.0%"},null,null,"530_1_3_202324",202324,530,"CT1",1,3,23597,null,null,33,"Exempt dwellings - class F - an unoccupied dwelling: - which has been unoccupied since date of death and deceased person had a freehold or leasehold interest in the dwelling for at least 6 months","Rhan F: Anheddau wedi'u heithrio yn ôl dosbarth - Dosbarth F",{"$f":"IF(FrontPage!$L$4=1,V35,U35)","v":"Rhan F: Anheddau wedi'u heithrio yn ôl dosbarth - Dosbarth F"}]
[null,{"$f":"C36&\"_\"&D36","v":"14_3"},14,3,"D1","B",50,{"v":0.1,"d":"10.0%"},null,null,"532_1_3_202324",202324,532,"CT1",1,3,26949,null,null,34,"Exempt dwellings - class G - an unoccupied dwelling: - where occupation is prohibited by law","Rhan F: Anheddau wedi'u heithrio yn ôl dosbarth - Dosbarth G",{"$f":"IF(FrontPage!$L$4=1,V36,U36)","v":"Rhan F: Anheddau wedi'u heithrio yn ôl dosbarth - Dosbarth G"}]
[null,"14_4",14,4,"D1","C",50,{"v":0.1,"d":"10.0%"},null,null,"534_1_3_202324",202324,534,"CT1",1,3,26571,null,null,35,"Exempt dwellings - class H - an unoccupied dwelling: - held available for occupation by a minister of any religious denomination","Rhan F: Anheddau wedi'u heithrio yn ôl dosbarth - Dosbarth H",{"$f":"IF(FrontPage!$L$4=1,V37,U37)","v":"Rhan F: Anheddau wedi'u heithrio yn ôl dosbarth - Dosbarth H"}]
[null,"14_5",14,5,"D1","D",50,{"v":0.1,"d":"10.0%"},null,null,"536_1_3_202324",202324,536,"CT1",1,3,14992,null,null,36,"Exempt dwellings - class I - an unoccupied dwelling - previously the sole or main residence of the owner or tenant who is receiving care in a place which is not a hospital etc and has been a 'relevant absentee' for whole period","Rhan F: Anheddau wedi'u heithrio yn ôl dosbarth - Dosbarth I",{"$f":"IF(FrontPage!$L$4=1,V38,U38)","v":"Rhan F: Anheddau wedi'u heithrio yn ôl dosbarth - Dosbarth I"}]
[null,"14_6",14,6,"D1","E",50,{"v":0.1,"d":"10.0%"},null,null,"538_1_3_202324",202324,538,"CT1",1,3,6285,null,null,37,"Exempt dwellings - class J - an unoccupied dwelling: - where the owner or tenant is in another place providing personal care and has been a 'relevant absentee' for the whole of the period","Rhan F: Anheddau wedi'u heithrio yn ôl dosbarth - Dosbarth J",{"$f":"IF(FrontPage!$L$4=1,V39,U39)","v":"Rhan F: Anheddau wedi'u heithrio yn ôl dosbarth - Dosbarth J"}]
[null,"14_7",14,7,"D1","F",50,{"v":0.1,"d":"10.0%"},null,null,"540_1_3_202324",202324,540,"CT1",1,3,24418,null,null,38,"Exempt dwellings - class K - an unoccupied dwelling: - where every qualifying person in either a student or became a student within 6 weeks of leaving the dwelling","Rhan F: Anheddau wedi'u heithrio yn ôl dosbarth - Dosbarth K",{"$f":"IF(FrontPage!$L$4=1,V40,U40)","v":"Rhan F: Anheddau wedi'u heithrio yn ôl dosbarth - Dosbarth K"}]
[null,"14_8",14,8,"D1","G",50,{"v":0.1,"d":"10.0%"},null,null,"542_1_3_202324",202324,542,"CT1",1,3,6467,null,null,39,"Exempt dwellings - class L - an unoccupied dwelling: - where a mortgagee is in possession","Rhan F: Anheddau wedi'u heithrio yn ôl dosbarth - Dosbarth L",{"$f":"IF(FrontPage!$L$4=1,V41,U41)","v":"Rhan F: Anheddau wedi'u heithrio yn ôl dosbarth - Dosbarth L"}]
[null,"14_9",14,9,"D1","H",50,{"v":0.1,"d":"10.0%"},null,null,"544_1_3_202324",202324,544,"CT1",1,3,26076,null,null,40,"Exempt dwellings - class M - a hall of residence: - provided predominately for students","Rhan F: Anheddau wedi'u heithrio yn ôl dosbarth - Dosbarth M",{"$f":"IF(FrontPage!$L$4=1,V42,U42)","v":"Rhan F: Anheddau wedi'u heithrio yn ôl dosbarth - Dosbarth M"}]
[null,"14_10",14,10,"D1","I",50,{"v":0.1,"d":"10.0%"},null,null,"545_1_3_202324",202324,545,"CT1",1,3,7913,null,null,41,"Exempt dwellings - class N - wholly occupied by: - students over 18 years, or - spouse or dependent (not a British citizen), or - under 20 years and undertaking a qualifying course of education","Rhan F: Anheddau wedi'u heithrio yn ôl dosbarth - Dosbarth N",{"$f":"IF(FrontPage!$L$4=1,V43,U43)","v":"Rhan F: Anheddau wedi'u heithrio yn ôl dosbarth - Dosbarth N"}]
[null,"14_11",14,11,"D1","Total",200,{"v":0.1,"d":"10.0%"},null,null,"546_1_3_202324",202324,546,"CT1",1,3,12824,null,null,42,"Exempt dwellings - class O - a dwelling: - owned by SoS for Defence and held for occupation by armed forces or visiting forces","Rhan F: Anheddau wedi'u heithrio yn ôl dosbarth - Dosbarth O",{"$f":"IF(FrontPage!$L$4=1,V44,U44)","v":"Rhan F: Anheddau wedi'u heithrio yn ôl dosbarth - Dosbarth O"}]
[null,"15_2",15,{"$f":"D35","v":2},"D2","A",50,{"v":0.1,"d":"10.0%"},null,null,"548_1_3_202324",202324,548,"CT1",1,3,3299,null,null,43,"Exempt dwellings - class P - a dwelling: - where at least one liable person is a member or the dependent of a member of a visiting force","Rhan F: Anheddau wedi'u heithrio yn ôl dosbarth - Dosbarth P",{"$f":"IF(FrontPage!$L$4=1,V45,U45)","v":"Rhan F: Anheddau wedi'u heithrio yn ôl dosbarth - Dosbarth P"}]
[null,"15_3",15,{"$f":"D36","v":3},"D2","B",50,{"v":0.1,"d":"10.0%"},null,null,"550_1_3_202324",202324,550,"CT1",1,3,14620,null,null,44,"Exempt dwellings - class Q - an unoccupied dwelling: - where a trustee in bankruptcy would be liable","Rhan F: Anheddau wedi'u heithrio yn ôl dosbarth - Dosbarth Q",{"$f":"IF(FrontPage!$L$4=1,V46,U46)","v":"Rhan F: Anheddau wedi'u heithrio yn ôl dosbarth - Dosbarth Q"}]
[null,"15_4",15,4,"D2","C",50,{"v":0.1,"d":"10.0%"},null,null,"552_1_3_202324",202324,552,"CT1",1,3,18418,null,null,45,"Exempt dwellings - class R - a dwelling: - which is an unoccupied pitch or mooring","Rhan F: Anheddau wedi'u heithrio yn ôl dosbarth - Dosbarth R",{"$f":"IF(FrontPage!$L$4=1,V47,U47)","v":"Rhan F: Anheddau wedi'u heithrio yn ôl dosbarth - Dosbarth R"}]
[null,"15_5",15,5,"D2","D",50,{"v":0.1,"d":"10.0%"},null,null,"512_1_4_202324",202324,512,"CT1",1,4,6689,null,null,46,"Exempt dwellings - class S - a dwelling: - occupied only by persons under 18 years","Rhan F: Anheddau wedi'u heithrio yn ôl dosbarth - Dosbarth S",{"$f":"IF(FrontPage!$L$4=1,V48,U48)","v":"Rhan F: Anheddau wedi'u heithrio yn ôl dosbarth - Dosbarth S"}]
[null,"15_6",15,6,"D2","E",50,{"v":0.1,"d":"10.0%"},null,null,"514_1_4_202324",202324,514,"CT1",1,4,11587.86,null,null,47,"Exempt dwellings - class T - a dwelling: - which is unnoccupiedannexed accommodation","Rhan F: Anheddau wedi'u heithrio yn ôl dosbarth - Dosbarth T",{"$f":"IF(FrontPage!$L$4=1,V49,U49)","v":"Rhan F: Anheddau wedi'u heithrio yn ôl dosbarth - Dosbarth T"}]
[null,"15_7",15,7,"D2","F",50,{"v":0.1,"d":"10.0%"},null,null,"516_1_4_202324",202324,516,"CT1",1,4,15001,null,null,49,"Exempt dwellings - class U - occupied dwelling: - occupied only by severely mentally impaired","Rhan F: Anheddau wedi'u heithrio yn ôl dosbarth - Dosbarth U",{"$f":"IF(FrontPage!$L$4=1,V50,U50)","v":"Rhan F: Anheddau wedi'u heithrio yn ôl dosbarth - Dosbarth U"}]
[null,"15_8",15,8,"D2","G",50,{"v":0.1,"d":"10.0%"},null,null,"518_1_4_202324",202324,518,"CT1",1,4,14344,null,null,50,"Exempt dwellings - class V - a dwelling: - occupied by diplomats etc","Rhan F: Anheddau wedi'u heithrio yn ôl dosbarth - Dosbarth V",{"$f":"IF(FrontPage!$L$4=1,V51,U51)","v":"Rhan F: Anheddau wedi'u heithrio yn ôl dosbarth - Dosbarth V"}]
[null,"15_9",15,9,"D2","H",50,{"v":0.1,"d":"10.0%"},null,null,"520_1_4_202324",202324,520,"CT1",1,4,20257,null,null,51,"Exempt dwellings - class W - a dwelling: - residence of a dependent relative within a single property","Rhan F: Anheddau wedi'u heithrio yn ôl dosbarth - Dosbarth W",{"$f":"IF(FrontPage!$L$4=1,V52,U52)","v":"Rhan F: Anheddau wedi'u heithrio yn ôl dosbarth - Dosbarth W"}]
[null,"15_10",15,10,"D2","I",50,{"v":0.1,"d":"10.0%"},null,null,"522_1_4_202324",202324,522,"CT1",1,4,16515,null,null,51.1,"Exempt dwellings - class X - care leavers","Rhan F: Pobl sy'n gadael gofal - Dosbarth X",{"$f":"IF(FrontPage!$L$4=1,V53,U53)","v":"Rhan F: Pobl sy'n gadael gofal - Dosbarth X"}]
[null,"15_11",15,11,"D2","Total",200,{"v":0.1,"d":"10.0%"},null,null,"524_1_4_202324",202324,524,"CT1",1,4,12715,null,null,51.5,"Exempt dwellings - TOTAL","Rhan F: Anheddau wedi'u heithrio yn ôl dosbarth - Cyfanswm pob dosbarth",{"$f":"IF(FrontPage!$L$4=1,V54,U54)","v":"Rhan F: Anheddau wedi'u heithrio yn ôl dosbarth - Cyfanswm pob dosbarth"}]
[null,"22_11",22,11,"E1","TOTAL",0,{"v":0.003,"d":"0.3%"},null,null,"526_1_4_202324",202324,526,"CT1",1,4,7220,null,null,52,"G1 - Number of properties","G1 - Nifer yr eiddo gyda gostyngiad amrywiol",{"$f":"IF(FrontPage!$L$4=1,V55,U55)","v":"G1 - Nifer yr eiddo gyda gostyngiad amrywiol"}]
[null,"23_11",23,11,"E2","TOTAL",0,{"v":0.016,"d":"1.6%"},null,null,"528_1_4_202324",202324,528,"CT1",1,4,13840,null,null,53,"G1 - Discounts","G2 - Disgowntiau",{"$f":"IF(FrontPage!$L$4=1,V56,U56)","v":"G2 - Disgowntiau"}]
[null,"25_11",25,11,"E4","TOTAL",50,{"v":0.1,"d":"10.0%"},null,null,"530_1_4_202324",202324,530,"CT1",1,4,18198,null,null,54,"G3 - Number of properties","G3 - Nifer yr eiddo gyda gostyngiad amrywiol",{"$f":"IF(FrontPage!$L$4=1,V57,U57)","v":"G3 - Nifer yr eiddo gyda gostyngiad amrywiol"}]
[null,"27_11",27,11,"E6","TOTAL",50,{"v":0.02,"d":"2.0%"},null,null,"532_1_4_202324",202324,532,"CT1",1,4,23470,null,null,55,"G4 - Discounts","G4 - Disgowntiau",{"$f":"IF(FrontPage!$L$4=1,V58,U58)","v":"G4 - Disgowntiau"}]
[null,"28_11",28,11,"FA","TOTAL",50,{"v":0.1,"d":"10.0%"},null,null,"534_1_4_202324",202324,534,"CT1",1,4,11428,null,null,56,"G5 - Number of properties","G5 - Nifer yr eiddo gyda gostyngiad amrywiol",{"$f":"IF(FrontPage!$L$4=1,V59,U59)","v":"G5 - Nifer yr eiddo gyda gostyngiad amrywiol"}]
[null,"29_11",29,11,"FB","TOTAL",50,{"v":0.1,"d":"10.0%"},null,null,"536_1_4_202324",202324,536,"CT1",1,4,14466,null,null,57,"G6 - Discounts","G6 - Disgowntiau",{"$f":"IF(FrontPage!$L$4=1,V60,U60)","v":"G6 - Disgowntiau"}]
[null,"30_11",30,11,"FC","TOTAL",50,{"v":0.1,"d":"10.0%"},null,null,"538_1_4_202324",202324,538,"CT1",1,4,13886,null,null,58,"G7 - Number of properties","G7 - Nifer yr eiddo gyda gostyngiad amrywiol",{"$f":"IF(FrontPage!$L$4=1,V61,U61)","v":"G7 - Nifer yr eiddo gyda gostyngiad amrywiol"}]
[null,"31_11",31,11,"FD","TOTAL",50,{"v":0.1,"d":"10.0%"},null,null,"540_1_4_202324",202324,540,"CT1",1,4,16405,null,null,59,"G8 - Discounts","G8 - Disgowntiau",{"$f":"IF(FrontPage!$L$4=1,V62,U62)","v":"G8 - Disgowntiau"}]
[null,"32_11",32,11,"FE","TOTAL",50,{"v":0.1,"d":"10.0%"},null,null,"542_1_4_202324",202324,542,"CT1",1,4,2289,null,null,60,"G9 - Number of properties","G9 - Nifer yr eiddo gyda gostyngiad amrywiol",{"$f":"IF(FrontPage!$L$4=1,V63,U63)","v":"G9 - Nifer yr eiddo gyda gostyngiad amrywiol"}]
[null,"33_11",33,11,"FF","TOTAL",50,{"v":0.1,"d":"10.0%"},null,null,"544_1_4_202324",202324,544,"CT1",1,4,18356,null,null,61,"G10 - Discounts","G10 - Disgowntiau",{"$f":"IF(FrontPage!$L$4=1,V64,U64)","v":"G10 - Disgowntiau"}]
[null,"34_11",34,11,"FG","TOTAL",50,{"v":0.1,"d":"10.0%"},null,null,"545_1_4_202324",202324,545,"CT1",1,4,2625,null,null,62,"G11 - Total number of properties","G11 - Cyfanswm nifer yr eiddo gyda gostyngiad amrywiol",{"$f":"IF(FrontPage!$L$4=1,V65,U65)","v":"G11 - Cyfanswm nifer yr eiddo gyda gostyngiad amrywiol"}]
[null,"35_11",35,11,"FH","TOTAL",50,{"v":0.1,"d":"10.0%"},null,null,"546_1_4_202324",202324,546,"CT1",1,4,11824,null,null,63,"G12 - Total discounts (G2+G4+G6+G8+G10) (see note 11)","G12 - Cyfanswm disgowntiau",{"$f":"IF(FrontPage!$L$4=1,V66,U66)","v":"G12 - Cyfanswm disgowntiau"}]
[null,"36_11",36,11,"FI","TOTAL",50,{"v":0.1,"d":"10.0%"},null,null,"548_1_4_202324",202324,548,"CT1",1,4,6930,null,null,64,"H1 - Chargeable long term empty properties with no discount or premium","H1 - Eiddo gwag hirdymor trethadwy heb unrhyw ddisgownt na phremiwm",{"$f":"IF(FrontPage!$L$4=1,V67,U67)","v":"H1 - Eiddo gwag hirdymor trethadwy heb unrhyw ddisgownt na phremiwm"}]
[null,{"$f":"C68&\"_\"&D68","v":"37_11"},37,11,"FJ","TOTAL",50,{"v":0.1,"d":"10.0%"},null,null,{"$f":"M68&\"_\"&O68&\"_\"&P68&\"_\"&L68","v":"550_1_4_202324"},202324,550,"CT1",1,4,17700,null,null,64.1,"H1.1 - Enter the total number of chargeable second homes that are caravans, lodges or chalets and are charged a premium (included in H6g)","H1.1 - Nodwch nifer yr eiddo trethadwy gwag dros 6 mis ond llai na 12 mis (wedi’u cynnwys yn H1)",{"$f":"IF(FrontPage!$L$4=1,V68,U68)","v":"H1.1 - Nodwch nifer yr eiddo trethadwy gwag dros 6 mis ond llai na 12 mis (wedi’u cynnwys yn H1)"}]
[null,"38_11",38,11,"FK","TOTAL",50,{"v":0.1,"d":"10.0%"},null,null,"552_1_4_202324",202324,552,"CT1",1,4,31583,null,null,65,"H2 - Chargeable second homes with no discount or premium","H2 - Ail gartrefi sydd yn daladwy heb ddisgownt na phremiwm",{"$f":"IF(FrontPage!$L$4=1,V69,U69)","v":"H2 - Ail gartrefi sydd yn daladwy heb ddisgownt na phremiwm"}]
[null,"39_11",39,11,"FL","TOTAL",50,{"v":0.1,"d":"10.0%"},null,null,"512_1_5_202324",202324,512,"CT1",1,5,7131,null,null,65.1,"H2.1 - Enter the number of chargeable second homes that are caravans, lodges or chalets (included in H2)","H2.1 - Nodwch nifer yr ail gartrefi trethadwy sy’n garafannau, cabanau neu gabanau gwyliau (wedi’u cynnwys yn H2)",{"$f":"IF(FrontPage!$L$4=1,V70,U70)","v":"H2.1 - Nodwch nifer yr ail gartrefi trethadwy sy’n garafannau, cabanau neu gabanau gwyliau (wedi’u cynnwys yn H2)"}]
[null,"40_11",40,11,"FM","TOTAL",50,{"v":0.1,"d":"10.0%"},null,null,"514_1_5_202324",202324,514,"CT1",1,5,9883.715,null,null,67,"H3b - Long term empty property discount 25%","H3b - Disgownt eiddo gwag hirdymor 25%",{"$f":"IF(FrontPage!$L$4=1,V71,U71)","v":"H3b - Disgownt eiddo gwag hirdymor 25%"}]
[null,"41_11",41,11,"FN","TOTAL",50,{"v":0.1,"d":"10.0%"},null,null,"516_1_5_202324",202324,516,"CT1",1,5,11488,null,null,68,"H3c - Long term empty property discount 50%","H3c - Disgownt eiddo gwag hirdymor 50%",{"$f":"IF(FrontPage!$L$4=1,V72,U72)","v":"H3c - Disgownt eiddo gwag hirdymor 50%"}]
[null,"42_11",42,11,"FO","TOTAL",50,{"v":0.1,"d":"10.0%"},null,null,"518_1_5_202324",202324,518,"CT1",1,5,7772,null,null,70,"H3e - Long term empty property discount 100%","H3e - Disgownt eiddo gwag hirdymor 100%",{"$f":"IF(FrontPage!$L$4=1,V73,U73)","v":"H3e - Disgownt eiddo gwag hirdymor 100%"}]
[null,"43_11",43,11,"FP","TOTAL",50,{"v":0.1,"d":"10.0%"},null,null,"520_1_5_202324",202324,520,"CT1",1,5,12970.66,null,null,71,"H3f - Long term empty property discount ?%","H3f - Disgownt eiddo gwag hirdymor ?%",{"$f":"IF(FrontPage!$L$4=1,V74,U74)","v":"H3f - Disgownt eiddo gwag hirdymor ?%"}]
[null,"44_11",44,11,"FQ","TOTAL",50,{"v":0.1,"d":"10.0%"},null,null,"522_1_5_202324",202324,522,"CT1",1,5,9896,null,null,71.1,"H3fa - Long term empty property discount ?%","H3fa - Disgownt eiddo gwag hirdymor ?%",{"$f":"IF(FrontPage!$L$4=1,V75,U75)","v":"H3fa - Disgownt eiddo gwag hirdymor ?%"}]
[null,"45_11",45,11,"FR","TOTAL",50,{"v":0.1,"d":"10.0%"},null,null,"524_1_5_202324",202324,524,"CT1",1,5,10411,null,null,71.2,"H3fb - Long term empty property discount ?%","H3fb - Disgownt eiddo gwag hirdymor ?%",{"$f":"IF(FrontPage!$L$4=1,V76,U76)","v":"H3fb - Disgownt eiddo gwag hirdymor ?%"}]
[null,"46_11",46,11,"FS","TOTAL",50,{"v":0.1,"d":"10.0%"},null,null,"526_1_5_202324",202324,526,"CT1",1,5,7215,null,null,72,"H3g - Total Long term empty property discount","H3g - Cyfanswm Disgownt eiddo gwag hirdymor",{"$f":"IF(FrontPage!$L$4=1,V77,U77)","v":"H3g - Cyfanswm Disgownt eiddo gwag hirdymor"}]
[null,"47_11",47,11,"FT","TOTAL",50,{"v":0.1,"d":"10.0%"},null,null,"528_1_5_202324",202324,528,"CT1",1,5,11059,null,null,74,"H4b - Long term empty property premium 25%","H4b - Premiwm eiddo gwag hirdymor 25%",{"$f":"IF(FrontPage!$L$4=1,V78,U78)","v":"H4b - Premiwm eiddo gwag hirdymor 25%"}]
[null,"49_11",49,11,"FU","TOTAL",50,{"v":0.1,"d":"10.0%"},null,null,"530_1_5_202324",202324,530,"CT1",1,5,14314,null,null,75,"H4c - Long term empty property premium 50%","H4c - Premiwm eiddo gwag hirdymor 50%",{"$f":"IF(FrontPage!$L$4=1,V79,U79)","v":"H4c - Premiwm eiddo gwag hirdymor 50%"}]
[null,"50_11",50,11,"FV","TOTAL",50,{"v":0.1,"d":"10.0%"},null,null,"532_1_5_202324",202324,532,"CT1",1,5,15879,null,null,77,"H4e - Long term empty property premium 100%","H4e - Premiwm eiddo gwag hirdymor 100%",{"$f":"IF(FrontPage!$L$4=1,V80,U80)","v":"H4e - Premiwm eiddo gwag hirdymor 100%"}]
[null,"51_11",51,11,"FW","TOTAL",50,{"v":0.1,"d":"10.0%"},null,null,"534_1_5_202324",202324,534,"CT1",1,5,7147,null,null,78,"H4f - Long term empty property premium ?%","H4f - Premiwm eiddo gwag hirdymor ?%",{"$f":"IF(FrontPage!$L$4=1,V81,U81)","v":"H4f - Premiwm eiddo gwag hirdymor ?%"}]
[null,"51.5_11",51.5,11,"F","TOTAL",50,{"v":0.1,"d":"10.0%"},null,null,"536_1_5_202324",202324,536,"CT1",1,5,11041,null,null,78.1,"H4fa - Long term empty property premium ?%","H4fa - Premiwm eiddo gwag hirdymor ?%",{"$f":"IF(FrontPage!$L$4=1,V82,U82)","v":"H4fa - Premiwm eiddo gwag hirdymor ?%"}]
[{"$nulls":10},"538_1_5_202324",202324,538,"CT1",1,5,11451,null,null,78.2,"H4fb - Long term empty property premium ?%","H4fb - Premiwm eiddo gwag hirdymor ?%",{"$f":"IF(FrontPage!$L$4=1,V83,U83)","v":"H4fb - Premiwm eiddo gwag hirdymor ?%"}]
[{"$nulls":10},"540_1_5_202324",202324,540,"CT1",1,5,9282,null,null,79,"H4g - Total Long term empty property premium","H4g - Cyfanswm Premiwm eiddo gwag hirdymor",{"$f":"IF(FrontPage!$L$4=1,V84,U84)","v":"H4g - Cyfanswm Premiwm eiddo gwag hirdymor"}]
[{"$nulls":10},"542_1_5_202324",202324,542,"CT1",1,5,2196,null,null,81,"H5b - Second homes discount 25%","H5b - Disgownt ail gartref 25%",{"$f":"IF(FrontPage!$L$4=1,V85,U85)","v":"H5b - Disgownt ail gartref 25%"}]
[{"$nulls":10},"544_1_5_202324",202324,544,"CT1",1,5,9214,null,null,82,"H5c - Second homes discount 50%","H5c - Disgownt ail gartref 50%",{"$f":"IF(FrontPage!$L$4=1,V86,U86)","v":"H5c - Disgownt ail gartref 50%"}]
[{"$nulls":10},"545_1_5_202324",202324,545,"CT1",1,5,1686,null,null,84,"H5e - Second homes discount 100%","H5e - Disgownt ail gartref 100%",{"$f":"IF(FrontPage!$L$4=1,V87,U87)","v":"H5e - Disgownt ail gartref 100%"}]
[{"$nulls":10},"546_1_5_202324",202324,546,"CT1",1,5,4227,null,null,85,"H5f - Second homes discount ?%","H5f - Disgownt ail gartref ?%",{"$f":"IF(FrontPage!$L$4=1,V88,U88)","v":"H5f - Disgownt ail gartref ?%"}]
[{"$nulls":10},"548_1_5_202324",202324,548,"CT1",1,5,9148,null,null,85.1,"H5fa - Second homes discount ?%","H5fa - Disgownt ail gartref ?%",{"$f":"IF(FrontPage!$L$4=1,V89,U89)","v":"H5fa - Disgownt ail gartref ?%"}]
[{"$nulls":10},"550_1_5_202324",202324,550,"CT1",1,5,12501,null,null,85.2,"H5fb - Second homes discount ?%","H5fb - Disgownt ail gartref ?%",{"$f":"IF(FrontPage!$L$4=1,V90,U90)","v":"H5fb - Disgownt ail gartref ?%"}]
[{"$nulls":10},"552_1_5_202324",202324,552,"CT1",1,5,34696,null,null,86,"H5g - Total Second homes discount","H5g - Cyfanswm Disgownt ail gartref",{"$f":"IF(FrontPage!$L$4=1,V91,U91)","v":"H5g - Cyfanswm Disgownt ail gartref"}]
[{"$nulls":10},"512_1_6_202324",202324,512,"CT1",1,6,5372,null,null,88,"H6b - Second homes premium 25%","H6b - Premiwm ail gartref 25%",{"$f":"IF(FrontPage!$L$4=1,V92,U92)","v":"H6b - Premiwm ail gartref 25%"}]
[{"$nulls":10},"514_1_6_202324",202324,514,"CT1",1,6,7770.595,null,null,89,"H6c - Second homes premium 50%","H6c - Premiwm ail gartref 50%",{"$f":"IF(FrontPage!$L$4=1,V93,U93)","v":"H6c - Premiwm ail gartref 50%"}]
[{"$nulls":10},"516_1_6_202324",202324,516,"CT1",1,6,8982,null,null,91,"H6e - Second homes premium 100%","H6e - Premiwm ail gartref 100%",{"$f":"IF(FrontPage!$L$4=1,V94,U94)","v":"H6e - Premiwm ail gartref 100%"}]
[{"$nulls":10},"518_1_6_202324",202324,518,"CT1",1,6,5506,null,null,92,"H6f - Second homes premium ?%","H6f - Premiwm ail gartref ?%",{"$f":"IF(FrontPage!$L$4=1,V95,U95)","v":"H6f - Premiwm ail gartref ?%"}]
[{"$nulls":10},"520_1_6_202324",202324,520,"CT1",1,6,10779,null,null,92.1,"H6fa - Second homes premium ?%","H6fa - Premiwm ail gartref ?%",{"$f":"IF(FrontPage!$L$4=1,V96,U96)","v":"H6fa - Premiwm ail gartref ?%"}]
[{"$nulls":10},"522_1_6_202324",202324,522,"CT1",1,6,7968,null,null,92.2,"H6fb - Second homes premium ?%","H6fb - Premiwm ail gartref ?%",{"$f":"IF(FrontPage!$L$4=1,V97,U97)","v":"H6fb - Premiwm ail gartref ?%"}]
[{"$nulls":10},"524_1_6_202324",202324,524,"CT1",1,6,12146,null,null,93,"H6g - Total Second homes premium","H6g - Cyfanswm Premiwm ail gartref",{"$f":"IF(FrontPage!$L$4=1,V98,U98)","v":"H6g - Cyfanswm Premiwm ail gartref"}]
[{"$nulls":10},"526_1_6_202324",202324,526,"CT1",1,6,8556,null,null,93.1,"H6g.1 - Enter the total number of chargeable second homes that are caravans, lodges or chalets and are charged a premium (included in H6g)","H6g.1 - Nodwch nifer yr ail gartrefi trethadwy sy’n garafannau, cabanau neu gabanau gwyliau (wedi’u cynnwys yn H6g)",{"$f":"IF(FrontPage!$L$4=1,V99,U99)","v":"H6g.1 - Nodwch nifer yr ail gartrefi trethadwy sy’n garafannau, cabanau neu gabanau gwyliau (wedi’u cynnwys yn H6g)"}]
[{"$nulls":10},"528_1_6_202324",202324,528,"CT1",1,6,12030,null,null,94,"H7 - Total chargeable long term empty properties","H7 - Cyfanswm eiddo gwag hirdymor sy'n daladwy",{"$f":"IF(FrontPage!$L$4=1,V100,U100)","v":"H7 - Cyfanswm eiddo gwag hirdymor sy'n daladwy"}]
[{"$nulls":10},"530_1_6_202324",202324,530,"CT1",1,6,13095,null,null,95,"H8 - Total chargeable second homes","H8 - Cyfanswm ail gartrefi sy'n daladwy",{"$f":"IF(FrontPage!$L$4=1,V101,U101)","v":"H8 - Cyfanswm ail gartrefi sy'n daladwy"}]
[{"$nulls":10},"532_1_6_202324",202324,532,"CT1",1,6,12158,null,null,97,"H9b - Reduction due to long term empty property discount 25%","H9b - Gostyngiad oherwydd disgownt eiddo gwag hirdymor 25%",{"$f":"IF(FrontPage!$L$4=1,V102,U102)","v":"H9b - Gostyngiad oherwydd disgownt eiddo gwag hirdymor 25%"}]
[{"$nulls":10},"534_1_6_202324",202324,534,"CT1",1,6,4464,null,null,98,"H9c - Reduction due to long term empty property discount 50%","H9c - Gostyngiad oherwydd disgownt eiddo gwag hirdymor 50%",{"$f":"IF(FrontPage!$L$4=1,V103,U103)","v":"H9c - Gostyngiad oherwydd disgownt eiddo gwag hirdymor 50%"}]
[{"$nulls":10},"536_1_6_202324",202324,536,"CT1",1,6,7827,null,null,100,"H9e - Reduction due to long term empty property discount 100%","H9e - Gostyngiad oherwydd disgownt eiddo gwag hirdymor 100%",{"$f":"IF(FrontPage!$L$4=1,V104,U104)","v":"H9e - Gostyngiad oherwydd disgownt eiddo gwag hirdymor 100%"}]
[{"$nulls":10},"538_1_6_202324",202324,538,"CT1",1,6,10358,null,null,101,"H9f - Reduction due to long term empty property discount ?%","H9f - Gostyngiad oherwydd disgownt eiddo gwag hirdymor ?%",{"$f":"IF(FrontPage!$L$4=1,V105,U105)","v":"H9f - Gostyngiad oherwydd disgownt eiddo gwag hirdymor ?%"}]
[{"$nulls":10},"540_1_6_202324",202324,540,"CT1",1,6,6834,null,null,101.1,"H9fa - Reduction due to long term empty property discount ?%","H9fa - Gostyngiad oherwydd disgownt eiddo gwag hirdymor ?%",{"$f":"IF(FrontPage!$L$4=1,V106,U106)","v":"H9fa - Gostyngiad oherwydd disgownt eiddo gwag hirdymor ?%"}]
[{"$nulls":10},"542_1_6_202324",202324,542,"CT1",1,6,1548,null,null,101.2,"H9fb - Reduction due to long term empty property discount ?%","H9fb - Gostyngiad oherwydd disgownt eiddo gwag hirdymor ?%",{"$f":"IF(FrontPage!$L$4=1,V107,U107)","v":"H9fb - Gostyngiad oherwydd disgownt eiddo gwag hirdymor ?%"}]
[{"$nulls":10},"544_1_6_202324",202324,544,"CT1",1,6,6612,null,null,102,"H9g - Total Reduction due to long term empty property discount","H9g - Cyfanswm Gostyngiad oherwydd disgownt eiddo gwag hirdymor",{"$f":"IF(FrontPage!$L$4=1,V108,U108)","v":"H9g - Cyfanswm Gostyngiad oherwydd disgownt eiddo gwag hirdymor"}]
[{"$nulls":10},"545_1_6_202324",202324,545,"CT1",1,6,860,null,null,104,"H10b - Percentage premium 25%","H10b - Canran premiwm 25%",{"$f":"IF(FrontPage!$L$4=1,V109,U109)","v":"H10b - Canran premiwm 25%"}]
[{"$nulls":10},"546_1_6_202324",202324,546,"CT1",1,6,4188,null,null,105,"H10c - Percentage premium 50%","H10c - Canran premiwm 50%",{"$f":"IF(FrontPage!$L$4=1,V110,U110)","v":"H10c - Canran premiwm 50%"}]
[{"$nulls":10},"548_1_6_202324",202324,548,"CT1",1,6,7312,null,null,107,"H10e - Percentage premium 100%","H10e - Canran premiwm 100%",{"$f":"IF(FrontPage!$L$4=1,V111,U111)","v":"H10e - Canran premiwm 100%"}]
[{"$nulls":10},"550_1_6_202324",202324,550,"CT1",1,6,8142,null,null,108,"H10f - Percentage premium ?%","H10f - Canran premiwm ?%",{"$f":"IF(FrontPage!$L$4=1,V112,U112)","v":"H10f - Canran premiwm ?%"}]
[{"$nulls":10},"552_1_6_202324",202324,552,"CT1",1,6,27175,null,null,108.1,"H10fa - Percentage premium ?%","H10fa - Canran premiwm ?%",{"$f":"IF(FrontPage!$L$4=1,V113,U113)","v":"H10fa - Canran premiwm ?%"}]
[{"$nulls":10},"512_1_7_202324",202324,512,"CT1",1,7,2624,null,null,108.2,"H10fb - Percentage premium ?%","H10fb - Canran premiwm ?%",{"$f":"IF(FrontPage!$L$4=1,V114,U114)","v":"H10fb - Canran premiwm ?%"}]
[{"$nulls":10},"514_1_7_202324",202324,514,"CT1",1,7,3790,null,null,109,"H10g - Total Percentage premium","H10g - Cyfanswm Canran premiwm",{"$f":"IF(FrontPage!$L$4=1,V115,U115)","v":"H10g - Cyfanswm Canran premiwm"}]
[{"$nulls":10},"516_1_7_202324",202324,516,"CT1",1,7,4922,null,null,111,"H11b - Reduction due to second homes discount 25%","H11b - Gostyngiad oherwydd disgownt ail gartref 25%",{"$f":"IF(FrontPage!$L$4=1,V116,U116)","v":"H11b - Gostyngiad oherwydd disgownt ail gartref 25%"}]
[{"$nulls":10},"518_1_7_202324",202324,518,"CT1",1,7,3783,null,null,112,"H11c - Reduction due to second homes discount 50%","H11c - Gostyngiad oherwydd disgownt ail gartref 50%",{"$f":"IF(FrontPage!$L$4=1,V117,U117)","v":"H11c - Gostyngiad oherwydd disgownt ail gartref 50%"}]
[{"$nulls":10},"520_1_7_202324",202324,520,"CT1",1,7,7572,null,null,114,"H11e - Reduction due to second homes discount 100%","H11e - Gostyngiad oherwydd disgownt ail gartref 100%",{"$f":"IF(FrontPage!$L$4=1,V118,U118)","v":"H11e - Gostyngiad oherwydd disgownt ail gartref 100%"}]
[{"$nulls":10},"522_1_7_202324",202324,522,"CT1",1,7,5043,null,null,115,"H11f - Reduction due to second homes discount ?%","H11f - Gostyngiad oherwydd disgownt ail gartref ?%",{"$f":"IF(FrontPage!$L$4=1,V119,U119)","v":"H11f - Gostyngiad oherwydd disgownt ail gartref ?%"}]
[{"$nulls":10},"524_1_7_202324",202324,524,"CT1",1,7,9392,null,null,115.1,"H11fa - Reduction due to second homes discount ?%","H11fa - Gostyngiad oherwydd disgownt ail gartref ?%",{"$f":"IF(FrontPage!$L$4=1,V120,U120)","v":"H11fa - Gostyngiad oherwydd disgownt ail gartref ?%"}]
[{"$nulls":10},"526_1_7_202324",202324,526,"CT1",1,7,3554,null,null,115.2,"H11fb - Reduction due to second homes discount ?%","H11fb - Gostyngiad oherwydd disgownt ail gartref ?%",{"$f":"IF(FrontPage!$L$4=1,V121,U121)","v":"H11fb - Gostyngiad oherwydd disgownt ail gartref ?%"}]
[{"$nulls":10},"528_1_7_202324",202324,528,"CT1",1,7,5842,null,null,116,"H11g - Total Reduction due to second homes discount","H11g - Cyfanswm Gostyngiad oherwydd disgownt ail gartref",{"$f":"IF(FrontPage!$L$4=1,V122,U122)","v":"H11g - Cyfanswm Gostyngiad oherwydd disgownt ail gartref"}]
[{"$nulls":10},"530_1_7_202324",202324,530,"CT1",1,7,6509,null,null,118,"H12b - Increase due second homes premium 25%","H12b - Cynnydd oherwydd disgownt ail gartref 25%",{"$f":"IF(FrontPage!$L$4=1,V123,U123)","v":"H12b - Cynnydd oherwydd disgownt ail gartref 25%"}]
[{"$nulls":10},"532_1_7_202324",202324,532,"CT1",1,7,7846,null,null,119,"H12c - Increase due second homes premium 50%","H12c - Cynnydd oherwydd disgownt ail gartref 50%",{"$f":"IF(FrontPage!$L$4=1,V124,U124)","v":"H12c - Cynnydd oherwydd disgownt ail gartref 50%"}]
[{"$nulls":10},"534_1_7_202324",202324,534,"CT1",1,7,1366,null,null,121,"H12e - Increase due second homes premium 100%","H12e - Cynnydd oherwydd disgownt ail gartref 100%",{"$f":"IF(FrontPage!$L$4=1,V125,U125)","v":"H12e - Cynnydd oherwydd disgownt ail gartref 100%"}]
[{"$nulls":10},"536_1_7_202324",202324,536,"CT1",1,7,4350,null,null,122,"H12f - Increase due second homes premium ?%","H12f - Cynnydd oherwydd disgownt ail gartref ?%",{"$f":"IF(FrontPage!$L$4=1,V126,U126)","v":"H12f - Cynnydd oherwydd disgownt ail gartref ?%"}]
[{"$nulls":10},"538_1_7_202324",202324,538,"CT1",1,7,7474,null,null,122.1,"H12fa - Increase due second homes premium ?%","H12fa - Cynnydd oherwydd disgownt ail gartref ?%",{"$f":"IF(FrontPage!$L$4=1,V127,U127)","v":"H12fa - Cynnydd oherwydd disgownt ail gartref ?%"}]
[{"$nulls":10},"540_1_7_202324",202324,540,"CT1",1,7,3385,null,null,122.2,"H12fb - Increase due second homes premium ?%","H12fb - Cynnydd oherwydd disgownt ail gartref ?%",{"$f":"IF(FrontPage!$L$4=1,V128,U128)","v":"H12fb - Cynnydd oherwydd disgownt ail gartref ?%"}]
[{"$nulls":10},"542_1_7_202324",202324,542,"CT1",1,7,559,null,null,123,"H12g - Total Increase due second homes premium","H12g - Cyfanswm Cynnydd oherwydd disgownt ail gartref",{"$f":"IF(FrontPage!$L$4=1,V129,U129)","v":"H12g - Cyfanswm Cynnydd oherwydd disgownt ail gartref"}]
[{"$nulls":10},"544_1_7_202324",202324,544,"CT1",1,7,2378]
[{"$nulls":10},"545_1_7_202324",202324,545,"CT1",1,7,331]
[{"$nulls":10},{"$f":"M132&\"_\"&O132&\"_\"&P132&\"_\"&L132","v":"546_1_7_202324"},202324,546,"CT1",1,7,2339]
[{"$nulls":10},"548_1_7_202324",202324,548,"CT1",1,7,7797]
[{"$nulls":10},"550_1_7_202324",202324,550,"CT1",1,7,5839]
[{"$nulls":10},"552_1_7_202324",202324,552,"CT1",1,7,20182]
[{"$nulls":10},"512_1_8_202324",202324,512,"CT1",1,8,1044]
[{"$nulls":10},"514_1_8_202324",202324,514,"CT1",1,8,1189,null,null,"AllCols"]
[{"$nulls":10},"516_1_8_202324",202324,516,"CT1",1,8,1881,null,null,"Col","Desc","T/E"]
[{"$nulls":10},"518_1_8_202324",202324,518,"CT1",1,8,2012,null,null,1,"A-"]
[{"$nulls":10},"520_1_8_202324",202324,520,"CT1",1,8,3156,null,null,2,"A"]
[{"$nulls":10},"522_1_8_202324",202324,522,"CT1",1,8,2505,null,null,3,"B"]
[{"$nulls":10},"524_1_8_202324",202324,524,"CT1",1,8,4048,null,null,4,"C"]
[{"$nulls":10},"526_1_8_202324",202324,526,"CT1",1,8,907,null,null,5,"D"]
[{"$nulls":10},"528_1_8_202324",202324,528,"CT1",1,8,2028,null,null,6,"E"]
[{"$nulls":10},"530_1_8_202324",202324,530,"CT1",1,8,2178,null,null,7,"F"]
[{"$nulls":10},"532_1_8_202324",202324,532,"CT1",1,8,3771,null,null,8,"G"]
[{"$nulls":10},"534_1_8_202324",202324,534,"CT1",1,8,521,null,null,9,"H"]
[{"$nulls":10},"536_1_8_202324",202324,536,"CT1",1,8,1470,null,null,10,"I"]
[{"$nulls":10},"538_1_8_202324",202324,538,"CT1",1,8,5779,null,null,11,"TOTAL","T"]
[{"$nulls":10},"540_1_8_202324",202324,540,"CT1",1,8,1158,null,null,12,"%","E",null,{"$f":"5874/44","v":133.5}]
[{"$nulls":10},"542_1_8_202324",202324,542,"CT1",1,8,155]
[{"$nulls":10},"544_1_8_202324",202324,544,"CT1",1,8,800]
[{"$nulls":10},"545_1_8_202324",202324,545,"CT1",1,8,60]
[{"$nulls":10},"546_1_8_202324",202324,546,"CT1",1,8,665]
[{"$nulls":10},"548_1_8_202324",202324,548,"CT1",1,8,5364]
[{"$nulls":10},"550_1_8_202324",202324,550,"CT1",1,8,2630]
[{"$nulls":10},"552_1_8_202324",202324,552,"CT1",1,8,9979]
[{"$nulls":10},"512_1_9_202324",202324,512,"CT1",1,9,159]
[{"$nulls":10},"514_1_9_202324",202324,514,"CT1",1,9,191]
[{"$nulls":10},"516_1_9_202324",202324,516,"CT1",1,9,415]
[{"$nulls":10},"518_1_9_202324",202324,518,"CT1",1,9,313]
[{"$nulls":10},"520_1_9_202324",202324,520,"CT1",1,9,583]
[{"$nulls":10},"522_1_9_202324",202324,522,"CT1",1,9,701]
[{"$nulls":10},"524_1_9_202324",202324,524,"CT1",1,9,565]
[{"$nulls":10},"526_1_9_202324",202324,526,"CT1",1,9,98]
[{"$nulls":10},"528_1_9_202324",202324,528,"CT1",1,9,315]
[{"$nulls":10},"530_1_9_202324",202324,530,"CT1",1,9,302]
[{"$nulls":10},"532_1_9_202324",202324,532,"CT1",1,9,1145]
[{"$nulls":10},"534_1_9_202324",202324,534,"CT1",1,9,104]
[{"$nulls":10},"536_1_9_202324",202324,536,"CT1",1,9,283]
[{"$nulls":10},"538_1_9_202324",202324,538,"CT1",1,9,2212]
[{"$nulls":10},"540_1_9_202324",202324,540,"CT1",1,9,185]
[{"$nulls":10},"542_1_9_202324",202324,542,"CT1",1,9,2]
[{"$nulls":10},"544_1_9_202324",202324,544,"CT1",1,9,86]
[{"$nulls":10},"545_1_9_202324",202324,545,"CT1",1,9,3]
[{"$nulls":10},"546_1_9_202324",202324,546,"CT1",1,9,66]
[{"$nulls":10},"548_1_9_202324",202324,548,"CT1",1,9,1739]
[{"$nulls":10},"550_1_9_202324",202324,550,"CT1",1,9,553]
[{"$nulls":10},"552_1_9_202324",202324,552,"CT1",1,9,2717]
[{"$nulls":10},"512_1_10_202324",202324,512,"CT1",1,10,52]
[{"$nulls":10},"514_1_10_202324",202324,514,"CT1",1,10,74]
[{"$nulls":10},"516_1_10_202324",202324,516,"CT1",1,10,160]
[{"$nulls":10},"518_1_10_202324",202324,518,"CT1",1,10,167]
[{"$nulls":10},"520_1_10_202324",202324,520,"CT1",1,10,216]
[{"$nulls":10},"522_1_10_202324",202324,522,"CT1",1,10,289]
[{"$nulls":10},"524_1_10_202324",202324,524,"CT1",1,10,195]
[{"$nulls":10},"526_1_10_202324",202324,526,"CT1",1,10,22]
[{"$nulls":10},"528_1_10_202324",202324,528,"CT1",1,10,90]
[{"$nulls":10},"530_1_10_202324",202324,530,"CT1",1,10,73]
[{"$nulls":10},"532_1_10_202324",202324,532,"CT1",1,10,520]
[{"$nulls":10},"534_1_10_202324",202324,534,"CT1",1,10,22]
[{"$nulls":10},"536_1_10_202324",202324,536,"CT1",1,10,106]
[{"$nulls":10},"538_1_10_202324",202324,538,"CT1",1,10,1038]
[{"$nulls":10},"540_1_10_202324",202324,540,"CT1",1,10,68]
[{"$nulls":10},"542_1_10_202324",202324,542,"CT1",1,10,7]
[{"$nulls":10},{"$f":"M196&\"_\"&O196&\"_\"&P196&\"_\"&L196","v":"544_1_10_202324"},202324,544,"CT1",1,10,69]
[{"$nulls":10},"545_1_10_202324",202324,545,"CT1",1,10,18]
[{"$nulls":10},"546_1_10_202324",202324,546,"CT1",1,10,24]
[{"$nulls":10},"548_1_10_202324",202324,548,"CT1",1,10,655]
[{"$nulls":10},"550_1_10_202324",202324,550,"CT1",1,10,187]
[{"$nulls":10},"552_1_10_202324",202324,552,"CT1",1,10,1435]
[{"$nulls":10},"512_1_11_202324",202324,512,"CT1",1,11,34418]
[{"$nulls":10},"514_1_11_202324",202324,514,"CT1",1,11,57191.020000000004]
[{"$nulls":10},"516_1_11_202324",202324,516,"CT1",1,11,55841]
[{"$nulls":10},"518_1_11_202324",202324,518,"CT1",1,11,44843]
[{"$nulls":10},"520_1_11_202324",202324,520,"CT1",1,11,68907.66]
[{"$nulls":10},"522_1_11_202324",202324,522,"CT1",1,11,59301]
[{"$nulls":10},"524_1_11_202324",202324,524,"CT1",1,11,64030]
[{"$nulls":10},"526_1_11_202324",202324,526,"CT1",1,11,33856]
[{"$nulls":10},"528_1_11_202324",202324,528,"CT1",1,11,60534]
[{"$nulls":10},"530_1_11_202324",202324,530,"CT1",1,11,86996]
[{"$nulls":10},"532_1_11_202324",202324,532,"CT1",1,11,108010]
[{"$nulls":10},"534_1_11_202324",202324,534,"CT1",1,11,64619]
[{"$nulls":10},"536_1_11_202324",202324,536,"CT1",1,11,64775]
[{"$nulls":10},"538_1_11_202324",202324,538,"CT1",1,11,59881]
[{"$nulls":10},"540_1_11_202324",202324,540,"CT1",1,11,106730]
[{"$nulls":10},"542_1_11_202324",202324,542,"CT1",1,11,26835]
[{"$nulls":10},"544_1_11_202324",202324,544,"CT1",1,11,78346]
[{"$nulls":10},"545_1_11_202324",202324,545,"CT1",1,11,32153]
[{"$nulls":10},"546_1_11_202324",202324,546,"CT1",1,11,42111]
[{"$nulls":10},"548_1_11_202324",202324,548,"CT1",1,11,42729]
[{"$nulls":10},"550_1_11_202324",202324,550,"CT1",1,11,68602]
[{"$nulls":10},"552_1_11_202324",202324,552,"CT1",1,11,150373]
[{"$nulls":10},"512_2_2_202324",202324,512,"CT1",2,2,12]
[{"$nulls":10},"514_2_2_202324",202324,514,"CT1",2,2,9]
[{"$nulls":10},"516_2_2_202324",202324,516,"CT1",2,2,11]
[{"$nulls":10},"518_2_2_202324",202324,518,"CT1",2,2,6]
[{"$nulls":10},"520_2_2_202324",202324,520,"CT1",2,2,17]
[{"$nulls":10},"522_2_2_202324",202324,522,"CT1",2,2,13]
[{"$nulls":10},"524_2_2_202324",202324,524,"CT1",2,2,14]
[{"$nulls":10},"526_2_2_202324",202324,526,"CT1",2,2,5]
[{"$nulls":10},"528_2_2_202324",202324,528,"CT1",2,2,8]
[{"$nulls":10},"530_2_2_202324",202324,530,"CT1",2,2,37]
[{"$nulls":10},"532_2_2_202324",202324,532,"CT1",2,2,43]
[{"$nulls":10},"534_2_2_202324",202324,534,"CT1",2,2,57]
[{"$nulls":10},"536_2_2_202324",202324,536,"CT1",2,2,28]
[{"$nulls":10},"538_2_2_202324",202324,538,"CT1",2,2,0]
[{"$nulls":10},"540_2_2_202324",202324,540,"CT1",2,2,214]
[{"$nulls":10},"542_2_2_202324",202324,542,"CT1",2,2,63]
[{"$nulls":10},"544_2_2_202324",202324,544,"CT1",2,2,65]
[{"$nulls":10},"545_2_2_202324",202324,545,"CT1",2,2,55]
[{"$nulls":10},"546_2_2_202324",202324,546,"CT1",2,2,9]
[{"$nulls":10},"548_2_2_202324",202324,548,"CT1",2,2,1]
[{"$nulls":10},"550_2_2_202324",202324,550,"CT1",2,2,11]
[{"$nulls":10},"552_2_2_202324",202324,552,"CT1",2,2,8]
[{"$nulls":10},"512_2_3_202324",202324,512,"CT1",2,3,50]
[{"$nulls":10},"514_2_3_202324",202324,514,"CT1",2,3,40]
[{"$nulls":10},"516_2_3_202324",202324,516,"CT1",2,3,37]
[{"$nulls":10},"518_2_3_202324",202324,518,"CT1",2,3,25]
[{"$nulls":10},"520_2_3_202324",202324,520,"CT1",2,3,65]
[{"$nulls":10},"522_2_3_202324",202324,522,"CT1",2,3,41]
[{"$nulls":10},"524_2_3_202324",202324,524,"CT1",2,3,41]
[{"$nulls":10},"526_2_3_202324",202324,526,"CT1",2,3,19]
[{"$nulls":10},"528_2_3_202324",202324,528,"CT1",2,3,27]
[{"$nulls":10},"530_2_3_202324",202324,530,"CT1",2,3,224]
[{"$nulls":10},"532_2_3_202324",202324,532,"CT1",2,3,176]
[{"$nulls":10},"534_2_3_202324",202324,534,"CT1",2,3,319]
[{"$nulls":10},"536_2_3_202324",202324,536,"CT1",2,3,99]
[{"$nulls":10},"538_2_3_202324",202324,538,"CT1",2,3,11]
[{"$nulls":10},{"$f":"M260&\"_\"&O260&\"_\"&P260&\"_\"&L260","v":"540_2_3_202324"},202324,540,"CT1",2,3,186]
[{"$nulls":10},"542_2_3_202324",202324,542,"CT1",2,3,38]
[{"$nulls":10},"544_2_3_202324",202324,544,"CT1",2,3,186]
[{"$nulls":10},"545_2_3_202324",202324,545,"CT1",2,3,43]
[{"$nulls":10},"546_2_3_202324",202324,546,"CT1",2,3,46]
[{"$nulls":10},"548_2_3_202324",202324,548,"CT1",2,3,3]
[{"$nulls":10},"550_2_3_202324",202324,550,"CT1",2,3,69]
[{"$nulls":10},"552_2_3_202324",202324,552,"CT1",2,3,82]
[{"$nulls":10},"512_2_4_202324",202324,512,"CT1",2,4,51]
[{"$nulls":10},"514_2_4_202324",202324,514,"CT1",2,4,59]
[{"$nulls":10},"516_2_4_202324",202324,516,"CT1",2,4,123]
[{"$nulls":10},"518_2_4_202324",202324,518,"CT1",2,4,68]
[{"$nulls":10},"520_2_4_202324",202324,520,"CT1",2,4,124]
[{"$nulls":10},"522_2_4_202324",202324,522,"CT1",2,4,84]
[{"$nulls":10},"524_2_4_202324",202324,524,"CT1",2,4,86]
[{"$nulls":10},"526_2_4_202324",202324,526,"CT1",2,4,63]
[{"$nulls":10},"528_2_4_202324",202324,528,"CT1",2,4,75]
[{"$nulls":10},"530_2_4_202324",202324,530,"CT1",2,4,248]
[{"$nulls":10},"532_2_4_202324",202324,532,"CT1",2,4,205]
[{"$nulls":10},"534_2_4_202324",202324,534,"CT1",2,4,151]
[{"$nulls":10},"536_2_4_202324",202324,536,"CT1",2,4,111]
[{"$nulls":10},"538_2_4_202324",202324,538,"CT1",2,4,70]
[{"$nulls":10},"540_2_4_202324",202324,540,"CT1",2,4,175]
[{"$nulls":10},"542_2_4_202324",202324,542,"CT1",2,4,29]
[{"$nulls":10},"544_2_4_202324",202324,544,"CT1",2,4,186]
[{"$nulls":10},"545_2_4_202324",202324,545,"CT1",2,4,25]
[{"$nulls":10},"546_2_4_202324",202324,546,"CT1",2,4,83]
[{"$nulls":10},"548_2_4_202324",202324,548,"CT1",2,4,17]
[{"$nulls":10},"550_2_4_202324",202324,550,"CT1",2,4,124]
[{"$nulls":10},"552_2_4_202324",202324,552,"CT1",2,4,300]
[{"$nulls":10},"512_2_5_202324",202324,512,"CT1",2,5,90]
[{"$nulls":10},"514_2_5_202324",202324,514,"CT1",2,5,76]
[{"$nulls":10},"516_2_5_202324",202324,516,"CT1",2,5,105]
[{"$nulls":10},"518_2_5_202324",202324,518,"CT1",2,5,61]
[{"$nulls":10},"520_2_5_202324",202324,520,"CT1",2,5,96]
[{"$nulls":10},"522_2_5_202324",202324,522,"CT1",2,5,79]
[{"$nulls":10},"524_2_5_202324",202324,524,"CT1",2,5,75]
[{"$nulls":10},"526_2_5_202324",202324,526,"CT1",2,5,87]
[{"$nulls":10},"528_2_5_202324",202324,528,"CT1",2,5,66]
[{"$nulls":10},"530_2_5_202324",202324,530,"CT1",2,5,227]
[{"$nulls":10},"532_2_5_202324",202324,532,"CT1",2,5,180]
[{"$nulls":10},"534_2_5_202324",202324,534,"CT1",2,5,100]
[{"$nulls":10},"536_2_5_202324",202324,536,"CT1",2,5,117]
[{"$nulls":10},"538_2_5_202324",202324,538,"CT1",2,5,85]
[{"$nulls":10},"540_2_5_202324",202324,540,"CT1",2,5,122]
[{"$nulls":10},"542_2_5_202324",202324,542,"CT1",2,5,28]
[{"$nulls":10},"544_2_5_202324",202324,544,"CT1",2,5,102]
[{"$nulls":10},"545_2_5_202324",202324,545,"CT1",2,5,23]
[{"$nulls":10},"546_2_5_202324",202324,546,"CT1",2,5,40]
[{"$nulls":10},"548_2_5_202324",202324,548,"CT1",2,5,33]
[{"$nulls":10},"550_2_5_202324",202324,550,"CT1",2,5,126]
[{"$nulls":10},"552_2_5_202324",202324,552,"CT1",2,5,382]
[{"$nulls":10},"512_2_6_202324",202324,512,"CT1",2,6,82]
[{"$nulls":10},"514_2_6_202324",202324,514,"CT1",2,6,77]
[{"$nulls":10},"516_2_6_202324",202324,516,"CT1",2,6,100]
[{"$nulls":10},"518_2_6_202324",202324,518,"CT1",2,6,55]
[{"$nulls":10},"520_2_6_202324",202324,520,"CT1",2,6,138]
[{"$nulls":10},"522_2_6_202324",202324,522,"CT1",2,6,73]
[{"$nulls":10},"524_2_6_202324",202324,524,"CT1",2,6,142]
[{"$nulls":10},"526_2_6_202324",202324,526,"CT1",2,6,170]
[{"$nulls":10},"528_2_6_202324",202324,528,"CT1",2,6,125]
[{"$nulls":10},"530_2_6_202324",202324,530,"CT1",2,6,254]
[{"$nulls":10},"532_2_6_202324",202324,532,"CT1",2,6,163]
[{"$nulls":10},"534_2_6_202324",202324,534,"CT1",2,6,87]
[{"$nulls":10},{"$f":"M324&\"_\"&O324&\"_\"&P324&\"_\"&L324","v":"536_2_6_202324"},202324,536,"CT1",2,6,121]
[{"$nulls":10},"538_2_6_202324",202324,538,"CT1",2,6,75]
[{"$nulls":10},"540_2_6_202324",202324,540,"CT1",2,6,95]
[{"$nulls":10},"542_2_6_202324",202324,542,"CT1",2,6,23]
[{"$nulls":10},"544_2_6_202324",202324,544,"CT1",2,6,78]
[{"$nulls":10},"545_2_6_202324",202324,545,"CT1",2,6,17]
[{"$nulls":10},"546_2_6_202324",202324,546,"CT1",2,6,35]
[{"$nulls":10},"548_2_6_202324",202324,548,"CT1",2,6,37]
[{"$nulls":10},"550_2_6_202324",202324,550,"CT1",2,6,88]
[{"$nulls":10},"552_2_6_202324",202324,552,"CT1",2,6,364]
[{"$nulls":10},"512_2_7_202324",202324,512,"CT1",2,7,58]
[{"$nulls":10},"514_2_7_202324",202324,514,"CT1",2,7,30]
[{"$nulls":10},"516_2_7_202324",202324,516,"CT1",2,7,63]
[{"$nulls":10},"518_2_7_202324",202324,518,"CT1",2,7,41]
[{"$nulls":10},"520_2_7_202324",202324,520,"CT1",2,7,88]
[{"$nulls":10},"522_2_7_202324",202324,522,"CT1",2,7,36]
[{"$nulls":10},"524_2_7_202324",202324,524,"CT1",2,7,111]
[{"$nulls":10},"526_2_7_202324",202324,526,"CT1",2,7,63]
[{"$nulls":10},"528_2_7_202324",202324,528,"CT1",2,7,71]
[{"$nulls":10},"530_2_7_202324",202324,530,"CT1",2,7,159]
[{"$nulls":10},"532_2_7_202324",202324,532,"CT1",2,7,129]
[{"$nulls":10},"534_2_7_202324",202324,534,"CT1",2,7,24]
[{"$nulls":10},"536_2_7_202324",202324,536,"CT1",2,7,77]
[{"$nulls":10},"538_2_7_202324",202324,538,"CT1",2,7,61]
[{"$nulls":10},"540_2_7_202324",202324,540,"CT1",2,7,56]
[{"$nulls":10},"542_2_7_202324",202324,542,"CT1",2,7,13]
[{"$nulls":10},"544_2_7_202324",202324,544,"CT1",2,7,39]
[{"$nulls":10},"545_2_7_202324",202324,545,"CT1",2,7,8]
[{"$nulls":10},"546_2_7_202324",202324,546,"CT1",2,7,25]
[{"$nulls":10},"548_2_7_202324",202324,548,"CT1",2,7,41]
[{"$nulls":10},"550_2_7_202324",202324,550,"CT1",2,7,86]
[{"$nulls":10},"552_2_7_202324",202324,552,"CT1",2,7,338]
[{"$nulls":10},"512_2_8_202324",202324,512,"CT1",2,8,10]
[{"$nulls":10},"514_2_8_202324",202324,514,"CT1",2,8,24]
[{"$nulls":10},"516_2_8_202324",202324,516,"CT1",2,8,43]
[{"$nulls":10},"518_2_8_202324",202324,518,"CT1",2,8,20]
[{"$nulls":10},"520_2_8_202324",202324,520,"CT1",2,8,45]
[{"$nulls":10},"522_2_8_202324",202324,522,"CT1",2,8,33]
[{"$nulls":10},"524_2_8_202324",202324,524,"CT1",2,8,51]
[{"$nulls":10},"526_2_8_202324",202324,526,"CT1",2,8,16]
[{"$nulls":10},"528_2_8_202324",202324,528,"CT1",2,8,31]
[{"$nulls":10},"530_2_8_202324",202324,530,"CT1",2,8,62]
[{"$nulls":10},"532_2_8_202324",202324,532,"CT1",2,8,67]
[{"$nulls":10},"534_2_8_202324",202324,534,"CT1",2,8,15]
[{"$nulls":10},"536_2_8_202324",202324,536,"CT1",2,8,27]
[{"$nulls":10},"538_2_8_202324",202324,538,"CT1",2,8,39]
[{"$nulls":10},"540_2_8_202324",202324,540,"CT1",2,8,27]
[{"$nulls":10},"542_2_8_202324",202324,542,"CT1",2,8,5]
[{"$nulls":10},"544_2_8_202324",202324,544,"CT1",2,8,15]
[{"$nulls":10},"545_2_8_202324",202324,545,"CT1",2,8,1]
[{"$nulls":10},"546_2_8_202324",202324,546,"CT1",2,8,11]
[{"$nulls":10},"548_2_8_202324",202324,548,"CT1",2,8,34]
[{"$nulls":10},"550_2_8_202324",202324,550,"CT1",2,8,41]
[{"$nulls":10},"552_2_8_202324",202324,552,"CT1",2,8,191]
[{"$nulls":10},"512_2_9_202324",202324,512,"CT1",2,9,10]
[{"$nulls":10},"514_2_9_202324",202324,514,"CT1",2,9,8]
[{"$nulls":10},"516_2_9_202324",202324,516,"CT1",2,9,19]
[{"$nulls":10},"518_2_9_202324",202324,518,"CT1",2,9,13]
[{"$nulls":10},"520_2_9_202324",202324,520,"CT1",2,9,13]
[{"$nulls":10},"522_2_9_202324",202324,522,"CT1",2,9,12]
[{"$nulls":10},"524_2_9_202324",202324,524,"CT1",2,9,13]
[{"$nulls":10},"526_2_9_202324",202324,526,"CT1",2,9,14]
[{"$nulls":10},"528_2_9_202324",202324,528,"CT1",2,9,19]
[{"$nulls":10},"530_2_9_202324",202324,530,"CT1",2,9,20]
[{"$nulls":10},{"$f":"M388&\"_\"&O388&\"_\"&P388&\"_\"&L388","v":"532_2_9_202324"},202324,532,"CT1",2,9,27]
[{"$nulls":10},"534_2_9_202324",202324,534,"CT1",2,9,19]
[{"$nulls":10},"536_2_9_202324",202324,536,"CT1",2,9,7]
[{"$nulls":10},"538_2_9_202324",202324,538,"CT1",2,9,12]
[{"$nulls":10},"540_2_9_202324",202324,540,"CT1",2,9,7]
[{"$nulls":10},"542_2_9_202324",202324,542,"CT1",2,9,1]
[{"$nulls":10},"544_2_9_202324",202324,544,"CT1",2,9,4]
[{"$nulls":10},"545_2_9_202324",202324,545,"CT1",2,9,0]
[{"$nulls":10},"546_2_9_202324",202324,546,"CT1",2,9,1]
[{"$nulls":10},"548_2_9_202324",202324,548,"CT1",2,9,16]
[{"$nulls":10},"550_2_9_202324",202324,550,"CT1",2,9,13]
[{"$nulls":10},"552_2_9_202324",202324,552,"CT1",2,9,46]
[{"$nulls":10},"512_2_10_202324",202324,512,"CT1",2,10,6]
[{"$nulls":10},"514_2_10_202324",202324,514,"CT1",2,10,14]
[{"$nulls":10},"516_2_10_202324",202324,516,"CT1",2,10,26]
[{"$nulls":10},"518_2_10_202324",202324,518,"CT1",2,10,23]
[{"$nulls":10},"520_2_10_202324",202324,520,"CT1",2,10,14]
[{"$nulls":10},"522_2_10_202324",202324,522,"CT1",2,10,25]
[{"$nulls":10},"524_2_10_202324",202324,524,"CT1",2,10,30]
[{"$nulls":10},"526_2_10_202324",202324,526,"CT1",2,10,2]
[{"$nulls":10},"528_2_10_202324",202324,528,"CT1",2,10,3]
[{"$nulls":10},"530_2_10_202324",202324,530,"CT1",2,10,18]
[{"$nulls":10},"532_2_10_202324",202324,532,"CT1",2,10,39]
[{"$nulls":10},"534_2_10_202324",202324,534,"CT1",2,10,7]
[{"$nulls":10},"536_2_10_202324",202324,536,"CT1",2,10,13]
[{"$nulls":10},"538_2_10_202324",202324,538,"CT1",2,10,25]
[{"$nulls":10},"540_2_10_202324",202324,540,"CT1",2,10,33]
[{"$nulls":10},"542_2_10_202324",202324,542,"CT1",2,10,6]
[{"$nulls":10},"544_2_10_202324",202324,544,"CT1",2,10,16]
[{"$nulls":10},"545_2_10_202324",202324,545,"CT1",2,10,10]
[{"$nulls":10},"546_2_10_202324",202324,546,"CT1",2,10,11]
[{"$nulls":10},"548_2_10_202324",202324,548,"CT1",2,10,23]
[{"$nulls":10},"550_2_10_202324",202324,550,"CT1",2,10,19]
[{"$nulls":10},"552_2_10_202324",202324,552,"CT1",2,10,55]
[{"$nulls":10},"512_2_11_202324",202324,512,"CT1",2,11,369]
[{"$nulls":10},"514_2_11_202324",202324,514,"CT1",2,11,337]
[{"$nulls":10},"516_2_11_202324",202324,516,"CT1",2,11,527]
[{"$nulls":10},"518_2_11_202324",202324,518,"CT1",2,11,312]
[{"$nulls":10},"520_2_11_202324",202324,520,"CT1",2,11,600]
[{"$nulls":10},"522_2_11_202324",202324,522,"CT1",2,11,396]
[{"$nulls":10},"524_2_11_202324",202324,524,"CT1",2,11,563]
[{"$nulls":10},"526_2_11_202324",202324,526,"CT1",2,11,439]
[{"$nulls":10},"528_2_11_202324",202324,528,"CT1",2,11,425]
[{"$nulls":10},"530_2_11_202324",202324,530,"CT1",2,11,1249]
[{"$nulls":10},"532_2_11_202324",202324,532,"CT1",2,11,1029]
[{"$nulls":10},"534_2_11_202324",202324,534,"CT1",2,11,779]
[{"$nulls":10},"536_2_11_202324",202324,536,"CT1",2,11,600]
[{"$nulls":10},"538_2_11_202324",202324,538,"CT1",2,11,378]
[{"$nulls":10},"540_2_11_202324",202324,540,"CT1",2,11,915]
[{"$nulls":10},"542_2_11_202324",202324,542,"CT1",2,11,206]
[{"$nulls":10},"544_2_11_202324",202324,544,"CT1",2,11,691]
[{"$nulls":10},"545_2_11_202324",202324,545,"CT1",2,11,182]
[{"$nulls":10},"546_2_11_202324",202324,546,"CT1",2,11,261]
[{"$nulls":10},"548_2_11_202324",202324,548,"CT1",2,11,205]
[{"$nulls":10},"550_2_11_202324",202324,550,"CT1",2,11,577]
[{"$nulls":10},"552_2_11_202324",202324,552,"CT1",2,11,1766]
[{"$nulls":10},"512_3_1_202324",202324,512,"CT1",3,1,12]
[{"$nulls":10},"514_3_1_202324",202324,514,"CT1",3,1,9]
[{"$nulls":10},"516_3_1_202324",202324,516,"CT1",3,1,11]
[{"$nulls":10},"518_3_1_202324",202324,518,"CT1",3,1,6]
[{"$nulls":10},"520_3_1_202324",202324,520,"CT1",3,1,17]
[{"$nulls":10},"522_3_1_202324",202324,522,"CT1",3,1,13]
[{"$nulls":10},"524_3_1_202324",202324,524,"CT1",3,1,14]
[{"$nulls":10},"526_3_1_202324",202324,526,"CT1",3,1,5]
[{"$nulls":10},{"$f":"M452&\"_\"&O452&\"_\"&P452&\"_\"&L452","v":"528_3_1_202324"},202324,528,"CT1",3,1,8]
[{"$nulls":10},"530_3_1_202324",202324,530,"CT1",3,1,37]
[{"$nulls":10},"532_3_1_202324",202324,532,"CT1",3,1,43]
[{"$nulls":10},"534_3_1_202324",202324,534,"CT1",3,1,57]
[{"$nulls":10},"536_3_1_202324",202324,536,"CT1",3,1,28]
[{"$nulls":10},"538_3_1_202324",202324,538,"CT1",3,1,0]
[{"$nulls":10},"540_3_1_202324",202324,540,"CT1",3,1,214]
[{"$nulls":10},"542_3_1_202324",202324,542,"CT1",3,1,63]
[{"$nulls":10},"544_3_1_202324",202324,544,"CT1",3,1,65]
[{"$nulls":10},"545_3_1_202324",202324,545,"CT1",3,1,55]
[{"$nulls":10},"546_3_1_202324",202324,546,"CT1",3,1,9]
[{"$nulls":10},"548_3_1_202324",202324,548,"CT1",3,1,1]
[{"$nulls":10},"550_3_1_202324",202324,550,"CT1",3,1,11]
[{"$nulls":10},"552_3_1_202324",202324,552,"CT1",3,1,8]
[{"$nulls":10},"512_3_2_202324",202324,512,"CT1",3,2,4681]
[{"$nulls":10},"514_3_2_202324",202324,514,"CT1",3,2,8220.318]
[{"$nulls":10},"516_3_2_202324",202324,516,"CT1",3,2,5103]
[{"$nulls":10},"518_3_2_202324",202324,518,"CT1",3,2,3940]
[{"$nulls":10},"520_3_2_202324",202324,520,"CT1",3,2,4217]
[{"$nulls":10},"522_3_2_202324",202324,522,"CT1",3,2,4165]
[{"$nulls":10},"524_3_2_202324",202324,524,"CT1",3,2,5686]
[{"$nulls":10},"526_3_2_202324",202324,526,"CT1",3,2,1679]
[{"$nulls":10},"528_3_2_202324",202324,528,"CT1",3,2,6233]
[{"$nulls":10},"530_3_2_202324",202324,530,"CT1",3,2,8917]
[{"$nulls":10},"532_3_2_202324",202324,532,"CT1",3,2,16405]
[{"$nulls":10},"534_3_2_202324",202324,534,"CT1",3,2,13258]
[{"$nulls":10},"536_3_2_202324",202324,536,"CT1",3,2,10311]
[{"$nulls":10},"538_3_2_202324",202324,538,"CT1",3,2,1409]
[{"$nulls":10},"540_3_2_202324",202324,540,"CT1",3,2,44967]
[{"$nulls":10},"542_3_2_202324",202324,542,"CT1",3,2,13587]
[{"$nulls":10},"544_3_2_202324",202324,544,"CT1",3,2,14876]
[{"$nulls":10},"545_3_2_202324",202324,545,"CT1",3,2,18645]
[{"$nulls":10},"546_3_2_202324",202324,546,"CT1",3,2,5991]
[{"$nulls":10},"548_3_2_202324",202324,548,"CT1",3,2,487]
[{"$nulls":10},"550_3_2_202324",202324,550,"CT1",3,2,6488]
[{"$nulls":10},"552_3_2_202324",202324,552,"CT1",3,2,4262]
[{"$nulls":10},"512_3_3_202324",202324,512,"CT1",3,3,6705]
[{"$nulls":10},"514_3_3_202324",202324,514,"CT1",3,3,14534.532]
[{"$nulls":10},"516_3_3_202324",202324,516,"CT1",3,3,8001]
[{"$nulls":10},"518_3_3_202324",202324,518,"CT1",3,3,7068]
[{"$nulls":10},"520_3_3_202324",202324,520,"CT1",3,3,9264]
[{"$nulls":10},"522_3_3_202324",202324,522,"CT1",3,3,12290]
[{"$nulls":10},"524_3_3_202324",202324,524,"CT1",3,3,8944]
[{"$nulls":10},"526_3_3_202324",202324,526,"CT1",3,3,4663]
[{"$nulls":10},"528_3_3_202324",202324,528,"CT1",3,3,9164]
[{"$nulls":10},"530_3_3_202324",202324,530,"CT1",3,3,23621]
[{"$nulls":10},"532_3_3_202324",202324,532,"CT1",3,3,26978]
[{"$nulls":10},"534_3_3_202324",202324,534,"CT1",3,3,26403]
[{"$nulls":10},"536_3_3_202324",202324,536,"CT1",3,3,15004]
[{"$nulls":10},"538_3_3_202324",202324,538,"CT1",3,3,6344]
[{"$nulls":10},"540_3_3_202324",202324,540,"CT1",3,3,24407]
[{"$nulls":10},"542_3_3_202324",202324,542,"CT1",3,3,6458]
[{"$nulls":10},"544_3_3_202324",202324,544,"CT1",3,3,26076]
[{"$nulls":10},"545_3_3_202324",202324,545,"CT1",3,3,7895]
[{"$nulls":10},"546_3_3_202324",202324,546,"CT1",3,3,12861]
[{"$nulls":10},"548_3_3_202324",202324,548,"CT1",3,3,3313]
[{"$nulls":10},"550_3_3_202324",202324,550,"CT1",3,3,14675]
[{"$nulls":10},"552_3_3_202324",202324,552,"CT1",3,3,18636]
[{"$nulls":10},"512_3_4_202324",202324,512,"CT1",3,4,6728]
[{"$nulls":10},"514_3_4_202324",202324,514,"CT1",3,4,11604.86]
[{"$nulls":10},"516_3_4_202324",202324,516,"CT1",3,4,14983]
[{"$nulls":10},"518_3_4_202324",202324,518,"CT1",3,4,14337]
[{"$nulls":10},"520_3_4_202324",202324,520,"CT1",3,4,20229]
[{"$nulls":10},"522_3_4_202324",202324,522,"CT1",3,4,16510]
[{"$nulls":10},{"$f":"M516&\"_\"&O516&\"_\"&P516&\"_\"&L516","v":"524_3_4_202324"},202324,524,"CT1",3,4,12704]
[{"$nulls":10},"526_3_4_202324",202324,526,"CT1",3,4,7244]
[{"$nulls":10},"528_3_4_202324",202324,528,"CT1",3,4,13831]
[{"$nulls":10},"530_3_4_202324",202324,530,"CT1",3,4,18177]
[{"$nulls":10},"532_3_4_202324",202324,532,"CT1",3,4,23445]
[{"$nulls":10},"534_3_4_202324",202324,534,"CT1",3,4,11377]
[{"$nulls":10},"536_3_4_202324",202324,536,"CT1",3,4,14472]
[{"$nulls":10},"538_3_4_202324",202324,538,"CT1",3,4,13901]
[{"$nulls":10},"540_3_4_202324",202324,540,"CT1",3,4,16352]
[{"$nulls":10},"542_3_4_202324",202324,542,"CT1",3,4,2288]
[{"$nulls":10},"544_3_4_202324",202324,544,"CT1",3,4,18272]
[{"$nulls":10},"545_3_4_202324",202324,545,"CT1",3,4,2623]
[{"$nulls":10},"546_3_4_202324",202324,546,"CT1",3,4,11781]
[{"$nulls":10},"548_3_4_202324",202324,548,"CT1",3,4,6946]
[{"$nulls":10},"550_3_4_202324",202324,550,"CT1",3,4,17702]
[{"$nulls":10},"552_3_4_202324",202324,552,"CT1",3,4,31665]
[{"$nulls":10},"512_3_5_202324",202324,512,"CT1",3,5,7123]
[{"$nulls":10},"514_3_5_202324",202324,514,"CT1",3,5,9884.715]
[{"$nulls":10},"516_3_5_202324",202324,516,"CT1",3,5,11483]
[{"$nulls":10},"518_3_5_202324",202324,518,"CT1",3,5,7766]
[{"$nulls":10},"520_3_5_202324",202324,520,"CT1",3,5,13012.66]
[{"$nulls":10},"522_3_5_202324",202324,522,"CT1",3,5,9890]
[{"$nulls":10},"524_3_5_202324",202324,524,"CT1",3,5,10478]
[{"$nulls":10},"526_3_5_202324",202324,526,"CT1",3,5,7298]
[{"$nulls":10},"528_3_5_202324",202324,528,"CT1",3,5,11118]
[{"$nulls":10},"530_3_5_202324",202324,530,"CT1",3,5,14341]
[{"$nulls":10},"532_3_5_202324",202324,532,"CT1",3,5,15862]
[{"$nulls":10},"534_3_5_202324",202324,534,"CT1",3,5,7134]
[{"$nulls":10},"536_3_5_202324",202324,536,"CT1",3,5,11045]
[{"$nulls":10},"538_3_5_202324",202324,538,"CT1",3,5,11441]
[{"$nulls":10},"540_3_5_202324",202324,540,"CT1",3,5,9255]
[{"$nulls":10},"542_3_5_202324",202324,542,"CT1",3,5,2191]
[{"$nulls":10},"544_3_5_202324",202324,544,"CT1",3,5,9190]
[{"$nulls":10},"545_3_5_202324",202324,545,"CT1",3,5,1680]
[{"$nulls":10},"546_3_5_202324",202324,546,"CT1",3,5,4222]
[{"$nulls":10},"548_3_5_202324",202324,548,"CT1",3,5,9152]
[{"$nulls":10},"550_3_5_202324",202324,550,"CT1",3,5,12463]
[{"$nulls":10},"552_3_5_202324",202324,552,"CT1",3,5,34678]
[{"$nulls":10},"512_3_6_202324",202324,512,"CT1",3,6,5348]
[{"$nulls":10},"514_3_6_202324",202324,514,"CT1",3,6,7723.595]
[{"$nulls":10},"516_3_6_202324",202324,516,"CT1",3,6,8945]
[{"$nulls":10},"518_3_6_202324",202324,518,"CT1",3,6,5492]
[{"$nulls":10},"520_3_6_202324",202324,520,"CT1",3,6,10729]
[{"$nulls":10},"522_3_6_202324",202324,522,"CT1",3,6,7931]
[{"$nulls":10},"524_3_6_202324",202324,524,"CT1",3,6,12115]
[{"$nulls":10},"526_3_6_202324",202324,526,"CT1",3,6,8449]
[{"$nulls":10},"528_3_6_202324",202324,528,"CT1",3,6,11976]
[{"$nulls":10},"530_3_6_202324",202324,530,"CT1",3,6,13000]
[{"$nulls":10},"532_3_6_202324",202324,532,"CT1",3,6,12124]
[{"$nulls":10},"534_3_6_202324",202324,534,"CT1",3,6,4401]
[{"$nulls":10},"536_3_6_202324",202324,536,"CT1",3,6,7783]
[{"$nulls":10},"538_3_6_202324",202324,538,"CT1",3,6,10344]
[{"$nulls":10},"540_3_6_202324",202324,540,"CT1",3,6,6795]
[{"$nulls":10},"542_3_6_202324",202324,542,"CT1",3,6,1538]
[{"$nulls":10},"544_3_6_202324",202324,544,"CT1",3,6,6573]
[{"$nulls":10},"545_3_6_202324",202324,545,"CT1",3,6,851]
[{"$nulls":10},"546_3_6_202324",202324,546,"CT1",3,6,4178]
[{"$nulls":10},"548_3_6_202324",202324,548,"CT1",3,6,7316]
[{"$nulls":10},"550_3_6_202324",202324,550,"CT1",3,6,8140]
[{"$nulls":10},"552_3_6_202324",202324,552,"CT1",3,6,27149]
[{"$nulls":10},"512_3_7_202324",202324,512,"CT1",3,7,2576]
[{"$nulls":10},"514_3_7_202324",202324,514,"CT1",3,7,3784]
[{"$nulls":10},"516_3_7_202324",202324,516,"CT1",3,7,4902]
[{"$nulls":10},"518_3_7_202324",202324,518,"CT1",3,7,3762]
[{"$nulls":10},{"$f":"M580&\"_\"&O580&\"_\"&P580&\"_\"&L580","v":"520_3_7_202324"},202324,520,"CT1",3,7,7529]
[{"$nulls":10},"522_3_7_202324",202324,522,"CT1",3,7,5040]
[{"$nulls":10},"524_3_7_202324",202324,524,"CT1",3,7,9332]
[{"$nulls":10},"526_3_7_202324",202324,526,"CT1",3,7,3507]
[{"$nulls":10},"528_3_7_202324",202324,528,"CT1",3,7,5802]
[{"$nulls":10},"530_3_7_202324",202324,530,"CT1",3,7,6412]
[{"$nulls":10},"532_3_7_202324",202324,532,"CT1",3,7,7784]
[{"$nulls":10},"534_3_7_202324",202324,534,"CT1",3,7,1357]
[{"$nulls":10},"536_3_7_202324",202324,536,"CT1",3,7,4300]
[{"$nulls":10},"538_3_7_202324",202324,538,"CT1",3,7,7452]
[{"$nulls":10},"540_3_7_202324",202324,540,"CT1",3,7,3356]
[{"$nulls":10},"542_3_7_202324",202324,542,"CT1",3,7,551]
[{"$nulls":10},"544_3_7_202324",202324,544,"CT1",3,7,2354]
[{"$nulls":10},"545_3_7_202324",202324,545,"CT1",3,7,324]
[{"$nulls":10},"546_3_7_202324",202324,546,"CT1",3,7,2325]
[{"$nulls":10},"548_3_7_202324",202324,548,"CT1",3,7,7790]
[{"$nulls":10},"550_3_7_202324",202324,550,"CT1",3,7,5794]
[{"$nulls":10},"552_3_7_202324",202324,552,"CT1",3,7,20035]
[{"$nulls":10},"512_3_8_202324",202324,512,"CT1",3,8,1044]
[{"$nulls":10},"514_3_8_202324",202324,514,"CT1",3,8,1173]
[{"$nulls":10},"516_3_8_202324",202324,516,"CT1",3,8,1857]
[{"$nulls":10},"518_3_8_202324",202324,518,"CT1",3,8,2005]
[{"$nulls":10},"520_3_8_202324",202324,520,"CT1",3,8,3124]
[{"$nulls":10},"522_3_8_202324",202324,522,"CT1",3,8,2484]
[{"$nulls":10},"524_3_8_202324",202324,524,"CT1",3,8,4010]
[{"$nulls":10},"526_3_8_202324",202324,526,"CT1",3,8,905]
[{"$nulls":10},"528_3_8_202324",202324,528,"CT1",3,8,2016]
[{"$nulls":10},"530_3_8_202324",202324,530,"CT1",3,8,2136]
[{"$nulls":10},"532_3_8_202324",202324,532,"CT1",3,8,3731]
[{"$nulls":10},"534_3_8_202324",202324,534,"CT1",3,8,525]
[{"$nulls":10},"536_3_8_202324",202324,536,"CT1",3,8,1450]
[{"$nulls":10},"538_3_8_202324",202324,538,"CT1",3,8,5752]
[{"$nulls":10},"540_3_8_202324",202324,540,"CT1",3,8,1138]
[{"$nulls":10},"542_3_8_202324",202324,542,"CT1",3,8,151]
[{"$nulls":10},"544_3_8_202324",202324,544,"CT1",3,8,789]
[{"$nulls":10},"545_3_8_202324",202324,545,"CT1",3,8,59]
[{"$nulls":10},"546_3_8_202324",202324,546,"CT1",3,8,655]
[{"$nulls":10},"548_3_8_202324",202324,548,"CT1",3,8,5346]
[{"$nulls":10},"550_3_8_202324",202324,550,"CT1",3,8,2602]
[{"$nulls":10},"552_3_8_202324",202324,552,"CT1",3,8,9834]
[{"$nulls":10},"512_3_9_202324",202324,512,"CT1",3,9,155]
[{"$nulls":10},"514_3_9_202324",202324,514,"CT1",3,9,197]
[{"$nulls":10},"516_3_9_202324",202324,516,"CT1",3,9,422]
[{"$nulls":10},"518_3_9_202324",202324,518,"CT1",3,9,323]
[{"$nulls":10},"520_3_9_202324",202324,520,"CT1",3,9,584]
[{"$nulls":10},"522_3_9_202324",202324,522,"CT1",3,9,714]
[{"$nulls":10},"524_3_9_202324",202324,524,"CT1",3,9,582]
[{"$nulls":10},"526_3_9_202324",202324,526,"CT1",3,9,86]
[{"$nulls":10},"528_3_9_202324",202324,528,"CT1",3,9,299]
[{"$nulls":10},"530_3_9_202324",202324,530,"CT1",3,9,300]
[{"$nulls":10},"532_3_9_202324",202324,532,"CT1",3,9,1157]
[{"$nulls":10},"534_3_9_202324",202324,534,"CT1",3,9,92]
[{"$nulls":10},"536_3_9_202324",202324,536,"CT1",3,9,289]
[{"$nulls":10},"538_3_9_202324",202324,538,"CT1",3,9,2225]
[{"$nulls":10},"540_3_9_202324",202324,540,"CT1",3,9,211]
[{"$nulls":10},"542_3_9_202324",202324,542,"CT1",3,9,7]
[{"$nulls":10},"544_3_9_202324",202324,544,"CT1",3,9,98]
[{"$nulls":10},"545_3_9_202324",202324,545,"CT1",3,9,13]
[{"$nulls":10},"546_3_9_202324",202324,546,"CT1",3,9,76]
[{"$nulls":10},"548_3_9_202324",202324,548,"CT1",3,9,1746]
[{"$nulls":10},"550_3_9_202324",202324,550,"CT1",3,9,559]
[{"$nulls":10},"552_3_9_202324",202324,552,"CT1",3,9,2726]
[{"$nulls":10},"512_3_10_202324",202324,512,"CT1",3,10,46]
[{"$nulls":10},"514_3_10_202324",202324,514,"CT1",3,10,60]
[{"$nulls":10},{"$f":"M644&\"_\"&O644&\"_\"&P644&\"_\"&L644","v":"516_3_10_202324"},202324,516,"CT1",3,10,134]
[{"$nulls":10},"518_3_10_202324",202324,518,"CT1",3,10,144]
[{"$nulls":10},"520_3_10_202324",202324,520,"CT1",3,10,202]
[{"$nulls":10},"522_3_10_202324",202324,522,"CT1",3,10,264]
[{"$nulls":10},"524_3_10_202324",202324,524,"CT1",3,10,165]
[{"$nulls":10},"526_3_10_202324",202324,526,"CT1",3,10,20]
[{"$nulls":10},"528_3_10_202324",202324,528,"CT1",3,10,87]
[{"$nulls":10},"530_3_10_202324",202324,530,"CT1",3,10,55]
[{"$nulls":10},"532_3_10_202324",202324,532,"CT1",3,10,481]
[{"$nulls":10},"534_3_10_202324",202324,534,"CT1",3,10,15]
[{"$nulls":10},"536_3_10_202324",202324,536,"CT1",3,10,93]
[{"$nulls":10},"538_3_10_202324",202324,538,"CT1",3,10,1013]
[{"$nulls":10},"540_3_10_202324",202324,540,"CT1",3,10,35]
[{"$nulls":10},"542_3_10_202324",202324,542,"CT1",3,10,1]
[{"$nulls":10},"544_3_10_202324",202324,544,"CT1",3,10,53]
[{"$nulls":10},"545_3_10_202324",202324,545,"CT1",3,10,8]
[{"$nulls":10},"546_3_10_202324",202324,546,"CT1",3,10,13]
[{"$nulls":10},"548_3_10_202324",202324,548,"CT1",3,10,632]
[{"$nulls":10},"550_3_10_202324",202324,550,"CT1",3,10,168]
[{"$nulls":10},"552_3_10_202324",202324,552,"CT1",3,10,1380]
[{"$nulls":10},"512_3_11_202324",202324,512,"CT1",3,11,34418]
[{"$nulls":10},"514_3_11_202324",202324,514,"CT1",3,11,57191.020000000004]
[{"$nulls":10},"516_3_11_202324",202324,516,"CT1",3,11,55841]
[{"$nulls":10},"518_3_11_202324",202324,518,"CT1",3,11,44843]
[{"$nulls":10},"520_3_11_202324",202324,520,"CT1",3,11,68907.66]
[{"$nulls":10},"522_3_11_202324",202324,522,"CT1",3,11,59301]
[{"$nulls":10},"524_3_11_202324",202324,524,"CT1",3,11,64030]
[{"$nulls":10},"526_3_11_202324",202324,526,"CT1",3,11,33856]
[{"$nulls":10},"528_3_11_202324",202324,528,"CT1",3,11,60534]
[{"$nulls":10},"530_3_11_202324",202324,530,"CT1",3,11,86996]
[{"$nulls":10},"532_3_11_202324",202324,532,"CT1",3,11,108010]
[{"$nulls":10},"534_3_11_202324",202324,534,"CT1",3,11,64619]
[{"$nulls":10},"536_3_11_202324",202324,536,"CT1",3,11,64775]
[{"$nulls":10},"538_3_11_202324",202324,538,"CT1",3,11,59881]
[{"$nulls":10},"540_3_11_202324",202324,540,"CT1",3,11,106730]
[{"$nulls":10},"542_3_11_202324",202324,542,"CT1",3,11,26835]
[{"$nulls":10},"544_3_11_202324",202324,544,"CT1",3,11,78346]
[{"$nulls":10},"545_3_11_202324",202324,545,"CT1",3,11,32153]
[{"$nulls":10},"546_3_11_202324",202324,546,"CT1",3,11,42111]
[{"$nulls":10},"548_3_11_202324",202324,548,"CT1",3,11,42729]
[{"$nulls":10},"550_3_11_202324",202324,550,"CT1",3,11,68602]
[{"$nulls":10},"552_3_11_202324",202324,552,"CT1",3,11,150373]
[{"$nulls":10},"512_4_1_202324",202324,512,"CT1",4,1,6]
[{"$nulls":10},"514_4_1_202324",202324,514,"CT1",4,1,7]
[{"$nulls":10},"516_4_1_202324",202324,516,"CT1",4,1,5]
[{"$nulls":10},"518_4_1_202324",202324,518,"CT1",4,1,2]
[{"$nulls":10},"520_4_1_202324",202324,520,"CT1",4,1,7]
[{"$nulls":10},"522_4_1_202324",202324,522,"CT1",4,1,4]
[{"$nulls":10},"524_4_1_202324",202324,524,"CT1",4,1,7]
[{"$nulls":10},"526_4_1_202324",202324,526,"CT1",4,1,2]
[{"$nulls":10},"528_4_1_202324",202324,528,"CT1",4,1,3]
[{"$nulls":10},"530_4_1_202324",202324,530,"CT1",4,1,17]
[{"$nulls":10},"532_4_1_202324",202324,532,"CT1",4,1,20]
[{"$nulls":10},"534_4_1_202324",202324,534,"CT1",4,1,48]
[{"$nulls":10},"536_4_1_202324",202324,536,"CT1",4,1,21]
[{"$nulls":10},"538_4_1_202324",202324,538,"CT1",4,1,0]
[{"$nulls":10},"540_4_1_202324",202324,540,"CT1",4,1,148]
[{"$nulls":10},"542_4_1_202324",202324,542,"CT1",4,1,44]
[{"$nulls":10},"544_4_1_202324",202324,544,"CT1",4,1,33]
[{"$nulls":10},"545_4_1_202324",202324,545,"CT1",4,1,26]
[{"$nulls":10},"546_4_1_202324",202324,546,"CT1",4,1,5]
[{"$nulls":10},"548_4_1_202324",202324,548,"CT1",4,1,1]
[{"$nulls":10},"550_4_1_202324",202324,550,"CT1",4,1,6]
[{"$nulls":10},"552_4_1_202324",202324,552,"CT1",4,1,2]
[{"$nulls":10},{"$f":"M708&\"_\"&O708&\"_\"&P708&\"_\"&L708","v":"512_4_2_202324"},202324,512,"CT1",4,2,1851]
[{"$nulls":10},"514_4_2_202324",202324,514,"CT1",4,2,3411.318]
[{"$nulls":10},"516_4_2_202324",202324,516,"CT1",4,2,1581]
[{"$nulls":10},"518_4_2_202324",202324,518,"CT1",4,2,986]
[{"$nulls":10},"520_4_2_202324",202324,520,"CT1",4,2,1214]
[{"$nulls":10},"522_4_2_202324",202324,522,"CT1",4,2,1172]
[{"$nulls":10},"524_4_2_202324",202324,524,"CT1",4,2,2089]
[{"$nulls":10},"526_4_2_202324",202324,526,"CT1",4,2,473]
[{"$nulls":10},"528_4_2_202324",202324,528,"CT1",4,2,2337]
[{"$nulls":10},"530_4_2_202324",202324,530,"CT1",4,2,3625]
[{"$nulls":10},"532_4_2_202324",202324,532,"CT1",4,2,6238]
[{"$nulls":10},"534_4_2_202324",202324,534,"CT1",4,2,5198]
[{"$nulls":10},"536_4_2_202324",202324,536,"CT1",4,2,5188]
[{"$nulls":10},"538_4_2_202324",202324,538,"CT1",4,2,528]
[{"$nulls":10},"540_4_2_202324",202324,540,"CT1",4,2,22667]
[{"$nulls":10},"542_4_2_202324",202324,542,"CT1",4,2,7275]
[{"$nulls":10},"544_4_2_202324",202324,544,"CT1",4,2,6878]
[{"$nulls":10},"545_4_2_202324",202324,545,"CT1",4,2,9913]
[{"$nulls":10},"546_4_2_202324",202324,546,"CT1",4,2,2127]
[{"$nulls":10},"548_4_2_202324",202324,548,"CT1",4,2,178]
[{"$nulls":10},"550_4_2_202324",202324,550,"CT1",4,2,1897]
[{"$nulls":10},"552_4_2_202324",202324,552,"CT1",4,2,1100]
[{"$nulls":10},"512_4_3_202324",202324,512,"CT1",4,3,3601]
[{"$nulls":10},"514_4_3_202324",202324,514,"CT1",4,3,7662.532]
[{"$nulls":10},"516_4_3_202324",202324,516,"CT1",4,3,3508]
[{"$nulls":10},"518_4_3_202324",202324,518,"CT1",4,3,3199]
[{"$nulls":10},"520_4_3_202324",202324,520,"CT1",4,3,4662]
[{"$nulls":10},"522_4_3_202324",202324,522,"CT1",4,3,6136]
[{"$nulls":10},"524_4_3_202324",202324,524,"CT1",4,3,4169]
[{"$nulls":10},"526_4_3_202324",202324,526,"CT1",4,3,1754]
[{"$nulls":10},"528_4_3_202324",202324,528,"CT1",4,3,4711]
[{"$nulls":10},"530_4_3_202324",202324,530,"CT1",4,3,12882]
[{"$nulls":10},"532_4_3_202324",202324,532,"CT1",4,3,13838]
[{"$nulls":10},"534_4_3_202324",202324,534,"CT1",4,3,15528]
[{"$nulls":10},"536_4_3_202324",202324,536,"CT1",4,3,8972]
[{"$nulls":10},"538_4_3_202324",202324,538,"CT1",4,3,2757]
[{"$nulls":10},"540_4_3_202324",202324,540,"CT1",4,3,14934]
[{"$nulls":10},"542_4_3_202324",202324,542,"CT1",4,3,4195]
[{"$nulls":10},"544_4_3_202324",202324,544,"CT1",4,3,15707]
[{"$nulls":10},"545_4_3_202324",202324,545,"CT1",4,3,5172]
[{"$nulls":10},"546_4_3_202324",202324,546,"CT1",4,3,7370]
[{"$nulls":10},"548_4_3_202324",202324,548,"CT1",4,3,954]
[{"$nulls":10},"550_4_3_202324",202324,550,"CT1",4,3,7863]
[{"$nulls":10},"552_4_3_202324",202324,552,"CT1",4,3,7857]
[{"$nulls":10},"512_4_4_202324",202324,512,"CT1",4,4,3821]
[{"$nulls":10},"514_4_4_202324",202324,514,"CT1",4,4,6622.86]
[{"$nulls":10},"516_4_4_202324",202324,516,"CT1",4,4,8602]
[{"$nulls":10},"518_4_4_202324",202324,518,"CT1",4,4,8272]
[{"$nulls":10},"520_4_4_202324",202324,520,"CT1",4,4,12252]
[{"$nulls":10},"522_4_4_202324",202324,522,"CT1",4,4,10007]
[{"$nulls":10},"524_4_4_202324",202324,524,"CT1",4,4,7203]
[{"$nulls":10},"526_4_4_202324",202324,526,"CT1",4,4,3802]
[{"$nulls":10},"528_4_4_202324",202324,528,"CT1",4,4,7805]
[{"$nulls":10},"530_4_4_202324",202324,530,"CT1",4,4,11430]
[{"$nulls":10},"532_4_4_202324",202324,532,"CT1",4,4,13700]
[{"$nulls":10},"534_4_4_202324",202324,534,"CT1",4,4,7467]
[{"$nulls":10},"536_4_4_202324",202324,536,"CT1",4,4,9182]
[{"$nulls":10},"538_4_4_202324",202324,538,"CT1",4,4,8015]
[{"$nulls":10},"540_4_4_202324",202324,540,"CT1",4,4,10555]
[{"$nulls":10},"542_4_4_202324",202324,542,"CT1",4,4,1625]
[{"$nulls":10},"544_4_4_202324",202324,544,"CT1",4,4,11876]
[{"$nulls":10},"545_4_4_202324",202324,545,"CT1",4,4,1854]
[{"$nulls":10},"546_4_4_202324",202324,546,"CT1",4,4,7597]
[{"$nulls":10},"548_4_4_202324",202324,548,"CT1",4,4,3922]
[{"$nulls":10},{"$f":"M772&\"_\"&O772&\"_\"&P772&\"_\"&L772","v":"550_4_4_202324"},202324,550,"CT1",4,4,10711]
[{"$nulls":10},"552_4_4_202324",202324,552,"CT1",4,4,17251]
[{"$nulls":10},"512_4_5_202324",202324,512,"CT1",4,5,4393]
[{"$nulls":10},"514_4_5_202324",202324,514,"CT1",4,5,6113.715]
[{"$nulls":10},"516_4_5_202324",202324,516,"CT1",4,5,7499]
[{"$nulls":10},"518_4_5_202324",202324,518,"CT1",4,5,4996]
[{"$nulls":10},"520_4_5_202324",202324,520,"CT1",4,5,8670.66]
[{"$nulls":10},"522_4_5_202324",202324,522,"CT1",4,5,6585]
[{"$nulls":10},"524_4_5_202324",202324,524,"CT1",4,5,6653]
[{"$nulls":10},"526_4_5_202324",202324,526,"CT1",4,5,4313]
[{"$nulls":10},"528_4_5_202324",202324,528,"CT1",4,5,6682]
[{"$nulls":10},"530_4_5_202324",202324,530,"CT1",4,5,9914]
[{"$nulls":10},"532_4_5_202324",202324,532,"CT1",4,5,9825]
[{"$nulls":10},"534_4_5_202324",202324,534,"CT1",4,5,5061]
[{"$nulls":10},"536_4_5_202324",202324,536,"CT1",4,5,7792]
[{"$nulls":10},"538_4_5_202324",202324,538,"CT1",4,5,7328]
[{"$nulls":10},"540_4_5_202324",202324,540,"CT1",4,5,6853]
[{"$nulls":10},"542_4_5_202324",202324,542,"CT1",4,5,1667]
[{"$nulls":10},"544_4_5_202324",202324,544,"CT1",4,5,6611]
[{"$nulls":10},"545_4_5_202324",202324,545,"CT1",4,5,1296]
[{"$nulls":10},"546_4_5_202324",202324,546,"CT1",4,5,2952]
[{"$nulls":10},"548_4_5_202324",202324,548,"CT1",4,5,5644]
[{"$nulls":10},"550_4_5_202324",202324,550,"CT1",4,5,8635]
[{"$nulls":10},"552_4_5_202324",202324,552,"CT1",4,5,20621]
[{"$nulls":10},"512_4_6_202324",202324,512,"CT1",4,6,3646]
[{"$nulls":10},"514_4_6_202324",202324,514,"CT1",4,6,5210.595]
[{"$nulls":10},"516_4_6_202324",202324,516,"CT1",4,6,6209]
[{"$nulls":10},"518_4_6_202324",202324,518,"CT1",4,6,3912]
[{"$nulls":10},"520_4_6_202324",202324,520,"CT1",4,6,7867]
[{"$nulls":10},"522_4_6_202324",202324,522,"CT1",4,6,5813]
[{"$nulls":10},"524_4_6_202324",202324,524,"CT1",4,6,8257]
[{"$nulls":10},"526_4_6_202324",202324,526,"CT1",4,6,5711]
[{"$nulls":10},"528_4_6_202324",202324,528,"CT1",4,6,7932]
[{"$nulls":10},"530_4_6_202324",202324,530,"CT1",4,6,9845]
[{"$nulls":10},"532_4_6_202324",202324,532,"CT1",4,6,8224]
[{"$nulls":10},"534_4_6_202324",202324,534,"CT1",4,6,3578]
[{"$nulls":10},"536_4_6_202324",202324,536,"CT1",4,6,6087]
[{"$nulls":10},"538_4_6_202324",202324,538,"CT1",4,6,7375]
[{"$nulls":10},"540_4_6_202324",202324,540,"CT1",4,6,5483]
[{"$nulls":10},"542_4_6_202324",202324,542,"CT1",4,6,1319]
[{"$nulls":10},"544_4_6_202324",202324,544,"CT1",4,6,5311]
[{"$nulls":10},"545_4_6_202324",202324,545,"CT1",4,6,681]
[{"$nulls":10},"546_4_6_202324",202324,546,"CT1",4,6,3187]
[{"$nulls":10},"548_4_6_202324",202324,548,"CT1",4,6,4952]
[{"$nulls":10},"550_4_6_202324",202324,550,"CT1",4,6,6207]
[{"$nulls":10},"552_4_6_202324",202324,552,"CT1",4,6,18216]
[{"$nulls":10},"512_4_7_202324",202324,512,"CT1",4,7,1840]
[{"$nulls":10},"514_4_7_202324",202324,514,"CT1",4,7,2551]
[{"$nulls":10},"516_4_7_202324",202324,516,"CT1",4,7,3607]
[{"$nulls":10},"518_4_7_202324",202324,518,"CT1",4,7,2940]
[{"$nulls":10},"520_4_7_202324",202324,520,"CT1",4,7,6024]
[{"$nulls":10},"522_4_7_202324",202324,522,"CT1",4,7,3949]
[{"$nulls":10},"524_4_7_202324",202324,524,"CT1",4,7,7066]
[{"$nulls":10},"526_4_7_202324",202324,526,"CT1",4,7,2592]
[{"$nulls":10},"528_4_7_202324",202324,528,"CT1",4,7,4175]
[{"$nulls":10},"530_4_7_202324",202324,530,"CT1",4,7,5155]
[{"$nulls":10},"532_4_7_202324",202324,532,"CT1",4,7,5570]
[{"$nulls":10},"534_4_7_202324",202324,534,"CT1",4,7,1132]
[{"$nulls":10},"536_4_7_202324",202324,536,"CT1",4,7,3490]
[{"$nulls":10},"538_4_7_202324",202324,538,"CT1",4,7,5595]
[{"$nulls":10},"540_4_7_202324",202324,540,"CT1",4,7,2802]
[{"$nulls":10},"542_4_7_202324",202324,542,"CT1",4,7,475]
[{"$nulls":10},"544_4_7_202324",202324,544,"CT1",4,7,2016]
[{"$nulls":10},"545_4_7_202324",202324,545,"CT1",4,7,279]
[{"$nulls":10},{"$f":"M836&\"_\"&O836&\"_\"&P836&\"_\"&L836","v":"546_4_7_202324"},202324,546,"CT1",4,7,1895]
[{"$nulls":10},"548_4_7_202324",202324,548,"CT1",4,7,5983]
[{"$nulls":10},"550_4_7_202324",202324,550,"CT1",4,7,4647]
[{"$nulls":10},"552_4_7_202324",202324,552,"CT1",4,7,14728]
[{"$nulls":10},"512_4_8_202324",202324,512,"CT1",4,8,732]
[{"$nulls":10},"514_4_8_202324",202324,514,"CT1",4,8,761]
[{"$nulls":10},"516_4_8_202324",202324,516,"CT1",4,8,1473]
[{"$nulls":10},"518_4_8_202324",202324,518,"CT1",4,8,1603]
[{"$nulls":10},"520_4_8_202324",202324,520,"CT1",4,8,2554]
[{"$nulls":10},"522_4_8_202324",202324,522,"CT1",4,8,2040]
[{"$nulls":10},"524_4_8_202324",202324,524,"CT1",4,8,3182]
[{"$nulls":10},"526_4_8_202324",202324,526,"CT1",4,8,712]
[{"$nulls":10},"528_4_8_202324",202324,528,"CT1",4,8,1458]
[{"$nulls":10},"530_4_8_202324",202324,530,"CT1",4,8,1803]
[{"$nulls":10},"532_4_8_202324",202324,532,"CT1",4,8,2759]
[{"$nulls":10},"534_4_8_202324",202324,534,"CT1",4,8,421]
[{"$nulls":10},"536_4_8_202324",202324,536,"CT1",4,8,1207]
[{"$nulls":10},"538_4_8_202324",202324,538,"CT1",4,8,4596]
[{"$nulls":10},"540_4_8_202324",202324,540,"CT1",4,8,966]
[{"$nulls":10},"542_4_8_202324",202324,542,"CT1",4,8,137]
[{"$nulls":10},"544_4_8_202324",202324,544,"CT1",4,8,670]
[{"$nulls":10},"545_4_8_202324",202324,545,"CT1",4,8,51]
[{"$nulls":10},"546_4_8_202324",202324,546,"CT1",4,8,572]
[{"$nulls":10},"548_4_8_202324",202324,548,"CT1",4,8,4389]
[{"$nulls":10},"550_4_8_202324",202324,550,"CT1",4,8,2152]
[{"$nulls":10},"552_4_8_202324",202324,552,"CT1",4,8,7810]
[{"$nulls":10},"512_4_9_202324",202324,512,"CT1",4,9,96]
[{"$nulls":10},"514_4_9_202324",202324,514,"CT1",4,9,98]
[{"$nulls":10},"516_4_9_202324",202324,516,"CT1",4,9,304]
[{"$nulls":10},"518_4_9_202324",202324,518,"CT1",4,9,234]
[{"$nulls":10},"520_4_9_202324",202324,520,"CT1",4,9,484]
[{"$nulls":10},"522_4_9_202324",202324,522,"CT1",4,9,581]
[{"$nulls":10},"524_4_9_202324",202324,524,"CT1",4,9,440]
[{"$nulls":10},"526_4_9_202324",202324,526,"CT1",4,9,60]
[{"$nulls":10},"528_4_9_202324",202324,528,"CT1",4,9,202]
[{"$nulls":10},"530_4_9_202324",202324,530,"CT1",4,9,229]
[{"$nulls":10},"532_4_9_202324",202324,532,"CT1",4,9,868]
[{"$nulls":10},"534_4_9_202324",202324,534,"CT1",4,9,66]
[{"$nulls":10},"536_4_9_202324",202324,536,"CT1",4,9,233]
[{"$nulls":10},"538_4_9_202324",202324,538,"CT1",4,9,1855]
[{"$nulls":10},"540_4_9_202324",202324,540,"CT1",4,9,142]
[{"$nulls":10},"542_4_9_202324",202324,542,"CT1",4,9,3]
[{"$nulls":10},"544_4_9_202324",202324,544,"CT1",4,9,69]
[{"$nulls":10},"545_4_9_202324",202324,545,"CT1",4,9,3]
[{"$nulls":10},"546_4_9_202324",202324,546,"CT1",4,9,59]
[{"$nulls":10},"548_4_9_202324",202324,548,"CT1",4,9,1477]
[{"$nulls":10},"550_4_9_202324",202324,550,"CT1",4,9,461]
[{"$nulls":10},"552_4_9_202324",202324,552,"CT1",4,9,2254]
[{"$nulls":10},"512_4_10_202324",202324,512,"CT1",4,10,30]
[{"$nulls":10},"514_4_10_202324",202324,514,"CT1",4,10,30]
[{"$nulls":10},"516_4_10_202324",202324,516,"CT1",4,10,102]
[{"$nulls":10},"518_4_10_202324",202324,518,"CT1",4,10,116]
[{"$nulls":10},"520_4_10_202324",202324,520,"CT1",4,10,153]
[{"$nulls":10},"522_4_10_202324",202324,522,"CT1",4,10,219]
[{"$nulls":10},"524_4_10_202324",202324,524,"CT1",4,10,124]
[{"$nulls":10},"526_4_10_202324",202324,526,"CT1",4,10,20]
[{"$nulls":10},"528_4_10_202324",202324,528,"CT1",4,10,59]
[{"$nulls":10},"530_4_10_202324",202324,530,"CT1",4,10,43]
[{"$nulls":10},"532_4_10_202324",202324,532,"CT1",4,10,388]
[{"$nulls":10},"534_4_10_202324",202324,534,"CT1",4,10,11]
[{"$nulls":10},"536_4_10_202324",202324,536,"CT1",4,10,76]
[{"$nulls":10},"538_4_10_202324",202324,538,"CT1",4,10,904]
[{"$nulls":10},"540_4_10_202324",202324,540,"CT1",4,10,26]
[{"$nulls":10},"542_4_10_202324",202324,542,"CT1",4,10,1]
[{"$nulls":10},{"$f":"M900&\"_\"&O900&\"_\"&P900&\"_\"&L900","v":"544_4_10_202324"},202324,544,"CT1",4,10,46]
[{"$nulls":10},"545_4_10_202324",202324,545,"CT1",4,10,5]
[{"$nulls":10},"546_4_10_202324",202324,546,"CT1",4,10,7]
[{"$nulls":10},"548_4_10_202324",202324,548,"CT1",4,10,544]
[{"$nulls":10},"550_4_10_202324",202324,550,"CT1",4,10,141]
[{"$nulls":10},"552_4_10_202324",202324,552,"CT1",4,10,1195]
[{"$nulls":10},"512_4_11_202324",202324,512,"CT1",4,11,20016]
[{"$nulls":10},"514_4_11_202324",202324,514,"CT1",4,11,32468.02]
[{"$nulls":10},"516_4_11_202324",202324,516,"CT1",4,11,32890]
[{"$nulls":10},"518_4_11_202324",202324,518,"CT1",4,11,26260]
[{"$nulls":10},"520_4_11_202324",202324,520,"CT1",4,11,43887.66]
[{"$nulls":10},"522_4_11_202324",202324,522,"CT1",4,11,36506]
[{"$nulls":10},"524_4_11_202324",202324,524,"CT1",4,11,39190]
[{"$nulls":10},"526_4_11_202324",202324,526,"CT1",4,11,19439]
[{"$nulls":10},"528_4_11_202324",202324,528,"CT1",4,11,35364]
[{"$nulls":10},"530_4_11_202324",202324,530,"CT1",4,11,54943]
[{"$nulls":10},"532_4_11_202324",202324,532,"CT1",4,11,61430]
[{"$nulls":10},"534_4_11_202324",202324,534,"CT1",4,11,38510]
[{"$nulls":10},"536_4_11_202324",202324,536,"CT1",4,11,42248]
[{"$nulls":10},"538_4_11_202324",202324,538,"CT1",4,11,38953]
[{"$nulls":10},"540_4_11_202324",202324,540,"CT1",4,11,64576]
[{"$nulls":10},"542_4_11_202324",202324,542,"CT1",4,11,16741]
[{"$nulls":10},"544_4_11_202324",202324,544,"CT1",4,11,49217]
[{"$nulls":10},"545_4_11_202324",202324,545,"CT1",4,11,19280]
[{"$nulls":10},"546_4_11_202324",202324,546,"CT1",4,11,25771]
[{"$nulls":10},"548_4_11_202324",202324,548,"CT1",4,11,28044]
[{"$nulls":10},"550_4_11_202324",202324,550,"CT1",4,11,42720]
[{"$nulls":10},"552_4_11_202324",202324,552,"CT1",4,11,91034]
[{"$nulls":10},"512_4.1_1_202324",202324,512,"CT1",4.1,1,6]
[{"$nulls":10},"514_4.1_1_202324",202324,514,"CT1",4.1,1,2]
[{"$nulls":10},"516_4.1_1_202324",202324,516,"CT1",4.1,1,6]
[{"$nulls":10},"518_4.1_1_202324",202324,518,"CT1",4.1,1,4]
[{"$nulls":10},"520_4.1_1_202324",202324,520,"CT1",4.1,1,10]
[{"$nulls":10},"522_4.1_1_202324",202324,522,"CT1",4.1,1,9]
[{"$nulls":10},"524_4.1_1_202324",202324,524,"CT1",4.1,1,7]
[{"$nulls":10},"526_4.1_1_202324",202324,526,"CT1",4.1,1,3]
[{"$nulls":10},"528_4.1_1_202324",202324,528,"CT1",4.1,1,5]
[{"$nulls":10},"530_4.1_1_202324",202324,530,"CT1",4.1,1,18]
[{"$nulls":10},"532_4.1_1_202324",202324,532,"CT1",4.1,1,21]
[{"$nulls":10},"534_4.1_1_202324",202324,534,"CT1",4.1,1,8]
[{"$nulls":10},"536_4.1_1_202324",202324,536,"CT1",4.1,1,7]
[{"$nulls":10},"538_4.1_1_202324",202324,538,"CT1",4.1,1,0]
[{"$nulls":10},"540_4.1_1_202324",202324,540,"CT1",4.1,1,66]
[{"$nulls":10},"542_4.1_1_202324",202324,542,"CT1",4.1,1,17]
[{"$nulls":10},"544_4.1_1_202324",202324,544,"CT1",4.1,1,32]
[{"$nulls":10},"545_4.1_1_202324",202324,545,"CT1",4.1,1,25]
[{"$nulls":10},"546_4.1_1_202324",202324,546,"CT1",4.1,1,4]
[{"$nulls":10},"548_4.1_1_202324",202324,548,"CT1",4.1,1,0]
[{"$nulls":10},"550_4.1_1_202324",202324,550,"CT1",4.1,1,5]
[{"$nulls":10},"552_4.1_1_202324",202324,552,"CT1",4.1,1,6]
[{"$nulls":10},"512_4.1_2_202324",202324,512,"CT1",4.1,2,2560]
[{"$nulls":10},"514_4.1_2_202324",202324,514,"CT1",4.1,2,4066]
[{"$nulls":10},"516_4.1_2_202324",202324,516,"CT1",4.1,2,3308]
[{"$nulls":10},"518_4.1_2_202324",202324,518,"CT1",4.1,2,2733]
[{"$nulls":10},"520_4.1_2_202324",202324,520,"CT1",4.1,2,2899]
[{"$nulls":10},"522_4.1_2_202324",202324,522,"CT1",4.1,2,2933]
[{"$nulls":10},"524_4.1_2_202324",202324,524,"CT1",4.1,2,3346]
[{"$nulls":10},"526_4.1_2_202324",202324,526,"CT1",4.1,2,942]
[{"$nulls":10},"528_4.1_2_202324",202324,528,"CT1",4.1,2,3524]
[{"$nulls":10},"530_4.1_2_202324",202324,530,"CT1",4.1,2,5265]
[{"$nulls":10},"532_4.1_2_202324",202324,532,"CT1",4.1,2,9839]
[{"$nulls":10},"534_4.1_2_202324",202324,534,"CT1",4.1,2,8050]
[{"$nulls":10},"536_4.1_2_202324",202324,536,"CT1",4.1,2,5121]
[{"$nulls":10},"538_4.1_2_202324",202324,538,"CT1",4.1,2,877]
[{"$nulls":10},{"$f":"M964&\"_\"&O964&\"_\"&P964&\"_\"&L964","v":"540_4.1_2_202324"},202324,540,"CT1",4.1,2,22246]
[{"$nulls":10},"542_4.1_2_202324",202324,542,"CT1",4.1,2,6290]
[{"$nulls":10},"544_4.1_2_202324",202324,544,"CT1",4.1,2,7987]
[{"$nulls":10},"545_4.1_2_202324",202324,545,"CT1",4.1,2,8703]
[{"$nulls":10},"546_4.1_2_202324",202324,546,"CT1",4.1,2,3859]
[{"$nulls":10},"548_4.1_2_202324",202324,548,"CT1",4.1,2,309]
[{"$nulls":10},"550_4.1_2_202324",202324,550,"CT1",4.1,2,4590]
[{"$nulls":10},"552_4.1_2_202324",202324,552,"CT1",4.1,2,3117]
[{"$nulls":10},"512_4.1_3_202324",202324,512,"CT1",4.1,3,2769]
[{"$nulls":10},"514_4.1_3_202324",202324,514,"CT1",4.1,3,5958]
[{"$nulls":10},"516_4.1_3_202324",202324,516,"CT1",4.1,3,4159]
[{"$nulls":10},"518_4.1_3_202324",202324,518,"CT1",4.1,3,3623]
[{"$nulls":10},"520_4.1_3_202324",202324,520,"CT1",4.1,3,4442]
[{"$nulls":10},"522_4.1_3_202324",202324,522,"CT1",4.1,3,6082]
[{"$nulls":10},"524_4.1_3_202324",202324,524,"CT1",4.1,3,4479]
[{"$nulls":10},"526_4.1_3_202324",202324,526,"CT1",4.1,3,2590]
[{"$nulls":10},"528_4.1_3_202324",202324,528,"CT1",4.1,3,3999]
[{"$nulls":10},"530_4.1_3_202324",202324,530,"CT1",4.1,3,10678]
[{"$nulls":10},"532_4.1_3_202324",202324,532,"CT1",4.1,3,12602]
[{"$nulls":10},"534_4.1_3_202324",202324,534,"CT1",4.1,3,10845]
[{"$nulls":10},"536_4.1_3_202324",202324,536,"CT1",4.1,3,6025]
[{"$nulls":10},"538_4.1_3_202324",202324,538,"CT1",4.1,3,3581]
[{"$nulls":10},"540_4.1_3_202324",202324,540,"CT1",4.1,3,9439]
[{"$nulls":10},"542_4.1_3_202324",202324,542,"CT1",4.1,3,2251]
[{"$nulls":10},"544_4.1_3_202324",202324,544,"CT1",4.1,3,10332]
[{"$nulls":10},"545_4.1_3_202324",202324,545,"CT1",4.1,3,2699]
[{"$nulls":10},"546_4.1_3_202324",202324,546,"CT1",4.1,3,5485]
[{"$nulls":10},"548_4.1_3_202324",202324,548,"CT1",4.1,3,2358]
[{"$nulls":10},"550_4.1_3_202324",202324,550,"CT1",4.1,3,6800]
[{"$nulls":10},"552_4.1_3_202324",202324,552,"CT1",4.1,3,10554]
[{"$nulls":10},"512_4.1_4_202324",202324,512,"CT1",4.1,4,2388]
[{"$nulls":10},"514_4.1_4_202324",202324,514,"CT1",4.1,4,4066]
[{"$nulls":10},"516_4.1_4_202324",202324,516,"CT1",4.1,4,5991]
[{"$nulls":10},"518_4.1_4_202324",202324,518,"CT1",4.1,4,5819]
[{"$nulls":10},"520_4.1_4_202324",202324,520,"CT1",4.1,4,7770]
[{"$nulls":10},"522_4.1_4_202324",202324,522,"CT1",4.1,4,6441]
[{"$nulls":10},"524_4.1_4_202324",202324,524,"CT1",4.1,4,5168]
[{"$nulls":10},"526_4.1_4_202324",202324,526,"CT1",4.1,4,2964]
[{"$nulls":10},"528_4.1_4_202324",202324,528,"CT1",4.1,4,5311]
[{"$nulls":10},"530_4.1_4_202324",202324,530,"CT1",4.1,4,6691]
[{"$nulls":10},"532_4.1_4_202324",202324,532,"CT1",4.1,4,9221]
[{"$nulls":10},"534_4.1_4_202324",202324,534,"CT1",4.1,4,3892]
[{"$nulls":10},"536_4.1_4_202324",202324,536,"CT1",4.1,4,5282]
[{"$nulls":10},"538_4.1_4_202324",202324,538,"CT1",4.1,4,5864]
[{"$nulls":10},"540_4.1_4_202324",202324,540,"CT1",4.1,4,5759]
[{"$nulls":10},"542_4.1_4_202324",202324,542,"CT1",4.1,4,654]
[{"$nulls":10},"544_4.1_4_202324",202324,544,"CT1",4.1,4,6377]
[{"$nulls":10},"545_4.1_4_202324",202324,545,"CT1",4.1,4,755]
[{"$nulls":10},"546_4.1_4_202324",202324,546,"CT1",4.1,4,4171]
[{"$nulls":10},"548_4.1_4_202324",202324,548,"CT1",4.1,4,3022]
[{"$nulls":10},"550_4.1_4_202324",202324,550,"CT1",4.1,4,6980]
[{"$nulls":10},"552_4.1_4_202324",202324,552,"CT1",4.1,4,14156]
[{"$nulls":10},"512_4.1_5_202324",202324,512,"CT1",4.1,5,2109]
[{"$nulls":10},"514_4.1_5_202324",202324,514,"CT1",4.1,5,2791]
[{"$nulls":10},"516_4.1_5_202324",202324,516,"CT1",4.1,5,3750]
[{"$nulls":10},"518_4.1_5_202324",202324,518,"CT1",4.1,5,2596]
[{"$nulls":10},"520_4.1_5_202324",202324,520,"CT1",4.1,5,4213]
[{"$nulls":10},"522_4.1_5_202324",202324,522,"CT1",4.1,5,3273]
[{"$nulls":10},"524_4.1_5_202324",202324,524,"CT1",4.1,5,3471]
[{"$nulls":10},"526_4.1_5_202324",202324,526,"CT1",4.1,5,2367]
[{"$nulls":10},"528_4.1_5_202324",202324,528,"CT1",4.1,5,3484]
[{"$nulls":10},"530_4.1_5_202324",202324,530,"CT1",4.1,5,4372]
[{"$nulls":10},"532_4.1_5_202324",202324,532,"CT1",4.1,5,5599]
[{"$nulls":10},"534_4.1_5_202324",202324,534,"CT1",4.1,5,2055]
[{"$nulls":10},{"$f":"M1028&\"_\"&O1028&\"_\"&P1028&\"_\"&L1028","v":"536_4.1_5_202324"},202324,536,"CT1",4.1,5,3247]
[{"$nulls":10},"538_4.1_5_202324",202324,538,"CT1",4.1,5,4096]
[{"$nulls":10},"540_4.1_5_202324",202324,540,"CT1",4.1,5,2379]
[{"$nulls":10},"542_4.1_5_202324",202324,542,"CT1",4.1,5,514]
[{"$nulls":10},"544_4.1_5_202324",202324,544,"CT1",4.1,5,2565]
[{"$nulls":10},"545_4.1_5_202324",202324,545,"CT1",4.1,5,373]
[{"$nulls":10},"546_4.1_5_202324",202324,546,"CT1",4.1,5,1262]
[{"$nulls":10},"548_4.1_5_202324",202324,548,"CT1",4.1,5,3503]
[{"$nulls":10},"550_4.1_5_202324",202324,550,"CT1",4.1,5,3819]
[{"$nulls":10},"552_4.1_5_202324",202324,552,"CT1",4.1,5,13746]
[{"$nulls":10},"512_4.1_6_202324",202324,512,"CT1",4.1,6,1268]
[{"$nulls":10},"514_4.1_6_202324",202324,514,"CT1",4.1,6,1797]
[{"$nulls":10},"516_4.1_6_202324",202324,516,"CT1",4.1,6,2464]
[{"$nulls":10},"518_4.1_6_202324",202324,518,"CT1",4.1,6,1477]
[{"$nulls":10},"520_4.1_6_202324",202324,520,"CT1",4.1,6,2741]
[{"$nulls":10},"522_4.1_6_202324",202324,522,"CT1",4.1,6,2088]
[{"$nulls":10},"524_4.1_6_202324",202324,524,"CT1",4.1,6,3480]
[{"$nulls":10},"526_4.1_6_202324",202324,526,"CT1",4.1,6,2246]
[{"$nulls":10},"528_4.1_6_202324",202324,528,"CT1",4.1,6,3114]
[{"$nulls":10},"530_4.1_6_202324",202324,530,"CT1",4.1,6,3116]
[{"$nulls":10},"532_4.1_6_202324",202324,532,"CT1",4.1,6,3514]
[{"$nulls":10},"534_4.1_6_202324",202324,534,"CT1",4.1,6,796]
[{"$nulls":10},"536_4.1_6_202324",202324,536,"CT1",4.1,6,1690]
[{"$nulls":10},"538_4.1_6_202324",202324,538,"CT1",4.1,6,2943]
[{"$nulls":10},"540_4.1_6_202324",202324,540,"CT1",4.1,6,1290]
[{"$nulls":10},"542_4.1_6_202324",202324,542,"CT1",4.1,6,217]
[{"$nulls":10},"544_4.1_6_202324",202324,544,"CT1",4.1,6,1248]
[{"$nulls":10},"545_4.1_6_202324",202324,545,"CT1",4.1,6,161]
[{"$nulls":10},"546_4.1_6_202324",202324,546,"CT1",4.1,6,972]
[{"$nulls":10},"548_4.1_6_202324",202324,548,"CT1",4.1,6,2360]
[{"$nulls":10},"550_4.1_6_202324",202324,550,"CT1",4.1,6,1924]
[{"$nulls":10},"552_4.1_6_202324",202324,552,"CT1",4.1,6,8703]
[{"$nulls":10},"512_4.1_7_202324",202324,512,"CT1",4.1,7,505]
[{"$nulls":10},"514_4.1_7_202324",202324,514,"CT1",4.1,7,763]
[{"$nulls":10},"516_4.1_7_202324",202324,516,"CT1",4.1,7,1121]
[{"$nulls":10},"518_4.1_7_202324",202324,518,"CT1",4.1,7,745]
[{"$nulls":10},"520_4.1_7_202324",202324,520,"CT1",4.1,7,1444]
[{"$nulls":10},"522_4.1_7_202324",202324,522,"CT1",4.1,7,1069]
[{"$nulls":10},"524_4.1_7_202324",202324,524,"CT1",4.1,7,2014]
[{"$nulls":10},"526_4.1_7_202324",202324,526,"CT1",4.1,7,748]
[{"$nulls":10},"528_4.1_7_202324",202324,528,"CT1",4.1,7,1138]
[{"$nulls":10},"530_4.1_7_202324",202324,530,"CT1",4.1,7,1216]
[{"$nulls":10},"532_4.1_7_202324",202324,532,"CT1",4.1,7,1964]
[{"$nulls":10},"534_4.1_7_202324",202324,534,"CT1",4.1,7,213]
[{"$nulls":10},"536_4.1_7_202324",202324,536,"CT1",4.1,7,803]
[{"$nulls":10},"538_4.1_7_202324",202324,538,"CT1",4.1,7,1842]
[{"$nulls":10},"540_4.1_7_202324",202324,540,"CT1",4.1,7,531]
[{"$nulls":10},"542_4.1_7_202324",202324,542,"CT1",4.1,7,71]
[{"$nulls":10},"544_4.1_7_202324",202324,544,"CT1",4.1,7,329]
[{"$nulls":10},"545_4.1_7_202324",202324,545,"CT1",4.1,7,39]
[{"$nulls":10},"546_4.1_7_202324",202324,546,"CT1",4.1,7,422]
[{"$nulls":10},"548_4.1_7_202324",202324,548,"CT1",4.1,7,1803]
[{"$nulls":10},"550_4.1_7_202324",202324,550,"CT1",4.1,7,1140]
[{"$nulls":10},"552_4.1_7_202324",202324,552,"CT1",4.1,7,5161]
[{"$nulls":10},"512_4.1_8_202324",202324,512,"CT1",4.1,8,175]
[{"$nulls":10},"514_4.1_8_202324",202324,514,"CT1",4.1,8,209]
[{"$nulls":10},"516_4.1_8_202324",202324,516,"CT1",4.1,8,323]
[{"$nulls":10},"518_4.1_8_202324",202324,518,"CT1",4.1,8,347]
[{"$nulls":10},"520_4.1_8_202324",202324,520,"CT1",4.1,8,544]
[{"$nulls":10},"522_4.1_8_202324",202324,522,"CT1",4.1,8,422]
[{"$nulls":10},"524_4.1_8_202324",202324,524,"CT1",4.1,8,692]
[{"$nulls":10},"526_4.1_8_202324",202324,526,"CT1",4.1,8,143]
[{"$nulls":10},"528_4.1_8_202324",202324,528,"CT1",4.1,8,344]
[{"$nulls":10},"530_4.1_8_202324",202324,530,"CT1",4.1,8,309]
[{"$nulls":10},{"$f":"M1092&\"_\"&O1092&\"_\"&P1092&\"_\"&L1092","v":"532_4.1_8_202324"},202324,532,"CT1",4.1,8,821]
[{"$nulls":10},"534_4.1_8_202324",202324,534,"CT1",4.1,8,83]
[{"$nulls":10},"536_4.1_8_202324",202324,536,"CT1",4.1,8,240]
[{"$nulls":10},"538_4.1_8_202324",202324,538,"CT1",4.1,8,1147]
[{"$nulls":10},"540_4.1_8_202324",202324,540,"CT1",4.1,8,159]
[{"$nulls":10},"542_4.1_8_202324",202324,542,"CT1",4.1,8,13]
[{"$nulls":10},"544_4.1_8_202324",202324,544,"CT1",4.1,8,115]
[{"$nulls":10},"545_4.1_8_202324",202324,545,"CT1",4.1,8,7]
[{"$nulls":10},"546_4.1_8_202324",202324,546,"CT1",4.1,8,77]
[{"$nulls":10},"548_4.1_8_202324",202324,548,"CT1",4.1,8,948]
[{"$nulls":10},"550_4.1_8_202324",202324,550,"CT1",4.1,8,439]
[{"$nulls":10},"552_4.1_8_202324",202324,552,"CT1",4.1,8,1953]
[{"$nulls":10},"512_4.1_9_202324",202324,512,"CT1",4.1,9,23]
[{"$nulls":10},"514_4.1_9_202324",202324,514,"CT1",4.1,9,33]
[{"$nulls":10},"516_4.1_9_202324",202324,516,"CT1",4.1,9,73]
[{"$nulls":10},"518_4.1_9_202324",202324,518,"CT1",4.1,9,54]
[{"$nulls":10},"520_4.1_9_202324",202324,520,"CT1",4.1,9,83]
[{"$nulls":10},"522_4.1_9_202324",202324,522,"CT1",4.1,9,109]
[{"$nulls":10},"524_4.1_9_202324",202324,524,"CT1",4.1,9,100]
[{"$nulls":10},"526_4.1_9_202324",202324,526,"CT1",4.1,9,15]
[{"$nulls":10},"528_4.1_9_202324",202324,528,"CT1",4.1,9,39]
[{"$nulls":10},"530_4.1_9_202324",202324,530,"CT1",4.1,9,43]
[{"$nulls":10},"532_4.1_9_202324",202324,532,"CT1",4.1,9,189]
[{"$nulls":10},"534_4.1_9_202324",202324,534,"CT1",4.1,9,15]
[{"$nulls":10},"536_4.1_9_202324",202324,536,"CT1",4.1,9,45]
[{"$nulls":10},"538_4.1_9_202324",202324,538,"CT1",4.1,9,351]
[{"$nulls":10},"540_4.1_9_202324",202324,540,"CT1",4.1,9,35]
[{"$nulls":10},"542_4.1_9_202324",202324,542,"CT1",4.1,9,0]
[{"$nulls":10},"544_4.1_9_202324",202324,544,"CT1",4.1,9,13]
[{"$nulls":10},"545_4.1_9_202324",202324,545,"CT1",4.1,9,0]
[{"$nulls":10},"546_4.1_9_202324",202324,546,"CT1",4.1,9,7]
[{"$nulls":10},"548_4.1_9_202324",202324,548,"CT1",4.1,9,250]
[{"$nulls":10},"550_4.1_9_202324",202324,550,"CT1",4.1,9,80]
[{"$nulls":10},"552_4.1_9_202324",202324,552,"CT1",4.1,9,455]
[{"$nulls":10},"512_4.1_10_202324",202324,512,"CT1",4.1,10,5]
[{"$nulls":10},"514_4.1_10_202324",202324,514,"CT1",4.1,10,8]
[{"$nulls":10},"516_4.1_10_202324",202324,516,"CT1",4.1,10,16]
[{"$nulls":10},"518_4.1_10_202324",202324,518,"CT1",4.1,10,14]
[{"$nulls":10},"520_4.1_10_202324",202324,520,"CT1",4.1,10,32]
[{"$nulls":10},"522_4.1_10_202324",202324,522,"CT1",4.1,10,42]
[{"$nulls":10},"524_4.1_10_202324",202324,524,"CT1",4.1,10,30]
[{"$nulls":10},"526_4.1_10_202324",202324,526,"CT1",4.1,10,0]
[{"$nulls":10},"528_4.1_10_202324",202324,528,"CT1",4.1,10,14]
[{"$nulls":10},"530_4.1_10_202324",202324,530,"CT1",4.1,10,2]
[{"$nulls":10},"532_4.1_10_202324",202324,532,"CT1",4.1,10,62]
[{"$nulls":10},"534_4.1_10_202324",202324,534,"CT1",4.1,10,2]
[{"$nulls":10},"536_4.1_10_202324",202324,536,"CT1",4.1,10,12]
[{"$nulls":10},"538_4.1_10_202324",202324,538,"CT1",4.1,10,104]
[{"$nulls":10},"540_4.1_10_202324",202324,540,"CT1",4.1,10,2]
[{"$nulls":10},"542_4.1_10_202324",202324,542,"CT1",4.1,10,0]
[{"$nulls":10},"544_4.1_10_202324",202324,544,"CT1",4.1,10,2]
[{"$nulls":10},"545_4.1_10_202324",202324,545,"CT1",4.1,10,0]
[{"$nulls":10},"546_4.1_10_202324",202324,546,"CT1",4.1,10,2]
[{"$nulls":10},"548_4.1_10_202324",202324,548,"CT1",4.1,10,85]
[{"$nulls":10},"550_4.1_10_202324",202324,550,"CT1",4.1,10,20]
[{"$nulls":10},"552_4.1_10_202324",202324,552,"CT1",4.1,10,168]
[{"$nulls":10},"512_4.1_11_202324",202324,512,"CT1",4.1,11,11808]
[{"$nulls":10},"514_4.1_11_202324",202324,514,"CT1",4.1,11,19693]
[{"$nulls":10},"516_4.1_11_202324",202324,516,"CT1",4.1,11,21211]
[{"$nulls":10},"518_4.1_11_202324",202324,518,"CT1",4.1,11,17412]
[{"$nulls":10},"520_4.1_11_202324",202324,520,"CT1",4.1,11,24178]
[{"$nulls":10},"522_4.1_11_202324",202324,522,"CT1",4.1,11,22468]
[{"$nulls":10},"524_4.1_11_202324",202324,524,"CT1",4.1,11,22787]
[{"$nulls":10},"526_4.1_11_202324",202324,526,"CT1",4.1,11,12018]
[{"$nulls":10},{"$f":"M1156&\"_\"&O1156&\"_\"&P1156&\"_\"&L1156","v":"528_4.1_11_202324"},202324,528,"CT1",4.1,11,20972]
[{"$nulls":10},"530_4.1_11_202324",202324,530,"CT1",4.1,11,31710]
[{"$nulls":10},"532_4.1_11_202324",202324,532,"CT1",4.1,11,43832]
[{"$nulls":10},"534_4.1_11_202324",202324,534,"CT1",4.1,11,25959]
[{"$nulls":10},"536_4.1_11_202324",202324,536,"CT1",4.1,11,22472]
[{"$nulls":10},"538_4.1_11_202324",202324,538,"CT1",4.1,11,20805]
[{"$nulls":10},"540_4.1_11_202324",202324,540,"CT1",4.1,11,41906]
[{"$nulls":10},"542_4.1_11_202324",202324,542,"CT1",4.1,11,10027]
[{"$nulls":10},"544_4.1_11_202324",202324,544,"CT1",4.1,11,29000]
[{"$nulls":10},"545_4.1_11_202324",202324,545,"CT1",4.1,11,12762]
[{"$nulls":10},"546_4.1_11_202324",202324,546,"CT1",4.1,11,16261]
[{"$nulls":10},"548_4.1_11_202324",202324,548,"CT1",4.1,11,14638]
[{"$nulls":10},"550_4.1_11_202324",202324,550,"CT1",4.1,11,25797]
[{"$nulls":10},"552_4.1_11_202324",202324,552,"CT1",4.1,11,58019]
[{"$nulls":10},"512_4.2_1_202324",202324,512,"CT1",4.2,1,0]
[{"$nulls":10},"514_4.2_1_202324",202324,514,"CT1",4.2,1,0]
[{"$nulls":10},"516_4.2_1_202324",202324,516,"CT1",4.2,1,0]
[{"$nulls":10},"518_4.2_1_202324",202324,518,"CT1",4.2,1,0]
[{"$nulls":10},"520_4.2_1_202324",202324,520,"CT1",4.2,1,0]
[{"$nulls":10},"522_4.2_1_202324",202324,522,"CT1",4.2,1,0]
[{"$nulls":10},"524_4.2_1_202324",202324,524,"CT1",4.2,1,0]
[{"$nulls":10},"526_4.2_1_202324",202324,526,"CT1",4.2,1,0]
[{"$nulls":10},"528_4.2_1_202324",202324,528,"CT1",4.2,1,0]
[{"$nulls":10},"530_4.2_1_202324",202324,530,"CT1",4.2,1,2]
[{"$nulls":10},"532_4.2_1_202324",202324,532,"CT1",4.2,1,2]
[{"$nulls":10},"534_4.2_1_202324",202324,534,"CT1",4.2,1,1]
[{"$nulls":10},"536_4.2_1_202324",202324,536,"CT1",4.2,1,0]
[{"$nulls":10},"538_4.2_1_202324",202324,538,"CT1",4.2,1,0]
[{"$nulls":10},"540_4.2_1_202324",202324,540,"CT1",4.2,1,0]
[{"$nulls":10},"542_4.2_1_202324",202324,542,"CT1",4.2,1,2]
[{"$nulls":10},"544_4.2_1_202324",202324,544,"CT1",4.2,1,0]
[{"$nulls":10},"545_4.2_1_202324",202324,545,"CT1",4.2,1,4]
[{"$nulls":10},"546_4.2_1_202324",202324,546,"CT1",4.2,1,0]
[{"$nulls":10},"548_4.2_1_202324",202324,548,"CT1",4.2,1,0]
[{"$nulls":10},"550_4.2_1_202324",202324,550,"CT1",4.2,1,0]
[{"$nulls":10},"552_4.2_1_202324",202324,552,"CT1",4.2,1,0]
[{"$nulls":10},"512_4.2_2_202324",202324,512,"CT1",4.2,2,8]
[{"$nulls":10},"514_4.2_2_202324",202324,514,"CT1",4.2,2,16]
[{"$nulls":10},"516_4.2_2_202324",202324,516,"CT1",4.2,2,9]
[{"$nulls":10},"518_4.2_2_202324",202324,518,"CT1",4.2,2,11]
[{"$nulls":10},"520_4.2_2_202324",202324,520,"CT1",4.2,2,0]
[{"$nulls":10},"522_4.2_2_202324",202324,522,"CT1",4.2,2,0]
[{"$nulls":10},"524_4.2_2_202324",202324,524,"CT1",4.2,2,2]
[{"$nulls":10},"526_4.2_2_202324",202324,526,"CT1",4.2,2,27]
[{"$nulls":10},"528_4.2_2_202324",202324,528,"CT1",4.2,2,11]
[{"$nulls":10},"530_4.2_2_202324",202324,530,"CT1",4.2,2,27]
[{"$nulls":10},"532_4.2_2_202324",202324,532,"CT1",4.2,2,23]
[{"$nulls":10},"534_4.2_2_202324",202324,534,"CT1",4.2,2,10]
[{"$nulls":10},"536_4.2_2_202324",202324,536,"CT1",4.2,2,1]
[{"$nulls":10},"538_4.2_2_202324",202324,538,"CT1",4.2,2,4]
[{"$nulls":10},"540_4.2_2_202324",202324,540,"CT1",4.2,2,23]
[{"$nulls":10},"542_4.2_2_202324",202324,542,"CT1",4.2,2,10]
[{"$nulls":10},"544_4.2_2_202324",202324,544,"CT1",4.2,2,11]
[{"$nulls":10},"545_4.2_2_202324",202324,545,"CT1",4.2,2,29]
[{"$nulls":10},"546_4.2_2_202324",202324,546,"CT1",4.2,2,5]
[{"$nulls":10},"548_4.2_2_202324",202324,548,"CT1",4.2,2,0]
[{"$nulls":10},"550_4.2_2_202324",202324,550,"CT1",4.2,2,1]
[{"$nulls":10},"552_4.2_2_202324",202324,552,"CT1",4.2,2,2]
[{"$nulls":10},"512_4.2_3_202324",202324,512,"CT1",4.2,3,9]
[{"$nulls":10},"514_4.2_3_202324",202324,514,"CT1",4.2,3,22]
[{"$nulls":10},"516_4.2_3_202324",202324,516,"CT1",4.2,3,7]
[{"$nulls":10},"518_4.2_3_202324",202324,518,"CT1",4.2,3,14]
[{"$nulls":10},"520_4.2_3_202324",202324,520,"CT1",4.2,3,7]
[{"$nulls":10},"522_4.2_3_202324",202324,522,"CT1",4.2,3,7]
[{"$nulls":10},{"$f":"M1220&\"_\"&O1220&\"_\"&P1220&\"_\"&L1220","v":"524_4.2_3_202324"},202324,524,"CT1",4.2,3,14]
[{"$nulls":10},"526_4.2_3_202324",202324,526,"CT1",4.2,3,5]
[{"$nulls":10},"528_4.2_3_202324",202324,528,"CT1",4.2,3,15]
[{"$nulls":10},"530_4.2_3_202324",202324,530,"CT1",4.2,3,61]
[{"$nulls":10},"532_4.2_3_202324",202324,532,"CT1",4.2,3,55]
[{"$nulls":10},"534_4.2_3_202324",202324,534,"CT1",4.2,3,30]
[{"$nulls":10},"536_4.2_3_202324",202324,536,"CT1",4.2,3,7]
[{"$nulls":10},"538_4.2_3_202324",202324,538,"CT1",4.2,3,6]
[{"$nulls":10},"540_4.2_3_202324",202324,540,"CT1",4.2,3,17]
[{"$nulls":10},"542_4.2_3_202324",202324,542,"CT1",4.2,3,8]
[{"$nulls":10},"544_4.2_3_202324",202324,544,"CT1",4.2,3,37]
[{"$nulls":10},"545_4.2_3_202324",202324,545,"CT1",4.2,3,24]
[{"$nulls":10},"546_4.2_3_202324",202324,546,"CT1",4.2,3,6]
[{"$nulls":10},"548_4.2_3_202324",202324,548,"CT1",4.2,3,1]
[{"$nulls":10},"550_4.2_3_202324",202324,550,"CT1",4.2,3,12]
[{"$nulls":10},"552_4.2_3_202324",202324,552,"CT1",4.2,3,56]
[{"$nulls":10},"512_4.2_4_202324",202324,512,"CT1",4.2,4,13]
[{"$nulls":10},"514_4.2_4_202324",202324,514,"CT1",4.2,4,24]
[{"$nulls":10},"516_4.2_4_202324",202324,516,"CT1",4.2,4,12]
[{"$nulls":10},"518_4.2_4_202324",202324,518,"CT1",4.2,4,18]
[{"$nulls":10},"520_4.2_4_202324",202324,520,"CT1",4.2,4,17]
[{"$nulls":10},"522_4.2_4_202324",202324,522,"CT1",4.2,4,7]
[{"$nulls":10},"524_4.2_4_202324",202324,524,"CT1",4.2,4,12]
[{"$nulls":10},"526_4.2_4_202324",202324,526,"CT1",4.2,4,7]
[{"$nulls":10},"528_4.2_4_202324",202324,528,"CT1",4.2,4,32]
[{"$nulls":10},"530_4.2_4_202324",202324,530,"CT1",4.2,4,56]
[{"$nulls":10},"532_4.2_4_202324",202324,532,"CT1",4.2,4,62]
[{"$nulls":10},"534_4.2_4_202324",202324,534,"CT1",4.2,4,18]
[{"$nulls":10},"536_4.2_4_202324",202324,536,"CT1",4.2,4,8]
[{"$nulls":10},"538_4.2_4_202324",202324,538,"CT1",4.2,4,22]
[{"$nulls":10},"540_4.2_4_202324",202324,540,"CT1",4.2,4,21]
[{"$nulls":10},"542_4.2_4_202324",202324,542,"CT1",4.2,4,6]
[{"$nulls":10},"544_4.2_4_202324",202324,544,"CT1",4.2,4,19]
[{"$nulls":10},"545_4.2_4_202324",202324,545,"CT1",4.2,4,14]
[{"$nulls":10},"546_4.2_4_202324",202324,546,"CT1",4.2,4,13]
[{"$nulls":10},"548_4.2_4_202324",202324,548,"CT1",4.2,4,2]
[{"$nulls":10},"550_4.2_4_202324",202324,550,"CT1",4.2,4,11]
[{"$nulls":10},"552_4.2_4_202324",202324,552,"CT1",4.2,4,83]
[{"$nulls":10},"512_4.2_5_202324",202324,512,"CT1",4.2,5,15]
[{"$nulls":10},"514_4.2_5_202324",202324,514,"CT1",4.2,5,21]
[{"$nulls":10},"516_4.2_5_202324",202324,516,"CT1",4.2,5,22]
[{"$nulls":10},"518_4.2_5_202324",202324,518,"CT1",4.2,5,15]
[{"$nulls":10},"520_4.2_5_202324",202324,520,"CT1",4.2,5,10]
[{"$nulls":10},"522_4.2_5_202324",202324,522,"CT1",4.2,5,8]
[{"$nulls":10},"524_4.2_5_202324",202324,524,"CT1",4.2,5,17]
[{"$nulls":10},"526_4.2_5_202324",202324,526,"CT1",4.2,5,19]
[{"$nulls":10},"528_4.2_5_202324",202324,528,"CT1",4.2,5,48]
[{"$nulls":10},"530_4.2_5_202324",202324,530,"CT1",4.2,5,55]
[{"$nulls":10},"532_4.2_5_202324",202324,532,"CT1",4.2,5,62]
[{"$nulls":10},"534_4.2_5_202324",202324,534,"CT1",4.2,5,18]
[{"$nulls":10},"536_4.2_5_202324",202324,536,"CT1",4.2,5,5]
[{"$nulls":10},"538_4.2_5_202324",202324,538,"CT1",4.2,5,17]
[{"$nulls":10},"540_4.2_5_202324",202324,540,"CT1",4.2,5,17]
[{"$nulls":10},"542_4.2_5_202324",202324,542,"CT1",4.2,5,8]
[{"$nulls":10},"544_4.2_5_202324",202324,544,"CT1",4.2,5,14]
[{"$nulls":10},"545_4.2_5_202324",202324,545,"CT1",4.2,5,11]
[{"$nulls":10},"546_4.2_5_202324",202324,546,"CT1",4.2,5,8]
[{"$nulls":10},"548_4.2_5_202324",202324,548,"CT1",4.2,5,5]
[{"$nulls":10},"550_4.2_5_202324",202324,550,"CT1",4.2,5,9]
[{"$nulls":10},"552_4.2_5_202324",202324,552,"CT1",4.2,5,100]
[{"$nulls":10},"512_4.2_6_202324",202324,512,"CT1",4.2,6,17]
[{"$nulls":10},"514_4.2_6_202324",202324,514,"CT1",4.2,6,14]
[{"$nulls":10},"516_4.2_6_202324",202324,516,"CT1",4.2,6,16]
[{"$nulls":10},"518_4.2_6_202324",202324,518,"CT1",4.2,6,16]
[{"$nulls":10},{"$f":"M1284&\"_\"&O1284&\"_\"&P1284&\"_\"&L1284","v":"520_4.2_6_202324"},202324,520,"CT1",4.2,6,13]
[{"$nulls":10},"522_4.2_6_202324",202324,522,"CT1",4.2,6,5]
[{"$nulls":10},"524_4.2_6_202324",202324,524,"CT1",4.2,6,21]
[{"$nulls":10},"526_4.2_6_202324",202324,526,"CT1",4.2,6,24]
[{"$nulls":10},"528_4.2_6_202324",202324,528,"CT1",4.2,6,49]
[{"$nulls":10},"530_4.2_6_202324",202324,530,"CT1",4.2,6,39]
[{"$nulls":10},"532_4.2_6_202324",202324,532,"CT1",4.2,6,61]
[{"$nulls":10},"534_4.2_6_202324",202324,534,"CT1",4.2,6,27]
[{"$nulls":10},"536_4.2_6_202324",202324,536,"CT1",4.2,6,6]
[{"$nulls":10},"538_4.2_6_202324",202324,538,"CT1",4.2,6,26]
[{"$nulls":10},"540_4.2_6_202324",202324,540,"CT1",4.2,6,21]
[{"$nulls":10},"542_4.2_6_202324",202324,542,"CT1",4.2,6,1]
[{"$nulls":10},"544_4.2_6_202324",202324,544,"CT1",4.2,6,14]
[{"$nulls":10},"545_4.2_6_202324",202324,545,"CT1",4.2,6,9]
[{"$nulls":10},"546_4.2_6_202324",202324,546,"CT1",4.2,6,19]
[{"$nulls":10},"548_4.2_6_202324",202324,548,"CT1",4.2,6,4]
[{"$nulls":10},"550_4.2_6_202324",202324,550,"CT1",4.2,6,9]
[{"$nulls":10},"552_4.2_6_202324",202324,552,"CT1",4.2,6,92]
[{"$nulls":10},"512_4.2_7_202324",202324,512,"CT1",4.2,7,3]
[{"$nulls":10},"514_4.2_7_202324",202324,514,"CT1",4.2,7,14]
[{"$nulls":10},"516_4.2_7_202324",202324,516,"CT1",4.2,7,17]
[{"$nulls":10},"518_4.2_7_202324",202324,518,"CT1",4.2,7,10]
[{"$nulls":10},"520_4.2_7_202324",202324,520,"CT1",4.2,7,11]
[{"$nulls":10},"522_4.2_7_202324",202324,522,"CT1",4.2,7,7]
[{"$nulls":10},"524_4.2_7_202324",202324,524,"CT1",4.2,7,35]
[{"$nulls":10},"526_4.2_7_202324",202324,526,"CT1",4.2,7,11]
[{"$nulls":10},"528_4.2_7_202324",202324,528,"CT1",4.2,7,31]
[{"$nulls":10},"530_4.2_7_202324",202324,530,"CT1",4.2,7,41]
[{"$nulls":10},"532_4.2_7_202324",202324,532,"CT1",4.2,7,37]
[{"$nulls":10},"534_4.2_7_202324",202324,534,"CT1",4.2,7,12]
[{"$nulls":10},"536_4.2_7_202324",202324,536,"CT1",4.2,7,7]
[{"$nulls":10},"538_4.2_7_202324",202324,538,"CT1",4.2,7,15]
[{"$nulls":10},"540_4.2_7_202324",202324,540,"CT1",4.2,7,22]
[{"$nulls":10},"542_4.2_7_202324",202324,542,"CT1",4.2,7,3]
[{"$nulls":10},"544_4.2_7_202324",202324,544,"CT1",4.2,7,9]
[{"$nulls":10},"545_4.2_7_202324",202324,545,"CT1",4.2,7,6]
[{"$nulls":10},"546_4.2_7_202324",202324,546,"CT1",4.2,7,8]
[{"$nulls":10},"548_4.2_7_202324",202324,548,"CT1",4.2,7,4]
[{"$nulls":10},"550_4.2_7_202324",202324,550,"CT1",4.2,7,7]
[{"$nulls":10},"552_4.2_7_202324",202324,552,"CT1",4.2,7,71]
[{"$nulls":10},"512_4.2_8_202324",202324,512,"CT1",4.2,8,12]
[{"$nulls":10},"514_4.2_8_202324",202324,514,"CT1",4.2,8,12]
[{"$nulls":10},"516_4.2_8_202324",202324,516,"CT1",4.2,8,16]
[{"$nulls":10},"518_4.2_8_202324",202324,518,"CT1",4.2,8,15]
[{"$nulls":10},"520_4.2_8_202324",202324,520,"CT1",4.2,8,10]
[{"$nulls":10},"522_4.2_8_202324",202324,522,"CT1",4.2,8,9]
[{"$nulls":10},"524_4.2_8_202324",202324,524,"CT1",4.2,8,15]
[{"$nulls":10},"526_4.2_8_202324",202324,526,"CT1",4.2,8,14]
[{"$nulls":10},"528_4.2_8_202324",202324,528,"CT1",4.2,8,22]
[{"$nulls":10},"530_4.2_8_202324",202324,530,"CT1",4.2,8,24]
[{"$nulls":10},"532_4.2_8_202324",202324,532,"CT1",4.2,8,24]
[{"$nulls":10},"534_4.2_8_202324",202324,534,"CT1",4.2,8,21]
[{"$nulls":10},"536_4.2_8_202324",202324,536,"CT1",4.2,8,3]
[{"$nulls":10},"538_4.2_8_202324",202324,538,"CT1",4.2,8,9]
[{"$nulls":10},"540_4.2_8_202324",202324,540,"CT1",4.2,8,13]
[{"$nulls":10},"542_4.2_8_202324",202324,542,"CT1",4.2,8,1]
[{"$nulls":10},"544_4.2_8_202324",202324,544,"CT1",4.2,8,4]
[{"$nulls":10},"545_4.2_8_202324",202324,545,"CT1",4.2,8,1]
[{"$nulls":10},"546_4.2_8_202324",202324,546,"CT1",4.2,8,6]
[{"$nulls":10},"548_4.2_8_202324",202324,548,"CT1",4.2,8,9]
[{"$nulls":10},"550_4.2_8_202324",202324,550,"CT1",4.2,8,11]
[{"$nulls":10},"552_4.2_8_202324",202324,552,"CT1",4.2,8,31]
[{"$nulls":10},"512_4.2_9_202324",202324,512,"CT1",4.2,9,4]
[{"$nulls":10},"514_4.2_9_202324",202324,514,"CT1",4.2,9,16]
[{"$nulls":10},{"$f":"M1348&\"_\"&O1348&\"_\"&P1348&\"_\"&L1348","v":"516_4.2_9_202324"},202324,516,"CT1",4.2,9,27]
[{"$nulls":10},"518_4.2_9_202324",202324,518,"CT1",4.2,9,27]
[{"$nulls":10},"520_4.2_9_202324",202324,520,"CT1",4.2,9,13]
[{"$nulls":10},"522_4.2_9_202324",202324,522,"CT1",4.2,9,23]
[{"$nulls":10},"524_4.2_9_202324",202324,524,"CT1",4.2,9,27]
[{"$nulls":10},"526_4.2_9_202324",202324,526,"CT1",4.2,9,3]
[{"$nulls":10},"528_4.2_9_202324",202324,528,"CT1",4.2,9,14]
[{"$nulls":10},"530_4.2_9_202324",202324,530,"CT1",4.2,9,28]
[{"$nulls":10},"532_4.2_9_202324",202324,532,"CT1",4.2,9,46]
[{"$nulls":10},"534_4.2_9_202324",202324,534,"CT1",4.2,9,11]
[{"$nulls":10},"536_4.2_9_202324",202324,536,"CT1",4.2,9,11]
[{"$nulls":10},"538_4.2_9_202324",202324,538,"CT1",4.2,9,19]
[{"$nulls":10},"540_4.2_9_202324",202324,540,"CT1",4.2,9,34]
[{"$nulls":10},"542_4.2_9_202324",202324,542,"CT1",4.2,9,4]
[{"$nulls":10},"544_4.2_9_202324",202324,544,"CT1",4.2,9,16]
[{"$nulls":10},"545_4.2_9_202324",202324,545,"CT1",4.2,9,10]
[{"$nulls":10},"546_4.2_9_202324",202324,546,"CT1",4.2,9,10]
[{"$nulls":10},"548_4.2_9_202324",202324,548,"CT1",4.2,9,19]
[{"$nulls":10},"550_4.2_9_202324",202324,550,"CT1",4.2,9,18]
[{"$nulls":10},"552_4.2_9_202324",202324,552,"CT1",4.2,9,8]
[{"$nulls":10},"512_4.2_10_202324",202324,512,"CT1",4.2,10,0]
[{"$nulls":10},"514_4.2_10_202324",202324,514,"CT1",4.2,10,1]
[{"$nulls":10},"516_4.2_10_202324",202324,516,"CT1",4.2,10,2]
[{"$nulls":10},"518_4.2_10_202324",202324,518,"CT1",4.2,10,6]
[{"$nulls":10},"520_4.2_10_202324",202324,520,"CT1",4.2,10,6]
[{"$nulls":10},"522_4.2_10_202324",202324,522,"CT1",4.2,10,2]
[{"$nulls":10},"524_4.2_10_202324",202324,524,"CT1",4.2,10,1]
[{"$nulls":10},"526_4.2_10_202324",202324,526,"CT1",4.2,10,0]
[{"$nulls":10},"528_4.2_10_202324",202324,528,"CT1",4.2,10,1]
[{"$nulls":10},"530_4.2_10_202324",202324,530,"CT1",4.2,10,10]
[{"$nulls":10},"532_4.2_10_202324",202324,532,"CT1",4.2,10,9]
[{"$nulls":10},"534_4.2_10_202324",202324,534,"CT1",4.2,10,2]
[{"$nulls":10},"536_4.2_10_202324",202324,536,"CT1",4.2,10,5]
[{"$nulls":10},"538_4.2_10_202324",202324,538,"CT1",4.2,10,5]
[{"$nulls":10},"540_4.2_10_202324",202324,540,"CT1",4.2,10,7]
[{"$nulls":10},"542_4.2_10_202324",202324,542,"CT1",4.2,10,0]
[{"$nulls":10},"544_4.2_10_202324",202324,544,"CT1",4.2,10,5]
[{"$nulls":10},"545_4.2_10_202324",202324,545,"CT1",4.2,10,3]
[{"$nulls":10},"546_4.2_10_202324",202324,546,"CT1",4.2,10,4]
[{"$nulls":10},"548_4.2_10_202324",202324,548,"CT1",4.2,10,3]
[{"$nulls":10},"550_4.2_10_202324",202324,550,"CT1",4.2,10,7]
[{"$nulls":10},"552_4.2_10_202324",202324,552,"CT1",4.2,10,9]
[{"$nulls":10},"512_4.2_11_202324",202324,512,"CT1",4.2,11,81]
[{"$nulls":10},"514_4.2_11_202324",202324,514,"CT1",4.2,11,140]
[{"$nulls":10},"516_4.2_11_202324",202324,516,"CT1",4.2,11,128]
[{"$nulls":10},"518_4.2_11_202324",202324,518,"CT1",4.2,11,132]
[{"$nulls":10},"520_4.2_11_202324",202324,520,"CT1",4.2,11,87]
[{"$nulls":10},"522_4.2_11_202324",202324,522,"CT1",4.2,11,68]
[{"$nulls":10},"524_4.2_11_202324",202324,524,"CT1",4.2,11,144]
[{"$nulls":10},"526_4.2_11_202324",202324,526,"CT1",4.2,11,110]
[{"$nulls":10},"528_4.2_11_202324",202324,528,"CT1",4.2,11,223]
[{"$nulls":10},"530_4.2_11_202324",202324,530,"CT1",4.2,11,343]
[{"$nulls":10},"532_4.2_11_202324",202324,532,"CT1",4.2,11,381]
[{"$nulls":10},"534_4.2_11_202324",202324,534,"CT1",4.2,11,150]
[{"$nulls":10},"536_4.2_11_202324",202324,536,"CT1",4.2,11,53]
[{"$nulls":10},"538_4.2_11_202324",202324,538,"CT1",4.2,11,123]
[{"$nulls":10},"540_4.2_11_202324",202324,540,"CT1",4.2,11,175]
[{"$nulls":10},"542_4.2_11_202324",202324,542,"CT1",4.2,11,43]
[{"$nulls":10},"544_4.2_11_202324",202324,544,"CT1",4.2,11,129]
[{"$nulls":10},"545_4.2_11_202324",202324,545,"CT1",4.2,11,111]
[{"$nulls":10},"546_4.2_11_202324",202324,546,"CT1",4.2,11,79]
[{"$nulls":10},"548_4.2_11_202324",202324,548,"CT1",4.2,11,47]
[{"$nulls":10},"550_4.2_11_202324",202324,550,"CT1",4.2,11,85]
[{"$nulls":10},"552_4.2_11_202324",202324,552,"CT1",4.2,11,452]
[{"$nulls":10},{"$f":"M1412&\"_\"&O1412&\"_\"&P1412&\"_\"&L1412","v":"512_7_1_202324"},202324,512,"CT1",7,1,0]
[{"$nulls":10},"514_7_1_202324",202324,514,"CT1",7,1,0]
[{"$nulls":10},"516_7_1_202324",202324,516,"CT1",7,1,0]
[{"$nulls":10},"518_7_1_202324",202324,518,"CT1",7,1,0]
[{"$nulls":10},"520_7_1_202324",202324,520,"CT1",7,1,0]
[{"$nulls":10},"522_7_1_202324",202324,522,"CT1",7,1,0]
[{"$nulls":10},"524_7_1_202324",202324,524,"CT1",7,1,0]
[{"$nulls":10},"526_7_1_202324",202324,526,"CT1",7,1,0]
[{"$nulls":10},"528_7_1_202324",202324,528,"CT1",7,1,0]
[{"$nulls":10},"530_7_1_202324",202324,530,"CT1",7,1,0]
[{"$nulls":10},"532_7_1_202324",202324,532,"CT1",7,1,0]
[{"$nulls":10},"534_7_1_202324",202324,534,"CT1",7,1,0]
[{"$nulls":10},"536_7_1_202324",202324,536,"CT1",7,1,0]
[{"$nulls":10},"538_7_1_202324",202324,538,"CT1",7,1,0]
[{"$nulls":10},"540_7_1_202324",202324,540,"CT1",7,1,0]
[{"$nulls":10},"542_7_1_202324",202324,542,"CT1",7,1,0]
[{"$nulls":10},"544_7_1_202324",202324,544,"CT1",7,1,0]
[{"$nulls":10},"545_7_1_202324",202324,545,"CT1",7,1,0]
[{"$nulls":10},"546_7_1_202324",202324,546,"CT1",7,1,0]
[{"$nulls":10},"548_7_1_202324",202324,548,"CT1",7,1,0]
[{"$nulls":10},"550_7_1_202324",202324,550,"CT1",7,1,0]
[{"$nulls":10},"552_7_1_202324",202324,552,"CT1",7,1,0]
[{"$nulls":10},"512_7_2_202324",202324,512,"CT1",7,2,0]
[{"$nulls":10},"514_7_2_202324",202324,514,"CT1",7,2,0]
[{"$nulls":10},"516_7_2_202324",202324,516,"CT1",7,2,0]
[{"$nulls":10},"518_7_2_202324",202324,518,"CT1",7,2,0]
[{"$nulls":10},"520_7_2_202324",202324,520,"CT1",7,2,0]
[{"$nulls":10},"522_7_2_202324",202324,522,"CT1",7,2,0]
[{"$nulls":10},"524_7_2_202324",202324,524,"CT1",7,2,0]
[{"$nulls":10},"526_7_2_202324",202324,526,"CT1",7,2,0]
[{"$nulls":10},"528_7_2_202324",202324,528,"CT1",7,2,0]
[{"$nulls":10},"530_7_2_202324",202324,530,"CT1",7,2,0]
[{"$nulls":10},"532_7_2_202324",202324,532,"CT1",7,2,0]
[{"$nulls":10},"534_7_2_202324",202324,534,"CT1",7,2,0]
[{"$nulls":10},"536_7_2_202324",202324,536,"CT1",7,2,0]
[{"$nulls":10},"538_7_2_202324",202324,538,"CT1",7,2,0]
[{"$nulls":10},"540_7_2_202324",202324,540,"CT1",7,2,0]
[{"$nulls":10},"542_7_2_202324",202324,542,"CT1",7,2,0]
[{"$nulls":10},"544_7_2_202324",202324,544,"CT1",7,2,0]
[{"$nulls":10},"545_7_2_202324",202324,545,"CT1",7,2,0]
[{"$nulls":10},"546_7_2_202324",202324,546,"CT1",7,2,0]
[{"$nulls":10},"548_7_2_202324",202324,548,"CT1",7,2,0]
[{"$nulls":10},"550_7_2_202324",202324,550,"CT1",7,2,0]
[{"$nulls":10},"552_7_2_202324",202324,552,"CT1",7,2,0]
[{"$nulls":10},"512_7_3_202324",202324,512,"CT1",7,3,0]
[{"$nulls":10},"514_7_3_202324",202324,514,"CT1",7,3,0]
[{"$nulls":10},"516_7_3_202324",202324,516,"CT1",7,3,0]
[{"$nulls":10},"518_7_3_202324",202324,518,"CT1",7,3,0]
[{"$nulls":10},"520_7_3_202324",202324,520,"CT1",7,3,0]
[{"$nulls":10},"522_7_3_202324",202324,522,"CT1",7,3,0]
[{"$nulls":10},"524_7_3_202324",202324,524,"CT1",7,3,0]
[{"$nulls":10},"526_7_3_202324",202324,526,"CT1",7,3,0]
[{"$nulls":10},"528_7_3_202324",202324,528,"CT1",7,3,0]
[{"$nulls":10},"530_7_3_202324",202324,530,"CT1",7,3,0]
[{"$nulls":10},"532_7_3_202324",202324,532,"CT1",7,3,0]
[{"$nulls":10},"534_7_3_202324",202324,534,"CT1",7,3,0]
[{"$nulls":10},"536_7_3_202324",202324,536,"CT1",7,3,0]
[{"$nulls":10},"538_7_3_202324",202324,538,"CT1",7,3,0]
[{"$nulls":10},"540_7_3_202324",202324,540,"CT1",7,3,0]
[{"$nulls":10},"542_7_3_202324",202324,542,"CT1",7,3,0]
[{"$nulls":10},"544_7_3_202324",202324,544,"CT1",7,3,0]
[{"$nulls":10},"545_7_3_202324",202324,545,"CT1",7,3,0]
[{"$nulls":10},"546_7_3_202324",202324,546,"CT1",7,3,0]
[{"$nulls":10},"548_7_3_202324",202324,548,"CT1",7,3,0]
[{"$nulls":10},{"$f":"M1476&\"_\"&O1476&\"_\"&P1476&\"_\"&L1476","v":"550_7_3_202324"},202324,550,"CT1",7,3,0]
[{"$nulls":10},"552_7_3_202324",202324,552,"CT1",7,3,0]
[{"$nulls":10},"512_7_4_202324",202324,512,"CT1",7,4,0]
[{"$nulls":10},"514_7_4_202324",202324,514,"CT1",7,4,0]
[{"$nulls":10},"516_7_4_202324",202324,516,"CT1",7,4,0]
[{"$nulls":10},"518_7_4_202324",202324,518,"CT1",7,4,0]
[{"$nulls":10},"520_7_4_202324",202324,520,"CT1",7,4,0]
[{"$nulls":10},"522_7_4_202324",202324,522,"CT1",7,4,0]
[{"$nulls":10},"524_7_4_202324",202324,524,"CT1",7,4,0]
[{"$nulls":10},"526_7_4_202324",202324,526,"CT1",7,4,0]
[{"$nulls":10},"528_7_4_202324",202324,528,"CT1",7,4,0]
[{"$nulls":10},"530_7_4_202324",202324,530,"CT1",7,4,0]
[{"$nulls":10},"532_7_4_202324",202324,532,"CT1",7,4,0]
[{"$nulls":10},"534_7_4_202324",202324,534,"CT1",7,4,0]
[{"$nulls":10},"536_7_4_202324",202324,536,"CT1",7,4,0]
[{"$nulls":10},"538_7_4_202324",202324,538,"CT1",7,4,0]
[{"$nulls":10},"540_7_4_202324",202324,540,"CT1",7,4,0]
[{"$nulls":10},"542_7_4_202324",202324,542,"CT1",7,4,0]
[{"$nulls":10},"544_7_4_202324",202324,544,"CT1",7,4,0]
[{"$nulls":10},"545_7_4_202324",202324,545,"CT1",7,4,0]
[{"$nulls":10},"546_7_4_202324",202324,546,"CT1",7,4,0]
[{"$nulls":10},"548_7_4_202324",202324,548,"CT1",7,4,0]
[{"$nulls":10},"550_7_4_202324",202324,550,"CT1",7,4,0]
[{"$nulls":10},"552_7_4_202324",202324,552,"CT1",7,4,0]
[{"$nulls":10},"512_7_5_202324",202324,512,"CT1",7,5,0]
[{"$nulls":10},"514_7_5_202324",202324,514,"CT1",7,5,0]
[{"$nulls":10},"516_7_5_202324",202324,516,"CT1",7,5,0]
[{"$nulls":10},"518_7_5_202324",202324,518,"CT1",7,5,0]
[{"$nulls":10},"520_7_5_202324",202324,520,"CT1",7,5,0]
[{"$nulls":10},"522_7_5_202324",202324,522,"CT1",7,5,0]
[{"$nulls":10},"524_7_5_202324",202324,524,"CT1",7,5,0]
[{"$nulls":10},"526_7_5_202324",202324,526,"CT1",7,5,0]
[{"$nulls":10},"528_7_5_202324",202324,528,"CT1",7,5,0]
[{"$nulls":10},"530_7_5_202324",202324,530,"CT1",7,5,0]
[{"$nulls":10},"532_7_5_202324",202324,532,"CT1",7,5,0]
[{"$nulls":10},"534_7_5_202324",202324,534,"CT1",7,5,0]
[{"$nulls":10},"536_7_5_202324",202324,536,"CT1",7,5,0]
[{"$nulls":10},"538_7_5_202324",202324,538,"CT1",7,5,0]
[{"$nulls":10},"540_7_5_202324",202324,540,"CT1",7,5,0]
[{"$nulls":10},"542_7_5_202324",202324,542,"CT1",7,5,0]
[{"$nulls":10},"544_7_5_202324",202324,544,"CT1",7,5,0]
[{"$nulls":10},"545_7_5_202324",202324,545,"CT1",7,5,0]
[{"$nulls":10},"546_7_5_202324",202324,546,"CT1",7,5,0]
[{"$nulls":10},"548_7_5_202324",202324,548,"CT1",7,5,0]
[{"$nulls":10},"550_7_5_202324",202324,550,"CT1",7,5,0]
[{"$nulls":10},"552_7_5_202324",202324,552,"CT1",7,5,0]
[{"$nulls":10},"512_7_6_202324",202324,512,"CT1",7,6,0]
[{"$nulls":10},"514_7_6_202324",202324,514,"CT1",7,6,0]
[{"$nulls":10},"516_7_6_202324",202324,516,"CT1",7,6,0]
[{"$nulls":10},"518_7_6_202324",202324,518,"CT1",7,6,0]
[{"$nulls":10},"520_7_6_202324",202324,520,"CT1",7,6,0]
[{"$nulls":10},"522_7_6_202324",202324,522,"CT1",7,6,0]
[{"$nulls":10},"524_7_6_202324",202324,524,"CT1",7,6,0]
[{"$nulls":10},"526_7_6_202324",202324,526,"CT1",7,6,0]
[{"$nulls":10},"528_7_6_202324",202324,528,"CT1",7,6,0]
[{"$nulls":10},"530_7_6_202324",202324,530,"CT1",7,6,0]
[{"$nulls":10},"532_7_6_202324",202324,532,"CT1",7,6,0]
[{"$nulls":10},"534_7_6_202324",202324,534,"CT1",7,6,0]
[{"$nulls":10},"536_7_6_202324",202324,536,"CT1",7,6,0]
[{"$nulls":10},"538_7_6_202324",202324,538,"CT1",7,6,0]
[{"$nulls":10},"540_7_6_202324",202324,540,"CT1",7,6,0]
[{"$nulls":10},"542_7_6_202324",202324,542,"CT1",7,6,0]
[{"$nulls":10},"544_7_6_202324",202324,544,"CT1",7,6,0]
[{"$nulls":10},"545_7_6_202324",202324,545,"CT1",7,6,0]
[{"$nulls":10},{"$f":"M1540&\"_\"&O1540&\"_\"&P1540&\"_\"&L1540","v":"546_7_6_202324"},202324,546,"CT1",7,6,0]
[{"$nulls":10},"548_7_6_202324",202324,548,"CT1",7,6,0]
[{"$nulls":10},"550_7_6_202324",202324,550,"CT1",7,6,0]
[{"$nulls":10},"552_7_6_202324",202324,552,"CT1",7,6,0]
[{"$nulls":10},"512_7_7_202324",202324,512,"CT1",7,7,0]
[{"$nulls":10},"514_7_7_202324",202324,514,"CT1",7,7,0]
[{"$nulls":10},"516_7_7_202324",202324,516,"CT1",7,7,0]
[{"$nulls":10},"518_7_7_202324",202324,518,"CT1",7,7,0]
[{"$nulls":10},"520_7_7_202324",202324,520,"CT1",7,7,0]
[{"$nulls":10},"522_7_7_202324",202324,522,"CT1",7,7,0]
[{"$nulls":10},"524_7_7_202324",202324,524,"CT1",7,7,0]
[{"$nulls":10},"526_7_7_202324",202324,526,"CT1",7,7,0]
[{"$nulls":10},"528_7_7_202324",202324,528,"CT1",7,7,0]
[{"$nulls":10},"530_7_7_202324",202324,530,"CT1",7,7,0]
[{"$nulls":10},"532_7_7_202324",202324,532,"CT1",7,7,0]
[{"$nulls":10},"534_7_7_202324",202324,534,"CT1",7,7,0]
[{"$nulls":10},"536_7_7_202324",202324,536,"CT1",7,7,0]
[{"$nulls":10},"538_7_7_202324",202324,538,"CT1",7,7,0]
[{"$nulls":10},"540_7_7_202324",202324,540,"CT1",7,7,0]
[{"$nulls":10},"542_7_7_202324",202324,542,"CT1",7,7,0]
[{"$nulls":10},"544_7_7_202324",202324,544,"CT1",7,7,0]
[{"$nulls":10},"545_7_7_202324",202324,545,"CT1",7,7,0]
[{"$nulls":10},"546_7_7_202324",202324,546,"CT1",7,7,0]
[{"$nulls":10},"548_7_7_202324",202324,548,"CT1",7,7,0]
[{"$nulls":10},"550_7_7_202324",202324,550,"CT1",7,7,0]
[{"$nulls":10},"552_7_7_202324",202324,552,"CT1",7,7,0]
[{"$nulls":10},"512_7_8_202324",202324,512,"CT1",7,8,0]
[{"$nulls":10},"514_7_8_202324",202324,514,"CT1",7,8,0]
[{"$nulls":10},"516_7_8_202324",202324,516,"CT1",7,8,0]
[{"$nulls":10},"518_7_8_202324",202324,518,"CT1",7,8,0]
[{"$nulls":10},"520_7_8_202324",202324,520,"CT1",7,8,0]
[{"$nulls":10},"522_7_8_202324",202324,522,"CT1",7,8,0]
[{"$nulls":10},"524_7_8_202324",202324,524,"CT1",7,8,0]
[{"$nulls":10},"526_7_8_202324",202324,526,"CT1",7,8,0]
[{"$nulls":10},"528_7_8_202324",202324,528,"CT1",7,8,0]
[{"$nulls":10},"530_7_8_202324",202324,530,"CT1",7,8,0]
[{"$nulls":10},"532_7_8_202324",202324,532,"CT1",7,8,0]
[{"$nulls":10},"534_7_8_202324",202324,534,"CT1",7,8,0]
[{"$nulls":10},"536_7_8_202324",202324,536,"CT1",7,8,0]
[{"$nulls":10},"538_7_8_202324",202324,538,"CT1",7,8,0]
[{"$nulls":10},"540_7_8_202324",202324,540,"CT1",7,8,0]
[{"$nulls":10},"542_7_8_202324",202324,542,"CT1",7,8,0]
[{"$nulls":10},"544_7_8_202324",202324,544,"CT1",7,8,0]
[{"$nulls":10},"545_7_8_202324",202324,545,"CT1",7,8,0]
[{"$nulls":10},"546_7_8_202324",202324,546,"CT1",7,8,0]
[{"$nulls":10},"548_7_8_202324",202324,548,"CT1",7,8,0]
[{"$nulls":10},"550_7_8_202324",202324,550,"CT1",7,8,0]
[{"$nulls":10},"552_7_8_202324",202324,552,"CT1",7,8,0]
[{"$nulls":10},"512_7_9_202324",202324,512,"CT1",7,9,0]
[{"$nulls":10},"514_7_9_202324",202324,514,"CT1",7,9,0]
[{"$nulls":10},"516_7_9_202324",202324,516,"CT1",7,9,0]
[{"$nulls":10},"518_7_9_202324",202324,518,"CT1",7,9,0]
[{"$nulls":10},"520_7_9_202324",202324,520,"CT1",7,9,0]
[{"$nulls":10},"522_7_9_202324",202324,522,"CT1",7,9,0]
[{"$nulls":10},"524_7_9_202324",202324,524,"CT1",7,9,0]
[{"$nulls":10},"526_7_9_202324",202324,526,"CT1",7,9,0]
[{"$nulls":10},"528_7_9_202324",202324,528,"CT1",7,9,0]
[{"$nulls":10},"530_7_9_202324",202324,530,"CT1",7,9,0]
[{"$nulls":10},"532_7_9_202324",202324,532,"CT1",7,9,0]
[{"$nulls":10},"534_7_9_202324",202324,534,"CT1",7,9,0]
[{"$nulls":10},"536_7_9_202324",202324,536,"CT1",7,9,0]
[{"$nulls":10},"538_7_9_202324",202324,538,"CT1",7,9,0]
[{"$nulls":10},"540_7_9_202324",202324,540,"CT1",7,9,0]
[{"$nulls":10},"542_7_9_202324",202324,542,"CT1",7,9,0]
[{"$nulls":10},{"$f":"M1604&\"_\"&O1604&\"_\"&P1604&\"_\"&L1604","v":"544_7_9_202324"},202324,544,"CT1",7,9,0]
[{"$nulls":10},"545_7_9_202324",202324,545,"CT1",7,9,0]
[{"$nulls":10},"546_7_9_202324",202324,546,"CT1",7,9,0]
[{"$nulls":10},"548_7_9_202324",202324,548,"CT1",7,9,0]
[{"$nulls":10},"550_7_9_202324",202324,550,"CT1",7,9,0]
[{"$nulls":10},"552_7_9_202324",202324,552,"CT1",7,9,0]
[{"$nulls":10},"512_7_10_202324",202324,512,"CT1",7,10,0]
[{"$nulls":10},"514_7_10_202324",202324,514,"CT1",7,10,0]
[{"$nulls":10},"516_7_10_202324",202324,516,"CT1",7,10,0]
[{"$nulls":10},"518_7_10_202324",202324,518,"CT1",7,10,0]
[{"$nulls":10},"520_7_10_202324",202324,520,"CT1",7,10,0]
[{"$nulls":10},"522_7_10_202324",202324,522,"CT1",7,10,0]
[{"$nulls":10},"524_7_10_202324",202324,524,"CT1",7,10,0]
[{"$nulls":10},"526_7_10_202324",202324,526,"CT1",7,10,0]
[{"$nulls":10},"528_7_10_202324",202324,528,"CT1",7,10,0]
[{"$nulls":10},"530_7_10_202324",202324,530,"CT1",7,10,0]
[{"$nulls":10},"532_7_10_202324",202324,532,"CT1",7,10,0]
[{"$nulls":10},"534_7_10_202324",202324,534,"CT1",7,10,0]
[{"$nulls":10},"536_7_10_202324",202324,536,"CT1",7,10,0]
[{"$nulls":10},"538_7_10_202324",202324,538,"CT1",7,10,0]
[{"$nulls":10},"540_7_10_202324",202324,540,"CT1",7,10,0]
[{"$nulls":10},"542_7_10_202324",202324,542,"CT1",7,10,0]
[{"$nulls":10},"544_7_10_202324",202324,544,"CT1",7,10,0]
[{"$nulls":10},"545_7_10_202324",202324,545,"CT1",7,10,0]
[{"$nulls":10},"546_7_10_202324",202324,546,"CT1",7,10,0]
[{"$nulls":10},"548_7_10_202324",202324,548,"CT1",7,10,0]
[{"$nulls":10},"550_7_10_202324",202324,550,"CT1",7,10,0]
[{"$nulls":10},"552_7_10_202324",202324,552,"CT1",7,10,0]
[{"$nulls":10},"512_7_11_202324",202324,512,"CT1",7,11,0]
[{"$nulls":10},"514_7_11_202324",202324,514,"CT1",7,11,0]
[{"$nulls":10},"516_7_11_202324",202324,516,"CT1",7,11,0]
[{"$nulls":10},"518_7_11_202324",202324,518,"CT1",7,11,0]
[{"$nulls":10},"520_7_11_202324",202324,520,"CT1",7,11,0]
[{"$nulls":10},"522_7_11_202324",202324,522,"CT1",7,11,0]
[{"$nulls":10},"524_7_11_202324",202324,524,"CT1",7,11,0]
[{"$nulls":10},"526_7_11_202324",202324,526,"CT1",7,11,0]
[{"$nulls":10},"528_7_11_202324",202324,528,"CT1",7,11,0]
[{"$nulls":10},"530_7_11_202324",202324,530,"CT1",7,11,0]
[{"$nulls":10},"532_7_11_202324",202324,532,"CT1",7,11,0]
[{"$nulls":10},"534_7_11_202324",202324,534,"CT1",7,11,0]
[{"$nulls":10},"536_7_11_202324",202324,536,"CT1",7,11,0]
[{"$nulls":10},"538_7_11_202324",202324,538,"CT1",7,11,0]
[{"$nulls":10},"540_7_11_202324",202324,540,"CT1",7,11,0]
[{"$nulls":10},"542_7_11_202324",202324,542,"CT1",7,11,0]
[{"$nulls":10},"544_7_11_202324",202324,544,"CT1",7,11,0]
[{"$nulls":10},"545_7_11_202324",202324,545,"CT1",7,11,0]
[{"$nulls":10},"546_7_11_202324",202324,546,"CT1",7,11,0]
[{"$nulls":10},"548_7_11_202324",202324,548,"CT1",7,11,0]
[{"$nulls":10},"550_7_11_202324",202324,550,"CT1",7,11,0]
[{"$nulls":10},"552_7_11_202324",202324,552,"CT1",7,11,0]
[{"$nulls":10},"512_7.1_2_202324",202324,512,"CT1",7.1,2,0]
[{"$nulls":10},"514_7.1_2_202324",202324,514,"CT1",7.1,2,15]
[{"$nulls":10},"516_7.1_2_202324",202324,516,"CT1",7.1,2,1]
[{"$nulls":10},"518_7.1_2_202324",202324,518,"CT1",7.1,2,1]
[{"$nulls":10},"520_7.1_2_202324",202324,520,"CT1",7.1,2,1]
[{"$nulls":10},"522_7.1_2_202324",202324,522,"CT1",7.1,2,0]
[{"$nulls":10},"524_7.1_2_202324",202324,524,"CT1",7.1,2,0]
[{"$nulls":10},"526_7.1_2_202324",202324,526,"CT1",7.1,2,0]
[{"$nulls":10},"528_7.1_2_202324",202324,528,"CT1",7.1,2,0]
[{"$nulls":10},"530_7.1_2_202324",202324,530,"CT1",7.1,2,0]
[{"$nulls":10},"532_7.1_2_202324",202324,532,"CT1",7.1,2,0]
[{"$nulls":10},"534_7.1_2_202324",202324,534,"CT1",7.1,2,0]
[{"$nulls":10},"536_7.1_2_202324",202324,536,"CT1",7.1,2,1]
[{"$nulls":10},"538_7.1_2_202324",202324,538,"CT1",7.1,2,0]
[{"$nulls":10},{"$f":"M1668&\"_\"&O1668&\"_\"&P1668&\"_\"&L1668","v":"540_7.1_2_202324"},202324,540,"CT1",7.1,2,31]
[{"$nulls":10},"542_7.1_2_202324",202324,542,"CT1",7.1,2,12]
[{"$nulls":10},"544_7.1_2_202324",202324,544,"CT1",7.1,2,0]
[{"$nulls":10},"545_7.1_2_202324",202324,545,"CT1",7.1,2,0]
[{"$nulls":10},"546_7.1_2_202324",202324,546,"CT1",7.1,2,0]
[{"$nulls":10},"548_7.1_2_202324",202324,548,"CT1",7.1,2,0]
[{"$nulls":10},"550_7.1_2_202324",202324,550,"CT1",7.1,2,0]
[{"$nulls":10},"552_7.1_2_202324",202324,552,"CT1",7.1,2,0]
[{"$nulls":10},"512_7.1_3_202324",202324,512,"CT1",7.1,3,0]
[{"$nulls":10},"514_7.1_3_202324",202324,514,"CT1",7.1,3,7]
[{"$nulls":10},"516_7.1_3_202324",202324,516,"CT1",7.1,3,5]
[{"$nulls":10},"518_7.1_3_202324",202324,518,"CT1",7.1,3,1]
[{"$nulls":10},"520_7.1_3_202324",202324,520,"CT1",7.1,3,0]
[{"$nulls":10},"522_7.1_3_202324",202324,522,"CT1",7.1,3,0]
[{"$nulls":10},"524_7.1_3_202324",202324,524,"CT1",7.1,3,0]
[{"$nulls":10},"526_7.1_3_202324",202324,526,"CT1",7.1,3,0]
[{"$nulls":10},"528_7.1_3_202324",202324,528,"CT1",7.1,3,0]
[{"$nulls":10},"530_7.1_3_202324",202324,530,"CT1",7.1,3,0]
[{"$nulls":10},"532_7.1_3_202324",202324,532,"CT1",7.1,3,0]
[{"$nulls":10},"534_7.1_3_202324",202324,534,"CT1",7.1,3,0]
[{"$nulls":10},"536_7.1_3_202324",202324,536,"CT1",7.1,3,0]
[{"$nulls":10},"538_7.1_3_202324",202324,538,"CT1",7.1,3,0]
[{"$nulls":10},"540_7.1_3_202324",202324,540,"CT1",7.1,3,17]
[{"$nulls":10},"542_7.1_3_202324",202324,542,"CT1",7.1,3,4]
[{"$nulls":10},"544_7.1_3_202324",202324,544,"CT1",7.1,3,0]
[{"$nulls":10},"545_7.1_3_202324",202324,545,"CT1",7.1,3,0]
[{"$nulls":10},"546_7.1_3_202324",202324,546,"CT1",7.1,3,0]
[{"$nulls":10},"548_7.1_3_202324",202324,548,"CT1",7.1,3,0]
[{"$nulls":10},"550_7.1_3_202324",202324,550,"CT1",7.1,3,0]
[{"$nulls":10},"552_7.1_3_202324",202324,552,"CT1",7.1,3,0]
[{"$nulls":10},"512_7.1_4_202324",202324,512,"CT1",7.1,4,0]
[{"$nulls":10},"514_7.1_4_202324",202324,514,"CT1",7.1,4,5]
[{"$nulls":10},"516_7.1_4_202324",202324,516,"CT1",7.1,4,8]
[{"$nulls":10},"518_7.1_4_202324",202324,518,"CT1",7.1,4,2]
[{"$nulls":10},"520_7.1_4_202324",202324,520,"CT1",7.1,4,4]
[{"$nulls":10},"522_7.1_4_202324",202324,522,"CT1",7.1,4,0]
[{"$nulls":10},"524_7.1_4_202324",202324,524,"CT1",7.1,4,0]
[{"$nulls":10},"526_7.1_4_202324",202324,526,"CT1",7.1,4,0]
[{"$nulls":10},"528_7.1_4_202324",202324,528,"CT1",7.1,4,0]
[{"$nulls":10},"530_7.1_4_202324",202324,530,"CT1",7.1,4,0]
[{"$nulls":10},"532_7.1_4_202324",202324,532,"CT1",7.1,4,0]
[{"$nulls":10},"534_7.1_4_202324",202324,534,"CT1",7.1,4,0]
[{"$nulls":10},"536_7.1_4_202324",202324,536,"CT1",7.1,4,0]
[{"$nulls":10},"538_7.1_4_202324",202324,538,"CT1",7.1,4,0]
[{"$nulls":10},"540_7.1_4_202324",202324,540,"CT1",7.1,4,17]
[{"$nulls":10},"542_7.1_4_202324",202324,542,"CT1",7.1,4,3]
[{"$nulls":10},"544_7.1_4_202324",202324,544,"CT1",7.1,4,0]
[{"$nulls":10},"545_7.1_4_202324",202324,545,"CT1",7.1,4,0]
[{"$nulls":10},"546_7.1_4_202324",202324,546,"CT1",7.1,4,0]
[{"$nulls":10},"548_7.1_4_202324",202324,548,"CT1",7.1,4,0]
[{"$nulls":10},"550_7.1_4_202324",202324,550,"CT1",7.1,4,0]
[{"$nulls":10},"552_7.1_4_202324",202324,552,"CT1",7.1,4,0]
[{"$nulls":10},"512_7.1_5_202324",202324,512,"CT1",7.1,5,0]
[{"$nulls":10},"514_7.1_5_202324",202324,514,"CT1",7.1,5,2]
[{"$nulls":10},"516_7.1_5_202324",202324,516,"CT1",7.1,5,7]
[{"$nulls":10},"518_7.1_5_202324",202324,518,"CT1",7.1,5,1]
[{"$nulls":10},"520_7.1_5_202324",202324,520,"CT1",7.1,5,2]
[{"$nulls":10},"522_7.1_5_202324",202324,522,"CT1",7.1,5,0]
[{"$nulls":10},"524_7.1_5_202324",202324,524,"CT1",7.1,5,0]
[{"$nulls":10},"526_7.1_5_202324",202324,526,"CT1",7.1,5,0]
[{"$nulls":10},"528_7.1_5_202324",202324,528,"CT1",7.1,5,0]
[{"$nulls":10},"530_7.1_5_202324",202324,530,"CT1",7.1,5,0]
[{"$nulls":10},"532_7.1_5_202324",202324,532,"CT1",7.1,5,0]
[{"$nulls":10},"534_7.1_5_202324",202324,534,"CT1",7.1,5,0]
[{"$nulls":10},{"$f":"M1732&\"_\"&O1732&\"_\"&P1732&\"_\"&L1732","v":"536_7.1_5_202324"},202324,536,"CT1",7.1,5,1]
[{"$nulls":10},"538_7.1_5_202324",202324,538,"CT1",7.1,5,0]
[{"$nulls":10},"540_7.1_5_202324",202324,540,"CT1",7.1,5,6]
[{"$nulls":10},"542_7.1_5_202324",202324,542,"CT1",7.1,5,2]
[{"$nulls":10},"544_7.1_5_202324",202324,544,"CT1",7.1,5,0]
[{"$nulls":10},"545_7.1_5_202324",202324,545,"CT1",7.1,5,0]
[{"$nulls":10},"546_7.1_5_202324",202324,546,"CT1",7.1,5,0]
[{"$nulls":10},"548_7.1_5_202324",202324,548,"CT1",7.1,5,0]
[{"$nulls":10},"550_7.1_5_202324",202324,550,"CT1",7.1,5,0]
[{"$nulls":10},"552_7.1_5_202324",202324,552,"CT1",7.1,5,0]
[{"$nulls":10},"512_7.1_6_202324",202324,512,"CT1",7.1,6,0]
[{"$nulls":10},"514_7.1_6_202324",202324,514,"CT1",7.1,6,5]
[{"$nulls":10},"516_7.1_6_202324",202324,516,"CT1",7.1,6,6]
[{"$nulls":10},"518_7.1_6_202324",202324,518,"CT1",7.1,6,0]
[{"$nulls":10},"520_7.1_6_202324",202324,520,"CT1",7.1,6,0]
[{"$nulls":10},"522_7.1_6_202324",202324,522,"CT1",7.1,6,0]
[{"$nulls":10},"524_7.1_6_202324",202324,524,"CT1",7.1,6,0]
[{"$nulls":10},"526_7.1_6_202324",202324,526,"CT1",7.1,6,0]
[{"$nulls":10},"528_7.1_6_202324",202324,528,"CT1",7.1,6,0]
[{"$nulls":10},"530_7.1_6_202324",202324,530,"CT1",7.1,6,0]
[{"$nulls":10},"532_7.1_6_202324",202324,532,"CT1",7.1,6,0]
[{"$nulls":10},"534_7.1_6_202324",202324,534,"CT1",7.1,6,0]
[{"$nulls":10},"536_7.1_6_202324",202324,536,"CT1",7.1,6,0]
[{"$nulls":10},"538_7.1_6_202324",202324,538,"CT1",7.1,6,0]
[{"$nulls":10},"540_7.1_6_202324",202324,540,"CT1",7.1,6,1]
[{"$nulls":10},"542_7.1_6_202324",202324,542,"CT1",7.1,6,1]
[{"$nulls":10},"544_7.1_6_202324",202324,544,"CT1",7.1,6,0]
[{"$nulls":10},"545_7.1_6_202324",202324,545,"CT1",7.1,6,0]
[{"$nulls":10},"546_7.1_6_202324",202324,546,"CT1",7.1,6,0]
[{"$nulls":10},"548_7.1_6_202324",202324,548,"CT1",7.1,6,0]
[{"$nulls":10},"550_7.1_6_202324",202324,550,"CT1",7.1,6,0]
[{"$nulls":10},"552_7.1_6_202324",202324,552,"CT1",7.1,6,0]
[{"$nulls":10},"512_7.1_7_202324",202324,512,"CT1",7.1,7,0]
[{"$nulls":10},"514_7.1_7_202324",202324,514,"CT1",7.1,7,1]
[{"$nulls":10},"516_7.1_7_202324",202324,516,"CT1",7.1,7,1]
[{"$nulls":10},"518_7.1_7_202324",202324,518,"CT1",7.1,7,1]
[{"$nulls":10},"520_7.1_7_202324",202324,520,"CT1",7.1,7,0]
[{"$nulls":10},"522_7.1_7_202324",202324,522,"CT1",7.1,7,0]
[{"$nulls":10},"524_7.1_7_202324",202324,524,"CT1",7.1,7,0]
[{"$nulls":10},"526_7.1_7_202324",202324,526,"CT1",7.1,7,0]
[{"$nulls":10},"528_7.1_7_202324",202324,528,"CT1",7.1,7,0]
[{"$nulls":10},"530_7.1_7_202324",202324,530,"CT1",7.1,7,0]
[{"$nulls":10},"532_7.1_7_202324",202324,532,"CT1",7.1,7,0]
[{"$nulls":10},"534_7.1_7_202324",202324,534,"CT1",7.1,7,0]
[{"$nulls":10},"536_7.1_7_202324",202324,536,"CT1",7.1,7,0]
[{"$nulls":10},"538_7.1_7_202324",202324,538,"CT1",7.1,7,0]
[{"$nulls":10},"540_7.1_7_202324",202324,540,"CT1",7.1,7,1]
[{"$nulls":10},"542_7.1_7_202324",202324,542,"CT1",7.1,7,2]
[{"$nulls":10},"544_7.1_7_202324",202324,544,"CT1",7.1,7,0]
[{"$nulls":10},"545_7.1_7_202324",202324,545,"CT1",7.1,7,0]
[{"$nulls":10},"546_7.1_7_202324",202324,546,"CT1",7.1,7,0]
[{"$nulls":10},"548_7.1_7_202324",202324,548,"CT1",7.1,7,0]
[{"$nulls":10},"550_7.1_7_202324",202324,550,"CT1",7.1,7,0]
[{"$nulls":10},"552_7.1_7_202324",202324,552,"CT1",7.1,7,0]
[{"$nulls":10},"512_7.1_8_202324",202324,512,"CT1",7.1,8,0]
[{"$nulls":10},"514_7.1_8_202324",202324,514,"CT1",7.1,8,0]
[{"$nulls":10},"516_7.1_8_202324",202324,516,"CT1",7.1,8,0]
[{"$nulls":10},"518_7.1_8_202324",202324,518,"CT1",7.1,8,0]
[{"$nulls":10},"520_7.1_8_202324",202324,520,"CT1",7.1,8,0]
[{"$nulls":10},"522_7.1_8_202324",202324,522,"CT1",7.1,8,0]
[{"$nulls":10},"524_7.1_8_202324",202324,524,"CT1",7.1,8,0]
[{"$nulls":10},"526_7.1_8_202324",202324,526,"CT1",7.1,8,0]
[{"$nulls":10},"528_7.1_8_202324",202324,528,"CT1",7.1,8,0]
[{"$nulls":10},"530_7.1_8_202324",202324,530,"CT1",7.1,8,0]
[{"$nulls":10},{"$f":"M1796&\"_\"&O1796&\"_\"&P1796&\"_\"&L1796","v":"532_7.1_8_202324"},202324,532,"CT1",7.1,8,0]
[{"$nulls":10},"534_7.1_8_202324",202324,534,"CT1",7.1,8,0]
[{"$nulls":10},"536_7.1_8_202324",202324,536,"CT1",7.1,8,0]
[{"$nulls":10},"538_7.1_8_202324",202324,538,"CT1",7.1,8,0]
[{"$nulls":10},"540_7.1_8_202324",202324,540,"CT1",7.1,8,0]
[{"$nulls":10},"542_7.1_8_202324",202324,542,"CT1",7.1,8,0]
[{"$nulls":10},"544_7.1_8_202324",202324,544,"CT1",7.1,8,0]
[{"$nulls":10},"545_7.1_8_202324",202324,545,"CT1",7.1,8,0]
[{"$nulls":10},"546_7.1_8_202324",202324,546,"CT1",7.1,8,0]
[{"$nulls":10},"548_7.1_8_202324",202324,548,"CT1",7.1,8,0]
[{"$nulls":10},"550_7.1_8_202324",202324,550,"CT1",7.1,8,0]
[{"$nulls":10},"552_7.1_8_202324",202324,552,"CT1",7.1,8,0]
[{"$nulls":10},"512_7.1_9_202324",202324,512,"CT1",7.1,9,0]
[{"$nulls":10},"514_7.1_9_202324",202324,514,"CT1",7.1,9,0]
[{"$nulls":10},"516_7.1_9_202324",202324,516,"CT1",7.1,9,0]
[{"$nulls":10},"518_7.1_9_202324",202324,518,"CT1",7.1,9,1]
[{"$nulls":10},"520_7.1_9_202324",202324,520,"CT1",7.1,9,0]
[{"$nulls":10},"522_7.1_9_202324",202324,522,"CT1",7.1,9,0]
[{"$nulls":10},"524_7.1_9_202324",202324,524,"CT1",7.1,9,0]
[{"$nulls":10},"526_7.1_9_202324",202324,526,"CT1",7.1,9,0]
[{"$nulls":10},"528_7.1_9_202324",202324,528,"CT1",7.1,9,0]
[{"$nulls":10},"530_7.1_9_202324",202324,530,"CT1",7.1,9,0]
[{"$nulls":10},"532_7.1_9_202324",202324,532,"CT1",7.1,9,0]
[{"$nulls":10},"534_7.1_9_202324",202324,534,"CT1",7.1,9,0]
[{"$nulls":10},"536_7.1_9_202324",202324,536,"CT1",7.1,9,0]
[{"$nulls":10},"538_7.1_9_202324",202324,538,"CT1",7.1,9,0]
[{"$nulls":10},"540_7.1_9_202324",202324,540,"CT1",7.1,9,0]
[{"$nulls":10},"542_7.1_9_202324",202324,542,"CT1",7.1,9,0]
[{"$nulls":10},"544_7.1_9_202324",202324,544,"CT1",7.1,9,0]
[{"$nulls":10},"545_7.1_9_202324",202324,545,"CT1",7.1,9,0]
[{"$nulls":10},"546_7.1_9_202324",202324,546,"CT1",7.1,9,0]
[{"$nulls":10},"548_7.1_9_202324",202324,548,"CT1",7.1,9,0]
[{"$nulls":10},"550_7.1_9_202324",202324,550,"CT1",7.1,9,0]
[{"$nulls":10},"552_7.1_9_202324",202324,552,"CT1",7.1,9,0]
[{"$nulls":10},"512_7.1_10_202324",202324,512,"CT1",7.1,10,0]
[{"$nulls":10},"514_7.1_10_202324",202324,514,"CT1",7.1,10,0]
[{"$nulls":10},"516_7.1_10_202324",202324,516,"CT1",7.1,10,0]
[{"$nulls":10},"518_7.1_10_202324",202324,518,"CT1",7.1,10,0]
[{"$nulls":10},"520_7.1_10_202324",202324,520,"CT1",7.1,10,0]
[{"$nulls":10},"522_7.1_10_202324",202324,522,"CT1",7.1,10,0]
[{"$nulls":10},"524_7.1_10_202324",202324,524,"CT1",7.1,10,0]
[{"$nulls":10},"526_7.1_10_202324",202324,526,"CT1",7.1,10,0]
[{"$nulls":10},"528_7.1_10_202324",202324,528,"CT1",7.1,10,0]
[{"$nulls":10},"530_7.1_10_202324",202324,530,"CT1",7.1,10,0]
[{"$nulls":10},"532_7.1_10_202324",202324,532,"CT1",7.1,10,0]
[{"$nulls":10},"534_7.1_10_202324",202324,534,"CT1",7.1,10,0]
[{"$nulls":10},"536_7.1_10_202324",202324,536,"CT1",7.1,10,0]
[{"$nulls":10},"538_7.1_10_202324",202324,538,"CT1",7.1,10,0]
[{"$nulls":10},"540_7.1_10_202324",202324,540,"CT1",7.1,10,0]
[{"$nulls":10},"542_7.1_10_202324",202324,542,"CT1",7.1,10,0]
[{"$nulls":10},"544_7.1_10_202324",202324,544,"CT1",7.1,10,0]
[{"$nulls":10},"545_7.1_10_202324",202324,545,"CT1",7.1,10,0]
[{"$nulls":10},"546_7.1_10_202324",202324,546,"CT1",7.1,10,0]
[{"$nulls":10},"548_7.1_10_202324",202324,548,"CT1",7.1,10,0]
[{"$nulls":10},"550_7.1_10_202324",202324,550,"CT1",7.1,10,0]
[{"$nulls":10},"552_7.1_10_202324",202324,552,"CT1",7.1,10,0]
[{"$nulls":10},"512_7.1_11_202324",202324,512,"CT1",7.1,11,0]
[{"$nulls":10},"514_7.1_11_202324",202324,514,"CT1",7.1,11,35]
[{"$nulls":10},"516_7.1_11_202324",202324,516,"CT1",7.1,11,28]
[{"$nulls":10},"518_7.1_11_202324",202324,518,"CT1",7.1,11,7]
[{"$nulls":10},"520_7.1_11_202324",202324,520,"CT1",7.1,11,7]
[{"$nulls":10},"522_7.1_11_202324",202324,522,"CT1",7.1,11,0]
[{"$nulls":10},"524_7.1_11_202324",202324,524,"CT1",7.1,11,0]
[{"$nulls":10},"526_7.1_11_202324",202324,526,"CT1",7.1,11,0]
[{"$nulls":10},{"$f":"M1860&\"_\"&O1860&\"_\"&P1860&\"_\"&L1860","v":"528_7.1_11_202324"},202324,528,"CT1",7.1,11,0]
[{"$nulls":10},"530_7.1_11_202324",202324,530,"CT1",7.1,11,0]
[{"$nulls":10},"532_7.1_11_202324",202324,532,"CT1",7.1,11,0]
[{"$nulls":10},"534_7.1_11_202324",202324,534,"CT1",7.1,11,0]
[{"$nulls":10},"536_7.1_11_202324",202324,536,"CT1",7.1,11,2]
[{"$nulls":10},"538_7.1_11_202324",202324,538,"CT1",7.1,11,0]
[{"$nulls":10},"540_7.1_11_202324",202324,540,"CT1",7.1,11,73]
[{"$nulls":10},"542_7.1_11_202324",202324,542,"CT1",7.1,11,24]
[{"$nulls":10},"544_7.1_11_202324",202324,544,"CT1",7.1,11,0]
[{"$nulls":10},"545_7.1_11_202324",202324,545,"CT1",7.1,11,0]
[{"$nulls":10},"546_7.1_11_202324",202324,546,"CT1",7.1,11,0]
[{"$nulls":10},"548_7.1_11_202324",202324,548,"CT1",7.1,11,0]
[{"$nulls":10},"550_7.1_11_202324",202324,550,"CT1",7.1,11,0]
[{"$nulls":10},"552_7.1_11_202324",202324,552,"CT1",7.1,11,0]
[{"$nulls":10},"512_7.2_2_202324",202324,512,"CT1",7.2,2,262]
[{"$nulls":10},"514_7.2_2_202324",202324,514,"CT1",7.2,2,712]
[{"$nulls":10},"516_7.2_2_202324",202324,516,"CT1",7.2,2,204]
[{"$nulls":10},"518_7.2_2_202324",202324,518,"CT1",7.2,2,209]
[{"$nulls":10},"520_7.2_2_202324",202324,520,"CT1",7.2,2,103]
[{"$nulls":10},"522_7.2_2_202324",202324,522,"CT1",7.2,2,60]
[{"$nulls":10},"524_7.2_2_202324",202324,524,"CT1",7.2,2,249]
[{"$nulls":10},"526_7.2_2_202324",202324,526,"CT1",7.2,2,237]
[{"$nulls":10},"528_7.2_2_202324",202324,528,"CT1",7.2,2,361]
[{"$nulls":10},"530_7.2_2_202324",202324,530,"CT1",7.2,2,0]
[{"$nulls":10},"532_7.2_2_202324",202324,532,"CT1",7.2,2,305]
[{"$nulls":10},"534_7.2_2_202324",202324,534,"CT1",7.2,2,0]
[{"$nulls":10},"536_7.2_2_202324",202324,536,"CT1",7.2,2,0]
[{"$nulls":10},"538_7.2_2_202324",202324,538,"CT1",7.2,2,0]
[{"$nulls":10},"540_7.2_2_202324",202324,540,"CT1",7.2,2,0]
[{"$nulls":10},"542_7.2_2_202324",202324,542,"CT1",7.2,2,0]
[{"$nulls":10},"544_7.2_2_202324",202324,544,"CT1",7.2,2,0]
[{"$nulls":10},"545_7.2_2_202324",202324,545,"CT1",7.2,2,0]
[{"$nulls":10},"546_7.2_2_202324",202324,546,"CT1",7.2,2,0]
[{"$nulls":10},"548_7.2_2_202324",202324,548,"CT1",7.2,2,0]
[{"$nulls":10},"550_7.2_2_202324",202324,550,"CT1",7.2,2,0]
[{"$nulls":10},"552_7.2_2_202324",202324,552,"CT1",7.2,2,43]
[{"$nulls":10},"512_7.2_3_202324",202324,512,"CT1",7.2,3,326]
[{"$nulls":10},"514_7.2_3_202324",202324,514,"CT1",7.2,3,885]
[{"$nulls":10},"516_7.2_3_202324",202324,516,"CT1",7.2,3,322]
[{"$nulls":10},"518_7.2_3_202324",202324,518,"CT1",7.2,3,231]
[{"$nulls":10},"520_7.2_3_202324",202324,520,"CT1",7.2,3,153]
[{"$nulls":10},"522_7.2_3_202324",202324,522,"CT1",7.2,3,65]
[{"$nulls":10},"524_7.2_3_202324",202324,524,"CT1",7.2,3,282]
[{"$nulls":10},"526_7.2_3_202324",202324,526,"CT1",7.2,3,314]
[{"$nulls":10},"528_7.2_3_202324",202324,528,"CT1",7.2,3,439]
[{"$nulls":10},"530_7.2_3_202324",202324,530,"CT1",7.2,3,0]
[{"$nulls":10},"532_7.2_3_202324",202324,532,"CT1",7.2,3,483]
[{"$nulls":10},"534_7.2_3_202324",202324,534,"CT1",7.2,3,0]
[{"$nulls":10},"536_7.2_3_202324",202324,536,"CT1",7.2,3,0]
[{"$nulls":10},"538_7.2_3_202324",202324,538,"CT1",7.2,3,0]
[{"$nulls":10},"540_7.2_3_202324",202324,540,"CT1",7.2,3,0]
[{"$nulls":10},"542_7.2_3_202324",202324,542,"CT1",7.2,3,0]
[{"$nulls":10},"544_7.2_3_202324",202324,544,"CT1",7.2,3,0]
[{"$nulls":10},"545_7.2_3_202324",202324,545,"CT1",7.2,3,0]
[{"$nulls":10},"546_7.2_3_202324",202324,546,"CT1",7.2,3,0]
[{"$nulls":10},"548_7.2_3_202324",202324,548,"CT1",7.2,3,0]
[{"$nulls":10},"550_7.2_3_202324",202324,550,"CT1",7.2,3,0]
[{"$nulls":10},"552_7.2_3_202324",202324,552,"CT1",7.2,3,169]
[{"$nulls":10},"512_7.2_4_202324",202324,512,"CT1",7.2,4,506]
[{"$nulls":10},"514_7.2_4_202324",202324,514,"CT1",7.2,4,887]
[{"$nulls":10},"516_7.2_4_202324",202324,516,"CT1",7.2,4,370]
[{"$nulls":10},"518_7.2_4_202324",202324,518,"CT1",7.2,4,226]
[{"$nulls":10},"520_7.2_4_202324",202324,520,"CT1",7.2,4,186]
[{"$nulls":10},"522_7.2_4_202324",202324,522,"CT1",7.2,4,55]
[{"$nulls":10},{"$f":"M1924&\"_\"&O1924&\"_\"&P1924&\"_\"&L1924","v":"524_7.2_4_202324"},202324,524,"CT1",7.2,4,321]
[{"$nulls":10},"526_7.2_4_202324",202324,526,"CT1",7.2,4,471]
[{"$nulls":10},"528_7.2_4_202324",202324,528,"CT1",7.2,4,683]
[{"$nulls":10},"530_7.2_4_202324",202324,530,"CT1",7.2,4,0]
[{"$nulls":10},"532_7.2_4_202324",202324,532,"CT1",7.2,4,462]
[{"$nulls":10},"534_7.2_4_202324",202324,534,"CT1",7.2,4,0]
[{"$nulls":10},"536_7.2_4_202324",202324,536,"CT1",7.2,4,0]
[{"$nulls":10},"538_7.2_4_202324",202324,538,"CT1",7.2,4,0]
[{"$nulls":10},"540_7.2_4_202324",202324,540,"CT1",7.2,4,0]
[{"$nulls":10},"542_7.2_4_202324",202324,542,"CT1",7.2,4,0]
[{"$nulls":10},"544_7.2_4_202324",202324,544,"CT1",7.2,4,0]
[{"$nulls":10},"545_7.2_4_202324",202324,545,"CT1",7.2,4,0]
[{"$nulls":10},"546_7.2_4_202324",202324,546,"CT1",7.2,4,0]
[{"$nulls":10},"548_7.2_4_202324",202324,548,"CT1",7.2,4,0]
[{"$nulls":10},"550_7.2_4_202324",202324,550,"CT1",7.2,4,0]
[{"$nulls":10},"552_7.2_4_202324",202324,552,"CT1",7.2,4,175]
[{"$nulls":10},"512_7.2_5_202324",202324,512,"CT1",7.2,5,606]
[{"$nulls":10},"514_7.2_5_202324",202324,514,"CT1",7.2,5,957]
[{"$nulls":10},"516_7.2_5_202324",202324,516,"CT1",7.2,5,205]
[{"$nulls":10},"518_7.2_5_202324",202324,518,"CT1",7.2,5,158]
[{"$nulls":10},"520_7.2_5_202324",202324,520,"CT1",7.2,5,117]
[{"$nulls":10},"522_7.2_5_202324",202324,522,"CT1",7.2,5,24]
[{"$nulls":10},"524_7.2_5_202324",202324,524,"CT1",7.2,5,337]
[{"$nulls":10},"526_7.2_5_202324",202324,526,"CT1",7.2,5,599]
[{"$nulls":10},"528_7.2_5_202324",202324,528,"CT1",7.2,5,904]
[{"$nulls":10},"530_7.2_5_202324",202324,530,"CT1",7.2,5,0]
[{"$nulls":10},"532_7.2_5_202324",202324,532,"CT1",7.2,5,376]
[{"$nulls":10},"534_7.2_5_202324",202324,534,"CT1",7.2,5,0]
[{"$nulls":10},"536_7.2_5_202324",202324,536,"CT1",7.2,5,0]
[{"$nulls":10},"538_7.2_5_202324",202324,538,"CT1",7.2,5,0]
[{"$nulls":10},"540_7.2_5_202324",202324,540,"CT1",7.2,5,0]
[{"$nulls":10},"542_7.2_5_202324",202324,542,"CT1",7.2,5,0]
[{"$nulls":10},"544_7.2_5_202324",202324,544,"CT1",7.2,5,0]
[{"$nulls":10},"545_7.2_5_202324",202324,545,"CT1",7.2,5,0]
[{"$nulls":10},"546_7.2_5_202324",202324,546,"CT1",7.2,5,0]
[{"$nulls":10},"548_7.2_5_202324",202324,548,"CT1",7.2,5,0]
[{"$nulls":10},"550_7.2_5_202324",202324,550,"CT1",7.2,5,0]
[{"$nulls":10},"552_7.2_5_202324",202324,552,"CT1",7.2,5,211]
[{"$nulls":10},"512_7.2_6_202324",202324,512,"CT1",7.2,6,417]
[{"$nulls":10},"514_7.2_6_202324",202324,514,"CT1",7.2,6,697]
[{"$nulls":10},"516_7.2_6_202324",202324,516,"CT1",7.2,6,250]
[{"$nulls":10},"518_7.2_6_202324",202324,518,"CT1",7.2,6,87]
[{"$nulls":10},"520_7.2_6_202324",202324,520,"CT1",7.2,6,108]
[{"$nulls":10},"522_7.2_6_202324",202324,522,"CT1",7.2,6,25]
[{"$nulls":10},"524_7.2_6_202324",202324,524,"CT1",7.2,6,357]
[{"$nulls":10},"526_7.2_6_202324",202324,526,"CT1",7.2,6,468]
[{"$nulls":10},"528_7.2_6_202324",202324,528,"CT1",7.2,6,881]
[{"$nulls":10},"530_7.2_6_202324",202324,530,"CT1",7.2,6,0]
[{"$nulls":10},"532_7.2_6_202324",202324,532,"CT1",7.2,6,325]
[{"$nulls":10},"534_7.2_6_202324",202324,534,"CT1",7.2,6,0]
[{"$nulls":10},"536_7.2_6_202324",202324,536,"CT1",7.2,6,0]
[{"$nulls":10},"538_7.2_6_202324",202324,538,"CT1",7.2,6,0]
[{"$nulls":10},"540_7.2_6_202324",202324,540,"CT1",7.2,6,0]
[{"$nulls":10},"542_7.2_6_202324",202324,542,"CT1",7.2,6,0]
[{"$nulls":10},"544_7.2_6_202324",202324,544,"CT1",7.2,6,0]
[{"$nulls":10},"545_7.2_6_202324",202324,545,"CT1",7.2,6,0]
[{"$nulls":10},"546_7.2_6_202324",202324,546,"CT1",7.2,6,0]
[{"$nulls":10},"548_7.2_6_202324",202324,548,"CT1",7.2,6,0]
[{"$nulls":10},"550_7.2_6_202324",202324,550,"CT1",7.2,6,0]
[{"$nulls":10},"552_7.2_6_202324",202324,552,"CT1",7.2,6,138]
[{"$nulls":10},"512_7.2_7_202324",202324,512,"CT1",7.2,7,228]
[{"$nulls":10},"514_7.2_7_202324",202324,514,"CT1",7.2,7,455]
[{"$nulls":10},"516_7.2_7_202324",202324,516,"CT1",7.2,7,156]
[{"$nulls":10},"518_7.2_7_202324",202324,518,"CT1",7.2,7,66]
[{"$nulls":10},{"$f":"M1988&\"_\"&O1988&\"_\"&P1988&\"_\"&L1988","v":"520_7.2_7_202324"},202324,520,"CT1",7.2,7,50]
[{"$nulls":10},"522_7.2_7_202324",202324,522,"CT1",7.2,7,15]
[{"$nulls":10},"524_7.2_7_202324",202324,524,"CT1",7.2,7,217]
[{"$nulls":10},"526_7.2_7_202324",202324,526,"CT1",7.2,7,156]
[{"$nulls":10},"528_7.2_7_202324",202324,528,"CT1",7.2,7,458]
[{"$nulls":10},"530_7.2_7_202324",202324,530,"CT1",7.2,7,0]
[{"$nulls":10},"532_7.2_7_202324",202324,532,"CT1",7.2,7,213]
[{"$nulls":10},"534_7.2_7_202324",202324,534,"CT1",7.2,7,0]
[{"$nulls":10},"536_7.2_7_202324",202324,536,"CT1",7.2,7,0]
[{"$nulls":10},"538_7.2_7_202324",202324,538,"CT1",7.2,7,0]
[{"$nulls":10},"540_7.2_7_202324",202324,540,"CT1",7.2,7,0]
[{"$nulls":10},"542_7.2_7_202324",202324,542,"CT1",7.2,7,0]
[{"$nulls":10},"544_7.2_7_202324",202324,544,"CT1",7.2,7,0]
[{"$nulls":10},"550_7.2_8_202324",202324,550,"CT1",7.2,8,0]
[{"$nulls":10},"546_7.2_9_202324",202324,546,"CT1",7.2,9,0]
[{"$nulls":10},"552_7.2_11_202324",202324,552,"CT1",7.2,11,868]
[{"$nulls":10},"534_8_2_202324",202324,534,"CT1",8,2,13258]
[{"$nulls":10},"545_8_2_202324",202324,545,"CT1",8,2,18645]
[{"$nulls":10},"546_8_4_202324",202324,546,"CT1",8,4,11781]
[{"$nulls":10},"532_8_6_202324",202324,532,"CT1",8,6,12124]
[{"$nulls":10},"548_8_7_202324",202324,548,"CT1",8,7,7790]
[{"$nulls":10},"540_8_8_202324",202324,540,"CT1",8,8,1138]
[{"$nulls":10},"530_8_10_202324",202324,530,"CT1",8,10,55]
[{"$nulls":10},"544_8_11_202324",202324,544,"CT1",8,11,78346]
[{"$nulls":10},"516_9_3_202324",202324,516,"CT1",9,3,0]
[{"$nulls":10},"545_9_3_202324",202324,545,"CT1",9,3,0]
[{"$nulls":10},"516_9_5_202324",202324,516,"CT1",9,5,0]
[{"$nulls":10},"514_9_7_202324",202324,514,"CT1",9,7,0]
[{"$nulls":10},"516_9_9_202324",202324,516,"CT1",9,9,0]
[{"$nulls":10},"544_9_10_202324",202324,544,"CT1",9,10,0]
[{"$nulls":10},"518_9.1_2_202324",202324,518,"CT1",9.1,2,0.5]
[{"$nulls":10},"544_9.1_2_202324",202324,544,"CT1",9.1,2,0]
[{"$nulls":10},"542_9.1_4_202324",202324,542,"CT1",9.1,4,1.5]
[{"$nulls":10},"512_9.1_6_202324",202324,512,"CT1",9.1,6,0]
[{"$nulls":10},"548_9.1_6_202324",202324,548,"CT1",9.1,6,0]
[{"$nulls":10},"540_9.1_8_202324",202324,540,"CT1",9.1,8,0]
[{"$nulls":10},"548_9.1_9_202324",202324,548,"CT1",9.1,9,0]
[{"$nulls":10},"526_9.2_2_202324",202324,526,"CT1",9.2,2,59.25]
[{"$nulls":10},"550_9.2_2_202324",202324,550,"CT1",9.2,2,0]
[{"$nulls":10},"526_9.2_4_202324",202324,526,"CT1",9.2,4,117.75]
[{"$nulls":10},"524_9.2_6_202324",202324,524,"CT1",9.2,6,294]
[{"$nulls":10},"522_9.2_8_202324",202324,522,"CT1",9.2,8,6.5]
[{"$nulls":10},"552_9.2_9_202324",202324,552,"CT1",9.2,9,4.5]
[{"$nulls":10},"524_9.2_11_202324",202324,524,"CT1",9.2,11,1617]
[{"$nulls":10},"552_9.2_11_202324",202324,552,"CT1",9.2,11,434]
[{"$nulls":10},"550_11_2_202324",202324,550,"CT1",11,2,5340]
[{"$nulls":10},"518_11_4_202324",202324,518,"CT1",11,4,12985.25]
[{"$nulls":10},"530_11_6_202324",202324,530,"CT1",11,6,12201.5]
[{"$nulls":10},"520_11_7_202324",202324,520,"CT1",11,7,7203.5]
[{"$nulls":10},"538_11_8_202324",202324,538,"CT1",11,8,5460.75]
[{"$nulls":10},"536_11_10_202324",202324,536,"CT1",11,10,87.5]
[{"$nulls":10},"534_13_2_202324",202324,534,"CT1",13,2,7493.67]
[{"$nulls":10},"536_13_2_202324",202324,536,"CT1",13,2,6019.83]
[{"$nulls":10},"516_13_4_202324",202324,516,"CT1",13,4,12142.44]
[{"$nulls":10},"522_13_6_202324",202324,522,"CT1",13,6,9067.67]
[{"$nulls":10},{"$f":"M3396&\"_\"&O3396&\"_\"&P3396&\"_\"&L3396","v":"520_13_8_202324"},202324,520,"CT1",13,8,4993.33]
[{"$nulls":10},"530_13_9_202324",202324,530,"CT1",13,9,550.5]
[{"$nulls":10},"520_13_10_202324",202324,520,"CT1",13,10,466.08]
[{"$nulls":10},"518_13.3_1_202324",202324,518,"CT1",13.3,1,5]
[{"$nulls":10},"524_13.3_2_202324",202324,524,"CT1",13.3,2,4848.5]
[{"$nulls":10},"540_13.3_4_202324",202324,540,"CT1",13.3,4,14901.75]
[{"$nulls":10},"526_13.3_5_202324",202324,526,"CT1",13.3,5,6696.75]
[{"$nulls":10},"546_13.3_6_202324",202324,546,"CT1",13.3,6,3925.5]
[{"$nulls":10},"545_13.3_8_202324",202324,545,"CT1",13.3,8,56.75]
[{"$nulls":10},"540_13.3_10_202324",202324,540,"CT1",13.3,10,31]
[{"$nulls":10},"524_13.4_2_202324",202324,524,"CT1",13.4,2,3232.33]
[{"$nulls":10},"542_13.4_3_202324",202324,542,"CT1",13.4,3,4582.08]
[{"$nulls":10},"532_13.4_4_202324",202324,532,"CT1",13.4,4,18763.33]
[{"$nulls":10},"530_13.4_6_202324",202324,530,"CT1",13.4,6,14912.94]
[{"$nulls":10},{"$f":"M3844&\"_\"&O3844&\"_\"&P3844&\"_\"&L3844","v":"536_13.4_7_202324"},202324,536,"CT1",13.4,7,5916.08]
[{"$nulls":10},"530_13.4_8_202324",202324,530,"CT1",13.4,8,3411.25]
[{"$nulls":10},"538_13.4_10_202324",202324,538,"CT1",13.4,10,2297.17]
[{"$nulls":10},"516_14_2_202324",202324,516,"CT1",14,2,337]
[{"$nulls":10},"548_14_3_202324",202324,548,"CT1",14,3,123]
[{"$nulls":10},"532_14_4_202324",202324,532,"CT1",14,4,1406]
[{"$nulls":10},"514_14_6_202324",202324,514,"CT1",14,6,216.405]
[{"$nulls":10},"512_14_8_202324",202324,512,"CT1",14,8,10]
[{"$nulls":10},"545_14_9_202324",202324,545,"CT1",14,9,0]
[{"$nulls":10},"534_14_11_202324",202324,534,"CT1",14,11,2493]
[{"$nulls":10},"546_15_2_202324",202324,546,"CT1",15,2,0]
[{"$nulls":10},"542_15_3_202324",202324,542,"CT1",15,3,0]
[{"$nulls":10},"532_15_5_202324",202324,532,"CT1",15,5,0]
[{"$nulls":10},"542_15_6_202324",202324,542,"CT1",15,6,0]
[{"$nulls":10},"540_15_7_202324",202324,540,"CT1",15,7,0]
[{"$nulls":10},"544_15_9_202324",202324,544,"CT1",15,9,0]
[{"$nulls":10},"526_15_11_202324",202324,526,"CT1",15,11,0]
[{"$nulls":10},"516_23_11_202324",202324,516,"CT1",23,11,98]
[{"$nulls":10},"538_23_11_202324",202324,538,"CT1",23,11,97.1]
[{"$nulls":10},"524_25_11_202324",202324,524,"CT1",25,11,186.33]
[{"$nulls":10},{"$f":"M4484&\"_\"&O4484&\"_\"&P4484&\"_\"&L4484","v":"540_26_11_202324"},202324,540,"CT1",26,11,77977.84]
[{"$nulls":10},"552_27_11_202324",202324,552,"CT1",27,11,152319.08]
[{"$nulls":10},"544_29_11_202324",202324,544,"CT1",29,11,0]
[{"$nulls":10},"552_30_11_202324",202324,552,"CT1",30,11,1897]
[{"$nulls":10},"550_31_11_202324",202324,550,"CT1",31,11,3]
[{"$nulls":10},"512_34_11_202324",202324,512,"CT1",34,11,67]
[{"$nulls":10},"538_35_11_202324",202324,538,"CT1",35,11,3]
[{"$nulls":10},"548_35_11_202324",202324,548,"CT1",35,11,4]
[{"$nulls":10},"548_37_11_202324",202324,548,"CT1",37,11,4]
[{"$nulls":10},"536_39_11_202324",202324,536,"CT1",39,11,11]
[{"$nulls":10},"526_41_11_202324",202324,526,"CT1",41,11,712]
[{"$nulls":10},"544_41_11_202324",202324,544,"CT1",41,11,89]
[{"$nulls":10},"534_43_11_202324",202324,534,"CT1",43,11,0]
[{"$nulls":10},"545_44_11_202324",202324,545,"CT1",44,11,0]
[{"$nulls":10},"520_47_11_202324",202324,520,"CT1",47,11,13]
[{"$nulls":10},"552_49_11_202324",202324,552,"CT1",49,11,547]
[{"$nulls":10},"516_51_11_202324",202324,516,"CT1",51,11,19]
[{"$nulls":10},"518_51.1_11_202324",202324,518,"CT1",51.1,11,17]
[{"$nulls":10},"518_52_1_202324",202324,518,"CT1",52,1,0]
[{"$nulls":10},"546_52_2_202324",202324,546,"CT1",52,2,0]
[{"$nulls":10},"516_52_3_202324",202324,516,"CT1",52,3,0]
[{"$nulls":10},"512_52_5_202324",202324,512,"CT1",52,5,0]
[{"$nulls":10},"545_52_6_202324",202324,545,"CT1",52,6,0]
[{"$nulls":10},"514_52_8_202324",202324,514,"CT1",52,8,0]
[{"$nulls":10},"552_52_8_202324",202324,552,"CT1",52,8,0]
[{"$nulls":10},"544_52_10_202324",202324,544,"CT1",52,10,0]
[{"$nulls":10},"528_53_1_202324",202324,528,"CT1",53,1,0]
[{"$nulls":10},"530_53_2_202324",202324,530,"CT1",53,2,0]
[{"$nulls":10},"552_53_2_202324",202324,552,"CT1",53,2,0]
[{"$nulls":10},"538_53_4_202324",202324,538,"CT1",53,4,0]
[{"$nulls":10},"528_53_6_202324",202324,528,"CT1",53,6,0]
[{"$nulls":10},"524_53_8_202324",202324,524,"CT1",53,8,0]
[{"$nulls":10},"514_53_10_202324",202324,514,"CT1",53,10,0]
[{"$nulls":10},"526_53_10_202324",202324,526,"CT1",53,10,0]
[{"$nulls":10},"518_54_1_202324",202324,518,"CT1",54,1,0]
[{"$nulls":10},{"$f":"M5636&\"_\"&O5636&\"_\"&P5636&\"_\"&L5636","v":"512_54_3_202324"},202324,512,"CT1",54,3,0]
[{"$nulls":10},"520_54_4_202324",202324,520,"CT1",54,4,0]
[{"$nulls":10},"542_54_6_202324",202324,542,"CT1",54,6,0]
[{"$nulls":10},"552_54_6_202324",202324,552,"CT1",54,6,0]
[{"$nulls":10},"534_54_9_202324",202324,534,"CT1",54,9,0]
[{"$nulls":10},"540_54_10_202324",202324,540,"CT1",54,10,0]
[{"$nulls":10},"536_54_12_202324",202324,536,"CT1",54,12,0]
[{"$nulls":10},"546_54_12_202324",202324,546,"CT1",54,12,0]
[{"$nulls":10},"538_55_2_202324",202324,538,"CT1",55,2,0]
[{"$nulls":10},"530_55_4_202324",202324,530,"CT1",55,4,0]
[{"$nulls":10},"524_55_6_202324",202324,524,"CT1",55,6,0]
[{"$nulls":10},"532_55_7_202324",202324,532,"CT1",55,7,0]
[{"$nulls":10},"524_55_8_202324",202324,524,"CT1",55,8,0]
[{"$nulls":10},"522_55_10_202324",202324,522,"CT1",55,10,0]
[{"$nulls":10},"526_55_11_202324",202324,526,"CT1",55,11,0]
[{"$nulls":10},"550_56_2_202324",202324,550,"CT1",56,2,0]
[{"$nulls":10},"520_56_3_202324",202324,520,"CT1",56,3,0]
[{"$nulls":10},"540_56_5_202324",202324,540,"CT1",56,5,0]
[{"$nulls":10},"548_56_6_202324",202324,548,"CT1",56,6,0]
[{"$nulls":10},"542_56_8_202324",202324,542,"CT1",56,8,0]
[{"$nulls":10},"514_56_9_202324",202324,514,"CT1",56,9,0]
[{"$nulls":10},"546_56_10_202324",202324,546,"CT1",56,10,0]
[{"$nulls":10},"536_56_12_202324",202324,536,"CT1",56,12,0]
[{"$nulls":10},"534_57_2_202324",202324,534,"CT1",57,2,0]
[{"$nulls":10},"538_57_3_202324",202324,538,"CT1",57,3,0]
[{"$nulls":10},"534_57_4_202324",202324,534,"CT1",57,4,0]
[{"$nulls":10},"532_57_6_202324",202324,532,"CT1",57,6,0]
[{"$nulls":10},"532_57_7_202324",202324,532,"CT1",57,7,0]
[{"$nulls":10},"518_57_10_202324",202324,518,"CT1",57,10,0]
[{"$nulls":10},"534_57_10_202324",202324,534,"CT1",57,10,0]
[{"$nulls":10},"518_58_1_202324",202324,518,"CT1",58,1,0]
[{"$nulls":10},"516_58_3_202324",202324,516,"CT1",58,3,0]
[{"$nulls":10},"546_58_4_202324",202324,546,"CT1",58,4,0]
[{"$nulls":10},"524_58_5_202324",202324,524,"CT1",58,5,0]
[{"$nulls":10},"548_58_7_202324",202324,548,"CT1",58,7,0]
[{"$nulls":10},"545_58_8_202324",202324,545,"CT1",58,8,0]
[{"$nulls":10},"544_58_10_202324",202324,544,"CT1",58,10,0]
[{"$nulls":10},"544_58_11_202324",202324,544,"CT1",58,11,0]
[{"$nulls":10},"544_58_12_202324",202324,544,"CT1",58,12,0]
[{"$nulls":10},"542_59_2_202324",202324,542,"CT1",59,2,0]
[{"$nulls":10},"538_59_3_202324",202324,538,"CT1",59,3,0]
[{"$nulls":10},"528_59_6_202324",202324,528,"CT1",59,6,0]
[{"$nulls":10},"540_59_6_202324",202324,540,"CT1",59,6,0]
[{"$nulls":10},"528_59_8_202324",202324,528,"CT1",59,8,0]
[{"$nulls":10},"526_59_10_202324",202324,526,"CT1",59,10,0]
[{"$nulls":10},"552_59_11_202324",202324,552,"CT1",59,11,0]
[{"$nulls":10},"546_60_2_202324",202324,546,"CT1",60,2,0]
[{"$nulls":10},"512_60_4_202324",202324,512,"CT1",60,4,0]
[{"$nulls":10},"512_60_5_202324",202324,512,"CT1",60,5,0]
[{"$nulls":10},"552_60_6_202324",202324,552,"CT1",60,6,0]
[{"$nulls":10},"548_60_7_202324",202324,548,"CT1",60,7,0]
[{"$nulls":10},"552_60_8_202324",202324,552,"CT1",60,8,0]
[{"$nulls":10},"550_60_10_202324",202324,550,"CT1",60,10,0]
[{"$nulls":10},"540_60_12_202324",202324,540,"CT1",60,12,0]
[{"$nulls":10},"538_61_2_202324",202324,538,"CT1",61,2,0]
[{"$nulls":10},"522_61_4_202324",202324,522,"CT1",61,4,0]
[{"$nulls":10},"538_61_4_202324",202324,538,"CT1",61,4,0]
[{"$nulls":10},"536_61_6_202324",202324,536,"CT1",61,6,0]
[{"$nulls":10},"516_61_8_202324",202324,516,"CT1",61,8,0]
[{"$nulls":10},"514_61_10_202324",202324,514,"CT1",61,10,0]
[{"$nulls":10},"518_61_11_202324",202324,518,"CT1",61,11,0]
[{"$nulls":10},"522_62_1_202324",202324,522,"CT1",62,1,0]
[{"$nulls":10},"520_62_3_202324",202324,520,"CT1",62,3,0]
[{"$nulls":10},"512_62_4_202324",202324,512,"CT1",62,4,0]
[{"$nulls":10},"520_62_5_202324",202324,520,"CT1",62,5,0]
[{"$nulls":10},"514_62_7_202324",202324,514,"CT1",62,7,0]
[{"$nulls":10},"548_62_8_202324",202324,548,"CT1",62,8,0]
[{"$nulls":10},"540_62_10_202324",202324,540,"CT1",62,10,0]
[{"$nulls":10},"528_63_1_202324",202324,528,"CT1",63,1,0]
[{"$nulls":10},{"$f":"M7876&\"_\"&O7876&\"_\"&P7876&\"_\"&L7876","v":"546_63_1_202324"},202324,546,"CT1",63,1,0]
[{"$nulls":10},"530_63_4_202324",202324,530,"CT1",63,4,0]
[{"$nulls":10},"534_63_5_202324",202324,534,"CT1",63,5,0]
[{"$nulls":10},"524_63_7_202324",202324,524,"CT1",63,7,0]
[{"$nulls":10},"524_63_8_202324",202324,524,"CT1",63,8,0]
[{"$nulls":10},"532_63_9_202324",202324,532,"CT1",63,9,0]
[{"$nulls":10},"526_63_11_202324",202324,526,"CT1",63,11,0]
[{"$nulls":10},"518_64_3_202324",202324,518,"CT1",64,3,62]
[{"$nulls":10},"530_64_3_202324",202324,530,"CT1",64,3,623]
[{"$nulls":10},"520_64_5_202324",202324,520,"CT1",64,5,42]
[{"$nulls":10},"516_64_7_202324",202324,516,"CT1",64,7,7]
[{"$nulls":10},"548_64_8_202324",202324,548,"CT1",64,8,60]
[{"$nulls":10},"534_64_10_202324",202324,534,"CT1",64,10,2]
[{"$nulls":10},"514_64_11_202324",202324,514,"CT1",64,11,333]
[{"$nulls":10},"536_65_3_202324",202324,536,"CT1",65,3,9]
[{"$nulls":10},"544_65_4_202324",202324,544,"CT1",65,4,58]
[{"$nulls":10},"534_65_6_202324",202324,534,"CT1",65,6,19]
[{"$nulls":10},"530_65_7_202324",202324,530,"CT1",65,7,65]
[{"$nulls":10},"542_65_8_202324",202324,542,"CT1",65,8,3]
[{"$nulls":10},"532_65_10_202324",202324,532,"CT1",65,10,0]
[{"$nulls":10},"528_67_2_202324",202324,528,"CT1",67,2,0]
[{"$nulls":10},"518_67_4_202324",202324,518,"CT1",67,4,0]
[{"$nulls":10},"526_67_4_202324",202324,526,"CT1",67,4,0]
[{"$nulls":10},"526_67_6_202324",202324,526,"CT1",67,6,0]
[{"$nulls":10},"528_67_7_202324",202324,528,"CT1",67,7,0]
[{"$nulls":10},"512_67_10_202324",202324,512,"CT1",67,10,0]
[{"$nulls":10},"524_67_10_202324",202324,524,"CT1",67,10,0]
[{"$nulls":10},"542_67_12_202324",202324,542,"CT1",67,12,25]
[{"$nulls":10},"552_68_2_202324",202324,552,"CT1",68,2,0]
[{"$nulls":10},"544_68_4_202324",202324,544,"CT1",68,4,0]
[{"$nulls":10},"518_68_5_202324",202324,518,"CT1",68,5,0]
[{"$nulls":10},"550_68_6_202324",202324,550,"CT1",68,6,0]
[{"$nulls":10},"538_68_8_202324",202324,538,"CT1",68,8,0]
[{"$nulls":10},"538_68_10_202324",202324,538,"CT1",68,10,0]
[{"$nulls":10},"528_68_12_202324",202324,528,"CT1",68,12,50]
[{"$nulls":10},"532_68_12_202324",202324,532,"CT1",68,12,50]
[{"$nulls":10},"536_70_3_202324",202324,536,"CT1",70,3,0]
[{"$nulls":10},"534_70_4_202324",202324,534,"CT1",70,4,0]
[{"$nulls":10},"522_70_7_202324",202324,522,"CT1",70,7,0]
[{"$nulls":10},"534_70_7_202324",202324,534,"CT1",70,7,0]
[{"$nulls":10},"546_70_9_202324",202324,546,"CT1",70,9,0]
[{"$nulls":10},"520_70_11_202324",202324,520,"CT1",70,11,0]
[{"$nulls":10},"548_70_12_202324",202324,548,"CT1",70,12,100]
[{"$nulls":10},"528_71_2_202324",202324,528,"CT1",71,2,0]
[{"$nulls":10},"518_71_4_202324",202324,518,"CT1",71,4,0]
[{"$nulls":10},{"$f":"M9348&\"_\"&O9348&\"_\"&P9348&\"_\"&L9348","v":"544_71_5_202324"},202324,544,"CT1",71,5,0]
[{"$nulls":10},"546_71_7_202324",202324,546,"CT1",71,7,0]
[{"$nulls":10},"545_71_8_202324",202324,545,"CT1",71,8,0]
[{"$nulls":10},"512_71_10_202324",202324,512,"CT1",71,10,0]
[{"$nulls":10},"545_71_11_202324",202324,545,"CT1",71,11,0]
[{"$nulls":10},"516_71.1_3_202324",202324,516,"CT1",71.1,3,0]
[{"$nulls":10},"532_71.1_4_202324",202324,532,"CT1",71.1,4,0]
[{"$nulls":10},"544_71.1_4_202324",202324,544,"CT1",71.1,4,0]
[{"$nulls":10},"552_71.1_6_202324",202324,552,"CT1",71.1,6,0]
[{"$nulls":10},"530_71.1_8_202324",202324,530,"CT1",71.1,8,0]
[{"$nulls":10},"512_71.1_10_202324",202324,512,"CT1",71.1,10,0]
[{"$nulls":10},"538_71.1_10_202324",202324,538,"CT1",71.1,10,0]
[{"$nulls":10},"528_71.1_12_202324",202324,528,"CT1",71.1,12,0]
[{"$nulls":10},"548_71.2_2_202324",202324,548,"CT1",71.2,2,0]
[{"$nulls":10},"514_71.2_5_202324",202324,514,"CT1",71.2,5,0]
[{"$nulls":10},"550_71.2_5_202324",202324,550,"CT1",71.2,5,0]
[{"$nulls":10},"522_71.2_7_202324",202324,522,"CT1",71.2,7,0]
[{"$nulls":10},"512_71.2_9_202324",202324,512,"CT1",71.2,9,0]
[{"$nulls":10},"522_71.2_11_202324",202324,522,"CT1",71.2,11,0]
[{"$nulls":10},"542_71.2_12_202324",202324,542,"CT1",71.2,12,0]
[{"$nulls":10},"524_72_3_202324",202324,524,"CT1",72,3,0]
[{"$nulls":10},"542_72_3_202324",202324,542,"CT1",72,3,4]
[{"$nulls":10},"540_72_5_202324",202324,540,"CT1",72,5,6]
[{"$nulls":10},"518_72_7_202324",202324,518,"CT1",72,7,0]
[{"$nulls":10},"546_72_7_202324",202324,546,"CT1",72,7,0]
[{"$nulls":10},"520_72_10_202324",202324,520,"CT1",72,10,0]
[{"$nulls":10},"526_72_11_202324",202324,526,"CT1",72,11,0]
[{"$nulls":10},"524_74_3_202324",202324,524,"CT1",74,3,0]
[{"$nulls":10},"514_74_4_202324",202324,514,"CT1",74,4,0]
[{"$nulls":10},"532_74_5_202324",202324,532,"CT1",74,5,0]
[{"$nulls":10},"522_74_7_202324",202324,522,"CT1",74,7,0]
[{"$nulls":10},"528_74_9_202324",202324,528,"CT1",74,9,1]
[{"$nulls":10},"550_74_10_202324",202324,550,"CT1",74,10,0]
[{"$nulls":10},"530_74_12_202324",202324,530,"CT1",74,12,25]
[{"$nulls":10},"550_74_12_202324",202324,550,"CT1",74,12,25]
[{"$nulls":10},"548_75_3_202324",202324,548,"CT1",75,3,0]
[{"$nulls":10},"524_75_5_202324",202324,524,"CT1",75,5,0]
[{"$nulls":10},"536_75_7_202324",202324,536,"CT1",75,7,0]
[{"$nulls":10},"526_75_8_202324",202324,526,"CT1",75,8,0]
[{"$nulls":10},"536_75_9_202324",202324,536,"CT1",75,9,0]
[{"$nulls":10},"534_75_11_202324",202324,534,"CT1",75,11,0]
[{"$nulls":10},"520_75_12_202324",202324,520,"CT1",75,12,50]
[{"$nulls":10},"534_77_2_202324",202324,534,"CT1",77,2,0]
[{"$nulls":10},"522_77_4_202324",202324,522,"CT1",77,4,0]
[{"$nulls":10},"520_77_6_202324",202324,520,"CT1",77,6,0]
[{"$nulls":10},"518_77_8_202324",202324,518,"CT1",77,8,0]
[{"$nulls":10},"536_77_9_202324",202324,536,"CT1",77,9,0]
[{"$nulls":10},"518_77_10_202324",202324,518,"CT1",77,10,0]
[{"$nulls":10},"516_77_12_202324",202324,516,"CT1",77,12,100]
[{"$nulls":10},"530_78_2_202324",202324,530,"CT1",78,2,0]
[{"$nulls":10},"545_78_4_202324",202324,545,"CT1",78,4,0]
[{"$nulls":10},"532_78_5_202324",202324,532,"CT1",78,5,0]
[{"$nulls":10},"545_78_6_202324",202324,545,"CT1",78,6,0]
[{"$nulls":10},"544_78_8_202324",202324,544,"CT1",78,8,0]
[{"$nulls":10},"526_78_9_202324",202324,526,"CT1",78,9,0]
[{"$nulls":10},"522_78_12_202324",202324,522,"CT1",78,12,0]
[{"$nulls":10},"528_78_12_202324",202324,528,"CT1",78,12,0]
[{"$nulls":10},"530_78.1_3_202324",202324,530,"CT1",78.1,3,0]
[{"$nulls":10},"528_78.1_5_202324",202324,528,"CT1",78.1,5,0]
[{"$nulls":10},"542_78.1_6_202324",202324,542,"CT1",78.1,6,0]
[{"$nulls":10},"528_78.1_7_202324",202324,528,"CT1",78.1,7,0]
[{"$nulls":10},"544_78.1_9_202324",202324,544,"CT1",78.1,9,0]
[{"$nulls":10},"514_78.1_11_202324",202324,514,"CT1",78.1,11,0]
[{"$nulls":10},"512_78.2_2_202324",202324,512,"CT1",78.2,2,0]
[{"$nulls":10},"538_78.2_2_202324",202324,538,"CT1",78.2,2,0]
[{"$nulls":10},"512_78.2_4_202324",202324,512,"CT1",78.2,4,0]
[{"$nulls":10},"540_78.2_5_202324",202324,540,"CT1",78.2,5,0]
[{"$nulls":10},"542_78.2_7_202324",202324,542,"CT1",78.2,7,0]
[{"$nulls":10},"532_78.2_9_202324",202324,532,"CT1",78.2,9,0]
[{"$nulls":10},"552_78.2_10_202324",202324,552,"CT1",78.2,10,0]
[{"$nulls":10},"540_78.2_11_202324",202324,540,"CT1",78.2,11,0]
[{"$nulls":10},"538_79_2_202324",202324,538,"CT1",79,2,0]
[{"$nulls":10},"546_79_3_202324",202324,546,"CT1",79,3,0]
[{"$nulls":10},"538_79_4_202324",202324,538,"CT1",79,4,0]
[{"$nulls":10},"548_79_6_202324",202324,548,"CT1",79,6,0]
[{"$nulls":10},"524_79_8_202324",202324,524,"CT1",79,8,33]
[{"$nulls":10},"514_79_10_202324",202324,514,"CT1",79,10,5]
[{"$nulls":10},"544_79_10_202324",202324,544,"CT1",79,10,0]
[{"$nulls":10},"522_81_2_202324",202324,522,"CT1",81,2,0]
[{"$nulls":10},"545_81_3_202324",202324,545,"CT1",81,3,0]
[{"$nulls":10},"550_81_5_202324",202324,550,"CT1",81,5,0]
[{"$nulls":10},"542_81_7_202324",202324,542,"CT1",81,7,0]
[{"$nulls":10},"516_81_9_202324",202324,516,"CT1",81,9,0]
[{"$nulls":10},"548_81_9_202324",202324,548,"CT1",81,9,0]
[{"$nulls":10},"518_81_12_202324",202324,518,"CT1",81,12,25]
[{"$nulls":10},"536_82_2_202324",202324,536,"CT1",82,2,1]
[{"$nulls":10},"546_82_2_202324",202324,546,"CT1",82,2,0]
[{"$nulls":10},"512_82_5_202324",202324,512,"CT1",82,5,0]
[{"$nulls":10},"534_82_6_202324",202324,534,"CT1",82,6,0]
[{"$nulls":10},"514_82_8_202324",202324,514,"CT1",82,8,0]
[{"$nulls":10},"542_82_8_202324",202324,542,"CT1",82,8,0]
[{"$nulls":10},"532_82_10_202324",202324,532,"CT1",82,10,0]
[{"$nulls":10},"550_82_11_202324",202324,550,"CT1",82,11,0]
[{"$nulls":10},"518_84_3_202324",202324,518,"CT1",84,3,0]
[{"$nulls":10},"550_84_4_202324",202324,550,"CT1",84,4,0]
[{"$nulls":10},"522_84_6_202324",202324,522,"CT1",84,6,0]
[{"$nulls":10},"516_84_7_202324",202324,516,"CT1",84,7,0]
[{"$nulls":10},"524_84_9_202324",202324,524,"CT1",84,9,0]
[{"$nulls":10},"545_84_10_202324",202324,545,"CT1",84,10,0]
[{"$nulls":10},"514_84_11_202324",202324,514,"CT1",84,11,0]
[{"$nulls":10},"518_85_2_202324",202324,518,"CT1",85,2,0]
[{"$nulls":10},"544_85_3_202324",202324,544,"CT1",85,3,0]
[{"$nulls":10},"520_85_5_202324",202324,520,"CT1",85,5,0]
[{"$nulls":10},"550_85_5_202324",202324,550,"CT1",85,5,0]
[{"$nulls":10},"542_85_7_202324",202324,542,"CT1",85,7,0]
[{"$nulls":10},"514_85_9_202324",202324,514,"CT1",85,9,0]
[{"$nulls":10},"528_85_11_202324",202324,528,"CT1",85,11,0]
[{"$nulls":10},"516_85_12_202324",202324,516,"CT1",85,12,0]
[{"$nulls":10},"536_85.1_2_202324",202324,536,"CT1",85.1,2,0]
[{"$nulls":10},"526_85.1_4_202324",202324,526,"CT1",85.1,4,0]
[{"$nulls":10},"530_85.1_6_202324",202324,530,"CT1",85.1,6,0]
[{"$nulls":10},"512_85.1_8_202324",202324,512,"CT1",85.1,8,0]
[{"$nulls":10},"524_85.1_8_202324",202324,524,"CT1",85.1,8,0]
[{"$nulls":10},"524_85.1_10_202324",202324,524,"CT1",85.1,10,0]
[{"$nulls":10},"552_85.1_11_202324",202324,552,"CT1",85.1,11,0]
[{"$nulls":10},"526_85.2_2_202324",202324,526,"CT1",85.2,2,0]
[{"$nulls":10},"540_85.2_4_202324",202324,540,"CT1",85.2,4,0]
[{"$nulls":10},"550_85.2_4_202324",202324,550,"CT1",85.2,4,0]
[{"$nulls":10},"520_85.2_6_202324",202324,520,"CT1",85.2,6,0]
[{"$nulls":10},"538_85.2_8_202324",202324,538,"CT1",85.2,8,0]
[{"$nulls":10},"522_85.2_9_202324",202324,522,"CT1",85.2,9,0]
[{"$nulls":10},"545_85.2_10_202324",202324,545,"CT1",85.2,10,0]
[{"$nulls":10},"536_85.2_12_202324",202324,536,"CT1",85.2,12,0]
[{"$nulls":10},"536_86_3_202324",202324,536,"CT1",86,3,0]
[{"$nulls":10},"522_86_5_202324",202324,522,"CT1",86,5,0]
[{"$nulls":10},"538_86_6_202324",202324,538,"CT1",86,6,0]
[{"$nulls":10},"530_86_7_202324",202324,530,"CT1",86,7,0]
[{"$nulls":10},"520_86_9_202324",202324,520,"CT1",86,9,0]
[{"$nulls":10},"532_86_10_202324",202324,532,"CT1",86,10,0]
[{"$nulls":10},"548_88_2_202324",202324,548,"CT1",88,2,0]
[{"$nulls":10},"534_88_3_202324",202324,534,"CT1",88,3,0]
[{"$nulls":10},"548_88_4_202324",202324,548,"CT1",88,4,0]
[{"$nulls":10},"546_88_6_202324",202324,546,"CT1",88,6,0]
[{"$nulls":10},"546_88_8_202324",202324,546,"CT1",88,8,0]
[{"$nulls":10},"512_88_9_202324",202324,512,"CT1",88,9,0]
[{"$nulls":10},"545_88_10_202324",202324,545,"CT1",88,10,0]
[{"$nulls":10},"542_88_12_202324",202324,542,"CT1",88,12,25]
[{"$nulls":10},"532_89_3_202324",202324,532,"CT1",89,3,0]
[{"$nulls":10},"544_89_4_202324",202324,544,"CT1",89,4,0]
[{"$nulls":10},"540_89_5_202324",202324,540,"CT1",89,5,0]
[{"$nulls":10},"530_89_7_202324",202324,530,"CT1",89,7,0]
[{"$nulls":10},"538_89_8_202324",202324,538,"CT1",89,8,0]
[{"$nulls":10},"516_89_11_202324",202324,516,"CT1",89,11,1102]
[{"$nulls":10},"540_89_11_202324",202324,540,"CT1",89,11,0]
[{"$nulls":10},"516_91_2_202324",202324,516,"CT1",91,2,0]
[{"$nulls":10},"514_91_4_202324",202324,514,"CT1",91,4,0]
[{"$nulls":10},"552_91_5_202324",202324,552,"CT1",91,5,0]
[{"$nulls":10},"522_91_6_202324",202324,522,"CT1",91,6,0]
[{"$nulls":10},"512_91_9_202324",202324,512,"CT1",91,9,0]
[{"$nulls":10},"544_91_9_202324",202324,544,"CT1",91,9,0]
[{"$nulls":10},"542_91_11_202324",202324,542,"CT1",91,11,0]
[{"$nulls":10},"548_91_12_202324",202324,548,"CT1",91,12,100]
[{"$nulls":10},"548_92_2_202324",202324,548,"CT1",92,2,0]
[{"$nulls":10},{"$f":"M14340&\"_\"&O14340&\"_\"&P14340&\"_\"&L14340","v":"540_92_4_202324"},202324,540,"CT1",92,4,0]
[{"$nulls":10},"544_92_5_202324",202324,544,"CT1",92,5,0]
[{"$nulls":10},"526_92_8_202324",202324,526,"CT1",92,8,0]
[{"$nulls":10},"545_92_8_202324",202324,545,"CT1",92,8,0]
[{"$nulls":10},"526_92_10_202324",202324,526,"CT1",92,10,0]
[{"$nulls":10},"524_92_12_202324",202324,524,"CT1",92,12,0]
[{"$nulls":10},"516_92.1_3_202324",202324,516,"CT1",92.1,3,0]
[{"$nulls":10},"532_92.1_3_202324",202324,532,"CT1",92.1,3,0]
[{"$nulls":10},"518_92.1_6_202324",202324,518,"CT1",92.1,6,0]
[{"$nulls":10},"552_92.1_6_202324",202324,552,"CT1",92.1,6,0]
[{"$nulls":10},"550_92.1_8_202324",202324,550,"CT1",92.1,8,0]
[{"$nulls":10},"512_92.1_10_202324",202324,512,"CT1",92.1,10,11]
[{"$nulls":10},"550_92.1_10_202324",202324,550,"CT1",92.1,10,0]
[{"$nulls":10},"514_92.2_2_202324",202324,514,"CT1",92.2,2,444]
[{"$nulls":10},"538_92.2_3_202324",202324,538,"CT1",92.2,3,0]
[{"$nulls":10},"536_92.2_5_202324",202324,536,"CT1",92.2,5,0]
[{"$nulls":10},{"$f":"M14852&\"_\"&O14852&\"_\"&P14852&\"_\"&L14852","v":"550_92.2_5_202324"},202324,550,"CT1",92.2,5,0]
[{"$nulls":10},"536_92.2_7_202324",202324,536,"CT1",92.2,7,0]
[{"$nulls":10},"552_92.2_8_202324",202324,552,"CT1",92.2,8,0]
[{"$nulls":10},"522_92.2_11_202324",202324,522,"CT1",92.2,11,0]
[{"$nulls":10},"542_92.2_11_202324",202324,542,"CT1",92.2,11,0]
[{"$nulls":10},"524_93_3_202324",202324,524,"CT1",93,3,150]
[{"$nulls":10},"520_93_4_202324",202324,520,"CT1",93,4,37]
[{"$nulls":10},"518_93_6_202324",202324,518,"CT1",93,6,48]
[{"$nulls":10},"518_93_7_202324",202324,518,"CT1",93,7,32]
[{"$nulls":10},"518_93_8_202324",202324,518,"CT1",93,8,18]
[{"$nulls":10},"520_93_10_202324",202324,520,"CT1",93,10,2]
[{"$nulls":10},"546_93_11_202324",202324,546,"CT1",93,11,0]
[{"$nulls":10},"545_94_3_202324",202324,545,"CT1",94,3,149]
[{"$nulls":10},"514_94_4_202324",202324,514,"CT1",94,4,292]
[{"$nulls":10},"545_94_5_202324",202324,545,"CT1",94,5,14]
[{"$nulls":10},"516_94_7_202324",202324,516,"CT1",94,7,37]
[{"$nulls":10},"532_94_9_202324",202324,532,"CT1",94,9,13]
[{"$nulls":10},"522_94_11_202324",202324,522,"CT1",94,11,303]
[{"$nulls":10},"530_95_2_202324",202324,530,"CT1",95,2,324]
[{"$nulls":10},"530_95_3_202324",202324,530,"CT1",95,3,132]
[{"$nulls":10},"532_95_5_202324",202324,532,"CT1",95,5,272]
[{"$nulls":10},"516_95_7_202324",202324,516,"CT1",95,7,151]
[{"$nulls":10},"528_95_7_202324",202324,528,"CT1",95,7,439]
[{"$nulls":10},"526_95_9_202324",202324,526,"CT1",95,9,6]
[{"$nulls":10},"514_95_11_202324",202324,514,"CT1",95,11,4758]
[{"$nulls":10},"528_97_2_202324",202324,528,"CT1",97,2,0]
[{"$nulls":10},"544_97_4_202324",202324,544,"CT1",97,4,0]
[{"$nulls":10},"512_97_5_202324",202324,512,"CT1",97,5,0]
[{"$nulls":10},"542_97_7_202324",202324,542,"CT1",97,7,0]
[{"$nulls":10},"542_97_8_202324",202324,542,"CT1",97,8,0]
[{"$nulls":10},"532_97_10_202324",202324,532,"CT1",97,10,0]
[{"$nulls":10},"536_97_11_202324",202324,536,"CT1",97,11,0]
[{"$nulls":10},"540_97_12_202324",202324,540,"CT1",97,12,25]
[{"$nulls":10},"538_98_3_202324",202324,538,"CT1",98,3,0]
[{"$nulls":10},"526_98_5_202324",202324,526,"CT1",98,5,0]
[{"$nulls":10},"516_98_7_202324",202324,516,"CT1",98,7,0.5]
[{"$nulls":10},"532_98_7_202324",202324,532,"CT1",98,7,0]
[{"$nulls":10},"524_98_9_202324",202324,524,"CT1",98,9,0]
[{"$nulls":10},"534_98_10_202324",202324,534,"CT1",98,10,0]
[{"$nulls":10},"552_98_12_202324",202324,552,"CT1",98,12,50]
[{"$nulls":10},"522_100_2_202324",202324,522,"CT1",100,2,0]
[{"$nulls":10},"546_100_4_202324",202324,546,"CT1",100,4,0]
[{"$nulls":10},"550_100_5_202324",202324,550,"CT1",100,5,0]
[{"$nulls":10},"548_100_7_202324",202324,548,"CT1",100,7,0]
[{"$nulls":10},"516_100_8_202324",202324,516,"CT1",100,8,0]
[{"$nulls":10},"548_100_9_202324",202324,548,"CT1",100,9,0]
[{"$nulls":10},"544_100_11_202324",202324,544,"CT1",100,11,0]
[{"$nulls":10},"536_101_2_202324",202324,536,"CT1",101,2,0]
[{"$nulls":10},"526_101_4_202324",202324,526,"CT1",101,4,0]
[{"$nulls":10},"538_101_4_202324",202324,538,"CT1",101,4,0]
[{"$nulls":10},"534_101_6_202324",202324,534,"CT1",101,6,0]
[{"$nulls":10},"540_101_7_202324",202324,540,"CT1",101,7,0]
[{"$nulls":10},"520_101_10_202324",202324,520,"CT1",101,10,0]
[{"$nulls":10},{"$f":"M16580&\"_\"&O16580&\"_\"&P16580&\"_\"&L16580","v":"532_101_10_202324"},202324,532,"CT1",101,10,0]
[{"$nulls":10},"552_101_12_202324",202324,552,"CT1",101,12,0]
[{"$nulls":10},"518_101.1_3_202324",202324,518,"CT1",101.1,3,0]
[{"$nulls":10},"512_101.1_5_202324",202324,512,"CT1",101.1,5,0]
[{"$nulls":10},"526_101.1_5_202324",202324,526,"CT1",101.1,5,0]
[{"$nulls":10},"516_101.1_7_202324",202324,516,"CT1",101.1,7,0]
[{"$nulls":10},"548_101.1_8_202324",202324,548,"CT1",101.1,8,0]
[{"$nulls":10},"545_101.1_10_202324",202324,545,"CT1",101.1,10,0]
[{"$nulls":10},"550_101.1_11_202324",202324,550,"CT1",101.1,11,0]
[{"$nulls":10},"552_101.1_12_202324",202324,552,"CT1",101.1,12,0]
[{"$nulls":10},"544_101.2_3_202324",202324,544,"CT1",101.2,3,0]
[{"$nulls":10},"545_101.2_4_202324",202324,545,"CT1",101.2,4,0]
[{"$nulls":10},"530_101.2_7_202324",202324,530,"CT1",101.2,7,0]
[{"$nulls":10},"546_101.2_7_202324",202324,546,"CT1",101.2,7,0]
[{"$nulls":10},"538_101.2_9_202324",202324,538,"CT1",101.2,9,0]
[{"$nulls":10},"528_101.2_11_202324",202324,528,"CT1",101.2,11,0]
[{"$nulls":10},"518_102_2_202324",202324,518,"CT1",102,2,0]
[{"$nulls":10},"536_102_2_202324",202324,536,"CT1",102,2,0]
[{"$nulls":10},"526_102_4_202324",202324,526,"CT1",102,4,0]
[{"$nulls":10},"512_102_6_202324",202324,512,"CT1",102,6,0]
[{"$nulls":10},"512_102_8_202324",202324,512,"CT1",102,8,0]
[{"$nulls":10},"514_102_9_202324",202324,514,"CT1",102,9,0]
[{"$nulls":10},"520_102_10_202324",202324,520,"CT1",102,10,0]
[{"$nulls":10},"552_102_11_202324",202324,552,"CT1",102,11,0]
[{"$nulls":10},"550_104_2_202324",202324,550,"CT1",104,2,0]
[{"$nulls":10},"540_104_5_202324",202324,540,"CT1",104,5,0]
[{"$nulls":10},"552_104_5_202324",202324,552,"CT1",104,5,0]
[{"$nulls":10},"546_104_7_202324",202324,546,"CT1",104,7,0]
[{"$nulls":10},"538_104_9_202324",202324,538,"CT1",104,9,0]
[{"$nulls":10},"524_104_11_202324",202324,524,"CT1",104,11,0]
[{"$nulls":10},"545_104_11_202324",202324,545,"CT1",104,11,0]
[{"$nulls":10},"526_105_3_202324",202324,526,"CT1",105,3,0]
[{"$nulls":10},"524_105_4_202324",202324,524,"CT1",105,4,0]
[{"$nulls":10},"522_105_6_202324",202324,522,"CT1",105,6,12.5]
[{"$nulls":10},"520_105_7_202324",202324,520,"CT1",105,7,0]
[{"$nulls":10},"530_105_8_202324",202324,530,"CT1",105,8,0]
[{"$nulls":10},"522_105_10_202324",202324,522,"CT1",105,10,0.5]
[{"$nulls":10},"550_105_11_202324",202324,550,"CT1",105,11,0]
[{"$nulls":10},"548_107_2_202324",202324,548,"CT1",107,2,0]
[{"$nulls":10},"536_107_4_202324",202324,536,"CT1",107,4,0]
[{"$nulls":10},"514_107_5_202324",202324,514,"CT1",107,5,186]
[{"$nulls":10},"546_107_6_202324",202324,546,"CT1",107,6,0]
[{"$nulls":10},"530_107_8_202324",202324,530,"CT1",107,8,0]
[{"$nulls":10},"534_107_10_202324",202324,534,"CT1",107,10,0]
[{"$nulls":10},"532_107_11_202324",202324,532,"CT1",107,11,1040]
[{"$nulls":10},"534_107_12_202324",202324,534,"CT1",107,12,100]
[{"$nulls":10},"532_108_3_202324",202324,532,"CT1",108,3,0]
[{"$nulls":10},"526_108_4_202324",202324,526,"CT1",108,4,0]
[{"$nulls":10},"540_108_5_202324",202324,540,"CT1",108,5,0]
[{"$nulls":10},"528_108_7_202324",202324,528,"CT1",108,7,0]
[{"$nulls":10},"518_108_9_202324",202324,518,"CT1",108,9,0]
[{"$nulls":10},"516_108_11_202324",202324,516,"CT1",108,11,0]
[{"$nulls":10},"542_108_12_202324",202324,542,"CT1",108,12,0]
[{"$nulls":10},"516_108.1_2_202324",202324,516,"CT1",108.1,2,0]
[{"$nulls":10},"544_108.1_4_202324",202324,544,"CT1",108.1,4,0]
[{"$nulls":10},"545_108.1_5_202324",202324,545,"CT1",108.1,5,0]
[{"$nulls":10},"544_108.1_7_202324",202324,544,"CT1",108.1,7,0]
[{"$nulls":10},"538_108.1_8_202324",202324,538,"CT1",108.1,8,0]
[{"$nulls":10},"544_108.1_9_202324",202324,544,"CT1",108.1,9,0]
[{"$nulls":10},"542_108.1_11_202324",202324,542,"CT1",108.1,11,0]
[{"$nulls":10},"532_108.1_12_202324",202324,532,"CT1",108.1,12,0]
[{"$nulls":10},"548_108.2_2_202324",202324,548,"CT1",108.2,2,0]
[{"$nulls":10},"534_108.2_4_202324",202324,534,"CT1",108.2,4,0]
[{"$nulls":10},"528_108.2_6_202324",202324,528,"CT1",108.2,6,0]
[{"$nulls":10},"526_108.2_8_202324",202324,526,"CT1",108.2,8,0]
[{"$nulls":10},"546_108.2_9_202324",202324,546,"CT1",108.2,9,0]
[{"$nulls":10},"526_108.2_10_202324",202324,526,"CT1",108.2,10,0]
[{"$nulls":10},"548_108.2_12_202324",202324,548,"CT1",108.2,12,0]
[{"$nulls":10},"512_109_3_202324",202324,512,"CT1",109,3,61]
[{"$nulls":10},"552_109_4_202324",202324,552,"CT1",109,4,87.5]
[{"$nulls":10},"544_109_5_202324",202324,544,"CT1",109,5,0]
[{"$nulls":10},"552_109_6_202324",202324,552,"CT1",109,6,69]
[{"$nulls":10},"545_109_8_202324",202324,545,"CT1",109,8,0]
[{"$nulls":10},"540_109_10_202324",202324,540,"CT1",109,10,0]
[{"$nulls":10},"516_109_11_202324",202324,516,"CT1",109,11,241]
[{"$nulls":10},"540_111_2_202324",202324,540,"CT1",111,2,0]
[{"$nulls":10},"538_111_4_202324",202324,538,"CT1",111,4,0]
[{"$nulls":10},"542_111_5_202324",202324,542,"CT1",111,5,0]
[{"$nulls":10},"524_111_8_202324",202324,524,"CT1",111,8,0]
[{"$nulls":10},"536_111_8_202324",202324,536,"CT1",111,8,0]
[{"$nulls":10},"512_111_11_202324",202324,512,"CT1",111,11,0]
[{"$nulls":10},"522_111_12_202324",202324,522,"CT1",111,12,25]
[{"$nulls":10},"520_112_3_202324",202324,520,"CT1",112,3,0]
[{"$nulls":10},"548_112_3_202324",202324,548,"CT1",112,3,0]
[{"$nulls":10},"520_112_5_202324",202324,520,"CT1",112,5,1]
[{"$nulls":10},"550_112_6_202324",202324,550,"CT1",112,6,0]
[{"$nulls":10},"548_112_8_202324",202324,548,"CT1",112,8,0]
[{"$nulls":10},"540_112_10_202324",202324,540,"CT1",112,10,0]
[{"$nulls":10},"545_112_10_202324",202324,545,"CT1",112,10,0]
[{"$nulls":10},"546_112_12_202324",202324,546,"CT1",112,12,50]
[{"$nulls":10},"546_114_2_202324",202324,546,"CT1",114,2,0]
[{"$nulls":10},"534_114_5_202324",202324,534,"CT1",114,5,0]
[{"$nulls":10},"545_114_5_202324",202324,545,"CT1",114,5,0]
[{"$nulls":10},"518_114_8_202324",202324,518,"CT1",114,8,0]
[{"$nulls":10},"532_114_9_202324",202324,532,"CT1",114,9,0]
[{"$nulls":10},"520_114_11_202324",202324,520,"CT1",114,11,0]
[{"$nulls":10},"540_114_11_202324",202324,540,"CT1",114,11,0]
[{"$nulls":10},"530_115_2_202324",202324,530,"CT1",115,2,0]
[{"$nulls":10},"514_115_4_202324",202324,514,"CT1",115,4,0]
[{"$nulls":10},"516_115_6_202324",202324,516,"CT1",115,6,0]
[{"$nulls":10},"548_115_7_202324",202324,548,"CT1",115,7,0]
[{"$nulls":10},"528_115_9_202324",202324,528,"CT1",115,9,0]
[{"$nulls":10},"514_115_10_202324",202324,514,"CT1",115,10,0]
[{"$nulls":10},"530_115_12_202324",202324,530,"CT1",115,12,0]
[{"$nulls":10},"544_115.1_2_202324",202324,544,"CT1",115.1,2,0]
[{"$nulls":10},"512_115.1_3_202324",202324,512,"CT1",115.1,3,0]
[{"$nulls":10},"524_115.1_5_202324",202324,524,"CT1",115.1,5,0]
[{"$nulls":10},"542_115.1_6_202324",202324,542,"CT1",115.1,6,0]
[{"$nulls":10},"526_115.1_8_202324",202324,526,"CT1",115.1,8,0]
[{"$nulls":10},"548_115.1_8_202324",202324,548,"CT1",115.1,8,0]
[{"$nulls":10},"540_115.1_10_202324",202324,540,"CT1",115.1,10,0]
[{"$nulls":10},"520_115.1_12_202324",202324,520,"CT1",115.1,12,0]
[{"$nulls":10},"526_115.2_3_202324",202324,526,"CT1",115.2,3,0]
[{"$nulls":10},"522_115.2_4_202324",202324,522,"CT1",115.2,4,0]
[{"$nulls":10},"534_115.2_5_202324",202324,534,"CT1",115.2,5,0]
[{"$nulls":10},"524_115.2_7_202324",202324,524,"CT1",115.2,7,0]
[{"$nulls":10},"536_115.2_9_202324",202324,536,"CT1",115.2,9,0]
[{"$nulls":10},"552_115.2_10_202324",202324,552,"CT1",115.2,10,0]
[{"$nulls":10},"538_115.2_12_202324",202324,538,"CT1",115.2,12,0]
[{"$nulls":10},"518_116_2_202324",202324,518,"CT1",116,2,0.5]
[{"$nulls":10},"550_116_3_202324",202324,550,"CT1",116,3,0]
[{"$nulls":10},"532_116_5_202324",202324,532,"CT1",116,5,0]
[{"$nulls":10},"538_116_7_202324",202324,538,"CT1",116,7,0]
[{"$nulls":10},"548_116_7_202324",202324,548,"CT1",116,7,0]
[{"$nulls":10},"526_116_9_202324",202324,526,"CT1",116,9,0]
[{"$nulls":10},"536_116_11_202324",202324,536,"CT1",116,11,1]
[{"$nulls":10},"528_118_2_202324",202324,528,"CT1",118,2,0]
[{"$nulls":10},"544_118_3_202324",202324,544,"CT1",118,3,0]
[{"$nulls":10},"534_118_5_202324",202324,534,"CT1",118,5,0]
[{"$nulls":10},"542_118_7_202324",202324,542,"CT1",118,7,0]
[{"$nulls":10},"520_118_9_202324",202324,520,"CT1",118,9,0]
[{"$nulls":10},"544_118_10_202324",202324,544,"CT1",118,10,0]
[{"$nulls":10},"528_118_11_202324",202324,528,"CT1",118,11,0]
[{"$nulls":10},"518_119_2_202324",202324,518,"CT1",119,2,26.5]
[{"$nulls":10},"538_119_3_202324",202324,538,"CT1",119,3,0]
[{"$nulls":10},"546_119_5_202324",202324,546,"CT1",119,5,0]
[{"$nulls":10},"540_119_6_202324",202324,540,"CT1",119,6,0]
[{"$nulls":10},"512_119_8_202324",202324,512,"CT1",119,8,0]
[{"$nulls":10},"545_119_9_202324",202324,545,"CT1",119,9,0]
[{"$nulls":10},"534_119_10_202324",202324,534,"CT1",119,10,0]
[{"$nulls":10},"552_119_11_202324",202324,552,"CT1",119,11,0]
[{"$nulls":10},"536_121_2_202324",202324,536,"CT1",121,2,0]
[{"$nulls":10},"532_121_4_202324",202324,532,"CT1",121,4,238]
[{"$nulls":10},"530_121_6_202324",202324,530,"CT1",121,6,0]
[{"$nulls":10},"548_121_7_202324",202324,548,"CT1",121,7,0]
[{"$nulls":10},"538_121_8_202324",202324,538,"CT1",121,8,0]
[{"$nulls":10},"528_121_10_202324",202324,528,"CT1",121,10,13]
[{"$nulls":10},"544_121_11_202324",202324,544,"CT1",121,11,0]
[{"$nulls":10},"514_122_3_202324",202324,514,"CT1",122,3,0]
[{"$nulls":10},"545_122_3_202324",202324,545,"CT1",122,3,0]
[{"$nulls":10},"522_122_5_202324",202324,522,"CT1",122,5,0]
[{"$nulls":10},"512_122_7_202324",202324,512,"CT1",122,7,0]
[{"$nulls":10},"540_122_7_202324",202324,540,"CT1",122,7,0]
[{"$nulls":10},"520_122_9_202324",202324,520,"CT1",122,9,0]
[{"$nulls":10},"542_122_10_202324",202324,542,"CT1",122,10,0]
[{"$nulls":10},"542_122_12_202324",202324,542,"CT1",122,12,0]
[{"$nulls":10},"540_122.1_3_202324",202324,540,"CT1",122.1,3,0]
[{"$nulls":10},"512_122.1_5_202324",202324,512,"CT1",122.1,5,396.75]
[{"$nulls":10},"546_122.1_5_202324",202324,546,"CT1",122.1,5,0]
[{"$nulls":10},"514_122.1_8_202324",202324,514,"CT1",122.1,8,0]
[{"$nulls":10},"526_122.1_9_202324",202324,526,"CT1",122.1,9,0]
[{"$nulls":10},"524_122.1_11_202324",202324,524,"CT1",122.1,11,876]
[{"$nulls":10},"550_122.1_11_202324",202324,550,"CT1",122.1,11,0]
[{"$nulls":10},"524_122.2_2_202324",202324,524,"CT1",122.2,2,0]
[{"$nulls":10},"522_122.2_4_202324",202324,522,"CT1",122.2,4,0]
[{"$nulls":10},"522_122.2_6_202324",202324,522,"CT1",122.2,6,0]
[{"$nulls":10},"530_122.2_6_202324",202324,530,"CT1",122.2,6,0]
[{"$nulls":10},"524_122.2_9_202324",202324,524,"CT1",122.2,9,0]
[{"$nulls":10},"550_122.2_9_202324",202324,550,"CT1",122.2,9,0]
[{"$nulls":10},"548_122.2_11_202324",202324,548,"CT1",122.2,11,0]
[{"$nulls":10},"518_123_2_202324",202324,518,"CT1",123,2,26.5]
[{"$nulls":10},"514_123_3_202324",202324,514,"CT1",123,3,984]
[{"$nulls":10},"520_123_5_202324",202324,520,"CT1",123,5,32]
[{"$nulls":10},"536_123_6_202324",202324,536,"CT1",123,6,0]
[{"$nulls":10},"534_123_8_202324",202324,534,"CT1",123,8,0]
[{"$nulls":10},"514_123_9_202324",202324,514,"CT1",123,9,61.5]
[{"$nulls":10},"534_123_10_202324",202324,534,"CT1",123,10,0]
[{"$nulls":10},"516_1_2_202425",202425,516,"CT1",1,2,5089]
[{"$nulls":10},{"$f":"M22404&\"_\"&O22404&\"_\"&P22404&\"_\"&L22404","v":"520_1_4_202425"},202425,520,"CT1",1,4,20292]
[{"$nulls":10},"540_1_4_202425",202425,540,"CT1",1,4,16545]
[{"$nulls":10},"530_1_7_202425",202425,530,"CT1",1,7,6545]
[{"$nulls":10},"518_1_8_202425",202425,518,"CT1",1,8,2015]
[{"$nulls":10},"532_1_10_202425",202425,532,"CT1",1,10,520]
[{"$nulls":10},"546_1_11_202425",202425,546,"CT1",1,11,42386]
[{"$nulls":10},"524_2_2_202425",202425,524,"CT1",2,2,16]
[{"$nulls":10},"526_2_4_202425",202425,526,"CT1",2,4,67]
[{"$nulls":10},"545_2_5_202425",202425,545,"CT1",2,5,24]
[{"$nulls":10},"544_2_7_202425",202425,544,"CT1",2,7,38]
[{"$nulls":10},"520_2_8_202425",202425,520,"CT1",2,8,48]
[{"$nulls":10},"544_2_9_202425",202425,544,"CT1",2,9,4]
[{"$nulls":10},"522_2_11_202425",202425,522,"CT1",2,11,412]
[{"$nulls":10},"530_3_2_202425",202425,530,"CT1",3,2,8909]
[{"$nulls":10},"528_3_4_202425",202425,528,"CT1",3,4,13971]
[{"$nulls":10},"536_3_5_202425",202425,536,"CT1",3,5,10930]
[{"$nulls":10},"528_3_6_202425",202425,528,"CT1",3,6,12010]
[{"$nulls":10},"538_3_8_202425",202425,538,"CT1",3,8,5755]
[{"$nulls":10},"514_3_10_202425",202425,514,"CT1",3,10,60]
[{"$nulls":10},"526_3_10_202425",202425,526,"CT1",3,10,19]
[{"$nulls":10},"532_4_1_202425",202425,532,"CT1",4,1,19]
[{"$nulls":10},"512_4_3_202425",202425,512,"CT1",4,3,3533]
[{"$nulls":10},"534_4_4_202425",202425,534,"CT1",4,4,7471]
[{"$nulls":10},"542_4_6_202425",202425,542,"CT1",4,6,1263]
[{"$nulls":10},"552_4_6_202425",202425,552,"CT1",4,6,18129]
[{"$nulls":10},"528_4_8_202425",202425,528,"CT1",4,8,1458]
[{"$nulls":10},"540_4_10_202425",202425,540,"CT1",4,10,24]
[{"$nulls":10},"538_4.1_1_202425",202425,538,"CT1",4.1,1,0]
[{"$nulls":10},"542_4.1_2_202425",202425,542,"CT1",4.1,2,6412]
[{"$nulls":10},"538_4.1_3_202425",202425,538,"CT1",4.1,3,3571]
[{"$nulls":10},"544_4.1_5_202425",202425,544,"CT1",4.1,5,2616]
[{"$nulls":10},"524_4.1_7_202425",202425,524,"CT1",4.1,7,2072]
[{"$nulls":10},"514_4.1_9_202425",202425,514,"CT1",4.1,9,35]
[{"$nulls":10},"538_4.1_9_202425",202425,538,"CT1",4.1,9,357]
[{"$nulls":10},"522_4.1_11_202425",202425,522,"CT1",4.1,11,22607]
[{"$nulls":10},"540_4.2_1_202425",202425,540,"CT1",4.2,1,0]
[{"$nulls":10},"550_4.2_3_202425",202425,550,"CT1",4.2,3,16]
[{"$nulls":10},"520_4.2_4_202425",202425,520,"CT1",4.2,4,15]
[{"$nulls":10},"534_4.2_5_202425",202425,534,"CT1",4.2,5,15]
[{"$nulls":10},"548_4.2_7_202425",202425,548,"CT1",4.2,7,4]
[{"$nulls":10},"536_4.2_8_202425",202425,536,"CT1",4.2,8,3]
[{"$nulls":10},"514_4.2_10_202425",202425,514,"CT1",4.2,10,1]
[{"$nulls":10},"546_4.2_11_202425",202425,546,"CT1",4.2,11,73]
[{"$nulls":10},"548_7_2_202425",202425,548,"CT1",7,2,0]
[{"$nulls":10},"534_7_4_202425",202425,534,"CT1",7,4,0]
[{"$nulls":10},"550_7_5_202425",202425,550,"CT1",7,5,0]
[{"$nulls":10},"542_7_6_202425",202425,542,"CT1",7,6,0]
[{"$nulls":10},"532_7_8_202425",202425,532,"CT1",7,8,0]
[{"$nulls":10},"545_7_9_202425",202425,545,"CT1",7,9,0]
[{"$nulls":10},"518_7.1_2_202425",202425,518,"CT1",7.1,2,1]
[{"$nulls":10},"530_7.1_2_202425",202425,530,"CT1",7.1,2,0]
[{"$nulls":10},"516_7.1_5_202425",202425,516,"CT1",7.1,5,7]
[{"$nulls":10},"516_7.1_6_202425",202425,516,"CT1",7.1,6,7]
[{"$nulls":10},"518_7.1_8_202425",202425,518,"CT1",7.1,8,0]
[{"$nulls":10},"524_7.1_8_202425",202425,524,"CT1",7.1,8,0]
[{"$nulls":10},"514_7.1_10_202425",202425,514,"CT1",7.1,10,0]
[{"$nulls":10},"512_7.2_2_202425",202425,512,"CT1",7.2,2,214]
[{"$nulls":10},"544_7.2_3_202425",202425,544,"CT1",7.2,3,0]
[{"$nulls":10},"514_7.2_5_202425",202425,514,"CT1",7.2,5,879]
[{"$nulls":10},"550_7.2_5_202425",202425,550,"CT1",7.2,5,0]
[{"$nulls":10},"542_7.2_7_202425",202425,542,"CT1",7.2,7,5]
[{"$nulls":10},"550_7.2_8_202425",202425,550,"CT1",7.2,8,0]
[{"$nulls":10},"528_7.2_11_202425",202425,528,"CT1",7.2,11,3857]
[{"$nulls":10},"552_7.2_11_202425",202425,552,"CT1",7.2,11,1469]
[{"$nulls":10},"536_8_2_202425",202425,536,"CT1",8,2,10282]
[{"$nulls":10},"526_8_4_202425",202425,526,"CT1",8,4,7276]
[{"$nulls":10},"524_8_6_202425",202425,524,"CT1",8,6,12166]
[{"$nulls":10},"534_8_6_202425",202425,534,"CT1",8,6,4358]
[{"$nulls":10},"526_8_9_202425",202425,526,"CT1",8,9,88]
[{"$nulls":10},"520_8_10_202425",202425,520,"CT1",8,10,203]
[{"$nulls":10},"552_8_11_202425",202425,552,"CT1",8,11,150350]
[{"$nulls":10},"520_9_2_202425",202425,520,"CT1",9,2,0]
[{"$nulls":10},"518_9_3_202425",202425,518,"CT1",9,3,0]
[{"$nulls":10},"550_9_4_202425",202425,550,"CT1",9,4,0]
[{"$nulls":10},"514_9_6_202425",202425,514,"CT1",9,6,0]
[{"$nulls":10},"538_9_8_202425",202425,538,"CT1",9,8,0]
[{"$nulls":10},"516_9_9_202425",202425,516,"CT1",9,9,0]
[{"$nulls":10},"545_9_10_202425",202425,545,"CT1",9,10,0]
[{"$nulls":10},"536_9.1_2_202425",202425,536,"CT1",9.1,2,0.5]
[{"$nulls":10},"530_9.1_4_202425",202425,530,"CT1",9.1,4,0]
[{"$nulls":10},"544_9.1_4_202425",202425,544,"CT1",9.1,4,0]
[{"$nulls":10},"532_9.1_7_202425",202425,532,"CT1",9.1,7,0]
[{"$nulls":10},"530_9.1_8_202425",202425,530,"CT1",9.1,8,0]
[{"$nulls":10},"520_9.1_10_202425",202425,520,"CT1",9.1,10,0]
[{"$nulls":10},"526_9.1_11_202425",202425,526,"CT1",9.1,11,0]
[{"$nulls":10},"528_9.2_2_202425",202425,528,"CT1",9.2,2,763]
[{"$nulls":10},"528_9.2_4_202425",202425,528,"CT1",9.2,4,1313]
[{"$nulls":10},"548_9.2_5_202425",202425,548,"CT1",9.2,5,78]
[{"$nulls":10},"546_9.2_7_202425",202425,546,"CT1",9.2,7,0]
[{"$nulls":10},"522_9.2_8_202425",202425,522,"CT1",9.2,8,4]
[{"$nulls":10},"512_9.2_10_202425",202425,512,"CT1",9.2,10,11]
[{"$nulls":10},"545_9.2_11_202425",202425,545,"CT1",9.2,11,0]
[{"$nulls":10},"536_11_2_202425",202425,536,"CT1",11,2,9186.75]
[{"$nulls":10},"532_11_4_202425",202425,532,"CT1",11,4,21814.5]
[{"$nulls":10},"538_11_5_202425",202425,538,"CT1",11,5,10571]
[{"$nulls":10},"540_11_6_202425",202425,540,"CT1",11,6,6573.5]
[{"$nulls":10},"530_11_8_202425",202425,530,"CT1",11,8,2082.95]
[{"$nulls":10},"532_11_9_202425",202425,532,"CT1",11,9,1151.25]
[{"$nulls":10},"538_11_10_202425",202425,538,"CT1",11,10,1010.5]
[{"$nulls":10},"534_13_2_202425",202425,534,"CT1",13,2,7501.333333333333]
[{"$nulls":10},"516_13_4_202425",202425,516,"CT1",13,4,12394]
[{"$nulls":10},"514_13_6_202425",202425,514,"CT1",13,6,10076.117333333334]
[{"$nulls":10},"528_13_6_202425",202425,528,"CT1",13,6,15807.916666666668]
[{"$nulls":10},"522_13_8_202425",202425,522,"CT1",13,8,3996.666666666667]
[{"$nulls":10},"530_13_9_202425",202425,530,"CT1",13,9,544.4]
[{"$nulls":10},"544_13_11_202425",202425,544,"CT1",13,11,62864.26777777777]
[{"$nulls":10},"542_13.3_2_202425",202425,542,"CT1",13.3,2,12026.5]
[{"$nulls":10},"544_13.3_3_202425",202425,544,"CT1",13.3,3,23488]
[{"$nulls":10},"542_13.3_4_202425",202425,542,"CT1",13.3,4,2052.75]
[{"$nulls":10},"545_13.3_6_202425",202425,545,"CT1",13.3,6,811]
[{"$nulls":10},"528_13.3_8_202425",202425,528,"CT1",13.3,8,1919]
[{"$nulls":10},"546_13.3_8_202425",202425,546,"CT1",13.3,8,632]
[{"$nulls":10},"540_13.3_10_202425",202425,540,"CT1",13.3,10,33.75]
[{"$nulls":10},"526_13.4_2_202425",202425,526,"CT1",13.4,2,942]
[{"$nulls":10},"524_13.4_4_202425",202425,524,"CT1",13.4,4,10184.22]
[{"$nulls":10},"552_13.4_5_202425",202425,552,"CT1",13.4,5,31111]
[{"$nulls":10},"532_13.4_6_202425",202425,532,"CT1",13.4,6,13841.36]
[{"$nulls":10},"512_13.4_9_202425",202425,512,"CT1",13.4,9,293.5]
[{"$nulls":10},"552_13.4_9_202425",202425,552,"CT1",13.4,9,5186.5]
[{"$nulls":10},"550_13.4_11_202425",202425,550,"CT1",13.4,11,62580.600000000006]
[{"$nulls":10},"548_14_2_202425",202425,548,"CT1",14,2,22]
[{"$nulls":10},"550_14_3_202425",202425,550,"CT1",14,3,566]
[{"$nulls":10},"550_14_5_202425",202425,550,"CT1",14,5,363]
[{"$nulls":10},"538_14_7_202425",202425,538,"CT1",14,7,144]
[{"$nulls":10},"514_14_8_202425",202425,514,"CT1",14,8,37]
[{"$nulls":10},"545_14_9_202425",202425,545,"CT1",14,9,0]
[{"$nulls":10},"536_14_11_202425",202425,536,"CT1",14,11,1414]
[{"$nulls":10},"546_15_2_202425",202425,546,"CT1",15,2,0]
[{"$nulls":10},"522_15_5_202425",202425,522,"CT1",15,5,0]
[{"$nulls":10},"542_15_5_202425",202425,542,"CT1",15,5,0]
[{"$nulls":10},"518_15_8_202425",202425,518,"CT1",15,8,0]
[{"$nulls":10},"520_15_9_202425",202425,520,"CT1",15,9,0]
[{"$nulls":10},"518_15_11_202425",202425,518,"CT1",15,11,0]
[{"$nulls":10},"512_22_11_202425",202425,512,"CT1",22,11,33544.055555555555]
[{"$nulls":10},"518_23_11_202425",202425,518,"CT1",23,11,98.8]
[{"$nulls":10},"514_25_11_202425",202425,514,"CT1",25,11,0.89]
[{"$nulls":10},"546_26_11_202425",202425,546,"CT1",26,11,34457.26277777778]
[{"$nulls":10},"524_26.2_11_202425",202425,524,"CT1",26.2,11,63641.8]
[{"$nulls":10},"550_27_11_202425",202425,550,"CT1",27,11,62580.600000000006]
[{"$nulls":10},"545_29_11_202425",202425,545,"CT1",29,11,1]
[{"$nulls":10},"552_30_11_202425",202425,552,"CT1",30,11,1907]
[{"$nulls":10},"532_33_11_202425",202425,532,"CT1",33,11,720]
[{"$nulls":10},"544_33_11_202425",202425,544,"CT1",33,11,574]
[{"$nulls":10},"524_36_11_202425",202425,524,"CT1",36,11,15]
[{"$nulls":10},"530_37_11_202425",202425,530,"CT1",37,11,6]
[{"$nulls":10},"526_39_11_202425",202425,526,"CT1",39,11,1]
[{"$nulls":10},"538_39_11_202425",202425,538,"CT1",39,11,5]
[{"$nulls":10},"528_41_11_202425",202425,528,"CT1",41,11,69]
[{"$nulls":10},"520_43_11_202425",202425,520,"CT1",43,11,0]
[{"$nulls":10},"514_45_11_202425",202425,514,"CT1",45,11,0]
[{"$nulls":10},"522_46_11_202425",202425,522,"CT1",46,11,23]
[{"$nulls":10},"522_47_11_202425",202425,522,"CT1",47,11,19]
[{"$nulls":10},"512_50_11_202425",202425,512,"CT1",50,11,0]
[{"$nulls":10},"516_51_11_202425",202425,516,"CT1",51,11,20]
[{"$nulls":10},"542_51.5_11_202425",202425,542,"CT1",51.5,11,821]
[{"$nulls":10},"552_51.5_11_202425",202425,552,"CT1",51.5,11,15999]
[{"$nulls":10},"530_52_3_202425",202425,530,"CT1",52,3,0]
[{"$nulls":10},"540_52_4_202425",202425,540,"CT1",52,4,0]
[{"$nulls":10},"532_52_6_202425",202425,532,"CT1",52,6,0]
[{"$nulls":10},"546_52_6_202425",202425,546,"CT1",52,6,0]
[{"$nulls":10},"538_52_8_202425",202425,538,"CT1",52,8,0]
[{"$nulls":10},"526_52_10_202425",202425,526,"CT1",52,10,0]
[{"$nulls":10},"524_52_12_202425",202425,524,"CT1",52,12,0]
[{"$nulls":10},"528_53_1_202425",202425,528,"CT1",53,1,0]
[{"$nulls":10},"532_53_2_202425",202425,532,"CT1",53,2,0]
[{"$nulls":10},"522_53_4_202425",202425,522,"CT1",53,4,0]
[{"$nulls":10},"522_53_5_202425",202425,522,"CT1",53,5,0]
[{"$nulls":10},"550_53_7_202425",202425,550,"CT1",53,7,0]
[{"$nulls":10},"524_53_8_202425",202425,524,"CT1",53,8,0]
[{"$nulls":10},"516_53_10_202425",202425,516,"CT1",53,10,0]
[{"$nulls":10},"548_53_11_202425",202425,548,"CT1",53,11,0]
[{"$nulls":10},"538_54_2_202425",202425,538,"CT1",54,2,0]
[{"$nulls":10},"536_54_4_202425",202425,536,"CT1",54,4,0]
[{"$nulls":10},"540_54_5_202425",202425,540,"CT1",54,5,0]
[{"$nulls":10},"544_54_6_202425",202425,544,"CT1",54,6,0]
[{"$nulls":10},"534_54_8_202425",202425,534,"CT1",54,8,0]
[{"$nulls":10},"534_54_9_202425",202425,534,"CT1",54,9,0]
[{"$nulls":10},"542_54_10_202425",202425,542,"CT1",54,10,0]
[{"$nulls":10},"532_54_12_202425",202425,532,"CT1",54,12,0]
[{"$nulls":10},"546_55_2_202425",202425,546,"CT1",55,2,0]
[{"$nulls":10},"518_55_4_202425",202425,518,"CT1",55,4,0]
[{"$nulls":10},"548_55_5_202425",202425,548,"CT1",55,5,0]
[{"$nulls":10},"526_55_6_202425",202425,526,"CT1",55,6,0]
[{"$nulls":10},"516_55_8_202425",202425,516,"CT1",55,8,0]
[{"$nulls":10},"544_55_9_202425",202425,544,"CT1",55,9,0]
[{"$nulls":10},"545_55_11_202425",202425,545,"CT1",55,11,0]
[{"$nulls":10},"545_56_1_202425",202425,545,"CT1",56,1,0]
[{"$nulls":10},"552_56_2_202425",202425,552,"CT1",56,2,0]
[{"$nulls":10},"544_56_4_202425",202425,544,"CT1",56,4,0]
[{"$nulls":10},"540_56_5_202425",202425,540,"CT1",56,5,0]
[{"$nulls":10},"550_56_6_202425",202425,550,"CT1",56,6,0]
[{"$nulls":10},"542_56_8_202425",202425,542,"CT1",56,8,0]
[{"$nulls":10},"538_56_10_202425",202425,538,"CT1",56,10,0]
[{"$nulls":10},"528_56_12_202425",202425,528,"CT1",56,12,0]
[{"$nulls":10},"512_57_2_202425",202425,512,"CT1",57,2,0]
[{"$nulls":10},"536_57_2_202425",202425,536,"CT1",57,2,0]
[{"$nulls":10},"526_57_4_202425",202425,526,"CT1",57,4,0]
[{"$nulls":10},"548_57_5_202425",202425,548,"CT1",57,5,0]
[{"$nulls":10},{"$f":"M28868&\"_\"&O28868&\"_\"&P28868&\"_\"&L28868","v":"512_57_8_202425"},202425,512,"CT1",57,8,0]
[{"$nulls":10},"550_57_8_202425",202425,550,"CT1",57,8,0]
[{"$nulls":10},"520_57_10_202425",202425,520,"CT1",57,10,0]
[{"$nulls":10},"552_57_11_202425",202425,552,"CT1",57,11,0]
[{"$nulls":10},"545_58_1_202425",202425,545,"CT1",58,1,0]
[{"$nulls":10},"518_58_3_202425",202425,518,"CT1",58,3,0]
[{"$nulls":10},"546_58_4_202425",202425,546,"CT1",58,4,0]
[{"$nulls":10},"546_58_6_202425",202425,546,"CT1",58,6,0]
[{"$nulls":10},"538_58_8_202425",202425,538,"CT1",58,8,0]
[{"$nulls":10},"518_58_10_202425",202425,518,"CT1",58,10,0]
[{"$nulls":10},"545_58_10_202425",202425,545,"CT1",58,10,0]
[{"$nulls":10},"520_59_1_202425",202425,520,"CT1",59,1,0]
[{"$nulls":10},"524_59_2_202425",202425,524,"CT1",59,2,0]
[{"$nulls":10},"522_59_4_202425",202425,522,"CT1",59,4,0]
[{"$nulls":10},"514_59_5_202425",202425,514,"CT1",59,5,0]
[{"$nulls":10},"530_59_6_202425",202425,530,"CT1",59,6,0]
[{"$nulls":10},"516_59_8_202425",202425,516,"CT1",59,8,0]
[{"$nulls":10},"550_59_9_202425",202425,550,"CT1",59,9,0]
[{"$nulls":10},"528_59_10_202425",202425,528,"CT1",59,10,0]
[{"$nulls":10},"552_59_11_202425",202425,552,"CT1",59,11,0]
[{"$nulls":10},"548_60_2_202425",202425,548,"CT1",60,2,0]
[{"$nulls":10},"546_60_4_202425",202425,546,"CT1",60,4,0]
[{"$nulls":10},"524_60_6_202425",202425,524,"CT1",60,6,0]
[{"$nulls":10},"512_60_7_202425",202425,512,"CT1",60,7,0]
[{"$nulls":10},"526_60_9_202425",202425,526,"CT1",60,9,0]
[{"$nulls":10},"534_60_10_202425",202425,534,"CT1",60,10,0]
[{"$nulls":10},"532_60_12_202425",202425,532,"CT1",60,12,0]
[{"$nulls":10},"520_61_1_202425",202425,520,"CT1",61,1,0]
[{"$nulls":10},"540_61_2_202425",202425,540,"CT1",61,2,0]
[{"$nulls":10},"522_61_4_202425",202425,522,"CT1",61,4,0]
[{"$nulls":10},"518_61_6_202425",202425,518,"CT1",61,6,0]
[{"$nulls":10},"538_61_6_202425",202425,538,"CT1",61,6,0]
[{"$nulls":10},"516_61_8_202425",202425,516,"CT1",61,8,0]
[{"$nulls":10},"516_61_10_202425",202425,516,"CT1",61,10,0]
[{"$nulls":10},"518_61_11_202425",202425,518,"CT1",61,11,0]
[{"$nulls":10},"545_62_2_202425",202425,545,"CT1",62,2,0]
[{"$nulls":10},"522_62_3_202425",202425,522,"CT1",62,3,0]
[{"$nulls":10},"532_62_5_202425",202425,532,"CT1",62,5,0]
[{"$nulls":10},"544_62_6_202425",202425,544,"CT1",62,6,0]
[{"$nulls":10},"534_62_8_202425",202425,534,"CT1",62,8,0]
[{"$nulls":10},"550_62_8_202425",202425,550,"CT1",62,8,0]
[{"$nulls":10},"548_62_10_202425",202425,548,"CT1",62,10,0]
[{"$nulls":10},"528_63_1_202425",202425,528,"CT1",63,1,0]
[{"$nulls":10},"528_63_3_202425",202425,528,"CT1",63,3,0]
[{"$nulls":10},"526_63_5_202425",202425,526,"CT1",63,5,0]
[{"$nulls":10},"542_63_6_202425",202425,542,"CT1",63,6,0]
[{"$nulls":10},"526_63_7_202425",202425,526,"CT1",63,7,0]
[{"$nulls":10},"544_63_9_202425",202425,544,"CT1",63,9,0]
[{"$nulls":10},"512_63_11_202425",202425,512,"CT1",63,11,0]
[{"$nulls":10},"532_63_11_202425",202425,532,"CT1",63,11,0]
[{"$nulls":10},"538_64_3_202425",202425,538,"CT1",64,3,34]
[{"$nulls":10},"552_64_4_202425",202425,552,"CT1",64,4,152]
[{"$nulls":10},"540_64_6_202425",202425,540,"CT1",64,6,11]
[{"$nulls":10},"540_64_8_202425",202425,540,"CT1",64,8,3]
[{"$nulls":10},"550_64_8_202425",202425,550,"CT1",64,8,35]
[{"$nulls":10},"534_64_10_202425",202425,534,"CT1",64,10,1]
[{"$nulls":10},"538_65_2_202425",202425,538,"CT1",65,2,40]
[{"$nulls":10},"536_65_3_202425",202425,536,"CT1",65,3,11]
[{"$nulls":10},"545_65_4_202425",202425,545,"CT1",65,4,0]
[{"$nulls":10},"536_65_6_202425",202425,536,"CT1",65,6,19]
[{"$nulls":10},"548_65_8_202425",202425,548,"CT1",65,8,0]
[{"$nulls":10},"522_65_10_202425",202425,522,"CT1",65,10,0]
[{"$nulls":10},"542_65_10_202425",202425,542,"CT1",65,10,0]
[{"$nulls":10},"544_67_2_202425",202425,544,"CT1",67,2,0]
[{"$nulls":10},"520_67_4_202425",202425,520,"CT1",67,4,0]
[{"$nulls":10},"545_67_5_202425",202425,545,"CT1",67,5,0]
[{"$nulls":10},"548_67_7_202425",202425,548,"CT1",67,7,0]
[{"$nulls":10},"518_67_8_202425",202425,518,"CT1",67,8,0]
[{"$nulls":10},"540_67_9_202425",202425,540,"CT1",67,9,0]
[{"$nulls":10},{"$f":"M31108&\"_\"&O31108&\"_\"&P31108&\"_\"&L31108","v":"546_67_11_202425"},202425,546,"CT1",67,11,0]
[{"$nulls":10},"542_67_12_202425",202425,542,"CT1",67,12,25]
[{"$nulls":10},"512_68_3_202425",202425,512,"CT1",68,3,0]
[{"$nulls":10},"545_68_4_202425",202425,545,"CT1",68,4,0]
[{"$nulls":10},"512_68_7_202425",202425,512,"CT1",68,7,0]
[{"$nulls":10},"532_68_8_202425",202425,532,"CT1",68,8,0]
[{"$nulls":10},"514_68_10_202425",202425,514,"CT1",68,10,0]
[{"$nulls":10},"540_68_10_202425",202425,540,"CT1",68,10,0]
[{"$nulls":10},"530_68_12_202425",202425,530,"CT1",68,12,50]
[{"$nulls":10},"550_70_2_202425",202425,550,"CT1",70,2,0]
[{"$nulls":10},"516_70_5_202425",202425,516,"CT1",70,5,0]
[{"$nulls":10},"552_70_5_202425",202425,552,"CT1",70,5,0]
[{"$nulls":10},{"$f":"M31492&\"_\"&O31492&\"_\"&P31492&\"_\"&L31492","v":"524_70_7_202425"},202425,524,"CT1",70,7,0]
[{"$nulls":10},"514_70_9_202425",202425,514,"CT1",70,9,0]
[{"$nulls":10},"546_70_9_202425",202425,546,"CT1",70,9,0]
[{"$nulls":10},"522_70_11_202425",202425,522,"CT1",70,11,0]
[{"$nulls":10},"512_71_2_202425",202425,512,"CT1",71,2,0]
[{"$nulls":10},"518_71_4_202425",202425,518,"CT1",71,4,0]
[{"$nulls":10},"542_71_5_202425",202425,542,"CT1",71,5,0]
[{"$nulls":10},"520_71_7_202425",202425,520,"CT1",71,7,0]
[{"$nulls":10},"548_71_7_202425",202425,548,"CT1",71,7,0]
[{"$nulls":10},"540_71_9_202425",202425,540,"CT1",71,9,0]
[{"$nulls":10},"514_71_11_202425",202425,514,"CT1",71,11,0]
[{"$nulls":10},"526_71.1_2_202425",202425,526,"CT1",71.1,2,0]
[{"$nulls":10},"516_71.1_3_202425",202425,516,"CT1",71.1,3,0]
[{"$nulls":10},"534_71.1_4_202425",202425,534,"CT1",71.1,4,0]
[{"$nulls":10},"524_71.1_6_202425",202425,524,"CT1",71.1,6,0]
[{"$nulls":10},"552_71.1_6_202425",202425,552,"CT1",71.1,6,0]
[{"$nulls":10},"532_71.1_8_202425",202425,532,"CT1",71.1,8,0]
[{"$nulls":10},"512_71.1_10_202425",202425,512,"CT1",71.1,10,0]
[{"$nulls":10},"518_71.1_12_202425",202425,518,"CT1",71.1,12,0]
[{"$nulls":10},"550_71.2_2_202425",202425,550,"CT1",71.2,2,0]
[{"$nulls":10},"526_71.2_4_202425",202425,526,"CT1",71.2,4,0]
[{"$nulls":10},"516_71.2_5_202425",202425,516,"CT1",71.2,5,0]
[{"$nulls":10},"548_71.2_6_202425",202425,548,"CT1",71.2,6,0]
[{"$nulls":10},"520_71.2_8_202425",202425,520,"CT1",71.2,8,0]
[{"$nulls":10},"536_71.2_10_202425",202425,536,"CT1",71.2,10,0]
[{"$nulls":10},"522_71.2_11_202425",202425,522,"CT1",71.2,11,0]
[{"$nulls":10},"544_71.2_12_202425",202425,544,"CT1",71.2,12,0]
[{"$nulls":10},"534_72_3_202425",202425,534,"CT1",72,3,0]
[{"$nulls":10},"536_72_5_202425",202425,536,"CT1",72,5,0]
[{"$nulls":10},"542_72_5_202425",202425,542,"CT1",72,5,1]
[{"$nulls":10},"538_72_8_202425",202425,538,"CT1",72,8,0]
[{"$nulls":10},"528_72_9_202425",202425,528,"CT1",72,9,0]
[{"$nulls":10},"518_72_11_202425",202425,518,"CT1",72,11,0]
[{"$nulls":10},"532_74_2_202425",202425,532,"CT1",74,2,0]
[{"$nulls":10},"526_74_3_202425",202425,526,"CT1",74,3,0]
[{"$nulls":10},"534_74_5_202425",202425,534,"CT1",74,5,0]
[{"$nulls":10},"512_74_7_202425",202425,512,"CT1",74,7,0]
[{"$nulls":10},"545_74_8_202425",202425,545,"CT1",74,8,0]
[{"$nulls":10},"528_74_9_202425",202425,528,"CT1",74,9,0]
[{"$nulls":10},"552_74_10_202425",202425,552,"CT1",74,10,0]
[{"$nulls":10},"530_74_12_202425",202425,530,"CT1",74,12,25]
[{"$nulls":10},"532_75_3_202425",202425,532,"CT1",75,3,0]
[{"$nulls":10},"530_75_5_202425",202425,530,"CT1",75,5,282]
[{"$nulls":10},"544_75_6_202425",202425,544,"CT1",75,6,0]
[{"$nulls":10},"538_75_7_202425",202425,538,"CT1",75,7,0]
[{"$nulls":10},"528_75_9_202425",202425,528,"CT1",75,9,0]
[{"$nulls":10},"538_75_10_202425",202425,538,"CT1",75,10,0]
[{"$nulls":10},"536_75_11_202425",202425,536,"CT1",75,11,0]
[{"$nulls":10},"540_77_2_202425",202425,540,"CT1",77,2,643]
[{"$nulls":10},"522_77_4_202425",202425,522,"CT1",77,4,59]
[{"$nulls":10},"512_77_6_202425",202425,512,"CT1",77,6,52]
[{"$nulls":10},"534_77_6_202425",202425,534,"CT1",77,6,0]
[{"$nulls":10},"520_77_8_202425",202425,520,"CT1",77,8,0]
[{"$nulls":10},"536_77_9_202425",202425,536,"CT1",77,9,1]
[{"$nulls":10},"542_77_11_202425",202425,542,"CT1",77,11,334]
[{"$nulls":10},"540_78_2_202425",202425,540,"CT1",78,2,0]
[{"$nulls":10},"548_78_3_202425",202425,548,"CT1",78,3,2]
[{"$nulls":10},"546_78_4_202425",202425,546,"CT1",78,4,0]
[{"$nulls":10},"550_78_6_202425",202425,550,"CT1",78,6,0]
[{"$nulls":10},"526_78_8_202425",202425,526,"CT1",78,8,1]
[{"$nulls":10},"545_78_8_202425",202425,545,"CT1",78,8,0]
[{"$nulls":10},"545_78_10_202425",202425,545,"CT1",78,10,0]
[{"$nulls":10},"524_78_12_202425",202425,524,"CT1",78,12,0]
[{"$nulls":10},"546_78.1_2_202425",202425,546,"CT1",78.1,2,0]
[{"$nulls":10},"552_78.1_4_202425",202425,552,"CT1",78.1,4,0]
[{"$nulls":10},"530_78.1_5_202425",202425,530,"CT1",78.1,5,0]
[{"$nulls":10},"542_78.1_6_202425",202425,542,"CT1",78.1,6,0]
[{"$nulls":10},"550_78.1_8_202425",202425,550,"CT1",78.1,8,0]
[{"$nulls":10},"548_78.1_10_202425",202425,548,"CT1",78.1,10,1]
[{"$nulls":10},"512_78.1_12_202425",202425,512,"CT1",78.1,12,0]
[{"$nulls":10},"514_78.2_2_202425",202425,514,"CT1",78.2,2,0]
[{"$nulls":10},"514_78.2_4_202425",202425,514,"CT1",78.2,4,0]
[{"$nulls":10},"536_78.2_5_202425",202425,536,"CT1",78.2,5,0]
[{"$nulls":10},"512_78.2_6_202425",202425,512,"CT1",78.2,6,0]
[{"$nulls":10},"550_78.2_7_202425",202425,550,"CT1",78.2,7,0]
[{"$nulls":10},"534_78.2_9_202425",202425,534,"CT1",78.2,9,0]
[{"$nulls":10},"552_78.2_10_202425",202425,552,"CT1",78.2,10,0]
[{"$nulls":10},"520_79_2_202425",202425,520,"CT1",79,2,75]
[{"$nulls":10},"540_79_2_202425",202425,540,"CT1",79,2,922]
[{"$nulls":10},"546_79_3_202425",202425,546,"CT1",79,3,0]
[{"$nulls":10},"518_79_6_202425",202425,518,"CT1",79,6,46]
[{"$nulls":10},"548_79_6_202425",202425,548,"CT1",79,6,23]
[{"$nulls":10},"526_79_8_202425",202425,526,"CT1",79,8,3]
[{"$nulls":10},"524_79_10_202425",202425,524,"CT1",79,10,3]
[{"$nulls":10},"520_81_2_202425",202425,520,"CT1",81,2,0]
[{"$nulls":10},"545_81_3_202425",202425,545,"CT1",81,3,0]
[{"$nulls":10},"522_81_4_202425",202425,522,"CT1",81,4,0]
[{"$nulls":10},"514_81_6_202425",202425,514,"CT1",81,6,0]
[{"$nulls":10},"544_81_7_202425",202425,544,"CT1",81,7,0]
[{"$nulls":10},"516_81_9_202425",202425,516,"CT1",81,9,0]
[{"$nulls":10},"530_81_11_202425",202425,530,"CT1",81,11,0]
[{"$nulls":10},"548_81_11_202425",202425,548,"CT1",81,11,0]
[{"$nulls":10},"530_82_3_202425",202425,530,"CT1",82,3,0]
[{"$nulls":10},"528_82_4_202425",202425,528,"CT1",82,4,0]
[{"$nulls":10},"532_82_6_202425",202425,532,"CT1",82,6,0]
[{"$nulls":10},"536_82_6_202425",202425,536,"CT1",82,6,0]
[{"$nulls":10},"526_82_8_202425",202425,526,"CT1",82,8,0]
[{"$nulls":10},"526_82_10_202425",202425,526,"CT1",82,10,0]
[{"$nulls":10},"512_82_12_202425",202425,512,"CT1",82,12,50]
[{"$nulls":10},"528_84_2_202425",202425,528,"CT1",84,2,0]
[{"$nulls":10},"520_84_3_202425",202425,520,"CT1",84,3,0]
[{"$nulls":10},"552_84_4_202425",202425,552,"CT1",84,4,0]
[{"$nulls":10},"522_84_6_202425",202425,522,"CT1",84,6,0]
[{"$nulls":10},"540_84_8_202425",202425,540,"CT1",84,8,0]
[{"$nulls":10},"524_84_9_202425",202425,524,"CT1",84,9,0]
[{"$nulls":10},"546_84_10_202425",202425,546,"CT1",84,10,0]
[{"$nulls":10},"538_84_12_202425",202425,538,"CT1",84,12,100]
[{"$nulls":10},"538_85_3_202425",202425,538,"CT1",85,3,0]
[{"$nulls":10},"545_85_3_202425",202425,545,"CT1",85,3,0]
[{"$nulls":10},"536_85_5_202425",202425,536,"CT1",85,5,0]
[{"$nulls":10},"532_85_7_202425",202425,532,"CT1",85,7,0]
[{"$nulls":10},"522_85_9_202425",202425,522,"CT1",85,9,0]
[{"$nulls":10},"534_85_10_202425",202425,534,"CT1",85,10,0]
[{"$nulls":10},"530_85_11_202425",202425,530,"CT1",85,11,0]
[{"$nulls":10},"520_85.1_2_202425",202425,520,"CT1",85.1,2,0]
[{"$nulls":10},"528_85.1_3_202425",202425,528,"CT1",85.1,3,0]
[{"$nulls":10},"548_85.1_5_202425",202425,548,"CT1",85.1,5,0]
[{"$nulls":10},"530_85.1_6_202425",202425,530,"CT1",85.1,6,0]
[{"$nulls":10},"514_85.1_8_202425",202425,514,"CT1",85.1,8,0]
[{"$nulls":10},"546_85.1_9_202425",202425,546,"CT1",85.1,9,0]
[{"$nulls":10},"544_85.1_11_202425",202425,544,"CT1",85.1,11,0]
[{"$nulls":10},"534_85.2_2_202425",202425,534,"CT1",85.2,2,0]
[{"$nulls":10},"545_85.2_3_202425",202425,545,"CT1",85.2,3,0]
[{"$nulls":10},"542_85.2_4_202425",202425,542,"CT1",85.2,4,0]
[{"$nulls":10},"532_85.2_6_202425",202425,532,"CT1",85.2,6,0]
[{"$nulls":10},"540_85.2_7_202425",202425,540,"CT1",85.2,7,0]
[{"$nulls":10},"540_85.2_8_202425",202425,540,"CT1",85.2,8,0]
[{"$nulls":10},"530_85.2_10_202425",202425,530,"CT1",85.2,10,0]
[{"$nulls":10},"534_85.2_11_202425",202425,534,"CT1",85.2,11,0]
[{"$nulls":10},"516_86_3_202425",202425,516,"CT1",86,3,0]
[{"$nulls":10},"536_86_3_202425",202425,536,"CT1",86,3,0]
[{"$nulls":10},"524_86_5_202425",202425,524,"CT1",86,5,0]
[{"$nulls":10},"514_86_7_202425",202425,514,"CT1",86,7,0]
[{"$nulls":10},"548_86_8_202425",202425,548,"CT1",86,8,0]
[{"$nulls":10},"544_86_10_202425",202425,544,"CT1",86,10,0]
[{"$nulls":10},"550_86_11_202425",202425,550,"CT1",86,11,0]
[{"$nulls":10},"550_88_2_202425",202425,550,"CT1",88,2,0]
[{"$nulls":10},"542_88_4_202425",202425,542,"CT1",88,4,0]
[{"$nulls":10},"545_88_5_202425",202425,545,"CT1",88,5,0]
[{"$nulls":10},"548_88_6_202425",202425,548,"CT1",88,6,0]
[{"$nulls":10},"546_88_8_202425",202425,546,"CT1",88,8,0]
[{"$nulls":10},"536_88_10_202425",202425,536,"CT1",88,10,0]
[{"$nulls":10},"526_88_12_202425",202425,526,"CT1",88,12,25]
[{"$nulls":10},"542_88_12_202425",202425,542,"CT1",88,12,25]
[{"$nulls":10},"534_89_3_202425",202425,534,"CT1",89,3,0]
[{"$nulls":10},"544_89_4_202425",202425,544,"CT1",89,4,0]
[{"$nulls":10},"520_89_7_202425",202425,520,"CT1",89,7,0]
[{"$nulls":10},"552_89_8_202425",202425,552,"CT1",89,8,0]
[{"$nulls":10},"514_89_10_202425",202425,514,"CT1",89,10,0]
[{"$nulls":10},"518_89_11_202425",202425,518,"CT1",89,11,0]
[{"$nulls":10},"550_89_12_202425",202425,550,"CT1",89,12,50]
[{"$nulls":10},"550_91_2_202425",202425,550,"CT1",91,2,0]
[{"$nulls":10},"516_91_4_202425",202425,516,"CT1",91,4,301]
[{"$nulls":10},"552_91_5_202425",202425,552,"CT1",91,5,193]
[{"$nulls":10},"545_91_7_202425",202425,545,"CT1",91,7,0]
[{"$nulls":10},"536_91_9_202425",202425,536,"CT1",91,9,0]
[{"$nulls":10},"524_91_11_202425",202425,524,"CT1",91,11,0]
[{"$nulls":10},"544_91_11_202425",202425,544,"CT1",91,11,0]
[{"$nulls":10},"526_92_3_202425",202425,526,"CT1",92,3,0]
[{"$nulls":10},"530_92_4_202425",202425,530,"CT1",92,4,0]
[{"$nulls":10},"520_92_6_202425",202425,520,"CT1",92,6,0]
[{"$nulls":10},"520_92_7_202425",202425,520,"CT1",92,7,0]
[{"$nulls":10},"528_92_8_202425",202425,528,"CT1",92,8,179]
[{"$nulls":10},"522_92_10_202425",202425,522,"CT1",92,10,0]
[{"$nulls":10},"548_92_11_202425",202425,548,"CT1",92,11,0]
[{"$nulls":10},"526_92_12_202425",202425,526,"CT1",92,12,0]
[{"$nulls":10},"516_92.1_3_202425",202425,516,"CT1",92.1,3,0]
[{"$nulls":10},"512_92.1_5_202425",202425,512,"CT1",92.1,5,0]
[{"$nulls":10},"518_92.1_6_202425",202425,518,"CT1",92.1,6,0]
[{"$nulls":10},"534_92.1_8_202425",202425,534,"CT1",92.1,8,0]
[{"$nulls":10},"552_92.1_8_202425",202425,552,"CT1",92.1,8,0]
[{"$nulls":10},"532_92.1_11_202425",202425,532,"CT1",92.1,11,0]
[{"$nulls":10},"532_92.1_12_202425",202425,532,"CT1",92.1,12,0]
[{"$nulls":10},"530_92.2_3_202425",202425,530,"CT1",92.2,3,0]
[{"$nulls":10},"526_92.2_4_202425",202425,526,"CT1",92.2,4,0]
[{"$nulls":10},"538_92.2_5_202425",202425,538,"CT1",92.2,5,0]
[{"$nulls":10},"528_92.2_7_202425",202425,528,"CT1",92.2,7,0]
[{"$nulls":10},"516_92.2_9_202425",202425,516,"CT1",92.2,9,0]
[{"$nulls":10},"536_92.2_9_202425",202425,536,"CT1",92.2,9,0]
[{"$nulls":10},"522_92.2_11_202425",202425,522,"CT1",92.2,11,0]
[{"$nulls":10},"522_93_2_202425",202425,522,"CT1",93,2,0]
[{"$nulls":10},"524_93_3_202425",202425,524,"CT1",93,3,159]
[{"$nulls":10},"544_93_5_202425",202425,544,"CT1",93,5,0]
[{"$nulls":10},"520_93_6_202425",202425,520,"CT1",93,6,29]
[{"$nulls":10},"538_93_8_202425",202425,538,"CT1",93,8,26]
[{"$nulls":10},"542_93_9_202425",202425,542,"CT1",93,9,0]
[{"$nulls":10},{"$f":"M37572&\"_\"&O37572&\"_\"&P37572&\"_\"&L37572","v":"540_93_11_202425"},202425,540,"CT1",93,11,564]
[{"$nulls":10},"548_93_11_202425",202425,548,"CT1",93,11,54]
[{"$nulls":10},"546_94_3_202425",202425,546,"CT1",94,3,96]
[{"$nulls":10},"534_94_5_202425",202425,534,"CT1",94,5,90]
[{"$nulls":10},"526_94_7_202425",202425,526,"CT1",94,7,29]
[{"$nulls":10},"524_94_9_202425",202425,524,"CT1",94,9,8]
[{"$nulls":10},"528_94_9_202425",202425,528,"CT1",94,9,9]
[{"$nulls":10},"532_94_11_202425",202425,532,"CT1",94,11,1993]
[{"$nulls":10},"530_95_2_202425",202425,530,"CT1",95,2,313.5]
[{"$nulls":10},"552_95_4_202425",202425,552,"CT1",95,4,361]
[{"$nulls":10},"530_95_5_202425",202425,530,"CT1",95,5,172.9]
[{"$nulls":10},"544_95_7_202425",202425,544,"CT1",95,7,9]
[{"$nulls":10},"550_95_8_202425",202425,550,"CT1",95,8,3]
[{"$nulls":10},"545_95_10_202425",202425,545,"CT1",95,10,0]
[{"$nulls":10},"538_97_2_202425",202425,538,"CT1",97,2,0]
[{"$nulls":10},"514_97_3_202425",202425,514,"CT1",97,3,0]
[{"$nulls":10},"540_97_4_202425",202425,540,"CT1",97,4,0]
[{"$nulls":10},"536_97_6_202425",202425,536,"CT1",97,6,0]
[{"$nulls":10},"542_97_7_202425",202425,542,"CT1",97,7,0]
[{"$nulls":10},"544_97_8_202425",202425,544,"CT1",97,8,0]
[{"$nulls":10},"534_97_10_202425",202425,534,"CT1",97,10,0]
[{"$nulls":10},"536_97_11_202425",202425,536,"CT1",97,11,0]
[{"$nulls":10},"520_98_3_202425",202425,520,"CT1",98,3,0]
[{"$nulls":10},"538_98_3_202425",202425,538,"CT1",98,3,0]
[{"$nulls":10},"528_98_5_202425",202425,528,"CT1",98,5,0]
[{"$nulls":10},"518_98_7_202425",202425,518,"CT1",98,7,0]
[{"$nulls":10},"550_98_8_202425",202425,550,"CT1",98,8,0]
[{"$nulls":10},"546_98_10_202425",202425,546,"CT1",98,10,0]
[{"$nulls":10},"524_98_11_202425",202425,524,"CT1",98,11,0]
[{"$nulls":10},"545_98_12_202425",202425,545,"CT1",98,12,50]
[{"$nulls":10},"545_100_3_202425",202425,545,"CT1",100,3,0]
[{"$nulls":10},"546_100_4_202425",202425,546,"CT1",100,4,0]
[{"$nulls":10},"552_100_5_202425",202425,552,"CT1",100,5,0]
[{"$nulls":10},"544_100_7_202425",202425,544,"CT1",100,7,0]
[{"$nulls":10},"518_100_10_202425",202425,518,"CT1",100,10,0]
[{"$nulls":10},"530_100_11_202425",202425,530,"CT1",100,11,0]
[{"$nulls":10},"520_101_2_202425",202425,520,"CT1",101,2,0]
[{"$nulls":10},"538_101_2_202425",202425,538,"CT1",101,2,0]
[{"$nulls":10},"528_101_4_202425",202425,528,"CT1",101,4,0]
[{"$nulls":10},"514_101_6_202425",202425,514,"CT1",101,6,0]
[{"$nulls":10},"514_101_8_202425",202425,514,"CT1",101,8,0]
[{"$nulls":10},"516_101_9_202425",202425,516,"CT1",101,9,0]
[{"$nulls":10},"522_101_10_202425",202425,522,"CT1",101,10,0]
[{"$nulls":10},"512_101_12_202425",202425,512,"CT1",101,12,0]
[{"$nulls":10},"552_101_12_202425",202425,552,"CT1",101,12,0]
[{"$nulls":10},"520_101.1_3_202425",202425,520,"CT1",101.1,3,0]
[{"$nulls":10},"552_101.1_4_202425",202425,552,"CT1",101.1,4,0]
[{"$nulls":10},"524_101.1_7_202425",202425,524,"CT1",101.1,7,0]
[{"$nulls":10},"540_101.1_8_202425",202425,540,"CT1",101.1,8,0]
[{"$nulls":10},"526_101.1_10_202425",202425,526,"CT1",101.1,10,0]
[{"$nulls":10},"546_101.1_10_202425",202425,546,"CT1",101.1,10,0]
[{"$nulls":10},"538_101.1_12_202425",202425,538,"CT1",101.1,12,0]
[{"$nulls":10},"520_101.2_3_202425",202425,520,"CT1",101.2,3,0]
[{"$nulls":10},"524_101.2_5_202425",202425,524,"CT1",101.2,5,0]
[{"$nulls":10},"522_101.2_6_202425",202425,522,"CT1",101.2,6,0]
[{"$nulls":10},"532_101.2_7_202425",202425,532,"CT1",101.2,7,0]
[{"$nulls":10},"522_101.2_9_202425",202425,522,"CT1",101.2,9,0]
[{"$nulls":10},"516_101.2_10_202425",202425,516,"CT1",101.2,10,0]
[{"$nulls":10},"530_101.2_11_202425",202425,530,"CT1",101.2,11,0]
[{"$nulls":10},"518_102_2_202425",202425,518,"CT1",102,2,0]
[{"$nulls":10},"516_102_4_202425",202425,516,"CT1",102,4,4.5]
[{"$nulls":10},"548_102_5_202425",202425,548,"CT1",102,5,0]
[{"$nulls":10},"532_102_7_202425",202425,532,"CT1",102,7,0]
[{"$nulls":10},"514_102_8_202425",202425,514,"CT1",102,8,0]
[{"$nulls":10},"534_102_10_202425",202425,534,"CT1",102,10,0]
[{"$nulls":10},"544_102_11_202425",202425,544,"CT1",102,11,0]
[{"$nulls":10},"534_104_3_202425",202425,534,"CT1",104,3,0]
[{"$nulls":10},"528_104_4_202425",202425,528,"CT1",104,4,0]
[{"$nulls":10},"542_104_5_202425",202425,542,"CT1",104,5,0]
[{"$nulls":10},{"$f":"M39812&\"_\"&O39812&\"_\"&P39812&\"_\"&L39812","v":"532_104_7_202425"},202425,532,"CT1",104,7,0]
[{"$nulls":10},"522_104_8_202425",202425,522,"CT1",104,8,0]
[{"$nulls":10},"540_104_9_202425",202425,540,"CT1",104,9,0]
[{"$nulls":10},"524_104_11_202425",202425,524,"CT1",104,11,0]
[{"$nulls":10},"526_105_2_202425",202425,526,"CT1",105,2,0]
[{"$nulls":10},"516_105_4_202425",202425,516,"CT1",105,4,0]
[{"$nulls":10},"538_105_5_202425",202425,538,"CT1",105,5,0]
[{"$nulls":10},"524_105_6_202425",202425,524,"CT1",105,6,0]
[{"$nulls":10},"540_105_8_202425",202425,540,"CT1",105,8,0]
[{"$nulls":10},"552_105_9_202425",202425,552,"CT1",105,9,0]
[{"$nulls":10},"544_105_11_202425",202425,544,"CT1",105,11,0]
[{"$nulls":10},"534_105_12_202425",202425,534,"CT1",105,12,50]
[{"$nulls":10},{"$f":"M40196&\"_\"&O40196&\"_\"&P40196&\"_\"&L40196","v":"550_107_2_202425"},202425,550,"CT1",107,2,0]
[{"$nulls":10},"536_107_4_202425",202425,536,"CT1",107,4,120]
[{"$nulls":10},"538_107_6_202425",202425,538,"CT1",107,6,68]
[{"$nulls":10},"528_107_8_202425",202425,528,"CT1",107,8,2]
[{"$nulls":10},"530_107_8_202425",202425,530,"CT1",107,8,0]
[{"$nulls":10},"536_107_10_202425",202425,536,"CT1",107,10,1]
[{"$nulls":10},"532_107_11_202425",202425,532,"CT1",107,11,1111]
[{"$nulls":10},"514_108_3_202425",202425,514,"CT1",108,3,0]
[{"$nulls":10},"534_108_3_202425",202425,534,"CT1",108,3,0]
[{"$nulls":10},"545_108_5_202425",202425,545,"CT1",108,5,0]
[{"$nulls":10},"520_108_7_202425",202425,520,"CT1",108,7,30]
[{"$nulls":10},"552_108_8_202425",202425,552,"CT1",108,8,0]
[{"$nulls":10},"540_108_9_202425",202425,540,"CT1",108,9,0]
[{"$nulls":10},"518_108_11_202425",202425,518,"CT1",108,11,250.5]
[{"$nulls":10},"542_108_12_202425",202425,542,"CT1",108,12,0]
[{"$nulls":10},"546_108.1_3_202425",202425,546,"CT1",108.1,3,0]
[{"$nulls":10},"538_108.1_5_202425",202425,538,"CT1",108.1,5,0]
[{"$nulls":10},"512_108.1_7_202425",202425,512,"CT1",108.1,7,0]
[{"$nulls":10},"545_108.1_7_202425",202425,545,"CT1",108.1,7,0]
[{"$nulls":10},"514_108.1_10_202425",202425,514,"CT1",108.1,10,0]
[{"$nulls":10},"524_108.1_11_202425",202425,524,"CT1",108.1,11,0]
[{"$nulls":10},"544_108.1_11_202425",202425,544,"CT1",108.1,11,0]
[{"$nulls":10},"550_108.2_2_202425",202425,550,"CT1",108.2,2,0]
[{"$nulls":10},"530_108.2_4_202425",202425,530,"CT1",108.2,4,0]
[{"$nulls":10},"552_108.2_5_202425",202425,552,"CT1",108.2,5,0]
[{"$nulls":10},"550_108.2_7_202425",202425,550,"CT1",108.2,7,0]
[{"$nulls":10},"528_108.2_8_202425",202425,528,"CT1",108.2,8,0]
[{"$nulls":10},"546_108.2_9_202425",202425,546,"CT1",108.2,9,0]
[{"$nulls":10},"548_108.2_11_202425",202425,548,"CT1",108.2,11,0]
[{"$nulls":10},"546_109_2_202425",202425,546,"CT1",109,2,0]
[{"$nulls":10},"518_109_4_202425",202425,518,"CT1",109,4,143.5]
[{"$nulls":10},"512_109_5_202425",202425,512,"CT1",109,5,79]
[{"$nulls":10},"520_109_7_202425",202425,520,"CT1",109,7,30]
[{"$nulls":10},"534_109_8_202425",202425,534,"CT1",109,8,0]
[{"$nulls":10},"552_109_8_202425",202425,552,"CT1",109,8,28]
[{"$nulls":10},"514_109_11_202425",202425,514,"CT1",109,11,1057]
[{"$nulls":10},"540_111_2_202425",202425,540,"CT1",111,2,0]
[{"$nulls":10},"516_111_4_202425",202425,516,"CT1",111,4,0]
[{"$nulls":10},"518_111_6_202425",202425,518,"CT1",111,6,0]
[{"$nulls":10},"538_111_6_202425",202425,538,"CT1",111,6,0]
[{"$nulls":10},"552_111_7_202425",202425,552,"CT1",111,7,0]
[{"$nulls":10},"516_111_10_202425",202425,516,"CT1",111,10,0]
[{"$nulls":10},"512_111_11_202425",202425,512,"CT1",111,11,0]
[{"$nulls":10},"524_111_12_202425",202425,524,"CT1",111,12,25]
[{"$nulls":10},"522_112_3_202425",202425,522,"CT1",112,3,0]
[{"$nulls":10},"526_112_5_202425",202425,526,"CT1",112,5,0]
[{"$nulls":10},"544_112_6_202425",202425,544,"CT1",112,6,0]
[{"$nulls":10},"528_112_8_202425",202425,528,"CT1",112,8,0]
[{"$nulls":10},"550_112_8_202425",202425,550,"CT1",112,8,0]
[{"$nulls":10},"542_112_10_202425",202425,542,"CT1",112,10,0]
[{"$nulls":10},"522_112_12_202425",202425,522,"CT1",112,12,50]
[{"$nulls":10},"528_114_3_202425",202425,528,"CT1",114,3,0]
[{"$nulls":10},"546_114_3_202425",202425,546,"CT1",114,3,0]
[{"$nulls":10},"516_114_5_202425",202425,516,"CT1",114,5,0]
[{"$nulls":10},"526_114_7_202425",202425,526,"CT1",114,7,0]
[{"$nulls":10},"518_114_8_202425",202425,518,"CT1",114,8,0]
[{"$nulls":10},"534_114_9_202425",202425,534,"CT1",114,9,0]
[{"$nulls":10},"532_114_11_202425",202425,532,"CT1",114,11,0]
[{"$nulls":10},"532_115_2_202425",202425,532,"CT1",115,2,0]
[{"$nulls":10},"552_115_3_202425",202425,552,"CT1",115,3,0]
[{"$nulls":10},"534_115_5_202425",202425,534,"CT1",115,5,0]
[{"$nulls":10},"518_115_6_202425",202425,518,"CT1",115,6,0]
[{"$nulls":10},"550_115_7_202425",202425,550,"CT1",115,7,0]
[{"$nulls":10},"528_115_9_202425",202425,528,"CT1",115,9,0]
[{"$nulls":10},"538_115_11_202425",202425,538,"CT1",115,11,0]
[{"$nulls":10},"530_115_12_202425",202425,530,"CT1",115,12,0]
[{"$nulls":10},"545_115.1_2_202425",202425,545,"CT1",115.1,2,0]
[{"$nulls":10},"536_115.1_4_202425",202425,536,"CT1",115.1,4,0]
[{"$nulls":10},"524_115.1_5_202425",202425,524,"CT1",115.1,5,0]
[{"$nulls":10},{"$f":"M42436&\"_\"&O42436&\"_\"&P42436&\"_\"&L42436","v":"544_115.1_6_202425"},202425,544,"CT1",115.1,6,0]
[{"$nulls":10},"526_115.1_8_202425",202425,526,"CT1",115.1,8,0]
[{"$nulls":10},"530_115.1_10_202425",202425,530,"CT1",115.1,10,0]
[{"$nulls":10},"520_115.1_12_202425",202425,520,"CT1",115.1,12,0]
[{"$nulls":10},"540_115.2_2_202425",202425,540,"CT1",115.2,2,0]
[{"$nulls":10},"528_115.2_3_202425",202425,528,"CT1",115.2,3,0]
[{"$nulls":10},"518_115.2_5_202425",202425,518,"CT1",115.2,5,0]
[{"$nulls":10},"534_115.2_6_202425",202425,534,"CT1",115.2,6,0]
[{"$nulls":10},"546_115.2_8_202425",202425,546,"CT1",115.2,8,0]
[{"$nulls":10},"536_115.2_9_202425",202425,536,"CT1",115.2,9,0]
[{"$nulls":10},"512_115.2_11_202425",202425,512,"CT1",115.2,11,0]
[{"$nulls":10},"545_115.2_12_202425",202425,545,"CT1",115.2,12,0]
[{"$nulls":10},"548_116_3_202425",202425,548,"CT1",116,3,0]
[{"$nulls":10},"532_116_5_202425",202425,532,"CT1",116,5,0]
[{"$nulls":10},"550_116_6_202425",202425,550,"CT1",116,6,0]
[{"$nulls":10},"540_116_7_202425",202425,540,"CT1",116,7,0]
[{"$nulls":10},"530_116_9_202425",202425,530,"CT1",116,9,0]
[{"$nulls":10},"545_116_10_202425",202425,545,"CT1",116,10,0]
[{"$nulls":10},"538_116_11_202425",202425,538,"CT1",116,11,0]
[{"$nulls":10},{"$f":"M43076&\"_\"&O43076&\"_\"&P43076&\"_\"&L43076","v":"546_118_3_202425"},202425,546,"CT1",118,3,0]
[{"$nulls":10},"524_118_5_202425",202425,524,"CT1",118,5,0]
[{"$nulls":10},"514_118_7_202425",202425,514,"CT1",118,7,0]
[{"$nulls":10},"542_118_7_202425",202425,542,"CT1",118,7,0]
[{"$nulls":10},"522_118_9_202425",202425,522,"CT1",118,9,0]
[{"$nulls":10},"512_118_11_202425",202425,512,"CT1",118,11,0]
[{"$nulls":10},"512_119_2_202425",202425,512,"CT1",119,2,0]
[{"$nulls":10},"542_119_3_202425",202425,542,"CT1",119,3,0]
[{"$nulls":10},"514_119_5_202425",202425,514,"CT1",119,5,0]
[{"$nulls":10},"548_119_5_202425",202425,548,"CT1",119,5,0]
[{"$nulls":10},"540_119_7_202425",202425,540,"CT1",119,7,0]
[{"$nulls":10},"550_119_8_202425",202425,550,"CT1",119,8,0]
[{"$nulls":10},"546_119_9_202425",202425,546,"CT1",119,9,0]
[{"$nulls":10},"552_119_11_202425",202425,552,"CT1",119,11,0]
[{"$nulls":10},"534_121_2_202425",202425,534,"CT1",121,2,0]
[{"$nulls":10},"524_121_4_202425",202425,524,"CT1",121,4,0]
[{"$nulls":10},"546_121_4_202425",202425,546,"CT1",121,4,0]
[{"$nulls":10},"532_121_6_202425",202425,532,"CT1",121,6,239]
[{"$nulls":10},"548_121_7_202425",202425,548,"CT1",121,7,8]
[{"$nulls":10},"518_121_10_202425",202425,518,"CT1",121,10,3]
[{"$nulls":10},"550_121_11_202425",202425,550,"CT1",121,11,0]
[{"$nulls":10},"520_122_2_202425",202425,520,"CT1",122,2,0]
[{"$nulls":10},"516_122_3_202425",202425,516,"CT1",122,3,0]
[{"$nulls":10},"522_122_5_202425",202425,522,"CT1",122,5,0]
[{"$nulls":10},"545_122_6_202425",202425,545,"CT1",122,6,0]
[{"$nulls":10},"514_122_7_202425",202425,514,"CT1",122,7,549]
[{"$nulls":10},"516_122_9_202425",202425,516,"CT1",122,9,0]
[{"$nulls":10},"544_122_10_202425",202425,544,"CT1",122,10,0]
[{"$nulls":10},"534_122_12_202425",202425,534,"CT1",122,12,0]
[{"$nulls":10},"552_122_12_202425",202425,552,"CT1",122,12,0]
[{"$nulls":10},"542_122.1_3_202425",202425,542,"CT1",122.1,3,0]
[{"$nulls":10},"512_122.1_5_202425",202425,512,"CT1",122.1,5,0]
[{"$nulls":10},"528_122.1_7_202425",202425,528,"CT1",122.1,7,0]
[{"$nulls":10},"518_122.1_9_202425",202425,518,"CT1",122.1,9,0]
[{"$nulls":10},"526_122.1_10_202425",202425,526,"CT1",122.1,10,0]
[{"$nulls":10},"526_122.1_11_202425",202425,526,"CT1",122.1,11,0]
[{"$nulls":10},"528_122.2_2_202425",202425,528,"CT1",122.2,2,0]
[{"$nulls":10},"512_122.2_4_202425",202425,512,"CT1",122.2,4,0]
[{"$nulls":10},"524_122.2_4_202425",202425,524,"CT1",122.2,4,0]
[{"$nulls":10},"522_122.2_6_202425",202425,522,"CT1",122.2,6,0]
[{"$nulls":10},"552_122.2_7_202425",202425,552,"CT1",122.2,7,0]
[{"$nulls":10},"524_122.2_9_202425",202425,524,"CT1",122.2,9,0]
[{"$nulls":10},"532_122.2_11_202425",202425,532,"CT1",122.2,11,0]
[{"$nulls":10},"550_122.2_11_202425",202425,550,"CT1",122.2,11,0]
[{"$nulls":10},"518_123_2_202425",202425,518,"CT1",123,2,62]
[{"$nulls":10},"538_123_4_202425",202425,538,"CT1",123,4,32]
[{"$nulls":10},"528_123_6_202425",202425,528,"CT1",123,6,1522]
[{"$nulls":10},"532_123_7_202425",202425,532,"CT1",123,7,169]
[{"$nulls":10},"536_123_8_202425",202425,536,"CT1",123,8,0]
[{"$nulls":10},"534_123_10_202425",202425,534,"CT1",123,10,0]
[{"$nulls":10},"514_1_2_202526",202526,514,"CT1",1,2,8363.29]
[{"$nulls":10},"534_1_2_202526",202526,534,"CT1",1,2,13167]
[{"$nulls":10},"528_1_4_202526",202526,528,"CT1",1,4,14105]
[{"$nulls":10},"520_1_6_202526",202526,520,"CT1",1,6,10868]
[{"$nulls":10},"530_1_7_202526",202526,530,"CT1",1,7,6552]
[{"$nulls":10},"542_1_9_202526",202526,542,"CT1",1,9,2]
[{"$nulls":10},"518_1_10_202526",202526,518,"CT1",1,10,167]
[{"$nulls":10},"544_2_2_202526",202526,544,"CT1",2,2,59]
[{"$nulls":10},"546_2_3_202526",202526,546,"CT1",2,3,52]
[{"$nulls":10},"545_2_5_202526",202526,545,"CT1",2,5,25]
[{"$nulls":10},"546_2_5_202526",202526,546,"CT1",2,5,39]
[{"$nulls":10},"545_2_7_202526",202526,545,"CT1",2,7,10]
[{"$nulls":10},"540_2_9_202526",202526,540,"CT1",2,9,8]
[{"$nulls":10},"524_2_11_202526",202526,524,"CT1",2,11,624]
[{"$nulls":10},"542_3_1_202526",202526,542,"CT1",3,1,69]
[{"$nulls":10},"532_3_2_202526",202526,532,"CT1",3,2,16586]
[{"$nulls":10},"530_3_4_202526",202526,530,"CT1",3,4,18304]
[{"$nulls":10},"536_3_5_202526",202526,536,"CT1",3,5,10960]
[{"$nulls":10},"550_3_7_202526",202526,550,"CT1",3,7,5922]
[{"$nulls":10},"528_3_8_202526",202526,528,"CT1",3,8,2057]
[{"$nulls":10},"548_3_10_202526",202526,548,"CT1",3,10,621]
[{"$nulls":10},"514_4_1_202526",202526,514,"CT1",4,1,5]
[{"$nulls":10},"550_4_2_202526",202526,550,"CT1",4,2,1926]
[{"$nulls":10},"536_4_4_202526",202526,536,"CT1",4,4,9001]
[{"$nulls":10},"512_4_5_202526",202526,512,"CT1",4,5,4399]
[{"$nulls":10},"545_4_6_202526",202526,545,"CT1",4,6,684]
[{"$nulls":10},"534_4_8_202526",202526,534,"CT1",4,8,413]
[{"$nulls":10},"546_4_9_202526",202526,546,"CT1",4,9,57]
[{"$nulls":10},"542_4_10_202526",202526,542,"CT1",4,10,1]
[{"$nulls":10},"540_4.1_1_202526",202526,540,"CT1",4.1,1,71]
[{"$nulls":10},"542_4.1_2_202526",202526,542,"CT1",4.1,2,6507]
[{"$nulls":10},"518_4.1_5_202526",202526,518,"CT1",4.1,5,2603]
[{"$nulls":10},"544_4.1_5_202526",202526,544,"CT1",4.1,5,2635]
[{"$nulls":10},"526_4.1_7_202526",202526,526,"CT1",4.1,7,786]
[{"$nulls":10},"516_4.1_9_202526",202526,516,"CT1",4.1,9,74]
[{"$nulls":10},"514_4.1_11_202526",202526,514,"CT1",4.1,11,20611]
[{"$nulls":10},"545_4.2_1_202526",202526,545,"CT1",4.2,1,5]
[{"$nulls":10},"516_4.2_3_202526",202526,516,"CT1",4.2,3,8]
[{"$nulls":10},"552_4.2_3_202526",202526,552,"CT1",4.2,3,69]
[{"$nulls":10},"544_4.2_5_202526",202526,544,"CT1",4.2,5,25]
[{"$nulls":10},"552_4.2_6_202526",202526,552,"CT1",4.2,6,107]
[{"$nulls":10},"550_4.2_7_202526",202526,550,"CT1",4.2,7,9]
[{"$nulls":10},"548_4.2_9_202526",202526,548,"CT1",4.2,9,17]
[{"$nulls":10},"546_4.2_10_202526",202526,546,"CT1",4.2,10,3]
[{"$nulls":10},"528_7_2_202526",202526,528,"CT1",7,2,0]
[{"$nulls":10},"548_7_2_202526",202526,548,"CT1",7,2,0]
[{"$nulls":10},"536_7_4_202526",202526,536,"CT1",7,4,0]
[{"$nulls":10},"526_7_6_202526",202526,526,"CT1",7,6,0]
[{"$nulls":10},"520_7_8_202526",202526,520,"CT1",7,8,0]
[{"$nulls":10},"512_7_10_202526",202526,512,"CT1",7,10,0]
[{"$nulls":10},"522_7_11_202526",202526,522,"CT1",7,11,0]
[{"$nulls":10},"520_7.1_2_202526",202526,520,"CT1",7.1,2,1]
[{"$nulls":10},"552_7.1_3_202526",202526,552,"CT1",7.1,3,6]
[{"$nulls":10},"516_7.1_5_202526",202526,516,"CT1",7.1,5,6]
[{"$nulls":10},"518_7.1_6_202526",202526,518,"CT1",7.1,6,0]
[{"$nulls":10},"518_7.1_8_202526",202526,518,"CT1",7.1,8,0]
[{"$nulls":10},"546_7.1_9_202526",202526,546,"CT1",7.1,9,0]
[{"$nulls":10},"538_7.1_11_202526",202526,538,"CT1",7.1,11,0]
[{"$nulls":10},"512_7.2_2_202526",202526,512,"CT1",7.2,2,223]
[{"$nulls":10},"545_7.2_3_202526",202526,545,"CT1",7.2,3,65]
[{"$nulls":10},"536_7.2_5_202526",202526,536,"CT1",7.2,5,56]
[{"$nulls":10},"526_7.2_7_202526",202526,526,"CT1",7.2,7,113]
[{"$nulls":10},"522_7.2_9_202526",202526,522,"CT1",7.2,9,2]
[{"$nulls":10},"528_7.2_10_202526",202526,528,"CT1",7.2,10,13]
[{"$nulls":10},"530_7.2_11_202526",202526,530,"CT1",7.2,11,2258]
[{"$nulls":10},"520_8_2_202526",202526,520,"CT1",8,2,4266]
[{"$nulls":10},"522_8_3_202526",202526,522,"CT1",8,3,12483]
[{"$nulls":10},"528_8_4_202526",202526,528,"CT1",8,4,14118]
[{"$nulls":10},"524_8_6_202526",202526,524,"CT1",8,6,12215]
[{"$nulls":10},"514_8_8_202526",202526,514,"CT1",8,8,1211]
[{"$nulls":10},"546_8_9_202526",202526,546,"CT1",8,9,75]
[{"$nulls":10},"538_8_11_202526",202526,538,"CT1",8,11,60842]
[{"$nulls":10},"512_9_1_202526",202526,512,"CT1",9,1,0]
[{"$nulls":10},"540_9_3_202526",202526,540,"CT1",9,3,0]
[{"$nulls":10},"542_9_4_202526",202526,542,"CT1",9,4,0]
[{"$nulls":10},"532_9_6_202526",202526,532,"CT1",9,6,0]
[{"$nulls":10},"534_9_7_202526",202526,534,"CT1",9,7,0]
[{"$nulls":10},"540_9_8_202526",202526,540,"CT1",9,8,0]
[{"$nulls":10},"536_9_10_202526",202526,536,"CT1",9,10,0]
[{"$nulls":10},"526_9.1_2_202526",202526,526,"CT1",9.1,2,0]
[{"$nulls":10},"538_9.1_2_202526",202526,538,"CT1",9.1,2,0]
[{"$nulls":10},"530_9.1_4_202526",202526,530,"CT1",9.1,4,0]
[{"$nulls":10},"524_9.1_6_202526",202526,524,"CT1",9.1,6,0]
[{"$nulls":10},"514_9.1_8_202526",202526,514,"CT1",9.1,8,0]
[{"$nulls":10},"544_9.1_9_202526",202526,544,"CT1",9.1,9,0]
[{"$nulls":10},"522_9.1_10_202526",202526,522,"CT1",9.1,10,0]
[{"$nulls":10},"545_9.2_2_202526",202526,545,"CT1",9.2,2,193]
[{"$nulls":10},"550_9.2_3_202526",202526,550,"CT1",9.2,3,224]
[{"$nulls":10},"542_9.2_5_202526",202526,542,"CT1",9.2,5,30]
[{"$nulls":10},"540_9.2_6_202526",202526,540,"CT1",9.2,6,65]
[{"$nulls":10},"548_9.2_7_202526",202526,548,"CT1",9.2,7,101]
[{"$nulls":10},"542_9.2_9_202526",202526,542,"CT1",9.2,9,0]
[{"$nulls":10},"536_9.2_11_202526",202526,536,"CT1",9.2,11,619]
[{"$nulls":10},"526_11_2_202526",202526,526,"CT1",11,2,1594]
[{"$nulls":10},"536_11_2_202526",202526,536,"CT1",11,2,9219.5]
[{"$nulls":10},"534_11_4_202526",202526,534,"CT1",11,4,10578.75]
[{"$nulls":10},"538_11_5_202526",202526,538,"CT1",11,5,10754]
[{"$nulls":10},"520_11_8_202526",202526,520,"CT1",11,8,3018.75]
[{"$nulls":10},"532_11_8_202526",202526,532,"CT1",11,8,3636.5]
[{"$nulls":10},{"$f":"M47940&\"_\"&O47940&\"_\"&P47940&\"_\"&L47940","v":"550_11_10_202526"},202526,550,"CT1",11,10,161]
[{"$nulls":10},"518_13_2_202526",202526,518,"CT1",13,2,2385.833333333333]
[{"$nulls":10},"550_13_3_202526",202526,550,"CT1",13,3,10428.444444444445]
[{"$nulls":10},"545_13_4_202526",202526,545,"CT1",13,4,2194.6666666666665]
[{"$nulls":10},"516_13_6_202526",202526,516,"CT1",13,6,10644.02777777778]
[{"$nulls":10},"546_13_7_202526",202526,546,"CT1",13,7,3231.5833333333335]
[{"$nulls":10},"545_13_9_202526",202526,545,"CT1",13,9,20]
[{"$nulls":10},"536_13_11_202526",202526,536,"CT1",13,11,57087.38888888889]
[{"$nulls":10},"542_13_11_202526",202526,542,"CT1",13,11,19685.555555555555]
[{"$nulls":10},"544_13.3_2_202526",202526,544,"CT1",13.3,2,13059]
[{"$nulls":10},"544_13.3_3_202526",202526,544,"CT1",13.3,3,23510]
[{"$nulls":10},"530_13.3_6_202526",202526,530,"CT1",13.3,6,12133.5]
[{"$nulls":10},"542_13.3_6_202526",202526,542,"CT1",13.3,6,1463.25]
[{"$nulls":10},"514_13.3_9_202526",202526,514,"CT1",13.3,9,187.75]
[{"$nulls":10},"528_13.3_10_202526",202526,528,"CT1",13.3,10,87.25]
[{"$nulls":10},"516_13.4_2_202526",202526,516,"CT1",13.4,2,2844.33]
[{"$nulls":10},"548_13.4_3_202526",202526,548,"CT1",13.4,3,2111.67]
[{"$nulls":10},"526_13.4_4_202526",202526,526,"CT1",13.4,4,5831.11]
[{"$nulls":10},"552_13.4_5_202526",202526,552,"CT1",13.4,5,31417]
[{"$nulls":10},"512_13.4_8_202526",202526,512,"CT1",13.4,8,1670.83]
[{"$nulls":10},{"$f":"M48580&\"_\"&O48580&\"_\"&P48580&\"_\"&L48580","v":"512_13.4_9_202526"},202526,512,"CT1",13.4,9,300]
[{"$nulls":10},"512_13.4_10_202526",202526,512,"CT1",13.4,10,107.33]
[{"$nulls":10},"552_13.4_11_202526",202526,552,"CT1",13.4,11,153130.62]
[{"$nulls":10},"548_14_2_202526",202526,548,"CT1",14,2,37]
[{"$nulls":10},"532_14_5_202526",202526,532,"CT1",14,5,1381]
[{"$nulls":10},"550_14_5_202526",202526,550,"CT1",14,5,287]
[{"$nulls":10},"520_14_8_202526",202526,520,"CT1",14,8,50]
[{"$nulls":10},"538_14_9_202526",202526,538,"CT1",14,9,34]
[{"$nulls":10},"522_14_11_202526",202526,522,"CT1",14,11,1767]
[{"$nulls":10},"516_15_3_202526",202526,516,"CT1",15,3,0]
[{"$nulls":10},{"$f":"M48900&\"_\"&O48900&\"_\"&P48900&\"_\"&L48900","v":"536_15_3_202526"},202526,536,"CT1",15,3,0]
[{"$nulls":10},"516_15_5_202526",202526,516,"CT1",15,5,0]
[{"$nulls":10},"522_15_7_202526",202526,522,"CT1",15,7,0]
[{"$nulls":10},"518_15_8_202526",202526,518,"CT1",15,8,0]
[{"$nulls":10},"522_15_9_202526",202526,522,"CT1",15,9,0]
[{"$nulls":10},"520_15_11_202526",202526,520,"CT1",15,11,0]
[{"$nulls":10},"532_23_11_202526",202526,532,"CT1",23,11,97]
[{"$nulls":10},"542_24_11_202526",202526,542,"CT1",24,11,18898.13333333333]
[{"$nulls":10},"534_26_11_202526",202526,534,"CT1",26,11,49703.53111111111]
[{"$nulls":10},"548_26_11_202526",202526,548,"CT1",26,11,48566.96494444445]
[{"$nulls":10},"546_27_11_202526",202526,546,"CT1",27,11,35285.35]
[{"$nulls":10},"528_29_11_202526",202526,528,"CT1",29,11,1]
[{"$nulls":10},"526_31_11_202526",202526,526,"CT1",31,11,3]
[{"$nulls":10},"530_32_11_202526",202526,530,"CT1",32,11,207]
[{"$nulls":10},"534_33_11_202526",202526,534,"CT1",33,11,376]
[{"$nulls":10},"524_35_11_202526",202526,524,"CT1",35,11,15]
[{"$nulls":10},"524_36_11_202526",202526,524,"CT1",36,11,32]
[{"$nulls":10},"532_37_11_202526",202526,532,"CT1",37,11,8]
[{"$nulls":10},"530_39_11_202526",202526,530,"CT1",39,11,14]
[{"$nulls":10},"538_41_11_202526",202526,538,"CT1",41,11,67]
[{"$nulls":10},"550_42_11_202526",202526,550,"CT1",42,11,0]
[{"$nulls":10},"540_44_11_202526",202526,540,"CT1",44,11,3]
[{"$nulls":10},"516_45_11_202526",202526,516,"CT1",45,11,2]
[{"$nulls":10},"514_47_11_202526",202526,514,"CT1",47,11,15]
[{"$nulls":10},"534_49_11_202526",202526,534,"CT1",49,11,290]
[{"$nulls":10},"536_51_11_202526",202526,536,"CT1",51,11,24]
[{"$nulls":10},"536_51.1_11_202526",202526,536,"CT1",51.1,11,32]
[{"$nulls":10},"544_51.5_11_202526",202526,544,"CT1",51.5,11,2432]
[{"$nulls":10},"534_52_2_202526",202526,534,"CT1",52,2,0]
[{"$nulls":10},"530_52_3_202526",202526,530,"CT1",52,3,0]
[{"$nulls":10},"542_52_4_202526",202526,542,"CT1",52,4,0]
[{"$nulls":10},"532_52_6_202526",202526,532,"CT1",52,6,0]
[{"$nulls":10},"528_52_8_202526",202526,528,"CT1",52,8,0]
[{"$nulls":10},"518_52_10_202526",202526,518,"CT1",52,10,0]
[{"$nulls":10},"545_52_11_202526",202526,545,"CT1",52,11,0]
[{"$nulls":10},"526_52_12_202526",202526,526,"CT1",52,12,0]
[{"$nulls":10},"524_53_2_202526",202526,524,"CT1",53,2,0]
[{"$nulls":10},"540_53_3_202526",202526,540,"CT1",53,3,0]
[{"$nulls":10},"545_53_5_202526",202526,545,"CT1",53,5,0]
[{"$nulls":10},"542_53_6_202526",202526,542,"CT1",53,6,0]
[{"$nulls":10},"552_53_7_202526",202526,552,"CT1",53,7,0]
[{"$nulls":10},"544_53_9_202526",202526,544,"CT1",53,9,0]
[{"$nulls":10},"536_53_10_202526",202526,536,"CT1",53,10,0]
[{"$nulls":10},"530_54_2_202526",202526,530,"CT1",54,2,0]
[{"$nulls":10},"538_54_2_202526",202526,538,"CT1",54,2,0]
[{"$nulls":10},"538_54_4_202526",202526,538,"CT1",54,4,0]
[{"$nulls":10},"528_54_6_202526",202526,528,"CT1",54,6,0]
[{"$nulls":10},"550_54_7_202526",202526,550,"CT1",54,7,0]
[{"$nulls":10},"536_54_8_202526",202526,536,"CT1",54,8,0]
[{"$nulls":10},"552_54_10_202526",202526,552,"CT1",54,10,0]
[{"$nulls":10},"522_54_12_202526",202526,522,"CT1",54,12,0]
[{"$nulls":10},"512_55_2_202526",202526,512,"CT1",55,2,0]
[{"$nulls":10},"546_55_2_202526",202526,546,"CT1",55,2,0]
[{"$nulls":10},"520_55_4_202526",202526,520,"CT1",55,4,0]
[{"$nulls":10},"548_55_5_202526",202526,548,"CT1",55,5,0]
[{"$nulls":10},"548_55_7_202526",202526,548,"CT1",55,7,0]
[{"$nulls":10},"540_55_9_202526",202526,540,"CT1",55,9,0]
[{"$nulls":10},"544_55_9_202526",202526,544,"CT1",55,9,0]
[{"$nulls":10},"546_55_11_202526",202526,546,"CT1",55,11,0]
[{"$nulls":10},"538_56_2_202526",202526,538,"CT1",56,2,0]
[{"$nulls":10},"514_56_4_202526",202526,514,"CT1",56,4,0]
[{"$nulls":10},"545_56_4_202526",202526,545,"CT1",56,4,0]
[{"$nulls":10},"516_56_7_202526",202526,516,"CT1",56,7,0]
[{"$nulls":10},"532_56_8_202526",202526,532,"CT1",56,8,0]
[{"$nulls":10},"522_56_10_202526",202526,522,"CT1",56,10,0]
[{"$nulls":10},"552_56_10_202526",202526,552,"CT1",56,10,0]
[{"$nulls":10},"530_56_12_202526",202526,530,"CT1",56,12,0]
[{"$nulls":10},"512_57_2_202526",202526,512,"CT1",57,2,0]
[{"$nulls":10},"516_57_4_202526",202526,516,"CT1",57,4,0]
[{"$nulls":10},"548_57_5_202526",202526,548,"CT1",57,5,0]
[{"$nulls":10},"526_57_7_202526",202526,526,"CT1",57,7,0]
[{"$nulls":10},"514_57_8_202526",202526,514,"CT1",57,8,0]
[{"$nulls":10},"528_57_10_202526",202526,528,"CT1",57,10,0]
[{"$nulls":10},"544_57_11_202526",202526,544,"CT1",57,11,0]
[{"$nulls":10},"512_58_1_202526",202526,512,"CT1",58,1,0]
[{"$nulls":10},"522_58_3_202526",202526,522,"CT1",58,3,0]
[{"$nulls":10},"542_58_4_202526",202526,542,"CT1",58,4,0]
[{"$nulls":10},"532_58_6_202526",202526,532,"CT1",58,6,0]
[{"$nulls":10},"516_58_7_202526",202526,516,"CT1",58,7,0]
[{"$nulls":10},"540_58_8_202526",202526,540,"CT1",58,8,0]
[{"$nulls":10},"518_58_10_202526",202526,518,"CT1",58,10,0]
[{"$nulls":10},"526_58_12_202526",202526,526,"CT1",58,12,0]
[{"$nulls":10},"516_59_2_202526",202526,516,"CT1",59,2,0]
[{"$nulls":10},"532_59_3_202526",202526,532,"CT1",59,3,0]
[{"$nulls":10},"524_59_4_202526",202526,524,"CT1",59,4,0]
[{"$nulls":10},"534_59_6_202526",202526,534,"CT1",59,6,0]
[{"$nulls":10},"552_59_7_202526",202526,552,"CT1",59,7,0]
[{"$nulls":10},"522_59_8_202526",202526,522,"CT1",59,8,0]
[{"$nulls":10},"528_59_10_202526",202526,528,"CT1",59,10,0]
[{"$nulls":10},"550_59_11_202526",202526,550,"CT1",59,11,0]
[{"$nulls":10},"530_60_2_202526",202526,530,"CT1",60,2,0]
[{"$nulls":10},"516_60_3_202526",202526,516,"CT1",60,3,0]
[{"$nulls":10},"548_60_4_202526",202526,548,"CT1",60,4,0]
[{"$nulls":10},"524_60_6_202526",202526,524,"CT1",60,6,0]
[{"$nulls":10},"536_60_8_202526",202526,536,"CT1",60,8,0]
[{"$nulls":10},"526_60_9_202526",202526,526,"CT1",60,9,0]
[{"$nulls":10},"536_60_10_202526",202526,536,"CT1",60,10,0]
[{"$nulls":10},"534_60_12_202526",202526,534,"CT1",60,12,0]
[{"$nulls":10},"540_61_2_202526",202526,540,"CT1",61,2,0]
[{"$nulls":10},"520_61_4_202526",202526,520,"CT1",61,4,0]
[{"$nulls":10},"532_61_4_202526",202526,532,"CT1",61,4,0]
[{"$nulls":10},"534_61_6_202526",202526,534,"CT1",61,6,0]
[{"$nulls":10},"518_61_8_202526",202526,518,"CT1",61,8,0]
[{"$nulls":10},"536_61_9_202526",202526,536,"CT1",61,9,0]
[{"$nulls":10},"540_61_11_202526",202526,540,"CT1",61,11,0]
[{"$nulls":10},"516_62_1_202526",202526,516,"CT1",62,1,0]
[{"$nulls":10},"530_62_2_202526",202526,530,"CT1",62,2,0]
[{"$nulls":10},"545_62_4_202526",202526,545,"CT1",62,4,0]
[{"$nulls":10},"532_62_5_202526",202526,532,"CT1",62,5,0]
[{"$nulls":10},"545_62_6_202526",202526,545,"CT1",62,6,0]
[{"$nulls":10},"544_62_8_202526",202526,544,"CT1",62,8,0]
[{"$nulls":10},"545_62_10_202526",202526,545,"CT1",62,10,0]
[{"$nulls":10},"530_63_1_202526",202526,530,"CT1",63,1,0]
[{"$nulls":10},"546_63_2_202526",202526,546,"CT1",63,2,0]
[{"$nulls":10},"530_63_3_202526",202526,530,"CT1",63,3,0]
[{"$nulls":10},"528_63_5_202526",202526,528,"CT1",63,5,0]
[{"$nulls":10},"542_63_6_202526",202526,542,"CT1",63,6,0]
[{"$nulls":10},"548_63_8_202526",202526,548,"CT1",63,8,0]
[{"$nulls":10},"544_63_9_202526",202526,544,"CT1",63,9,0]
[{"$nulls":10},"514_63_11_202526",202526,514,"CT1",63,11,0]
[{"$nulls":10},"512_64_3_202526",202526,512,"CT1",64,3,1]
[{"$nulls":10},"538_64_3_202526",202526,538,"CT1",64,3,33]
[{"$nulls":10},"534_64_6_202526",202526,534,"CT1",64,6,16]
[{"$nulls":10},"552_64_6_202526",202526,552,"CT1",64,6,19]
[{"$nulls":10},"550_64_8_202526",202526,550,"CT1",64,8,7]
[{"$nulls":10},"540_64_10_202526",202526,540,"CT1",64,10,0]
[{"$nulls":10},"552_64_11_202526",202526,552,"CT1",64,11,122]
[{"$nulls":10},"540_64.1_2_202526",202526,540,"CT1",64.1,2,0]
[{"$nulls":10},"538_64.1_4_202526",202526,538,"CT1",64.1,4,0]
[{"$nulls":10},"546_64.1_5_202526",202526,546,"CT1",64.1,5,0]
[{"$nulls":10},"516_64.1_8_202526",202526,516,"CT1",64.1,8,0]
[{"$nulls":10},"548_64.1_8_202526",202526,548,"CT1",64.1,8,10]
[{"$nulls":10},"524_64.1_10_202526",202526,524,"CT1",64.1,10,0]
[{"$nulls":10},"522_65_2_202526",202526,522,"CT1",65,2,0]
[{"$nulls":10},"520_65_4_202526",202526,520,"CT1",65,4,19]
[{"$nulls":10},"544_65_5_202526",202526,544,"CT1",65,5,8]
[{"$nulls":10},"522_65_7_202526",202526,522,"CT1",65,7,0]
[{"$nulls":10},"550_65_7_202526",202526,550,"CT1",65,7,0]
[{"$nulls":10},"542_65_9_202526",202526,542,"CT1",65,9,0]
[{"$nulls":10},{"$f":"M53444&\"_\"&O53444&\"_\"&P53444&\"_\"&L53444","v":"516_65_11_202526"},202526,516,"CT1",65,11,169]
[{"$nulls":10},"548_65_11_202526",202526,548,"CT1",65,11,71]
[{"$nulls":10},"546_65.1_3_202526",202526,546,"CT1",65.1,3,0]
[{"$nulls":10},"552_65.1_4_202526",202526,552,"CT1",65.1,4,0]
[{"$nulls":10},"526_65.1_7_202526",202526,526,"CT1",65.1,7,0]
[{"$nulls":10},"512_65.1_8_202526",202526,512,"CT1",65.1,8,0]
[{"$nulls":10},"534_65.1_9_202526",202526,534,"CT1",65.1,9,0]
[{"$nulls":10},"532_65.1_11_202526",202526,532,"CT1",65.1,11,0]
[{"$nulls":10},"526_67_3_202526",202526,526,"CT1",67,3,0]
[{"$nulls":10},"552_67_4_202526",202526,552,"CT1",67,4,0]
[{"$nulls":10},"528_67_6_202526",202526,528,"CT1",67,6,0]
[{"$nulls":10},"518_67_7_202526",202526,518,"CT1",67,7,0]
[{"$nulls":10},"550_67_8_202526",202526,550,"CT1",67,8,0]
[{"$nulls":10},"522_67_10_202526",202526,522,"CT1",67,10,0]
[{"$nulls":10},"516_67_11_202526",202526,516,"CT1",67,11,0]
[{"$nulls":10},"524_68_2_202526",202526,524,"CT1",68,2,0]
[{"$nulls":10},"545_68_3_202526",202526,545,"CT1",68,3,0]
[{"$nulls":10},"536_68_5_202526",202526,536,"CT1",68,5,0]
[{"$nulls":10},"518_68_6_202526",202526,518,"CT1",68,6,0]
[{"$nulls":10},"544_68_7_202526",202526,544,"CT1",68,7,0]
[{"$nulls":10},{"$f":"M54084&\"_\"&O54084&\"_\"&P54084&\"_\"&L54084","v":"520_68_9_202526"},202526,520,"CT1",68,9,0]
[{"$nulls":10},"530_68_11_202526",202526,530,"CT1",68,11,0]
[{"$nulls":10},"520_70_2_202526",202526,520,"CT1",70,2,0]
[{"$nulls":10},"534_70_3_202526",202526,534,"CT1",70,3,0]
[{"$nulls":10},"528_70_4_202526",202526,528,"CT1",70,4,0]
[{"$nulls":10},"518_70_6_202526",202526,518,"CT1",70,6,0]
[{"$nulls":10},"528_70_7_202526",202526,528,"CT1",70,7,0]
[{"$nulls":10},"526_70_8_202526",202526,526,"CT1",70,8,0]
[{"$nulls":10},"530_70_10_202526",202526,530,"CT1",70,10,0]
[{"$nulls":10},"512_70_12_202526",202526,512,"CT1",70,12,100]
[{"$nulls":10},"545_71_2_202526",202526,545,"CT1",71,2,0]
[{"$nulls":10},"524_71_3_202526",202526,524,"CT1",71,3,0]
[{"$nulls":10},"552_71_4_202526",202526,552,"CT1",71,4,0]
[{"$nulls":10},"526_71_6_202526",202526,526,"CT1",71,6,0]
[{"$nulls":10},"540_71_8_202526",202526,540,"CT1",71,8,0]
[{"$nulls":10},"530_71_10_202526",202526,530,"CT1",71,10,0]
[{"$nulls":10},"540_71_11_202526",202526,540,"CT1",71,11,0]
[{"$nulls":10},"538_71_12_202526",202526,538,"CT1",71,12,0]
[{"$nulls":10},"542_71.1_3_202526",202526,542,"CT1",71.1,3,0]
[{"$nulls":10},{"$f":"M54724&\"_\"&O54724&\"_\"&P54724&\"_\"&L54724","v":"524_71.1_5_202526"},202526,524,"CT1",71.1,5,0]
[{"$nulls":10},"536_71.1_5_202526",202526,536,"CT1",71.1,5,0]
[{"$nulls":10},"536_71.1_7_202526",202526,536,"CT1",71.1,7,0]
[{"$nulls":10},"522_71.1_9_202526",202526,522,"CT1",71.1,9,0]
[{"$nulls":10},"538_71.1_10_202526",202526,538,"CT1",71.1,10,0]
[{"$nulls":10},"550_71.1_12_202526",202526,550,"CT1",71.1,12,0]
[{"$nulls":10},"520_71.2_2_202526",202526,520,"CT1",71.2,2,0]
[{"$nulls":10},"532_71.2_3_202526",202526,532,"CT1",71.2,3,0]
[{"$nulls":10},"548_71.2_5_202526",202526,548,"CT1",71.2,5,0]
[{"$nulls":10},"540_71.2_7_202526",202526,540,"CT1",71.2,7,0]
[{"$nulls":10},"545_71.2_8_202526",202526,545,"CT1",71.2,8,0]
[{"$nulls":10},"546_71.2_9_202526",202526,546,"CT1",71.2,9,0]
[{"$nulls":10},"546_71.2_11_202526",202526,546,"CT1",71.2,11,0]
[{"$nulls":10},"534_72_2_202526",202526,534,"CT1",72,2,0]
[{"$nulls":10},"524_72_4_202526",202526,524,"CT1",72,4,0]
[{"$nulls":10},"542_72_4_202526",202526,542,"CT1",72,4,0]
[{"$nulls":10},"532_72_6_202526",202526,532,"CT1",72,6,0]
[{"$nulls":10},"544_72_7_202526",202526,544,"CT1",72,7,0]
[{"$nulls":10},"518_72_10_202526",202526,518,"CT1",72,10,0]
[{"$nulls":10},"530_72_10_202526",202526,530,"CT1",72,10,0]
[{"$nulls":10},"514_74_3_202526",202526,514,"CT1",74,3,0]
[{"$nulls":10},"516_74_4_202526",202526,516,"CT1",74,4,0]
[{"$nulls":10},"516_74_6_202526",202526,516,"CT1",74,6,0]
[{"$nulls":10},"524_74_6_202526",202526,524,"CT1",74,6,0]
[{"$nulls":10},"514_74_8_202526",202526,514,"CT1",74,8,0]
[{"$nulls":10},"552_74_9_202526",202526,552,"CT1",74,9,0]
[{"$nulls":10},"544_74_11_202526",202526,544,"CT1",74,11,0]
[{"$nulls":10},"534_75_2_202526",202526,534,"CT1",75,2,0]
[{"$nulls":10},"546_75_2_202526",202526,546,"CT1",75,2,0]
[{"$nulls":10},"542_75_4_202526",202526,542,"CT1",75,4,0]
[{"$nulls":10},"548_75_5_202526",202526,548,"CT1",75,5,0]
[{"$nulls":10},"528_75_8_202526",202526,528,"CT1",75,8,0]
[{"$nulls":10},"540_75_8_202526",202526,540,"CT1",75,8,0]
[{"$nulls":10},"520_75_11_202526",202526,520,"CT1",75,11,0]
[{"$nulls":10},"526_75_12_202526",202526,526,"CT1",75,12,50]
[{"$nulls":10},"522_77_3_202526",202526,522,"CT1",77,3,0]
[{"$nulls":10},"534_77_3_202526",202526,534,"CT1",77,3,287]
[{"$nulls":10},"524_77_5_202526",202526,524,"CT1",77,5,90]
[{"$nulls":10},"516_77_7_202526",202526,516,"CT1",77,7,0]
[{"$nulls":10},"552_77_8_202526",202526,552,"CT1",77,8,16]
[{"$nulls":10},"518_77_10_202526",202526,518,"CT1",77,10,0]
[{"$nulls":10},"552_77_10_202526",202526,552,"CT1",77,10,2]
[{"$nulls":10},"550_77_12_202526",202526,550,"CT1",77,12,100]
[{"$nulls":10},"512_78_3_202526",202526,512,"CT1",78,3,0]
[{"$nulls":10},"538_78_5_202526",202526,538,"CT1",78,5,0]
[{"$nulls":10},"514_78_6_202526",202526,514,"CT1",78,6,0]
[{"$nulls":10},"538_78_7_202526",202526,538,"CT1",78,7,0]
[{"$nulls":10},"536_78_9_202526",202526,536,"CT1",78,9,0]
[{"$nulls":10},"528_78_11_202526",202526,528,"CT1",78,11,0]
[{"$nulls":10},"514_78.1_2_202526",202526,514,"CT1",78.1,2,0]
[{"$nulls":10},"534_78.1_2_202526",202526,534,"CT1",78.1,2,0]
[{"$nulls":10},"522_78.1_4_202526",202526,522,"CT1",78.1,4,11]
[{"$nulls":10},"520_78.1_6_202526",202526,520,"CT1",78.1,6,0]
[{"$nulls":10},"524_78.1_7_202526",202526,524,"CT1",78.1,7,0]
[{"$nulls":10},"520_78.1_8_202526",202526,520,"CT1",78.1,8,0]
[{"$nulls":10},"518_78.1_10_202526",202526,518,"CT1",78.1,10,0]
[{"$nulls":10},"518_78.1_11_202526",202526,518,"CT1",78.1,11,160]
[{"$nulls":10},"546_78.2_2_202526",202526,546,"CT1",78.2,2,0]
[{"$nulls":10},"520_78.2_3_202526",202526,520,"CT1",78.2,3,0]
[{"$nulls":10},"546_78.2_4_202526",202526,546,"CT1",78.2,4,0]
[{"$nulls":10},"545_78.2_6_202526",202526,545,"CT1",78.2,6,0]
[{"$nulls":10},"534_78.2_8_202526",202526,534,"CT1",78.2,8,0]
[{"$nulls":10},"524_78.2_10_202526",202526,524,"CT1",78.2,10,0]
[{"$nulls":10},"536_78.2_11_202526",202526,536,"CT1",78.2,11,0]
[{"$nulls":10},"532_78.2_12_202526",202526,532,"CT1",78.2,12,0]
[{"$nulls":10},"530_79_3_202526",202526,530,"CT1",79,3,454]
[{"$nulls":10},"530_79_4_202526",202526,530,"CT1",79,4,335]
[{"$nulls":10},"530_79_5_202526",202526,530,"CT1",79,5,250]
[{"$nulls":10},"528_79_7_202526",202526,528,"CT1",79,7,33]
[{"$nulls":10},"544_79_9_202526",202526,544,"CT1",79,9,0]
[{"$nulls":10},"548_79_10_202526",202526,548,"CT1",79,10,3]
[{"$nulls":10},"526_79_11_202526",202526,526,"CT1",79,11,338]
[{"$nulls":10},"514_81_3_202526",202526,514,"CT1",81,3,0]
[{"$nulls":10},"512_81_5_202526",202526,512,"CT1",81,5,0]
[{"$nulls":10},"540_81_6_202526",202526,540,"CT1",81,6,0]
[{"$nulls":10},"534_81_8_202526",202526,534,"CT1",81,8,0]
[{"$nulls":10},"542_81_9_202526",202526,542,"CT1",81,9,0]
[{"$nulls":10},"542_81_10_202526",202526,542,"CT1",81,10,0]
[{"$nulls":10},"540_81_12_202526",202526,540,"CT1",81,12,25]
[{"$nulls":10},"536_82_2_202526",202526,536,"CT1",82,2,1]
[{"$nulls":10},"540_82_3_202526",202526,540,"CT1",82,3,2]
[{"$nulls":10},"538_82_5_202526",202526,538,"CT1",82,5,0]
[{"$nulls":10},"526_82_7_202526",202526,526,"CT1",82,7,0]
[{"$nulls":10},"516_82_9_202526",202526,516,"CT1",82,9,0]
[{"$nulls":10},"550_82_10_202526",202526,550,"CT1",82,10,0]
[{"$nulls":10},"524_82_11_202526",202526,524,"CT1",82,11,0]
[{"$nulls":10},"552_84_2_202526",202526,552,"CT1",84,2,0]
[{"$nulls":10},"552_84_3_202526",202526,552,"CT1",84,3,0]
[{"$nulls":10},"544_84_5_202526",202526,544,"CT1",84,5,0]
[{"$nulls":10},"546_84_6_202526",202526,546,"CT1",84,6,0]
[{"$nulls":10},"550_84_7_202526",202526,550,"CT1",84,7,0]
[{"$nulls":10},"548_84_9_202526",202526,548,"CT1",84,9,0]
[{"$nulls":10},"542_84_10_202526",202526,542,"CT1",84,10,0]
[{"$nulls":10},"528_85_2_202526",202526,528,"CT1",85,2,0]
[{"$nulls":10},"544_85_2_202526",202526,544,"CT1",85,2,0]
[{"$nulls":10},"536_85_4_202526",202526,536,"CT1",85,4,0]
[{"$nulls":10},"526_85_6_202526",202526,526,"CT1",85,6,0]
[{"$nulls":10},"514_85_8_202526",202526,514,"CT1",85,8,0]
[{"$nulls":10},"534_85_8_202526",202526,534,"CT1",85,8,0]
[{"$nulls":10},"516_85_11_202526",202526,516,"CT1",85,11,0]
[{"$nulls":10},"520_85_12_202526",202526,520,"CT1",85,12,0]
[{"$nulls":10},"552_85.1_2_202526",202526,552,"CT1",85.1,2,0]
[{"$nulls":10},"552_85.1_3_202526",202526,552,"CT1",85.1,3,0]
[{"$nulls":10},"518_85.1_5_202526",202526,518,"CT1",85.1,5,0]
[{"$nulls":10},"512_85.1_7_202526",202526,512,"CT1",85.1,7,0]
[{"$nulls":10},"546_85.1_8_202526",202526,546,"CT1",85.1,8,0]
[{"$nulls":10},"538_85.1_10_202526",202526,538,"CT1",85.1,10,0]
[{"$nulls":10},"548_85.1_10_202526",202526,548,"CT1",85.1,10,0]
[{"$nulls":10},"545_85.1_12_202526",202526,545,"CT1",85.1,12,0]
[{"$nulls":10},"550_85.2_2_202526",202526,550,"CT1",85.2,2,0]
[{"$nulls":10},"532_85.2_5_202526",202526,532,"CT1",85.2,5,0]
[{"$nulls":10},"544_85.2_5_202526",202526,544,"CT1",85.2,5,0]
[{"$nulls":10},"522_85.2_8_202526",202526,522,"CT1",85.2,8,0]
[{"$nulls":10},"530_85.2_9_202526",202526,530,"CT1",85.2,9,0]
[{"$nulls":10},"520_85.2_11_202526",202526,520,"CT1",85.2,11,0]
[{"$nulls":10},"516_85.2_12_202526",202526,516,"CT1",85.2,12,0]
[{"$nulls":10},"528_86_2_202526",202526,528,"CT1",86,2,0]
[{"$nulls":10},"518_86_4_202526",202526,518,"CT1",86,4,0]
[{"$nulls":10},"514_86_6_202526",202526,514,"CT1",86,6,0]
[{"$nulls":10},"546_86_7_202526",202526,546,"CT1",86,7,0]
[{"$nulls":10},"512_86_8_202526",202526,512,"CT1",86,8,0]
[{"$nulls":10},"512_86_10_202526",202526,512,"CT1",86,10,0]
[{"$nulls":10},"514_86_11_202526",202526,514,"CT1",86,11,0]
[{"$nulls":10},"542_88_3_202526",202526,542,"CT1",88,3,0]
[{"$nulls":10},"552_88_3_202526",202526,552,"CT1",88,3,0]
[{"$nulls":10},"528_88_6_202526",202526,528,"CT1",88,6,0]
[{"$nulls":10},"540_88_7_202526",202526,540,"CT1",88,7,0]
[{"$nulls":10},"530_88_9_202526",202526,530,"CT1",88,9,0]
[{"$nulls":10},"546_88_9_202526",202526,546,"CT1",88,9,0]
[{"$nulls":10},"538_88_11_202526",202526,538,"CT1",88,11,0]
[{"$nulls":10},{"$f":"M58948&\"_\"&O58948&\"_\"&P58948&\"_\"&L58948","v":"524_89_2_202526"},202526,524,"CT1",89,2,0]
[{"$nulls":10},"524_89_4_202526",202526,524,"CT1",89,4,0]
[{"$nulls":10},"514_89_6_202526",202526,514,"CT1",89,6,0]
[{"$nulls":10},"538_89_7_202526",202526,538,"CT1",89,7,0]
[{"$nulls":10},"522_89_8_202526",202526,522,"CT1",89,8,1]
[{"$nulls":10},"520_89_9_202526",202526,520,"CT1",89,9,0]
[{"$nulls":10},"550_89_11_202526",202526,550,"CT1",89,11,0]
[{"$nulls":10},"520_89_12_202526",202526,520,"CT1",89,12,50]
[{"$nulls":10},"534_91_3_202526",202526,534,"CT1",91,3,116]
[{"$nulls":10},"548_91_4_202526",202526,548,"CT1",91,4,23]
[{"$nulls":10},"536_91_6_202526",202526,536,"CT1",91,6,11]
[{"$nulls":10},"514_91_7_202526",202526,514,"CT1",91,7,0]
[{"$nulls":10},"546_91_8_202526",202526,546,"CT1",91,8,0]
[{"$nulls":10},"530_91_10_202526",202526,530,"CT1",91,10,0]
[{"$nulls":10},"534_91_12_202526",202526,534,"CT1",91,12,100]
[{"$nulls":10},"532_92_2_202526",202526,532,"CT1",92,2,0]
[{"$nulls":10},"542_92_3_202526",202526,542,"CT1",92,3,0]
[{"$nulls":10},"532_92_5_202526",202526,532,"CT1",92,5,0]
[{"$nulls":10},"545_92_7_202526",202526,545,"CT1",92,7,0]
[{"$nulls":10},"518_92_9_202526",202526,518,"CT1",92,9,6]
[{"$nulls":10},"546_92_10_202526",202526,546,"CT1",92,10,0]
[{"$nulls":10},"518_92_11_202526",202526,518,"CT1",92,11,393]
[{"$nulls":10},"516_92.1_2_202526",202526,516,"CT1",92.1,2,0]
[{"$nulls":10},"542_92.1_3_202526",202526,542,"CT1",92.1,3,0]
[{"$nulls":10},"545_92.1_5_202526",202526,545,"CT1",92.1,5,0]
[{"$nulls":10},"514_92.1_6_202526",202526,514,"CT1",92.1,6,0]
[{"$nulls":10},"536_92.1_7_202526",202526,536,"CT1",92.1,7,0]
[{"$nulls":10},"544_92.1_9_202526",202526,544,"CT1",92.1,9,0]
[{"$nulls":10},"538_92.1_10_202526",202526,538,"CT1",92.1,10,0]
[{"$nulls":10},"544_92.1_11_202526",202526,544,"CT1",92.1,11,0]
[{"$nulls":10},"542_92.2_2_202526",202526,542,"CT1",92.2,2,0]
[{"$nulls":10},"550_92.2_4_202526",202526,550,"CT1",92.2,4,0]
[{"$nulls":10},"528_92.2_6_202526",202526,528,"CT1",92.2,6,0]
[{"$nulls":10},"552_92.2_7_202526",202526,552,"CT1",92.2,7,0]
[{"$nulls":10},"528_92.2_8_202526",202526,528,"CT1",92.2,8,0]
[{"$nulls":10},"526_92.2_10_202526",202526,526,"CT1",92.2,10,0]
[{"$nulls":10},"546_92.2_11_202526",202526,546,"CT1",92.2,11,0]
[{"$nulls":10},"512_93_3_202526",202526,512,"CT1",93,3,221]
[{"$nulls":10},"548_93_3_202526",202526,548,"CT1",93,3,9]
[{"$nulls":10},"512_93_5_202526",202526,512,"CT1",93,5,492]
[{"$nulls":10},"552_93_6_202526",202526,552,"CT1",93,6,320]
[{"$nulls":10},"544_93_7_202526",202526,544,"CT1",93,7,10]
[{"$nulls":10},"532_93_10_202526",202526,532,"CT1",93,10,14]
[{"$nulls":10},"550_93_10_202526",202526,550,"CT1",93,10,0]
[{"$nulls":10},"514_93.1_3_202526",202526,514,"CT1",93.1,3,0]
[{"$nulls":10},"538_93.1_4_202526",202526,538,"CT1",93.1,4,0]
[{"$nulls":10},"516_93.1_6_202526",202526,516,"CT1",93.1,6,0]
[{"$nulls":10},"538_93.1_6_202526",202526,538,"CT1",93.1,6,0]
[{"$nulls":10},"536_93.1_8_202526",202526,536,"CT1",93.1,8,0]
[{"$nulls":10},"552_93.1_9_202526",202526,552,"CT1",93.1,9,0]
[{"$nulls":10},"522_94_2_202526",202526,522,"CT1",94,2,37]
[{"$nulls":10},"512_94_3_202526",202526,512,"CT1",94,3,74]
[{"$nulls":10},"522_94_4_202526",202526,522,"CT1",94,4,137]
[{"$nulls":10},"520_94_6_202526",202526,520,"CT1",94,6,155]
[{"$nulls":10},"548_94_6_202526",202526,548,"CT1",94,6,60]
[{"$nulls":10},"542_94_9_202526",202526,542,"CT1",94,9,0]
[{"$nulls":10},"550_94_9_202526",202526,550,"CT1",94,9,11]
[{"$nulls":10},"548_94_11_202526",202526,548,"CT1",94,11,390]
[{"$nulls":10},"546_95_3_202526",202526,546,"CT1",95,3,4]
[{"$nulls":10},"522_95_5_202526",202526,522,"CT1",95,5,3]
[{"$nulls":10},"546_95_5_202526",202526,546,"CT1",95,5,4]
[{"$nulls":10},"524_95_8_202526",202526,524,"CT1",95,8,91]
[{"$nulls":10},"534_95_9_202526",202526,534,"CT1",95,9,0]
[{"$nulls":10},"524_95_11_202526",202526,524,"CT1",95,11,1406]
[{"$nulls":10},"518_97_2_202526",202526,518,"CT1",97,2,0]
[{"$nulls":10},"532_97_3_202526",202526,532,"CT1",97,3,0]
[{"$nulls":10},"530_97_5_202526",202526,530,"CT1",97,5,0]
[{"$nulls":10},"532_97_7_202526",202526,532,"CT1",97,7,0]
[{"$nulls":10},"550_97_8_202526",202526,550,"CT1",97,8,0]
[{"$nulls":10},"514_97_9_202526",202526,514,"CT1",97,9,0]
[{"$nulls":10},"516_97_11_202526",202526,516,"CT1",97,11,0]
[{"$nulls":10},"514_98_2_202526",202526,514,"CT1",98,2,8]
[{"$nulls":10},"528_98_3_202526",202526,528,"CT1",98,3,0]
[{"$nulls":10},"514_98_4_202526",202526,514,"CT1",98,4,2.5]
[{"$nulls":10},"530_98_6_202526",202526,530,"CT1",98,6,0]
[{"$nulls":10},"544_98_7_202526",202526,544,"CT1",98,7,0]
[{"$nulls":10},"534_98_9_202526",202526,534,"CT1",98,9,0]
[{"$nulls":10},"524_98_10_202526",202526,524,"CT1",98,10,0]
[{"$nulls":10},"542_98_11_202526",202526,542,"CT1",98,11,0]
[{"$nulls":10},"526_100_2_202526",202526,526,"CT1",100,2,0]
[{"$nulls":10},"528_100_4_202526",202526,528,"CT1",100,4,0]
[{"$nulls":10},"518_100_6_202526",202526,518,"CT1",100,6,0]
[{"$nulls":10},"540_100_7_202526",202526,540,"CT1",100,7,0]
[{"$nulls":10},"526_100_8_202526",202526,526,"CT1",100,8,0]
[{"$nulls":10},"542_100_10_202526",202526,542,"CT1",100,10,0]
[{"$nulls":10},"512_100_12_202526",202526,512,"CT1",100,12,100]
[{"$nulls":10},"524_100_12_202526",202526,524,"CT1",100,12,100]
[{"$nulls":10},"536_101_3_202526",202526,536,"CT1",101,3,0]
[{"$nulls":10},"552_101_4_202526",202526,552,"CT1",101,4,0]
[{"$nulls":10},"544_101_6_202526",202526,544,"CT1",101,6,0]
[{"$nulls":10},"530_101_7_202526",202526,530,"CT1",101,7,0]
[{"$nulls":10},"550_101_8_202526",202526,550,"CT1",101,8,0]
[{"$nulls":10},"532_101_10_202526",202526,532,"CT1",101,10,0]
[{"$nulls":10},"538_101_12_202526",202526,538,"CT1",101,12,0]
[{"$nulls":10},"528_101.1_3_202526",202526,528,"CT1",101.1,3,0]
[{"$nulls":10},"545_101.1_4_202526",202526,545,"CT1",101.1,4,0]
[{"$nulls":10},"536_101.1_5_202526",202526,536,"CT1",101.1,5,0]
[{"$nulls":10},"546_101.1_7_202526",202526,546,"CT1",101.1,7,0]
[{"$nulls":10},"522_101.1_9_202526",202526,522,"CT1",101.1,9,0]
[{"$nulls":10},"534_101.1_9_202526",202526,534,"CT1",101.1,9,0]
[{"$nulls":10},"542_101.1_11_202526",202526,542,"CT1",101.1,11,0]
[{"$nulls":10},"520_101.2_2_202526",202526,520,"CT1",101.2,2,0]
[{"$nulls":10},"544_101.2_3_202526",202526,544,"CT1",101.2,3,0]
[{"$nulls":10},"548_101.2_5_202526",202526,548,"CT1",101.2,5,0]
[{"$nulls":10},"518_101.2_6_202526",202526,518,"CT1",101.2,6,0]
[{"$nulls":10},"538_101.2_7_202526",202526,538,"CT1",101.2,7,0]
[{"$nulls":10},"546_101.2_9_202526",202526,546,"CT1",101.2,9,0]
[{"$nulls":10},"538_101.2_11_202526",202526,538,"CT1",101.2,11,0]
[{"$nulls":10},"550_101.2_12_202526",202526,550,"CT1",101.2,12,0]
[{"$nulls":10},"545_102_2_202526",202526,545,"CT1",102,2,0]
[{"$nulls":10},"552_102_4_202526",202526,552,"CT1",102,4,10.5]
[{"$nulls":10},"532_102_6_202526",202526,532,"CT1",102,6,0]
[{"$nulls":10},"522_102_8_202526",202526,522,"CT1",102,8,0]
[{"$nulls":10},"546_102_8_202526",202526,546,"CT1",102,8,0]
[{"$nulls":10},"530_102_10_202526",202526,530,"CT1",102,10,0]
[{"$nulls":10},"548_102_11_202526",202526,548,"CT1",102,11,0]
[{"$nulls":10},"516_104_4_202526",202526,516,"CT1",104,4,0]
[{"$nulls":10},"528_104_4_202526",202526,528,"CT1",104,4,0]
[{"$nulls":10},"544_104_5_202526",202526,544,"CT1",104,5,0]
[{"$nulls":10},"514_104_8_202526",202526,514,"CT1",104,8,0]
[{"$nulls":10},"545_104_8_202526",202526,545,"CT1",104,8,0]
[{"$nulls":10},"522_104_10_202526",202526,522,"CT1",104,10,0]
[{"$nulls":10},"512_104_12_202526",202526,512,"CT1",104,12,25]
[{"$nulls":10},"516_105_3_202526",202526,516,"CT1",105,3,0]
[{"$nulls":10},"542_105_4_202526",202526,542,"CT1",105,4,0]
[{"$nulls":10},"518_105_6_202526",202526,518,"CT1",105,6,0]
[{"$nulls":10},"548_105_6_202526",202526,548,"CT1",105,6,0]
[{"$nulls":10},"540_105_8_202526",202526,540,"CT1",105,8,0]
[{"$nulls":10},"512_105_10_202526",202526,512,"CT1",105,10,0]
[{"$nulls":10},"526_105_12_202526",202526,526,"CT1",105,12,50]
[{"$nulls":10},"538_105_12_202526",202526,538,"CT1",105,12,50]
[{"$nulls":10},"526_107_4_202526",202526,526,"CT1",107,4,43]
[{"$nulls":10},"524_107_5_202526",202526,524,"CT1",107,5,90]
[{"$nulls":10},"550_107_5_202526",202526,550,"CT1",107,5,72]
[{"$nulls":10},"532_107_7_202526",202526,532,"CT1",107,7,64]
[{"$nulls":10},"522_107_9_202526",202526,522,"CT1",107,9,0]
[{"$nulls":10},"522_107_11_202526",202526,522,"CT1",107,11,0]
[{"$nulls":10},{"$f":"M63428&\"_\"&O63428&\"_\"&P63428&\"_\"&L63428","v":"550_107_12_202526"},202526,550,"CT1",107,12,100]
[{"$nulls":10},"524_108_3_202526",202526,524,"CT1",108,3,0]
[{"$nulls":10},"516_108_4_202526",202526,516,"CT1",108,4,118]
[{"$nulls":10},"548_108_5_202526",202526,548,"CT1",108,5,2]
[{"$nulls":10},"518_108_7_202526",202526,518,"CT1",108,7,40.5]
[{"$nulls":10},"536_108_9_202526",202526,536,"CT1",108,9,0]
[{"$nulls":10},"520_108_10_202526",202526,520,"CT1",108,10,0]
[{"$nulls":10},"536_108_11_202526",202526,536,"CT1",108,11,0]
[{"$nulls":10},"534_108.1_2_202526",202526,534,"CT1",108.1,2,0]
[{"$nulls":10},"534_108.1_4_202526",202526,534,"CT1",108.1,4,0]
[{"$nulls":10},"542_108.1_4_202526",202526,542,"CT1",108.1,4,4]
[{"$nulls":10},"532_108.1_6_202526",202526,532,"CT1",108.1,6,0]
[{"$nulls":10},{"$f":"M63812&\"_\"&O63812&\"_\"&P63812&\"_\"&L63812","v":"528_108.1_8_202526"},202526,528,"CT1",108.1,8,36]
[{"$nulls":10},"518_108.1_10_202526",202526,518,"CT1",108.1,10,0]
[{"$nulls":10},"530_108.1_11_202526",202526,530,"CT1",108.1,11,0]
[{"$nulls":10},"518_108.1_12_202526",202526,518,"CT1",108.1,12,200]
[{"$nulls":10},"516_108.2_3_202526",202526,516,"CT1",108.2,3,0]
[{"$nulls":10},"524_108.2_4_202526",202526,524,"CT1",108.2,4,0]
[{"$nulls":10},"545_108.2_6_202526",202526,545,"CT1",108.2,6,0]
[{"$nulls":10},"526_108.2_7_202526",202526,526,"CT1",108.2,7,0]
[{"$nulls":10},"545_108.2_8_202526",202526,545,"CT1",108.2,8,0]
[{"$nulls":10},"544_108.2_10_202526",202526,544,"CT1",108.2,10,0]
[{"$nulls":10},"540_108.2_12_202526",202526,540,"CT1",108.2,12,0]
[{"$nulls":10},"550_108.2_12_202526",202526,550,"CT1",108.2,12,0]
[{"$nulls":10},"542_109_4_202526",202526,542,"CT1",109,4,23.5]
[{"$nulls":10},"530_109_5_202526",202526,530,"CT1",109,5,249.5]
[{"$nulls":10},"528_109_7_202526",202526,528,"CT1",109,7,99]
[{"$nulls":10},"536_109_8_202526",202526,536,"CT1",109,8,15]
[{"$nulls":10},"528_109_9_202526",202526,528,"CT1",109,9,27]
[{"$nulls":10},"538_109_11_202526",202526,538,"CT1",109,11,426]
[{"$nulls":10},"514_111_3_202526",202526,514,"CT1",111,3,0]
[{"$nulls":10},"512_111_5_202526",202526,512,"CT1",111,5,0]
[{"$nulls":10},{"$f":"M64452&\"_\"&O64452&\"_\"&P64452&\"_\"&L64452","v":"532_111_5_202526"},202526,532,"CT1",111,5,0]
[{"$nulls":10},"512_111_7_202526",202526,512,"CT1",111,7,0]
[{"$nulls":10},"552_111_8_202526",202526,552,"CT1",111,8,0]
[{"$nulls":10},"545_111_10_202526",202526,545,"CT1",111,10,0]
[{"$nulls":10},"532_111_12_202526",202526,532,"CT1",111,12,25]
[{"$nulls":10},"546_112_2_202526",202526,546,"CT1",112,2,0]
[{"$nulls":10},"540_112_3_202526",202526,540,"CT1",112,3,1]
[{"$nulls":10},"538_112_5_202526",202526,538,"CT1",112,5,0]
[{"$nulls":10},"542_112_6_202526",202526,542,"CT1",112,6,0]
[{"$nulls":10},"538_112_7_202526",202526,538,"CT1",112,7,0]
[{"$nulls":10},"544_112_9_202526",202526,544,"CT1",112,9,0]
[{"$nulls":10},"524_112_11_202526",202526,524,"CT1",112,11,0]
[{"$nulls":10},"522_114_2_202526",202526,522,"CT1",114,2,0]
[{"$nulls":10},"538_114_2_202526",202526,538,"CT1",114,2,0]
[{"$nulls":10},"522_114_4_202526",202526,522,"CT1",114,4,0]
[{"$nulls":10},"540_114_5_202526",202526,540,"CT1",114,5,0]
[{"$nulls":10},"550_114_7_202526",202526,550,"CT1",114,7,0]
[{"$nulls":10},"542_114_9_202526",202526,542,"CT1",114,9,0]
[{"$nulls":10},"552_114_10_202526",202526,552,"CT1",114,10,0]
[{"$nulls":10},"548_114_11_202526",202526,548,"CT1",114,11,0]
[{"$nulls":10},"512_115_3_202526",202526,512,"CT1",115,3,0]
[{"$nulls":10},"536_115_4_202526",202526,536,"CT1",115,4,0]
[{"$nulls":10},"526_115_6_202526",202526,526,"CT1",115,6,0]
[{"$nulls":10},"548_115_6_202526",202526,548,"CT1",115,6,0]
[{"$nulls":10},"534_115_8_202526",202526,534,"CT1",115,8,0]
[{"$nulls":10},"532_115_10_202526",202526,532,"CT1",115,10,0]
[{"$nulls":10},"520_115_12_202526",202526,520,"CT1",115,12,0]
[{"$nulls":10},"532_115_12_202526",202526,532,"CT1",115,12,0]
[{"$nulls":10},"545_115.1_2_202526",202526,545,"CT1",115.1,2,0]
[{"$nulls":10},"518_115.1_5_202526",202526,518,"CT1",115.1,5,0]
[{"$nulls":10},"550_115.1_6_202526",202526,550,"CT1",115.1,6,0]
[{"$nulls":10},"516_115.1_8_202526",202526,516,"CT1",115.1,8,0]
[{"$nulls":10},"516_115.1_9_202526",202526,516,"CT1",115.1,9,0]
[{"$nulls":10},"518_115.1_11_202526",202526,518,"CT1",115.1,11,0]
[{"$nulls":10},"545_115.1_12_202526",202526,545,"CT1",115.1,12,0]
[{"$nulls":10},"536_115.2_3_202526",202526,536,"CT1",115.2,3,0]
[{"$nulls":10},"512_115.2_4_202526",202526,512,"CT1",115.2,4,0]
[{"$nulls":10},{"$f":"M65668&\"_\"&O65668&\"_\"&P65668&\"_\"&L65668","v":"544_115.2_5_202526"},202526,544,"CT1",115.2,5,0]
[{"$nulls":10},"514_115.2_7_202526",202526,514,"CT1",115.2,7,0]
[{"$nulls":10},"530_115.2_9_202526",202526,530,"CT1",115.2,9,0]
[{"$nulls":10},"542_115.2_9_202526",202526,542,"CT1",115.2,9,0]
[{"$nulls":10},"528_115.2_12_202526",202526,528,"CT1",115.2,12,0]
[{"$nulls":10},"528_116_2_202526",202526,528,"CT1",116,2,0]
[{"$nulls":10},"518_116_4_202526",202526,518,"CT1",116,4,0]
[{"$nulls":10},"522_116_5_202526",202526,522,"CT1",116,5,0]
[{"$nulls":10},"526_116_6_202526",202526,526,"CT1",116,6,0]
[{"$nulls":10},"524_116_8_202526",202526,524,"CT1",116,8,0]
[{"$nulls":10},"512_116_10_202526",202526,512,"CT1",116,10,0]
[{"$nulls":10},"545_116_11_202526",202526,545,"CT1",116,11,0]
[{"$nulls":10},"518_118_2_202526",202526,518,"CT1",118,2,0]
[{"$nulls":10},"552_118_3_202526",202526,552,"CT1",118,3,0]
[{"$nulls":10},"520_118_5_202526",202526,520,"CT1",118,5,0]
[{"$nulls":10},"540_118_7_202526",202526,540,"CT1",118,7,0]
[{"$nulls":10},"550_118_7_202526",202526,550,"CT1",118,7,0]
[{"$nulls":10},"534_118_10_202526",202526,534,"CT1",118,10,0]
[{"$nulls":10},"538_118_11_202526",202526,538,"CT1",118,11,0]
[{"$nulls":10},"536_119_2_202526",202526,536,"CT1",119,2,0]
[{"$nulls":10},"545_119_2_202526",202526,545,"CT1",119,2,0]
[{"$nulls":10},"536_119_4_202526",202526,536,"CT1",119,4,0]
[{"$nulls":10},"530_119_6_202526",202526,530,"CT1",119,6,0]
[{"$nulls":10},"522_119_8_202526",202526,522,"CT1",119,8,0.5]
[{"$nulls":10},"532_119_9_202526",202526,532,"CT1",119,9,0]
[{"$nulls":10},"530_119_10_202526",202526,530,"CT1",119,10,0]
[{"$nulls":10},"520_119_12_202526",202526,520,"CT1",119,12,50]
[{"$nulls":10},"526_121_2_202526",202526,526,"CT1",121,2,0]
[{"$nulls":10},"548_121_4_202526",202526,548,"CT1",121,4,23]
[{"$nulls":10},"518_121_5_202526",202526,518,"CT1",121,5,0]
[{"$nulls":10},"540_121_7_202526",202526,540,"CT1",121,7,6]
[{"$nulls":10},"546_121_8_202526",202526,546,"CT1",121,8,0]
[{"$nulls":10},"542_121_10_202526",202526,542,"CT1",121,10,0]
[{"$nulls":10},"512_121_11_202526",202526,512,"CT1",121,11,1954]
[{"$nulls":10},"545_121_12_202526",202526,545,"CT1",121,12,100]
[{"$nulls":10},"536_122_3_202526",202526,536,"CT1",122,3,0]
[{"$nulls":10},"532_122_5_202526",202526,532,"CT1",122,5,0]
[{"$nulls":10},"538_122_6_202526",202526,538,"CT1",122,6,0]
[{"$nulls":10},"540_122_7_202526",202526,540,"CT1",122,7,0]
[{"$nulls":10},"530_122_9_202526",202526,530,"CT1",122,9,0]
[{"$nulls":10},"532_122_10_202526",202526,532,"CT1",122,10,0]
[{"$nulls":10},"516_122.1_2_202526",202526,516,"CT1",122.1,2,0]
[{"$nulls":10},"534_122.1_2_202526",202526,534,"CT1",122.1,2,0]
[{"$nulls":10},"524_122.1_4_202526",202526,524,"CT1",122.1,4,0]
[{"$nulls":10},"514_122.1_6_202526",202526,514,"CT1",122.1,6,0]
[{"$nulls":10},"546_122.1_7_202526",202526,546,"CT1",122.1,7,0]
[{"$nulls":10},"544_122.1_9_202526",202526,544,"CT1",122.1,9,0]
[{"$nulls":10},"512_122.1_10_202526",202526,512,"CT1",122.1,10,0]
[{"$nulls":10},"524_122.1_11_202526",202526,524,"CT1",122.1,11,0]
[{"$nulls":10},"526_122.1_11_202526",202526,526,"CT1",122.1,11,0]
[{"$nulls":10},"528_122.1_11_202526",202526,528,"CT1",122.1,11,0]
[{"$nulls":10},"530_122.1_11_202526",202526,530,"CT1",122.1,11,0]
[{"$nulls":10},"532_122.1_11_202526",202526,532,"CT1",122.1,11,0]
[{"$nulls":10},"534_122.1_11_202526",202526,534,"CT1",122.1,11,0]
[{"$nulls":10},"536_122.1_11_202526",202526,536,"CT1",122.1,11,0]
[{"$nulls":10},"538_122.1_11_202526",202526,538,"CT1",122.1,11,0]
[{"$nulls":10},"540_122.1_11_202526",202526,540,"CT1",122.1,11,0]
[{"$nulls":10},"542_122.1_11_202526",202526,542,"CT1",122.1,11,0]
[{"$nulls":10},"544_122.1_11_202526",202526,544,"CT1",122.1,11,0]
[{"$nulls":10},"545_122.1_11_202526",202526,545,"CT1",122.1,11,0]
[{"$nulls":10},"546_122.1_11_202526",202526,546,"CT1",122.1,11,0]
[{"$nulls":10},"548_122.1_11_202526",202526,548,"CT1",122.1,11,0]
[{"$nulls":10},"550_122.1_11_202526",202526,550,"CT1",122.1,11,0]
[{"$nulls":10},"552_122.1_11_202526",202526,552,"CT1",122.1,11,0]
[{"$nulls":10},"512_122.1_12_202526",202526,512,"CT1",122.1,12,0]
[{"$nulls":10},"514_122.1_12_202526",202526,514,"CT1",122.1,12,0]
[{"$nulls":10},"516_122.1_12_202526",202526,516,"CT1",122.1,12,0]
[{"$nulls":10},"518_122.1_12_202526",202526,518,"CT1",122.1,12,0]
[{"$nulls":10},"520_122.1_12_202526",202526,520,"CT1",122.1,12,0]
[{"$nulls":10},"522_122.1_12_202526",202526,522,"CT1",122.1,12,0]
[{"$nulls":10},"524_122.1_12_202526",202526,524,"CT1",122.1,12,0]
[{"$nulls":10},"526_122.1_12_202526",202526,526,"CT1",122.1,12,0]
[{"$nulls":10},"528_122.1_12_202526",202526,528,"CT1",122.1,12,0]
[{"$nulls":10},"530_122.1_12_202526",202526,530,"CT1",122.1,12,0]
[{"$nulls":10},"532_122.1_12_202526",202526,532,"CT1",122.1,12,0]
[{"$nulls":10},"534_122.1_12_202526",202526,534,"CT1",122.1,12,0]
[{"$nulls":10},"536_122.1_12_202526",202526,536,"CT1",122.1,12,0]
[{"$nulls":10},"538_122.1_12_202526",202526,538,"CT1",122.1,12,0]
[{"$nulls":10},"540_122.1_12_202526",202526,540,"CT1",122.1,12,0]
[{"$nulls":10},"542_122.1_12_202526",202526,542,"CT1",122.1,12,0]
[{"$nulls":10},"544_122.1_12_202526",202526,544,"CT1",122.1,12,0]
[{"$nulls":10},"545_122.1_12_202526",202526,545,"CT1",122.1,12,0]
[{"$nulls":10},"546_122.1_12_202526",202526,546,"CT1",122.1,12,0]
[{"$nulls":10},"548_122.1_12_202526",202526,548,"CT1",122.1,12,0]
[{"$nulls":10},"550_122.1_12_202526",202526,550,"CT1",122.1,12,0]
[{"$nulls":10},"552_122.1_12_202526",202526,552,"CT1",122.1,12,0]
[{"$nulls":10},"512_122.2_2_202526",202526,512,"CT1",122.2,2,0]
[{"$nulls":10},"514_122.2_2_202526",202526,514,"CT1",122.2,2,0]
[{"$nulls":10},"516_122.2_2_202526",202526,516,"CT1",122.2,2,0]
[{"$nulls":10},"518_122.2_2_202526",202526,518,"CT1",122.2,2,0]
[{"$nulls":10},"520_122.2_2_202526",202526,520,"CT1",122.2,2,0]
[{"$nulls":10},"522_122.2_2_202526",202526,522,"CT1",122.2,2,0]
[{"$nulls":10},"524_122.2_2_202526",202526,524,"CT1",122.2,2,0]
[{"$nulls":10},"526_122.2_2_202526",202526,526,"CT1",122.2,2,0]
[{"$nulls":10},"528_122.2_2_202526",202526,528,"CT1",122.2,2,0]
[{"$nulls":10},"530_122.2_2_202526",202526,530,"CT1",122.2,2,0]
[{"$nulls":10},{"$f":"M67268&\"_\"&O67268&\"_\"&P67268&\"_\"&L67268","v":"532_122.2_2_202526"},202526,532,"CT1",122.2,2,0]
[{"$nulls":10},"534_122.2_2_202526",202526,534,"CT1",122.2,2,0]
[{"$nulls":10},"536_122.2_2_202526",202526,536,"CT1",122.2,2,0]
[{"$nulls":10},"538_122.2_2_202526",202526,538,"CT1",122.2,2,0]
[{"$nulls":10},"540_122.2_2_202526",202526,540,"CT1",122.2,2,0]
[{"$nulls":10},"542_122.2_2_202526",202526,542,"CT1",122.2,2,0]
[{"$nulls":10},"544_122.2_2_202526",202526,544,"CT1",122.2,2,0]
[{"$nulls":10},"545_122.2_2_202526",202526,545,"CT1",122.2,2,0]
[{"$nulls":10},"546_122.2_2_202526",202526,546,"CT1",122.2,2,0]
[{"$nulls":10},"548_122.2_2_202526",202526,548,"CT1",122.2,2,0]
[{"$nulls":10},"550_122.2_2_202526",202526,550,"CT1",122.2,2,0]
[{"$nulls":10},"552_122.2_2_202526",202526,552,"CT1",122.2,2,0]
[{"$nulls":10},"512_122.2_3_202526",202526,512,"CT1",122.2,3,0]
[{"$nulls":10},"514_122.2_3_202526",202526,514,"CT1",122.2,3,0]
[{"$nulls":10},"516_122.2_3_202526",202526,516,"CT1",122.2,3,0]
[{"$nulls":10},"518_122.2_3_202526",202526,518,"CT1",122.2,3,0]
[{"$nulls":10},"520_122.2_3_202526",202526,520,"CT1",122.2,3,0]
[{"$nulls":10},"522_122.2_3_202526",202526,522,"CT1",122.2,3,0]
[{"$nulls":10},"524_122.2_3_202526",202526,524,"CT1",122.2,3,0]
[{"$nulls":10},"526_122.2_3_202526",202526,526,"CT1",122.2,3,0]
[{"$nulls":10},"528_122.2_3_202526",202526,528,"CT1",122.2,3,0]
[{"$nulls":10},"530_122.2_3_202526",202526,530,"CT1",122.2,3,0]
[{"$nulls":10},"532_122.2_3_202526",202526,532,"CT1",122.2,3,0]
[{"$nulls":10},"534_122.2_3_202526",202526,534,"CT1",122.2,3,0]
[{"$nulls":10},"536_122.2_3_202526",202526,536,"CT1",122.2,3,0]
[{"$nulls":10},"538_122.2_3_202526",202526,538,"CT1",122.2,3,0]
[{"$nulls":10},"540_122.2_3_202526",202526,540,"CT1",122.2,3,0]
[{"$nulls":10},"542_122.2_3_202526",202526,542,"CT1",122.2,3,0]
[{"$nulls":10},"544_122.2_3_202526",202526,544,"CT1",122.2,3,0]
[{"$nulls":10},"545_122.2_3_202526",202526,545,"CT1",122.2,3,0]
[{"$nulls":10},"546_122.2_3_202526",202526,546,"CT1",122.2,3,0]
[{"$nulls":10},"548_122.2_3_202526",202526,548,"CT1",122.2,3,0]
[{"$nulls":10},"550_122.2_3_202526",202526,550,"CT1",122.2,3,0]
[{"$nulls":10},"552_122.2_3_202526",202526,552,"CT1",122.2,3,0]
[{"$nulls":10},"512_122.2_4_202526",202526,512,"CT1",122.2,4,0]
[{"$nulls":10},"514_122.2_4_202526",202526,514,"CT1",122.2,4,0]
[{"$nulls":10},"516_122.2_4_202526",202526,516,"CT1",122.2,4,0]
[{"$nulls":10},"518_122.2_4_202526",202526,518,"CT1",122.2,4,0]
[{"$nulls":10},"520_122.2_4_202526",202526,520,"CT1",122.2,4,0]
[{"$nulls":10},"522_122.2_4_202526",202526,522,"CT1",122.2,4,0]
[{"$nulls":10},"524_122.2_4_202526",202526,524,"CT1",122.2,4,0]
[{"$nulls":10},"526_122.2_4_202526",202526,526,"CT1",122.2,4,0]
[{"$nulls":10},"528_122.2_4_202526",202526,528,"CT1",122.2,4,0]
[{"$nulls":10},"530_122.2_4_202526",202526,530,"CT1",122.2,4,0]
[{"$nulls":10},"532_122.2_4_202526",202526,532,"CT1",122.2,4,0]
[{"$nulls":10},"534_122.2_4_202526",202526,534,"CT1",122.2,4,0]
[{"$nulls":10},"536_122.2_4_202526",202526,536,"CT1",122.2,4,0]
[{"$nulls":10},"538_122.2_4_202526",202526,538,"CT1",122.2,4,0]
[{"$nulls":10},"540_122.2_4_202526",202526,540,"CT1",122.2,4,0]
[{"$nulls":10},"542_122.2_4_202526",202526,542,"CT1",122.2,4,0]
[{"$nulls":10},"544_122.2_4_202526",202526,544,"CT1",122.2,4,0]
[{"$nulls":10},"545_122.2_4_202526",202526,545,"CT1",122.2,4,0]
[{"$nulls":10},"546_122.2_4_202526",202526,546,"CT1",122.2,4,0]
[{"$nulls":10},"548_122.2_4_202526",202526,548,"CT1",122.2,4,0]
[{"$nulls":10},"550_122.2_4_202526",202526,550,"CT1",122.2,4,0]
[{"$nulls":10},"552_122.2_4_202526",202526,552,"CT1",122.2,4,0]
[{"$nulls":10},"512_122.2_5_202526",202526,512,"CT1",122.2,5,0]
[{"$nulls":10},"514_122.2_5_202526",202526,514,"CT1",122.2,5,0]
[{"$nulls":10},"516_122.2_5_202526",202526,516,"CT1",122.2,5,0]
[{"$nulls":10},"518_122.2_5_202526",202526,518,"CT1",122.2,5,0]
[{"$nulls":10},"520_122.2_5_202526",202526,520,"CT1",122.2,5,0]
[{"$nulls":10},"522_122.2_5_202526",202526,522,"CT1",122.2,5,0]
[{"$nulls":10},"524_122.2_5_202526",202526,524,"CT1",122.2,5,0]
[{"$nulls":10},"526_122.2_5_202526",202526,526,"CT1",122.2,5,0]
[{"$nulls":10},{"$f":"M67332&\"_\"&O67332&\"_\"&P67332&\"_\"&L67332","v":"528_122.2_5_202526"},202526,528,"CT1",122.2,5,0]
[{"$nulls":10},"530_122.2_5_202526",202526,530,"CT1",122.2,5,0]
[{"$nulls":10},"532_122.2_5_202526",202526,532,"CT1",122.2,5,0]
[{"$nulls":10},"534_122.2_5_202526",202526,534,"CT1",122.2,5,0]
[{"$nulls":10},"536_122.2_5_202526",202526,536,"CT1",122.2,5,0]
[{"$nulls":10},"538_122.2_5_202526",202526,538,"CT1",122.2,5,0]
[{"$nulls":10},"540_122.2_5_202526",202526,540,"CT1",122.2,5,0]
[{"$nulls":10},"542_122.2_5_202526",202526,542,"CT1",122.2,5,0]
[{"$nulls":10},"544_122.2_5_202526",202526,544,"CT1",122.2,5,0]
[{"$nulls":10},"545_122.2_5_202526",202526,545,"CT1",122.2,5,0]
[{"$nulls":10},"546_122.2_5_202526",202526,546,"CT1",122.2,5,0]
[{"$nulls":10},"548_122.2_5_202526",202526,548,"CT1",122.2,5,0]
[{"$nulls":10},"550_122.2_5_202526",202526,550,"CT1",122.2,5,0]
[{"$nulls":10},"552_122.2_5_202526",202526,552,"CT1",122.2,5,0]
[{"$nulls":10},"512_122.2_6_202526",202526,512,"CT1",122.2,6,0]
[{"$nulls":10},"514_122.2_6_202526",202526,514,"CT1",122.2,6,0]
[{"$nulls":10},"516_122.2_6_202526",202526,516,"CT1",122.2,6,0]
[{"$nulls":10},"518_122.2_6_202526",202526,518,"CT1",122.2,6,0]
[{"$nulls":10},"520_122.2_6_202526",202526,520,"CT1",122.2,6,0]
[{"$nulls":10},"522_122.2_6_202526",202526,522,"CT1",122.2,6,0]
[{"$nulls":10},"524_122.2_6_202526",202526,524,"CT1",122.2,6,0]
[{"$nulls":10},"526_122.2_6_202526",202526,526,"CT1",122.2,6,0]
[{"$nulls":10},"528_122.2_6_202526",202526,528,"CT1",122.2,6,0]
[{"$nulls":10},"530_122.2_6_202526",202526,530,"CT1",122.2,6,0]
[{"$nulls":10},"532_122.2_6_202526",202526,532,"CT1",122.2,6,0]
[{"$nulls":10},"534_122.2_6_202526",202526,534,"CT1",122.2,6,0]
[{"$nulls":10},"536_122.2_6_202526",202526,536,"CT1",122.2,6,0]
[{"$nulls":10},"538_122.2_6_202526",202526,538,"CT1",122.2,6,0]
[{"$nulls":10},"540_122.2_6_202526",202526,540,"CT1",122.2,6,0]
[{"$nulls":10},"542_122.2_6_202526",202526,542,"CT1",122.2,6,0]
[{"$nulls":10},"544_122.2_6_202526",202526,544,"CT1",122.2,6,0]
[{"$nulls":10},"545_122.2_6_202526",202526,545,"CT1",122.2,6,0]
[{"$nulls":10},"546_122.2_6_202526",202526,546,"CT1",122.2,6,0]
[{"$nulls":10},"548_122.2_6_202526",202526,548,"CT1",122.2,6,0]
[{"$nulls":10},"550_122.2_6_202526",202526,550,"CT1",122.2,6,0]
[{"$nulls":10},"552_122.2_6_202526",202526,552,"CT1",122.2,6,0]
[{"$nulls":10},"512_122.2_7_202526",202526,512,"CT1",122.2,7,0]
[{"$nulls":10},"514_122.2_7_202526",202526,514,"CT1",122.2,7,0]
[{"$nulls":10},"516_122.2_7_202526",202526,516,"CT1",122.2,7,0]
[{"$nulls":10},"518_122.2_7_202526",202526,518,"CT1",122.2,7,0]
[{"$nulls":10},"520_122.2_7_202526",202526,520,"CT1",122.2,7,0]
[{"$nulls":10},"522_122.2_7_202526",202526,522,"CT1",122.2,7,0]
[{"$nulls":10},"524_122.2_7_202526",202526,524,"CT1",122.2,7,0]
[{"$nulls":10},"526_122.2_7_202526",202526,526,"CT1",122.2,7,0]
[{"$nulls":10},"528_122.2_7_202526",202526,528,"CT1",122.2,7,0]
[{"$nulls":10},"530_122.2_7_202526",202526,530,"CT1",122.2,7,0]
[{"$nulls":10},"532_122.2_7_202526",202526,532,"CT1",122.2,7,0]
[{"$nulls":10},"534_122.2_7_202526",202526,534,"CT1",122.2,7,0]
[{"$nulls":10},"536_122.2_7_202526",202526,536,"CT1",122.2,7,0]
[{"$nulls":10},"538_122.2_7_202526",202526,538,"CT1",122.2,7,0]
[{"$nulls":10},"540_122.2_7_202526",202526,540,"CT1",122.2,7,0]
[{"$nulls":10},"542_122.2_7_202526",202526,542,"CT1",122.2,7,0]
[{"$nulls":10},"544_122.2_7_202526",202526,544,"CT1",122.2,7,0]
[{"$nulls":10},"545_122.2_7_202526",202526,545,"CT1",122.2,7,0]
[{"$nulls":10},"546_122.2_7_202526",202526,546,"CT1",122.2,7,0]
[{"$nulls":10},"548_122.2_7_202526",202526,548,"CT1",122.2,7,0]
[{"$nulls":10},"550_122.2_7_202526",202526,550,"CT1",122.2,7,0]
[{"$nulls":10},"552_122.2_7_202526",202526,552,"CT1",122.2,7,0]
[{"$nulls":10},"512_122.2_8_202526",202526,512,"CT1",122.2,8,0]
[{"$nulls":10},"514_122.2_8_202526",202526,514,"CT1",122.2,8,0]
[{"$nulls":10},"516_122.2_8_202526",202526,516,"CT1",122.2,8,0]
[{"$nulls":10},"518_122.2_8_202526",202526,518,"CT1",122.2,8,0]
[{"$nulls":10},"520_122.2_8_202526",202526,520,"CT1",122.2,8,0]
[{"$nulls":10},"522_122.2_8_202526",202526,522,"CT1",122.2,8,0]
[{"$nulls":10},{"$f":"M67396&\"_\"&O67396&\"_\"&P67396&\"_\"&L67396","v":"524_122.2_8_202526"},202526,524,"CT1",122.2,8,0]
[{"$nulls":10},"526_122.2_8_202526",202526,526,"CT1",122.2,8,0]
[{"$nulls":10},"528_122.2_8_202526",202526,528,"CT1",122.2,8,0]
[{"$nulls":10},"530_122.2_8_202526",202526,530,"CT1",122.2,8,0]
[{"$nulls":10},"532_122.2_8_202526",202526,532,"CT1",122.2,8,0]
[{"$nulls":10},"534_122.2_8_202526",202526,534,"CT1",122.2,8,0]
[{"$nulls":10},"536_122.2_8_202526",202526,536,"CT1",122.2,8,0]
[{"$nulls":10},"538_122.2_8_202526",202526,538,"CT1",122.2,8,0]
[{"$nulls":10},"540_122.2_8_202526",202526,540,"CT1",122.2,8,0]
[{"$nulls":10},"542_122.2_8_202526",202526,542,"CT1",122.2,8,0]
[{"$nulls":10},"544_122.2_8_202526",202526,544,"CT1",122.2,8,0]
[{"$nulls":10},"545_122.2_8_202526",202526,545,"CT1",122.2,8,0]
[{"$nulls":10},"546_122.2_8_202526",202526,546,"CT1",122.2,8,0]
[{"$nulls":10},"548_122.2_8_202526",202526,548,"CT1",122.2,8,0]
[{"$nulls":10},"550_122.2_8_202526",202526,550,"CT1",122.2,8,0]
[{"$nulls":10},"552_122.2_8_202526",202526,552,"CT1",122.2,8,0]
[{"$nulls":10},"512_122.2_9_202526",202526,512,"CT1",122.2,9,0]
[{"$nulls":10},"514_122.2_9_202526",202526,514,"CT1",122.2,9,0]
[{"$nulls":10},"516_122.2_9_202526",202526,516,"CT1",122.2,9,0]
[{"$nulls":10},"518_122.2_9_202526",202526,518,"CT1",122.2,9,0]
[{"$nulls":10},"520_122.2_9_202526",202526,520,"CT1",122.2,9,0]
[{"$nulls":10},"522_122.2_9_202526",202526,522,"CT1",122.2,9,0]
[{"$nulls":10},"524_122.2_9_202526",202526,524,"CT1",122.2,9,0]
[{"$nulls":10},"526_122.2_9_202526",202526,526,"CT1",122.2,9,0]
[{"$nulls":10},"528_122.2_9_202526",202526,528,"CT1",122.2,9,0]
[{"$nulls":10},"530_122.2_9_202526",202526,530,"CT1",122.2,9,0]
[{"$nulls":10},"532_122.2_9_202526",202526,532,"CT1",122.2,9,0]
[{"$nulls":10},"534_122.2_9_202526",202526,534,"CT1",122.2,9,0]
[{"$nulls":10},"536_122.2_9_202526",202526,536,"CT1",122.2,9,0]
[{"$nulls":10},"538_122.2_9_202526",202526,538,"CT1",122.2,9,0]
[{"$nulls":10},"540_122.2_9_202526",202526,540,"CT1",122.2,9,0]
[{"$nulls":10},"542_122.2_9_202526",202526,542,"CT1",122.2,9,0]
[{"$nulls":10},"544_122.2_9_202526",202526,544,"CT1",122.2,9,0]
[{"$nulls":10},"545_122.2_9_202526",202526,545,"CT1",122.2,9,0]
[{"$nulls":10},"546_122.2_9_202526",202526,546,"CT1",122.2,9,0]
[{"$nulls":10},"548_122.2_9_202526",202526,548,"CT1",122.2,9,0]
[{"$nulls":10},"550_122.2_9_202526",202526,550,"CT1",122.2,9,0]
[{"$nulls":10},"552_122.2_9_202526",202526,552,"CT1",122.2,9,0]
[{"$nulls":10},"512_122.2_10_202526",202526,512,"CT1",122.2,10,0]
[{"$nulls":10},"514_122.2_10_202526",202526,514,"CT1",122.2,10,0]
[{"$nulls":10},"516_122.2_10_202526",202526,516,"CT1",122.2,10,0]
[{"$nulls":10},"518_122.2_10_202526",202526,518,"CT1",122.2,10,0]
[{"$nulls":10},"520_122.2_10_202526",202526,520,"CT1",122.2,10,0]
[{"$nulls":10},"522_122.2_10_202526",202526,522,"CT1",122.2,10,0]
[{"$nulls":10},"524_122.2_10_202526",202526,524,"CT1",122.2,10,0]
[{"$nulls":10},"526_122.2_10_202526",202526,526,"CT1",122.2,10,0]
[{"$nulls":10},"528_122.2_10_202526",202526,528,"CT1",122.2,10,0]
[{"$nulls":10},"530_122.2_10_202526",202526,530,"CT1",122.2,10,0]
[{"$nulls":10},"532_122.2_10_202526",202526,532,"CT1",122.2,10,0]
[{"$nulls":10},"534_122.2_10_202526",202526,534,"CT1",122.2,10,0]
[{"$nulls":10},"536_122.2_10_202526",202526,536,"CT1",122.2,10,0]
[{"$nulls":10},"538_122.2_10_202526",202526,538,"CT1",122.2,10,0]
[{"$nulls":10},"540_122.2_10_202526",202526,540,"CT1",122.2,10,0]
[{"$nulls":10},"542_122.2_10_202526",202526,542,"CT1",122.2,10,0]
[{"$nulls":10},"544_122.2_10_202526",202526,544,"CT1",122.2,10,0]
[{"$nulls":10},"545_122.2_10_202526",202526,545,"CT1",122.2,10,0]
[{"$nulls":10},"546_122.2_10_202526",202526,546,"CT1",122.2,10,0]
[{"$nulls":10},"548_122.2_10_202526",202526,548,"CT1",122.2,10,0]
[{"$nulls":10},"550_122.2_10_202526",202526,550,"CT1",122.2,10,0]
[{"$nulls":10},"552_122.2_10_202526",202526,552,"CT1",122.2,10,0]
[{"$nulls":10},"512_122.2_11_202526",202526,512,"CT1",122.2,11,0]
[{"$nulls":10},"514_122.2_11_202526",202526,514,"CT1",122.2,11,0]
[{"$nulls":10},"516_122.2_11_202526",202526,516,"CT1",122.2,11,0]
[{"$nulls":10},"518_122.2_11_202526",202526,518,"CT1",122.2,11,0]
[{"$nulls":10},{"$f":"M67460&\"_\"&O67460&\"_\"&P67460&\"_\"&L67460","v":"520_122.2_11_202526"},202526,520,"CT1",122.2,11,0]
[{"$nulls":10},"522_122.2_11_202526",202526,522,"CT1",122.2,11,0]
[{"$nulls":10},"524_122.2_11_202526",202526,524,"CT1",122.2,11,0]
[{"$nulls":10},"526_122.2_11_202526",202526,526,"CT1",122.2,11,0]
[{"$nulls":10},"528_122.2_11_202526",202526,528,"CT1",122.2,11,0]
[{"$nulls":10},"530_122.2_11_202526",202526,530,"CT1",122.2,11,0]
[{"$nulls":10},"532_122.2_11_202526",202526,532,"CT1",122.2,11,0]
[{"$nulls":10},"534_122.2_11_202526",202526,534,"CT1",122.2,11,0]
[{"$nulls":10},"536_122.2_11_202526",202526,536,"CT1",122.2,11,0]
[{"$nulls":10},"538_122.2_11_202526",202526,538,"CT1",122.2,11,0]
[{"$nulls":10},"540_122.2_11_202526",202526,540,"CT1",122.2,11,0]
[{"$nulls":10},"542_122.2_11_202526",202526,542,"CT1",122.2,11,0]
[{"$nulls":10},"544_122.2_11_202526",202526,544,"CT1",122.2,11,0]
[{"$nulls":10},"545_122.2_11_202526",202526,545,"CT1",122.2,11,0]
[{"$nulls":10},"546_122.2_11_202526",202526,546,"CT1",122.2,11,0]
[{"$nulls":10},"548_122.2_11_202526",202526,548,"CT1",122.2,11,0]
[{"$nulls":10},"550_122.2_11_202526",202526,550,"CT1",122.2,11,0]
[{"$nulls":10},"552_122.2_11_202526",202526,552,"CT1",122.2,11,0]
[{"$nulls":10},"512_122.2_12_202526",202526,512,"CT1",122.2,12,0]
[{"$nulls":10},"514_122.2_12_202526",202526,514,"CT1",122.2,12,0]
[{"$nulls":10},"516_122.2_12_202526",202526,516,"CT1",122.2,12,0]
[{"$nulls":10},"518_122.2_12_202526",202526,518,"CT1",122.2,12,0]
[{"$nulls":10},"520_122.2_12_202526",202526,520,"CT1",122.2,12,0]
[{"$nulls":10},"522_122.2_12_202526",202526,522,"CT1",122.2,12,0]
[{"$nulls":10},"524_122.2_12_202526",202526,524,"CT1",122.2,12,0]
[{"$nulls":10},"526_122.2_12_202526",202526,526,"CT1",122.2,12,0]
[{"$nulls":10},"528_122.2_12_202526",202526,528,"CT1",122.2,12,0]
[{"$nulls":10},"530_122.2_12_202526",202526,530,"CT1",122.2,12,0]
[{"$nulls":10},"532_122.2_12_202526",202526,532,"CT1",122.2,12,0]
[{"$nulls":10},"534_122.2_12_202526",202526,534,"CT1",122.2,12,0]
[{"$nulls":10},"536_122.2_12_202526",202526,536,"CT1",122.2,12,0]
[{"$nulls":10},"538_122.2_12_202526",202526,538,"CT1",122.2,12,0]
[{"$nulls":10},"540_122.2_12_202526",202526,540,"CT1",122.2,12,0]
[{"$nulls":10},"542_122.2_12_202526",202526,542,"CT1",122.2,12,0]
[{"$nulls":10},"544_122.2_12_202526",202526,544,"CT1",122.2,12,0]
[{"$nulls":10},"545_122.2_12_202526",202526,545,"CT1",122.2,12,0]
[{"$nulls":10},"546_122.2_12_202526",202526,546,"CT1",122.2,12,0]
[{"$nulls":10},"548_122.2_12_202526",202526,548,"CT1",122.2,12,0]
[{"$nulls":10},"550_122.2_12_202526",202526,550,"CT1",122.2,12,0]
[{"$nulls":10},"552_122.2_12_202526",202526,552,"CT1",122.2,12,0]
[{"$nulls":10},"512_123_2_202526",202526,512,"CT1",123,2,146]
[{"$nulls":10},"514_123_2_202526",202526,514,"CT1",123,2,585]
[{"$nulls":10},"516_123_2_202526",202526,516,"CT1",123,2,178.5]
[{"$nulls":10},"518_123_2_202526",202526,518,"CT1",123,2,84]
[{"$nulls":10},"520_123_2_202526",202526,520,"CT1",123,2,13]
[{"$nulls":10},"522_123_2_202526",202526,522,"CT1",123,2,1]
[{"$nulls":10},"524_123_2_202526",202526,524,"CT1",123,2,84.75]
[{"$nulls":10},"526_123_2_202526",202526,526,"CT1",123,2,181.5]
[{"$nulls":10},"528_123_2_202526",202526,528,"CT1",123,2,346.5]
[{"$nulls":10},"530_123_2_202526",202526,530,"CT1",123,2,81]
[{"$nulls":10},"532_123_2_202526",202526,532,"CT1",123,2,132]
[{"$nulls":10},"534_123_2_202526",202526,534,"CT1",123,2,83]
[{"$nulls":10},"536_123_2_202526",202526,536,"CT1",123,2,5]
[{"$nulls":10},"538_123_2_202526",202526,538,"CT1",123,2,13]
[{"$nulls":10},"540_123_2_202526",202526,540,"CT1",123,2,248]
[{"$nulls":10},"542_123_2_202526",202526,542,"CT1",123,2,77]
[{"$nulls":10},"544_123_2_202526",202526,544,"CT1",123,2,44]
[{"$nulls":10},"545_123_2_202526",202526,545,"CT1",123,2,0]
[{"$nulls":10},"546_123_2_202526",202526,546,"CT1",123,2,0]
[{"$nulls":10},"548_123_2_202526",202526,548,"CT1",123,2,4]
[{"$nulls":10},"550_123_2_202526",202526,550,"CT1",123,2,21]
[{"$nulls":10},"552_123_2_202526",202526,552,"CT1",123,2,23]
[{"$nulls":10},"512_123_3_202526",202526,512,"CT1",123,3,221]
[{"$nulls":10},"514_123_3_202526",202526,514,"CT1",123,3,870]
[{"$nulls":10},{"$f":"M67524&\"_\"&O67524&\"_\"&P67524&\"_\"&L67524","v":"516_123_3_202526"},202526,516,"CT1",123,3,301.5]
[{"$nulls":10},"518_123_3_202526",202526,518,"CT1",123,3,91.5]
[{"$nulls":10},"520_123_3_202526",202526,520,"CT1",123,3,48]
[{"$nulls":10},"522_123_3_202526",202526,522,"CT1",123,3,2]
[{"$nulls":10},"524_123_3_202526",202526,524,"CT1",123,3,122.25]
[{"$nulls":10},"526_123_3_202526",202526,526,"CT1",123,3,237]
[{"$nulls":10},"528_123_3_202526",202526,528,"CT1",123,3,492]
[{"$nulls":10},"530_123_3_202526",202526,530,"CT1",123,3,114]
[{"$nulls":10},"532_123_3_202526",202526,532,"CT1",123,3,217]
[{"$nulls":10},"534_123_3_202526",202526,534,"CT1",123,3,116]
[{"$nulls":10},"536_123_3_202526",202526,536,"CT1",123,3,11]
[{"$nulls":10},"538_123_3_202526",202526,538,"CT1",123,3,32]
[{"$nulls":10},"540_123_3_202526",202526,540,"CT1",123,3,79]
[{"$nulls":10},"542_123_3_202526",202526,542,"CT1",123,3,39]
[{"$nulls":10},"544_123_3_202526",202526,544,"CT1",123,3,56]
[{"$nulls":10},"545_123_3_202526",202526,545,"CT1",123,3,0]
[{"$nulls":10},"546_123_3_202526",202526,546,"CT1",123,3,0]
[{"$nulls":10},"548_123_3_202526",202526,548,"CT1",123,3,9]
[{"$nulls":10},"550_123_3_202526",202526,550,"CT1",123,3,42]
[{"$nulls":10},"552_123_3_202526",202526,552,"CT1",123,3,173]
[{"$nulls":10},"512_123_4_202526",202526,512,"CT1",123,4,374]
[{"$nulls":10},"514_123_4_202526",202526,514,"CT1",123,4,913.5]
[{"$nulls":10},"516_123_4_202526",202526,516,"CT1",123,4,454.5]
[{"$nulls":10},"518_123_4_202526",202526,518,"CT1",123,4,159]
[{"$nulls":10},"520_123_4_202526",202526,520,"CT1",123,4,37]
[{"$nulls":10},"522_123_4_202526",202526,522,"CT1",123,4,3]
[{"$nulls":10},"524_123_4_202526",202526,524,"CT1",123,4,141.75]
[{"$nulls":10},"526_123_4_202526",202526,526,"CT1",123,4,379.5]
[{"$nulls":10},"528_123_4_202526",202526,528,"CT1",123,4,786]
[{"$nulls":10},"530_123_4_202526",202526,530,"CT1",123,4,148]
[{"$nulls":10},"532_123_4_202526",202526,532,"CT1",123,4,237]
[{"$nulls":10},"534_123_4_202526",202526,534,"CT1",123,4,66]
[{"$nulls":10},"536_123_4_202526",202526,536,"CT1",123,4,11]
[{"$nulls":10},"538_123_4_202526",202526,538,"CT1",123,4,50]
[{"$nulls":10},"540_123_4_202526",202526,540,"CT1",123,4,75]
[{"$nulls":10},"542_123_4_202526",202526,542,"CT1",123,4,14]
[{"$nulls":10},"544_123_4_202526",202526,544,"CT1",123,4,42]
[{"$nulls":10},"545_123_4_202526",202526,545,"CT1",123,4,0]
[{"$nulls":10},"546_123_4_202526",202526,546,"CT1",123,4,0]
[{"$nulls":10},"548_123_4_202526",202526,548,"CT1",123,4,23]
[{"$nulls":10},"550_123_4_202526",202526,550,"CT1",123,4,48]
[{"$nulls":10},"552_123_4_202526",202526,552,"CT1",123,4,303]
[{"$nulls":10},"512_123_5_202526",202526,512,"CT1",123,5,492]
[{"$nulls":10},"514_123_5_202526",202526,514,"CT1",123,5,1053]
[{"$nulls":10},"516_123_5_202526",202526,516,"CT1",123,5,415.5]
[{"$nulls":10},"518_123_5_202526",202526,518,"CT1",123,5,118.5]
[{"$nulls":10},"520_123_5_202526",202526,520,"CT1",123,5,37]
[{"$nulls":10},"522_123_5_202526",202526,522,"CT1",123,5,1.5]
[{"$nulls":10},"524_123_5_202526",202526,524,"CT1",123,5,182.25]
[{"$nulls":10},"526_123_5_202526",202526,526,"CT1",123,5,483]
[{"$nulls":10},"528_123_5_202526",202526,528,"CT1",123,5,1108.5]
[{"$nulls":10},"530_123_5_202526",202526,530,"CT1",123,5,144]
[{"$nulls":10},"532_123_5_202526",202526,532,"CT1",123,5,229]
[{"$nulls":10},"534_123_5_202526",202526,534,"CT1",123,5,43]
[{"$nulls":10},"536_123_5_202526",202526,536,"CT1",123,5,5]
[{"$nulls":10},"538_123_5_202526",202526,538,"CT1",123,5,74]
[{"$nulls":10},"540_123_5_202526",202526,540,"CT1",123,5,45]
[{"$nulls":10},"542_123_5_202526",202526,542,"CT1",123,5,13]
[{"$nulls":10},"544_123_5_202526",202526,544,"CT1",123,5,26]
[{"$nulls":10},"545_123_5_202526",202526,545,"CT1",123,5,0]
[{"$nulls":10},"546_123_5_202526",202526,546,"CT1",123,5,0]
[{"$nulls":10},"548_123_5_202526",202526,548,"CT1",123,5,36]
[{"$nulls":10},"550_123_5_202526",202526,550,"CT1",123,5,28]
[{"$nulls":10},"552_123_5_202526",202526,552,"CT1",123,5,360]
[{"$nulls":10},{"$f":"M67588&\"_\"&O67588&\"_\"&P67588&\"_\"&L67588","v":"512_123_6_202526"},202526,512,"CT1",123,6,355]
[{"$nulls":10},"514_123_6_202526",202526,514,"CT1",123,6,828]
[{"$nulls":10},"516_123_6_202526",202526,516,"CT1",123,6,307.5]
[{"$nulls":10},"518_123_6_202526",202526,518,"CT1",123,6,51]
[{"$nulls":10},"520_123_6_202526",202526,520,"CT1",123,6,32]
[{"$nulls":10},"522_123_6_202526",202526,522,"CT1",123,6,1.5]
[{"$nulls":10},"524_123_6_202526",202526,524,"CT1",123,6,196.5]
[{"$nulls":10},"526_123_6_202526",202526,526,"CT1",123,6,381]
[{"$nulls":10},"528_123_6_202526",202526,528,"CT1",123,6,1041]
[{"$nulls":10},"530_123_6_202526",202526,530,"CT1",123,6,122]
[{"$nulls":10},"532_123_6_202526",202526,532,"CT1",123,6,247]
[{"$nulls":10},"534_123_6_202526",202526,534,"CT1",123,6,16]
[{"$nulls":10},"536_123_6_202526",202526,536,"CT1",123,6,11]
[{"$nulls":10},"538_123_6_202526",202526,538,"CT1",123,6,66]
[{"$nulls":10},"540_123_6_202526",202526,540,"CT1",123,6,22]
[{"$nulls":10},"542_123_6_202526",202526,542,"CT1",123,6,6]
[{"$nulls":10},"544_123_6_202526",202526,544,"CT1",123,6,14]
[{"$nulls":10},"545_123_6_202526",202526,545,"CT1",123,6,0]
[{"$nulls":10},"546_123_6_202526",202526,546,"CT1",123,6,0]
[{"$nulls":10},"548_123_6_202526",202526,548,"CT1",123,6,33]
[{"$nulls":10},"550_123_6_202526",202526,550,"CT1",123,6,18]
[{"$nulls":10},"552_123_6_202526",202526,552,"CT1",123,6,320]
[{"$nulls":10},"512_123_7_202526",202526,512,"CT1",123,7,214]
[{"$nulls":10},"514_123_7_202526",202526,514,"CT1",123,7,600]
[{"$nulls":10},"516_123_7_202526",202526,516,"CT1",123,7,198]
[{"$nulls":10},"518_123_7_202526",202526,518,"CT1",123,7,52.5]
[{"$nulls":10},"520_123_7_202526",202526,520,"CT1",123,7,14]
[{"$nulls":10},"522_123_7_202526",202526,522,"CT1",123,7,1.5]
[{"$nulls":10},"524_123_7_202526",202526,524,"CT1",123,7,118.5]
[{"$nulls":10},"526_123_7_202526",202526,526,"CT1",123,7,136.5]
[{"$nulls":10},"528_123_7_202526",202526,528,"CT1",123,7,589.5]
[{"$nulls":10},"530_123_7_202526",202526,530,"CT1",123,7,63]
[{"$nulls":10},"532_123_7_202526",202526,532,"CT1",123,7,170]
[{"$nulls":10},"534_123_7_202526",202526,534,"CT1",123,7,4]
[{"$nulls":10},"536_123_7_202526",202526,536,"CT1",123,7,13]
[{"$nulls":10},"538_123_7_202526",202526,538,"CT1",123,7,48]
[{"$nulls":10},"540_123_7_202526",202526,540,"CT1",123,7,6]
[{"$nulls":10},"542_123_7_202526",202526,542,"CT1",123,7,1]
[{"$nulls":10},"544_123_7_202526",202526,544,"CT1",123,7,10]
[{"$nulls":10},"545_123_7_202526",202526,545,"CT1",123,7,0]
[{"$nulls":10},"546_123_7_202526",202526,546,"CT1",123,7,0]
[{"$nulls":10},"548_123_7_202526",202526,548,"CT1",123,7,28]
[{"$nulls":10},"550_123_7_202526",202526,550,"CT1",123,7,3]
[{"$nulls":10},"552_123_7_202526",202526,552,"CT1",123,7,223]
[{"$nulls":10},"512_123_8_202526",202526,512,"CT1",123,8,114]
[{"$nulls":10},"514_123_8_202526",202526,514,"CT1",123,8,280.5]
[{"$nulls":10},"516_123_8_202526",202526,516,"CT1",123,8,70.5]
[{"$nulls":10},"518_123_8_202526",202526,518,"CT1",123,8,19.5]
[{"$nulls":10},"520_123_8_202526",202526,520,"CT1",123,8,5]
[{"$nulls":10},"522_123_8_202526",202526,522,"CT1",123,8,0.5]
[{"$nulls":10},"524_123_8_202526",202526,524,"CT1",123,8,66]
[{"$nulls":10},"526_123_8_202526",202526,526,"CT1",123,8,39]
[{"$nulls":10},"528_123_8_202526",202526,528,"CT1",123,8,262.5]
[{"$nulls":10},"530_123_8_202526",202526,530,"CT1",123,8,13]
[{"$nulls":10},"532_123_8_202526",202526,532,"CT1",123,8,93]
[{"$nulls":10},"534_123_8_202526",202526,534,"CT1",123,8,2]
[{"$nulls":10},"536_123_8_202526",202526,536,"CT1",123,8,2]
[{"$nulls":10},"538_123_8_202526",202526,538,"CT1",123,8,36]
[{"$nulls":10},"540_123_8_202526",202526,540,"CT1",123,8,3]
[{"$nulls":10},"542_123_8_202526",202526,542,"CT1",123,8,0]
[{"$nulls":10},"544_123_8_202526",202526,544,"CT1",123,8,2]
[{"$nulls":10},"545_123_8_202526",202526,545,"CT1",123,8,0]
[{"$nulls":10},"546_123_8_202526",202526,546,"CT1",123,8,0]
[{"$nulls":10},"548_123_8_202526",202526,548,"CT1",123,8,15]
[{"$nulls":10},{"$f":"M67652&\"_\"&O67652&\"_\"&P67652&\"_\"&L67652","v":"550_123_8_202526"},202526,550,"CT1",123,8,5]
[{"$nulls":10},"552_123_8_202526",202526,552,"CT1",123,8,76]
[{"$nulls":10},"512_123_9_202526",202526,512,"CT1",123,9,28]
[{"$nulls":10},"514_123_9_202526",202526,514,"CT1",123,9,64.5]
[{"$nulls":10},"516_123_9_202526",202526,516,"CT1",123,9,19.5]
[{"$nulls":10},"518_123_9_202526",202526,518,"CT1",123,9,9]
[{"$nulls":10},"520_123_9_202526",202526,520,"CT1",123,9,2]
[{"$nulls":10},"522_123_9_202526",202526,522,"CT1",123,9,0]
[{"$nulls":10},"524_123_9_202526",202526,524,"CT1",123,9,11.25]
[{"$nulls":10},"526_123_9_202526",202526,526,"CT1",123,9,7.5]
[{"$nulls":10},"528_123_9_202526",202526,528,"CT1",123,9,72]
[{"$nulls":10},"530_123_9_202526",202526,530,"CT1",123,9,1]
[{"$nulls":10},"532_123_9_202526",202526,532,"CT1",123,9,46]
[{"$nulls":10},"534_123_9_202526",202526,534,"CT1",123,9,0]
[{"$nulls":10},"536_123_9_202526",202526,536,"CT1",123,9,1]
[{"$nulls":10},"538_123_9_202526",202526,538,"CT1",123,9,15]
[{"$nulls":10},"540_123_9_202526",202526,540,"CT1",123,9,0]
[{"$nulls":10},"542_123_9_202526",202526,542,"CT1",123,9,0]
[{"$nulls":10},"544_123_9_202526",202526,544,"CT1",123,9,1]
[{"$nulls":10},"545_123_9_202526",202526,545,"CT1",123,9,0]
[{"$nulls":10},"546_123_9_202526",202526,546,"CT1",123,9,0]
[{"$nulls":10},"548_123_9_202526",202526,548,"CT1",123,9,9]
[{"$nulls":10},"550_123_9_202526",202526,550,"CT1",123,9,1]
[{"$nulls":10},"552_123_9_202526",202526,552,"CT1",123,9,25]
[{"$nulls":10},"512_123_10_202526",202526,512,"CT1",123,10,10]
[{"$nulls":10},"514_123_10_202526",202526,514,"CT1",123,10,27]
[{"$nulls":10},"516_123_10_202526",202526,516,"CT1",123,10,10.5]
[{"$nulls":10},"518_123_10_202526",202526,518,"CT1",123,10,4.5]
[{"$nulls":10},"520_123_10_202526",202526,520,"CT1",123,10,2]
[{"$nulls":10},"522_123_10_202526",202526,522,"CT1",123,10,0]
[{"$nulls":10},"524_123_10_202526",202526,524,"CT1",123,10,7.5]
[{"$nulls":10},"526_123_10_202526",202526,526,"CT1",123,10,0]
[{"$nulls":10},"528_123_10_202526",202526,528,"CT1",123,10,19.5]
[{"$nulls":10},"530_123_10_202526",202526,530,"CT1",123,10,0]
[{"$nulls":10},"532_123_10_202526",202526,532,"CT1",123,10,14]
[{"$nulls":10},"534_123_10_202526",202526,534,"CT1",123,10,0]
[{"$nulls":10},"536_123_10_202526",202526,536,"CT1",123,10,0]
[{"$nulls":10},"538_123_10_202526",202526,538,"CT1",123,10,5]
[{"$nulls":10},"540_123_10_202526",202526,540,"CT1",123,10,0]
[{"$nulls":10},"542_123_10_202526",202526,542,"CT1",123,10,0]
[{"$nulls":10},"544_123_10_202526",202526,544,"CT1",123,10,1]
[{"$nulls":10},"545_123_10_202526",202526,545,"CT1",123,10,0]
[{"$nulls":10},"546_123_10_202526",202526,546,"CT1",123,10,0]
[{"$nulls":10},"548_123_10_202526",202526,548,"CT1",123,10,3]
[{"$nulls":10},"550_123_10_202526",202526,550,"CT1",123,10,0]
[{"$nulls":10},"552_123_10_202526",202526,552,"CT1",123,10,5]
[{"$nulls":10},"512_123_11_202526",202526,512,"CT1",123,11,1954]
[{"$nulls":10},"514_123_11_202526",202526,514,"CT1",123,11,5221.5]
[{"$nulls":10},"516_123_11_202526",202526,516,"CT1",123,11,1956]
[{"$nulls":10},"518_123_11_202526",202526,518,"CT1",123,11,589.5]
[{"$nulls":10},"520_123_11_202526",202526,520,"CT1",123,11,190]
[{"$nulls":10},"522_123_11_202526",202526,522,"CT1",123,11,11]
[{"$nulls":10},"524_123_11_202526",202526,524,"CT1",123,11,930.75]
[{"$nulls":10},"526_123_11_202526",202526,526,"CT1",123,11,1845]
[{"$nulls":10},"528_123_11_202526",202526,528,"CT1",123,11,4717.5]
[{"$nulls":10},"530_123_11_202526",202526,530,"CT1",123,11,686]
[{"$nulls":10},"532_123_11_202526",202526,532,"CT1",123,11,1385]
[{"$nulls":10},"534_123_11_202526",202526,534,"CT1",123,11,330]
[{"$nulls":10},"536_123_11_202526",202526,536,"CT1",123,11,59]
[{"$nulls":10},"538_123_11_202526",202526,538,"CT1",123,11,339]
[{"$nulls":10},"540_123_11_202526",202526,540,"CT1",123,11,478]
[{"$nulls":10},"542_123_11_202526",202526,542,"CT1",123,11,150]
[{"$nulls":10},"544_123_11_202526",202526,544,"CT1",123,11,196]
[{"$nulls":10},"545_123_11_202526",202526,545,"CT1",123,11,0]
[{"$nulls":10},{"$f":"M67716&\"_\"&O67716&\"_\"&P67716&\"_\"&L67716","v":"546_123_11_202526"},202526,546,"CT1",123,11,0]
[{"$nulls":10},"548_123_11_202526",202526,548,"CT1",123,11,160]
[{"$nulls":10},"550_123_11_202526",202526,550,"CT1",123,11,166]
[{"$nulls":10},"552_123_11_202526",202526,552,"CT1",123,11,1508]