Workbook

Sheet Table Guide
A1: Gwybodaeth sydd wedi'i chynnwys yn y ddogfen hon
A2: Mae'r ddogfen hon yn cynnwys cyfres o dablau sy'n darparu'r amcangyfrifon terfynol o deithiau dros nos yr aeth trigolion Prydain Fawr arnynt yng Nghymru. Mae'r tablau yn cynnwys amcangyfrifon o'r nifer o deithiau dros nos yr aethpwyd arnynt, nifer y nosweithiau a arhoswyd ac amcangyfrif o wariant yn ystod y teithiau hyn. Ceir pum gwahanol daflen waith sy'n cynnwys tablau ag amcangyfrifon ar gyfer pob un o brif ddibenion taith. Mae'r taflenni gwaith hyn wedi'u labelu fel Cyfanswm Teithiau, Teithiau Gwyliau, Ymweliadau â Ffrindiau a Pherthnasau, Teithiau Busnes a Theithiau Amrywiol. Mae pob taflen waith yn cynnwys un tabl ag amcangyfrifon o Deithiau, Nosweithiau a Gwariant yng Nghymru ar gyfer 2024 ar gyfer pob diben taith. Cyflwynir pob tabl mewn fformat tebyg â cholofnau ar wahân yn cynnwys amcangyfrifon ar gyfer Teithiau, Nosweithiau a Gwariant. Ym mhob tabl, ceir colofn ar wahân wedi'i labelu Maint Sylfaen sy'n rhoi nifer yr ymatebion i'r arolwg lle adroddir ymweliad cymwys. Hysbysir defnyddwyr i nodi'r maint sylfaen ar gyfer pob amcangyfrif, gan y bydd hwn yn effeithio ar gadernid a dibynadwyedd yr amcangyfrif. Rhoddir canllawiau pellach ar feintiau sylfaen isod. Mae pob tabl hefyd yn cynnwys amcangyfrifon ar gyfer gwahanol drawstoriadau safonol o'r data gan gynnwys nodweddion taith a demograffeg ymwelwyr. Rhoddir rhagor o wybodaeth am bob trawstoriad isod.
A3: Cwmpas Amser
A4: Mae'r amcangyfrifon yn y ddogfen hon ar gyfer blwyddyn galendr lawn 2024 o 1 Ionawr tan 31 Rhagfyr cynhwysol.
A5: Poblogaeth Ystadegol
A6: Y boblogaeth ystadegol ar gyfer amcangyfrifon yn y ddogfen hon yw oedolion 16 oed neu hŷn sy'n byw yng Nghymru, Lloegr neu'r Alban. Mae'r arolwg hefyd yn casglu manylion unrhyw blant sy'n mynd gydag oedolyn ar daith dros nos a chaiff y rhain eu cynnwys yn y ffigurau gros amcangyfrifedig ar gyfer teithiau, nosweithiau a gwariant. Mae'r data demograffig yn y tablau yn seiliedig ar yr ymatebwr yn hytrach na'r rhai ym mharti'r daith.
A7: Canllawiau Maint Sampl
A8: Mae meintiau sylfaen ar gyfer pob un o'r amcangyfrifon wedi'u cynnwys mewn colofn ar wahân ym mhob tabl. Mae meintiau sylfaen yn cyfeirio at nifer y teithiau a adroddwyd. Mae rhai o'r meintiau sylfaen hyn yn isel. Os yw'r maint sylfaen yn llai na 30, ni argymhellir y dylid defnyddio'r data hyn. Os yw'r maint sylfaen rhwng 30 a 100, argymhellir defnyddio'r amcangyfrifon ar sail ddangosol yn unig. Ceir cod lliw ar gyfer meintiau sylfaen isel yn y tablau a dangosir meintiau sylfaen sy'n llai na 30 â llenwad oren tywyll a dangosir meintiau sylfaen rhwng 30 a 100 â llenwad oren golau. Mae rhai amcangyfrifon yn y tablau wedi'u nodi'n amhenodedig. Mae hyn oherwydd nifer fach o deithiau na ddarparodd unrhyw wybodaeth fanwl. Gofynnir i'r ymatebwyr am hyd at 10 taith, ond mae nifer y teithiau y gofynnir amdanynt yn fanwl wedi'i chyfyngu i 3.
A9: Sut i ddod o hyd i dablau ar gyfer Cymru
A10: I weld y tablau ar gyfer diben pob taith ar gyfer Cymru, cliciwch ar y Tabiau Taflenni Gwaith sydd wedi'u lleoli ar waelod y ddogfen hon sydd wedi'u labelu yn ôl prif ddiben taith.
A11: Sut i ddod o hyd i dablau ar gyfer Prydain Fawr, Lloegr a'r Alban
A12: Ceir tablau ar wahân ag amcangyfrifon ar gyfer teithiau dros nos yr aethpwyd arnynt ym Mhrydain Fawr yn ei chyfanrwydd gan drigolion Prydain Fawr wedi'u cyhoeddi ar wefan Visit Britain. Cyhoeddir tablau ar gyfer teithiau dros nos yr aethpwyd arnynt yn Lloegr a'r Alban gan VisitEngland a VisitScotland.
... A82: DADANSODDIAD O WARIANT. Y cyfanswm a wariwyd ar yr eitemau a nodwyd. Cyfrifir y dadansoddiad gwariant canrannol fel y gyfran o gyfanswm y gwariant a gyfrifwyd ar gyfer yr eitem wariant. Mae gwariant yn enwol ac nid yw wedi'i addasu ar gyfer chwyddiant.

Sheet Table of contents
A1: Tablau Blynyddol Teithiau Dros Nos Cymru 2024: Tabl Cynnwys
A2: Teitl y Tabl | B2: Cyfanswm Teithiau | C2: Teithiau Gwyliau | D2: Ymweld â Ffrindiau neu Berthnasau | E2: Busnes | F2: Amrywiol
A3: Cyfanswm Teithiau | B3: =HYPERLINK("#'"&Hyperlink!A$2&"'!"&Hyperlink!$A4, "Cyfanswm Teithiau: " & $A3) -> Cyfanswm Teithiau: Cyfanswm Teithiau | C3: =HYPERLINK("#'"&Hyperlink!B$2&"'!"&Hyperlink!$B4, "Gwyliau: " & $A3) -> Gwyliau: Cyfanswm Teithiau | D3: =HYPERLINK("#'"&Hyperlink!C$2&"'!"&Hyperlink!$C4, "Ymweld â Ffrindiau neu Berthnasau: " & $A3) -> Ymweld â Ffrindiau neu Berthnasau: Cyfanswm Teithiau | E3: =HYPERLINK("#'"&Hyperlink!D$2&"'!"&Hyperlink!$D4, "Busnes: " & $A3) -> Busnes: Cyfanswm Teithiau | F3: =HYPERLINK("#'"&Hyperlink!E$2&"'!"&Hyperlink!$E4, "Amrywiol: " & $A3) -> Amrywiol: Cyfanswm Teithiau
A4: Chwarter yr Aethpwyd ar y Daith | B4: =HYPERLINK("#'"&Hyperlink!A$2&"'!"&Hyperlink!$A5, "Cyfanswm Teithiau: " & $A4) -> Cyfanswm Teithiau: Chwarter yr Aethpwyd ar y Daith | C4: =HYPERLINK("#'"&Hyperlink!B$2&"'!"&Hyperlink!$B5, "Gwyliau: " & $A4) -> Gwyliau: Chwarter yr Aethpwyd ar y Daith | D4: =HYPERLINK("#'"&Hyperlink!C$2&"'!"&Hyperlink!$C5, "Ymweld â Ffrindiau neu Berthnasau: " & $A4) -> Ymweld â Ffrindiau neu Berthnasau: Chwarter yr Aethpwyd ar y Daith | E4: =HYPERLINK("#'"&Hyperlink!D$2&"'!"&Hyperlink!$D5, "Busnes: " & $A4) -> Busnes: Chwarter yr Aethpwyd ar y Daith | F4: =HYPERLINK("#'"&Hyperlink!E$2&"'!"&Hyperlink!$E5, "Amrywiol: " & $A4) -> Amrywiol: Chwarter yr Aethpwyd ar y Daith
A5: Rhanbarth yr Ymwelwyd ag Ef Dros Nos [m] | B5: =HYPERLINK("#'"&Hyperlink!A$2&"'!"&Hyperlink!$A6, "Cyfanswm Teithiau: " & $A5) -> Cyfanswm Teithiau: Rhanbarth yr Ymwelwyd ag Ef Dros Nos [m] | C5: =HYPERLINK("#'"&Hyperlink!B$2&"'!"&Hyperlink!$B6, "Gwyliau: " & $A5) -> Gwyliau: Rhanbarth yr Ymwelwyd ag Ef Dros Nos [m] | D5: =HYPERLINK("#'"&Hyperlink!C$2&"'!"&Hyperlink!$C6, "Ymweld â Ffrindiau neu Berthnasau: " & $A5) -> Ymweld â Ffrindiau neu Berthnasau: Rhanbarth yr Ymwelwyd ag Ef Dros Nos [m] | E5: =HYPERLINK("#'"&Hyperlink!D$2&"'!"&Hyperlink!$D6, "Busnes: " & $A5) -> Busnes: Rhanbarth yr Ymwelwyd ag Ef Dros Nos [m] | F5: =HYPERLINK("#'"&Hyperlink!E$2&"'!"&Hyperlink!$E6, "Amrywiol: " & $A5) -> Amrywiol: Rhanbarth yr Ymwelwyd ag Ef Dros Nos [m]
A6: Math Lleoliad y Prif Le yr Ymwelwyd ag Ef Dros Nos | B6: =HYPERLINK("#'"&Hyperlink!A$2&"'!"&Hyperlink!$A7, "Cyfanswm Teithiau: " & $A6) -> Cyfanswm Teithiau: Math Lleoliad y Prif Le yr Ymwelwyd ag Ef Dros Nos | C6: =HYPERLINK("#'"&Hyperlink!B$2&"'!"&Hyperlink!$B7, "Gwyliau: " & $A6) -> Gwyliau: Math Lleoliad y Prif Le yr Ymwelwyd ag Ef Dros Nos | D6: =HYPERLINK("#'"&Hyperlink!C$2&"'!"&Hyperlink!$C7, "Ymweld â Ffrindiau neu Berthnasau: " & $A6) -> Ymweld â Ffrindiau neu Berthnasau: Math Lleoliad y Prif Le yr Ymwelwyd ag Ef Dros Nos | E6: =HYPERLINK("#'"&Hyperlink!D$2&"'!"&Hyperlink!$D7, "Busnes: " & $A6) -> Busnes: Math Lleoliad y Prif Le yr Ymwelwyd ag Ef Dros Nos | F6: =HYPERLINK("#'"&Hyperlink!E$2&"'!"&Hyperlink!$E7, "Amrywiol: " & $A6) -> Amrywiol: Math Lleoliad y Prif Le yr Ymwelwyd ag Ef Dros Nos
A7: Rhanbarth Preswyl | B7: =HYPERLINK("#'"&Hyperlink!A$2&"'!"&Hyperlink!$A8, "Cyfanswm Teithiau: " & $A7) -> Cyfanswm Teithiau: Rhanbarth Preswyl | C7: =HYPERLINK("#'"&Hyperlink!B$2&"'!"&Hyperlink!$B8, "Gwyliau: " & $A7) -> Gwyliau: Rhanbarth Preswyl | D7: =HYPERLINK("#'"&Hyperlink!C$2&"'!"&Hyperlink!$C8, "Ymweld â Ffrindiau neu Berthnasau: " & $A7) -> Ymweld â Ffrindiau neu Berthnasau: Rhanbarth Preswyl | E7: =HYPERLINK("#'"&Hyperlink!D$2&"'!"&Hyperlink!$D8, "Busnes: " & $A7) -> Busnes: Rhanbarth Preswyl | F7: =HYPERLINK("#'"&Hyperlink!E$2&"'!"&Hyperlink!$E8, "Amrywiol: " & $A7) -> Amrywiol: Rhanbarth Preswyl
A8: Hyd y Daith | B8: =HYPERLINK("#'"&Hyperlink!A$2&"'!"&Hyperlink!$A9, "Cyfanswm Teithiau: " & $A8) -> Cyfanswm Teithiau: Hyd y Daith | C8: =HYPERLINK("#'"&Hyperlink!B$2&"'!"&Hyperlink!$B9, "Gwyliau: " & $A8) -> Gwyliau: Hyd y Daith | D8: =HYPERLINK("#'"&Hyperlink!C$2&"'!"&Hyperlink!$C9, "Ymweld â Ffrindiau neu Berthnasau: " & $A8) -> Ymweld â Ffrindiau neu Berthnasau: Hyd y Daith | E8: =HYPERLINK("#'"&Hyperlink!D$2&"'!"&Hyperlink!$D9, "Busnes: " & $A8) -> Busnes: Hyd y Daith | F8: =HYPERLINK("#'"&Hyperlink!E$2&"'!"&Hyperlink!$E9, "Amrywiol: " & $A8) -> Amrywiol: Hyd y Daith
A9: Gweithgareddau y Cymerwyd Rhan Ynddynt yn ystod y Daith [m] | B9: =HYPERLINK("#'"&Hyperlink!A$2&"'!"&Hyperlink!$A10, "Cyfanswm Teithiau: " & $A9) -> Cyfanswm Teithiau: Gweithgareddau y Cymerwyd Rhan Ynddynt yn ystod y Daith [m] | C9: =HYPERLINK("#'"&Hyperlink!B$2&"'!"&Hyperlink!$B10, "Gwyliau: " & $A9) -> Gwyliau: Gweithgareddau y Cymerwyd Rhan Ynddynt yn ystod y Daith [m] | D9: =HYPERLINK("#'"&Hyperlink!C$2&"'!"&Hyperlink!$C10, "Ymweld â Ffrindiau neu Berthnasau: " & $A9) -> Ymweld â Ffrindiau neu Berthnasau: Gweithgareddau y Cymerwyd Rhan Ynddynt yn ystod y Daith [m] | E9: =HYPERLINK("#'"&Hyperlink!D$2&"'!"&Hyperlink!$D10, "Busnes: " & $A9) -> Busnes: Gweithgareddau y Cymerwyd Rhan Ynddynt yn ystod y Daith [m] | F9: =HYPERLINK("#'"&Hyperlink!E$2&"'!"&Hyperlink!$E10, "Amrywiol: " & $A9) -> Amrywiol: Gweithgareddau y Cymerwyd Rhan Ynddynt yn ystod y Daith [m]
A10: Llety a Ddefnyddiwyd | B10: =HYPERLINK("#'"&Hyperlink!A$2&"'!"&Hyperlink!$A11, "Cyfanswm Teithiau: " & $A10) -> Cyfanswm Teithiau: Llety a Ddefnyddiwyd | C10: =HYPERLINK("#'"&Hyperlink!B$2&"'!"&Hyperlink!$B11, "Gwyliau: " & $A10) -> Gwyliau: Llety a Ddefnyddiwyd | D10: =HYPERLINK("#'"&Hyperlink!C$2&"'!"&Hyperlink!$C11, "Ymweld â Ffrindiau neu Berthnasau: " & $A10) -> Ymweld â Ffrindiau neu Berthnasau: Llety a Ddefnyddiwyd | E10: =HYPERLINK("#'"&Hyperlink!D$2&"'!"&Hyperlink!$D11, "Busnes: " & $A10) -> Busnes: Llety a Ddefnyddiwyd | F10: =HYPERLINK("#'"&Hyperlink!E$2&"'!"&Hyperlink!$E11, "Amrywiol: " & $A10) -> Amrywiol: Llety a Ddefnyddiwyd
A11: Trafnidiaeth a Ddefnyddiwyd ar gyfer Teithio i'r Prif Gyrchfan [m] | B11: =HYPERLINK("#'"&Hyperlink!A$2&"'!"&Hyperlink!$A12, "Cyfanswm Teithiau: " & $A11) -> Cyfanswm Teithiau: Trafnidiaeth a Ddefnyddiwyd ar gyfer Teithio i'r Prif Gyrchfan [m] | C11: =HYPERLINK("#'"&Hyperlink!B$2&"'!"&Hyperlink!$B12, "Gwyliau: " & $A11) -> Gwyliau: Trafnidiaeth a Ddefnyddiwyd ar gyfer Teithio i'r Prif Gyrchfan [m] | D11: =HYPERLINK("#'"&Hyperlink!C$2&"'!"&Hyperlink!$C12, "Ymweld â Ffrindiau neu Berthnasau: " & $A11) -> Ymweld â Ffrindiau neu Berthnasau: Trafnidiaeth a Ddefnyddiwyd ar gyfer Teithio i'r Prif Gyrchfan [m] | E11: =HYPERLINK("#'"&Hyperlink!D$2&"'!"&Hyperlink!$D12, "Busnes: " & $A11) -> Busnes: Trafnidiaeth a Ddefnyddiwyd ar gyfer Teithio i'r Prif Gyrchfan [m] | F11: =HYPERLINK("#'"&Hyperlink!E$2&"'!"&Hyperlink!$E12, "Amrywiol: " & $A11) -> Amrywiol: Trafnidiaeth a Ddefnyddiwyd ar gyfer Teithio i'r Prif Gyrchfan [m]
A12: Taith Rhan o Becyn | B12: =HYPERLINK("#'"&Hyperlink!A$2&"'!"&Hyperlink!$A13, "Cyfanswm Teithiau: " & $A12) -> Cyfanswm Teithiau: Taith Rhan o Becyn | C12: =HYPERLINK("#'"&Hyperlink!B$2&"'!"&Hyperlink!$B13, "Gwyliau: " & $A12) -> Gwyliau: Taith Rhan o Becyn | D12: =HYPERLINK("#'"&Hyperlink!C$2&"'!"&Hyperlink!$C13, "Ymweld â Ffrindiau neu Berthnasau: " & $A12) -> Ymweld â Ffrindiau neu Berthnasau: Taith Rhan o Becyn | E12: =HYPERLINK("#'"&Hyperlink!D$2&"'!"&Hyperlink!$D13, "Busnes: " & $A12) -> Busnes: Taith Rhan o Becyn | F12: =HYPERLINK("#'"&Hyperlink!E$2&"'!"&Hyperlink!$E13, "Amrywiol: " & $A12) -> Amrywiol: Taith Rhan o Becyn
A13: Cyfnod Amser Trefnu Llety | B13: =HYPERLINK("#'"&Hyperlink!A$2&"'!"&Hyperlink!$A14, "Cyfanswm Teithiau: " & $A13) -> Cyfanswm Teithiau: Cyfnod Amser Trefnu Llety | C13: =HYPERLINK("#'"&Hyperlink!B$2&"'!"&Hyperlink!$B14, "Gwyliau: " & $A13) -> Gwyliau: Cyfnod Amser Trefnu Llety | D13: =HYPERLINK("#'"&Hyperlink!C$2&"'!"&Hyperlink!$C14, "Ymweld â Ffrindiau neu Berthnasau: " & $A13) -> Ymweld â Ffrindiau neu Berthnasau: Cyfnod Amser Trefnu Llety | E13: =HYPERLINK("#'"&Hyperlink!D$2&"'!"&Hyperlink!$D14, "Busnes: " & $A13) -> Busnes: Cyfnod Amser Trefnu Llety | F13: =HYPERLINK("#'"&Hyperlink!E$2&"'!"&Hyperlink!$E14, "Amrywiol: " & $A13) -> Amrywiol: Cyfnod Amser Trefnu Llety
A14: Sut y Trefnwyd [m] | B14: =HYPERLINK("#'"&Hyperlink!A$2&"'!"&Hyperlink!$A15, "Cyfanswm Teithiau: " & $A14) -> Cyfanswm Teithiau: Sut y Trefnwyd [m] | C14: =HYPERLINK("#'"&Hyperlink!B$2&"'!"&Hyperlink!$B15, "Gwyliau: " & $A14) -> Gwyliau: Sut y Trefnwyd [m] | D14: =HYPERLINK("#'"&Hyperlink!C$2&"'!"&Hyperlink!$C15, "Ymweld â Ffrindiau neu Berthnasau: " & $A14) -> Ymweld â Ffrindiau neu Berthnasau: Sut y Trefnwyd [m] | E14: =HYPERLINK("#'"&Hyperlink!D$2&"'!"&Hyperlink!$D15, "Busnes: " & $A14) -> Busnes: Sut y Trefnwyd [m] | F14: =HYPERLINK("#'"&Hyperlink!E$2&"'!"&Hyperlink!$E15, "Amrywiol: " & $A14) -> Amrywiol: Sut y Trefnwyd [m]
... A32: Perchennog Car | B32: =HYPERLINK("#'"&Hyperlink!A$2&"'!"&Hyperlink!$A33, "Cyfanswm Teithiau: " & $A32) -> Cyfanswm Teithiau: Perchennog Car | C32: =HYPERLINK("#'"&Hyperlink!B$2&"'!"&Hyperlink!$B33, "Gwyliau: " & $A32) -> Gwyliau: Perchennog Car | D32: =HYPERLINK("#'"&Hyperlink!C$2&"'!"&Hyperlink!$C33, "Ymweld â Ffrindiau neu Berthnasau: " & $A32) -> Ymweld â Ffrindiau neu Berthnasau: Perchennog Car | E32: =HYPERLINK("#'"&Hyperlink!D$2&"'!"&Hyperlink!$D33, "Busnes: " & $A32) -> Busnes: Perchennog Car | F32: =HYPERLINK("#'"&Hyperlink!E$2&"'!"&Hyperlink!$E33, "Amrywiol: " & $A32) -> Amrywiol: Perchennog Car

Sheet Total Trips
A1: Cyfanswm y Teithiau Dros Nos yng Nghymru gan Drigolion Prydain Fawr
A2: Mae'r daflen waith hon yn cynnwys un tabl. Mae meintiau sylfaen wedi'u darparu ac yn cyfeirio at nifer y teithiau a adroddwyd ar gyfer pob amcangyfrif. Mae rhai o'r meintiau sylfaen ar gyfer yr amcangyfrifon hyn yn isel. Lle mae'r maint sylfaen yn is na 30, cynghorir defnyddwyr i beidio â defnyddio'r amcangyfrif hwn.
A3: Pan fo'r maint sylfaen rhwng 30 a 100, cynghorir defnyddwyr i drin yr amcangyfrif hwn ar sail ddangosol yn unig.
A4: Ceir cod lliw ar gyfer meintiau sylfaen isel yn y tablau. Defnyddir rhai symbolau llaw-fer yn y tabl hwn. I gael cyfarwyddyd ar y cod lliwiau a'r diffiniadau o symbolau llaw-fer, gweler canllaw'r tabl.
A5: Ionawr i Ragfyr 2024 | B5: Teithiau (miliynau) | C5: % o Gyfanswm y Teithiau | D5: Nosweithiau (miliynau) | E5: % o Gyfanswm y Nosweithiau | F5: Gwariant (£miliynau) | G5: % o Gyfanswm y Gwariant | H5: Maint Sylfaen
A6: Cyfanswm Teithiau Pob Diben | B6: 7.613774 | C6: 1 | D6: 22.296864 | E6: 1 | F6: 2244.1799 | G6: 1 | H6: 752
A7: Teithiau Gwyliau | B7: 2.8777536 | C7: 0.37796678 | D7: 10.387606 | E7: 0.46587746 | F7: 962.96051 | G7: 0.42909239 | H7: 275
A8: Gwyliau 1-3 noson | B8: 1.6851345 | C8: 0.2213271 | D8: 3.4174283 | E8: 0.15326946 | F8: 415.28216 | G8: 0.18504852 | H8: 172
A9: Gwyliau 4 noson a mwy | B9: 1.1926191 | C9: 0.15663967 | D9: 6.9701778 | E9: 0.312608 | F9: 547.67835 | G9: 0.24404387 | H9: 103
A10: Teithiau i Ymweld â Ffrindiau neu Berthnasau | B10: 2.5685566 | C10: 0.33735657 | D10: 7.0504103 | E10: 0.31620637 | F10: 491.65385 | G10: 0.21907952 | H10: 243
A11: Ymweld â Ffrindiau neu Berthnasau ar gyfer gwyliau | B11: 0.70771381 | C11: 0.092951776 | D11: 2.8597661 | E11: 0.12825867 | F11: 145.85674 | G11: 0.064993338 | H11: 61
A12: Ymweld â Ffrindiau neu Berthnasau ar gyfer digwyddiad neu ddathliad e.e. pen-blwydd, priodas, pen-blwydd priodas | B12: 1.1056668 | C12: 0.14521929 | D12: 2.449078 | E12: 0.10983958 | F12: 256.24406 | G12: 0.1141816 | H12: 104
A13: Ymweld â Ffrindiau neu Berthnasau am reswm arall | B13: 0.75517598 | C13: 0.099185501 | D13: 1.7415662 | E13: 0.078108125 | F13: 89.553054 | G13: 0.039904579 | H13: 78
A14: Amhenodedig | B14: 0 | C14: 0 | D14: 0 | E14: 0 | F14: 0 | G14: 0 | H14: 0
A15: Teithiau Busnes | B15: 0.50699292 | C15: 0.066588911 | D15: 1.3272133 | E15: 0.059524661 | F15: 225.67833 | G15: 0.1005616 | H15: 57
A16: Net: MICE (Cyfarfod mawr 21 neu fwy o bobl, Teithiau cymelliadol, Cynadleddau, Arddangosfeydd) | B16: 0.17455632 | C16: 0.022926386 | D16: 0.40063934 | E16: 0.017968417 | F16: 101.08763 | G16: 0.045044352 | H16: 25
A17: Net: Cyfarfodydd o unrhyw faint | B17: 0.30286894 | C17: 0.039779083 | D17: 0.9394778 | E17: 0.042134975 | F17: 107.7284 | G17: 0.048003458 | H17: 30
... A25: Amhenodedig | B25: 0 | C25: 0 | D25: 0 | E25: 0 | F25: 0 | G25: 0 | H25: 0
A26: Chwarter yr Aethpwyd ar y Daith
A27: Ionawr i Fawrth | B27: 1.6081339 | C27: 0.21121378 | D27: 3.9680488 | E27: 0.17796444 | F27: 330.98325 | G27: 0.14748517 | H27: 150
A28: Ebrill i Fehefin | B28: 1.9737205 | C28: 0.25923025 | D28: 5.8258243 | E28: 0.26128447 | F28: 566.55871 | G28: 0.25245691 | H28: 201
A29: Gorffennaf i Fedi | B29: 2.3955624 | C29: 0.31463535 | D29: 7.9813262 | E29: 0.35795735 | F29: 861.06844 | G29: 0.38368958 | H29: 239
A30: Hydref i Ragfyr | B30: 1.636357 | C30: 0.21492062 | D30: 4.5216643 | E30: 0.20279374 | F30: 485.56947 | G30: 0.21636834 | H30: 162
A31: Rhanbarth yr Ymwelwyd ag Ef Dros Nos [m]
A32: Canolbarth Cymru | B32: 0.63176305 | C32: 0.082976334 | D32: 2.0615913 | E32: 0.092461044 | F32: 184.11025 | G32: 0.08203899 | H32: 60
A33: Gogledd Cymru | B33: 2.4756646 | C33: 0.32515605 | D33: 8.1894253 | E33: 0.36729046 | F33: 679.96221 | G33: 0.30298918 | H33: 224
A34: De-ddwyrain Cymru | B34: 2.9144326 | C34: 0.38278423 | D34: 7.3828166 | E34: 0.33111458 | F34: 953.39191 | G34: 0.42482865 | H34: 315
A35: De-orllewin Cymru | B35: 1.5487162 | C35: 0.2034098 | D35: 4.3248673 | E35: 0.19396752 | F35: 388.09497 | G35: 0.17293399 | H35: 150
A36: Parciau Cenedlaethol Cymru | B36: 0.16584117 | C36: 0.02178173 | D36: 0.33816314 | E36: 0.0151664 | F36: 38.620534 | G36: 0.017209197 | H36: 14
A37: Math Lleoliad y Prif Le yr Ymwelwyd ag Ef
A38: Glan môr neu arfordirol arall | B38: 1.4445622 | C38: 0.18973012 | D38: 4.9931568 | E38: 0.22393988 | F38: 447.69881 | G38: 0.19949328 | H38: 129
A39: Dinas/ tref fawr | B39: 2.2117132 | C39: 0.29048843 | D39: 5.6532102 | E39: 0.25354284 | F39: 740.11286 | G39: 0.32979213 | H39: 245
A40: Tref fach | B40: 2.0253334 | C40: 0.26600913 | D40: 5.281447 | E40: 0.2368695 | F40: 509.6187 | G40: 0.22708461 | H40: 189
A41: Cefn gwlad/ pentref | B41: 1.8192484 | C41: 0.23894174 | D41: 5.7970056 | E41: 0.25999197 | F41: 511.32691 | G41: 0.22784578 | H41: 176
A42: Arall/Amhenodedig | B42: 0.11291671 | C42: 0.014830584 | D42: 0.57204402 | E42: 0.025655807 | F42: 35.422602 | G42: 0.015784208 | H42: 13
A43: Rhanbarth Preswyl
A44: Net: Lloegr | B44: 5.233171 | C44: 0.68732944 | D44: 16.134253 | E44: 0.72361089 | F44: 1657.3409 | G44: 0.73850627 | H44: 387
A45: Llundain | B45: 0.86924025 | C45: 0.1141668 | D45: 2.6446074 | E45: 0.11860894 | F45: 394.66154 | G45: 0.17586003 | H45: 63
A46: Gweddill Lloegr (Nid Llundain) | B46: 4.3639308 | C46: 0.57316264 | D46: 13.489646 | E46: 0.60500194 | F46: 1262.6794 | G46: 0.56264625 | H46: 324
A47: Net: Yr Alban | B47: 0.21145292 | C47: 0.027772419 | D47: 0.75593559 | E47: 0.033903225 | F47: 107.53162 | G47: 0.047915777 | H47: 29
...

Sheet Holiday Trips
A1: Teithiau Gwyliau Dros Nos yng Nghymru gan Drigolion Prydain Fawr
A2: Mae'r daflen waith hon yn cynnwys un tabl. Mae meintiau sylfaen wedi'u darparu ac yn cyfeirio at nifer y teithiau a adroddwyd ar gyfer pob amcangyfrif. Mae rhai o'r meintiau sylfaen ar gyfer yr amcangyfrifon hyn yn isel. Lle mae'r maint sylfaen yn is na 30, cynghorir defnyddwyr i beidio â defnyddio'r amcangyfrif hwn.
A3: Pan fo'r maint sylfaen rhwng 30 a 100, cynghorir defnyddwyr i drin yr amcangyfrif hwn ar sail ddangosol yn unig.
A4: Ceir cod lliw ar gyfer meintiau sylfaen isel yn y tablau. Defnyddir rhai symbolau llaw-fer yn y tabl hwn. I gael cyfarwyddyd ar y cod lliwiau a'r diffiniadau o symbolau llaw-fer, gweler canllaw'r tabl.
A5: Ionawr i Ragfyr 2024 | B5: Teithiau (miliynau) | C5: % o Gyfanswm y Teithiau | D5: Nosweithiau (miliynau) | E5: % o Gyfanswm y Nosweithiau | F5: Gwariant (£miliynau) | G5: % o Gyfanswm y Gwariant | H5: Maint Sylfaen
A6: Cyfanswm Teithiau Gwyliau | B6: 2.8777536 | C6: 1 | D6: 10.387606 | E6: 1 | F6: 962.96051 | G6: 1 | H6: 275
A7: Diben Manwl Teithiau Gwyliau
A8: Gwyliau 1-3 noson | B8: 1.6851345 | C8: 0.5855729 | D8: 3.4174283 | E8: 0.32899094 | F8: 415.28216 | G8: 0.43125565 | H8: 172
A9: Gwyliau 4 noson a mwy | B9: 1.1926191 | C9: 0.4144271 | D9: 6.9701778 | E9: 0.67100906 | F9: 547.67835 | G9: 0.56874435 | H9: 103
A10: Chwarter yr Aethpwyd ar y Daith
A11: Ionawr i Fawrth | B11: 0.39231504 | C11: 0.13632683 | D11: 0.90487781 | E11: 0.087111293 | F11: 80.471621 | G11: 0.083566897 | H11: 40
A12: Ebrill i Fehefin | B12: 0.81220363 | C12: 0.28223529 | D12: 2.7627455 | E12: 0.26596556 | F12: 257.66788 | G12: 0.26757887 | H12: 81
A13: Gorffennaf i Fedi | B13: 1.1114014 | C13: 0.38620452 | D13: 4.7863898 | E13: 0.46077891 | F13: 441.70483 | G13: 0.45869465 | H13: 101
A14: Hydref i Ragfyr | B14: 0.5618335 | C14: 0.19523336 | D14: 1.933593 | E14: 0.18614424 | F14: 183.11617 | G14: 0.19015959 | H14: 53
A15: Rhanbarth yr Ymwelwyd ag Ef Dros Nos [m]
A16: Canolbarth Cymru | B16: 0.26657948 | C16: 0.092634573 | D16: 0.90919258 | E16: 0.08752667 | F16: 95.983562 | G16: 0.099675491 | H16: 26
A17: Gogledd Cymru | B17: 1.1844387 | C17: 0.41158449 | D17: 4.7145387 | E17: 0.4538619 | F17: 373.02285 | G17: 0.38737087 | H17: 104
A18: De-ddwyrain Cymru | B18: 0.78897747 | C18: 0.27416436 | D18: 2.2483237 | E18: 0.21644291 | F18: 288.19077 | G18: 0.29927579 | H18: 87
A19: De-orllewin Cymru | B19: 0.57856108 | C19: 0.20104608 | D19: 2.2713075 | E19: 0.21865553 | F19: 181.96389 | G19: 0.18896298 | H19: 53
A20: Parciau Cenedlaethol Cymru | B20: 0.09784715 | C20: 0.034001226 | D20: 0.24424364 | E20: 0.023512986 | F20: 23.79945 | G20: 0.024714876 | H20: 9
A21: Math Lleoliad y Prif Le yr Ymwelwyd ag Ef
A22: Glan môr neu arfordirol arall | B22: 0.74393107 | C22: 0.25851104 | D22: 3.0243202 | E22: 0.29114698 | F22: 237.75773 | G22: 0.24690288 | H22: 73
A23: Dinas/ tref fawr | B23: 0.56035347 | C23: 0.19471906 | D23: 1.7692478 | E23: 0.17032296 | F23: 215.83425 | G23: 0.22413614 | H23: 62
A24: Tref fach | B24: 0.8262631 | C24: 0.28712086 | D24: 2.7635598 | E24: 0.26604395 | F24: 249.91291 | G24: 0.2595256 | H24: 72
A25: Cefn gwlad/ pentref | B25: 0.72446275 | C25: 0.25174593 | D25: 2.5656752 | E25: 0.24699389 | F25: 246.37623 | G25: 0.25585289 | H25: 66
A26: Arall/Amhenodedig | B26: 0.022743218 | C26: 0.0079031153 | D26: 0.26480314 | E26: 0.02549222 | F26: 13.079395 | G26: 0.013582483 | H26: 2
A27: Rhanbarth Preswyl
A28: Net: Lloegr | B28: 1.9552789 | C28: 0.67944626 | D28: 7.5750823 | E28: 0.72924235 | F28: 729.46128 | G28: 0.75751942 | H28: 149
A29: Llundain | B29: 0.33523847 | C29: 0.11649311 | D29: 1.0647247 | E29: 0.10249952 | F29: 149.2179 | G29: 0.15495744 | H29: 23
A30: Gweddill Lloegr (Nid Llundain) | B30: 1.6200405 | C30: 0.56295316 | D30: 6.5103576 | E30: 0.62674283 | F30: 580.24338 | G30: 0.60256197 | H30: 126
A31: Net: Yr Alban | B31: 0.078367716 | C31: 0.027232253 | D31: 0.39762907 | E31: 0.038279183 | F31: 29.083966 | G31: 0.030202657 | H31: 9
A32: Net: Cymru | B32: 0.84410695 | C32: 0.29332148 | D32: 2.4148948 | E32: 0.23247847 | F32: 204.41526 | G32: 0.21227793 | H32: 117
A33: Canolbarth Cymru | B33: 0.083768092 | C33: 0.029108848 | D33: 0.23821665 | E33: 0.022932776 | F33: 13.020919 | G33: 0.013521758 | H33: 10
A34: Gogledd Cymru | B34: 0.12957977 | C34: 0.045028098 | D34: 0.33585921 | E34: 0.032332686 | F34: 26.899736 | G34: 0.027934413 | H34: 21
A35: De-ddwyrain Cymru | B35: 0.44939347 | C35: 0.15616121 | D35: 1.306244 | E35: 0.12575024 | F35: 120.23369 | G35: 0.12485838 | H35: 59
A36: De-orllewin Cymru | B36: 0.18136561 | C36: 0.063023329 | D36: 0.53457492 | E36: 0.051462763 | F36: 44.260916 | G36: 0.045963376 | H36: 27
A37: Hyd y Daith
A38: 1-3 noson | B38: 1.6851345 | C38: 0.5855729 | D38: 3.4174283 | E38: 0.32899094 | F38: 415.28216 | G38: 0.43125565 | H38: 172
A39: 4-7 noson | B39: 1.0196251 | C39: 0.35431287 | D39: 5.3339656 | E39: 0.51349325 | F39: 464.1583 | G39: 0.48201177 | H39: 88
A40: 8+ noson | B40: 0.17299393 | C40: 0.060114227 | D40: 1.6362122 | E40: 0.15751581 | F40: 83.520043 | G40: 0.086732573 | H40: 15
...

Sheet Visit Friends or Relatives
A1: Teithiau Dros Nos i Ymweld â Ffrindiau neu Berthnasau yng Nghymru gan Drigolion Prydain Fawr
A2: Mae'r daflen waith hon yn cynnwys un tabl. Mae meintiau sylfaen wedi'u darparu ac yn cyfeirio at nifer y teithiau a adroddwyd ar gyfer pob amcangyfrif. Mae rhai o'r meintiau sylfaen ar gyfer yr amcangyfrifon hyn yn isel. Lle mae'r maint sylfaen yn is na 30, cynghorir defnyddwyr i beidio â defnyddio'r amcangyfrif hwn.
A3: Pan fo'r maint sylfaen rhwng 30 a 100, cynghorir defnyddwyr i drin yr amcangyfrif hwn ar sail ddangosol yn unig.
A4: Ceir cod lliw ar gyfer meintiau sylfaen isel yn y tablau. Defnyddir rhai symbolau llaw-fer yn y tabl hwn. I gael cyfarwyddyd ar y cod lliwiau a'r diffiniadau o symbolau llaw-fer, gweler canllaw'r tabl.
A5: Ionawr i Ragfyr 2024 | B5: Teithiau (miliynau) | C5: % o Gyfanswm y Teithiau | D5: Nosweithiau (miliynau) | E5: % o Gyfanswm y Nosweithiau | F5: Gwariant (£miliynau) | G5: % o Gyfanswm y Gwariant | H5: Maint Sylfaen
A6: Cyfanswm Teithiau i Ymweld â Ffrindiau neu Berthnasau | B6: 2.5685566 | C6: 1 | D6: 7.0504103 | E6: 1 | F6: 491.65385 | G6: 1 | H6: 243
A7: Diben Manwl Teithiau i Ymweld â Ffrindiau neu Berthnasau
A8: Ymweld â Ffrindiau neu Berthnasau ar gyfer gwyliau | B8: 0.70771381 | C8: 0.27552977 | D8: 2.8597661 | E8: 0.40561697 | F8: 145.85674 | G8: 0.29666551 | H8: 61
A9: Ymweld â Ffrindiau neu Berthnasau ar gyfer digwyddiad neu ddathliad e.e. pen-blwydd, priodas, pen-blwydd priodas | B9: 1.1056668 | C9: 0.43046232 | D9: 2.449078 | E9: 0.34736674 | F9: 256.24406 | G9: 0.52118794 | H9: 104
A10: Ymweld â Ffrindiau neu Berthnasau am reswm arall | B10: 0.75517598 | C10: 0.29400791 | D10: 1.7415662 | E10: 0.24701629 | F10: 89.553054 | G10: 0.18214655 | H10: 78
A11: Amhenodedig | B11: 0 | C11: 0 | D11: 0 | E11: 0 | F11: 0 | G11: 0 | H11: 0
A12: Chwarter yr Aethpwyd ar y Daith
A13: Ionawr i Fawrth | B13: 0.78124062 | C13: 0.3041555 | D13: 2.1261208 | E13: 0.30155987 | F13: 103.52238 | G13: 0.21055948 | H13: 70
A14: Ebrill i Fehefin | B14: 0.60201735 | C14: 0.23437963 | D14: 1.5902702 | E14: 0.22555711 | F14: 136.77752 | G14: 0.27819881 | H14: 61
A15: Gorffennaf i Fedi | B15: 0.61466676 | C15: 0.23930434 | D15: 1.8545096 | E15: 0.2630357 | F15: 148.90201 | G15: 0.30285944 | H15: 62
A16: Hydref i Ragfyr | B16: 0.5706319 | C16: 0.22216053 | D16: 1.4795097 | E16: 0.20984732 | F16: 102.45195 | G16: 0.20838228 | H16: 50
A17: Rhanbarth yr Ymwelwyd ag Ef Dros Nos [m]
A18: Canolbarth Cymru | B18: 0.1479653 | C18: 0.057606399 | D18: 0.47033091 | E18: 0.066709721 | F18: 30.811491 | G18: 0.062669072 | H18: 13
A19: Gogledd Cymru | B19: 0.80829386 | C19: 0.31468796 | D19: 2.4403457 | E19: 0.34612818 | F19: 146.46757 | G19: 0.2979079 | H19: 69
A20: De-ddwyrain Cymru | B20: 1.0097011 | C20: 0.39310056 | D20: 2.5988735 | E20: 0.36861308 | F20: 200.14429 | G20: 0.40708375 | H20: 103
A21: De-orllewin Cymru | B21: 0.63773862 | C21: 0.24828677 | D21: 1.4883208 | E21: 0.21109705 | F21: 110.84479 | G21: 0.22545291 | H21: 61
A22: Parciau Cenedlaethol Cymru | B22: 0.026698958 | C22: 0.010394537 | D22: 0.052539451 | E22: 0.0074519706 | F22: 3.3857094 | G22: 0.006886368 | H22: 2
A23: Math Lleoliad y Prif Le yr Ymwelwyd ag Ef
A24: Glan môr neu arfordirol arall | B24: 0.45315536 | C24: 0.17642413 | D24: 1.2583918 | E24: 0.1784849 | F24: 107.38547 | G24: 0.21841682 | H24: 32
A25: Dinas/ tref fawr | B25: 0.69860921 | C25: 0.27198513 | D25: 2.0710496 | E25: 0.29374881 | F25: 144.58311 | G25: 0.294075 | H25: 69
A26: Tref fach | B26: 0.67632482 | C26: 0.26330929 | D26: 1.5252008 | E26: 0.21632795 | F26: 97.755204 | G26: 0.19882932 | H26: 67
A27: Cefn gwlad/ pentref | B27: 0.69243959 | C27: 0.26958315 | D27: 1.9910051 | E27: 0.28239563 | F27: 129.55468 | G27: 0.26350791 | H27: 69
A28: Arall/Amhenodedig | B28: 0.048027649 | C28: 0.018698302 | D28: 0.20476307 | E28: 0.029042717 | F28: 12.375393 | G28: 0.025170946 | H28: 6
A29: Rhanbarth Preswyl
A30: Net: Lloegr | B30: 1.7482585 | C30: 0.6806385 | D30: 4.9427093 | E30: 0.70105272 | F30: 379.9708 | G30: 0.77284212 | H30: 115
A31: Llundain | B31: 0.25210813 | C31: 0.098151672 | D31: 1.0554737 | E31: 0.14970387 | F31: 78.976498 | G31: 0.16063435 | H31: 17
A32: Gweddill Lloegr (Nid Llundain) | B32: 1.4961504 | C32: 0.58248683 | D32: 3.8872356 | E32: 0.55134884 | F32: 300.99431 | G32: 0.61220776 | H32: 98
A33: Net: Yr Alban | B33: 0.043488566 | C33: 0.01693113 | D33: 0.18126566 | E33: 0.025709945 | F33: 28.527805 | G33: 0.058024166 | H33: 7
A34: Net: Cymru | B34: 0.77680954 | C34: 0.30243037 | D34: 1.9264353 | E34: 0.27323734 | F34: 83.155244 | G34: 0.16913372 | H34: 121
A35: Canolbarth Cymru | B35: 0.026681891 | C35: 0.010387893 | D35: 0.039729906 | E35: 0.0056351197 | F35: 1.6738187 | G35: 0.0034044657 | H35: 5
A36: Gogledd Cymru | B36: 0.18230883 | C36: 0.070977151 | D36: 0.36887079 | E36: 0.052319053 | F36: 12.651035 | G36: 0.02573159 | H36: 24
A37: De-ddwyrain Cymru | B37: 0.41138887 | C37: 0.16016344 | D37: 1.121781 | E37: 0.15910861 | F37: 47.60797 | G37: 0.096832293 | H37: 66
A38: De-orllewin Cymru | B38: 0.15642995 | C38: 0.060901887 | D38: 0.39605364 | E38: 0.056174552 | F38: 21.222421 | G38: 0.04316537 | H38: 26
A39: Hyd y Daith
A40: 1-3 noson | B40: 2.0233077 | C40: 0.78772167 | D40: 3.6660077 | E40: 0.51997083 | F40: 316.25339 | G40: 0.643244 | H40: 200
...

Sheet Business Trips
A1: Teithiau Busnes Dros Nos yng Nghymru gan Drigolion Prydain Fawr
A2: Mae'r daflen waith hon yn cynnwys un tabl. Mae meintiau sylfaen wedi'u darparu ac yn cyfeirio at nifer y teithiau a adroddwyd ar gyfer pob amcangyfrif. Mae rhai o'r meintiau sylfaen ar gyfer yr amcangyfrifon hyn yn isel. Lle mae'r maint sylfaen yn is na 30, cynghorir defnyddwyr i beidio â defnyddio'r amcangyfrif hwn.
A3: Pan fo'r maint sylfaen rhwng 30 a 100, cynghorir defnyddwyr i drin yr amcangyfrif hwn ar sail ddangosol yn unig.
A4: Ceir cod lliw ar gyfer meintiau sylfaen isel yn y tablau. Defnyddir rhai symbolau llaw-fer yn y tabl hwn. I gael cyfarwyddyd ar y cod lliwiau a'r diffiniadau o symbolau llaw-fer, gweler canllaw'r tabl.
A5: Ionawr i Ragfyr 2024 | B5: Teithiau (miliynau) | C5: % o Gyfanswm y Teithiau | D5: Nosweithiau (miliynau) | E5: % o Gyfanswm y Nosweithiau | F5: Gwariant (£miliynau) | G5: % o Gyfanswm y Gwariant | H5: Maint Sylfaen
A6: Cyfanswm Teithiau Busnes | B6: 0.50699292 | C6: 1 | D6: 1.3272133 | E6: 1 | F6: 225.67833 | G6: 1 | H6: 57
A7: Diben Manwl Teithiau Busnes
A8: Net: MICE (Cyfarfod mawr 21 neu fwy o bobl, Teithiau cymelliadol, Cynadleddau, Arddangosfeydd) | B8: 0.17455632 | C8: 0.34429736 | D8: 0.40063934 | E8: 0.30186508 | F8: 101.08763 | G8: 0.44792794 | H8: 25
A9: Net: Cyfarfodydd o unrhyw faint | B9: 0.30286894 | C9: 0.59738299 | D9: 0.9394778 | E9: 0.70785746 | F9: 107.7284 | G9: 0.47735374 | H9: 30
A10: Net: Cynhadledd/arddangosfa/digwyddiad neu hyfforddiant/meithrin tîm neu deithio ar gyfer gwaith neu reswm arall | B10: 0.20412397 | C10: 0.40261701 | D10: 0.38773546 | E10: 0.29214254 | F10: 117.94993 | G10: 0.52264626 | H10: 27
A11: Amhenodedig | B11: 0 | C11: 0 | D11: 0 | E11: 0 | F11: 0 | G11: 0 | H11: 0
A12: Chwarter yr Aethpwyd ar y Daith
A13: Ionawr i Fawrth | B13: 0.098586575 | C13: 0.19445356 | D13: 0.15576501 | E13: 0.11736246 | F13: 24.646819 | G13: 0.10921217 | H13: 6
A14: Ebrill i Fehefin | B14: 0.11353456 | C14: 0.22393717 | D14: 0.37142233 | E14: 0.27985128 | F14: 41.330041 | G14: 0.18313695 | H14: 13
A15: Gorffennaf i Fedi | B15: 0.16751223 | C15: 0.33040349 | D15: 0.40024691 | E15: 0.3015694 | F15: 95.89385 | G15: 0.42491386 | H15: 22
A16: Hydref i Ragfyr | B16: 0.12735955 | C16: 0.25120578 | D16: 0.39977901 | E16: 0.30121686 | F16: 63.807619 | G16: 0.28273702 | H16: 16
A17: Rhanbarth yr Ymwelwyd ag Ef Dros Nos [m]
A18: Canolbarth Cymru | B18: 0.072159209 | C18: 0.14232784 | D18: 0.11480714 | E18: 0.086502407 | F18: 18.172202 | G18: 0.080522584 | H18: 7
A19: Gogledd Cymru | B19: 0.15082717 | C19: 0.29749365 | D19: 0.44616278 | E19: 0.3361651 | F19: 60.140211 | G19: 0.26648642 | H19: 18
A20: De-ddwyrain Cymru | B20: 0.24595418 | C20: 0.4851235 | D20: 0.68669857 | E20: 0.51739882 | F20: 143.86913 | G20: 0.63749642 | H20: 29
A21: De-orllewin Cymru | B21: 0.049394371 | C21: 0.097426156 | D21: 0.079544769 | E21: 0.059933676 | F21: 3.4967884 | G21: 0.015494569 | H21: 4
A22: Parciau Cenedlaethol Cymru | B22: 0 | C22: 0 | D22: 0 | E22: 0 | F22: 0 | G22: 0 | H22: 0
A23: Math Lleoliad y Prif Le yr Ymwelwyd ag Ef
A24: Glan môr neu arfordirol arall | B24: 0.010797165 | C24: 0.02129648 | D24: 0.14538035 | E24: 0.10953805 | F24: 2.3564326 | G24: 0.010441555 | H24: 2
A25: Dinas/ tref fawr | B25: 0.27378303 | C25: 0.54001352 | D25: 0.52342888 | E25: 0.39438189 | F25: 146.03593 | G25: 0.64709772 | H25: 33
A26: Tref fach | B26: 0.12942003 | C26: 0.25526991 | D26: 0.2611571 | E26: 0.19677102 | F26: 52.432489 | G26: 0.23233285 | H26: 13
A27: Cefn gwlad/ pentref | B27: 0.067141694 | C27: 0.13243123 | D27: 0.32873177 | E27: 0.24768572 | F27: 17.277896 | G27: 0.076559836 | H27: 7
A28: Arall/Amhenodedig | B28: 0.025850995 | C28: 0.050988868 | D28: 0.068515156 | E28: 0.051623321 | F28: 7.5755785 | G28: 0.033568037 | H28: 2
A29: Rhanbarth Preswyl
A30: Net: Lloegr | B30: 0.36972707 | C30: 0.7292549 | D30: 0.9304607 | E30: 0.70106345 | F30: 168.20398 | G30: 0.74532625 | H30: 32
A31: Llundain | B31: 0.11546316 | C31: 0.22774117 | D31: 0.20951902 | E31: 0.15786387 | F31: 78.024688 | G31: 0.34573407 | H31: 10
A32: Gweddill Lloegr (Nid Llundain) | B32: 0.25426391 | C32: 0.50151373 | D32: 0.72094168 | E32: 0.54319958 | F32: 90.179296 | G32: 0.39959218 | H32: 22
A33: Net: Yr Alban | B33: 0.020222589 | C33: 0.039887321 | D33: 0.047175666 | E33: 0.035544903 | F33: 12.764768 | G33: 0.056561778 | H33: 3
A34: Net: Cymru | B34: 0.11704326 | C34: 0.23085778 | D34: 0.34957689 | E34: 0.26339165 | F34: 44.709579 | G34: 0.19811197 | H34: 22
A35: Canolbarth Cymru | B35: 0.011669721 | C35: 0.023017524 | D35: 0.011693738 | E35: 0.0088107457 | F35: 1.2697531 | G35: 0.0056263846 | H35: 2
A36: Gogledd Cymru | B36: 0.021061934 | C36: 0.041542857 | D36: 0.029589855 | E36: 0.022294725 | F36: 7.1446175 | G36: 0.031658412 | H36: 5
A37: De-ddwyrain Cymru | B37: 0.059018392 | C37: 0.11640871 | D37: 0.12763781 | E37: 0.096169784 | F37: 19.551882 | G37: 0.086636063 | H37: 10
A38: De-orllewin Cymru | B38: 0.019299499 | C38: 0.038066604 | D38: 0.054528483 | E38: 0.041084945 | F38: 16.225595 | G38: 0.071897001 | H38: 4
A39: Hyd y Daith
A40: 1-3 noson | B40: 0.36654048 | C40: 0.72296963 | D40: 0.6575096 | E40: 0.49540615 | F40: 171.60271 | G40: 0.76038628 | H40: 43
...

Sheet Miscellaneous Trips
A1: Teithiau Amrywiol Dros Nos yng Nghymru gan Drigolion Prydain Fawr
A2: Mae'r daflen waith hon yn cynnwys un tabl. Mae meintiau sylfaen wedi'u darparu ac yn cyfeirio at nifer y teithiau a adroddwyd ar gyfer pob amcangyfrif. Mae rhai o'r meintiau sylfaen ar gyfer yr amcangyfrifon hyn yn isel. Lle mae'r maint sylfaen yn is na 30, cynghorir defnyddwyr i beidio â defnyddio'r amcangyfrif hwn.
A3: Pan fo'r maint sylfaen rhwng 30 a 100, cynghorir defnyddwyr i drin yr amcangyfrif hwn ar sail ddangosol yn unig.
A4: Ceir cod lliw ar gyfer meintiau sylfaen isel yn y tablau. Defnyddir rhai symbolau llaw-fer yn y tabl hwn. I gael cyfarwyddyd ar y cod lliwiau a'r diffiniadau o symbolau llaw-fer, gweler canllaw'r tabl.
A5: Ionawr i Ragfyr 2024 | B5: Teithiau (miliynau) | C5: % o Gyfanswm y Teithiau | D5: Nosweithiau (miliynau) | E5: % o Gyfanswm y Nosweithiau | F5: Gwariant (£miliynau) | G5: % o Gyfanswm y Gwariant | H5: Maint Sylfaen
A6: Cyfanswm Teithiau Amrywiol | B6: 1.6604708 | C6: 1 | D6: 3.5316338 | E6: 1 | F6: 563.88719 | G6: 1 | H6: 177
A7: Diben Manwl Teithiau Amrywiol
A8: Net: Arhosiad dros nos yn y DU yn rhan o deithiau dros nos (e.e. arhosiad mewn gwesty maes awyr cyn hedfan dramor) | B8: 0.44743879 | C8: 0.26946502 | D8: 0.63737568 | E8: 0.18047615 | F8: 182.31742 | G8: 0.3233225 | H8: 46
A9: Net: Taith yr aethpwyd arni yn y DU ar gyfer digwyddiad/dathliad personol, digwyddiad cyhoeddus, addysgol, meddygol, crefyddol neu reswm arall | B9: 1.213032 | C9: 0.73053498 | D9: 2.8942582 | E9: 0.81952385 | F9: 381.56978 | G9: 0.6766775 | H9: 131
A10: Digwyddiad neu ddathliad personol e.e., pen-blwydd, priodas, pen-blwydd priodas | B10: 0.55811346 | C10: 0.3361176 | D10: 1.3078309 | E10: 0.37031895 | F10: 174.52507 | G10: 0.30950352 | H10: 62
A11: Digwyddiad cyhoeddus e.e. cyngerdd, gŵyl, digwyddiad chwaraeon | B11: 0.28802507 | C11: 0.17345988 | D11: 0.80266858 | E11: 0.22727967 | F11: 95.214193 | G11: 0.16885326 | H11: 28
A12: Amhenodedig | B12: 0 | C12: 0 | D12: 0 | E12: 0 | F12: 0 | G12: 0 | H12: 0
A13: Chwarter yr Aethpwyd ar y Daith
A14: Ionawr i Fawrth | B14: 0.3359917 | C14: 0.20234725 | D14: 0.78128516 | E14: 0.22122485 | F14: 122.34244 | G14: 0.21696261 | H14: 34
A15: Ebrill i Fehefin | B15: 0.44596501 | C15: 0.26857745 | D15: 1.1013863 | E15: 0.31186311 | F15: 130.78327 | G15: 0.23193163 | H15: 46
A16: Gorffennaf i Fedi | B16: 0.50198199 | C16: 0.30231305 | D16: 0.94017979 | E16: 0.26621667 | F16: 174.56775 | G16: 0.30957921 | H16: 54
A17: Hydref i Ragfyr | B17: 0.37653209 | C17: 0.22676225 | D17: 0.70878256 | E17: 0.20069537 | F17: 136.19373 | G17: 0.24152656 | H17: 43
A18: Rhanbarth yr Ymwelwyd ag Ef Dros Nos [m]
A19: Canolbarth Cymru | B19: 0.14505906 | C19: 0.087360202 | D19: 0.56726065 | E19: 0.16062272 | F19: 39.142996 | G19: 0.069416359 | H19: 14
A20: Gogledd Cymru | B20: 0.33210487 | C20: 0.20000645 | D20: 0.58837811 | E20: 0.16660224 | F20: 100.33159 | G20: 0.17792848 | H20: 33
A21: De-ddwyrain Cymru | B21: 0.86979988 | C21: 0.52382727 | D21: 1.8489209 | E21: 0.5235313 | F21: 321.18772 | G21: 0.5695957 | H21: 96
A22: De-orllewin Cymru | B22: 0.28302217 | C22: 0.17044695 | D22: 0.48569417 | E22: 0.13752676 | F22: 91.789507 | G22: 0.16277991 | H22: 32
A23: Parciau Cenedlaethol Cymru | B23: 0.041295062 | C23: 0.02486949 | D23: 0.04138005 | E23: 0.011716971 | F23: 11.435375 | G23: 0.020279544 | H23: 3
A24: Math Lleoliad y Prif Le yr Ymwelwyd ag Ef
A25: Glan môr neu arfordirol arall | B25: 0.23667861 | C25: 0.14253705 | D25: 0.56506451 | E25: 0.16000088 | F25: 100.19917 | G25: 0.17769365 | H25: 22
A26: Dinas/ tref fawr | B26: 0.67896752 | C26: 0.40890061 | D26: 1.2894839 | E26: 0.36512388 | F26: 233.65957 | G26: 0.4143729 | H26: 81
A27: Tref fach | B27: 0.39332546 | C27: 0.23687587 | D27: 0.73152932 | E27: 0.20713623 | F27: 109.5181 | G27: 0.19421988 | H27: 37
A28: Cefn gwlad/ pentref | B28: 0.33520436 | C28: 0.20187308 | D28: 0.91159351 | E28: 0.25812232 | F28: 118.11811 | G28: 0.20947116 | H28: 34
A29: Arall/Amhenodedig | B29: 0.016294848 | C29: 0.0098133905 | D29: 0.03396265 | E29: 0.0096166963 | F29: 2.3922354 | G29: 0.0042424006 | H29: 3
A30: Rhanbarth Preswyl
A31: Net: Lloegr | B31: 1.1599065 | C31: 0.69854072 | D31: 2.6860009 | E31: 0.76055476 | F31: 379.70485 | G31: 0.67337024 | H31: 91
A32: Llundain | B32: 0.16643049 | C32: 0.1002309 | D32: 0.31489001 | E32: 0.0891627 | F32: 88.442453 | G32: 0.15684423 | H32: 13
A33: Gweddill Lloegr (Nid Llundain) | B33: 0.99347598 | C33: 0.59830982 | D33: 2.3711109 | E33: 0.67139206 | F33: 291.2624 | G33: 0.51652601 | H33: 78
A34: Net: Yr Alban | B34: 0.069374046 | C34: 0.041779745 | D34: 0.12986519 | E34: 0.036771987 | F34: 37.155084 | G34: 0.065890988 | H34: 10
A35: Net: Cymru | B35: 0.43119028 | C35: 0.25967953 | D35: 0.71576772 | E35: 0.20267325 | F35: 147.02725 | G35: 0.26073877 | H35: 76
A36: Canolbarth Cymru | B36: 0.012266301 | C36: 0.0073872429 | D36: 0.020686071 | E36: 0.0058573656 | F36: 2.2449156 | G36: 0.0039811431 | H36: 3
A37: Gogledd Cymru | B37: 0.056511253 | C37: 0.034033271 | D37: 0.07438828 | E37: 0.021063418 | F37: 16.729335 | G37: 0.029667875 | H37: 9
A38: De-ddwyrain Cymru | B38: 0.24107888 | C38: 0.14518706 | D38: 0.42163073 | E38: 0.11938688 | F38: 85.477792 | G38: 0.15158669 | H38: 40
A39: De-orllewin Cymru | B39: 0.12133385 | C39: 0.073071955 | D39: 0.19906264 | E39: 0.056365595 | F39: 42.575211 | G39: 0.075503065 | H39: 24
A40: Hyd y Daith
...

Sheet Hyperlink
A2: Total trips | B2: Holiday Trips | C2: Visit Friends or Relatives | D2: Business Trips | E2: Miscellaneous Trips
A4: A6 | B4: A6 | C4: A6 | D4: A6 | E4: A6 | F4: TOTAL TRIPS
A5: A26 | B5: A10 | C5: A12 | D5: A12 | E5: A13 | F5: QUARTER TRIP TAKEN
A6: A31 | B6: A15 | C6: A17 | D6: A17 | E6: A18 | F6: REGION VISITED OVERNIGHT [m]
A7: A37 | B7: A21 | C7: A23 | D7: A23 | E7: A24 | F7: LOCATION TYPE OF MAIN PLACE VISITED OVERNIGHT
A8: A43 | B8: A27 | C8: A29 | D8: A29 | E8: A30 | F8: REGION OF RESIDENCE
A9: A53 | B9: A37 | C9: A39 | D9: A39 | E9: A40 | F9: DURATION OF TRIP
A10: A58 | B10: A42 | C10: A44 | D10: A44 | E10: A45 | F10: ACTIVITIES UNDERTAKEN ON TRIP [m]
A11: A71 | B11: A55 | C11: A56 | D11: A57 | E11: A58 | F11: ACCOMMODATION USED
A12: A78 | B12: A62 | C12: A63 | D12: A64 | E12: A65 | F12: TRANSPORT USED FOR TRAVEL TO MAIN DESTINATION [m]
A13: A85 | B13: A69 | C13: A70 | D13: A71 | E13: A72 | F13: TRIP PART OF PACKAGE
A14: A89 | B14: A73 | C14: A74 | D14: A75 | E14: A76 | F14: BOOKING TIME PERIOD
A15: A99 | B15: A83 | C15: A84 | D15: A85 | E15: A86 | F15: HOW BOOKED [m]
... A33: A208 | B33: A192 | C33: A193 | D33: A194 | E33: A195 | F33: CAR OWNERSHIP
