Workbook

Sheet Table Guide
A1: Gwybodaeth sydd wedi'i chynnwys yn y ddogfen hon
A2: Mae'r ddogfen hon yn cynnwys cyfres o dablau sy'n darparu'r amcangyfrifon terfynol o deithiau dros nos yr aeth trigolion Prydain Fawr arnynt yng Nghymru. Mae'r tablau yn cynnwys amcangyfrifon o'r nifer o deithiau dros nos yr aethpwyd arnynt, nifer y nosweithiau a arhoswyd ac amcangyfrif o wariant yn ystod y teithiau hyn. Ceir pum gwahanol daflen waith sy'n cynnwys tablau ag amcangyfrifon ar gyfer pob un o brif ddibenion taith. Mae'r taflenni gwaith hyn wedi'u labelu fel Cyfanswm Teithiau, Teithiau Gwyliau, Ymweliadau â Ffrindiau a Pherthnasau, Teithiau Busnes a Theithiau Amrywiol. Mae pob taflen waith yn cynnwys un tabl ag amcangyfrifon o Deithiau, Nosweithiau a Gwariant yng Nghymru ar gyfer 2024 ar gyfer pob diben taith. Cyflwynir pob tabl mewn fformat tebyg â cholofnau ar wahân yn cynnwys amcangyfrifon ar gyfer Teithiau, Nosweithiau a Gwariant. Ym mhob tabl, ceir colofn ar wahân wedi'i labelu Maint Sylfaen sy'n rhoi nifer yr ymatebion i'r arolwg lle adroddir ymweliad cymwys. Hysbysir defnyddwyr i nodi'r maint sylfaen ar gyfer pob amcangyfrif, gan y bydd hwn yn effeithio ar gadernid a dibynadwyedd yr amcangyfrif. Rhoddir canllawiau pellach ar feintiau sylfaen isod. Mae pob tabl hefyd yn cynnwys amcangyfrifon ar gyfer gwahanol drawstoriadau safonol o'r data gan gynnwys nodweddion taith a demograffeg ymwelwyr. Rhoddir rhagor o wybodaeth am bob trawstoriad isod.
A3: Cwmpas Amser
A4: Mae'r amcangyfrifon yn y ddogfen hon ar gyfer blwyddyn galendr lawn 2024 o 1 Ionawr tan 31 Rhagfyr cynhwysol.
A5: Poblogaeth Ystadegol
A6: Y boblogaeth ystadegol ar gyfer amcangyfrifon yn y ddogfen hon yw oedolion 16 oed neu hŷn sy'n byw yng Nghymru, Lloegr neu'r Alban. Mae'r arolwg hefyd yn casglu manylion unrhyw blant sy'n mynd gydag oedolyn ar daith dros nos a chaiff y rhain eu cynnwys yn y ffigurau gros amcangyfrifedig ar gyfer teithiau, nosweithiau a gwariant. Mae'r data demograffig yn y tablau yn seiliedig ar yr ymatebwr yn hytrach na'r rhai ym mharti'r daith.
A7: Canllawiau Maint Sampl
A8: Mae meintiau sylfaen ar gyfer pob un o'r amcangyfrifon wedi'u cynnwys mewn colofn ar wahân ym mhob tabl. Mae meintiau sylfaen yn cyfeirio at nifer y teithiau a adroddwyd. Mae rhai o'r meintiau sylfaen hyn yn isel. Os yw'r maint sylfaen yn llai na 30, ni argymhellir y dylid defnyddio'r data hyn. Os yw'r maint sylfaen rhwng 30 a 100, argymhellir defnyddio'r amcangyfrifon ar sail ddangosol yn unig. Ceir cod lliw ar gyfer meintiau sylfaen isel yn y tablau a dangosir meintiau sylfaen sy'n llai na 30 â llenwad oren tywyll a dangosir meintiau sylfaen rhwng 30 a 100 â llenwad oren golau. Mae rhai amcangyfrifon yn y tablau wedi'u nodi'n amhenodedig. Mae hyn oherwydd nifer fach o deithiau na ddarparodd unrhyw wybodaeth fanwl. Gofynnir i'r ymatebwyr am hyd at 10 taith, ond mae nifer y teithiau y gofynnir amdanynt yn fanwl wedi'i chyfyngu i 3.
A9: Sut i ddod o hyd i dablau ar gyfer Cymru
A10: I weld y tablau ar gyfer diben pob taith ar gyfer Cymru, cliciwch ar y Tabiau Taflenni Gwaith sydd wedi'u lleoli ar waelod y ddogfen hon sydd wedi'u labelu yn ôl prif ddiben taith.
A11: Sut i ddod o hyd i dablau ar gyfer Prydain Fawr, Lloegr a'r Alban
A12: Ceir tablau ar wahân ag amcangyfrifon ar gyfer teithiau dros nos yr aethpwyd arnynt ym Mhrydain Fawr yn ei chyfanrwydd gan drigolion Prydain Fawr wedi'u cyhoeddi ar wefan Visit Britain. Cyhoeddir tablau ar gyfer teithiau dros nos yr aethpwyd arnynt yn Lloegr a'r Alban gan VisitEngland a VisitScotland.
... A82: DADANSODDIAD O WARIANT. Y cyfanswm a wariwyd ar yr eitemau a nodwyd. Cyfrifir y dadansoddiad gwariant canrannol fel y gyfran o gyfanswm y gwariant a gyfrifwyd ar gyfer yr eitem wariant. Mae gwariant yn enwol ac nid yw wedi'i addasu ar gyfer chwyddiant.

Sheet Table of contents
A1: Tablau Blynyddol Teithiau Dros Nos Cymru 2024: Tabl Cynnwys
A2: Teitl y Tabl | B2: Cyfanswm Teithiau | C2: Teithiau Gwyliau | D2: Ymweld â Ffrindiau neu Berthnasau | E2: Busnes | F2: Amrywiol
A3: Cyfanswm Teithiau | B3: =HYPERLINK("#'"&Hyperlink!A$2&"'!"&Hyperlink!$A4, "Cyfanswm Teithiau: " & $A3) -> Cyfanswm Teithiau: Cyfanswm Teithiau | C3: =HYPERLINK("#'"&Hyperlink!B$2&"'!"&Hyperlink!$B4, "Gwyliau: " & $A3) -> Gwyliau: Cyfanswm Teithiau | D3: =HYPERLINK("#'"&Hyperlink!C$2&"'!"&Hyperlink!$C4, "Ymweld â Ffrindiau neu Berthnasau: " & $A3) -> Ymweld â Ffrindiau neu Berthnasau: Cyfanswm Teithiau | E3: =HYPERLINK("#'"&Hyperlink!D$2&"'!"&Hyperlink!$D4, "Busnes: " & $A3) -> Busnes: Cyfanswm Teithiau | F3: =HYPERLINK("#'"&Hyperlink!E$2&"'!"&Hyperlink!$E4, "Amrywiol: " & $A3) -> Amrywiol: Cyfanswm Teithiau
A4: Chwarter yr Aethpwyd ar y Daith | B4: =HYPERLINK("#'"&Hyperlink!A$2&"'!"&Hyperlink!$A5, "Cyfanswm Teithiau: " & $A4) -> Cyfanswm Teithiau: Chwarter yr Aethpwyd ar y Daith | C4: =HYPERLINK("#'"&Hyperlink!B$2&"'!"&Hyperlink!$B5, "Gwyliau: " & $A4) -> Gwyliau: Chwarter yr Aethpwyd ar y Daith | D4: =HYPERLINK("#'"&Hyperlink!C$2&"'!"&Hyperlink!$C5, "Ymweld â Ffrindiau neu Berthnasau: " & $A4) -> Ymweld â Ffrindiau neu Berthnasau: Chwarter yr Aethpwyd ar y Daith | E4: =HYPERLINK("#'"&Hyperlink!D$2&"'!"&Hyperlink!$D5, "Busnes: " & $A4) -> Busnes: Chwarter yr Aethpwyd ar y Daith | F4: =HYPERLINK("#'"&Hyperlink!E$2&"'!"&Hyperlink!$E5, "Amrywiol: " & $A4) -> Amrywiol: Chwarter yr Aethpwyd ar y Daith
A5: Rhanbarth yr Ymwelwyd ag Ef Dros Nos [m] | B5: =HYPERLINK("#'"&Hyperlink!A$2&"'!"&Hyperlink!$A6, "Cyfanswm Teithiau: " & $A5) -> Cyfanswm Teithiau: Rhanbarth yr Ymwelwyd ag Ef Dros Nos [m] | C5: =HYPERLINK("#'"&Hyperlink!B$2&"'!"&Hyperlink!$B6, "Gwyliau: " & $A5) -> Gwyliau: Rhanbarth yr Ymwelwyd ag Ef Dros Nos [m] | D5: =HYPERLINK("#'"&Hyperlink!C$2&"'!"&Hyperlink!$C6, "Ymweld â Ffrindiau neu Berthnasau: " & $A5) -> Ymweld â Ffrindiau neu Berthnasau: Rhanbarth yr Ymwelwyd ag Ef Dros Nos [m] | E5: =HYPERLINK("#'"&Hyperlink!D$2&"'!"&Hyperlink!$D6, "Busnes: " & $A5) -> Busnes: Rhanbarth yr Ymwelwyd ag Ef Dros Nos [m] | F5: =HYPERLINK("#'"&Hyperlink!E$2&"'!"&Hyperlink!$E6, "Amrywiol: " & $A5) -> Amrywiol: Rhanbarth yr Ymwelwyd ag Ef Dros Nos [m]
A6: Math Lleoliad y Prif Le yr Ymwelwyd ag Ef Dros Nos | B6: =HYPERLINK("#'"&Hyperlink!A$2&"'!"&Hyperlink!$A7, "Cyfanswm Teithiau: " & $A6) -> Cyfanswm Teithiau: Math Lleoliad y Prif Le yr Ymwelwyd ag Ef Dros Nos | C6: =HYPERLINK("#'"&Hyperlink!B$2&"'!"&Hyperlink!$B7, "Gwyliau: " & $A6) -> Gwyliau: Math Lleoliad y Prif Le yr Ymwelwyd ag Ef Dros Nos | D6: =HYPERLINK("#'"&Hyperlink!C$2&"'!"&Hyperlink!$C7, "Ymweld â Ffrindiau neu Berthnasau: " & $A6) -> Ymweld â Ffrindiau neu Berthnasau: Math Lleoliad y Prif Le yr Ymwelwyd ag Ef Dros Nos | E6: =HYPERLINK("#'"&Hyperlink!D$2&"'!"&Hyperlink!$D7, "Busnes: " & $A6) -> Busnes: Math Lleoliad y Prif Le yr Ymwelwyd ag Ef Dros Nos | F6: =HYPERLINK("#'"&Hyperlink!E$2&"'!"&Hyperlink!$E7, "Amrywiol: " & $A6) -> Amrywiol: Math Lleoliad y Prif Le yr Ymwelwyd ag Ef Dros Nos
A7: Rhanbarth Preswyl | B7: =HYPERLINK("#'"&Hyperlink!A$2&"'!"&Hyperlink!$A8, "Cyfanswm Teithiau: " & $A7) -> Cyfanswm Teithiau: Rhanbarth Preswyl | C7: =HYPERLINK("#'"&Hyperlink!B$2&"'!"&Hyperlink!$B8, "Gwyliau: " & $A7) -> Gwyliau: Rhanbarth Preswyl | D7: =HYPERLINK("#'"&Hyperlink!C$2&"'!"&Hyperlink!$C8, "Ymweld â Ffrindiau neu Berthnasau: " & $A7) -> Ymweld â Ffrindiau neu Berthnasau: Rhanbarth Preswyl | E7: =HYPERLINK("#'"&Hyperlink!D$2&"'!"&Hyperlink!$D8, "Busnes: " & $A7) -> Busnes: Rhanbarth Preswyl | F7: =HYPERLINK("#'"&Hyperlink!E$2&"'!"&Hyperlink!$E8, "Amrywiol: " & $A7) -> Amrywiol: Rhanbarth Preswyl
A8: Hyd y Daith | B8: =HYPERLINK("#'"&Hyperlink!A$2&"'!"&Hyperlink!$A9, "Cyfanswm Teithiau: " & $A8) -> Cyfanswm Teithiau: Hyd y Daith | C8: =HYPERLINK("#'"&Hyperlink!B$2&"'!"&Hyperlink!$B9, "Gwyliau: " & $A8) -> Gwyliau: Hyd y Daith | D8: =HYPERLINK("#'"&Hyperlink!C$2&"'!"&Hyperlink!$C9, "Ymweld â Ffrindiau neu Berthnasau: " & $A8) -> Ymweld â Ffrindiau neu Berthnasau: Hyd y Daith | E8: =HYPERLINK("#'"&Hyperlink!D$2&"'!"&Hyperlink!$D9, "Busnes: " & $A8) -> Busnes: Hyd y Daith | F8: =HYPERLINK("#'"&Hyperlink!E$2&"'!"&Hyperlink!$E9, "Amrywiol: " & $A8) -> Amrywiol: Hyd y Daith
A9: Gweithgareddau y Cymerwyd Rhan Ynddynt yn ystod y Daith [m] | B9: =HYPERLINK("#'"&Hyperlink!A$2&"'!"&Hyperlink!$A10, "Cyfanswm Teithiau: " & $A9) -> Cyfanswm Teithiau: Gweithgareddau y Cymerwyd Rhan Ynddynt yn ystod y Daith [m] | C9: =HYPERLINK("#'"&Hyperlink!B$2&"'!"&Hyperlink!$B10, "Gwyliau: " & $A9) -> Gwyliau: Gweithgareddau y Cymerwyd Rhan Ynddynt yn ystod y Daith [m] | D9: =HYPERLINK("#'"&Hyperlink!C$2&"'!"&Hyperlink!$C10, "Ymweld â Ffrindiau neu Berthnasau: " & $A9) -> Ymweld â Ffrindiau neu Berthnasau: Gweithgareddau y Cymerwyd Rhan Ynddynt yn ystod y Daith [m] | E9: =HYPERLINK("#'"&Hyperlink!D$2&"'!"&Hyperlink!$D10, "Busnes: " & $A9) -> Busnes: Gweithgareddau y Cymerwyd Rhan Ynddynt yn ystod y Daith [m] | F9: =HYPERLINK("#'"&Hyperlink!E$2&"'!"&Hyperlink!$E10, "Amrywiol: " & $A9) -> Amrywiol: Gweithgareddau y Cymerwyd Rhan Ynddynt yn ystod y Daith [m]
A10: Llety a Ddefnyddiwyd | B10: =HYPERLINK("#'"&Hyperlink!A$2&"'!"&Hyperlink!$A11, "Cyfanswm Teithiau: " & $A10) -> Cyfanswm Teithiau: Llety a Ddefnyddiwyd | C10: =HYPERLINK("#'"&Hyperlink!B$2&"'!"&Hyperlink!$B11, "Gwyliau: " & $A10) -> Gwyliau: Llety a Ddefnyddiwyd | D10: =HYPERLINK("#'"&Hyperlink!C$2&"'!"&Hyperlink!$C11, "Ymweld â Ffrindiau neu Berthnasau: " & $A10) -> Ymweld â Ffrindiau neu Berthnasau: Llety a Ddefnyddiwyd | E10: =HYPERLINK("#'"&Hyperlink!D$2&"'!"&Hyperlink!$D11, "Busnes: " & $A10) -> Busnes: Llety a Ddefnyddiwyd | F10: =HYPERLINK("#'"&Hyperlink!E$2&"'!"&Hyperlink!$E11, "Amrywiol: " & $A10) -> Amrywiol: Llety a Ddefnyddiwyd
A11: Trafnidiaeth a Ddefnyddiwyd ar gyfer Teithio i'r Prif Gyrchfan [m] | B11: =HYPERLINK("#'"&Hyperlink!A$2&"'!"&Hyperlink!$A12, "Cyfanswm Teithiau: " & $A11) -> Cyfanswm Teithiau: Trafnidiaeth a Ddefnyddiwyd ar gyfer Teithio i'r Prif Gyrchfan [m] | C11: =HYPERLINK("#'"&Hyperlink!B$2&"'!"&Hyperlink!$B12, "Gwyliau: " & $A11) -> Gwyliau: Trafnidiaeth a Ddefnyddiwyd ar gyfer Teithio i'r Prif Gyrchfan [m] | D11: =HYPERLINK("#'"&Hyperlink!C$2&"'!"&Hyperlink!$C12, "Ymweld â Ffrindiau neu Berthnasau: " & $A11) -> Ymweld â Ffrindiau neu Berthnasau: Trafnidiaeth a Ddefnyddiwyd ar gyfer Teithio i'r Prif Gyrchfan [m] | E11: =HYPERLINK("#'"&Hyperlink!D$2&"'!"&Hyperlink!$D12, "Busnes: " & $A11) -> Busnes: Trafnidiaeth a Ddefnyddiwyd ar gyfer Teithio i'r Prif Gyrchfan [m] | F11: =HYPERLINK("#'"&Hyperlink!E$2&"'!"&Hyperlink!$E12, "Amrywiol: " & $A11) -> Amrywiol: Trafnidiaeth a Ddefnyddiwyd ar gyfer Teithio i'r Prif Gyrchfan [m]
A12: Taith Rhan o Becyn | B12: =HYPERLINK("#'"&Hyperlink!A$2&"'!"&Hyperlink!$A13, "Cyfanswm Teithiau: " & $A12) -> Cyfanswm Teithiau: Taith Rhan o Becyn | C12: =HYPERLINK("#'"&Hyperlink!B$2&"'!"&Hyperlink!$B13, "Gwyliau: " & $A12) -> Gwyliau: Taith Rhan o Becyn | D12: =HYPERLINK("#'"&Hyperlink!C$2&"'!"&Hyperlink!$C13, "Ymweld â Ffrindiau neu Berthnasau: " & $A12) -> Ymweld â Ffrindiau neu Berthnasau: Taith Rhan o Becyn | E12: =HYPERLINK("#'"&Hyperlink!D$2&"'!"&Hyperlink!$D13, "Busnes: " & $A12) -> Busnes: Taith Rhan o Becyn | F12: =HYPERLINK("#'"&Hyperlink!E$2&"'!"&Hyperlink!$E13, "Amrywiol: " & $A12) -> Amrywiol: Taith Rhan o Becyn
A13: Cyfnod Amser Trefnu Llety | B13: =HYPERLINK("#'"&Hyperlink!A$2&"'!"&Hyperlink!$A14, "Cyfanswm Teithiau: " & $A13) -> Cyfanswm Teithiau: Cyfnod Amser Trefnu Llety | C13: =HYPERLINK("#'"&Hyperlink!B$2&"'!"&Hyperlink!$B14, "Gwyliau: " & $A13) -> Gwyliau: Cyfnod Amser Trefnu Llety | D13: =HYPERLINK("#'"&Hyperlink!C$2&"'!"&Hyperlink!$C14, "Ymweld â Ffrindiau neu Berthnasau: " & $A13) -> Ymweld â Ffrindiau neu Berthnasau: Cyfnod Amser Trefnu Llety | E13: =HYPERLINK("#'"&Hyperlink!D$2&"'!"&Hyperlink!$D14, "Busnes: " & $A13) -> Busnes: Cyfnod Amser Trefnu Llety | F13: =HYPERLINK("#'"&Hyperlink!E$2&"'!"&Hyperlink!$E14, "Amrywiol: " & $A13) -> Amrywiol: Cyfnod Amser Trefnu Llety
A14: Sut y Trefnwyd [m] | B14: =HYPERLINK("#'"&Hyperlink!A$2&"'!"&Hyperlink!$A15, "Cyfanswm Teithiau: " & $A14) -> Cyfanswm Teithiau: Sut y Trefnwyd [m] | C14: =HYPERLINK("#'"&Hyperlink!B$2&"'!"&Hyperlink!$B15, "Gwyliau: " & $A14) -> Gwyliau: Sut y Trefnwyd [m] | D14: =HYPERLINK("#'"&Hyperlink!C$2&"'!"&Hyperlink!$C15, "Ymweld â Ffrindiau neu Berthnasau: " & $A14) -> Ymweld â Ffrindiau neu Berthnasau: Sut y Trefnwyd [m] | E14: =HYPERLINK("#'"&Hyperlink!D$2&"'!"&Hyperlink!$D15, "Busnes: " & $A14) -> Busnes: Sut y Trefnwyd [m] | F14: =HYPERLINK("#'"&Hyperlink!E$2&"'!"&Hyperlink!$E15, "Amrywiol: " & $A14) -> Amrywiol: Sut y Trefnwyd [m]
... A32: Perchennog Car | B32: =HYPERLINK("#'"&Hyperlink!A$2&"'!"&Hyperlink!$A33, "Cyfanswm Teithiau: " & $A32) -> Cyfanswm Teithiau: Perchennog Car | C32: =HYPERLINK("#'"&Hyperlink!B$2&"'!"&Hyperlink!$B33, "Gwyliau: " & $A32) -> Gwyliau: Perchennog Car | D32: =HYPERLINK("#'"&Hyperlink!C$2&"'!"&Hyperlink!$C33, "Ymweld â Ffrindiau neu Berthnasau: " & $A32) -> Ymweld â Ffrindiau neu Berthnasau: Perchennog Car | E32: =HYPERLINK("#'"&Hyperlink!D$2&"'!"&Hyperlink!$D33, "Busnes: " & $A32) -> Busnes: Perchennog Car | F32: =HYPERLINK("#'"&Hyperlink!E$2&"'!"&Hyperlink!$E33, "Amrywiol: " & $A32) -> Amrywiol: Perchennog Car

Sheet Total Trips
A1: Cyfanswm y Teithiau Dros Nos yng Nghymru gan Drigolion Prydain Fawr
A2: Mae'r daflen waith hon yn cynnwys un tabl. Mae meintiau sylfaen wedi'u darparu ac yn cyfeirio at nifer y teithiau a adroddwyd ar gyfer pob amcangyfrif. Mae rhai o'r meintiau sylfaen ar gyfer yr amcangyfrifon hyn yn isel. Lle mae'r maint sylfaen yn is na 30, cynghorir defnyddwyr i beidio â defnyddio'r amcangyfrif hwn.
A3: Pan fo'r maint sylfaen rhwng 30 a 100, cynghorir defnyddwyr i drin yr amcangyfrif hwn ar sail ddangosol yn unig.
A4: Ceir cod lliw ar gyfer meintiau sylfaen isel yn y tablau. Defnyddir rhai symbolau llaw-fer yn y tabl hwn. I gael cyfarwyddyd ar y cod lliwiau a'r diffiniadau o symbolau llaw-fer, gweler canllaw'r tabl.
A5: Ionawr i Ragfyr 2024 | B5: Teithiau (miliynau) | C5: % o Gyfanswm y Teithiau | D5: Nosweithiau (miliynau) | E5: % o Gyfanswm y Nosweithiau | F5: Gwariant (£miliynau) | G5: % o Gyfanswm y Gwariant | H5: Maint Sylfaen
A6: Cyfanswm Teithiau Pob Diben | B6: 7.613774 | C6: 1 | D6: 22.296864 | E6: 1 | F6: 2244.1799 | G6: 1 | H6: 752
A7: Teithiau Gwyliau | B7: 2.8777536 | C7: 0.37796678 | D7: 10.387606 | E7: 0.46587746 | F7: 962.96051 | G7: 0.42909239 | H7: 275
A8: Gwyliau 1-3 noson | B8: 1.6851345 | C8: 0.2213271 | D8: 3.4174283 | E8: 0.15326946 | F8: 415.28216 | G8: 0.18504852 | H8: 172
A9: Gwyliau 4 noson a mwy | B9: 1.1926191 | C9: 0.15663967 | D9: 6.9701778 | E9: 0.312608 | F9: 547.67835 | G9: 0.24404387 | H9: 103
A10: Teithiau i Ymweld â Ffrindiau neu Berthnasau | B10: 2.5685566 | C10: 0.33735657 | D10: 7.0504103 | E10: 0.31620637 | F10: 491.65385 | G10: 0.21907952 | H10: 243
A11: Ymweld â Ffrindiau neu Berthnasau ar gyfer gwyliau | B11: 0.70771381 | C11: 0.092951776 | D11: 2.8597661 | E11: 0.12825867 | F11: 145.85674 | G11: 0.064993338 | H11: 61
A12: Ymweld â Ffrindiau neu Berthnasau ar gyfer digwyddiad neu ddathliad e.e. pen-blwydd, priodas, pen-blwydd priodas | B12: 1.1056668 | C12: 0.14521929 | D12: 2.449078 | E12: 0.10983958 | F12: 256.24406 | G12: 0.1141816 | H12: 104
A13: Ymweld â Ffrindiau neu Berthnasau am reswm arall | B13: 0.75517598 | C13: 0.099185501 | D13: 1.7415662 | E13: 0.078108125 | F13: 89.553054 | G13: 0.039904579 | H13: 78
A14: Amhenodedig | B14: 0 | C14: 0 | D14: 0 | E14: 0 | F14: 0 | G14: 0 | H14: 0
A15: Teithiau Busnes | B15: 0.50699292 | C15: 0.066588911 | D15: 1.3272133 | E15: 0.059524661 | F15: 225.67833 | G15: 0.1005616 | H15: 57
A16: Net: MICE (Cyfarfod mawr 21 neu fwy o bobl, Teithiau cymelliadol, Cynadleddau, Arddangosfeydd) | B16: 0.17455632 | C16: 0.022926386 | D16: 0.40063934 | E16: 0.017968417 | F16: 101.08763 | G16: 0.045044352 | H16: 25
A17: Net: Cyfarfodydd o unrhyw faint | B17: 0.30286894 | C17: 0.039779083 | D17: 0.9394778 | E17: 0.042134975 | F17: 107.7284 | G17: 0.048003458 | H17: 30
... A25: Amhenodedig | B25: 0 | C25: 0 | D25: 0 | E25: 0 | F25: 0 | G25: 0 | H25: 0
A26: Chwarter yr Aethpwyd ar y Daith
A27: Ionawr i Fawrth | B27: 1.6081339 | C27: 0.21121378 | D27: 3.9680488 | E27: 0.17796444 | F27: 330.98325 | G27: 0.14748517 | H27: 150
A28: Ebrill i Fehefin | B28: 1.9737205 | C28: 0.25923025 | D28: 5.8258243 | E28: 0.26128447 | F28: 566.55871 | G28: 0.25245691 | H28: 201
A29: Gorffennaf i Fedi | B29: 2.3955624 | C29: 0.31463535 | D29: 7.9813262 | E29: 0.35795735 | F29: 861.06844 | G29: 0.38368958 | H29: 239
A30: Hydref i Ragfyr | B30: 1.636357 | C30: 0.21492062 | D30: 4.5216643 | E30: 0.20279374 | F30: 485.56947 | G30: 0.21636834 | H30: 162
A31: Rhanbarth yr Ymwelwyd ag Ef Dros Nos [m]
A32: Canolbarth Cymru | B32: 0.63176305 | C32: 0.082976334 | D32: 2.0615913 | E32: 0.092461044 | F32: 184.11025 | G32: 0.08203899 | H32: 60
A33: Gogledd Cymru | B33: 2.4756646 | C33: 0.32515605 | D33: 8.1894253 | E33: 0.36729046 | F33: 679.96221 | G33: 0.30298918 | H33: 224
A34: De-ddwyrain Cymru | B34: 2.9144326 | C34: 0.38278423 | D34: 7.3828166 | E34: 0.33111458 | F34: 953.39191 | G34: 0.42482865 | H34: 315
A35: De-orllewin Cymru | B35: 1.5487162 | C35: 0.2034098 | D35: 4.3248673 | E35: 0.19396752 | F35: 388.09497 | G35: 0.17293399 | H35: 150
A36: Parciau Cenedlaethol Cymru | B36: 0.16584117 | C36: 0.02178173 | D36: 0.33816314 | E36: 0.0151664 | F36: 38.620534 | G36: 0.017209197 | H36: 14
A37: Math Lleoliad y Prif Le yr Ymwelwyd ag Ef
A38: Glan môr neu arfordirol arall | B38: 1.4445622 | C38: 0.18973012 | D38: 4.9931568 | E38: 0.22393988 | F38: 447.69881 | G38: 0.19949328 | H38: 129
A39: Dinas/ tref fawr | B39: 2.2117132 | C39: 0.29048843 | D39: 5.6532102 | E39: 0.25354284 | F39: 740.11286 | G39: 0.32979213 | H39: 245
A40: Tref fach | B40: 2.0253334 | C40: 0.26600913 | D40: 5.281447 | E40: 0.2368695 | F40: 509.6187 | G40: 0.22708461 | H40: 189
A41: Cefn gwlad/ pentref | B41: 1.8192484 | C41: 0.23894174 | D41: 5.7970056 | E41: 0.25999197 | F41: 511.32691 | G41: 0.22784578 | H41: 176
A42: Arall/Amhenodedig | B42: 0.11291671 | C42: 0.014830584 | D42: 0.57204402 | E42: 0.025655807 | F42: 35.422602 | G42: 0.015784208 | H42: 13
A43: Rhanbarth Preswyl
A44: Net: Lloegr | B44: 5.233171 | C44: 0.68732944 | D44: 16.134253 | E44: 0.72361089 | F44: 1657.3409 | G44: 0.73850627 | H44: 387
A45: Llundain | B45: 0.86924025 | C45: 0.1141668 | D45: 2.6446074 | E45: 0.11860894 | F45: 394.66154 | G45: 0.17586003 | H45: 63
A46: Gweddill Lloegr (Nid Llundain) | B46: 4.3639308 | C46: 0.57316264 | D46: 13.489646 | E46: 0.60500194 | F46: 1262.6794 | G46: 0.56264625 | H46: 324
A47: Net: Yr Alban | B47: 0.21145292 | C47: 0.027772419 | D47: 0.75593559 | E47: 0.033903225 | F47: 107.53162 | G47: 0.047915777 | H47: 29
A48: Net: Cymru | B48: 2.16915 | C48: 0.28489814 | D48: 5.4066747 | E48: 0.24248589 | F48: 479.30734 | G48: 0.21357795 | H48: 336
A49: Canolbarth Cymru | B49: 0.134386 | C49: 0.01765038 | D49: 0.31032636 | E49: 0.013917938 | F49: 18.209407 | G49: 0.0081140584 | H49: 20
A50: Gogledd Cymru | B50: 0.38946179 | C50: 0.051152266 | D50: 0.80870813 | E50: 0.03627004 | F50: 63.424724 | G50: 0.028261872 | H50: 59
A51: De-ddwyrain Cymru | B51: 1.1608796 | C51: 0.15247099 | D51: 2.9772935 | E51: 0.1335297 | F51: 272.87133 | G51: 0.12159067 | H51: 175
A52: De-orllewin Cymru | B52: 0.4784289 | C52: 0.062837288 | D52: 1.1842197 | E52: 0.053111492 | F52: 124.28414 | G52: 0.055380651 | H52: 81
A53: Hyd y Daith
A54: 1-3 noson | B54: 5.4865484 | C54: 0.72060825 | D54: 10.009148 | E54: 0.44890388 | F54: 1348.5492 | G54: 0.60090958 | H54: 567
A55: 4-7 noson | B55: 1.7416035 | C55: 0.22874379 | D55: 8.2207191 | E55: 0.36869397 | F55: 717.70523 | G55: 0.31980735 | H55: 151
A56: 8+ noson | B56: 0.38562212 | C56: 0.05064796 | D56: 4.066996 | E56: 0.18240216 | F56: 177.92546 | G56: 0.079283065 | H56: 34
A57: Amhenodedig | B57: 0 | C57: 0 | D57: 0 | E57: 0 | F57: 0 | G57: 0 | H57: 0
A58: Gweithgareddau y Cymerwyd Rhan Ynddynt yn ystod y Daith [m]
A59: Ymweld â ffrindiau neu berthnasau | B59: 0.85831431 | C59: 0.11273178 | D59: 2.6408439 | E59: 0.11844015 | F59: 279.66417 | G59: 0.12461754 | H59: 92
A60: Mynd i atyniad ymwelwyr e.e. tŷ Hanesyddol, parc thema, amgueddfa, ac ati | B60: 1.674733 | C60: 0.21996095 | D60: 6.3832234 | E60: 0.28628346 | F60: 592.33564 | G60: 0.26394303 | H60: 150
A61: Cymryd rhan mewn gweithgareddau hamdden a chwaraeon awyr agored (e.e. cerdded, beicio ac ati) | B61: 2.4283721 | C61: 0.31894461 | D61: 8.4166306 | E61: 0.37748047 | F61: 703.36618 | G61: 0.31341791 | H61: 230
A62: Mynd i weld golygfeydd ac archwilio ardaloedd | B62: 2.7665897 | C62: 0.3633664 | D62: 9.6448389 | E62: 0.43256483 | F62: 890.39922 | G62: 0.39675929 | H62: 254
A63: Cymryd rhan mewn hobïau a diddordebau | B63: 1.039663 | C63: 0.13655029 | D63: 3.8848587 | E63: 0.17423342 | F63: 318.00405 | G63: 0.14170168 | H63: 105
A64: Cymryd rhan mewn profiad iechyd neu lesiant (e.e. sba, lloches, campfa ac ati) | B64: 0.43001238 | C64: 0.056478217 | D64: 1.1921483 | E64: 0.053467085 | F64: 148.0879 | G64: 0.065987537 | H64: 45
A65: Mynd i ddigwyddiad arbennig neu ddathliad o natur bersonol (e.e. priodas, pen-blwydd, pen-blwydd priodas ac ati) | B65: 0.81819907 | C65: 0.10746301 | D65: 2.8968337 | E65: 0.12992113 | F65: 269.84439 | G65: 0.12024187 | H65: 86
A66: Mynd i ddigwyddiad cyhoeddus a drefnwyd (e.e. arddangosfa, chwaraeon byw ac ati) | B66: 0.48399862 | C66: 0.063568819 | D66: 1.2202704 | E66: 0.054728344 | F66: 183.57635 | G66: 0.081801085 | H66: 50
A67: Mynd i brofiad celfyddydol, diwylliannol neu adloniant (e.e. amgueddfa, oriel, sinema ac ati) | B67: 0.42547065 | C67: 0.055881703 | D67: 1.4009073 | E67: 0.06282979 | F67: 196.61603 | G67: 0.087611527 | H67: 43
A68: Bwyd a diod, noson allan neu siopa arbenigol (h.y. siopa am eitemau nad ydych yn eu prynu'n rheolaidd e.e. dillad, electroneg, gemwaith, cofroddion ac ati) | B68: 2.2688831 | C68: 0.29799717 | D68: 7.4399886 | E68: 0.33367871 | F68: 723.50751 | G68: 0.32239283 | H68: 229
A69: Cymryd rhan mewn gweithgareddau hamdden na chyfeiriwyd atynt uchod | B69: 0.58232773 | C69: 0.076483454 | D69: 1.9194124 | E69: 0.086084413 | F69: 190.30316 | G69: 0.084798531 | H69: 57
A70: Ni chymerwyd rhan mewn unrhyw weithgareddau a nodwyd | B70: 1.0939769 | C70: 0.14368392 | D70: 2.675061 | E70: 0.11997477 | F70: 262.19337 | G70: 0.1168326 | H70: 119
A71: Llety a Ddefnyddiwyd
A72: Net: Pob llety â gwasanaeth (e.e. gwesty neu sefydliad gwely a brecwast) | B72: 2.8165939 | C72: 0.36993401 | D72: 7.2986202 | E72: 0.32733843 | F72: 1074.0415 | G72: 0.47858977 | H72: 278
A73: Net: Rhentu eiddo hunanddarpar | B73: 1.2301565 | C73: 0.16156987 | D73: 4.2925399 | E73: 0.19251765 | F73: 478.4424 | G73: 0.21319254 | H73: 118
A74: Net: Carafán / Gwersylla / Glampio | B74: 1.3564161 | C74: 0.17815293 | D74: 4.776614 | E74: 0.21422807 | F74: 332.09584 | G74: 0.14798093 | H74: 129
A75: Net: Cartref preifat rhywun | B75: 1.850564 | C75: 0.24305476 | D75: 4.8550118 | E75: 0.21774416 | F75: 265.61152 | G75: 0.11835572 | H75: 186
A76: Net: Llety arall | B76: 0.33350708 | C76: 0.043803123 | D76: 0.96395797 | E76: 0.043232896 | F76: 85.738867 | G76: 0.038204989 | H76: 37
A77: Ddim yn gwybod/ Amhenodedig | B77: 0.02653636 | C77: 0.0034853097 | D77: 0.11011965 | E77: 0.0049387955 | F77: 8.2497223 | G77: 0.0036760522 | H77: 4
A78: Trafnidiaeth a Ddefnyddiwyd ar gyfer Teithio i'r Prif Gyrchfan [m]
A79: Net: Cerbyd modur preifat | B79: 5.7504132 | C79: 0.7552645 | D79: 17.433798 | E79: 0.78189464 | F79: 1582.3645 | G79: 0.70509698 | H79: 558
A80: Net: Trên, trên tanddaearol, tram | B80: 1.1243142 | C80: 0.14766845 | D80: 3.6500043 | E80: 0.16370035 | F80: 331.69784 | G80: 0.14780359 | H80: 116
A81: Net: Bws, coets, tacsi | B81: 0.91920131 | C81: 0.12072874 | D81: 2.4508798 | E81: 0.10992039 | F81: 306.48782 | G81: 0.13657008 | H81: 88
A82: Net: Cerdded, beicio | B82: 0.28027506 | C82: 0.036811582 | D82: 0.92668078 | E82: 0.041561038 | F82: 81.82908 | G82: 0.036462799 | H82: 29
A83: Net: Trafnidiaeth dŵr neu awyr | B83: 0.56766959 | C83: 0.074558241 | D83: 1.6793614 | E83: 0.075318281 | F83: 225.52415 | G83: 0.1004929 | H83: 48
A84: Net: Arall | B84: 0.53149101 | C84: 0.069806513 | D84: 0.77370638 | E84: 0.034700234 | F84: 194.75725 | G84: 0.086783262 | H84: 55
A85: Taith Rhan o Becyn
A86: Oedd, rhan o becyn | B86: 1.4060723 | C86: 0.18467481 | D86: 4.5717896 | E86: 0.20504183 | F86: 691.90949 | G86: 0.30831285 | H86: 136
A87: Nac oedd, ddim yn rhan o becyn | B87: 5.9577914 | C87: 0.78250174 | D87: 17.139569 | E87: 0.76869865 | F87: 1508.3359 | G87: 0.67211007 | H87: 585
A88: Ddim yn gwybod/Amhenodedig | B88: 0.24991029 | C88: 0.032823445 | D88: 0.58550512 | E88: 0.026259528 | F88: 43.934491 | G88: 0.019577081 | H88: 31
A89: Cyfnod Amser Trefnu Llety
A90: Mwy na 6 mis ymlaen llaw | B90: 0.70607853 | C90: 0.092736996 | D90: 3.0384 | E90: 0.13627029 | F90: 332.08894 | G90: 0.14797786 | H90: 66
A91: 4-6 mis ymlaen llaw | B91: 0.74568639 | C91: 0.097939129 | D91: 2.8764497 | E91: 0.12900692 | F91: 312.57302 | G91: 0.13928162 | H91: 69
A92: 2-3 mis ymlaen llaw | B92: 0.80699539 | C92: 0.10599151 | D92: 2.9195992 | E92: 0.13094215 | F92: 290.61406 | G92: 0.12949678 | H92: 77
A93: Tua mis ymlaen llaw | B93: 0.84466766 | C93: 0.11093942 | D93: 2.0246349 | E93: 0.090803573 | F93: 226.88304 | G93: 0.10109842 | H93: 83
A94: 2-3 wythnos ymlaen llaw | B94: 0.79923031 | C94: 0.10497164 | D94: 2.590797 | E94: 0.11619558 | F94: 289.79988 | G94: 0.12913398 | H94: 83
A95: Wythnos neu lai | B95: 1.0144562 | C95: 0.13323961 | D95: 2.1706081 | E95: 0.097350379 | F95: 283.30209 | G95: 0.12623858 | H95: 103
A96: Ni threfnwyd llety/ Ddim yn gwybod | B96: 0.33456269 | C96: 0.043941768 | D96: 0.90868184 | E96: 0.040753796 | F96: 55.366871 | G96: 0.024671316 | H96: 34
A97: Ddim yn gwybod | B97: 0.03246679 | C97: 0.0042642178 | D97: 0.037112579 | E97: 0.0016644753 | F97: 3.0007644 | G97: 0.0013371319 | H97: 6
A98: Ni aethpwyd ar daith pecyn neu daith yr oedd angen trefnu llety ar ei gyfer | B98: 2.32963 | C98: 0.30597572 | D98: 5.7305803 | E98: 0.25701284 | F98: 450.55122 | G98: 0.20076431 | H98: 231
A99: Sut y Trefnwyd [m]
A100: Asiant teithio traddodiadol (e.e. TUI, Trailfinders) | B100: 0.21367479 | C100: 0.028064241 | D100: 0.9760659 | E100: 0.043775928 | F100: 103.56224 | G100: 0.04614703 | H100: 21
A101: Gwefan deithio (e.e. Expedia, Booking.com, Lastminute.com, TripAdvisor) | B101: 1.5774068 | C101: 0.20717804 | D101: 4.0802947 | E101: 0.1829986 | F101: 593.80945 | G101: 0.26459975 | H101: 156
A102: Gweithredwr teithiau neu gwmni teithio (e.e. Haven, English Country Cottages, Superbreak) | B102: 0.54172774 | C102: 0.071151015 | D102: 2.1043874 | E102: 0.094380424 | F102: 171.37277 | G102: 0.076363207 | H102: 46
A103: Darparwr trafnidiaeth (e.e. Virgin Trains, British Airways, National Express) | B103: 0.20269817 | C103: 0.026622563 | D103: 0.72258414 | E103: 0.032407434 | F103: 67.186519 | G103: 0.029938116 | H103: 16
A104: Gwesty neu ddarparwr llety arall yn uniongyrchol (e.e. cwmni gwestai, perchennog sefydliad gwely a brecwast, perchennog bwthyn) | B104: 1.1396595 | C104: 0.14968391 | D104: 3.332923 | E104: 0.14947946 | F104: 387.42304 | G104: 0.17263457 | H104: 122
A105: Gwefan rhannu llety (e.e. Airbnb) | B105: 0.70648745 | C105: 0.092790704 | D105: 3.4345577 | E105: 0.1540377 | F105: 304.9406 | G105: 0.13588064 | H105: 65
A106: Trefnydd teithiau corfforaethol/busnes | B106: 0.16583165 | C106: 0.02178048 | D106: 0.37185795 | E106: 0.01667759 | F106: 76.067005 | G106: 0.033895235 | H106: 18
A107: Canolfan gwybodaeth i dwristiaid neu swyddfa bwrdd twristiaeth | B107: 0.12962187 | C107: 0.017024654 | D107: 0.23146201 | E107: 0.010380922 | F107: 26.313967 | G107: 0.011725427 | H107: 13
...

Sheet Holiday Trips
A1: Teithiau Gwyliau Dros Nos yng Nghymru gan Drigolion Prydain Fawr
A2: Mae'r daflen waith hon yn cynnwys un tabl. Mae meintiau sylfaen wedi'u darparu ac yn cyfeirio at nifer y teithiau a adroddwyd ar gyfer pob amcangyfrif. Mae rhai o'r meintiau sylfaen ar gyfer yr amcangyfrifon hyn yn isel. Lle mae'r maint sylfaen yn is na 30, cynghorir defnyddwyr i beidio â defnyddio'r amcangyfrif hwn.
A3: Pan fo'r maint sylfaen rhwng 30 a 100, cynghorir defnyddwyr i drin yr amcangyfrif hwn ar sail ddangosol yn unig.
A4: Ceir cod lliw ar gyfer meintiau sylfaen isel yn y tablau. Defnyddir rhai symbolau llaw-fer yn y tabl hwn. I gael cyfarwyddyd ar y cod lliwiau a'r diffiniadau o symbolau llaw-fer, gweler canllaw'r tabl.
A5: Ionawr i Ragfyr 2024 | B5: Teithiau (miliynau) | C5: % o Gyfanswm y Teithiau | D5: Nosweithiau (miliynau) | E5: % o Gyfanswm y Nosweithiau | F5: Gwariant (£miliynau) | G5: % o Gyfanswm y Gwariant | H5: Maint Sylfaen
A6: Cyfanswm Teithiau Gwyliau | B6: 2.8777536 | C6: 1 | D6: 10.387606 | E6: 1 | F6: 962.96051 | G6: 1 | H6: 275
A7: Diben Manwl Teithiau Gwyliau
A8: Gwyliau 1-3 noson | B8: 1.6851345 | C8: 0.5855729 | D8: 3.4174283 | E8: 0.32899094 | F8: 415.28216 | G8: 0.43125565 | H8: 172
A9: Gwyliau 4 noson a mwy | B9: 1.1926191 | C9: 0.4144271 | D9: 6.9701778 | E9: 0.67100906 | F9: 547.67835 | G9: 0.56874435 | H9: 103
A10: Chwarter yr Aethpwyd ar y Daith
A11: Ionawr i Fawrth | B11: 0.39231504 | C11: 0.13632683 | D11: 0.90487781 | E11: 0.087111293 | F11: 80.471621 | G11: 0.083566897 | H11: 40
A12: Ebrill i Fehefin | B12: 0.81220363 | C12: 0.28223529 | D12: 2.7627455 | E12: 0.26596556 | F12: 257.66788 | G12: 0.26757887 | H12: 81
A13: Gorffennaf i Fedi | B13: 1.1114014 | C13: 0.38620452 | D13: 4.7863898 | E13: 0.46077891 | F13: 441.70483 | G13: 0.45869465 | H13: 101
A14: Hydref i Ragfyr | B14: 0.5618335 | C14: 0.19523336 | D14: 1.933593 | E14: 0.18614424 | F14: 183.11617 | G14: 0.19015959 | H14: 53
A15: Rhanbarth yr Ymwelwyd ag Ef Dros Nos [m]
A16: Canolbarth Cymru | B16: 0.26657948 | C16: 0.092634573 | D16: 0.90919258 | E16: 0.08752667 | F16: 95.983562 | G16: 0.099675491 | H16: 26
A17: Gogledd Cymru | B17: 1.1844387 | C17: 0.41158449 | D17: 4.7145387 | E17: 0.4538619 | F17: 373.02285 | G17: 0.38737087 | H17: 104
A18: De-ddwyrain Cymru | B18: 0.78897747 | C18: 0.27416436 | D18: 2.2483237 | E18: 0.21644291 | F18: 288.19077 | G18: 0.29927579 | H18: 87
A19: De-orllewin Cymru | B19: 0.57856108 | C19: 0.20104608 | D19: 2.2713075 | E19: 0.21865553 | F19: 181.96389 | G19: 0.18896298 | H19: 53
A20: Parciau Cenedlaethol Cymru | B20: 0.09784715 | C20: 0.034001226 | D20: 0.24424364 | E20: 0.023512986 | F20: 23.79945 | G20: 0.024714876 | H20: 9
A21: Math Lleoliad y Prif Le yr Ymwelwyd ag Ef
A22: Glan môr neu arfordirol arall | B22: 0.74393107 | C22: 0.25851104 | D22: 3.0243202 | E22: 0.29114698 | F22: 237.75773 | G22: 0.24690288 | H22: 73
A23: Dinas/ tref fawr | B23: 0.56035347 | C23: 0.19471906 | D23: 1.7692478 | E23: 0.17032296 | F23: 215.83425 | G23: 0.22413614 | H23: 62
A24: Tref fach | B24: 0.8262631 | C24: 0.28712086 | D24: 2.7635598 | E24: 0.26604395 | F24: 249.91291 | G24: 0.2595256 | H24: 72
A25: Cefn gwlad/ pentref | B25: 0.72446275 | C25: 0.25174593 | D25: 2.5656752 | E25: 0.24699389 | F25: 246.37623 | G25: 0.25585289 | H25: 66
A26: Arall/Amhenodedig | B26: 0.022743218 | C26: 0.0079031153 | D26: 0.26480314 | E26: 0.02549222 | F26: 13.079395 | G26: 0.013582483 | H26: 2
A27: Rhanbarth Preswyl
A28: Net: Lloegr | B28: 1.9552789 | C28: 0.67944626 | D28: 7.5750823 | E28: 0.72924235 | F28: 729.46128 | G28: 0.75751942 | H28: 149
A29: Llundain | B29: 0.33523847 | C29: 0.11649311 | D29: 1.0647247 | E29: 0.10249952 | F29: 149.2179 | G29: 0.15495744 | H29: 23
A30: Gweddill Lloegr (Nid Llundain) | B30: 1.6200405 | C30: 0.56295316 | D30: 6.5103576 | E30: 0.62674283 | F30: 580.24338 | G30: 0.60256197 | H30: 126
A31: Net: Yr Alban | B31: 0.078367716 | C31: 0.027232253 | D31: 0.39762907 | E31: 0.038279183 | F31: 29.083966 | G31: 0.030202657 | H31: 9
A32: Net: Cymru | B32: 0.84410695 | C32: 0.29332148 | D32: 2.4148948 | E32: 0.23247847 | F32: 204.41526 | G32: 0.21227793 | H32: 117
A33: Canolbarth Cymru | B33: 0.083768092 | C33: 0.029108848 | D33: 0.23821665 | E33: 0.022932776 | F33: 13.020919 | G33: 0.013521758 | H33: 10
A34: Gogledd Cymru | B34: 0.12957977 | C34: 0.045028098 | D34: 0.33585921 | E34: 0.032332686 | F34: 26.899736 | G34: 0.027934413 | H34: 21
A35: De-ddwyrain Cymru | B35: 0.44939347 | C35: 0.15616121 | D35: 1.306244 | E35: 0.12575024 | F35: 120.23369 | G35: 0.12485838 | H35: 59
A36: De-orllewin Cymru | B36: 0.18136561 | C36: 0.063023329 | D36: 0.53457492 | E36: 0.051462763 | F36: 44.260916 | G36: 0.045963376 | H36: 27
A37: Hyd y Daith
A38: 1-3 noson | B38: 1.6851345 | C38: 0.5855729 | D38: 3.4174283 | E38: 0.32899094 | F38: 415.28216 | G38: 0.43125565 | H38: 172
A39: 4-7 noson | B39: 1.0196251 | C39: 0.35431287 | D39: 5.3339656 | E39: 0.51349325 | F39: 464.1583 | G39: 0.48201177 | H39: 88
A40: 8+ noson | B40: 0.17299393 | C40: 0.060114227 | D40: 1.6362122 | E40: 0.15751581 | F40: 83.520043 | G40: 0.086732573 | H40: 15
A41: Amhenodedig | B41: 0 | C41: 0 | D41: 0 | E41: 0 | F41: 0 | G41: 0 | H41: 0
A42: Gweithgareddau y Cymerwyd Rhan Ynddynt yn ystod y Daith [m]
A43: Ymweld â ffrindiau neu berthnasau | B43: 0.54406144 | C43: 0.18905769 | D43: 1.7051565 | E43: 0.16415298 | F43: 174.97255 | G43: 0.18170273 | H43: 55
A44: Mynd i atyniad ymwelwyr e.e. tŷ Hanesyddol, parc thema, amgueddfa, ac ati | B44: 0.94799293 | C44: 0.32942116 | D44: 4.0286416 | E44: 0.38783157 | F44: 357.59428 | G44: 0.37134885 | H44: 85
A45: Cymryd rhan mewn gweithgareddau hamdden a chwaraeon awyr agored (e.e. cerdded, beicio ac ati) | B45: 1.2363736 | C45: 0.42963149 | D45: 5.2990034 | E45: 0.51012749 | F45: 425.52613 | G45: 0.44189365 | H45: 124
A46: Mynd i weld golygfeydd ac archwilio ardaloedd | B46: 1.4684803 | C46: 0.51028703 | D46: 5.9799234 | E46: 0.57567868 | F46: 528.63256 | G46: 0.54896598 | H46: 138
A47: Cymryd rhan mewn hobïau a diddordebau | B47: 0.40661295 | C47: 0.14129526 | D47: 1.7451152 | E47: 0.16799975 | F47: 152.80952 | G47: 0.15868721 | H47: 41
A48: Cymryd rhan mewn profiad iechyd neu lesiant (e.e. sba, lloches, campfa ac ati) | B48: 0.15406232 | C48: 0.053535618 | D48: 0.45633945 | E48: 0.043931147 | F48: 56.592512 | G48: 0.058769297 | H48: 16
A49: Mynd i ddigwyddiad arbennig neu ddathliad o natur bersonol (e.e. priodas, pen-blwydd, pen-blwydd priodas ac ati) | B49: 0.16045403 | C49: 0.055756694 | D49: 0.60290742 | E49: 0.058041036 | F49: 67.350383 | G49: 0.069940961 | H49: 16
A50: Mynd i ddigwyddiad cyhoeddus a drefnwyd (e.e. arddangosfa, chwaraeon byw ac ati) | B50: 0.17671669 | C50: 0.061407859 | D50: 0.56161833 | E50: 0.054066194 | F50: 67.74738 | G50: 0.070353228 | H50: 21
A51: Mynd i brofiad celfyddydol, diwylliannol neu adloniant (e.e. amgueddfa, oriel, sinema ac ati) | B51: 0.21277004 | C51: 0.073936157 | D51: 0.83339089 | E51: 0.08022935 | F51: 108.9379 | G51: 0.1131281 | H51: 21
A52: Bwyd a diod, noson allan neu siopa arbenigol (h.y. siopa am eitemau nad ydych yn eu prynu'n rheolaidd e.e. dillad, electroneg, gemwaith, cofroddion ac ati) | B52: 1.0359858 | C52: 0.35999808 | D52: 4.0898748 | E52: 0.39372641 | F52: 380.98428 | G52: 0.39563853 | H52: 101
A53: Cymryd rhan mewn gweithgareddau hamdden na chyfeiriwyd atynt uchod | B53: 0.23932614 | C53: 0.083164223 | D53: 1.1381624 | E53: 0.10956927 | F53: 86.708674 | G53: 0.090043853 | H53: 24
A54: Ni chymerwyd rhan mewn unrhyw weithgareddau a nodwyd | B54: 0.31862097 | C54: 0.11071864 | D54: 1.0052579 | E54: 0.096774742 | F54: 77.693395 | G54: 0.080681809 | H54: 26
A55: Llety a Ddefnyddiwyd
A56: Net: Pob llety â gwasanaeth (e.e. gwesty neu sefydliad gwely a brecwast) | B56: 0.92696853 | C56: 0.32211532 | D56: 2.6597973 | E56: 0.25605488 | F56: 345.01808 | G56: 0.35828892 | H56: 88
A57: Net: Rhentu eiddo hunanddarpar | B57: 0.75295259 | C57: 0.26164596 | D57: 3.1122605 | E57: 0.29961287 | F57: 322.97542 | G57: 0.33539841 | H57: 71
A58: Net: Carafán / Gwersylla / Glampio | B58: 1.0064581 | C58: 0.3497374 | D58: 4.0065488 | E58: 0.38570473 | F58: 260.19776 | G58: 0.27020605 | H58: 96
A59: Net: Cartref preifat rhywun | B59: 0.12882626 | C59: 0.044766258 | D59: 0.36355283 | E59: 0.034998712 | F59: 23.732157 | G59: 0.024644995 | H59: 12
A60: Net: Llety arall | B60: 0.062548171 | C60: 0.021735068 | D60: 0.24544674 | E60: 0.023628807 | F60: 11.037092 | G60: 0.011461624 | H60: 8
A61: Ddim yn gwybod/ Amhenodedig | B61: 0 | C61: 0 | D61: 0 | E61: 0 | F61: 0 | G61: 0 | H61: 0
A62: Trafnidiaeth a Ddefnyddiwyd ar gyfer Teithio i'r Prif Gyrchfan [m]
A63: Net: Cerbyd modur preifat | B63: 2.4859986 | C63: 0.86386776 | D63: 9.1310767 | E63: 0.87903571 | F63: 796.92848 | G63: 0.82758168 | H63: 234
A64: Net: Trên, trên tanddaearol, tram | B64: 0.36692753 | C64: 0.12750485 | D64: 1.1338418 | E64: 0.10915333 | F64: 105.21196 | G64: 0.10925885 | H64: 33
A65: Net: Bws, coets, tacsi | B65: 0.32138688 | C65: 0.11167978 | D65: 0.98464347 | E65: 0.09479022 | F65: 120.94408 | G65: 0.1255961 | H65: 32
A66: Net: Cerdded, beicio | B66: 0.11151759 | C66: 0.038751611 | D66: 0.59626 | E66: 0.057401098 | F66: 39.070602 | G66: 0.040573421 | H66: 14
A67: Net: Trafnidiaeth dŵr neu awyr | B67: 0.12408022 | C67: 0.04311704 | D67: 0.38228588 | E67: 0.036802116 | F67: 58.169312 | G67: 0.060406747 | H67: 14
A68: Net: Arall | B68: 0.017578045 | C68: 0.0061082524 | D68: 0.031537071 | E68: 0.0030360288 | F68: 4.832487 | G68: 0.0050183647 | H68: 4
A69: Taith Rhan o Becyn
A70: Oedd, rhan o becyn | B70: 0.40507378 | C70: 0.14076041 | D70: 1.4551154 | E70: 0.14008188 | F70: 187.72433 | G70: 0.19494499 | H70: 42
A71: Nac oedd, ddim yn rhan o becyn | B71: 2.402969 | C71: 0.83501554 | D71: 8.8061618 | E71: 0.84775661 | F71: 766.55024 | G71: 0.79603497 | H71: 225
A72: Ddim yn gwybod/Amhenodedig | B72: 0.069710859 | C72: 0.024224054 | D72: 0.12632898 | E72: 0.01216151 | F72: 8.6859435 | G72: 0.0090200412 | H72: 8
A73: Cyfnod Amser Trefnu Llety
A74: Mwy na 6 mis ymlaen llaw | B74: 0.41937272 | C74: 0.1457292 | D74: 2.0884477 | E74: 0.20105188 | F74: 218.79818 | G74: 0.22721407 | H74: 41
A75: 4-6 mis ymlaen llaw | B75: 0.41411022 | C75: 0.14390051 | D75: 1.8670359 | E75: 0.17973687 | F75: 177.12499 | G75: 0.18393796 | H75: 40
A76: 2-3 mis ymlaen llaw | B76: 0.4115776 | C76: 0.14302045 | D76: 1.2725848 | E76: 0.12250992 | F76: 155.59916 | G76: 0.16158416 | H76: 41
A77: Tua mis ymlaen llaw | B77: 0.38254563 | C77: 0.13293203 | D77: 1.2476247 | E77: 0.12010705 | F77: 120.68846 | G77: 0.12533064 | H77: 38
A78: 2-3 wythnos ymlaen llaw | B78: 0.42012738 | C78: 0.14599144 | D78: 1.6232885 | E78: 0.15627166 | F78: 139.87133 | G78: 0.14525136 | H78: 36
A79: Wythnos neu lai | B79: 0.48356135 | C79: 0.16803431 | D79: 1.2238495 | E79: 0.11781824 | F79: 98.09373 | G79: 0.10186683 | H79: 46
A80: Ni threfnwyd llety/ Ddim yn gwybod | B80: 0.16027823 | C80: 0.055695606 | D80: 0.52382202 | E80: 0.050427597 | F80: 23.439941 | G80: 0.024341539 | H80: 17
A81: Ddim yn gwybod | B81: 0.0045695658 | C81: 0.0015878934 | D81: 0.0091579406 | E81: 0.00088162186 | F81: 0.59840119 | G81: 0.0006214182 | H81: 1
A82: Ni aethpwyd ar daith pecyn neu daith yr oedd angen trefnu llety ar ei gyfer | B82: 0.18161089 | C82: 0.063108561 | D82: 0.53179511 | E82: 0.051195155 | F82: 28.746321 | G82: 0.029852025 | H82: 15
A83: Sut y Trefnwyd [m]
A84: Asiant teithio traddodiadol (e.e. TUI, Trailfinders) | B84: 0.11552331 | C84: 0.040143572 | D84: 0.54958783 | E84: 0.052908035 | F84: 54.08512 | G84: 0.05616546 | H84: 11
A85: Gwefan deithio (e.e. Expedia, Booking.com, Lastminute.com, TripAdvisor) | B85: 0.66114556 | C85: 0.22974363 | D85: 1.9824232 | E85: 0.19084505 | F85: 270.71692 | G85: 0.28112982 | H85: 65
A86: Gweithredwr teithiau neu gwmni teithio (e.e. Haven, English Country Cottages, Superbreak) | B86: 0.32202909 | C86: 0.11190294 | D86: 1.2160924 | E86: 0.11707147 | F86: 126.91415 | G86: 0.1317958 | H86: 30
A87: Darparwr trafnidiaeth (e.e. Virgin Trains, British Airways, National Express) | B87: 0.030223013 | C87: 0.010502294 | D87: 0.079233425 | E87: 0.0076276886 | F87: 4.3834395 | G87: 0.0045520449 | H87: 5
A88: Gwesty neu ddarparwr llety arall yn uniongyrchol (e.e. cwmni gwestai, perchennog sefydliad gwely a brecwast, perchennog bwthyn) | B88: 0.58735834 | C88: 0.20410307 | D88: 2.0045286 | E88: 0.19297311 | F88: 215.80036 | G88: 0.22410094 | H88: 58
A89: Gwefan rhannu llety (e.e. Airbnb) | B89: 0.42422446 | C89: 0.14741514 | D89: 2.0114667 | E89: 0.19364103 | F89: 171.97658 | G89: 0.17859152 | H89: 40
A90: Trefnydd teithiau corfforaethol/busnes | B90: 0.030101564 | C90: 0.010460091 | D90: 0.097935446 | E90: 0.0094281054 | F90: 5.8292753 | G90: 0.0060534937 | H90: 3
A91: Canolfan gwybodaeth i dwristiaid neu swyddfa bwrdd twristiaeth | B91: 0.059333202 | C91: 0.020617888 | D91: 0.13153495 | E91: 0.012662682 | F91: 5.8914116 | G91: 0.0061180199 | H91: 7
A92: Arall/Ddim yn gwybod | B92: 0.42100028 | C92: 0.14629476 | D92: 1.7024462 | E92: 0.16389206 | F92: 96.817053 | G92: 0.10054104 | H92: 38
A93: Ni threfnwyd llety/amherthnasol | B93: 0.34188912 | C93: 0.11880417 | D93: 1.0556171 | E93: 0.10162275 | F93: 52.186262 | G93: 0.054193564 | H93: 32
A94: Nifer y Lleoedd yr Arhoswyd ynddynt Dros Nos gan gynnwys y Prif Gyrchfan
A95: Un | B95: 2.3322181 | C95: 0.81043008 | D95: 8.4566034 | E95: 0.81410513 | F95: 794.53657 | G95: 0.82509777 | H95: 226
A96: Dau neu dri | B96: 0.47311772 | C96: 0.16440522 | D96: 1.653116 | E96: 0.15914312 | F96: 150.32414 | G96: 0.15610624 | H96: 41
A97: Pedwar neu fwy | B97: 0.072417807 | C97: 0.0251647 | D97: 0.27788671 | E97: 0.026751757 | F97: 18.099799 | G97: 0.018795993 | H97: 8
A98: Amhenodedig | B98: 0 | C98: 0 | D98: 0 | E98: 0 | F98: 0 | G98: 0 | H98: 0
A99: Cyfanswm Parti'r Daith (gan gynnwys yr Ymatebwr)
A100: Teithiwr unigol | B100: 0.40400056 | C100: 0.14038747 | D100: 1.3562314 | E100: 0.13056246 | F100: 156.02512 | G100: 0.1620265 | H100: 41
...

Sheet Visit Friends or Relatives
A1: Teithiau Dros Nos i Ymweld â Ffrindiau neu Berthnasau yng Nghymru gan Drigolion Prydain Fawr
A2: Mae'r daflen waith hon yn cynnwys un tabl. Mae meintiau sylfaen wedi'u darparu ac yn cyfeirio at nifer y teithiau a adroddwyd ar gyfer pob amcangyfrif. Mae rhai o'r meintiau sylfaen ar gyfer yr amcangyfrifon hyn yn isel. Lle mae'r maint sylfaen yn is na 30, cynghorir defnyddwyr i beidio â defnyddio'r amcangyfrif hwn.
A3: Pan fo'r maint sylfaen rhwng 30 a 100, cynghorir defnyddwyr i drin yr amcangyfrif hwn ar sail ddangosol yn unig.
A4: Ceir cod lliw ar gyfer meintiau sylfaen isel yn y tablau. Defnyddir rhai symbolau llaw-fer yn y tabl hwn. I gael cyfarwyddyd ar y cod lliwiau a'r diffiniadau o symbolau llaw-fer, gweler canllaw'r tabl.
A5: Ionawr i Ragfyr 2024 | B5: Teithiau (miliynau) | C5: % o Gyfanswm y Teithiau | D5: Nosweithiau (miliynau) | E5: % o Gyfanswm y Nosweithiau | F5: Gwariant (£miliynau) | G5: % o Gyfanswm y Gwariant | H5: Maint Sylfaen
A6: Cyfanswm Teithiau i Ymweld â Ffrindiau neu Berthnasau | B6: 2.5685566 | C6: 1 | D6: 7.0504103 | E6: 1 | F6: 491.65385 | G6: 1 | H6: 243
A7: Diben Manwl Teithiau i Ymweld â Ffrindiau neu Berthnasau
A8: Ymweld â Ffrindiau neu Berthnasau ar gyfer gwyliau | B8: 0.70771381 | C8: 0.27552977 | D8: 2.8597661 | E8: 0.40561697 | F8: 145.85674 | G8: 0.29666551 | H8: 61
A9: Ymweld â Ffrindiau neu Berthnasau ar gyfer digwyddiad neu ddathliad e.e. pen-blwydd, priodas, pen-blwydd priodas | B9: 1.1056668 | C9: 0.43046232 | D9: 2.449078 | E9: 0.34736674 | F9: 256.24406 | G9: 0.52118794 | H9: 104
A10: Ymweld â Ffrindiau neu Berthnasau am reswm arall | B10: 0.75517598 | C10: 0.29400791 | D10: 1.7415662 | E10: 0.24701629 | F10: 89.553054 | G10: 0.18214655 | H10: 78
A11: Amhenodedig | B11: 0 | C11: 0 | D11: 0 | E11: 0 | F11: 0 | G11: 0 | H11: 0
A12: Chwarter yr Aethpwyd ar y Daith
A13: Ionawr i Fawrth | B13: 0.78124062 | C13: 0.3041555 | D13: 2.1261208 | E13: 0.30155987 | F13: 103.52238 | G13: 0.21055948 | H13: 70
A14: Ebrill i Fehefin | B14: 0.60201735 | C14: 0.23437963 | D14: 1.5902702 | E14: 0.22555711 | F14: 136.77752 | G14: 0.27819881 | H14: 61
A15: Gorffennaf i Fedi | B15: 0.61466676 | C15: 0.23930434 | D15: 1.8545096 | E15: 0.2630357 | F15: 148.90201 | G15: 0.30285944 | H15: 62
A16: Hydref i Ragfyr | B16: 0.5706319 | C16: 0.22216053 | D16: 1.4795097 | E16: 0.20984732 | F16: 102.45195 | G16: 0.20838228 | H16: 50
A17: Rhanbarth yr Ymwelwyd ag Ef Dros Nos [m]
A18: Canolbarth Cymru | B18: 0.1479653 | C18: 0.057606399 | D18: 0.47033091 | E18: 0.066709721 | F18: 30.811491 | G18: 0.062669072 | H18: 13
A19: Gogledd Cymru | B19: 0.80829386 | C19: 0.31468796 | D19: 2.4403457 | E19: 0.34612818 | F19: 146.46757 | G19: 0.2979079 | H19: 69
A20: De-ddwyrain Cymru | B20: 1.0097011 | C20: 0.39310056 | D20: 2.5988735 | E20: 0.36861308 | F20: 200.14429 | G20: 0.40708375 | H20: 103
A21: De-orllewin Cymru | B21: 0.63773862 | C21: 0.24828677 | D21: 1.4883208 | E21: 0.21109705 | F21: 110.84479 | G21: 0.22545291 | H21: 61
A22: Parciau Cenedlaethol Cymru | B22: 0.026698958 | C22: 0.010394537 | D22: 0.052539451 | E22: 0.0074519706 | F22: 3.3857094 | G22: 0.006886368 | H22: 2
A23: Math Lleoliad y Prif Le yr Ymwelwyd ag Ef
A24: Glan môr neu arfordirol arall | B24: 0.45315536 | C24: 0.17642413 | D24: 1.2583918 | E24: 0.1784849 | F24: 107.38547 | G24: 0.21841682 | H24: 32
A25: Dinas/ tref fawr | B25: 0.69860921 | C25: 0.27198513 | D25: 2.0710496 | E25: 0.29374881 | F25: 144.58311 | G25: 0.294075 | H25: 69
A26: Tref fach | B26: 0.67632482 | C26: 0.26330929 | D26: 1.5252008 | E26: 0.21632795 | F26: 97.755204 | G26: 0.19882932 | H26: 67
A27: Cefn gwlad/ pentref | B27: 0.69243959 | C27: 0.26958315 | D27: 1.9910051 | E27: 0.28239563 | F27: 129.55468 | G27: 0.26350791 | H27: 69
A28: Arall/Amhenodedig | B28: 0.048027649 | C28: 0.018698302 | D28: 0.20476307 | E28: 0.029042717 | F28: 12.375393 | G28: 0.025170946 | H28: 6
A29: Rhanbarth Preswyl
A30: Net: Lloegr | B30: 1.7482585 | C30: 0.6806385 | D30: 4.9427093 | E30: 0.70105272 | F30: 379.9708 | G30: 0.77284212 | H30: 115
A31: Llundain | B31: 0.25210813 | C31: 0.098151672 | D31: 1.0554737 | E31: 0.14970387 | F31: 78.976498 | G31: 0.16063435 | H31: 17
A32: Gweddill Lloegr (Nid Llundain) | B32: 1.4961504 | C32: 0.58248683 | D32: 3.8872356 | E32: 0.55134884 | F32: 300.99431 | G32: 0.61220776 | H32: 98
A33: Net: Yr Alban | B33: 0.043488566 | C33: 0.01693113 | D33: 0.18126566 | E33: 0.025709945 | F33: 28.527805 | G33: 0.058024166 | H33: 7
A34: Net: Cymru | B34: 0.77680954 | C34: 0.30243037 | D34: 1.9264353 | E34: 0.27323734 | F34: 83.155244 | G34: 0.16913372 | H34: 121
A35: Canolbarth Cymru | B35: 0.026681891 | C35: 0.010387893 | D35: 0.039729906 | E35: 0.0056351197 | F35: 1.6738187 | G35: 0.0034044657 | H35: 5
A36: Gogledd Cymru | B36: 0.18230883 | C36: 0.070977151 | D36: 0.36887079 | E36: 0.052319053 | F36: 12.651035 | G36: 0.02573159 | H36: 24
A37: De-ddwyrain Cymru | B37: 0.41138887 | C37: 0.16016344 | D37: 1.121781 | E37: 0.15910861 | F37: 47.60797 | G37: 0.096832293 | H37: 66
A38: De-orllewin Cymru | B38: 0.15642995 | C38: 0.060901887 | D38: 0.39605364 | E38: 0.056174552 | F38: 21.222421 | G38: 0.04316537 | H38: 26
A39: Hyd y Daith
A40: 1-3 noson | B40: 2.0233077 | C40: 0.78772167 | D40: 3.6660077 | E40: 0.51997083 | F40: 316.25339 | G40: 0.643244 | H40: 200
A41: 4-7 noson | B41: 0.41072964 | C41: 0.15990679 | D41: 1.851427 | E41: 0.26259847 | F41: 107.99779 | G41: 0.21966225 | H41: 31
A42: 8+ noson | B42: 0.13451926 | C42: 0.052371538 | D42: 1.5329756 | E42: 0.21743069 | F42: 67.402673 | G42: 0.13709376 | H42: 12
A43: Amhenodedig | B43: 0 | C43: 0 | D43: 0 | E43: 0 | F43: 0 | G43: 0 | H43: 0
A44: Gweithgareddau y Cymerwyd Rhan Ynddynt yn ystod y Daith [m]
A45: Mynd i atyniad ymwelwyr e.e. tŷ Hanesyddol, parc thema, amgueddfa, ac ati | B45: 0.51127769 | C45: 0.19905253 | D45: 1.8993138 | E45: 0.26939054 | F45: 148.96772 | G45: 0.30299308 | H45: 40
A46: Cymryd rhan mewn gweithgareddau hamdden a chwaraeon awyr agored (e.e. cerdded, beicio ac ati) | B46: 0.89025409 | C46: 0.34659703 | D46: 2.4870658 | E46: 0.35275476 | F46: 191.25714 | G46: 0.3890077 | H46: 74
A47: Mynd i weld golygfeydd ac archwilio ardaloedd | B47: 0.78135144 | C47: 0.30419864 | D47: 2.499476 | E47: 0.35451497 | F47: 196.21234 | G47: 0.39908634 | H47: 62
A48: Cymryd rhan mewn hobïau a diddordebau | B48: 0.39022365 | C48: 0.15192332 | D48: 1.0100547 | E48: 0.14326184 | F48: 73.651404 | G48: 0.14980337 | H48: 38
A49: Cymryd rhan mewn profiad iechyd neu lesiant (e.e. sba, lloches, campfa ac ati) | B49: 0.12960873 | C49: 0.05045975 | D49: 0.35451275 | E49: 0.05028257 | F49: 51.822948 | G49: 0.10540535 | H49: 12
A50: Mynd i ddigwyddiad arbennig neu ddathliad o natur bersonol (e.e. priodas, pen-blwydd, pen-blwydd priodas ac ati) | B50: 0.45636133 | C50: 0.17767229 | D50: 1.8130161 | E50: 0.25715043 | F50: 114.68879 | G50: 0.23327141 | H50: 45
A51: Mynd i ddigwyddiad cyhoeddus a drefnwyd (e.e. arddangosfa, chwaraeon byw ac ati) | B51: 0.03642587 | C51: 0.014181455 | D51: 0.066636281 | E51: 0.0094514046 | F51: 14.587759 | G51: 0.029670791 | H51: 3
A52: Mynd i brofiad celfyddydol, diwylliannol neu adloniant (e.e. amgueddfa, oriel, sinema ac ati) | B52: 0.10330155 | C52: 0.040217741 | D52: 0.25293828 | E52: 0.035875682 | F52: 29.862044 | G52: 0.060737944 | H52: 11
A53: Bwyd a diod, noson allan neu siopa arbenigol (h.y. siopa am eitemau nad ydych yn eu prynu'n rheolaidd e.e. dillad, electroneg, gemwaith, cofroddion ac ati) | B53: 0.8365826 | C53: 0.32570144 | D53: 2.5544497 | E53: 0.3623122 | F53: 181.02719 | G53: 0.36820049 | H53: 79
A54: Cymryd rhan mewn gweithgareddau hamdden na chyfeiriwyd atynt uchod | B54: 0.21175026 | C54: 0.082439395 | D54: 0.51691665 | E54: 0.073317243 | F54: 35.35956 | G54: 0.071919624 | H54: 20
A55: Ni chymerwyd rhan mewn unrhyw weithgareddau a nodwyd | B55: 0.40572899 | C55: 0.15795992 | D55: 0.92221832 | E55: 0.1308035 | F55: 43.98144 | G55: 0.089456108 | H55: 49
A56: Llety a Ddefnyddiwyd
A57: Net: Pob llety â gwasanaeth (e.e. gwesty neu sefydliad gwely a brecwast) | B57: 0.53537724 | C57: 0.20843505 | D57: 1.6286697 | E57: 0.23100353 | F57: 171.90091 | G57: 0.34963809 | H57: 44
A58: Net: Rhentu eiddo hunanddarpar | B58: 0.17334678 | C58: 0.06748801 | D58: 0.60507949 | E58: 0.085821883 | F58: 61.495495 | G58: 0.12507884 | H58: 15
A59: Net: Carafán / Gwersylla / Glampio | B59: 0.2259175 | C59: 0.087955038 | D59: 0.45277065 | E59: 0.06421905 | F59: 20.032019 | G59: 0.04074415 | H59: 19
A60: Net: Cartref preifat rhywun | B60: 1.5285845 | C60: 0.59511418 | D60: 4.002376 | E60: 0.56767986 | F60: 207.19422 | G60: 0.42142296 | H60: 154
A61: Net: Llety arall | B61: 0.10207392 | C61: 0.039739798 | D61: 0.29298248 | E61: 0.04155538 | F61: 26.438107 | G61: 0.053773823 | H61: 10
A62: Ddim yn gwybod/ Amhenodedig | B62: 0.0032567302 | C62: 0.0012679223 | D62: 0.068532087 | E62: 0.0097202977 | F62: 4.5930977 | G62: 0.0093421371 | H62: 1
A63: Trafnidiaeth a Ddefnyddiwyd ar gyfer Teithio i'r Prif Gyrchfan [m]
A64: Net: Cerbyd modur preifat | B64: 1.9669211 | C64: 0.76576903 | D64: 5.3764922 | E64: 0.76257862 | F64: 333.39366 | G64: 0.67810647 | H64: 183
A65: Net: Trên, trên tanddaearol, tram | B65: 0.45023003 | C65: 0.17528523 | D65: 1.6191538 | E65: 0.22965384 | F65: 102.42742 | G65: 0.20833238 | H65: 45
A66: Net: Bws, coets, tacsi | B66: 0.30805223 | C66: 0.11993204 | D66: 0.67973842 | E66: 0.096411186 | F66: 70.338981 | G66: 0.14306606 | H66: 28
A67: Net: Cerdded, beicio | B67: 0.085194129 | C67: 0.033168094 | D67: 0.14437979 | E67: 0.020478211 | F67: 18.735195 | G67: 0.038106475 | H67: 8
A68: Net: Trafnidiaeth dŵr neu awyr | B68: 0.20671175 | C68: 0.080477786 | D68: 0.6418875 | E68: 0.091042574 | F68: 58.804035 | G68: 0.11960454 | H68: 13
A69: Net: Arall | B69: 0.028369961 | C69: 0.011045098 | D69: 0.028428348 | E69: 0.0040321551 | F69: 5.829841 | G69: 0.011857613 | H69: 2
A70: Taith Rhan o Becyn
A71: Oedd, rhan o becyn | B71: 0.36937892 | C71: 0.14380797 | D71: 1.5053853 | E71: 0.2135174 | F71: 110.6778 | G71: 0.22511326 | H71: 30
A72: Nac oedd, ddim yn rhan o becyn | B72: 2.1743954 | C72: 0.84654369 | D72: 5.4337229 | E72: 0.77069598 | F72: 376.15822 | G72: 0.76508751 | H72: 209
A73: Ddim yn gwybod/Amhenodedig | B73: 0.024782307 | C73: 0.0096483396 | D73: 0.11130214 | E73: 0.015786619 | F73: 4.8178291 | G73: 0.0097992298 | H73: 4
A74: Cyfnod Amser Trefnu Llety
A75: Mwy na 6 mis ymlaen llaw | B75: 0.099320733 | C75: 0.038667916 | D75: 0.43567046 | E75: 0.061793631 | F75: 46.026944 | G75: 0.093616564 | H75: 7
A76: 4-6 mis ymlaen llaw | B76: 0.056645002 | C76: 0.022053242 | D76: 0.19693358 | E76: 0.027932216 | F76: 14.166033 | G76: 0.028813022 | H76: 5
A77: 2-3 mis ymlaen llaw | B77: 0.22271211 | C77: 0.086707106 | D77: 0.97944238 | E77: 0.13891991 | F77: 71.253741 | G77: 0.14492664 | H77: 15
A78: Tua mis ymlaen llaw | B78: 0.20728167 | C78: 0.080699667 | D78: 0.36943213 | E78: 0.052398671 | F78: 47.583581 | G78: 0.096782688 | H78: 16
A79: 2-3 wythnos ymlaen llaw | B79: 0.21365582 | C79: 0.083181277 | D79: 0.59481711 | E79: 0.08436631 | F79: 65.649815 | G79: 0.13352853 | H79: 23
A80: Wythnos neu lai | B80: 0.18242904 | C80: 0.071023952 | D80: 0.31229946 | E80: 0.044295217 | F80: 32.985751 | G80: 0.067091411 | H80: 18
A81: Ni threfnwyd llety/ Ddim yn gwybod | B81: 0.11245898 | C81: 0.043782948 | D81: 0.17773197 | E81: 0.025208742 | F81: 15.345791 | G81: 0.031212592 | H81: 10
A82: Ddim yn gwybod | B82: 0.0097227331 | C82: 0.0037852905 | D82: 0.0097427431 | E82: 0.001381869 | F82: 0.50312995 | G82: 0.0010233418 | H82: 2
A83: Ni aethpwyd ar daith pecyn neu daith yr oedd angen trefnu llety ar ei gyfer | B83: 1.4643305 | C83: 0.5700986 | D83: 3.9743405 | E83: 0.56370343 | F83: 198.13907 | G83: 0.40300522 | H83: 147
A84: Sut y Trefnwyd [m]
A85: Asiant teithio traddodiadol (e.e. TUI, Trailfinders) | B85: 0.010612083 | C85: 0.0041315356 | D85: 0.040513642 | E85: 0.0057462815 | F85: 4.315844 | G85: 0.0087782166 | H85: 2
A86: Gwefan deithio (e.e. Expedia, Booking.com, Lastminute.com, TripAdvisor) | B86: 0.32446967 | C86: 0.12632374 | D86: 0.9326246 | E86: 0.13227948 | F86: 83.123755 | G86: 0.16906967 | H86: 27
A87: Gweithredwr teithiau neu gwmni teithio (e.e. Haven, English Country Cottages, Superbreak) | B87: 0.11408622 | C87: 0.044416469 | D87: 0.72408689 | E87: 0.10270138 | F87: 29.168931 | G87: 0.059328185 | H87: 8
A88: Darparwr trafnidiaeth (e.e. Virgin Trains, British Airways, National Express) | B88: 0.10337771 | C88: 0.040247393 | D88: 0.30970818 | E88: 0.043927682 | F88: 36.47722 | G88: 0.07419289 | H88: 6
A89: Gwesty neu ddarparwr llety arall yn uniongyrchol (e.e. cwmni gwestai, perchennog sefydliad gwely a brecwast, perchennog bwthyn) | B89: 0.23447726 | C89: 0.091287556 | D89: 0.55227362 | E89: 0.078332125 | F89: 73.79835 | G89: 0.15010225 | H89: 22
A90: Gwefan rhannu llety (e.e. Airbnb) | B90: 0.11366182 | C90: 0.044251243 | D90: 0.8170048 | E90: 0.11588046 | F90: 43.76183 | G90: 0.089009432 | H90: 9
A91: Trefnydd teithiau corfforaethol/busnes | B91: 0.0041086996 | C91: 0.0015996142 | D91: 0.0041171556 | E91: 0.00058395971 | F91: 0.82776782 | G91: 0.0016836394 | H91: 1
A92: Canolfan gwybodaeth i dwristiaid neu swyddfa bwrdd twristiaeth | B92: 0.066010028 | C92: 0.025699269 | D92: 0.095639614 | E92: 0.013565113 | F92: 18.806296 | G92: 0.03825109 | H92: 5
A93: Arall/Ddim yn gwybod | B93: 0.14430028 | C93: 0.056179521 | D93: 0.23233077 | E93: 0.032952801 | F93: 16.758549 | G93: 0.034086072 | H93: 15
A94: Ni threfnwyd llety/amherthnasol | B94: 1.5767895 | C94: 0.61388155 | D94: 4.1520725 | E94: 0.58891217 | F94: 213.48486 | G94: 0.43421781 | H94: 157
A95: Nifer y Lleoedd yr Arhoswyd ynddynt Dros Nos gan gynnwys y Prif Gyrchfan
A96: Un | B96: 2.047451 | C96: 0.79712121 | D96: 5.679694 | E96: 0.80558346 | F96: 351.31563 | G96: 0.71455888 | H96: 205
A97: Dau neu dri | B97: 0.39702631 | C97: 0.15457175 | D97: 0.95525058 | E97: 0.13548865 | F97: 113.05641 | G97: 0.22995124 | H97: 29
A98: Pedwar neu fwy | B98: 0.12407936 | C98: 0.048307036 | D98: 0.41546579 | E98: 0.058927887 | F98: 27.281813 | G98: 0.055489879 | H98: 9
A99: Amhenodedig | B99: 0 | C99: 0 | D99: 0 | E99: 0 | F99: 0 | G99: 0 | H99: 0
A100: Cyfanswm Parti'r Daith (gan gynnwys yr Ymatebwr)
...

Sheet Business Trips
A1: Teithiau Busnes Dros Nos yng Nghymru gan Drigolion Prydain Fawr
A2: Mae'r daflen waith hon yn cynnwys un tabl. Mae meintiau sylfaen wedi'u darparu ac yn cyfeirio at nifer y teithiau a adroddwyd ar gyfer pob amcangyfrif. Mae rhai o'r meintiau sylfaen ar gyfer yr amcangyfrifon hyn yn isel. Lle mae'r maint sylfaen yn is na 30, cynghorir defnyddwyr i beidio â defnyddio'r amcangyfrif hwn.
A3: Pan fo'r maint sylfaen rhwng 30 a 100, cynghorir defnyddwyr i drin yr amcangyfrif hwn ar sail ddangosol yn unig.
A4: Ceir cod lliw ar gyfer meintiau sylfaen isel yn y tablau. Defnyddir rhai symbolau llaw-fer yn y tabl hwn. I gael cyfarwyddyd ar y cod lliwiau a'r diffiniadau o symbolau llaw-fer, gweler canllaw'r tabl.
A5: Ionawr i Ragfyr 2024 | B5: Teithiau (miliynau) | C5: % o Gyfanswm y Teithiau | D5: Nosweithiau (miliynau) | E5: % o Gyfanswm y Nosweithiau | F5: Gwariant (£miliynau) | G5: % o Gyfanswm y Gwariant | H5: Maint Sylfaen
A6: Cyfanswm Teithiau Busnes | B6: 0.50699292 | C6: 1 | D6: 1.3272133 | E6: 1 | F6: 225.67833 | G6: 1 | H6: 57
A7: Diben Manwl Teithiau Busnes
A8: Net: MICE (Cyfarfod mawr 21 neu fwy o bobl, Teithiau cymelliadol, Cynadleddau, Arddangosfeydd) | B8: 0.17455632 | C8: 0.34429736 | D8: 0.40063934 | E8: 0.30186508 | F8: 101.08763 | G8: 0.44792794 | H8: 25
A9: Net: Cyfarfodydd o unrhyw faint | B9: 0.30286894 | C9: 0.59738299 | D9: 0.9394778 | E9: 0.70785746 | F9: 107.7284 | G9: 0.47735374 | H9: 30
A10: Net: Cynhadledd/arddangosfa/digwyddiad neu hyfforddiant/meithrin tîm neu deithio ar gyfer gwaith neu reswm arall | B10: 0.20412397 | C10: 0.40261701 | D10: 0.38773546 | E10: 0.29214254 | F10: 117.94993 | G10: 0.52264626 | H10: 27
A11: Amhenodedig | B11: 0 | C11: 0 | D11: 0 | E11: 0 | F11: 0 | G11: 0 | H11: 0
A12: Chwarter yr Aethpwyd ar y Daith
A13: Ionawr i Fawrth | B13: 0.098586575 | C13: 0.19445356 | D13: 0.15576501 | E13: 0.11736246 | F13: 24.646819 | G13: 0.10921217 | H13: 6
A14: Ebrill i Fehefin | B14: 0.11353456 | C14: 0.22393717 | D14: 0.37142233 | E14: 0.27985128 | F14: 41.330041 | G14: 0.18313695 | H14: 13
A15: Gorffennaf i Fedi | B15: 0.16751223 | C15: 0.33040349 | D15: 0.40024691 | E15: 0.3015694 | F15: 95.89385 | G15: 0.42491386 | H15: 22
A16: Hydref i Ragfyr | B16: 0.12735955 | C16: 0.25120578 | D16: 0.39977901 | E16: 0.30121686 | F16: 63.807619 | G16: 0.28273702 | H16: 16
A17: Rhanbarth yr Ymwelwyd ag Ef Dros Nos [m]
A18: Canolbarth Cymru | B18: 0.072159209 | C18: 0.14232784 | D18: 0.11480714 | E18: 0.086502407 | F18: 18.172202 | G18: 0.080522584 | H18: 7
A19: Gogledd Cymru | B19: 0.15082717 | C19: 0.29749365 | D19: 0.44616278 | E19: 0.3361651 | F19: 60.140211 | G19: 0.26648642 | H19: 18
A20: De-ddwyrain Cymru | B20: 0.24595418 | C20: 0.4851235 | D20: 0.68669857 | E20: 0.51739882 | F20: 143.86913 | G20: 0.63749642 | H20: 29
A21: De-orllewin Cymru | B21: 0.049394371 | C21: 0.097426156 | D21: 0.079544769 | E21: 0.059933676 | F21: 3.4967884 | G21: 0.015494569 | H21: 4
A22: Parciau Cenedlaethol Cymru | B22: 0 | C22: 0 | D22: 0 | E22: 0 | F22: 0 | G22: 0 | H22: 0
A23: Math Lleoliad y Prif Le yr Ymwelwyd ag Ef
A24: Glan môr neu arfordirol arall | B24: 0.010797165 | C24: 0.02129648 | D24: 0.14538035 | E24: 0.10953805 | F24: 2.3564326 | G24: 0.010441555 | H24: 2
A25: Dinas/ tref fawr | B25: 0.27378303 | C25: 0.54001352 | D25: 0.52342888 | E25: 0.39438189 | F25: 146.03593 | G25: 0.64709772 | H25: 33
A26: Tref fach | B26: 0.12942003 | C26: 0.25526991 | D26: 0.2611571 | E26: 0.19677102 | F26: 52.432489 | G26: 0.23233285 | H26: 13
A27: Cefn gwlad/ pentref | B27: 0.067141694 | C27: 0.13243123 | D27: 0.32873177 | E27: 0.24768572 | F27: 17.277896 | G27: 0.076559836 | H27: 7
A28: Arall/Amhenodedig | B28: 0.025850995 | C28: 0.050988868 | D28: 0.068515156 | E28: 0.051623321 | F28: 7.5755785 | G28: 0.033568037 | H28: 2
A29: Rhanbarth Preswyl
A30: Net: Lloegr | B30: 0.36972707 | C30: 0.7292549 | D30: 0.9304607 | E30: 0.70106345 | F30: 168.20398 | G30: 0.74532625 | H30: 32
A31: Llundain | B31: 0.11546316 | C31: 0.22774117 | D31: 0.20951902 | E31: 0.15786387 | F31: 78.024688 | G31: 0.34573407 | H31: 10
A32: Gweddill Lloegr (Nid Llundain) | B32: 0.25426391 | C32: 0.50151373 | D32: 0.72094168 | E32: 0.54319958 | F32: 90.179296 | G32: 0.39959218 | H32: 22
A33: Net: Yr Alban | B33: 0.020222589 | C33: 0.039887321 | D33: 0.047175666 | E33: 0.035544903 | F33: 12.764768 | G33: 0.056561778 | H33: 3
A34: Net: Cymru | B34: 0.11704326 | C34: 0.23085778 | D34: 0.34957689 | E34: 0.26339165 | F34: 44.709579 | G34: 0.19811197 | H34: 22
A35: Canolbarth Cymru | B35: 0.011669721 | C35: 0.023017524 | D35: 0.011693738 | E35: 0.0088107457 | F35: 1.2697531 | G35: 0.0056263846 | H35: 2
A36: Gogledd Cymru | B36: 0.021061934 | C36: 0.041542857 | D36: 0.029589855 | E36: 0.022294725 | F36: 7.1446175 | G36: 0.031658412 | H36: 5
A37: De-ddwyrain Cymru | B37: 0.059018392 | C37: 0.11640871 | D37: 0.12763781 | E37: 0.096169784 | F37: 19.551882 | G37: 0.086636063 | H37: 10
A38: De-orllewin Cymru | B38: 0.019299499 | C38: 0.038066604 | D38: 0.054528483 | E38: 0.041084945 | F38: 16.225595 | G38: 0.071897001 | H38: 4
A39: Hyd y Daith
A40: 1-3 noson | B40: 0.36654048 | C40: 0.72296963 | D40: 0.6575096 | E40: 0.49540615 | F40: 171.60271 | G40: 0.76038628 | H40: 43
A41: 4-7 noson | B41: 0.092620446 | C41: 0.18268588 | D41: 0.29405998 | E41: 0.22156197 | F41: 44.722479 | G41: 0.19816913 | H41: 10
A42: 8+ noson | B42: 0.04783199 | C42: 0.094344493 | D42: 0.37564367 | E42: 0.28303189 | F42: 9.3531443 | G42: 0.041444583 | H42: 4
A43: Amhenodedig | B43: 0 | C43: 0 | D43: 0 | E43: 0 | F43: 0 | G43: 0 | H43: 0
A44: Gweithgareddau y Cymerwyd Rhan Ynddynt yn ystod y Daith [m]
A45: Ymweld â ffrindiau neu berthnasau | B45: 0.064398398 | C45: 0.12702031 | D45: 0.39444624 | E45: 0.29719884 | F45: 16.039209 | G45: 0.071071109 | H45: 7
A46: Mynd i atyniad ymwelwyr e.e. tŷ Hanesyddol, parc thema, amgueddfa, ac ati | B46: 0.055078923 | C46: 0.10863845 | D46: 0.13590732 | E46: 0.10240052 | F46: 31.259136 | G46: 0.13851191 | H46: 6
A47: Cymryd rhan mewn gweithgareddau hamdden a chwaraeon awyr agored (e.e. cerdded, beicio ac ati) | B47: 0.062708263 | C47: 0.12368667 | D47: 0.13314159 | E47: 0.10031665 | F47: 13.801971 | G47: 0.061157715 | H47: 6
A48: Mynd i weld golygfeydd ac archwilio ardaloedd | B48: 0.11787092 | C48: 0.23249026 | D48: 0.36762631 | E48: 0.27699113 | F48: 48.371935 | G48: 0.21434018 | H48: 14
A49: Cymryd rhan mewn hobïau a diddordebau | B49: 0.064152407 | C49: 0.12653511 | D49: 0.31457229 | E49: 0.23701714 | F49: 28.394928 | G49: 0.12582036 | H49: 6
A50: Cymryd rhan mewn profiad iechyd neu lesiant (e.e. sba, lloches, campfa ac ati) | B50: 0.016868369 | C50: 0.033271409 | D50: 0.059514043 | E50: 0.044841357 | F50: 5.0293125 | G50: 0.022285314 | H50: 3
A51: Mynd i ddigwyddiad arbennig neu ddathliad o natur bersonol (e.e. priodas, pen-blwydd, pen-blwydd priodas ac ati) | B51: 0.019404738 | C51: 0.03827418 | D51: 0.056437366 | E51: 0.042523208 | F51: 22.69889 | G51: 0.10058073 | H51: 3
A52: Mynd i ddigwyddiad cyhoeddus a drefnwyd (e.e. arddangosfa, chwaraeon byw ac ati) | B52: 0.046891105 | C52: 0.092488679 | D52: 0.08724842 | E52: 0.065738056 | F52: 11.662407 | G52: 0.051677123 | H52: 6
A53: Mynd i brofiad celfyddydol, diwylliannol neu adloniant (e.e. amgueddfa, oriel, sinema ac ati) | B53: 0.013982326 | C53: 0.027578938 | D53: 0.051003794 | E53: 0.038429238 | F53: 21.861355 | G53: 0.096869535 | H53: 2
A54: Bwyd a diod, noson allan neu siopa arbenigol (h.y. siopa am eitemau nad ydych yn eu prynu'n rheolaidd e.e. dillad, electroneg, gemwaith, cofroddion ac ati) | B54: 0.090162807 | C54: 0.1778384 | D54: 0.22099308 | E54: 0.1665091 | F54: 53.345751 | G54: 0.23637959 | H54: 12
A55: Cymryd rhan mewn gweithgareddau hamdden na chyfeiriwyd atynt uchod | B55: 0.042631192 | C55: 0.084086366 | D55: 0.054084286 | E55: 0.04075026 | F55: 20.629873 | G55: 0.091412734 | H55: 4
A56: Ni chymerwyd rhan mewn unrhyw weithgareddau a nodwyd | B56: 0.18300168 | C56: 0.36095509 | D56: 0.36016109 | E56: 0.27136641 | F56: 100.50363 | G56: 0.44534021 | H56: 22
A57: Llety a Ddefnyddiwyd
A58: Net: Pob llety â gwasanaeth (e.e. gwesty neu sefydliad gwely a brecwast) | B58: 0.39134482 | C58: 0.77189405 | D58: 0.96037727 | E58: 0.72360434 | F58: 202.5765 | G58: 0.89763383 | H58: 46
A59: Net: Rhentu eiddo hunanddarpar | B59: 0.024485031 | C59: 0.04829462 | D59: 0.08549597 | E59: 0.064417659 | F59: 11.821467 | G59: 0.052381934 | H59: 4
A60: Net: Carafán / Gwersylla / Glampio | B60: 0 | C60: 0 | D60: 0 | E60: 0 | F60: 0 | G60: 0 | H60: 0
A61: Net: Cartref preifat rhywun | B61: 0.037963654 | C61: 0.074880049 | D61: 0.1819304 | E61: 0.13707699 | F61: 6.7719703 | G61: 0.03000718 | H61: 3
A62: Net: Llety arall | B62: 0.053199415 | C62: 0.10493128 | D62: 0.099409616 | E62: 0.074901012 | F62: 4.5083875 | G62: 0.019977051 | H62: 4
A63: Ddim yn gwybod/ Amhenodedig | B63: 0 | C63: 0 | D63: 0 | E63: 0 | F63: 0 | G63: 0 | H63: 0
A64: Trafnidiaeth a Ddefnyddiwyd ar gyfer Teithio i'r Prif Gyrchfan [m]
A65: Net: Cerbyd modur preifat | B65: 0.31025363 | C65: 0.61194865 | D65: 0.89396969 | E65: 0.67356899 | F65: 153.10369 | G65: 0.67841556 | H65: 36
A66: Net: Trên, trên tanddaearol, tram | B66: 0.060936346 | C66: 0.12019171 | D66: 0.17346857 | E66: 0.13070135 | F66: 25.614979 | G66: 0.11350216 | H66: 9
A67: Net: Bws, coets, tacsi | B67: 0.13386358 | C67: 0.26403441 | D67: 0.25803252 | E67: 0.19441677 | F67: 51.441683 | G67: 0.2279425 | H67: 12
A68: Net: Cerdded, beicio | B68: 0.023718848 | C68: 0.046783391 | D68: 0.047535325 | E68: 0.035815891 | F68: 5.5782275 | G68: 0.024717604 | H68: 1
A69: Net: Trafnidiaeth dŵr neu awyr | B69: 0.15664926 | C69: 0.30897721 | D69: 0.31239073 | E69: 0.23537343 | F69: 64.842545 | G69: 0.28732287 | H69: 12
A70: Net: Arall | B70: 0.038104219 | C70: 0.0751573 | D70: 0.076365279 | E70: 0.057538062 | F70: 1.7775063 | G70: 0.0078762825 | H70: 3
A71: Taith Rhan o Becyn
A72: Oedd, rhan o becyn | B72: 0.13772708 | C72: 0.27165484 | D72: 0.36330294 | E72: 0.27373366 | F72: 127.0559 | G72: 0.56299558 | H72: 17
A73: Nac oedd, ddim yn rhan o becyn | B73: 0.32571166 | C73: 0.64243828 | D73: 0.85388787 | E73: 0.64336901 | F73: 89.04443 | G73: 0.39456349 | H73: 36
A74: Ddim yn gwybod/Amhenodedig | B74: 0.04355418 | C74: 0.085906881 | D74: 0.11002244 | E74: 0.082897332 | F74: 9.5779982 | G74: 0.04244093 | H74: 4
A75: Cyfnod Amser Trefnu Llety
A76: Mwy na 6 mis ymlaen llaw | B76: 0.0047311102 | C76: 0.0093317086 | D76: 0.037926777 | E76: 0.028576249 | F76: 1.1247324 | G76: 0.0049837857 | H76: 1
A77: 4-6 mis ymlaen llaw | B77: 0.059860613 | C77: 0.11806992 | D77: 0.11473853 | E77: 0.086450713 | F77: 18.827017 | G77: 0.083424124 | H77: 6
A78: 2-3 mis ymlaen llaw | B78: 0.021882554 | C78: 0.043161459 | D78: 0.20163708 | E78: 0.15192515 | F78: 12.039487 | G78: 0.053347996 | H78: 3
A79: Tua mis ymlaen llaw | B79: 0.069913097 | C79: 0.13789758 | D79: 0.12309098 | E79: 0.092743934 | F79: 15.062357 | G79: 0.066742592 | H79: 7
A80: 2-3 wythnos ymlaen llaw | B80: 0.095763055 | C80: 0.1888844 | D80: 0.22974319 | E80: 0.17310194 | F80: 65.705823 | G80: 0.29114813 | H80: 14
A81: Wythnos neu lai | B81: 0.1970435 | C81: 0.38865139 | D81: 0.37565918 | E81: 0.28304357 | F81: 102.14717 | G81: 0.45262287 | H81: 20
A82: Ni threfnwyd llety/ Ddim yn gwybod | B82: 0.0070872404 | C82: 0.013978973 | D82: 0.049712784 | E82: 0.037456516 | F82: 3.2126531 | G82: 0.014235541 | H82: 1
A83: Ddim yn gwybod | B83: 0.0068529587 | C83: 0.013516873 | D83: 0.0068670625 | E83: 0.005174046 | F83: 0.39120598 | G83: 0.0017334672 | H83: 1
A84: Ni aethpwyd ar daith pecyn neu daith yr oedd angen trefnu llety ar ei gyfer | B84: 0.043858788 | C84: 0.086507693 | D84: 0.18783767 | E84: 0.14152787 | F84: 7.167882 | G84: 0.031761499 | H84: 4
A85: Sut y Trefnwyd [m]
A86: Asiant teithio traddodiadol (e.e. TUI, Trailfinders) | B86: 0.01115625 | C86: 0.022004745 | D86: 0.01117921 | E86: 0.00842307 | F86: 0.73047565 | G86: 0.0032368002 | H86: 1
A87: Gwefan deithio (e.e. Expedia, Booking.com, Lastminute.com, TripAdvisor) | B87: 0.19518493 | C87: 0.38498552 | D87: 0.3801163 | E87: 0.28640183 | F87: 103.51081 | G87: 0.45866528 | H87: 19
A88: Gweithredwr teithiau neu gwmni teithio (e.e. Haven, English Country Cottages, Superbreak) | B88: 0.053531775 | C88: 0.10558683 | D88: 0.11202034 | E88: 0.08440267 | F88: 8.1518774 | G88: 0.036121667 | H88: 4
A89: Darparwr trafnidiaeth (e.e. Virgin Trains, British Airways, National Express) | B89: 0.041104137 | C89: 0.08107438 | D89: 0.26130892 | E89: 0.19688541 | F89: 17.861288 | G89: 0.079144897 | H89: 3
A90: Gwesty neu ddarparwr llety arall yn uniongyrchol (e.e. cwmni gwestai, perchennog sefydliad gwely a brecwast, perchennog bwthyn) | B90: 0.079794724 | C90: 0.15738824 | D90: 0.20279482 | E90: 0.15279747 | F90: 39.559676 | G90: 0.17529231 | H90: 13
A91: Gwefan rhannu llety (e.e. Airbnb) | B91: 0.050744596 | C91: 0.10008936 | D91: 0.10229697 | E91: 0.077076511 | F91: 31.326073 | G91: 0.13880851 | H91: 5
A92: Trefnydd teithiau corfforaethol/busnes | B92: 0.099853971 | C92: 0.19695339 | D92: 0.20217396 | E92: 0.15232967 | F92: 49.867734 | G92: 0.2209682 | H92: 11
A93: Canolfan gwybodaeth i dwristiaid neu swyddfa bwrdd twristiaeth | B93: 0.004278638 | C93: 0.0084392462 | D93: 0.0042874437 | E93: 0.0032304106 | F93: 1.6162591 | G93: 0.0071617822 | H93: 1
A94: Arall/Ddim yn gwybod | B94: 0.0071933837 | C94: 0.014188332 | D94: 0.0072081881 | E94: 0.00543107 | F94: 0.61592284 | G94: 0.0027292068 | H94: 1
A95: Ni threfnwyd llety/amherthnasol | B95: 0.050946028 | C95: 0.10048667 | D95: 0.23755045 | E95: 0.17898439 | F95: 10.380535 | G95: 0.045997039 | H95: 5
A96: Nifer y Lleoedd yr Arhoswyd ynddynt Dros Nos gan gynnwys y Prif Gyrchfan
A97: Un | B97: 0.3864084 | C97: 0.76215739 | D97: 1.1218581 | E97: 0.84527345 | F97: 204.32653 | G97: 0.90538834 | H97: 47
A98: Dau neu dri | B98: 0.085523659 | C98: 0.16868807 | D98: 0.13508909 | E98: 0.10178401 | F98: 13.202901 | G98: 0.058503185 | H98: 8
A99: Pedwar neu fwy | B99: 0.035060861 | C99: 0.069154538 | D99: 0.070266036 | E99: 0.052942537 | F99: 8.1489004 | G99: 0.036108475 | H99: 2
A100: Amhenodedig | B100: 0 | C100: 0 | D100: 0 | E100: 0 | F100: 0 | G100: 0 | H100: 0
...

Sheet Miscellaneous Trips
A1: Teithiau Amrywiol Dros Nos yng Nghymru gan Drigolion Prydain Fawr
A2: Mae'r daflen waith hon yn cynnwys un tabl. Mae meintiau sylfaen wedi'u darparu ac yn cyfeirio at nifer y teithiau a adroddwyd ar gyfer pob amcangyfrif. Mae rhai o'r meintiau sylfaen ar gyfer yr amcangyfrifon hyn yn isel. Lle mae'r maint sylfaen yn is na 30, cynghorir defnyddwyr i beidio â defnyddio'r amcangyfrif hwn.
A3: Pan fo'r maint sylfaen rhwng 30 a 100, cynghorir defnyddwyr i drin yr amcangyfrif hwn ar sail ddangosol yn unig.
A4: Ceir cod lliw ar gyfer meintiau sylfaen isel yn y tablau. Defnyddir rhai symbolau llaw-fer yn y tabl hwn. I gael cyfarwyddyd ar y cod lliwiau a'r diffiniadau o symbolau llaw-fer, gweler canllaw'r tabl.
A5: Ionawr i Ragfyr 2024 | B5: Teithiau (miliynau) | C5: % o Gyfanswm y Teithiau | D5: Nosweithiau (miliynau) | E5: % o Gyfanswm y Nosweithiau | F5: Gwariant (£miliynau) | G5: % o Gyfanswm y Gwariant | H5: Maint Sylfaen
A6: Cyfanswm Teithiau Amrywiol | B6: 1.6604708 | C6: 1 | D6: 3.5316338 | E6: 1 | F6: 563.88719 | G6: 1 | H6: 177
A7: Diben Manwl Teithiau Amrywiol
A8: Net: Arhosiad dros nos yn y DU yn rhan o deithiau dros nos (e.e. arhosiad mewn gwesty maes awyr cyn hedfan dramor) | B8: 0.44743879 | C8: 0.26946502 | D8: 0.63737568 | E8: 0.18047615 | F8: 182.31742 | G8: 0.3233225 | H8: 46
A9: Net: Taith yr aethpwyd arni yn y DU ar gyfer digwyddiad/dathliad personol, digwyddiad cyhoeddus, addysgol, meddygol, crefyddol neu reswm arall | B9: 1.213032 | C9: 0.73053498 | D9: 2.8942582 | E9: 0.81952385 | F9: 381.56978 | G9: 0.6766775 | H9: 131
A10: Digwyddiad neu ddathliad personol e.e., pen-blwydd, priodas, pen-blwydd priodas | B10: 0.55811346 | C10: 0.3361176 | D10: 1.3078309 | E10: 0.37031895 | F10: 174.52507 | G10: 0.30950352 | H10: 62
A11: Digwyddiad cyhoeddus e.e. cyngerdd, gŵyl, digwyddiad chwaraeon | B11: 0.28802507 | C11: 0.17345988 | D11: 0.80266858 | E11: 0.22727967 | F11: 95.214193 | G11: 0.16885326 | H11: 28
A12: Amhenodedig | B12: 0 | C12: 0 | D12: 0 | E12: 0 | F12: 0 | G12: 0 | H12: 0
A13: Chwarter yr Aethpwyd ar y Daith
A14: Ionawr i Fawrth | B14: 0.3359917 | C14: 0.20234725 | D14: 0.78128516 | E14: 0.22122485 | F14: 122.34244 | G14: 0.21696261 | H14: 34
A15: Ebrill i Fehefin | B15: 0.44596501 | C15: 0.26857745 | D15: 1.1013863 | E15: 0.31186311 | F15: 130.78327 | G15: 0.23193163 | H15: 46
A16: Gorffennaf i Fedi | B16: 0.50198199 | C16: 0.30231305 | D16: 0.94017979 | E16: 0.26621667 | F16: 174.56775 | G16: 0.30957921 | H16: 54
A17: Hydref i Ragfyr | B17: 0.37653209 | C17: 0.22676225 | D17: 0.70878256 | E17: 0.20069537 | F17: 136.19373 | G17: 0.24152656 | H17: 43
A18: Rhanbarth yr Ymwelwyd ag Ef Dros Nos [m]
A19: Canolbarth Cymru | B19: 0.14505906 | C19: 0.087360202 | D19: 0.56726065 | E19: 0.16062272 | F19: 39.142996 | G19: 0.069416359 | H19: 14
A20: Gogledd Cymru | B20: 0.33210487 | C20: 0.20000645 | D20: 0.58837811 | E20: 0.16660224 | F20: 100.33159 | G20: 0.17792848 | H20: 33
A21: De-ddwyrain Cymru | B21: 0.86979988 | C21: 0.52382727 | D21: 1.8489209 | E21: 0.5235313 | F21: 321.18772 | G21: 0.5695957 | H21: 96
A22: De-orllewin Cymru | B22: 0.28302217 | C22: 0.17044695 | D22: 0.48569417 | E22: 0.13752676 | F22: 91.789507 | G22: 0.16277991 | H22: 32
A23: Parciau Cenedlaethol Cymru | B23: 0.041295062 | C23: 0.02486949 | D23: 0.04138005 | E23: 0.011716971 | F23: 11.435375 | G23: 0.020279544 | H23: 3
A24: Math Lleoliad y Prif Le yr Ymwelwyd ag Ef
A25: Glan môr neu arfordirol arall | B25: 0.23667861 | C25: 0.14253705 | D25: 0.56506451 | E25: 0.16000088 | F25: 100.19917 | G25: 0.17769365 | H25: 22
A26: Dinas/ tref fawr | B26: 0.67896752 | C26: 0.40890061 | D26: 1.2894839 | E26: 0.36512388 | F26: 233.65957 | G26: 0.4143729 | H26: 81
A27: Tref fach | B27: 0.39332546 | C27: 0.23687587 | D27: 0.73152932 | E27: 0.20713623 | F27: 109.5181 | G27: 0.19421988 | H27: 37
A28: Cefn gwlad/ pentref | B28: 0.33520436 | C28: 0.20187308 | D28: 0.91159351 | E28: 0.25812232 | F28: 118.11811 | G28: 0.20947116 | H28: 34
A29: Arall/Amhenodedig | B29: 0.016294848 | C29: 0.0098133905 | D29: 0.03396265 | E29: 0.0096166963 | F29: 2.3922354 | G29: 0.0042424006 | H29: 3
A30: Rhanbarth Preswyl
A31: Net: Lloegr | B31: 1.1599065 | C31: 0.69854072 | D31: 2.6860009 | E31: 0.76055476 | F31: 379.70485 | G31: 0.67337024 | H31: 91
A32: Llundain | B32: 0.16643049 | C32: 0.1002309 | D32: 0.31489001 | E32: 0.0891627 | F32: 88.442453 | G32: 0.15684423 | H32: 13
A33: Gweddill Lloegr (Nid Llundain) | B33: 0.99347598 | C33: 0.59830982 | D33: 2.3711109 | E33: 0.67139206 | F33: 291.2624 | G33: 0.51652601 | H33: 78
A34: Net: Yr Alban | B34: 0.069374046 | C34: 0.041779745 | D34: 0.12986519 | E34: 0.036771987 | F34: 37.155084 | G34: 0.065890988 | H34: 10
A35: Net: Cymru | B35: 0.43119028 | C35: 0.25967953 | D35: 0.71576772 | E35: 0.20267325 | F35: 147.02725 | G35: 0.26073877 | H35: 76
A36: Canolbarth Cymru | B36: 0.012266301 | C36: 0.0073872429 | D36: 0.020686071 | E36: 0.0058573656 | F36: 2.2449156 | G36: 0.0039811431 | H36: 3
A37: Gogledd Cymru | B37: 0.056511253 | C37: 0.034033271 | D37: 0.07438828 | E37: 0.021063418 | F37: 16.729335 | G37: 0.029667875 | H37: 9
A38: De-ddwyrain Cymru | B38: 0.24107888 | C38: 0.14518706 | D38: 0.42163073 | E38: 0.11938688 | F38: 85.477792 | G38: 0.15158669 | H38: 40
A39: De-orllewin Cymru | B39: 0.12133385 | C39: 0.073071955 | D39: 0.19906264 | E39: 0.056365595 | F39: 42.575211 | G39: 0.075503065 | H39: 24
A40: Hyd y Daith
A41: 1-3 noson | B41: 1.4115656 | C41: 0.85009963 | D41: 2.2682028 | E41: 0.64225311 | F41: 445.41094 | G41: 0.78989369 | H41: 152
A42: 4-7 noson | B42: 0.21862825 | C42: 0.13166642 | D42: 0.74126657 | E42: 0.20989338 | F42: 100.82666 | G42: 0.17880643 | H42: 22
A43: 8+ noson | B43: 0.030276935 | C43: 0.018233946 | D43: 0.52216447 | E43: 0.14785351 | F43: 17.649599 | G43: 0.031299877 | H43: 3
A44: Amhenodedig | B44: 0 | C44: 0 | D44: 0 | E44: 0 | F44: 0 | G44: 0 | H44: 0
A45: Gweithgareddau y Cymerwyd Rhan Ynddynt yn ystod y Daith [m]
A46: Ymweld â ffrindiau neu berthnasau | B46: 0.24985447 | C46: 0.15047207 | D46: 0.54124121 | E46: 0.15325519 | F46: 88.65241 | G46: 0.15721657 | H46: 30
A47: Mynd i atyniad ymwelwyr e.e. tŷ Hanesyddol, parc thema, amgueddfa, ac ati | B47: 0.16038343 | C47: 0.096589132 | D47: 0.31936064 | E47: 0.090428583 | F47: 54.514504 | G47: 0.096676259 | H47: 19
A48: Cymryd rhan mewn gweithgareddau hamdden a chwaraeon awyr agored (e.e. cerdded, beicio ac ati) | B48: 0.23903624 | C48: 0.14395691 | D48: 0.49741974 | E48: 0.14084692 | F48: 72.780938 | G48: 0.12907003 | H48: 26
A49: Mynd i weld golygfeydd ac archwilio ardaloedd | B49: 0.39888696 | C49: 0.24022522 | D49: 0.79781317 | E49: 0.22590484 | F49: 117.18239 | G49: 0.20781175 | H49: 40
A50: Cymryd rhan mewn hobïau a diddordebau | B50: 0.17867401 | C50: 0.10760443 | D50: 0.81511643 | E50: 0.23080434 | F50: 63.148206 | G50: 0.1119873 | H50: 20
A51: Cymryd rhan mewn profiad iechyd neu lesiant (e.e. sba, lloches, campfa ac ati) | B51: 0.12947296 | C51: 0.077973647 | D51: 0.32178206 | E51: 0.091114218 | F51: 34.64313 | G51: 0.061436277 | H51: 14
A52: Mynd i ddigwyddiad arbennig neu ddathliad o natur bersonol (e.e. priodas, pen-blwydd, pen-blwydd priodas ac ati) | B52: 0.18197897 | C52: 0.1095948 | D52: 0.42447281 | E52: 0.12019162 | F52: 65.106327 | G52: 0.11545984 | H52: 22
A53: Mynd i ddigwyddiad cyhoeddus a drefnwyd (e.e. arddangosfa, chwaraeon byw ac ati) | B53: 0.22396495 | C53: 0.13488039 | D53: 0.50476739 | E53: 0.14292744 | F53: 89.578804 | G53: 0.15885944 | H53: 20
A54: Mynd i brofiad celfyddydol, diwylliannol neu adloniant (e.e. amgueddfa, oriel, sinema ac ati) | B54: 0.095416739 | C54: 0.057463666 | D54: 0.2635743 | E54: 0.074632397 | F54: 35.95473 | G54: 0.063762275 | H54: 9
A55: Bwyd a diod, noson allan neu siopa arbenigol (h.y. siopa am eitemau nad ydych yn eu prynu'n rheolaidd e.e. dillad, electroneg, gemwaith, cofroddion ac ati) | B55: 0.30615193 | C55: 0.18437658 | D55: 0.57467098 | E55: 0.162721 | F55: 108.15028 | G55: 0.19179418 | H55: 37
A56: Cymryd rhan mewn gweithgareddau hamdden na chyfeiriwyd atynt uchod | B56: 0.088620138 | C56: 0.053370489 | D56: 0.21024908 | E56: 0.059533092 | F56: 47.605049 | G56: 0.084423001 | H56: 9
A57: Ni chymerwyd rhan mewn unrhyw weithgareddau a nodwyd | B57: 0.18662524 | C57: 0.11239297 | D57: 0.38742369 | E57: 0.10970098 | F57: 40.014896 | G57: 0.070962591 | H57: 22
A58: Llety a Ddefnyddiwyd
A59: Net: Pob llety â gwasanaeth (e.e. gwesty neu sefydliad gwely a brecwast) | B59: 0.96290332 | C59: 0.57989777 | D59: 2.049776 | E59: 0.58040446 | F59: 354.54604 | G59: 0.6287535 | H59: 100
A60: Net: Rhentu eiddo hunanddarpar | B60: 0.2793721 | C60: 0.16824873 | D60: 0.48970387 | E60: 0.13866213 | F60: 82.150014 | G60: 0.14568519 | H60: 28
A61: Net: Carafán / Gwersylla / Glampio | B61: 0.12404059 | C61: 0.074702062 | D61: 0.31729461 | E61: 0.089843576 | F61: 51.86606 | G61: 0.091979496 | H61: 14
A62: Net: Cartref preifat rhywun | B62: 0.15518959 | C62: 0.093461195 | D62: 0.30715261 | E62: 0.086971817 | F62: 27.913169 | G62: 0.049501336 | H62: 17
A63: Net: Llety arall | B63: 0.11568557 | C63: 0.069670344 | D63: 0.32611914 | E63: 0.092342286 | F63: 43.755281 | G63: 0.077595806 | H63: 15
A64: Ddim yn gwybod/ Amhenodedig | B64: 0.02327963 | C64: 0.014019897 | D64: 0.041587563 | E64: 0.011775729 | F64: 3.6566246 | G64: 0.006484674 | H64: 3
A65: Trafnidiaeth a Ddefnyddiwyd ar gyfer Teithio i'r Prif Gyrchfan [m]
A66: Net: Cerbyd modur preifat | B66: 0.98723984 | C66: 0.59455417 | D66: 2.0322595 | E66: 0.57544457 | F66: 298.93862 | G66: 0.53013905 | H66: 105
A67: Net: Trên, trên tanddaearol, tram | B67: 0.24622027 | C67: 0.14828341 | D67: 0.72354022 | E67: 0.20487408 | F67: 98.443485 | G67: 0.1745801 | H67: 29
A68: Net: Bws, coets, tacsi | B68: 0.15589862 | C68: 0.093888205 | D68: 0.52846541 | E68: 0.14963766 | F68: 63.763075 | G68: 0.11307772 | H68: 16
A69: Net: Cerdded, beicio | B69: 0.059844497 | C69: 0.036040681 | D69: 0.13850567 | E69: 0.039218581 | F69: 18.445055 | G69: 0.032710541 | H69: 6
A70: Net: Trafnidiaeth dŵr neu awyr | B70: 0.080228366 | C70: 0.048316638 | D70: 0.34279731 | E70: 0.097064793 | F70: 43.708256 | G70: 0.077512412 | H70: 9
A71: Net: Arall | B71: 0.44743879 | C71: 0.26946502 | D71: 0.63737568 | E71: 0.18047615 | F71: 182.31742 | G71: 0.3233225 | H71: 46
A72: Taith Rhan o Becyn
A73: Oedd, rhan o becyn | B73: 0.49389249 | C73: 0.29744124 | D73: 1.247986 | E73: 0.35337355 | F73: 266.45146 | G73: 0.47252618 | H73: 47
A74: Nac oedd, ddim yn rhan o becyn | B74: 1.0547154 | C74: 0.63519055 | D74: 2.0457963 | E74: 0.57927757 | F74: 276.58301 | G74: 0.49049352 | H74: 115
A75: Ddim yn gwybod/Amhenodedig | B75: 0.11186295 | C75: 0.067368211 | D75: 0.23785157 | E75: 0.067348875 | F75: 20.852721 | G75: 0.036980306 | H75: 15
A76: Cyfnod Amser Trefnu Llety
A77: Mwy na 6 mis ymlaen llaw | B77: 0.18265396 | C77: 0.11000131 | D77: 0.47635499 | E77: 0.13488233 | F77: 66.139088 | G77: 0.11729135 | H77: 17
A78: 4-6 mis ymlaen llaw | B78: 0.21507055 | C78: 0.12952384 | D78: 0.69774175 | E78: 0.19756911 | F78: 102.45497 | G78: 0.1816941 | H78: 18
A79: 2-3 mis ymlaen llaw | B79: 0.15082312 | C79: 0.090831538 | D79: 0.4659349 | E79: 0.13193183 | F79: 51.721675 | G79: 0.091723444 | H79: 18
A80: Tua mis ymlaen llaw | B80: 0.18492727 | C80: 0.11137038 | D80: 0.28448709 | E80: 0.080553961 | F80: 43.548647 | G80: 0.07722936 | H80: 22
A81: 2-3 wythnos ymlaen llaw | B81: 0.069684052 | C81: 0.041966443 | D81: 0.14294825 | E81: 0.040476521 | F81: 18.572912 | G81: 0.032937282 | H81: 10
A82: Wythnos neu lai | B82: 0.15142234 | C82: 0.091192417 | D82: 0.25879997 | E82: 0.073280522 | F82: 50.075433 | G82: 0.08880399 | H82: 19
A83: Ni threfnwyd llety/ Ddim yn gwybod | B83: 0.054738236 | C83: 0.032965491 | D83: 0.15741506 | E83: 0.044572872 | F83: 13.368486 | G83: 0.023707731 | H83: 6
A84: Ddim yn gwybod | B84: 0.011321533 | C84: 0.0068182668 | D84: 0.011344833 | E84: 0.003212347 | F84: 1.5080273 | G84: 0.0026743422 | H84: 2
A85: Ni aethpwyd ar daith pecyn neu daith yr oedd angen trefnu llety ar ei gyfer | B85: 0.63982973 | C85: 0.38533031 | D85: 1.036607 | E85: 0.29352052 | F85: 216.49795 | G85: 0.38393841 | H85: 65
A86: Sut y Trefnwyd [m]
A87: Asiant teithio traddodiadol (e.e. TUI, Trailfinders) | B87: 0.076383149 | C87: 0.046000899 | D87: 0.37478522 | E87: 0.10612233 | F87: 44.430796 | G87: 0.078793768 | H87: 7
A88: Gwefan deithio (e.e. Expedia, Booking.com, Lastminute.com, TripAdvisor) | B88: 0.3966066 | C88: 0.2388519 | D88: 0.78513061 | E88: 0.22231371 | F88: 136.45796 | G88: 0.24199514 | H88: 45
A89: Gweithredwr teithiau neu gwmni teithio (e.e. Haven, English Country Cottages, Superbreak) | B89: 0.052080665 | C89: 0.031364999 | D89: 0.05218785 | E89: 0.014777254 | F89: 7.1378118 | G89: 0.012658226 | H89: 4
A90: Darparwr trafnidiaeth (e.e. Virgin Trains, British Airways, National Express) | B90: 0.027993317 | C90: 0.016858663 | D90: 0.072333616 | E90: 0.02048163 | F90: 8.4645706 | G90: 0.015011106 | H90: 2
A91: Gwesty neu ddarparwr llety arall yn uniongyrchol (e.e. cwmni gwestai, perchennog sefydliad gwely a brecwast, perchennog bwthyn) | B91: 0.23802916 | C91: 0.1433504 | D91: 0.57332595 | E91: 0.16234015 | F91: 58.264654 | G91: 0.10332679 | H91: 29
A92: Gwefan rhannu llety (e.e. Airbnb) | B92: 0.11785656 | C92: 0.0709778 | D92: 0.5037892 | E92: 0.14265046 | F92: 57.87611 | G92: 0.10263775 | H92: 11
A93: Trefnydd teithiau corfforaethol/busnes | B93: 0.031767414 | C93: 0.01913157 | D93: 0.067631388 | E93: 0.01915017 | F93: 19.542228 | G93: 0.034656272 | H93: 3
A94: Canolfan gwybodaeth i dwristiaid neu swyddfa bwrdd twristiaeth | B94: 0 | C94: 0 | D94: 0 | E94: 0 | F94: 0 | G94: 0 | H94: 0
A95: Arall/Ddim yn gwybod | B95: 0.11846836 | C95: 0.071346247 | D95: 0.30194829 | E95: 0.085498187 | F95: 38.810239 | G95: 0.068826247 | H95: 14
A96: Ni threfnwyd llety/amherthnasol | B96: 0.69456797 | C96: 0.41829581 | D96: 1.1940221 | E96: 0.33809339 | F96: 229.86644 | G96: 0.40764614 | H96: 71
A97: Nifer y Lleoedd yr Arhoswyd ynddynt Dros Nos gan gynnwys y Prif Gyrchfan
A98: Un | B98: 1.3190156 | C98: 0.79436242 | D98: 2.7679655 | E98: 0.78376343 | F98: 466.7603 | G98: 0.82775475 | H98: 146
A99: Dau neu dri | B99: 0.29053206 | C99: 0.17496969 | D99: 0.67162238 | E99: 0.19017328 | F99: 72.143516 | G99: 0.12793963 | H99: 25
A100: Pedwar neu fwy | B100: 0.050923132 | C100: 0.030667888 | D100: 0.092046008 | E100: 0.026063293 | F100: 24.983376 | G100: 0.044305627 | H100: 6
...

Sheet Hyperlink
A2: Total trips | B2: Holiday Trips | C2: Visit Friends or Relatives | D2: Business Trips | E2: Miscellaneous Trips
A4: A6 | B4: A6 | C4: A6 | D4: A6 | E4: A6 | F4: TOTAL TRIPS
A5: A26 | B5: A10 | C5: A12 | D5: A12 | E5: A13 | F5: QUARTER TRIP TAKEN
A6: A31 | B6: A15 | C6: A17 | D6: A17 | E6: A18 | F6: REGION VISITED OVERNIGHT [m]
A7: A37 | B7: A21 | C7: A23 | D7: A23 | E7: A24 | F7: LOCATION TYPE OF MAIN PLACE VISITED OVERNIGHT
A8: A43 | B8: A27 | C8: A29 | D8: A29 | E8: A30 | F8: REGION OF RESIDENCE
A9: A53 | B9: A37 | C9: A39 | D9: A39 | E9: A40 | F9: DURATION OF TRIP
A10: A58 | B10: A42 | C10: A44 | D10: A44 | E10: A45 | F10: ACTIVITIES UNDERTAKEN ON TRIP [m]
A11: A71 | B11: A55 | C11: A56 | D11: A57 | E11: A58 | F11: ACCOMMODATION USED
A12: A78 | B12: A62 | C12: A63 | D12: A64 | E12: A65 | F12: TRANSPORT USED FOR TRAVEL TO MAIN DESTINATION [m]
A13: A85 | B13: A69 | C13: A70 | D13: A71 | E13: A72 | F13: TRIP PART OF PACKAGE
A14: A89 | B14: A73 | C14: A74 | D14: A75 | E14: A76 | F14: BOOKING TIME PERIOD
A15: A99 | B15: A83 | C15: A84 | D15: A85 | E15: A86 | F15: HOW BOOKED [m]
... A33: A208 | B33: A192 | C33: A193 | D33: A194 | E33: A195 | F33: CAR OWNERSHIP
