Workbook

Sheet Table Guide
A1: Information included in this document
A2: This document contains a series of tables which provide the final estimates of overnight trips taken in Wales by GB residents. The tables include estimates for the number of overnight trips taken, the number of nights stayed and an estimate of expenditure during these trips. There are five separate worksheets which contain tables with estimates for each of the main purposes of trip. These worksheets are labelled as Total Trips, Holiday Trips, Visits to Friends and Relatives, Business Trips and Miscellaneous Trips. Each worksheet contains one table with estimates of Trips, Nights and Expenditure in Wales for 2022 for each purpose of trip. Each table is presented in a similar format with separate columns containing estimates for Trips, Nights and Expenditure. In each table, there is a separate column labelled Base Size which provides the number of survey responses where an eligible visit is reported. Users are advised to note the base size for each estimate, as this will impact the robustness and reliability of the estimate. Further guidance on bases sizes is provided below. Each table also includes estimates for various standard cross breaks of the data including trip characteristics and visitor demographics. Further information on each crossbreak is provided below.
A3: Time Coverage
A4: The estimates in this document are for the full calendar year 2022 from 1 January to 31 December inclusive. | C4: To update per document
A5: Statistical Population
A6: The statistical population for estimates in this document is adults aged 16 years or over who are resident in England, Scotland or Wales. The survey also collects details of any children who accompany an adult on an overnight trip and these are included in the estimated grossed-up figures for trips, nights and spend. The demographic data in the tables is based on the respondent rather than those in the trip party.
A7: Sample Size Guidance
A8: Base sizes for each of the estimates is included in a separate column of each table. Base sizes refer to the number of reported trips. Some of these base sizes are low. If the base size is less than 30 it is not recommended to use this data. If the base size is between 30 and 100, it is recommended to only use the estimates as indicative. Low base sizes are colour coded in the tables with base sizes less than 30 shown with dark orange fill and base sizes between 30 and 100 with light orange fill. Some estimates in the tables are marked as unspecified. This is due to a small number of trips that did not provide any detailed information. Respondents are asked about up to 10 trips, but the number of trips asked about in detail is limited to 3.
A9: How to find tables for Wales | C9: Update by nation
A10: To view the tables for each purpose of trip for Wales, click on the Worksheet Tabs located at the bottom of this document which are labelled by main purpose of trip.
A11: How to find tables for GB, England and Scotland
A12: There are separate tables with estimates for overnight trips taken in GB as whole by GB residents published on the Visit Britain website (link). Tables for overnight trips taken in England and Scotland are published by VisitEngland and VisitScotland. | C12: Update by nation
A13: How to find tables for regions and local authority areas in Wales
A14: Tables with estimates of overnight trips taken in the four main regions and 22 Local Authority Areas in Wales will be published separately by Welsh Government. These will use estimates aggregated over multiple years, as the number of survey responses with eligible trips to specific regions and Local Authority Areas are often low at an annual level. | D14: Check
A15: How to find published reports
A16: Reports containing the estimates included in these tables along with commentary and trend analysis are published on the VisitWales website on a quarterly and annual basis (provide links). | C16: link
A17: How to find information on research methodology
A18: A Background Quality Report is published on VisitWales Website (link) with details on research methodology, quality assurance, estimation method and the questionnaire used. | C18: link
A19: How to Use The Tables
A20: Symbols used in tables
A21: [m]. This symbol indicates the data item is a multicoded response. Respondents could select several responses in their answer, therefore the numbers may not add up to the total or equal 100%
A22: [z]. This symbol indicates the data item is not applicable
A23: [x]. This symbol indicates the data item is not available
A24: [r]. This symbol indicates the data item has been revised since the initial publication
A25: Freeze panes
A26: Some rows have freeze panes applied. To turn off freeze frames click View, then click Window, and then click Unfreeze Panes. Alternatively click the View tab in the ribbon, then click the Freeze Panes button in the Window button group, and then choose the Unfreeze Panes command from the drop down menu.
A27: Purpose of trips reported in each worksheet
A28: Total Trips. This includes estimates of trips, nights and spend in Wales on all overnight trip types for all eligible purposes.
A29: Holiday Trips. The main purpose of the trip was for holiday, pleasure or leisure.
A30: Visiting Friends or Relatives. The main purpose of the trip was for visiting friends and relatives.
... A77: SPEND BREAKDOWN. The total amount spent on the specified items. The percentage spend breakdown is calculated as the proportion of total spend accounted for by the expenditure item. Spend is nominal and has not been adjusted for inflation.

Sheet Table of contents
A1: Wales Overnight Trips (GBTS) 2022 Annual Tables: Table of Contents
A2: Table Title | B2: Total Trips | C2: Holiday Trips | D2: Visits to Friends or Relatives | E2: Business | F2: Miscellaneous
A3: Total trips | B3: =HYPERLINK("#'"&Hyperlink!A$2&"'!"&Hyperlink!$A4, "Total Wales Trips") -> Total Wales Trips | C3: =HYPERLINK("#'"&Hyperlink!B$2&"'!"&Hyperlink!$B4, "Wales Holidays") -> Wales Holidays | D3: =HYPERLINK("#'"&Hyperlink!C$2&"'!"&Hyperlink!$C4, "Wales Visit Friends or Relatives") -> Wales Visit Friends or Relatives | E3: =HYPERLINK("#'"&Hyperlink!D$2&"'!"&Hyperlink!$D4, "Wales Business") -> Wales Business | F3: =HYPERLINK("#'"&Hyperlink!E$2&"'!"&Hyperlink!$E4, "Wales Miscellaneous") -> Wales Miscellaneous | H3: A4 | I3: A4 | J3: A4 | K3: A4 | L3: A4
A4: Quarter trip taken | B4: =HYPERLINK("#'"&Hyperlink!A$2&"'!"&Hyperlink!$A5, "Total Wales Trips") -> Total Wales Trips | C4: =HYPERLINK("#'"&Hyperlink!B$2&"'!"&Hyperlink!$B5, "Wales Holidays") -> Wales Holidays | D4: =HYPERLINK("#'"&Hyperlink!C$2&"'!"&Hyperlink!$C5, "Wales Visit Friends or Relatives") -> Wales Visit Friends or Relatives | E4: =HYPERLINK("#'"&Hyperlink!D$2&"'!"&Hyperlink!$D5, "Wales Business") -> Wales Business | F4: =HYPERLINK("#'"&Hyperlink!E$2&"'!"&Hyperlink!$E5, "Wales Miscellaneous") -> Wales Miscellaneous | H4: A25 | I4: A8 | J4: A10 | K4: A11 | L4: A11
A5: Region visited overnight | B5: =HYPERLINK("#'"&Hyperlink!A$2&"'!"&Hyperlink!$A6, "Total Wales Trips") -> Total Wales Trips | C5: =HYPERLINK("#'"&Hyperlink!B$2&"'!"&Hyperlink!$B6, "Wales Holidays") -> Wales Holidays | D5: =HYPERLINK("#'"&Hyperlink!C$2&"'!"&Hyperlink!$C6, "Wales Visit Friends or Relatives") -> Wales Visit Friends or Relatives | E5: =HYPERLINK("#'"&Hyperlink!D$2&"'!"&Hyperlink!$D6, "Wales Business") -> Wales Business | F5: =HYPERLINK("#'"&Hyperlink!E$2&"'!"&Hyperlink!$E6, "Wales Miscellaneous") -> Wales Miscellaneous | H5: A30 | I5: A13 | J5: A15 | K5: A16 | L5: A16
A6: Location type of main place visited overnight | B6: =HYPERLINK("#'"&Hyperlink!A$2&"'!"&Hyperlink!$A7, "Total Wales Trips") -> Total Wales Trips | C6: =HYPERLINK("#'"&Hyperlink!B$2&"'!"&Hyperlink!$B7, "Wales Holidays") -> Wales Holidays | D6: =HYPERLINK("#'"&Hyperlink!C$2&"'!"&Hyperlink!$C7, "Wales Visit Friends or Relatives") -> Wales Visit Friends or Relatives | E6: =HYPERLINK("#'"&Hyperlink!D$2&"'!"&Hyperlink!$D7, "Wales Business") -> Wales Business | F6: =HYPERLINK("#'"&Hyperlink!E$2&"'!"&Hyperlink!$E7, "Wales Miscellaneous") -> Wales Miscellaneous | H6: A38 | I6: A21 | J6: A23 | K6: A24 | L6: A24
A7: Region of residence | B7: =HYPERLINK("#'"&Hyperlink!A$2&"'!"&Hyperlink!$A8, "Total Wales Trips") -> Total Wales Trips | C7: =HYPERLINK("#'"&Hyperlink!B$2&"'!"&Hyperlink!$B8, "Wales Holidays") -> Wales Holidays | D7: =HYPERLINK("#'"&Hyperlink!C$2&"'!"&Hyperlink!$C8, "Wales Visit Friends or Relatives") -> Wales Visit Friends or Relatives | E7: =HYPERLINK("#'"&Hyperlink!D$2&"'!"&Hyperlink!$D8, "Wales Business") -> Wales Business | F7: =HYPERLINK("#'"&Hyperlink!E$2&"'!"&Hyperlink!$E8, "Wales Miscellaneous") -> Wales Miscellaneous | H7: A44 | I7: A27 | J7: A29 | K7: A30 | L7: A30
A8: Duration of trip | B8: =HYPERLINK("#'"&Hyperlink!A$2&"'!"&Hyperlink!$A9, "Total Wales Trips") -> Total Wales Trips | C8: =HYPERLINK("#'"&Hyperlink!B$2&"'!"&Hyperlink!$B9, "Wales Holidays") -> Wales Holidays | D8: =HYPERLINK("#'"&Hyperlink!C$2&"'!"&Hyperlink!$C9, "Wales Visit Friends or Relatives") -> Wales Visit Friends or Relatives | E8: =HYPERLINK("#'"&Hyperlink!D$2&"'!"&Hyperlink!$D9, "Wales Business") -> Wales Business | F8: =HYPERLINK("#'"&Hyperlink!E$2&"'!"&Hyperlink!$E9, "Wales Miscellaneous") -> Wales Miscellaneous | H8: A59 | I8: A42 | J8: A44 | K8: A45 | L8: A45
A9: ACTIVITIES UNDERTAKEN ON TRIP [m] | B9: =HYPERLINK("#'"&Hyperlink!A$2&"'!"&Hyperlink!$A10, "Total Wales Trips") -> Total Wales Trips | C9: =HYPERLINK("#'"&Hyperlink!B$2&"'!"&Hyperlink!$B10, "Wales Holidays") -> Wales Holidays | D9: =HYPERLINK("#'"&Hyperlink!C$2&"'!"&Hyperlink!$C10, "Wales Visit Friends or Relatives") -> Wales Visit Friends or Relatives | E9: =HYPERLINK("#'"&Hyperlink!D$2&"'!"&Hyperlink!$D10, "Wales Business") -> Wales Business | F9: =HYPERLINK("#'"&Hyperlink!E$2&"'!"&Hyperlink!$E10, "Wales Miscellaneous") -> Wales Miscellaneous | H9: A64 | I9: A47 | J9: A49 | K9: A50 | L9: A50
A10: Accommodation used | B10: =HYPERLINK("#'"&Hyperlink!A$2&"'!"&Hyperlink!$A11, "Total Wales Trips") -> Total Wales Trips | C10: =HYPERLINK("#'"&Hyperlink!B$2&"'!"&Hyperlink!$B11, "Wales Holidays") -> Wales Holidays | D10: =HYPERLINK("#'"&Hyperlink!C$2&"'!"&Hyperlink!$C11, "Wales Visit Friends or Relatives") -> Wales Visit Friends or Relatives | E10: =HYPERLINK("#'"&Hyperlink!D$2&"'!"&Hyperlink!$D11, "Wales Business") -> Wales Business | F10: =HYPERLINK("#'"&Hyperlink!E$2&"'!"&Hyperlink!$E11, "Wales Miscellaneous") -> Wales Miscellaneous | H10: A79 | I10: A62 | J10: A64 | K10: A65 | L10: A65
A11: TRANSPORT USED FOR TRAVEL TO MAIN DESTINATION [m] | B11: =HYPERLINK("#'"&Hyperlink!A$2&"'!"&Hyperlink!$A12, "Total Wales Trips") -> Total Wales Trips | C11: =HYPERLINK("#'"&Hyperlink!B$2&"'!"&Hyperlink!$B12, "Wales Holidays") -> Wales Holidays | D11: =HYPERLINK("#'"&Hyperlink!C$2&"'!"&Hyperlink!$C12, "Wales Visit Friends or Relatives") -> Wales Visit Friends or Relatives | E11: =HYPERLINK("#'"&Hyperlink!D$2&"'!"&Hyperlink!$D12, "Wales Business") -> Wales Business | F11: =HYPERLINK("#'"&Hyperlink!E$2&"'!"&Hyperlink!$E12, "Wales Miscellaneous") -> Wales Miscellaneous | H11: A86 | I11: A69 | J11: A71 | K11: A72 | L11: A72
A12: Trip part of package | B12: =HYPERLINK("#'"&Hyperlink!A$2&"'!"&Hyperlink!$A13, "Total Wales Trips") -> Total Wales Trips | C12: =HYPERLINK("#'"&Hyperlink!B$2&"'!"&Hyperlink!$B13, "Wales Holidays") -> Wales Holidays | D12: =HYPERLINK("#'"&Hyperlink!C$2&"'!"&Hyperlink!$C13, "Wales Visit Friends or Relatives") -> Wales Visit Friends or Relatives | E12: =HYPERLINK("#'"&Hyperlink!D$2&"'!"&Hyperlink!$D13, "Wales Business") -> Wales Business | F12: =HYPERLINK("#'"&Hyperlink!E$2&"'!"&Hyperlink!$E13, "Wales Miscellaneous") -> Wales Miscellaneous | H12: A94 | I12: A77 | J12: A79 | K12: A80 | L12: A80
A13: Booking time period | B13: =HYPERLINK("#'"&Hyperlink!A$2&"'!"&Hyperlink!$A14, "Total Wales Trips") -> Total Wales Trips | C13: =HYPERLINK("#'"&Hyperlink!B$2&"'!"&Hyperlink!$B14, "Wales Holidays") -> Wales Holidays | D13: =HYPERLINK("#'"&Hyperlink!C$2&"'!"&Hyperlink!$C14, "Wales Visit Friends or Relatives") -> Wales Visit Friends or Relatives | E13: =HYPERLINK("#'"&Hyperlink!D$2&"'!"&Hyperlink!$D14, "Wales Business") -> Wales Business | F13: =HYPERLINK("#'"&Hyperlink!E$2&"'!"&Hyperlink!$E14, "Wales Miscellaneous") -> Wales Miscellaneous | H13: A98 | I13: A81 | J13: A83 | K13: A84 | L13: A84
A14: HOW BOOKED [m] | B14: =HYPERLINK("#'"&Hyperlink!A$2&"'!"&Hyperlink!$A15, "Total Wales Trips") -> Total Wales Trips | C14: =HYPERLINK("#'"&Hyperlink!B$2&"'!"&Hyperlink!$B15, "Wales Holidays") -> Wales Holidays | D14: =HYPERLINK("#'"&Hyperlink!C$2&"'!"&Hyperlink!$C15, "Wales Visit Friends or Relatives") -> Wales Visit Friends or Relatives | E14: =HYPERLINK("#'"&Hyperlink!D$2&"'!"&Hyperlink!$D15, "Wales Business") -> Wales Business | F14: =HYPERLINK("#'"&Hyperlink!E$2&"'!"&Hyperlink!$E15, "Wales Miscellaneous") -> Wales Miscellaneous | H14: A109 | I14: A92 | J14: A94 | K14: A95 | L14: A95
... A28: CARING RESPONSIBILITY [m] | B28: =HYPERLINK("#'"&Hyperlink!A$2&"'!"&Hyperlink!$A29, "Total Wales Trips") -> Total Wales Trips | C28: =HYPERLINK("#'"&Hyperlink!B$2&"'!"&Hyperlink!$B29, "Wales Holidays") -> Wales Holidays | D28: =HYPERLINK("#'"&Hyperlink!C$2&"'!"&Hyperlink!$C29, "Wales Visit Friends or Relatives") -> Wales Visit Friends or Relatives | E28: =HYPERLINK("#'"&Hyperlink!D$2&"'!"&Hyperlink!$D29, "Wales Business") -> Wales Business | F28: =HYPERLINK("#'"&Hyperlink!E$2&"'!"&Hyperlink!$E29, "Wales Miscellaneous") -> Wales Miscellaneous | H28: A197 | I28: A180 | J28: A182 | K28: A183 | L28: A183
A29: Car ownership | B29: =HYPERLINK("#'"&Hyperlink!A$2&"'!"&Hyperlink!$A30, "Total Wales Trips") -> Total Wales Trips | C29: =HYPERLINK("#'"&Hyperlink!B$2&"'!"&Hyperlink!$B30, "Wales Holidays") -> Wales Holidays | D29: =HYPERLINK("#'"&Hyperlink!C$2&"'!"&Hyperlink!$C30, "Wales Visit Friends or Relatives") -> Wales Visit Friends or Relatives | E29: =HYPERLINK("#'"&Hyperlink!D$2&"'!"&Hyperlink!$D30, "Wales Business") -> Wales Business | F29: =HYPERLINK("#'"&Hyperlink!E$2&"'!"&Hyperlink!$E30, "Wales Miscellaneous") -> Wales Miscellaneous

Sheet Total Trips
A1: Total Wales Overnight Trips by GB Residents
A2: This worksheet contains one table. Base sizes are provided and refer to the number of reported trips for each estimate. Some of the base sizes for these estimates are low. Where the base size is below 30, users are advised not to use this estimate.
A3: Where the base size is between 30 and 100 users are advised to treat this estimate as indicative only.
A4: Low base sizes are colour coded in the tables. Some shorthand sybmols are used in this table. For guidance on colour coding and definitions of shorthand symbols, please see the table guide.
A5: January to December 2022 | B5: Trips (millions) | C5: % Total Trips | D5: Nights (millions) | E5: % Total Nights | F5: Spend (£millions) | G5: % Total Spend | H5: Base Size
A6: TOTAL TRIPS ALL PURPOSES | B6: 8.652591 | C6: 1 | D6: 25.944535 | E6: 1 | F6: 1892.3608 | G6: 1 | H6: 1009
A7: HOLIDAY TRIPS | B7: 3.935656 | C7: 0.45485289 | D7: 14.615737 | E7: 0.56334548 | F7: 1069.0427 | G7: 0.56492541 | H7: 432
A8: Holidays 1-3 nights | B8: 2.3469175 | C8: 0.2712387 | D8: 5.0518868 | E8: 0.19471872 | F8: 548.27057 | G8: 0.28972835 | H8: 272
A9: Holidays 4+ nights | B9: 1.5887386 | C9: 0.1836142 | D9: 9.5638499 | E9: 0.36862675 | F9: 520.77215 | G9: 0.27519706 | H9: 160
A10: VISIT FRIENDS OR RELATIVES TRIPS | B10: 2.5530956 | C10: 0.29506718 | D10: 6.538535 | E10: 0.25201974 | F10: 367.08859 | G10: 0.19398446 | H10: 313
A11: Visit Friends or Relatives for holiday | B11: 0.76241092 | C11: 0.088113597 | D11: 2.0934199 | E11: 0.08068828 | F11: 161.21921 | G11: 0.085194752 | H11: 83
A12: Visit Friends or Relatives for event or celebration e.g. birthday, wedding, anniversary | B12: 0.97107588 | C12: 0.11222949 | D12: 2.3028132 | E12: 0.088759083 | F12: 132.70214 | G12: 0.070125176 | H12: 115
A13: Visit Friends or Relatives for other reason | B13: 0.8196088 | C13: 0.094724088 | D13: 2.1423019 | E13: 0.082572376 | F13: 73.167239 | G13: 0.038664528 | H13: 115
A14: Unspecified | B14: 0 | C14: 0 | D14: 0 | E14: 0 | F14: 0 | G14: 0 | H14: 0
A15: BUSINESS TRIPS | B15: 0.47158033 | C15: 0.054501632 | D15: 0.89495732 | E15: 0.034495022 | F15: 103.43791 | G15: 0.054660774 | H15: 53
A16: Net: MICE (Large meeting 21+ people, Incentive travel, Conferences, Exhibitions) | B16: 0.15162909 | C16: 0.017524126 | D16: 0.30690315 | E16: 0.011829202 | F16: 28.976282 | G16: 0.015312239 | H16: 16
A17: Net: Meetings of any size | B17: 0.24595531 | C17: 0.028425625 | D17: 0.49025746 | E17: 0.018896367 | F17: 57.719769 | G17: 0.03050146 | H17: 31
... A25: Unspecified | B25: 0 | C25: 0 | D25: 0 | E25: 0 | F25: 0 | G25: 0 | H25: 0
A26: QUARTER TRIP TAKEN
A27: January to March | B27: 1.7282642 | C27: 0.1997395 | D27: 4.4408507 | E27: 0.17116709 | F27: 291.0042 | G27: 0.15377839 | H27: 277
A28: April to June | B28: 2.0863896 | C28: 0.24112888 | D28: 6.2930051 | E28: 0.24255609 | F28: 397.60392 | G28: 0.21010999 | H28: 279
A29: July to September | B29: 2.7241309 | C29: 0.31483413 | D29: 9.4354333 | E29: 0.3636771 | F29: 612.04449 | G29: 0.32342906 | H29: 244
A30: October to December | B30: 2.1138063 | C30: 0.24429749 | D30: 5.7752463 | E30: 0.22259972 | F30: 591.70823 | G30: 0.31268256 | H30: 209
A31: REGION VISITED OVERNIGHT [m]
A32: Mid Wales | B32: 1.0425247 | C32: 0.120487 | D32: 2.7354248 | E32: 0.10543356 | F32: 195.20557 | G32: 0.10315452 | H32: 109
A33: North Wales | B33: 2.5104288 | C33: 0.29013608 | D33: 9.4786244 | E33: 0.36534184 | F33: 582.40566 | G33: 0.30776671 | H33: 267
A34: South East Wales | B34: 2.9905373 | C34: 0.34562333 | D34: 6.7745248 | E34: 0.26111567 | F34: 565.3754 | G34: 0.29876723 | H34: 375
A35: South West Wales | B35: 2.1710737 | C35: 0.25091602 | D35: 6.3628121 | E35: 0.24524672 | F35: 499.43872 | G35: 0.26392362 | H35: 259
A36: Other Wales | B36: 0.20966934 | C36: 0.024231972 | D36: 0.59314932 | E36: 0.022862206 | F36: 49.93549 | G36: 0.026387932 | H36: 21
A37: LOCATION TYPE OF MAIN PLACE VISITED OVERNIGHT
A38: Seaside or other coastal | B38: 1.7526789 | C38: 0.20256116 | D38: 6.3720781 | E38: 0.24560386 | F38: 399.14186 | G38: 0.2109227 | H38: 184
A39: City/ large town | B39: 2.4921681 | C39: 0.28802565 | D39: 5.8261075 | E39: 0.2245601 | F39: 592.61288 | G39: 0.31316061 | H39: 301
A40: Small town | B40: 2.0797705 | C40: 0.2403639 | D40: 6.3547441 | E40: 0.24493574 | F40: 431.59831 | G40: 0.228074 | H40: 254
A41: Countryside/ village | B41: 2.173004 | C41: 0.25113911 | D41: 6.6070099 | E41: 0.25465902 | F41: 427.84887 | G41: 0.22609265 | H41: 256
A42: Other/unspecified | B42: 0.15496955 | C42: 0.01791019 | D42: 0.78459585 | E42: 0.030241276 | F42: 41.158917 | G42: 0.021750037 | H42: 14
A43: REGION OF RESIDENCE
A44: Net: England | B44: 5.7510114 | C44: 0.66465772 | D44: 18.446862 | E44: 0.71101145 | F44: 1347.9292 | G44: 0.71230029 | H44: 461
A45: London | B45: 0.93789379 | C45: 0.10839456 | D45: 2.694527 | E45: 0.10385721 | F45: 252.74799 | G45: 0.13356226 | H45: 65
A46: Rest of England (not London) | B46: 4.8131176 | C46: 0.55626316 | D46: 15.752335 | E46: 0.60715424 | F46: 1095.1812 | G46: 0.57873804 | H46: 396
A47: Net: Scotland | B47: 0.31347625 | C47: 0.036229177 | D47: 0.90101747 | E47: 0.034728603 | F47: 84.064862 | G47: 0.044423273 | H47: 43
...

Sheet Holiday Trips
A1: Wales Overnight Holiday Trips by GB Residents
A2: This worksheet contains one table. Base sizes are provided and refer to the number of reported trips for each estimate. Some of the base sizes for these estimates are low. Where the base size is below 30, users are advised not to use this estimate.
A3: Where the base size is between 30 and 100 users are advised to treat this estimate as indicative only.
A4: Low base sizes are colour coded in the tables. Some shorthand sybmols are used in this table. For guidance on colour coding and definitions of shorthand symbols, please see the table guide.
A5: January to December 2022 | B5: Trips (millions) | C5: % Total Trips | D5: Nights (millions) | E5: % Total Nights | F5: Spend (£millions) | G5: % Total Spend | H5: Base Size
A6: TOTAL HOLIDAY TRIPS | B6: 3.935656 | C6: 1 | D6: 14.615737 | E6: 1 | F6: 1069.0427 | G6: 1 | H6: 432
A7: DETAILED PURPOSE OF HOLIDAY TRIPS
A8: Holidays 1-3 nights | B8: 2.3469175 | C8: 0.5963218 | D8: 5.0518868 | E8: 0.34564709 | F8: 548.27057 | G8: 0.51286124 | H8: 272
A9: Holidays 4+ nights | B9: 1.5887386 | C9: 0.4036782 | D9: 9.5638499 | E9: 0.65435291 | F9: 520.77215 | G9: 0.48713876 | H9: 160
A10: QUARTER TRIP TAKEN
A11: January to March | B11: 0.62499831 | C11: 0.1588041 | D11: 1.6077816 | E11: 0.11000346 | F11: 136.01734 | G11: 0.12723284 | H11: 100
A12: April to June | B12: 1.0291625 | C12: 0.26149708 | D12: 3.7022514 | E12: 0.25330584 | F12: 226.50396 | G12: 0.2118755 | H12: 125
A13: July to September | B13: 1.4239727 | C13: 0.36181329 | D13: 6.3173016 | E13: 0.43222602 | F13: 410.03786 | G13: 0.3835561 | H13: 128
A14: October to December | B14: 0.85752252 | C14: 0.21788553 | D14: 2.988402 | E14: 0.20446468 | F14: 296.48356 | G14: 0.27733556 | H14: 79
A15: REGION VISITED OVERNIGHT [m]
A16: Mid Wales | B16: 0.50394204 | C16: 0.12804524 | D16: 1.546817 | E16: 0.1058323 | F16: 124.64518 | G16: 0.11659514 | H16: 50
A17: North Wales | B17: 1.5385647 | C17: 0.39092966 | D17: 6.5153482 | E17: 0.44577625 | F17: 392.22645 | G17: 0.36689502 | H17: 154
A18: South East Wales | B18: 0.87079425 | C18: 0.22125771 | D18: 2.4342508 | E18: 0.16654999 | F18: 238.72434 | G18: 0.22330665 | H18: 104
A19: South West Wales | B19: 0.97068651 | C19: 0.24663906 | D19: 3.6175308 | E19: 0.2475093 | F19: 275.58313 | G19: 0.25778495 | H19: 120
A20: Other Wales | B20: 0.16087272 | C20: 0.040875707 | D20: 0.50178982 | E20: 0.034332161 | F20: 37.863619 | G20: 0.035418247 | H20: 15
A21: LOCATION TYPE OF MAIN PLACE VISITED OVERNIGHT
A22: Seaside or other coastal | B22: 1.2371609 | C22: 0.31434681 | D22: 4.8737255 | E22: 0.3334574 | F22: 323.76542 | G22: 0.30285546 | H22: 129
A23: City/ large town | B23: 0.67761183 | C23: 0.17217252 | D23: 1.7155174 | E23: 0.11737468 | F23: 223.59678 | G23: 0.20915608 | H23: 80
A24: Small town | B24: 0.7368394 | C24: 0.18722149 | D24: 2.8560692 | E24: 0.19541056 | F24: 206.93883 | G24: 0.19357396 | H24: 82
A25: Countryside/ village | B25: 1.1591882 | C25: 0.29453494 | D25: 4.4566071 | E25: 0.3049184 | F25: 277.51008 | G25: 0.25958746 | H25: 130
A26: Other/unspecified | B26: 0.12485568 | C26: 0.031724235 | D26: 0.71381737 | E26: 0.04883896 | F26: 37.231596 | G26: 0.034827043 | H26: 11
A27: REGION OF RESIDENCE
A28: Net: England | B28: 2.6403439 | C28: 0.67087771 | D28: 10.21512 | E28: 0.69891246 | F28: 732.58215 | G28: 0.68526929 | H28: 211
A29: London | B29: 0.2939732 | C29: 0.07469484 | D29: 1.0578082 | E29: 0.072374606 | F29: 82.178737 | G29: 0.076871331 | H29: 21
A30: Rest of England (not London) | B30: 2.3463707 | C30: 0.59618287 | D30: 9.1573122 | E30: 0.62653785 | F30: 650.40341 | G30: 0.60839796 | H30: 190
A31: Net: Scotland | B31: 0.12989463 | C31: 0.033004568 | D31: 0.49507147 | E31: 0.033872495 | F31: 55.001899 | G31: 0.051449673 | H31: 16
A32: Net: Wales | B32: 1.1654175 | C32: 0.29611772 | D32: 3.9055448 | E32: 0.26721505 | F32: 281.45867 | G32: 0.26328104 | H32: 205
A33: Mid Wales | B33: 0.086619023 | C33: 0.022008789 | D33: 0.2716667 | E33: 0.018587274 | F33: 20.469987 | G33: 0.01914796 | H33: 15
A34: North Wales | B34: 0.24080996 | C34: 0.061186739 | D34: 0.81008657 | E34: 0.055425641 | F34: 41.277085 | G34: 0.038611259 | H34: 44
A35: South East Wales | B35: 0.52983225 | C35: 0.13462362 | D35: 1.7251947 | E35: 0.11803679 | F35: 124.61941 | G35: 0.11657102 | H35: 87
A36: South West Wales | B36: 0.30554707 | C36: 0.077635614 | D36: 1.0933677 | E36: 0.074807569 | F36: 94.802136 | G36: 0.088679465 | H36: 58
A37: DURATION OF TRIP
A38: 1-3 nights | B38: 2.3469175 | C38: 0.5963218 | D38: 5.0518868 | E38: 0.34564709 | F38: 548.27057 | G38: 0.51286124 | H38: 272
A39: 4-7 nights | B39: 1.3174094 | C39: 0.33473692 | D39: 6.4909022 | E39: 0.44410366 | F39: 402.03385 | G39: 0.37606902 | H39: 135
A40: 8+ nights | B40: 0.27132915 | C40: 0.068941276 | D40: 3.0729477 | E40: 0.21024925 | F40: 118.7383 | G40: 0.11106974 | H40: 25
...

Sheet Visit Friends or Relatives
A1: Wales Overnight Visit Friends or Relatives Trips by GB Residents
A2: This worksheet contains one table. Base sizes are provided and refer to the number of reported trips for each estimate. Some of the base sizes for these estimates are low. Where the base size is below 30, users are advised not to use this estimate.
A3: Where the base size is between 30 and 100 users are advised to treat this estimate as indicative only.
A4: Low base sizes are colour coded in the tables. Some shorthand sybmols are used in this table. For guidance on colour coding and definitions of shorthand symbols, please see the table guide.
A5: January to December 2022 | B5: Trips (millions) | C5: % Total Trips | D5: Nights (millions) | E5: % Total Nights | F5: Spend (£millions) | G5: % Total Spend | H5: Base Size
A6: TOTAL VISIT FRIENDS OR RELATIVES TRIPS | B6: 2.5530956 | C6: 1 | D6: 6.538535 | E6: 1 | F6: 367.08859 | G6: 1 | H6: 313
A7: DETAILED PURPOSE OF VISIT FRIENDS OR RELATIVES TRIPS
A8: Visit Friends or Relatives for holiday | B8: 0.76241092 | C8: 0.29862216 | D8: 2.0934199 | E8: 0.32016651 | F8: 161.21921 | G8: 0.43918339 | H8: 83
A9: Visit Friends or Relatives for event or celebration e.g. birthday, wedding, anniversary | B9: 0.97107588 | C9: 0.38035234 | D9: 2.3028132 | E9: 0.352191 | F9: 132.70214 | G9: 0.36149894 | H9: 115
A10: Visit Friends or Relatives for other reason | B10: 0.8196088 | C10: 0.3210255 | D10: 2.1423019 | E10: 0.32764249 | F10: 73.167239 | G10: 0.19931766 | H10: 115
A11: Unspecified | B11: 0 | C11: 0 | D11: 0 | E11: 0 | F11: 0 | G11: 0 | H11: 0
A12: QUARTER TRIP TAKEN
A13: January to March | B13: 0.75340802 | C13: 0.29509589 | D13: 2.3391092 | E13: 0.35774209 | F13: 95.173189 | G13: 0.25926491 | H13: 116
A14: April to June | B14: 0.53554543 | C14: 0.20976317 | D14: 1.4507171 | E14: 0.22187188 | F14: 72.999661 | G14: 0.19886116 | H14: 76
A15: July to September | B15: 0.63391519 | C15: 0.24829278 | D15: 1.3503405 | E15: 0.20652035 | F15: 86.794491 | G15: 0.23644018 | H15: 54
A16: October to December | B16: 0.63022696 | C16: 0.24684816 | D16: 1.3983682 | E16: 0.21386568 | F16: 112.12125 | G16: 0.30543376 | H16: 67
A17: REGION VISITED OVERNIGHT [m]
A18: Mid Wales | B18: 0.38197361 | C18: 0.14961195 | D18: 0.68328696 | E18: 0.10450154 | F18: 49.674649 | G18: 0.1353206 | H18: 41
A19: North Wales | B19: 0.49385479 | C19: 0.19343372 | D19: 1.5906448 | E19: 0.24327235 | F19: 59.876203 | G19: 0.16311105 | H19: 63
A20: South East Wales | B20: 1.1091133 | C20: 0.43441904 | D20: 2.6147478 | E20: 0.3998981 | F20: 143.12082 | G20: 0.38988087 | H20: 137
A21: South West Wales | B21: 0.66348074 | C21: 0.25987305 | D21: 1.6196376 | E21: 0.2477065 | F21: 109.05024 | G21: 0.2970679 | H21: 77
A22: Other Wales | B22: 0.017334072 | C22: 0.0067894334 | D22: 0.030217911 | E22: 0.0046215109 | F22: 5.3666831 | G22: 0.014619586 | H22: 2
A23: LOCATION TYPE OF MAIN PLACE VISITED OVERNIGHT
A24: Seaside or other coastal | B24: 0.25856021 | C24: 0.10127322 | D24: 0.83509323 | E24: 0.12771871 | F24: 48.097465 | G24: 0.13102414 | H24: 30
A25: City/ large town | B25: 0.81500756 | C25: 0.31922328 | D25: 2.099105 | E25: 0.32103598 | F25: 138.98388 | G25: 0.37861129 | H25: 97
A26: Small town | B26: 0.86432937 | C26: 0.33854172 | D26: 2.1778493 | E26: 0.33307908 | F26: 110.11827 | G26: 0.29997738 | H26: 111
A27: Countryside/ village | B27: 0.5925439 | C27: 0.23208841 | D27: 1.378133 | E27: 0.21077092 | F27: 66.788187 | G27: 0.18194024 | H27: 73
A28: Other/unspecified | B28: 0.022654556 | C28: 0.0088733676 | D28: 0.048354484 | E28: 0.0073953085 | F28: 3.1007776 | G28: 0.0084469464 | H28: 2
A29: REGION OF RESIDENCE
A30: Net: England | B30: 1.6910468 | C30: 0.66235152 | D30: 4.6250616 | E30: 0.70735441 | F30: 276.8255 | G30: 0.75411089 | H30: 138
A31: London | B31: 0.28524257 | C31: 0.1117242 | D31: 0.72855767 | E31: 0.11142521 | F31: 73.520038 | G31: 0.20027874 | H31: 19
A32: Rest of England (not London) | B32: 1.4058042 | C32: 0.55062732 | D32: 3.8965039 | E32: 0.59592919 | F32: 203.30547 | G32: 0.55383216 | H32: 119
A33: Net: Scotland | B33: 0.1182748 | C33: 0.046326038 | D33: 0.28261911 | E33: 0.043223613 | F33: 16.729637 | G33: 0.045573842 | H33: 16
A34: Net: Wales | B34: 0.74377404 | C34: 0.29132244 | D34: 1.6308544 | E34: 0.24942198 | F34: 73.533448 | G34: 0.20031526 | H34: 159
A35: Mid Wales | B35: 0.05302045 | C35: 0.020767123 | D35: 0.12393721 | E35: 0.01895489 | F35: 7.363441 | G35: 0.02005903 | H35: 11
A36: North Wales | B36: 0.12589604 | C36: 0.049311133 | D36: 0.36090029 | E36: 0.055195894 | F36: 15.457776 | G36: 0.042109115 | H36: 27
A37: South East Wales | B37: 0.42475685 | C37: 0.16636935 | D37: 0.84745731 | E37: 0.12960966 | F37: 39.103902 | G37: 0.10652443 | H37: 90
A38: South West Wales | B38: 0.1401007 | C38: 0.054874837 | D38: 0.29855955 | E38: 0.045661536 | F38: 11.608329 | G38: 0.031622691 | H38: 31
A39: DURATION OF TRIP
A40: 1-3 nights | B40: 1.9495343 | C40: 0.7635963 | D40: 3.3740886 | E40: 0.51603127 | F40: 266.08041 | G40: 0.72483976 | H40: 251
...

Sheet Business Trips
A1: Wales Overnight Business Trips by GB Residents
A2: This worksheet contains one table. Base sizes are provided and refer to the number of reported trips for each estimate. Some of the base sizes for these estimates are low. Where the base size is below 30, users are advised not to use this estimate.
A3: Where the base size is between 30 and 100 users are advised to treat this estimate as indicative only.
A4: Low base sizes are colour coded in the tables. Some shorthand sybmols are used in this table. For guidance on colour coding and definitions of shorthand symbols, please see the table guide.
A5: January to December 2022 | B5: Trips (millions) | C5: % Total Trips | D5: Nights (millions) | E5: % Total Nights | F5: Spend (£millions) | G5: % Total Spend | H5: Base Size
A6: TOTAL BUSINESS TRIPS | B6: 0.47158033 | C6: 1 | D6: 0.89495732 | E6: 1 | F6: 103.43791 | G6: 1 | H6: 53
A7: DETAILED PURPOSE OF BUSINESS TRIPS
A8: Net: MICE (Large meeting 21+ people, Incentive travel, Conferences, Exhibitions) | B8: 0.15162909 | C8: 0.32153396 | D8: 0.30690315 | E8: 0.3429249 | F8: 28.976282 | G8: 0.28013214 | H8: 16
A9: Net: Meetings of any size | B9: 0.24595531 | C9: 0.52155549 | D9: 0.49025746 | E9: 0.54779983 | F9: 57.719769 | G9: 0.55801369 | H9: 31
A10: Net: Conference/exhibition/event or training/team building or travel for work or other reason | B10: 0.22562502 | C10: 0.47844451 | D10: 0.40469985 | E10: 0.45220017 | F10: 45.718139 | G10: 0.44198631 | H10: 22
A11: Unspecified | B11: 0 | C11: 0 | D11: 0 | E11: 0 | F11: 0 | G11: 0 | H11: 0
A12: QUARTER TRIP TAKEN
A13: January to March | B13: 0.081546443 | C13: 0.17292164 | D13: 0.13038564 | E13: 0.14568923 | F13: 10.274925 | G13: 0.099334232 | H13: 12
A14: April to June | B14: 0.11709802 | C14: 0.2483098 | D14: 0.1990348 | E14: 0.22239586 | F14: 19.924611 | G14: 0.19262388 | H14: 16
A15: July to September | B15: 0.10580039 | C15: 0.22435284 | D15: 0.22677111 | E15: 0.25338763 | F15: 8.8611985 | G15: 0.085666838 | H15: 10
A16: October to December | B16: 0.16713549 | C16: 0.35441572 | D16: 0.33876576 | E16: 0.37852729 | F16: 64.377173 | G16: 0.62237505 | H16: 15
A17: REGION VISITED OVERNIGHT [m]
A18: Mid Wales | B18: 0.060766181 | C18: 0.12885648 | D18: 0.082708723 | E18: 0.092416388 | F18: 8.0963203 | G18: 0.078272274 | H18: 7
A19: North Wales | B19: 0.091268353 | C19: 0.19353723 | D19: 0.21601588 | E19: 0.24137003 | F19: 35.796246 | G19: 0.34606506 | H19: 9
A20: South East Wales | B20: 0.2079453 | C20: 0.44095414 | D20: 0.33220079 | E20: 0.37119176 | F20: 38.146053 | G20: 0.36878214 | H20: 24
A21: South West Wales | B21: 0.13897021 | C21: 0.29469043 | D21: 0.26403193 | E21: 0.29502181 | F21: 21.399289 | G21: 0.20688053 | H21: 15
A22: Other Wales | B22: 0 | C22: 0 | D22: 0 | E22: 0 | F22: 0 | G22: 0 | H22: 0
A23: LOCATION TYPE OF MAIN PLACE VISITED OVERNIGHT
A24: Seaside or other coastal | B24: 0.048226991 | C24: 0.10226676 | D24: 0.066248356 | E24: 0.07402404 | F24: 4.1640422 | G24: 0.040256442 | H24: 6
A25: City/ large town | B25: 0.20686549 | C25: 0.43866437 | D25: 0.35073837 | E25: 0.39190514 | F25: 41.498911 | G25: 0.40119635 | H25: 22
A26: Small town | B26: 0.15351383 | C26: 0.32553059 | D26: 0.32639708 | E26: 0.36470687 | F26: 37.987629 | G26: 0.36725056 | H26: 18
A27: Countryside/ village | B27: 0.062974026 | C27: 0.13353828 | D27: 0.1515735 | E27: 0.16936395 | F27: 19.787325 | G27: 0.19129665 | H27: 7
A28: Other/unspecified | B28: 0 | C28: 0 | D28: 0 | E28: 0 | F28: 0 | G28: 0 | H28: 0
A29: REGION OF RESIDENCE
A30: Net: England | B30: 0.3167684 | C30: 0.67171672 | D30: 0.65563899 | E30: 0.73259247 | F30: 81.064832 | G30: 0.78370526 | H30: 26
A31: London | B31: 0.094199363 | C31: 0.19975253 | D31: 0.2028566 | E31: 0.22666623 | F31: 18.226975 | G31: 0.17621175 | H31: 6
A32: Rest of England (not London) | B32: 0.22256903 | C32: 0.47196419 | D32: 0.45278239 | E32: 0.50592624 | F32: 62.837858 | G32: 0.60749351 | H32: 20
A33: Net: Scotland | B33: 0.02349715 | C33: 0.0498264 | D33: 0.03132285 | E33: 0.034999267 | F33: 2.1687853 | G33: 0.020967026 | H33: 4
A34: Net: Wales | B34: 0.13131479 | C34: 0.27845688 | D34: 0.20799548 | E34: 0.23240827 | F34: 20.20429 | G34: 0.19532771 | H34: 23
A35: Mid Wales | B35: 0.010207065 | C35: 0.021644382 | D35: 0.020295018 | E35: 0.02267708 | F35: 1.6507444 | G35: 0.015958796 | H35: 3
A36: North Wales | B36: 0.020783014 | C36: 0.044070993 | D36: 0.03431323 | E36: 0.038340634 | F36: 4.6426743 | G36: 0.044883684 | H36: 3
A37: South East Wales | B37: 0.059661066 | C37: 0.12651305 | D37: 0.10410907 | E37: 0.11632853 | F37: 10.386433 | G37: 0.10041225 | H37: 11
A38: South West Wales | B38: 0.033931041 | C38: 0.071951773 | D38: 0.042531702 | E38: 0.047523721 | F38: 2.7708835 | G38: 0.026787892 | H38: 5
A39: DURATION OF TRIP
A40: 1-3 nights | B40: 0.37020899 | C40: 0.78503908 | D40: 0.63867592 | E40: 0.71363842 | F40: 85.694511 | G40: 0.8284633 | H40: 42
...

Sheet Miscellaneous Trips
A1: Wales Overnight Miscellaneous Trips by GB Residents
A2: This worksheet contains one table. Base sizes are provided and refer to the number of reported trips for each estimate. Some of the base sizes for these estimates are low. Where the base size is below 30, users are advised not to use this estimate.
A3: Where the base size is between 30 and 100 users are advised to treat this estimate as indicative only.
A4: Low base sizes are colour coded in the tables. Some shorthand sybmols are used in this table. For guidance on colour coding and definitions of shorthand symbols, please see the table guide.
A5: January to December 2022 | B5: Trips (millions) | C5: % Total Trips | D5: Nights (millions) | E5: % Total Nights | F5: Spend (£millions) | G5: % Total Spend | H5: Base Size
A6: TOTAL MISCELLANEOUS TRIPS | B6: 1.692259 | C6: 1 | D6: 3.8953064 | E6: 1 | F6: 352.79162 | G6: 1 | H6: 211
A7: DETAILED PURPOSE OF MISCELLANEOUS TRIPS
A8: Net: Overnight stay in UK as part of overseas trips (e.g. staying at an airport hotel prior to flying abroad) | B8: 0.44858961 | C8: 0.2650833 | D8: 0.74592046 | E8: 0.19149211 | F8: 78.446486 | G8: 0.22235927 | H8: 44
A9: Net: Trip taken in the UK for personal event/celebration, public event, educational, medical, religious or other reason | B9: 1.2436694 | C9: 0.7349167 | D9: 3.149386 | E9: 0.80850789 | F9: 274.34514 | G9: 0.77764073 | H9: 167
A10: Personal event or celebration e.g., birthday, wedding, anniversary | B10: 0.5260202 | C10: 0.31083906 | D10: 1.4398749 | E10: 0.36964354 | F10: 113.54632 | G10: 0.32185095 | H10: 74
A11: Public event e.g. concert, festival, sporting event | B11: 0.29329133 | C11: 0.1733135 | D11: 0.45468284 | E11: 0.11672582 | F11: 65.939394 | G11: 0.18690748 | H11: 40
A12: Unspecified | B12: 0 | C12: 0 | D12: 0 | E12: 0 | F12: 0 | G12: 0 | H12: 0
A13: QUARTER TRIP TAKEN
A14: January to March | B14: 0.26831144 | C14: 0.15855223 | D14: 0.3635742 | E14: 0.093336484 | F14: 49.538741 | G14: 0.14041927 | H14: 49
A15: April to June | B15: 0.40458358 | C15: 0.23907899 | D15: 0.9410018 | E15: 0.24157324 | F15: 78.175692 | G15: 0.22159169 | H15: 62
A16: July to September | B16: 0.5604427 | C16: 0.33118021 | D16: 1.5410201 | E16: 0.39560946 | F16: 106.35094 | G16: 0.30145541 | H16: 52
A17: October to December | B17: 0.45892131 | C17: 0.27118857 | D17: 1.0497104 | E17: 0.26948082 | F17: 118.72625 | G17: 0.33653363 | H17: 48
A18: REGION VISITED OVERNIGHT [m]
A19: Mid Wales | B19: 0.095842907 | C19: 0.056636074 | D19: 0.42261209 | E19: 0.10849264 | F19: 12.789421 | G19: 0.036252055 | H19: 11
A20: North Wales | B20: 0.38674096 | C20: 0.22853532 | D20: 1.1566155 | E20: 0.29692543 | F20: 94.506765 | G20: 0.26788268 | H20: 41
A21: South East Wales | B21: 0.80268444 | C21: 0.47432717 | D21: 1.3933254 | E21: 0.3576934 | F21: 145.38418 | G21: 0.41209648 | H21: 110
A22: South West Wales | B22: 0.39793626 | C22: 0.23515091 | D22: 0.86161181 | E22: 0.22119231 | F22: 93.406063 | G22: 0.2647627 | H22: 47
A23: Other Wales | B23: 0.031462542 | C23: 0.018592037 | D23: 0.061141592 | E23: 0.015696221 | F23: 6.7051879 | G23: 0.019006086 | H23: 4
A24: LOCATION TYPE OF MAIN PLACE VISITED OVERNIGHT
A25: Seaside or other coastal | B25: 0.20873074 | C25: 0.12334444 | D25: 0.59701101 | E25: 0.1532642 | F25: 23.114929 | G25: 0.065520063 | H25: 19
A26: City/ large town | B26: 0.79268323 | C26: 0.4684172 | D26: 1.6607466 | E26: 0.42634556 | F26: 188.5333 | G26: 0.53440413 | H26: 102
A27: Small town | B27: 0.3250879 | C27: 0.19210292 | D27: 0.99442852 | E27: 0.25528891 | F27: 76.553574 | G27: 0.21699374 | H27: 43
A28: Countryside/ village | B28: 0.35829785 | C28: 0.21172755 | D28: 0.62069628 | E28: 0.15934466 | F28: 63.763277 | G28: 0.1807392 | H28: 46
A29: Other/unspecified | B29: 0.007459313 | C29: 0.0044079026 | D29: 0.022423994 | E29: 0.0057566701 | F29: 0.82654341 | G29: 0.0023428658 | H29: 1
A30: REGION OF RESIDENCE
A31: Net: England | B31: 1.1028524 | C31: 0.65170422 | D31: 2.9510407 | E31: 0.75758885 | F31: 257.4567 | G31: 0.72976988 | H31: 86
A32: London | B32: 0.26447866 | C32: 0.15628734 | D32: 0.70530454 | E32: 0.18106523 | F32: 78.822239 | G32: 0.22342435 | H32: 19
A33: Rest of England (not London) | B33: 0.83837369 | C33: 0.49541688 | D33: 2.2457362 | E33: 0.57652362 | F33: 178.63446 | G33: 0.50634553 | H33: 67
A34: Net: Scotland | B34: 0.041809668 | C34: 0.024706423 | D34: 0.092004051 | E34: 0.023619208 | F34: 10.164541 | G34: 0.028811741 | H34: 7
A35: Net: Wales | B35: 0.54759701 | C35: 0.32358936 | D35: 0.85226167 | E35: 0.21879195 | F35: 85.170383 | G35: 0.24141838 | H35: 118
A36: Mid Wales | B36: 0.025415323 | C36: 0.015018577 | D36: 0.06913903 | E36: 0.017749317 | F36: 4.4869098 | G36: 0.0127183 | H36: 5
A37: North Wales | B37: 0.098933173 | C37: 0.058462193 | D37: 0.16406411 | E37: 0.042118409 | F37: 9.3783914 | G37: 0.026583373 | H37: 21
A38: South East Wales | B38: 0.29720414 | C38: 0.17562568 | D38: 0.4588864 | E38: 0.11780496 | F38: 44.201804 | G38: 0.12529153 | H38: 64
A39: South West Wales | B39: 0.11931177 | C39: 0.070504438 | D39: 0.15342567 | E39: 0.039387318 | F39: 25.021207 | G39: 0.070923472 | H39: 27
A40: DURATION OF TRIP
...

Sheet Hyperlink
A2: Total trips | B2: Holiday Trips | C2: Visit Friends or Relatives | D2: Business Trips | E2: Miscellaneous Trips
A4: A6 | B4: A6 | C4: A6 | D4: A6 | E4: A6 | F4: TOTAL TRIPS
A5: A26 | B5: A10 | C5: A12 | D5: A12 | E5: A13 | F5: QUARTER TRIP TAKEN
A6: A31 | B6: A15 | C6: A17 | D6: A17 | E6: A18 | F6: REGION VISITED OVERNIGHT [m]
A7: A37 | B7: A21 | C7: A23 | D7: A23 | E7: A24 | F7: LOCATION TYPE OF MAIN PLACE VISITED OVERNIGHT
A8: A43 | B8: A27 | C8: A29 | D8: A29 | E8: A30 | F8: REGION OF RESIDENCE
A9: A53 | B9: A37 | C9: A39 | D9: A39 | E9: A40 | F9: DURATION OF TRIP
A10: A58 | B10: A42 | C10: A44 | D10: A44 | E10: A45 | F10: ACTIVITIES UNDERTAKEN ON TRIP [m]
A11: A71 | B11: A55 | C11: A56 | D11: A57 | E11: A58 | F11: ACCOMMODATION USED
A12: A78 | B12: A62 | C12: A63 | D12: A64 | E12: A65 | F12: TRANSPORT USED FOR TRAVEL TO MAIN DESTINATION [m]
A13: A85 | B13: A69 | C13: A70 | D13: A71 | E13: A72 | F13: TRIP PART OF PACKAGE
A14: A89 | B14: A73 | C14: A74 | D14: A75 | E14: A76 | F14: BOOKING TIME PERIOD
A15: A99 | B15: A83 | C15: A84 | D15: A85 | E15: A86 | F15: HOW BOOKED [m]
... A30: A195 | B30: A179 | C30: A180 | D30: A181 | E30: A182 | F30: CAR OWNERSHIP

Sheet Input Sheet
A1: BE
A2: TB | B2: Table OTVOLWAL
A3: VT | B3: Wales Volume x Visit Type
A4: BT | B4: Base: All Wales trips where EOT_1=1 and the trip is in the period being reported on
A5: CH | C5: 2022
A6: CL | C6: All Holidays | D6: Pure Holidays | E6: Visit Friends and Relatives | F6: Business | G6: Miscellaneous
A7: RU | B7: Unweighted Total | C7: 1009 | D7: 432 | E7: 313 | F7: 53 | G7: 211
A8: BL
A9: RT | B9: Total WAL | C9: 8652591 | D9: 3935656 | E9: 2553095.6 | F9: 471580.33 | G9: 1692259
A10: RH | B10: All Holiday Trips
A11: BL
A12: RW | B12: Pure Holidays | C12: 3935656 | D12: 3935656 | E12: 0 | F12: 0 | G12: 0
A13: RW | B13: Holidays 1 - 3 nights | C13: 2346917.5 | D13: 2346917.5 | E13: 0 | F13: 0 | G13: 0
A14: RW | B14: Holidays 4+ nights | C14: 1588738.6 | D14: 1588738.6 | E14: 0 | F14: 0 | G14: 0
A15: RW | B15: All VFR Trips | C15: 2553095.6 | D15: 0 | E15: 2553095.6 | F15: 0 | G15: 0
A16: RW | B16: VFR Holiday | C16: 762410.92 | D16: 0 | E16: 762410.92 | F16: 0 | G16: 0
A17: RW | B17: VFR Special Event | C17: 971075.88 | D17: 0 | E17: 971075.88 | F17: 0 | G17: 0
A18: RW | B18: VFR Other | C18: 819608.8 | D18: 0 | E18: 819608.8 | F18: 0 | G18: 0
A19: RW | B19: Unspecified | C19: 0 | D19: 0 | E19: 0 | F19: 0 | G19: 0
A20: RW | B20: ALL BUSINESS TRIPS | C20: 471580.33 | D20: 0 | E20: 0 | F20: 471580.33 | G20: 0
A21: RW | B21: Net: MICE | C21: 151629.09 | D21: 0 | E21: 0 | F21: 151629.09 | G21: 0
A22: RW | B22: Net: Meetings of any Size | C22: 245955.31 | D22: 0 | E22: 0 | F22: 245955.31 | G22: 0
A23: RW | B23: Net: Other Business | C23: 94164.208 | D23: 0 | E23: 0 | F23: 94164.208 | G23: 0
... A51: RW | B51: Net: Conference/ Exhibition/ Educational/Medical/Pilgrimage | C51: 190199.71 | D51: 0 | E51: 0 | F51: 0 | G51: 190199.71
A52: RH | B52: MONTH TRIP TAKEN
A53: BL
A54: RW | B54: January | C54: 638274.7 | D54: 136209.11 | E54: 344937.97 | F54: 60359.309 | G54: 96768.315
A55: RW | B55: February | C55: 478559.19 | D55: 191944.75 | E55: 177801.73 | F55: 15053.151 | G55: 93759.562
A56: RW | B56: March | C56: 611430.32 | D56: 296844.46 | E56: 230668.32 | F56: 6133.9834 | G56: 77783.566
A57: RW | B57: April | C57: 575756.08 | D57: 273010.98 | E57: 170277.62 | F57: 47968.599 | G57: 84498.886
A58: RW | B58: May | C58: 800894.94 | D58: 446328.38 | E58: 158970.08 | F58: 18719.319 | G58: 176877.17
A59: RW | B59: June | C59: 709738.55 | D59: 309823.19 | E59: 206297.73 | F59: 50410.099 | G59: 143207.53
A60: RW | B60: July | C60: 991364.82 | D60: 500029.7 | E60: 247880.46 | F60: 25675.256 | G60: 217779.41
A61: RW | B61: August | C61: 892575.68 | D61: 539138.79 | E61: 200987.09 | F61: 25897.982 | G61: 126551.82
A62: RW | B62: September | C62: 840190.44 | D62: 384804.17 | E62: 185047.64 | F62: 54227.152 | G62: 216111.47
A63: RW | B63: October | C63: 918661.22 | D63: 462499.26 | E63: 174058.09 | F63: 77899.849 | G63: 204204.02
A64: RW | B64: November | C64: 517109.78 | D64: 242045.61 | E64: 107216.61 | F64: 53838.973 | G64: 114008.58
A65: RW | B65: December | C65: 678035.28 | D65: 152977.65 | E65: 348952.26 | F65: 35396.664 | G65: 140708.71
A66: RH | B66: QUARTER TRIP TAKEN
A67: BL
...
