Workbook
Name CNRRounded: TableA1Hide!$B$105:$H$129
Name CNRRoundedHeader: TableA1Hide!$A$101
Name ContentsHead: Cynhwysion!$A$1
Name CRERounded: TableA1Hide!$B$39:$H$63
Name CRERoundedHeader: TableA1Hide!$A$35
Name CRHRounded: TableA1Hide!$B$72:$H$96
Name CRHRoundedHeader: TableA1Hide!$A$68
Name CTORounded: TableA1Hide!$B$6:$H$30
Name CTORoundedHeader: TableA1Hide!$A$2
Name DNRRounded: TableA2Hide!$B$109:$H$133
Name DNRRoundedHeader: TableA2Hide!$A$105
Name DRERounded: TableA2Hide!$B$41:$H$65
Name DRERoundedHeader: TableA2Hide!$A$37
Name DRHRounded: TableA2Hide!$B$74:$H$98
Name DRHRoundedHeader: TableA2Hide!$A$70
Name DTORounded: TableA2Hide!$B$6:$H$30
Name DTORoundedHeader: TableA2Hide!$A$2
Name EndRP: TableA1Hide!$S$2
Name fig2_1: SiartData!$A$3
Name Fig2_5: SiartData!#REF!
Name Fig2_6: SiartData!#REF!
Name Fig2_7: SiartData!#REF!
Name Fig3_1: SiartData!#REF!
Name Fig3_2: SiartData!#REF!
Name Fig3_3: SiartData!#REF!
Name Fig4_3: SiartData!#REF!
Name Fig4_4: SiartData!#REF!
Name Fig5_1: SiartData!#REF!
Name Fig5_2: SiartData!#REF!
Name Fig7_1: SiartData!#REF!
Name FigA1: SiartData!#REF!
Name Table1: Tabl1!$A$2
Name Table1PreRelease: Tabl1!#REF!
Name Table2: Tabl2!$A$2
Name Table3: Tabl3!$A$2
Name Table4: Tabl4!$A$2
Name Table5: Tabl5!$A$2
Name Table5a: Tabl5!$A$26
Name Table5Quarter: Tabl5!$B$6:$B$15
Name Table6: Tabl6!$A$2
Name Table6a: Tabl6a!$B$2
Name Table7: Tabl7!$A$2
Name TableA1DeleteColumns: TablA1!$K:$Q
Name TableA1DeleteColumns: TableA1Hide!$K:$Q
Name TableA1FormulasHeader: TablA1!$A$4:$H$5
Name TableA1FormulasLabelControl: TablA1!$S$3
Name TableA1FormulasLabels: TableA1Hide!$V$4:$V$7
Name TableA1FormulasMonths: TablA1!$B$6:$H$30
Name TableA2DeleteColumns: TablA2!$K:$Q
Name TableA2DeleteColumns: TableA2Hide!$K:$Q
Name TableA2FormulasFootnotes: TablA2!$B$32:$H$34
Name TableA2FormulasHeader: TablA2!$A$4:$H$5
Name TableA2FormulasLabelControl: TablA2!$S$9
Name TableA2FormulasLabels: TableA2Hide!$V$10:$V$13
Name TableA2FormulasMonths: TablA2!$E$16:$E$21
Name TableCNR: TableA1Hide!$B$105:$H$129
Name TableCRE: TableA1Hide!$B$39:$H$63
Name TableCRH: TableA1Hide!$B$72:$H$96
Name TableCTO: TablA1!$B$6:$H$25
Name TableCTO: TableA1Hide!$B$6:$H$30

Sheet Cynhwysion
A1: Ystadegau’r Dreth Trafodiadau Tir: Ebrill 2020
A3: Ar gyfer bob tablau a siartau: Mae ffurflenni treth a diwygiadau i ffurflenni treth a ddaeth i law Awdurdod Cyllid Cymru hyd at 18.05.2020 (ac yn cynnwys y dyddiad hwn) yn cynnwys yn yr ystadegau hyn.
A4: Tabl 5: Mae ffurflenni treth a diwygiadau i ffurflenni treth a ddaeth i law Awdurdod Cyllid Cymru hyd at 20.04.20 (ac yn cynnwys y dyddiad hwn) yn cynnwys yn yr ystadegau hyn. Caiff y tabl hyn ei diweddaru bob chwarter.
A6: Mae'r gwerthoedd am y cyfnod cyfredol yn rhai dros dro, a byddant yn cael eu diwygio mewn cyhoeddiadau yn y dyfodol. Bydd unrhyw newid a wneir yn ganlyniad i ffurflenni ychwanegol nad ydynt wedi eu derbyn eto, ac ad-daliadau sy’n berthnasol i rai trafodiadau preswyl cyfraddau uwch. Yn y cyhoeddiad hwn, mae gwerthoedd ar gyfer cyfnodau cynharach yn cael eu diwygio am yr un rhesymau.
A8: I gael gwybodaeth am y dulliau sy’n cael eu defnyddio, diwygiadau a sut mae dehongli’r ystadegau hyn, darllenwch ein datganiadau ystadegol ar wefan ACC.
A9: https://gov.wales/land-transaction-tax-statistics
A11: Ffynhonnell: Ffurflenni Treth Trafodiadau Tir i Awdurdod Cyllid Cymru
A12: Dyddiad cyhoeddi: 22.05.2020
A13: Cysylltwch â ni: data@acc.llyw.cymru
A15: Mae’r holl gynnwys ar gael dan y Drwydded Llywodraeth Agored, fersiwn 3.0, oni nodir yn wahanol.
A17: Cynhwysion
A19: Tablau data (cael eu diweddaru'n fisol)
A21: Tabl 1 | B21: Nifer y trafodiadau hysbysadwy a adroddwyd, y dreth sy’n ddyledus ar y trafodiadau hynny a’r gwerth a briodolwyd i'r eiddo sy’n agored i'r dreth, yn ôl dyddiad dod i rym
A22: Tabl 2 | B22: Nifer a gwerth yr eiddo a drethwyd, yn ôl math o drafodiad a dyddiad dod i rym
A23: Tabl 3 | B23: Nifer y trafodiadau preswyl, y dreth sy’n ddyledus ar yr eiddo hynny a gwerth yr eiddo a drethwyd, yn ôl band treth breswyl a dyddiad dod i rym
A24: Tabl 4 | B24: Nifer y trafodiadau amrheswyl, y dreth sy’n ddyledus ar yr eiddo hynny a gwerth yr eiddo a drethwyd, yn ôl gwerth a dyddiad dod i rym
A25: Tabl 5 | B25: Nifer a gwerth unrhyw ryddhad treth a gyhoeddwyd erbyn y dyddiad dod i rym
A26: Tabl 6 | B26: Nifer a gwerth unrhyw ad-daliadau treth a gyhoeddwyd erbyn y dyddiad dod i rym
A27: Tabl 6a | B27: Nifer a gwerth ad-daliadau preswyl cyfradd uwch yn ôl cyfnod o amser (sail arian parod)
A28: Tabl 7 | B28: Treth Trafodiadau Tir a dalwyd i Awdurdod Cyllid Cymru
A31: Dadansoddiad o ddiwygiadau i ystadegau’r Dreth Trafodiadau Tir hyd at Apr-20
A33: Amcangyfrifon trafodiadau hysbysadwy a adroddwyd:
A34: Tabl A1 | B34: Pob trafodiadau, pob preswyl, preswyl cyfraddau uwch ac amhreswyl
A36: Amcangyfrifon treth yn ddyledus ar drafodiadau hysbysadwy a adroddwyd:
A37: Tabl A2 | B37: Pob trafodiadau, pob preswyl, refeniw ychwanegol o’r gyfradd uwch preswyl ac amhreswyl

Sheet SiartData
A1: Nôl i'r dudalen cynnwys
A3: Ffigur 2.1 Nifer wythnosol y trafodiadau y'i cyflwynwyd i Awdurdod Cyllid Cymru | J3: Ffigur | K3: 2.1 | R3: .
J4: Teitl | K4: Nifer wythnosol y trafodiadau y'i cyflwynwyd i Awdurdod Cyllid Cymru
J5: Teitl echelin X | K5: Wythnos yn dechrau
J6: Teitl echelin Y | K6: Nifer y trafodiadau y’i cyflwynwyd
J7: Label | K7: Preswyl | L7: Amhreswyl | M7: 2019 Cyfartaledd gwerth
J8: 43799 | K8: 1400 | L8: 130 | M8: 1190
J9: 43806 | K9: 1410 | L9: 110 | M9: 1190
J10: 43813 | K10: 2160 | L10: 210 | M10: 1190
J11: 43820 | K11: 360 | L11: 40 | M11: 1190
J12: 43827 | K12: 380 | L12: 70 | M12: 1190
J13: 43834 | K13: 780 | L13: 130 | M13: 1190
J14: 43841 | K14: 790 | L14: 120 | M14: 1190
J15: 43848 | K15: 810 | L15: 90 | M15: 1190
J16: 43855 | K16: 1000 | L16: 80 | M16: 1190
J17: 43862 | K17: 1040 | L17: 160 | M17: 1190
J18: 43869 | K18: 920 | L18: 120 | M18: 1190
J19: 43876 | K19: 980 | L19: 110 | M19: 1190
... J31: 43960 | K31: 370 | L31: 60 | M31: 1190
J32: ¹ Sylwch fod y siart hon yn cynnwys nifer fach o drafodiadau a ddaeth i rym ym mis Mai 2020.

Sheet Tabl1
A1: Nôl i'r dudalen cynnwys
A2: Tabl 1: Nifer y trafodiadau hysbysadwy a adroddwyd, y dreth sy’n ddyledus ar y trafodiadau hynny a’r gwerth a briodolwyd i'r eiddo sy’n agored i'r dreth, yn ôl dyddiad dod i rym
A4: Dyddiad dod i rym | D4: Trafodiadau (nifer) ¹ | I4: Treth yn ddyledus (£ miliwn) ² | N4: Gwerth yr eiddo a drethwyd (£ miliwn) ³
D5: Preswyl | E5: o'r rhain: | F5: Amhreswyl ⁴ | G5: Cyfanswm nifer y trafodiadau ⁵ | I5: Preswyl (r) | J5: o'r rhain: | K5: Amhreswyl ⁴ | L5: Cyfanswm treth yn ddyledus ⁵ (r) | N5: Preswyl | O5: o'r rhain: | P5: Amhreswyl ³ ⁴ | Q5: Cyfanswm gwerth yr eiddo a drethwyd ³ ⁵ | S5: Gwerth rhent ar gyfer lesoedd amhreswyl a roddwyd o’r newydd ³
E6: Cyfraddau uwch (r) | J6: Refeniw ychwanegol o’r gyfradd uwch ⁶ (r) | O6: Cyfraddau uwch (r)
A7: Gan flywddyn
B8: 2018-19 | D8: 55690 | E8: 12370 | F8: 6160 | G8: 61850 | I8: 149.5 | J8: 55 | K8: 73 | L8: 222.5 | N8: 9844 | O8: 1882 | P8: 2634 | Q8: 12477 | S8: 1290
B9: 2019-20 (r) | D9: 55170 | E9: 13650 | F9: 6100 | G9: 61260 | I9: 166.4 | J9: 64.4 | K9: 68.4 | L9: 234.8 | N9: 10148 | O9: 2256 | P9: 2103 | Q9: 12251 | S9: 1428
B10: 2020-21 hyd yn hyn (p) | D10: 1720 | E10: 460 | F10: 340 | G10: 2060 | I10: 4.9 | J10: 2.2 | K10: 5.1 | L10: 10 | N10: 282 | O10: 78 | P10: 126 | Q10: 408 | S10: 29
A11: Gan chwarter
B12: Ebrill - Mehefin 18 | D12: 13220 | E12: 2970 | F12: 1430 | G12: 14650 | I12: 31.8 | J12: 12.5 | K12: 15.4 | L12: 47.3 | N12: 2257 | O12: 426 | P12: 522 | Q12: 2779 | S12: 255
B13: Gorffenaf - Medi 18 | D13: 14850 | E13: 3150 | F13: 1490 | G13: 16340 | I13: 41.7 | J13: 14.3 | K13: 17.7 | L13: 59.3 | N13: 2689 | O13: 489 | P13: 692 | Q13: 3380 | S13: 388
B14: Hydref - Rhagfyr 18 | D14: 15760 | E14: 3340 | F14: 1690 | G14: 17450 | I14: 44.4 | J14: 15.7 | K14: 19.6 | L14: 64 | N14: 2848 | O14: 533 | P14: 659 | Q14: 3507 | S14: 319
B15: Ionawr - Mawrth 19 | D15: 11860 | E15: 2900 | F15: 1560 | G15: 13420 | I15: 31.5 | J15: 12.4 | K15: 20.3 | L15: 51.9 | N15: 2050 | O15: 434 | P15: 761 | Q15: 2811 | S15: 328
B16: Ebrill - Mehefin 19 | D16: 13240 | E16: 3130 | F16: 1520 | G16: 14760 | I16: 35.7 | J16: 14 | K16: 14.2 | L16: 49.9 | N16: 2393 | O16: 490 | P16: 381 | Q16: 2774 | S16: 374
B17: Gorffenaf - Medi 19 | D17: 14910 | E17: 3530 | F17: 1560 | G17: 16480 | I17: 45 | J17: 17 | K17: 17.1 | L17: 62 | N17: 2739 | O17: 587 | P17: 637 | Q17: 3375 | S17: 418
B18: Hydref - Rhagfyr 19 | D18: 15170 | E18: 3660 | F18: 1520 | G18: 16690 | I18: 47.4 | J18: 17.8 | K18: 20.2 | L18: 67.6 | N18: 2815 | O18: 619 | P18: 629 | Q18: 3444 | S18: 345
B19: Ionawr - Mawrth 20 (r) | D19: 11840 | E19: 3330 | F19: 1500 | G19: 13340 | I19: 38.4 | J19: 15.6 | K19: 16.9 | L19: 55.3 | N19: 2202 | O19: 560 | P19: 456 | Q19: 2658 | S19: 290
A20: Gan fis
B21: Ebrill 18 | D21: 3890 | E21: 920 | F21: 490 | G21: 4380 | I21: 8.9 | J21: 3.9 | K21: 6 | L21: 14.9 | N21: 638 | O21: 133 | P21: 217 | Q21: 855 | S21: 123
B22: Mai 18 | D22: 4350 | E22: 970 | F22: 460 | G22: 4810 | I22: 10 | J22: 4.1 | K22: 3.6 | L22: 13.6 | N22: 721 | O22: 140 | P22: 124 | Q22: 846 | S22: 66
B23: Mehefin 18 | D23: 4980 | E23: 1080 | F23: 480 | G23: 5460 | I23: 12.9 | J23: 4.5 | K23: 5.8 | L23: 18.8 | N23: 897 | O23: 153 | P23: 180 | Q23: 1078 | S23: 66
B24: Gorffenaf 18 | D24: 4860 | E24: 1090 | F24: 490 | G24: 5340 | I24: 13.2 | J24: 4.9 | K24: 8 | L24: 21.2 | N24: 863 | O24: 169 | P24: 332 | Q24: 1195 | S24: 98
B25: Awst 18 | D25: 5460 | E25: 1140 | F25: 530 | G25: 5990 | I25: 15.1 | J25: 5.1 | K25: 3.8 | L25: 18.9 | N25: 992 | O25: 172 | P25: 191 | Q25: 1182 | S25: 59
B26: Medi 18 | D26: 4540 | E26: 930 | F26: 470 | G26: 5010 | I26: 13.3 | J26: 4.3 | K26: 5.9 | L26: 19.2 | N26: 834 | O26: 149 | P26: 170 | Q26: 1003 | S26: 231
B27: Hydref 18 | D27: 5050 | E27: 1120 | F27: 600 | G27: 5650 | I27: 14.5 | J27: 5.2 | K27: 6.6 | L27: 21 | N27: 908 | O27: 175 | P27: 221 | Q27: 1129 | S27: 112
B28: Tachwedd 18 | D28: 5790 | E28: 1220 | F28: 550 | G28: 6340 | I28: 16.6 | J28: 5.8 | K28: 5.6 | L28: 22.2 | N28: 1051 | O28: 198 | P28: 177 | Q28: 1228 | S28: 113
B29: Rhagfyr 18 | D29: 4930 | E29: 1010 | F29: 530 | G29: 5460 | I29: 13.3 | J29: 4.7 | K29: 7.5 | L29: 20.8 | N29: 889 | O29: 160 | P29: 261 | Q29: 1150 | S29: 94
B30: Ionawr 19 | D30: 3590 | E30: 880 | F30: 440 | G30: 4030 | I30: 10.2 | J30: 3.9 | K30: 6.9 | L30: 17.1 | N30: 637 | O30: 135 | P30: 209 | Q30: 846 | S30: 50
B31: Chwefror 19 | D31: 3860 | E31: 930 | F31: 460 | G31: 4320 | I31: 9.8 | J31: 3.8 | K31: 5.4 | L31: 15.2 | N31: 658 | O31: 135 | P31: 161 | Q31: 819 | S31: 127
B32: Mawrth 19 | D32: 4410 | E32: 1090 | F32: 660 | G32: 5070 | I32: 11.4 | J32: 4.6 | K32: 8.1 | L32: 19.5 | N32: 754 | O32: 164 | P32: 391 | Q32: 1145 | S32: 151
... B45: Ebrill 20 (p) | D45: 1720 | E45: 460 | F45: 340 | G45: 2060 | I45: 4.9 | J45: 2.2 | K45: 5.1 | L45: 10 | N45: 282 | O45: 78 | P45: 126 | Q45: 408 | S45: 29
A47: Trafodiadau ychwanegol gyda manylion cyfyngedig (er mwyn gwarchod cyfrinachedd)
B48: 2018-19 | D48: .. | E48: .. | F48: .. | G48: .. | H48: .. | I48: .. | J48: .. | K48: .. | L48: 0 | N48: .. | O48: .. | P48: .. | Q48: .. | S48: ..
B49: 2019-20 | D49: .. | E49: .. | F49: .. | G49: .. | H49: .. | I49: .. | J49: .. | K49: .. | L49: 31 | N49: .. | O49: .. | P49: .. | Q49: .. | S49: ..
A52: 1 | B52: Mae'r gwerthoedd yn y tabl hwn wedi cael eu talgrynnu i'r 10 trafodiad agosaf.
A53: 2 | B53: Mae'r dreth yn y tabl hwn wedi cael ei thalgrynnu i'r £0.1 miliwn agosaf.
A54: 3 | B54: Mae'r gwerthoedd yn y tabl hwn wedi cael eu talgrynnu i'r £1 miliwn agosaf. Gall lesoedd amhreswyl sydd wedi’u rhoi o’r newydd fod â naill ai gwerth premiwm, gwerth rhent neu'r ddau (caiff y term 'premiwm' ei ddisgrifio'n fwy cywir fel 'cydnabyddiaeth heblaw am rent'). Y gwerth rhent yw gwerth net presennol (NPV) y rhenti. Yn y tabl hwn, dim ond yr elfen bremiwm sy'n cael ei chynnwys yn y golofn 'cyfanswm gwerth yr eiddo sydd wedi'i drethu'. Dangosir y gwerth rhent ar wahân yn y golofn i'r dde o'r cyfanswm. Ni ddylid ychwanegu'r gwerth rhent at gyfanswm gwerth yr eiddo sydd wedi’i drethu, gan eu bod yn gysyniadau gwahanol. Ceir mwy o wybodaeth am elfen rhent y trafodiadau hyn yn Nhabl 4.
A55: 4 | B55: Mae’r categori ‘eiddo amhreswyl’ yn cynnwys eiddo nad ydynt yn gyfan gwbl breswyl (hy y rheini sy’n cynnwys elfennau preswyl a masnachol).
A56: 5 | B56: Mae’r cyfanswm wedi’i gyfrifo ar sail y gwerthoedd heb eu talgrynnu.
A57: 6 | B57: Nodwch mai dim ond refeniw ychwanegol o drafodiadau cyfradd uwch sydd yn y golofn hon. Nid yw'r golofn hon yn cynnwys elfen prif gyfradd trafodiadau cyfradd uwch.
A58: (p) | B58: Mae'r gwerthoedd yn rhai dros dro a byddant yn cael eu diwygio mewn cyhoeddiad yn y dyfodol. Gweler y dudalen gynnwys am ragor o wybodaeth.
A59: (r) | B59: Mae'r gwerthoedd wedi cael eu diwygio. Gweler y dudalen gynnwys am ragor o wybodaeth.
A60: .. | B60: Ddim wedi’i gyhoeddi er mwyn gwarchod cyfrinachedd trafodiadau unigol.

Sheet Tabl2
A1: Nôl i'r dudalen cynnwys
A2: Tabl 2: Nifer a gwerth yr eiddo a drethwyd, yn ôl math o drafodiad a dyddiad dod i rym
A4: Dyddiad dod i rym | C4: Trawsgludo / trosglwyddo perchnogaeth ¹ | E4: Rhoi les newydd | F4: Aseinio les | G4: Cyfanswm ²
C5: Nifer | D5: Cyfanswm gwerth (£ miliwn) | E5: Nifer | F5: Nifer | G5: Nifer
A6: Gan flywddyn
B7: 2018-19 | C7: 56530 | D7: 11651 | E7: 2630 | F7: 2690 | G7: 61850
B8: 2019-20 (r) | C8: 55850 | D8: 11673 | E8: 2900 | F8: 2520 | G8: 61260
B9: 2020-21 hyd yn hyn (p) | C9: 1830 | D9: 382 | E9: 150 | F9: 80 | G9: 2060
A10: Gan chwarter
B11: Ebrill - Mehefin 18 | C11: 13300 | D11: 2605 | E11: 650 | F11: 690 | G11: 14650
B12: Gorffenaf - Medi 18 | C12: 15030 | D12: 3161 | E12: 610 | F12: 700 | G12: 16340
B13: Hydref - Rhagfyr 18 | C13: 16030 | D13: 3272 | E13: 710 | F13: 710 | G13: 17450
B14: Ionawr - Mawrth 19 | C14: 12170 | D14: 2613 | E14: 660 | F14: 590 | G14: 13420
B15: Ebrill - Mehefin 19 | C15: 13480 | D15: 2609 | E15: 680 | F15: 600 | G15: 14760
B16: Gorffenaf - Medi 19 | C16: 15050 | D16: 3228 | E16: 790 | F16: 630 | G16: 16480
B17: Hydref - Rhagfyr 19 | C17: 15360 | D17: 3309 | E17: 670 | F17: 660 | G17: 16690
B18: Ionawr - Mawrth 20 (r) | C18: 11960 | D18: 2527 | E18: 750 | F18: 630 | G18: 13340
A19: Gan fis
B20: Ebrill 18 | C20: 3960 | D20: 783 | E20: 220 | F20: 210 | G20: 4380
B21: Mai 18 | C21: 4380 | D21: 803 | E21: 200 | F21: 230 | G21: 4810
B22: Mehefin 18 | C22: 4970 | D22: 1018 | E22: 240 | F22: 260 | G22: 5460
B23: Gorffenaf 18 | C23: 4920 | D23: 1122 | E23: 190 | F23: 240 | G23: 5340
B24: Awst 18 | C24: 5510 | D24: 1124 | E24: 210 | F24: 270 | G24: 5990
B25: Medi 18 | C25: 4600 | D25: 916 | E25: 220 | F25: 190 | G25: 5010
B26: Hydref 18 | C26: 5180 | D26: 1073 | E26: 240 | F26: 230 | G26: 5650
B27: Tachwedd 18 | C27: 5840 | D27: 1166 | E27: 240 | F27: 250 | G27: 6340
B28: Rhagfyr 18 | C28: 5000 | D28: 1034 | E28: 230 | F28: 230 | G28: 5460
B29: Ionawr 19 | C29: 3660 | D29: 762 | E29: 180 | F29: 190 | G29: 4030
B30: Chwefror 19 | C30: 3920 | D30: 765 | E30: 200 | F30: 200 | G30: 4320
B31: Mawrth 19 | C31: 4590 | D31: 1086 | E31: 280 | F31: 210 | G31: 5070
... B44: Ebrill 20 (p) | C44: 1830 | D44: 382 | E44: 150 | F44: 80 | G44: 2060
A47: 1 | B47: Mae trawsgludo / trosglwyddo perchnogaeth yn cynnwys nifer bach o drafodiadau sydd yn y categori ‘Arall’.
A48: 2 | B48: Mae'r gwerthoedd yn y tabl hwn wedi cael eu talgrynnu i'r £1 miliwn agosaf. Mae’r cyfanswm wedi’i gyfrifo ar sail y gwerthoedd heb eu talgrynnu.
A49: (p) | B49: Mae'r gwerthoedd yn rhai dros dro a byddant yn cael eu diwygio mewn cyhoeddiad yn y dyfodol. Gweler y dudalen gynnwys am ragor o wybodaeth.
A50: (r) | B50: Mae'r gwerthoedd wedi cael eu diwygio. Gweler y dudalen gynnwys am ragor o wybodaeth.

Sheet Tabl3
A1: Nôl i'r dudalen cynnwys
A2: Tabl 3: Nifer y trafodiadau preswyl, y dreth sy’n ddyledus ar yr eiddo hynny a gwerth yr eiddo a drethwyd, yn ôl band treth breswyl a dyddiad dod i rym
A4: Dyddiad dod i rym | C4: Trafodiadau yn ôl band treth breswyl (nifer) ¹ | J4: Treth yn ddyledus yn ôl bandiau treth amhreswyl (£ miliwn) ² | Q4: Gwerth yr eiddo a drethwyd (£ miliwn) ³
C5: Hyd at a gan gynnwys £180,000 | D5: £180,001 - £250,000 | E5: £250,001 - 400,000 | F5: £400,001 -£750,000 | G5: £750,001 - £1.5m | H5: Dros £1.5m | I5: Cyfanswm ⁴ | J5: Hyd at a gan gynnwys £180,000 | K5: £180,001 - £250,000 | L5: £250,001 - 400,000 | M5: £400,001 -£750,000 | N5: £750,001 - £1.5m | O5: Dros £1.5m | P5: Cyfanswm ⁴ | Q5: Hyd at a gan gynnwys £180,000 | R5: £180,001 - £250,000 | S5: £250,001 - 400,000 | T5: £400,001 -£750,000 | U5: £750,001 - £1.5m | V5: Dros £1.5m | W5: Cyfanswm ⁴
A6: Gan flywddyn
B7: 2018-19 | C7: 35580 | D7: 10170 | E7: 7680 | F7: 2090 | G7: 160 | H7: 10 | I7: 55690 | J7: 27.9 | K7: 21.6 | L7: 51.7 | M7: 39.5 | N7: 7.6 | O7: 1.1 | P7: 149.5 | Q7: 4064 | R7: 2173 | S7: 2375 | T7: 1042 | U7: 144 | V7: 45 | W7: 9844
B8: 2019-20 (r) | C8: 33950 | D8: 10490 | E8: 8270 | F8: 2250 | G8: 190 | H8: 20 | I8: 55170 | J8: 28.7 | K8: 24 | L8: 57 | M8: 45.6 | N8: 9.9 | O8: 1.2 | P8: 166.4 | Q8: 3915 | R8: 2237 | S8: 2551 | T8: 1129 | U8: 170 | V8: 147 | W8: 10148
B9: 2020-21 hyd yn hyn (p) | C9: 1170 | D9: 310 | E9: 180 | F9: 50 | G9: 10 | H9: * | I9: 1720 | J9: 0.9 | K9: 0.7 | L9: 1.4 | M9: 1.3 | N9: 0.6 | O9: * | P9: 4.9 | Q9: 127 | R9: 66 | S9: 55 | T9: 27 | U9: 7 | V9: * | W9: 282
A10: Gan chwarter
B11: Ebrill - Mehefin 18 | C11: 8740 | D11: 2370 | E11: 1670 | F11: 420 | G11: 20 | H11: * | I11: 13220 | J11: 7.1 | K11: 4.9 | L11: 10.9 | M11: 7.6 | N11: 0.9 | O11: * | P11: 31.8 | Q11: 994 | R11: 504 | S11: 516 | T11: 208 | U11: 21 | V11: * | W11: 2257
B12: Gorffenaf - Medi 18 | C12: 9210 | D12: 2800 | E12: 2170 | F12: 630 | G12: 40 | H12: * | I12: 14850 | J12: 7 | K12: 6 | L12: 14.5 | M12: 12 | N12: 2.2 | O12: * | P12: 41.7 | Q12: 1059 | R12: 598 | S12: 671 | T12: 318 | U12: 39 | V12: * | W12: 2689
B13: Hydref - Rhagfyr 18 | C13: 9850 | D13: 2960 | E13: 2280 | F13: 620 | G13: 60 | H13: 10 | I13: 15760 | J13: 7.5 | K13: 6.1 | L13: 15.4 | M13: 12 | N13: 2.7 | O13: 0.7 | P13: 44.4 | Q13: 1142 | R13: 633 | S13: 703 | T13: 306 | U13: 50 | V13: 14 | W13: 2848
B14: Ionawr - Mawrth 19 | C14: 7780 | D14: 2050 | E14: 1570 | F14: 420 | G14: 40 | H14: * | I14: 11860 | J14: 6.4 | K14: 4.6 | L14: 10.8 | M14: 7.9 | N14: 1.9 | O14: * | P14: 31.5 | Q14: 869 | R14: 438 | S14: 485 | T14: 210 | U14: 34 | V14: * | W14: 2050
B15: Ebrill - Mehefin 19 | C15: 8350 | D15: 2440 | E15: 1950 | F15: 460 | G15: 30 | H15: 10 | I15: 13240 | J15: 6.9 | K15: 5.3 | L15: 13 | M15: 8.8 | N15: 1.7 | O15: * | P15: 35.7 | Q15: 958 | R15: 521 | S15: 599 | T15: 230 | U15: 32 | V15: 53 | W15: 2393
B16: Gorffenaf - Medi 19 | C16: 9160 | D16: 2900 | E16: 2190 | F16: 630 | G16: 50 | H16: * | I16: 14910 | J16: 7.6 | K16: 6.6 | L16: 15 | M16: 13 | N16: 2.5 | O16: * | P16: 45 | Q16: 1070 | R16: 616 | S16: 676 | T16: 317 | U16: 43 | V16: * | W16: 2739
B17: Hydref - Rhagfyr 19 | C17: 9070 | D17: 2980 | E17: 2430 | F17: 640 | G17: 50 | H17: * | I17: 15170 | J17: 7.5 | K17: 6.8 | L17: 16.8 | M17: 13 | N17: 2.9 | O17: * | P17: 47.4 | Q17: 1053 | R17: 637 | S17: 748 | T17: 321 | U17: 49 | V17: * | W17: 2815
B18: Ionawr - Mawrth 20 (r) | C18: 7380 | D18: 2170 | E18: 1710 | F18: 520 | G18: 50 | H18: 10 | I18: 11840 | J18: 6.7 | K18: 5.3 | L18: 12.2 | M18: 10.8 | N18: 2.9 | O18: 0.4 | P18: 38.4 | Q18: 833 | R18: 463 | S18: 528 | T18: 262 | U18: 46 | V18: 69 | W18: 2202
A19: Gan fis
B20: Ebrill 18 | C20: 2690 | D20: 660 | E20: 440 | F20: 100 | G20: * | H20: * | I20: 3890 | J20: 2.3 | K20: 1.4 | L20: 3 | M20: 1.9 | N20: * | O20: * | P20: 8.9 | Q20: 307 | R20: 139 | S20: 137 | T20: 51 | U20: * | V20: * | W20: 638
B21: Mai 18 | C21: 2970 | D21: 710 | E21: 540 | F21: 130 | G21: 10 | H21: * | I21: 4350 | J21: 2.3 | K21: 1.5 | L21: 3.5 | M21: 2.4 | N21: 0.3 | O21: * | P21: 10 | Q21: 335 | R21: 150 | S21: 165 | T21: 63 | U21: 8 | V21: * | W21: 721
B22: Mehefin 18 | C22: 3080 | D22: 1000 | E22: 690 | F22: 190 | G22: 10 | H22: * | I22: 4980 | J22: 2.5 | K22: 2 | L22: 4.4 | M22: 3.3 | N22: 0.4 | O22: * | P22: 12.9 | Q22: 353 | R22: 214 | S22: 214 | T22: 94 | U22: 9 | V22: * | W22: 897
B23: Gorffenaf 18 | C23: 3080 | D23: 880 | E23: 710 | F23: 180 | G23: 10 | H23: * | I23: 4860 | J23: 2.5 | K23: 1.9 | L23: 4.8 | M23: 3.4 | N23: 0.6 | O23: * | P23: 13.2 | Q23: 353 | R23: 187 | S23: 219 | T23: 91 | U23: 12 | V23: * | W23: 863
B24: Awst 18 | C24: 3380 | D24: 1040 | E24: 780 | F24: 250 | G24: 10 | H24: * | I24: 5460 | J24: 2.5 | K24: 2.2 | L24: 5.1 | M24: 4.8 | N24: 0.5 | O24: * | P24: 15.1 | Q24: 393 | R24: 221 | S24: 243 | T24: 124 | U24: 10 | V24: * | W24: 992
B25: Medi 18 | C25: 2750 | D25: 890 | E25: 680 | F25: 200 | G25: 20 | H25: * | I25: 4540 | J25: 2 | K25: 1.9 | L25: 4.5 | M25: 3.8 | N25: 1.1 | O25: * | P25: 13.3 | Q25: 314 | R25: 190 | S25: 210 | T25: 103 | U25: 18 | V25: * | W25: 834
B26: Hydref 18 | C26: 3180 | D26: 950 | E26: 700 | F26: 200 | G26: 20 | H26: * | I26: 5050 | J26: 2.5 | K26: 2.1 | L26: 4.8 | M26: 4 | N26: 0.8 | O26: * | P26: 14.5 | Q26: 366 | R26: 204 | S26: 216 | T26: 101 | U26: 15 | V26: * | W26: 908
B27: Tachwedd 18 | C27: 3640 | D27: 1040 | E27: 860 | F27: 220 | G27: 30 | H27: * | I27: 5790 | J27: 2.7 | K27: 2.1 | L27: 5.8 | M27: 4.4 | N27: 1.4 | O27: * | P27: 16.6 | Q27: 422 | R27: 222 | S27: 265 | T27: 111 | U27: 26 | V27: * | W27: 1051
B28: Rhagfyr 18 | C28: 3040 | D28: 970 | E28: 720 | F28: 200 | G28: 10 | H28: * | I28: 4930 | J28: 2.2 | K28: 1.9 | L28: 4.8 | M28: 3.5 | N28: 0.5 | O28: * | P28: 13.3 | Q28: 354 | R28: 207 | S28: 222 | T28: 94 | U28: 10 | V28: * | W28: 889
B29: Ionawr 19 | C29: 2350 | D29: 610 | E29: 470 | F29: 130 | G29: 20 | H29: * | I29: 3590 | J29: 2 | K29: 1.4 | L29: 3.2 | M29: 2.6 | N29: 1 | O29: * | P29: 10.2 | Q29: 264 | R29: 130 | S29: 146 | T29: 66 | U29: 17 | V29: * | W29: 637
B30: Chwefror 19 | C30: 2570 | D30: 660 | E30: 500 | F30: 130 | G30: 10 | H30: * | I30: 3860 | J30: 2.1 | K30: 1.5 | L30: 3.2 | M30: 2.5 | N30: 0.4 | O30: * | P30: 9.8 | Q30: 288 | R30: 142 | S30: 152 | T30: 67 | U30: 9 | V30: * | W30: 658
B31: Mawrth 19 | C31: 2870 | D31: 780 | E31: 600 | F31: 160 | G31: 10 | H31: * | I31: 4410 | J31: 2.3 | K31: 1.6 | L31: 4.3 | M31: 2.8 | N31: 0.4 | O31: * | P31: 11.4 | Q31: 317 | R31: 166 | S31: 187 | T31: 77 | U31: 7 | V31: * | W31: 754
B32: Ebrill 19 | C32: 2580 | D32: 720 | E32: 560 | F32: 150 | G32: 10 | H32: 10 | I32: 4020 | J32: 2.2 | K32: 1.5 | L32: 3.7 | M32: 2.8 | N32: 0.2 | O32: * | P32: 10.5 | Q32: 293 | R32: 151 | S32: 171 | T32: 75 | U32: 7 | V32: 51 | W32: 748
B33: Mai 19 | C33: 2950 | D33: 820 | E33: 640 | F33: 140 | G33: 20 | H33: * | I33: 4560 | J33: 2.5 | K33: 1.7 | L33: 4.3 | M33: 2.8 | N33: 0.9 | O33: * | P33: 12.1 | Q33: 336 | R33: 174 | S33: 197 | T33: 70 | U33: 15 | V33: * | W33: 794
B34: Mehefin 19 | C34: 2820 | D34: 910 | E34: 760 | F34: 170 | G34: 10 | H34: * | I34: 4660 | J34: 2.2 | K34: 2.1 | L34: 5 | M34: 3.2 | N34: 0.6 | O34: * | P34: 13.1 | Q34: 329 | R34: 195 | S34: 232 | T34: 85 | U34: 10 | V34: * | W34: 851
B35: Gorffenaf 19 | C35: 3100 | D35: 970 | E35: 720 | F35: 200 | G35: 10 | H35: * | I35: 5010 | J35: 2.6 | K35: 2.2 | L35: 5 | M35: 4.1 | N35: 0.5 | O35: * | P35: 14.4 | Q35: 360 | R35: 207 | S35: 223 | T35: 102 | U35: 10 | V35: * | W35: 917
B36: Awst 19 | C36: 3150 | D36: 1040 | E36: 810 | F36: 240 | G36: 20 | H36: * | I36: 5260 | J36: 2.6 | K36: 2.3 | L36: 5.6 | M36: 5.1 | N36: 1.1 | O36: * | P36: 17 | Q36: 373 | R36: 222 | S36: 251 | T36: 123 | U36: 18 | V36: * | W36: 989
B37: Medi 19 | C37: 2910 | D37: 880 | E37: 650 | F37: 180 | G37: 20 | H37: * | I37: 4640 | J37: 2.3 | K37: 2 | L37: 4.5 | M37: 3.8 | N37: 0.9 | O37: * | P37: 13.5 | Q37: 337 | R37: 186 | S37: 202 | T37: 92 | U37: 15 | V37: * | W37: 833
B38: Hydref 19 | C38: 3080 | D38: 970 | E38: 790 | F38: 210 | G38: 20 | H38: * | I38: 5060 | J38: 2.5 | K38: 2.3 | L38: 5.4 | M38: 4.2 | N38: 1.1 | O38: * | P38: 15.7 | Q38: 354 | R38: 206 | S38: 241 | T38: 104 | U38: 21 | V38: * | W38: 928
B39: Tachwedd 19 | C39: 3040 | D39: 1070 | E39: 860 | F39: 230 | G39: 20 | H39: * | I39: 5220 | J39: 2.5 | K39: 2.4 | L39: 6 | M39: 4.7 | N39: 1.1 | O39: * | P39: 16.8 | Q39: 354 | R39: 230 | S39: 265 | T39: 117 | U39: 18 | V39: * | W39: 985
B40: Rhagfyr 19 | C40: 2950 | D40: 940 | E40: 780 | F40: 200 | G40: 10 | H40: * | I40: 4890 | J40: 2.5 | K40: 2.1 | L40: 5.4 | M40: 4.2 | N40: 0.7 | O40: * | P40: 14.9 | Q40: 344 | R40: 201 | S40: 241 | T40: 100 | U40: 10 | V40: * | W40: 902
B41: Ionawr 20 (r) | C41: 2450 | D41: 680 | E41: 520 | F41: 170 | G41: 20 | H41: * | I41: 3840 | J41: 2.4 | K41: 1.7 | L41: 3.9 | M41: 3.5 | N41: 1 | O41: * | P41: 12.8 | Q41: 272 | R41: 145 | S41: 162 | T41: 85 | U41: 16 | V41: * | W41: 686
B42: Chwefror 20 (r) | C42: 2470 | D42: 740 | E42: 540 | F42: 180 | G42: 10 | H42: * | I42: 3930 | J42: 2.2 | K42: 1.9 | L42: 3.7 | M42: 3.8 | N42: 0.8 | O42: * | P42: 12.6 | Q42: 280 | R42: 157 | S42: 165 | T42: 89 | U42: 13 | V42: * | W42: 733
B43: Mawrth 20 (r) | C43: 2470 | D43: 750 | E43: 650 | F43: 170 | G43: 20 | H43: * | I43: 4070 | J43: 2.2 | K43: 1.7 | L43: 4.6 | M43: 3.5 | N43: 1 | O43: * | P43: 13 | Q43: 281 | R43: 161 | S43: 202 | T43: 88 | U43: 18 | V43: * | W43: 783
B44: Ebrill 20 (p) | C44: 1170 | D44: 310 | E44: 180 | F44: 50 | G44: 10 | H44: * | I44: 1720 | J44: 0.9 | K44: 0.7 | L44: 1.4 | M44: 1.3 | N44: 0.6 | O44: * | P44: 4.9 | Q44: 127 | R44: 66 | S44: 55 | T44: 27 | U44: 7 | V44: * | W44: 282
A47: 1 | B47: Mae'r gwerthoedd yn y tabl hwn wedi cael eu talgrynnu i'r 10 agosaf. Sylwch fod y tabl hwn yn cynnwys trafodiadau les preswyl.
A48: 2 | B48: Mae'r gwerthoedd yn y tabl hwn wedi cael eu talgrynnu i'r £0.1 miliwn agosaf. Sylwch fod y tabl hwn yn cynnwys y dreth sy'n ddyledus ar drafodiadau les preswyl.
A49: 3 | B49: Mae’r cyfanswm wedi’i gyfrifo ar sail y gwerthoedd heb eu talgrynnu.
A50: 4 | B50: Mae’r cyfanswm wedi’i gyfrifo ar sail y gwerthoedd heb eu talgrynnu.
A51: (p) | B51: Mae'r gwerthoedd yn rhai dros dro a byddant yn cael eu diwygio mewn cyhoeddiad yn y dyfodol. Gweler y dudalen gynnwys am ragor o wybodaeth.
A52: (r) | B52: Mae'r gwerthoedd wedi cael eu diwygio. Gweler y dudalen gynnwys am ragor o wybodaeth.
A53: * | B53: Yw gwerth sydd heb fod yn ddigon mawr i’w gyflwyno ac sydd wedi cael ei atal.

Sheet Tabl4
A1: Nôl i'r dudalen cynnwys
A2: Tabl 4: Nifer y trafodiadau amrheswyl, y dreth sy’n ddyledus ar yr eiddo hynny a gwerth yr eiddo a drethwyd, yn ôl gwerth a dyddiad dod i rym
A4: Dyddiad dod i rym | D4: Trafodiadau (nifer) | M4: Treth yn ddyledus (£ miliwn) | U4: Gwerth yr eiddo a drethwyd (£ miliwn)
D5: Gwerth nad yw’n werth rhent | I5: Gwerth rhent | M5: Gwerth nad yw’n werth rhent | U5: Gwerth nad yw’n werth rhent | AA5: Gwerth rhent ar gyfer lesoedd amhreswyl a roddwyd o’r newydd ⁵
D6: Hyd at a gan gynnwys £150,000 (r) | E6: £150,001 - £250,000 | F6: £250,001 - £1m | G6: Dros £1m | I6: Dim premiwm wedi ei dalu ² | J6: Premiwm wedi ei dalu ² ³ | K6: Cyfanswm ³ ⁴ | M6: Hyd at a gan gynnwys £150,000 | N6: £150,001 - £250,000 | O6: £250,001 - £1m | P6: Dros £1m | R6: Rental value | S6: Cyfanswm ⁴ | U6: Hyd at a gan gynnwys £150,000 | V6: £150,001 - £250,000 | W6: £250,001 - £1m | X6: Dros £1m | Y6: Cyfanswm ⁴ ⁵
A7: Gan flywddyn
B8: 2018-19 | D8: 2440 | E8: 710 | F8: 1150 | G8: 360 | I8: 1500 | J8: 180 | K8: 6160 | M8: 0.1 | N8: 0.4 | O8: 12.5 | P8: 49.5 | R8: 10.5 | S8: 73 | U8: 177 | V8: 141 | W8: 553 | X8: 1762 | Y8: 2634 | AA8: 1290
B9: 2019-20 (r) | D9: 2410 | E9: 700 | F9: 1130 | G9: 320 | I9: 1540 | J9: 170 | K9: 6100 | M9: 0.2 | N9: 0.4 | O9: 12.4 | P9: 43 | R9: 12.4 | S9: 68.4 | U9: 178 | V9: 139 | W9: 542 | X9: 1244 | Y9: 2103 | AA9: 1428
B10: 2020-21 hyd yn hyn (p) | D10: 190 | E10: 30 | F10: 40 | G10: 10 | I10: 60 | J10: * | K10: 340 | M10: * | N10: ~ | O10: 0.5 | P10: 4.4 | R10: 0.2 | S10: 5.1 | U10: 15 | V10: 7 | W10: 20 | X10: 85 | Y10: 126 | AA10: 29
A11: Gan chwarter
B12: Ebrill - Mehefin 18 | D12: 590 | E12: 170 | F12: 240 | G12: 80 | I12: 350 | J12: 50 | K12: 1430 | M12: ~ | N12: 0.1 | O12: 2.7 | P12: 10 | R12: 2.6 | S12: 15.4 | U12: 42 | V12: 34 | W12: 118 | X12: 327 | Y12: 522 | AA12: 255
B13: Gorffenaf - Medi 18 | D13: 600 | E13: 160 | F13: 280 | G13: 80 | I13: 370 | J13: 40 | K13: 1490 | M13: ~ | N13: 0.1 | O13: 3.1 | P13: 11.5 | R13: 3 | S13: 17.7 | U13: 44 | V13: 33 | W13: 129 | X13: 486 | Y13: 692 | AA13: 388
B14: Hydref - Rhagfyr 18 | D14: 660 | E14: 200 | F14: 340 | G14: 100 | I14: 390 | J14: 60 | K14: 1690 | M14: ~ | N14: 0.1 | O14: 3.7 | P14: 13.7 | R14: 2.1 | S14: 19.6 | U14: 49 | V14: 39 | W14: 161 | X14: 411 | Y14: 659 | AA14: 319
B15: Ionawr - Mawrth 19 | D15: 580 | E15: 180 | F15: 290 | G15: 110 | I15: 400 | J15: 30 | K15: 1560 | M15: ~ | N15: 0.1 | O15: 3 | P15: 14.4 | R15: 2.8 | S15: 20.3 | U15: 43 | V15: 35 | W15: 145 | X15: 538 | Y15: 761 | AA15: 328
B16: Ebrill - Mehefin 19 | D16: 650 | E16: 190 | F16: 260 | G16: 60 | I16: 350 | J16: 40 | K16: 1520 | M16: ~ | N16: 0.1 | O16: 2.8 | P16: 6.7 | R16: 4.6 | S16: 14.2 | U16: 46 | V16: 38 | W16: 121 | X16: 176 | Y16: 381 | AA16: 374
B17: Gorffenaf - Medi 19 | D17: 550 | E17: 170 | F17: 300 | G17: 100 | I17: 450 | J17: 30 | K17: 1560 | M17: ~ | N17: 0.1 | O17: 3.3 | P17: 11.6 | R17: 2 | S17: 17.1 | U17: 41 | V17: 34 | W17: 144 | X17: 419 | Y17: 637 | AA17: 418
B18: Hydref - Rhagfyr 19 | D18: 630 | E18: 160 | F18: 290 | G18: 100 | I18: 350 | J18: 30 | K18: 1520 | M18: ~ | N18: 0.1 | O18: 3.5 | P18: 13.7 | R18: 2.9 | S18: 20.2 | U18: 47 | V18: 31 | W18: 145 | X18: 406 | Y18: 629 | AA18: 345
B19: Ionawr - Mawrth 20 (r) | D19: 590 | E19: 180 | F19: 280 | G19: 60 | I19: 390 | J19: 70 | K19: 1500 | M19: * | N19: 0.1 | O19: 2.9 | P19: 11.1 | R19: 2.8 | S19: 16.9 | U19: 44 | V19: 36 | W19: 133 | X19: 243 | Y19: 456 | AA19: 290
A20: Gan fis
B21: Ebrill 18 | D21: 200 | E21: 60 | F21: 80 | G21: 30 | I21: 120 | J21: 10 | K21: 490 | M21: ~ | N21: ~ | O21: 1 | P21: 3.6 | R21: * | S21: 6 | U21: 15 | V21: 12 | W21: 42 | X21: 148 | Y21: 217 | AA21: 123
B22: Mai 18 | D22: 200 | E22: 50 | F22: 80 | G22: 20 | I22: 110 | J22: 20 | K22: 460 | M22: ~ | N22: ~ | O22: 0.8 | P22: 2.1 | R22: 0.6 | S22: 3.6 | U22: 14 | V22: 10 | W22: 36 | X22: 64 | Y22: 124 | AA22: 66
B23: Mehefin 18 | D23: 180 | E23: 60 | F23: 80 | G23: 40 | I23: 120 | J23: 10 | K23: 480 | M23: ~ | N23: ~ | O23: 0.9 | P23: 4.2 | R23: 0.7 | S23: 5.8 | U23: 13 | V23: 12 | W23: 40 | X23: 115 | Y23: 180 | AA23: 66
B24: Gorffenaf 18 | D24: 210 | E24: 60 | F24: 80 | G24: 30 | I24: 110 | J24: 20 | K24: 490 | M24: ~ | N24: ~ | O24: 1 | P24: 5.7 | R24: 1.3 | S24: 8 | U24: 15 | V24: 12 | W24: 39 | X24: 265 | Y24: 332 | AA24: 98
B25: Awst 18 | D25: 230 | E25: 50 | F25: 110 | G25: 30 | I25: 110 | J25: 10 | K25: 530 | M25: ~ | N25: ~ | O25: 1.3 | P25: 2.2 | R25: 0.2 | S25: 3.8 | U25: 16 | V25: 10 | W25: 53 | X25: 112 | Y25: 191 | AA25: 59
B26: Medi 18 | D26: 170 | E26: 50 | F26: 80 | G26: 20 | I26: 150 | J26: 10 | K26: 470 | M26: ~ | N26: ~ | O26: 0.8 | P26: 3.5 | R26: 1.5 | S26: 5.9 | U26: 13 | V26: 11 | W26: 37 | X26: 109 | Y26: 170 | AA26: 231
B27: Hydref 18 | D27: 250 | E27: 70 | F27: 120 | G27: 30 | I27: 140 | J27: 40 | K27: 600 | M27: ~ | N27: ~ | O27: 1.3 | P27: 4 | R27: 1.2 | S27: 6.6 | U27: 18 | V27: 14 | W27: 58 | X27: 131 | Y27: 221 | AA27: 112
B28: Tachwedd 18 | D28: 200 | E28: 70 | F28: 110 | G28: 30 | I28: 150 | J28: 10 | K28: 550 | M28: ~ | N28: ~ | O28: 1.2 | P28: 4.1 | R28: 0.2 | S28: 5.6 | U28: 16 | V28: 13 | W28: 52 | X28: 96 | Y28: 177 | AA28: 113
B29: Rhagfyr 18 | D29: 220 | E29: 60 | F29: 110 | G29: 40 | I29: 110 | J29: 20 | K29: 530 | M29: * | N29: ~ | O29: 1.1 | P29: 5.6 | R29: 0.6 | S29: 7.5 | U29: 14 | V29: 12 | W29: 51 | X29: 184 | Y29: 261 | AA29: 94
B30: Ionawr 19 | D30: 170 | E30: 50 | F30: 80 | G30: 30 | I30: 110 | J30: 10 | K30: 440 | M30: * | N30: ~ | O30: 0.9 | P30: 5.5 | R30: 0.4 | S30: 6.9 | U30: 13 | V30: 11 | W30: 39 | X30: 147 | Y30: 209 | AA30: 50
B31: Chwefror 19 | D31: 160 | E31: 60 | F31: 80 | G31: 30 | I31: 130 | J31: 10 | K31: 460 | M31: ~ | N31: ~ | O31: 0.8 | P31: 3.2 | R31: 1.4 | S31: 5.4 | U31: 12 | V31: 11 | W31: 39 | X31: 99 | Y31: 161 | AA31: 127
B32: Mawrth 19 | D32: 250 | E32: 70 | F32: 140 | G32: 50 | I32: 160 | J32: 10 | K32: 660 | M32: ~ | N32: ~ | O32: 1.3 | P32: 5.7 | R32: 1 | S32: 8.1 | U32: 18 | V32: 14 | W32: 67 | X32: 293 | Y32: 391 | AA32: 151
B33: Ebrill 19 | D33: 230 | E33: 70 | F33: 100 | G33: 20 | I33: 110 | J33: 10 | K33: 530 | M33: ~ | N33: ~ | O33: 1.1 | P33: 1.2 | R33: 0.6 | S33: 2.9 | U33: 17 | V33: 14 | W33: 47 | X33: 55 | Y33: 132 | AA33: 63
... B44: Mawrth 20 (r) | D44: 210 | E44: 80 | F44: 110 | G44: 20 | I44: 140 | J44: 20 | K44: 550 | M44: * | N44: ~ | O44: 1 | P44: 3.1 | R44: 1.2 | S44: 5.4 | U44: 15 | V44: 15 | W44: 50 | X44: 63 | Y44: 143 | AA44: 107
B45: Ebrill 20 (p) | D45: 190 | E45: 30 | F45: 40 | G45: 10 | I45: 60 | J45: * | K45: 340 | M45: * | N45: ~ | O45: 0.5 | P45: 4.4 | R45: 0.2 | S45: 5.1 | U45: 15 | V45: 7 | W45: 20 | X45: 85 | Y45: 126 | AA45: 29
A48: 1 | B48: Mae'r trafodiadau yn y tabl hwn wedi cael eu talgrynnu i'r 10 agosaf. Mae treth yn ddyledus yn y tabl hwn wedi cael eu talgrynnu i'r £0.1 miliwn agosaf. Mae'r gwerthoedd yn y tabl hwn wedi cael eu talgrynnu i'r £1 miliwn agosaf. Sylwch fod y tabl hwn yn cynnwys trafodiadau les amhreswyl.
A49: 2 | B49: Disgrifir y term 'premiwm' yn fwy cywir fel 'ystyriaeth heblaw rhent'. Yn y rhan fwyaf o achosion, bydd y premiwm a delir ar ffurf gwerth arian parod, ond gallai fod ar ffurf arall.
A50: 3 | B50: Noder bod prydlesi sydd newydd gael eu rhoi, sydd â phremiwm a dalwyd a gwerth rhent, yn cael eu cyfrif ddwywaith yn rhan trafodiadau’r tabl. Gan hynny, dim ond y pum colofn gyntaf yn rhan trafodiadau’r tabl sy'n adio i roi’r cyfanswm.
A51: 4 | B51: Mae’r cyfanswm wedi’i gyfrifo ar sail y gwerthoedd heb eu talgrynnu.
A52: 5 | B52: Gall lesoedd amhreswyl sydd wedi’u rhoi o’r newydd fod â naill ai gwerth premiwm, gwerth rhent neu'r ddau (caiff y term 'premiwm' ei ddisgrifio'n fwy cywir fel 'cydnabyddiaeth heblaw am rent'). Y gwerth rhent yw gwerth net presennol (NPV) y rhenti. Yn y tabl hwn, dim ond yr elfen bremiwm sy'n cael ei chynnwys yn y golofn 'cyfanswm gwerth yr eiddo sydd wedi'i drethu'. Dangosir y gwerth rhent ar wahân yn y golofn i'r dde o'r cyfanswm. Ni ddylid ychwanegu'r gwerth rhent at gyfanswm gwerth yr eiddo sydd wedi’i drethu, gan eu bod yn gysyniadau gwahanol.
A53: 6 | B53: Mae cywiriad wedi'i wneud i drafodiad amrheswyl sy'n effeithiol ym mis Ebrill 2019, y cofnodwyd yn anghywir ei fod yn fawr pan nad oedd hynny'n wir. Arweiniodd hyn at ddiwygio gostyngiad yn y dreth amrheswyl sy'n ddyledus yn y mis hwn.
A54: (p) | B54: Mae'r gwerthoedd yn rhai dros dro a byddant yn cael eu diwygio mewn cyhoeddiad yn y dyfodol. Gweler y dudalen gynnwys am ragor o wybodaeth.
A55: (r) | B55: Mae'r gwerthoedd wedi cael eu diwygio. Gweler y dudalen gynnwys am ragor o wybodaeth.
A56: ~ | B56: Yn cynrychioli gwerth sy’n talgrynnu i 0, ond sydd heb fod yn 0.
A57: * | B57: Yn cynrychioli gwerth a ataliwyd gan fod y dreth sy’n daladwy ar gyfer nifer fechan o drafodiadau yn cyfrannu at y rhan fwyaf o werth y gell (goruchafiaeth).

Sheet Tabl5
A1: Nôl i'r dudalen cynnwys
A2: Tabl 5: Nifer a gwerth unrhyw ryddhad treth a gyhoeddwyd erbyn y dyddiad dod i rym ¹ ²
A4: Dyddiad dod i rym | C4: Trafodiadau a ryddhawyd | F4: Gwerth y dreth a ryddhawyd (£ miliwn)
C5: Preswyl | D5: Amhreswyl ³ | E5: Cyfanswm ⁴ | F5: Preswyl | G5: Amhreswyl ³ | H5: Cyfanswm ⁴
A6: 2018-19 (r) | C6: 960 | D6: 420 | E6: 1380 | F6: 15.7 | G6: 56.4 | H6: 72.1
B7: Ebrill - Mehefin 18 (r) | C7: 220 | D7: 80 | E7: 300 | F7: 3.7 | G7: 8.8 | H7: 12.5
B8: Gorffenaf - Medi 18 (r) | C8: 220 | D8: 80 | E8: 300 | F8: 2.4 | G8: 18.7 | H8: 21.1
B9: Hydref - Rhagfyr 18 (r) | C9: 270 | D9: 120 | E9: 390 | F9: 3.1 | G9: 11.2 | H9: 14.3
B10: Ionawr - Mawrth 19 (r) | C10: 250 | D10: 140 | E10: 400 | F10: 6.5 | G10: 17.7 | H10: 24.2
A11: 2019-20 hyd yn hyn(r) | C11: 1150 | D11: 360 | E11: 1510 | F11: 22.8 | G11: 30.7 | H11: 53.5
B12: Ebrill - Mehefin 19 (r) | C12: 270 | D12: 70 | E12: 340 | F12: 8.7 | G12: 3.4 | H12: 12.2
B13: Gorffenaf - Medi 19 (r) | C13: 290 | D13: 100 | E13: 390 | F13: 2.4 | G13: 13.5 | H13: 16
B14: Hydref - Rhagfyr 19 (r) | C14: 330 | D14: 90 | E14: 420 | F14: 3.3 | G14: 10.7 | H14: 14
B15: Ionawr - Mawrth 20 (p) | C15: 250 | D15: 100 | E15: 360 | F15: 8.4 | G15: 3.1 | H15: 11.4
A18: 1 | B18: Mae'r gwerthoedd yn y tabl hwn wedi cael eu talgrynnu i'r 10 trafodiad agosaf a’r £0.1 miliwn agosaf o dreth a ryddhawyd.
A19: 2 | B19: Yn blaenorol, gwnaethom hepgor trafodiadau cysylltiol a thrafodiadau wedi’u rhyddhau o’r set data hwn. Roedd hyn er mwyn i ni allu gwneud dadansoddiad pellach o'r trafodiadau hyn. Rydym bellach wedi cynnal y dadansoddiad hwn ac mae gennym lefel resymol o hyder yn ansawdd y data hyn. Rydym bellach wedi ychwanegu trafodiadau cysylltiol a thrafodiadau wedi’u rhyddhau yn y set data hwn, gan adolygu'r holl ddata yn ôl i Ebrill 2018. Mae hyn wedi ychwanegu tua 60 i 70 o drafodiadau a ryddhawyd i bob chwarter, a chyfartaledd o £4 miliwn i £5 miliwn i bob chwarter yn rhyddhadau.
A20: 3 | B20: Mae’r categori ‘eiddo amhreswyl’ yn cynnwys eiddo nad ydynt yn gyfan gwbl breswyl (hy y rheini sy’n cynnwys elfennau preswyl a masnachol).
A21: 4 | B21: Mae’r cyfanswm wedi’i gyfrifo ar sail y gwerthoedd heb eu talgrynnu.
A22: (p) | B22: Mae'r gwerthoedd yn rhai dros dro a byddant yn cael eu diwygio mewn cyhoeddiad yn y dyfodol. Gweler y dudalen gynnwys am ragor o wybodaeth.
A23: (r) | B23: Mae'r gwerthoedd wedi cael eu diwygio. Gweler y dudalen gynnwys am ragor o wybodaeth.
A26: Tabl 5a: Nifer y trafodaiadau a dderbyniasant ryddhad na gafodd effaith ar y dreth oedd yn ddyledus¹ ²
A28: Dyddiad dod i rym | C28: Trafodiadau (nifer)
C29: Preswyl | D29: Amhreswyl ³ | E29: Cyfanswm ⁴
A30: 2018-19 (r) | C30: 330 | D30: 190 | E30: 510
B31: Ebrill - Mehefin 18 (r) | C31: 50 | D31: 30 | E31: 80
B32: Gorffenaf - Medi 18 (r) | C32: 70 | D32: 40 | E32: 110
B33: Hydref - Rhagfyr 18 (r) | C33: 90 | D33: 50 | E33: 140
B34: Ionawr - Mawrth 19 (r) | C34: 110 | D34: 70 | E34: 180
A35: 2019-20 hyd yn hyn(r) | C35: 400 | D35: 150 | E35: 550
B36: Ebrill - Mehefin 19 (r) | C36: 80 | D36: 60 | E36: 140
B37: Gorffenaf - Medi 19 (r) | C37: 70 | D37: 30 | E37: 100
B38: Hydref - Rhagfyr 19 (r) | C38: 90 | D38: 30 | E38: 120
B39: Ionawr - Mawrth 20 (p) | C39: 90 | D39: 30 | E39: 120
G40: 0
A42: 1 | B42: Mae'r gwerthoedd yn y tabl hwn wedi cael eu talgrynnu i'r 10 trafodiad agosaf.
A43: 2 | B43: Yn blaenorol, gwnaethom hepgor trafodiadau cysylltiol a thrafodiadau wedi’u rhyddhau o’r set data hwn. Roedd hyn er mwyn i ni allu gwneud dadansoddiad pellach o'r trafodiadau hyn. Rydym bellach wedi cynnal y dadansoddiad hwn ac mae gennym lefel resymol o hyder yn ansawdd y data hyn. Rydym bellach wedi ychwanegu trafodiadau cysylltiol a thrafodiadau wedi’u rhyddhau yn y set data hwn, gan adolygu'r holl ddata yn ôl i Ebrill 2018. Mae hyn wedi ychwanegu tua 60 i 70 o drafodiadau a ryddhawyd i bob chwarter, a chyfartaledd o £4 miliwn i £5 miliwn i bob chwarter yn rhyddhadau.
A44: 3 | B44: Mae’r categori ‘eiddo amhreswyl’ yn cynnwys eiddo nad ydynt yn gyfan gwbl breswyl (hy y rheini sy’n cynnwys elfennau preswyl a masnachol).
A45: 4 | B45: Mae’r cyfanswm wedi’i gyfrifo ar sail y gwerthoedd heb eu talgrynnu.
A46: (p) | B46: Mae'r gwerthoedd yn rhai dros dro a byddant yn cael eu diwygio mewn cyhoeddiad yn y dyfodol. Gweler y dudalen gynnwys am ragor o wybodaeth.
A47: (r) | B47: Mae'r gwerthoedd wedi cael eu diwygio. Gweler y dudalen gynnwys am ragor o wybodaeth.
A48: ~ | B48: Yn cynrychioli gwerth sy’n talgrynnu i 0, ond sydd heb fod yn 0.

Sheet Tabl6
A1: Nôl i'r dudalen cynnwys
A2: Tabl 6: Nifer a gwerth unrhyw ad-daliadau treth a gyhoeddwyd erbyn y dyddiad dod i rym ¹
A4: Dyddiad dod i rym | C4: Trafodiadau (nifer) | D4: Ad-daliadau (£ miliwn)
A5: Gan flywddyn
B6: 2018-19 (r) | C6: 1510 | D6: 11.4
B7: 2019-20 (r) | C7: 730 | D7: 6
B8: 2020-21 hyd yn hyn (p) | C8: * | D8: *
A9: Gan chwarter
B10: Ebrill - Mehefin 18 (r) | C10: 400 | D10: 2.9
B11: Gorffenaf - Medi 18 (r) | C11: 470 | D11: 3.6
B12: Hydref - Rhagfyr 18 (r) | C12: 390 | D12: 3.1
B13: Ionawr - Mawrth 19 (r) | C13: 260 | D13: 1.8
B14: Ebrill - Mehefin 19 (r) | C14: 290 | D14: 2.3
B15: Gorffenaf - Medi 19 (r) | C15: 240 | D15: 1.9
B16: Hydref - Rhagfyr 19 (r) | C16: 150 | D16: 1.3
B17: Ionawr - Mawrth 20 (r) | C17: 60 | D17: 0.5
A18: Gan fis
B19: Ebrill 18 (r) | C19: 110 | D19: 0.8
B20: Mai 18 (r) | C20: 140 | D20: 1
B21: Mehefin 18 (r) | C21: 140 | D21: 1.1
B22: Gorffenaf 18 (r) | C22: 150 | D22: 1.1
B23: Awst 18 (r) | C23: 170 | D23: 1.3
B24: Medi 18 (r) | C24: 140 | D24: 1.2
B25: Hydref 18 (r) | C25: 120 | D25: 0.9
B26: Tachwedd 18 (r) | C26: 140 | D26: 1.2
B27: Rhagfyr 18 (r) | C27: 130 | D27: 1
B28: Ionawr 19 (r) | C28: 90 | D28: 0.6
B29: Chwefror 19 (r) | C29: 70 | D29: 0.5
B30: Mawrth 19 (r) | C30: 100 | D30: 0.7
... B42: Mawrth 20 (r) | C42: 10 | D42: 0.1
B43: Ebrill 20 (p) | C43: * | D43: *
A46: 1 | B46: Mae'r gwerthoedd yn y tabl hwn wedi cael eu talgrynnu i'r 10 trafodiad agosaf a’r £0.1 miliwn agosaf o dreth ad-daliadau.
A47: (p) | B47: Mae'r gwerthoedd yn rhai dros dro a byddant yn cael eu diwygio mewn cyhoeddiad yn y dyfodol. Gweler y dudalen gynnwys am ragor o wybodaeth.
A48: (r) | B48: Mae'r gwerthoedd wedi cael eu diwygio. Gweler y dudalen gynnwys am ragor o wybodaeth.
A49: * | B49: Nid yw’r gwerth hwn yn ddigon mawr i’w gyflwyno ac mae wedi cael ei atal.
A50: ~ | B50: Yn cynrychioli gwerth sy’n talgrynnu i 0, ond sydd heb fod yn 0.

Sheet Tabl6a
A1: Nôl i'r dudalen cynnwys
B2: Tabl 6a: Nifer a gwerth ad-daliadau preswyl cyfradd uwch yn ôl cyfnod o amser (sail arian parod) ¹
D4: Ad-daliadau preswyl cyfradd uwch
D5: Nifer | E5: Cyfanswm gwerth (£ miliwn) ²
B6: Gan flywddyn
C7: 2018-19 | D7: 640 | E7: 5
C8: 2019-20 | D8: 1430 | E8: 10.9
C9: 2020-21 hyd yn hyn (p) | D9: 140 | E9: 1.2
B10: Gan chwarter
C11: Ebrill - Mehefin 18 | D11: 20 | E11: 0.1
C12: Gorffenaf - Medi 18 | D12: 110 | E12: 0.9
C13: Hydref - Rhagfyr 18 | D13: 220 | E13: 1.7
C14: Ionawr - Mawrth 19 | D14: 280 | E14: 2.2
C15: Ebrill - Mehefin 19 | D15: 280 | E15: 2
C16: Gorffenaf - Medi 19 | D16: 390 | E16: 3.1
C17: Hydref - Rhagfyr 19 | D17: 350 | E17: 2.5
C18: Ionawr - Mawrth 20 | D18: 410 | E18: 3.2
B19: Gan fis
C20: Ebrill 18 | D20: 0 | E20: 0
C21: Mai 18 | D21: ~ | E21: ~
C22: Mehefin 18 | D22: 20 | E22: 0.1
C23: Gorffenaf 18 | D23: 20 | E23: 0.2
C24: Awst 18 | D24: 30 | E24: 0.2
C25: Medi 18 | D25: 70 | E25: 0.5
C26: Hydref 18 | D26: 70 | E26: 0.5
C27: Tachwedd 18 | D27: 100 | E27: 0.8
C28: Rhagfyr 18 | D28: 50 | E28: 0.4
C29: Ionawr 19 | D29: 100 | E29: 0.8
C30: Chwefror 19 | D30: 100 | E30: 0.8
C31: Mawrth 19 | D31: 90 | E31: 0.7
C32: Ebrill 19 | D32: 110 | E32: 0.8
C33: Mai 19 | D33: 90 | E33: 0.6
... C44: Ebrill 20 | D44: 140 | E44: 1.2
B47: 1 | C47: Mae'r gwerthoedd yn y tabl hwn wedi cael eu talgrynnu i'r 10 trafodiad agosaf a’r £0.1 miliwn agosaf o dreth ad-daliadau. Dyma’r swm o arian a gafodd ei ad-dalu gan ACC yn ystod y mis a restrwyd, yn hytrach na’r dyddiad y mae'r trafodiad yn dod i rym.
B48: 2 | C48: Mewn nifer fach o achosion, nid oes unrhyw arian wedi cyfnewid dwylo gan nad oedd yr atebolrwydd gwreiddiol wedi’i dalu ar adeg yr ad-daliad. Yn yr achosion hyn, gwnaethpwyd addasiad i ffigwr yr arian parod i’w ychwanegu at werth damcaniaethol yr ad-daliad.
B49: ~ | C49: Yn cynrychioli gwerth sy’n talgrynnu i 0, ond sydd heb fod yn 0.

Sheet Tabl7
A1: Nôl i'r dudalen cynnwys
A2: Tabl 7: Treth Trafodiadau Tir a dalwyd i Awdurdod Cyllid Cymru
C4: Gwerth taliadau Treth Trafodiadau Tir (£ miliwn)
A5: Gan flywddyn
B6: 2018-19 | C6: 220.2
B7: 2019-20 | C7: 233.5
B8: 2020-21 hyd yn hyn (p) | C8: 38.5
A9: Gan chwarter
B10: Ebrill - Mehefin 18 | C10: 39
B11: Gorffenaf - Medi 18 | C11: 62.8
B12: Hydref - Rhagfyr 18 | C12: 65.8
B13: Ionawr - Mawrth 19 | C13: 52.6
B14: Ebrill - Mehefin 19 | C14: 47.9
B15: Gorffenaf - Medi 19 | C15: 60.5
B16: Hydref - Rhagfyr 19 | C16: 72.4
B17: Ionawr - Mawrth 20 | C17: 52.7
A18: Gan fis
B19: Ebrill 18 | C19: 6.2
B20: Mai 18 | C20: 17.3
B21: Mehefin 18 | C21: 15.5
B22: Gorffenaf 18 | C22: 20.6
B23: Awst 18 | C23: 23.6
B24: Medi 18 | C24: 18.6
B25: Hydref 18 | C25: 21.7
B26: Tachwedd 18 | C26: 22.1
B27: Rhagfyr 18 | C27: 22.1
B28: Ionawr 19 | C28: 20.6
B29: Chwefror 19 | C29: 14.5
B30: Mawrth 19 | C30: 17.5
... B43: Ebrill 20 | C43: 38.5
A46: 1 | B46: Mae'r gwerthoedd yn y tabl hwn wedi cael eu talgrynnu i'r £0.1 miliwn agosaf, a'r £1 miliwn agosaf ar gyfer trafodiadau ychwanegol gyda manylion cyfyngedig.

Sheet TableA1Hide
A1: Nôl i'r dudalen cynnwys | K1: 56 | R1: Start release point | S1: 1
A2: Tabl A1: Amcangyfrifon trafodiadau hysbysadwy a adroddwyd: Pob trafodiadau | K2: 46 | L2: 23 | M2: 25 | R2: End release point | S2: 25
A4: Dyddiad effeithiol (mis) | D4: Amcangyfrif | G4: % Newid Rhwng Amcangyfrifon | K4: 47 | L4: 38 | M4: 39 | V4: Pob trafodiadau | W4: 25
D5: Yn Gyntaf | E5: Yn Ail | F5: Yn Drydydd | G5: 1af i 2il | H5: 2il i 3ydd | K5: 40 | L5: 41 | M5: 42 | N5: 43 | O5: 44 | P5: 45 | Q5: 48 | V5: Pob preswyl | W5: 26
B6: Ebr 18 | D6: 3940 | E6: 4350 | F6: 4370 | G6: 0.1043412 | H6: 0.003908046 | V6: Preswyl cyfraddau uwch | W6: 27
B7: Mai 18 | D7: 4450 | E7: 4760 | F7: 4790 | G7: 0.071524966 | H7: 0.0046179681 | V7: Amrheswyl | W7: 28
B8: Meh 18 | D8: 5090 | E8: 5390 | F8: 5420 | G8: 0.058892815 | H8: 0.0055617353
B9: Gorff 18 | D9: 4930 | E9: 5300 | F9: 5310 | G9: 0.075487013 | H9: 0.0022641509
B10: Awst 18 | D10: 5660 | E10: 5950 | F10: 5970 | G10: 0.051069093 | H10: 0.0033624748
B11: Medi 18 | D11: 4790 | E11: 4980 | F11: 4990 | G11: 0.039883065 | H11: 0.002811245
B12: Hyd 18 | D12: 5460 | E12: 5620 | F12: 5630 | G12: 0.02894303 | H12: 0.0017803098
B13: Tach 18 | D13: 6090 | E13: 6300 | F13: 6320 | G13: 0.034675431 | H13: 0.0036531131
B14: Rhag 18 | D14: 5360 | E14: 5430 | F14: 5440 | G14: 0.013067015 | H14: 0.0014741109
B15: Ion 19 | D15: 3900 | E15: 4000 | F15: 4010 | G15: 0.025660765 | H15: 0.0022516888
B16: Chwef 19 | D16: 4240 | E16: 4290 | F16: 4300 | G16: 0.012983947 | H16: 0.002563505
B17: Maw 19 | D17: 4900 | E17: 5050 | F17: 5050 | G17: 0.030222585 | H17: 0
B18: Ebr 19 | D18: 4450 | E18: 4510 | F18: 4520 | G18: 0.014848144 | H18: 0.0028818444
B19: Mai 19 | D19: 4950 | E19: 5040 | F19: 5050 | G19: 0.018387553 | H19: 0.0015873016
... B28: Chwef 20 | D28: 4240 | E28: 4350 | F28: 4360 | G28: 0.024976437 | H28: 0.0013793103
B29: Maw 20 | D29: 4570 | E29: 4620 | G29: 0.010936133
B30: Ebr 20 | D30: 2060
A32: 1 | B32: Mae'r gwerthoedd yn y tabl hwn wedi cael eu talgrynnu i'r 10 trafodiad agosaf. | K32: 49
A35: Pob preswyl | K35: 46 | L35: 23 | M35: 26
A37: Dyddiad effeithiol (mis) | D37: Amcangyfrif | G37: % Newid Rhwng Amcangyfrifon | K37: 47 | L37: 38 | M37: 39
D38: Yn Gyntaf | E38: Yn Ail | F38: Yn Drydydd | G38: 1af i 2il | H38: 2il i 3ydd | K38: 40 | L38: 41 | M38: 42 | N38: 43 | O38: 44 | P38: 45 | Q38: 48
B39: Ebr 18 | D39: 3560 | E39: 3870 | F39: 3880 | G39: 0.08797077 | H39: 0.0030999742
B40: Mai 18 | D40: 4090 | E40: 4320 | F40: 4340 | G40: 0.057988745 | H40: 0.0034690102
B41: Meh 18 | D41: 4700 | E41: 4940 | F41: 4960 | G41: 0.05104211 | H41: 0.0036422501
B42: Gorff 18 | D42: 4540 | E42: 4830 | F42: 4840 | G42: 0.06340819 | H42: 0.0014492754
B43: Awst 18 | D43: 5230 | E43: 5450 | F43: 5460 | G43: 0.041108987 | H43: 0.0018365473
B44: Medi 18 | D44: 4400 | E44: 4530 | F44: 4540 | G44: 0.028623353 | H44: 0.0017667845
B45: Hyd 18 | D45: 4920 | E45: 5040 | F45: 5040 | G45: 0.023964257 | H45: 0.00039666799
B46: Tach 18 | D46: 5590 | E46: 5770 | F46: 5780 | G46: 0.031104755 | H46: 0.0026005548
B47: Rhag 18 | D47: 4850 | E47: 4900 | F47: 4910 | G47: 0.0094806265 | H47: 0.0028583095
B48: Ion 19 | D48: 3510 | E48: 3570 | F48: 3580 | G48: 0.018523796 | H48: 0.0011191942
B49: Chwef 19 | D49: 3810 | E49: 3850 | F49: 3850 | G49: 0.01023622 | H49: 0.0012990387
B50: Maw 19 | D50: 4310 | E50: 4400 | F50: 4400 | G50: 0.019012288 | H50: 0.00091012514
... B61: Chwef 20 | D61: 3850 | E61: 3930 | F61: 3930 | G61: 0.02106632 | H61: 0.0012735609
B62: Maw 20 | D62: 4050 | E62: 4070 | G62: 0.0071693449
B63: Ebr 20 | D63: 1720
A65: 1 | B65: Mae'r gwerthoedd yn y tabl hwn wedi cael eu talgrynnu i'r 10 trafodiad agosaf. | K65: 49
A68: Preswyl cyfraddau uwch | K68: 46 | L68: 23 | M68: 27
A70: Dyddiad effeithiol (mis) | D70: Amcangyfrif | G70: % Newid Rhwng Amcangyfrifon | K70: 47 | L70: 38 | M70: 39
D71: Yn Gyntaf | E71: Yn Ail | F71: Yn Drydydd | G71: 1af i 2il | H71: 2il i 3ydd | K71: 40 | L71: 41 | M71: 42 | N71: 43 | O71: 44 | P71: 45 | Q71: 48
B72: Ebr 18 | D72: 920 | E72: 1000 | F72: 1000 | G72: 0.087852495 | H72: -0.00099700897
B73: Mai 18 | D73: 1000 | E73: 1080 | F73: 1080 | G73: 0.078685259 | H73: -0.0036934441
B74: Meh 18 | D74: 1130 | E74: 1180 | F74: 1180 | G74: 0.043209877 | H74: -0.0025359256
B75: Gorff 18 | D75: 1120 | E75: 1190 | F75: 1180 | G75: 0.059661621 | H75: -0.0075630252
B76: Awst 18 | D76: 1210 | E76: 1260 | F76: 1240 | G76: 0.038842975 | H76: -0.016706444
B77: Medi 18 | D77: 1000 | E77: 1020 | F77: 1020 | G77: 0.017964072 | H77: 0.0029411765
B78: Hyd 18 | D78: 1160 | E78: 1200 | F78: 1190 | G78: 0.040692641 | H78: -0.0083194676
B79: Tach 18 | D79: 1280 | E79: 1320 | F79: 1310 | G79: 0.034455756 | H79: -0.0060560182
B80: Rhag 18 | D80: 1090 | E80: 1100 | F80: 1090 | G80: 0.0073394495 | H80: -0.0072859745
B81: Ion 19 | D81: 920 | E81: 940 | F81: 940 | G81: 0.027203482 | H81: -0.0095338983
B82: Chwef 19 | D82: 970 | E82: 970 | F82: 970 | G82: 0.0062111801 | H82: -0.0051440329
B83: Maw 19 | D83: 1150 | E83: 1160 | F83: 1150 | G83: 0.0095403296 | H83: -0.0094501718
... B94: Chwef 20 | D94: 1100 | E94: 1120 | F94: 1120 | G94: 0.017241379 | H94: -0.0044603033
B95: Maw 20 | D95: 1080 | E95: 1080 | G95: 0.0037037037
B96: Ebr 20 | D96: 460
A98: 1 | B98: Mae'r gwerthoedd yn y tabl hwn wedi cael eu talgrynnu i'r 10 trafodiad agosaf. | K98: 49
A101: Amrheswyl | K101: 46 | L101: 23 | M101: 28
A103: Dyddiad effeithiol (mis) | D103: Amcangyfrif | G103: % Newid Rhwng Amcangyfrifon | K103: 47 | L103: 38 | M103: 39
D104: Yn Gyntaf | E104: Yn Ail | F104: Yn Drydydd | G104: 1af i 2il | H104: 2il i 3ydd | K104: 40 | L104: 41 | M104: 42 | N104: 43 | O104: 44 | P104: 45 | Q104: 48
B105: Ebr 18 | D105: 380 | E105: 480 | F105: 480 | G105: 0.25721785 | H105: 0.010438413
B106: Mai 18 | D106: 360 | E106: 440 | F106: 450 | G106: 0.22562674 | H106: 0.015909091
B107: Meh 18 | D107: 390 | E107: 450 | F107: 470 | G107: 0.15306122 | H107: 0.028761062
B108: Gorff 18 | D108: 390 | E108: 470 | F108: 480 | G108: 0.21761658 | H108: 0.010638298
B109: Awst 18 | D109: 430 | E109: 500 | F109: 510 | G109: 0.16166282 | H109: 0.019880716
B110: Medi 18 | D110: 390 | E110: 450 | F110: 460 | G110: 0.15897436 | H110: 0.013274336
B111: Hyd 18 | D111: 540 | E111: 580 | F111: 580 | G111: 0.074766355 | H111: 0.013913043
B112: Tach 18 | D112: 490 | E112: 530 | F112: 540 | G112: 0.075356415 | H112: 0.020833333
B113: Rhag 18 | D113: 510 | E113: 530 | F113: 520 | G113: 0.03960396 | H113: -0.0038095238
B114: Ion 19 | D114: 390 | E114: 420 | F114: 430 | G114: 0.081841432 | H114: 0.011820331
B115: Chwef 19 | D115: 430 | E115: 440 | F115: 440 | G115: 0.04 | H115: 0.0022624434
B116: Maw 19 | D116: 580 | E116: 640 | F116: 650 | G116: 0.095890411 | H116: 0.009375
... B127: Chwef 20 | D127: 400 | E127: 420 | F127: 430 | G127: 0.062656642 | H127: 0.0023584906
B128: Maw 20 | D128: 530 | E128: 550 | G128: 0.039848197
B129: Ebr 20 | D129: 340
A131: 1 | B131: Mae'r gwerthoedd yn y tabl hwn wedi cael eu talgrynnu i'r 10 trafodiad agosaf. | K131: 49

Sheet TableA2Hide
A1: Nôl i'r dudalen cynnwys | K1: 56
A2: Tabl A2: Amcangyfrifon treth yn ddyledus ar drafodiadau hysbysadwy a adroddwyd: Pob trafodiadau | K2: 46 | L2: 24 | M2: 25
A4: Dyddiad effeithiol (mis) | D4: Amcangyfrif | G4: % Newid Rhwng Amcangyfrifon | K4: 47 | L4: 38 | M4: 39
D5: Yn Gyntaf | E5: Yn Ail | F5: Yn Drydydd | G5: 1af i 2il | H5: 2il i 3ydd | K5: 40 | L5: 41 | M5: 42 | N5: 43 | O5: 44 | P5: 45 | Q5: 48
B6: Ebr 18 | D6: 12 | E6: 15.6 | F6: 15.5 | G6: 0.29743167 | H6: -0.0050480559
B7: Mai 18 | D7: 13.5 | E7: 14.4 | F7: 14.3 | G7: 0.061823275 | H7: -0.0030596757
B8: Meh 18 | D8: 18 | E8: 19.6 | F8: 19.7 | G8: 0.091373041 | H8: 0.0048183364
B9: Gorff 18 | D9: 19.7 | E9: 22.1 | F9: 22 | G9: 0.12200619 | H9: -0.0012911151
B10: Awst 18 | D10: 19.1 | E10: 20 | F10: 19.8 | G10: 0.051864099 | H10: -0.010217139 | V10: Pob trafodiadau | W10: 25
B11: Medi 18 | D11: 19.4 | E11: 19.9 | F11: 20.2 | G11: 0.027122761 | H11: 0.012169485 | V11: Pob preswyl | W11: 26
B12: Hyd 18 | D12: 21.3 | E12: 21.8 | F12: 21.7 | G12: 0.024266185 | H12: -0.0057083133 | V12: Preswyl cyfraddau uwch | W12: 27
B13: Tach 18 | D13: 22.7 | E13: 23.3 | F13: 23.3 | G13: 0.027498295 | H13: -0.0033437219 | V13: Amrheswyl | W13: 28
B14: Rhag 18 | D14: 21.4 | E14: 21.5 | F14: 21.5 | G14: 0.0045113453 | H14: -0.0020115025
B15: Ion 19 | D15: 16.9 | E15: 17.3 | F15: 17.3 | G15: 0.024766747 | H15: 0.0010937121
B16: Chwef 19 | D16: 15.1 | E16: 15.6 | F16: 15.7 | G16: 0.035711168 | H16: 0.0023087229
B17: Maw 19 | D17: 19.7 | E17: 20 | F17: 19.9 | G17: 0.018017156 | H17: -0.0039383472
B18: Ebr 19 | C18: 2 | D18: 14.5 | E18: 14.1 | F18: 14 | G18: -0.03085234 | H18: -0.0053584424
B19: Mai 19 | D19: 17.7 | E19: 18 | F19: 20.1 | G19: 0.015440736 | H19: 0.11469074
B20: Meh 19 | D20: 15.8 | E20: 17.2 | F20: 17.1 | G20: 0.089102347 | H20: -0.0080990279
B21: Gorff 19 | D21: 19.6 | E21: 19.8 | F21: 19.8 | G21: 0.011441159 | H21: -0.0011871931
B22: Awst 19 | D22: 20.8 | E22: 21.4 | F22: 21.4 | G22: 0.031490991 | H22: -0.00042109265
B23: Medi 19 | D23: 19.2 | E23: 22.3 | F23: 22.2 | G23: 0.15841686 | H23: -0.0024222841
B24: Hyd 19 | D24: 20.3 | E24: 20.7 | F24: 20.5 | G24: 0.019157896 | H24: -0.0053428682
B25: Tach 19 | D25: 23.2 | E25: 23.5 | F25: 23.4 | G25: 0.013392402 | H25: -0.004263685
B26: Rhag 19 | D26: 24.4 | E26: 24.3 | F26: 24.3 | G26: -0.0018407602 | H26: 0.00071884087
B27: Ion 20 | D27: 16.2 | E27: 20.6 | F27: 20.3 | G27: 0.2659639 | H27: -0.011386199
B28: Chwef 20 | D28: 16.5 | E28: 16.6 | F28: 16.6 | G28: 0.0088695419 | H28: -0.0033444692
B29: Maw 20 | D29: 17.4 | E29: 18.4 | G29: 0.055038664
B30: Ebr 20 | D30: 10
A32: 1 | B32: Mae'r dreth yn y tabl hwn wedi cael ei thalgrynnu i'r £0.1 miliwn agosaf. | K32: 50
B33: Dangosir y dreth sy’n ddyledus, net o unrhyw ad-daliadau a hawliwyd am bryniadau preswyl ar gyfraddau uwch (gweler y datganiad ystadegol a gyhoeddir ochr yn ochr â’r Atodiad hwn). | K33: 51
A34: 2 | B34: Mae cywiriad wedi'i wneud i drafodiad amrheswyl sy'n effeithiol ym mis Ebrill 2019, y cofnodwyd yn anghywir ei fod yn fawr pan nad oedd hynny'n wir. Arweiniodd hyn at ddiwygio gostyngiad yn y dreth amrheswyl sy'n ddyledus yn y mis hwn. | K34: 52
A37: Pob preswyl | K37: 46 | L37: 24 | M37: 26
A39: Dyddiad effeithiol (mis) | D39: Amcangyfrif | G39: % Newid Rhwng Amcangyfrifon | K39: 47 | L39: 38 | M39: 39
D40: Yn Gyntaf | E40: Yn Ail | F40: Yn Drydydd | G40: 1af i 2il | H40: 2il i 3ydd | K40: 40 | L40: 41 | M40: 42 | N40: 43 | O40: 44 | P40: 45 | Q40: 48
B41: Ebr 18 | D41: 8.6 | E41: 9.6 | F41: 9.5 | G41: 0.11229335 | H41: -0.0082297027
B42: Mai 18 | D42: 10.2 | E42: 10.8 | F42: 10.8 | G42: 0.063379348 | H42: -0.0051817126
B43: Meh 18 | D43: 13.3 | E43: 13.8 | F43: 13.9 | G43: 0.032867547 | H43: 0.0087031356
B44: Gorff 18 | D44: 13.4 | E44: 14.2 | F44: 14.2 | G44: 0.057056369 | H44: -0.00065325775
B45: Awst 18 | D45: 15.8 | E45: 16.4 | F45: 16.1 | G45: 0.035542718 | H45: -0.013714755
B46: Medi 18 | D46: 14.1 | E46: 14.3 | F46: 14.3 | G46: 0.019963837 | H46: -0.0022473055
B47: Hyd 18 | D47: 14.9 | E47: 15.2 | F47: 15.1 | G47: 0.022265359 | H47: -0.0088097433
B48: Tach 18 | D48: 17.4 | E48: 17.9 | F48: 17.8 | G48: 0.027001601 | H48: -0.0054790583
B49: Rhag 18 | D49: 14.1 | E49: 14.2 | F49: 14.1 | G49: 0.0019454343 | H49: -0.0040028363
B50: Ion 19 | D50: 10.5 | E50: 10.9 | F50: 10.8 | G50: 0.031670606 | H50: -0.0089584203
B51: Chwef 19 | D51: 10.3 | E51: 10.3 | F51: 10.3 | G51: -0.001939083 | H51: -0.004095336
B52: Maw 19 | D52: 12 | E52: 12.1 | F52: 12 | G52: 0.010878177 | H52: -0.0066878205
... B63: Chwef 20 | D63: 12.6 | E63: 12.7 | F63: 12.6 | G63: 0.0043736252 | H63: -0.0044068038
B64: Maw 20 | D64: 12.9 | E64: 13 | G64: 0.0060480658
B65: Ebr 20 | D65: 4.9
A67: 1 | B67: Mae'r dreth yn y tabl hwn wedi cael ei thalgrynnu i'r £0.1 miliwn agosaf. | K67: 50
A70: Refeniw ychwanegol o’r gyfradd uwch preswyl | K70: 46 | L70: 24 | M70: 29
A72: Dyddiad effeithiol (mis) | D72: Amcangyfrif | G72: % Newid Rhwng Amcangyfrifon | K72: 47 | L72: 38 | M72: 39
D73: Yn Gyntaf | E73: Yn Ail | F73: Yn Drydydd | G73: 1af i 2il | H73: 2il i 3ydd | K73: 40 | L73: 41 | M73: 42 | N73: 43 | O73: 44 | P73: 45 | Q73: 48
B74: Ebr 18 | D74: 4.2 | E74: 4.6 | F74: 4.6 | G74: 0.083397983 | H74: 0.0026482609
B75: Mai 18 | D75: 4.6 | E75: 5 | F75: 5 | G75: 0.081343216 | H75: -0.010143999
B76: Meh 18 | D76: 5.3 | E76: 5.5 | F76: 5.5 | G76: 0.039009754 | H76: 0.0047007904
B77: Gorff 18 | D77: 5.6 | E77: 5.9 | F77: 5.9 | G77: 0.049415281 | H77: -0.0074911
B78: Awst 18 | D78: 5.9 | E78: 6.2 | F78: 6 | G78: 0.042610822 | H78: -0.031707396
B79: Medi 18 | D79: 5.2 | E79: 5.3 | F79: 5.2 | G79: 0.008373587 | H79: -0.0024884884
B80: Hyd 18 | D80: 5.7 | E80: 5.9 | F80: 5.9 | G80: 0.037184332 | H80: -0.01548536
B81: Tach 18 | D81: 6.8 | E81: 6.9 | F81: 6.7 | G81: 0.021352784 | H81: -0.027616129
B82: Rhag 18 | D82: 5.6 | E82: 5.4 | F82: 5.4 | G82: -0.020257029 | H82: -0.01278247
B83: Ion 19 | D83: 4.2 | E83: 4.4 | F83: 4.3 | G83: 0.037687514 | H83: -0.022772331
B84: Chwef 19 | D84: 4.2 | E84: 4.2 | F84: 4.2 | G84: -0.001355007 | H84: -0.0090026454
B85: Maw 19 | D85: 5.3 | E85: 5.2 | F85: 5.2 | G85: -0.0012856164 | H85: -0.015580487
... B96: Chwef 20 | D96: 5.3 | E96: 5.3 | F96: 5.2 | G96: 0.0026043092 | H96: -0.0085241703
B97: Maw 20 | D97: 5 | E97: 5 | G97: 0.0021554275
B98: Ebr 20 | D98: 2.2
A100: 1 | B100: Mae'r dreth yn y tabl hwn wedi cael ei thalgrynnu i'r £0.1 miliwn agosaf. | K100: 50
B101: Nodwch mai dim ond refeniw ychwanegol o drafodiadau cyfradd uwch sydd yn y tabl hon. Nid yw'r tabl hon yn cynnwys elfen prif gyfradd trafodiadau cyfradd uwch. | K101: 62
B102: Dangosir y ffigyrau yn net o unrhyw ad-daliadau a hawliwyd am bryniadau preswyl ar gyfraddau uwch. | K102: 54
A105: Amrheswyl | K105: 46 | L105: 24 | M105: 28
A107: Dyddiad effeithiol (mis) | D107: Amcangyfrif | G107: % Newid Rhwng Amcangyfrifon | K107: 47 | L107: 38 | M107: 39
D108: Yn Gyntaf | E108: Yn Ail | F108: Yn Drydydd | G108: 1af i 2il | H108: 2il i 3ydd | K108: 40 | L108: 41 | M108: 42 | N108: 43 | O108: 44 | P108: 45 | Q108: 48
B109: Ebr 18 | D109: 3.4 | E109: 6 | F109: 6 | G109: 0.76302629 | H109: 0
B110: Mai 18 | D110: 3.3 | E110: 3.5 | F110: 3.5 | G110: 0.057078997 | H110: 0.0034487201
B111: Meh 18 | D111: 4.6 | E111: 5.8 | F111: 5.9 | G111: 0.25971008 | H111: 0.0020785225
B112: Gorff 18 | D112: 6.2 | E112: 7.8 | F112: 7.8 | G112: 0.25332007 | H112: 0.0046429246
B113: Awst 18 | D113: 3.3 | E113: 3.7 | F113: 3.7 | G113: 0.11245211 | H113: 0.0053059597
B114: Medi 18 | D114: 5.4 | E114: 5.6 | F114: 5.9 | G114: 0.045900248 | H114: 0.049046257
B115: Hyd 18 | D115: 6.4 | E115: 6.5 | F115: 6.6 | G115: 0.028955992 | H115: 0.0015139694
B116: Tach 18 | D116: 5.3 | E116: 5.4 | F116: 5.4 | G116: 0.029143352 | H116: 0.0037138168
B117: Rhag 18 | D117: 7.3 | E117: 7.4 | F117: 7.4 | G117: 0.0094830262 | H117: 0.0018180742
B118: Ion 19 | D118: 6.4 | E118: 6.5 | F118: 6.6 | G118: 0.013351763 | H118: 0.018014569
B119: Chwef 19 | D119: 4.8 | E119: 5.3 | F119: 5.4 | G119: 0.11719834 | H119: 0.014691085
B120: Maw 19 | D120: 7.7 | E120: 7.9 | F120: 7.9 | G120: 0.029107471 | H120: 0.00025726484
B121: Ebr 19 | C121: 2 | D121: 3.4 | E121: 2.9 | F121: 2.9 | G121: -0.15863396 | H121: 0.0019543635
B122: Mai 19 | D122: 5.1 | E122: 5.2 | F122: 7.4 | G122: 0.019299965 | H122: 0.41553684
B123: Meh 19 | D123: 2.4 | E123: 3.5 | F123: 3.5 | G123: 0.47101833 | H123: 0.002413088
B124: Gorff 19 | D124: 4.8 | E124: 4.9 | F124: 5 | G124: 0.0256323 | H124: 0.012569159
B125: Awst 19 | D125: 3.3 | E125: 3.7 | F125: 3.7 | G125: 0.13318059 | H125: 0.00014093327
B126: Medi 19 | D126: 5.2 | E126: 8.3 | F126: 8.3 | G126: 0.59854856 | H126: 0.00069807737
B127: Hyd 19 | D127: 4.2 | E127: 4.4 | F127: 4.4 | G127: 0.046149605 | H127: 0.0016230466
B128: Tach 19 | D128: 6.2 | E128: 6.4 | F128: 6.4 | G128: 0.029536352 | H128: 0.0009551727
B129: Rhag 19 | D129: 9.2 | E129: 9.2 | F129: 9.2 | G129: 1.347124e-05 | H129: 0.0033443274
B130: Ion 20 | D130: 3.4 | E130: 7.5 | F130: 7.5 | G130: 1.2111181 | H130: 0.0016698389
B131: Chwef 20 | D131: 3.9 | E131: 3.9 | F131: 3.9 | G131: 0.023576467 | H131: 6.541746e-05
B132: Maw 20 | D132: 4.5 | E132: 5.4 | G132: 0.19521511
B133: Ebr 20 | D133: 5.1
...

Sheet TablA1
A1: =INDIRECT(T1) -> Nôl i'r dudalen cynnwys | T1: TableA1Hide!A1
A2: =INDIRECT($V$4&"Header") -> Tabl A1: Amcangyfrifon trafodiadau hysbysadwy a adroddwyd: Pob trafodiadau
S3: 1
A4: Dyddiad effeithiol (mis) | D4: Amcangyfrif | G4: % Newid Rhwng Amcangyfrifon | S4: 1 | T4: CTORounded | V4: =VLOOKUP($S$3,$S$4:$T$7,2, FALSE) -> CTORounded | W4: 25
D5: Yn Gyntaf | E5: Yn Ail | F5: Yn Drydydd | G5: 1af i 2il | H5: 2il i 3ydd | S5: 2 | T5: CRERounded | W5: 26
B6: =TableA1Hide!B6 -> Ebr 18 | D6: =VLOOKUP($B6, INDIRECT($V$4), 3, FALSE) -> 3940 | E6: =VLOOKUP($B6, INDIRECT($V$4), 4, FALSE) -> 4350 | F6: =VLOOKUP($B6, INDIRECT($V$4), 5, FALSE) -> 4370 | G6: =VLOOKUP($B6, INDIRECT($V$4), 6, FALSE) -> 0.1043412 | H6: =VLOOKUP($B6, INDIRECT($V$4), 7, FALSE) -> 0.003908046 | S6: 3 | T6: CRHRounded | W6: 27
B7: =TableA1Hide!B7 -> Mai 18 | D7: =VLOOKUP($B7, INDIRECT($V$4), 3, FALSE) -> 4450 | E7: =VLOOKUP($B7, INDIRECT($V$4), 4, FALSE) -> 4760 | F7: =VLOOKUP($B7, INDIRECT($V$4), 5, FALSE) -> 4790 | G7: =VLOOKUP($B7, INDIRECT($V$4), 6, FALSE) -> 0.071524966 | H7: =VLOOKUP($B7, INDIRECT($V$4), 7, FALSE) -> 0.0046179681 | S7: 4 | T7: CNRRounded | W7: 28
B8: =TableA1Hide!B8 -> Meh 18 | D8: =VLOOKUP($B8, INDIRECT($V$4), 3, FALSE) -> 5090 | E8: =VLOOKUP($B8, INDIRECT($V$4), 4, FALSE) -> 5390 | F8: =VLOOKUP($B8, INDIRECT($V$4), 5, FALSE) -> 5420 | G8: =VLOOKUP($B8, INDIRECT($V$4), 6, FALSE) -> 0.058892815 | H8: =VLOOKUP($B8, INDIRECT($V$4), 7, FALSE) -> 0.0055617353
B9: =TableA1Hide!B9 -> Gorff 18 | D9: =VLOOKUP($B9, INDIRECT($V$4), 3, FALSE) -> 4930 | E9: =VLOOKUP($B9, INDIRECT($V$4), 4, FALSE) -> 5300 | F9: =VLOOKUP($B9, INDIRECT($V$4), 5, FALSE) -> 5310 | G9: =VLOOKUP($B9, INDIRECT($V$4), 6, FALSE) -> 0.075487013 | H9: =VLOOKUP($B9, INDIRECT($V$4), 7, FALSE) -> 0.0022641509
B10: =TableA1Hide!B10 -> Awst 18 | D10: =VLOOKUP($B10, INDIRECT($V$4), 3, FALSE) -> 5660 | E10: =VLOOKUP($B10, INDIRECT($V$4), 4, FALSE) -> 5950 | F10: =VLOOKUP($B10, INDIRECT($V$4), 5, FALSE) -> 5970 | G10: =VLOOKUP($B10, INDIRECT($V$4), 6, FALSE) -> 0.051069093 | H10: =VLOOKUP($B10, INDIRECT($V$4), 7, FALSE) -> 0.0033624748
B11: =TableA1Hide!B11 -> Medi 18 | D11: =VLOOKUP($B11, INDIRECT($V$4), 3, FALSE) -> 4790 | E11: =VLOOKUP($B11, INDIRECT($V$4), 4, FALSE) -> 4980 | F11: =VLOOKUP($B11, INDIRECT($V$4), 5, FALSE) -> 4990 | G11: =VLOOKUP($B11, INDIRECT($V$4), 6, FALSE) -> 0.039883065 | H11: =VLOOKUP($B11, INDIRECT($V$4), 7, FALSE) -> 0.002811245
B12: =TableA1Hide!B12 -> Hyd 18 | D12: =VLOOKUP($B12, INDIRECT($V$4), 3, FALSE) -> 5460 | E12: =VLOOKUP($B12, INDIRECT($V$4), 4, FALSE) -> 5620 | F12: =VLOOKUP($B12, INDIRECT($V$4), 5, FALSE) -> 5630 | G12: =VLOOKUP($B12, INDIRECT($V$4), 6, FALSE) -> 0.02894303 | H12: =VLOOKUP($B12, INDIRECT($V$4), 7, FALSE) -> 0.0017803098
B13: =TableA1Hide!B13 -> Tach 18 | D13: =VLOOKUP($B13, INDIRECT($V$4), 3, FALSE) -> 6090 | E13: =VLOOKUP($B13, INDIRECT($V$4), 4, FALSE) -> 6300 | F13: =VLOOKUP($B13, INDIRECT($V$4), 5, FALSE) -> 6320 | G13: =VLOOKUP($B13, INDIRECT($V$4), 6, FALSE) -> 0.034675431 | H13: =VLOOKUP($B13, INDIRECT($V$4), 7, FALSE) -> 0.0036531131
B14: =TableA1Hide!B14 -> Rhag 18 | D14: =VLOOKUP($B14, INDIRECT($V$4), 3, FALSE) -> 5360 | E14: =VLOOKUP($B14, INDIRECT($V$4), 4, FALSE) -> 5430 | F14: =VLOOKUP($B14, INDIRECT($V$4), 5, FALSE) -> 5440 | G14: =VLOOKUP($B14, INDIRECT($V$4), 6, FALSE) -> 0.013067015 | H14: =VLOOKUP($B14, INDIRECT($V$4), 7, FALSE) -> 0.0014741109
B15: =TableA1Hide!B15 -> Ion 19 | D15: =VLOOKUP($B15, INDIRECT($V$4), 3, FALSE) -> 3900 | E15: =VLOOKUP($B15, INDIRECT($V$4), 4, FALSE) -> 4000 | F15: =VLOOKUP($B15, INDIRECT($V$4), 5, FALSE) -> 4010 | G15: =VLOOKUP($B15, INDIRECT($V$4), 6, FALSE) -> 0.025660765 | H15: =VLOOKUP($B15, INDIRECT($V$4), 7, FALSE) -> 0.0022516888
B16: =TableA1Hide!B16 -> Chwef 19 | D16: =VLOOKUP($B16, INDIRECT($V$4), 3, FALSE) -> 4240 | E16: =VLOOKUP($B16, INDIRECT($V$4), 4, FALSE) -> 4290 | F16: =VLOOKUP($B16, INDIRECT($V$4), 5, FALSE) -> 4300 | G16: =VLOOKUP($B16, INDIRECT($V$4), 6, FALSE) -> 0.012983947 | H16: =VLOOKUP($B16, INDIRECT($V$4), 7, FALSE) -> 0.002563505
B17: =TableA1Hide!B17 -> Maw 19 | D17: =VLOOKUP($B17, INDIRECT($V$4), 3, FALSE) -> 4900 | E17: =VLOOKUP($B17, INDIRECT($V$4), 4, FALSE) -> 5050 | F17: =VLOOKUP($B17, INDIRECT($V$4), 5, FALSE) -> 5050 | G17: =VLOOKUP($B17, INDIRECT($V$4), 6, FALSE) -> 0.030222585 | H17: =VLOOKUP($B17, INDIRECT($V$4), 7, FALSE) -> 0
B18: =TableA1Hide!B18 -> Ebr 19 | D18: =VLOOKUP($B18, INDIRECT($V$4), 3, FALSE) -> 4450 | E18: =VLOOKUP($B18, INDIRECT($V$4), 4, FALSE) -> 4510 | F18: =VLOOKUP($B18, INDIRECT($V$4), 5, FALSE) -> 4520 | G18: =VLOOKUP($B18, INDIRECT($V$4), 6, FALSE) -> 0.014848144 | H18: =VLOOKUP($B18, INDIRECT($V$4), 7, FALSE) -> 0.0028818444
B19: =TableA1Hide!B19 -> Mai 19 | D19: =VLOOKUP($B19, INDIRECT($V$4), 3, FALSE) -> 4950 | E19: =VLOOKUP($B19, INDIRECT($V$4), 4, FALSE) -> 5040 | F19: =VLOOKUP($B19, INDIRECT($V$4), 5, FALSE) -> 5050 | G19: =VLOOKUP($B19, INDIRECT($V$4), 6, FALSE) -> 0.018387553 | H19: =VLOOKUP($B19, INDIRECT($V$4), 7, FALSE) -> 0.0015873016
... B30: =TableA1Hide!B30 -> Ebr 20 | D30: =VLOOKUP($B30, INDIRECT($V$4), 3, FALSE) -> 2060 | E30: =VLOOKUP($B30, INDIRECT($V$4), 4, FALSE) | F30: =VLOOKUP($B30, INDIRECT($V$4), 5, FALSE) | G30: =VLOOKUP($B30, INDIRECT($V$4), 6, FALSE) | H30: =VLOOKUP($B30, INDIRECT($V$4), 7, FALSE)
A32: 1 | B32: =TableA1Hide!B32 -> Mae'r gwerthoedd yn y tabl hwn wedi cael eu talgrynnu i'r 10 trafodiad agosaf.

Sheet TablA2
A1: =INDIRECT(T1) -> Nôl i'r dudalen cynnwys | T1: TableA2Hide!A1
A2: =INDIRECT($V$10&"Header") -> Tabl A2: Amcangyfrifon treth yn ddyledus ar drafodiadau hysbysadwy a adroddwyd: Pob trafodiadau
A4: Dyddiad effeithiol (mis) | D4: Amcangyfrif | G4: % Newid Rhwng Amcangyfrifon
D5: Yn Gyntaf | E5: Yn Ail | F5: Yn Drydydd | G5: 1af i 2il | H5: 2il i 3ydd
B6: =TableA2Hide!B6 -> Ebr 18 | D6: =VLOOKUP($B6, INDIRECT($V$10), 3, FALSE) -> 12 | E6: =VLOOKUP($B6, INDIRECT($V$10), 4, FALSE) -> 15.6 | F6: =VLOOKUP($B6, INDIRECT($V$10), 5, FALSE) -> 15.5 | G6: =VLOOKUP($B6, INDIRECT($V$10), 6, FALSE) -> 0.29743167 | H6: =VLOOKUP($B6, INDIRECT($V$10), 7, FALSE) -> -0.0050480559
B7: =TableA2Hide!B7 -> Mai 18 | D7: =VLOOKUP($B7, INDIRECT($V$10), 3, FALSE) -> 13.5 | E7: =VLOOKUP($B7, INDIRECT($V$10), 4, FALSE) -> 14.4 | F7: =VLOOKUP($B7, INDIRECT($V$10), 5, FALSE) -> 14.3 | G7: =VLOOKUP($B7, INDIRECT($V$10), 6, FALSE) -> 0.061823275 | H7: =VLOOKUP($B7, INDIRECT($V$10), 7, FALSE) -> -0.0030596757
B8: =TableA2Hide!B8 -> Meh 18 | D8: =VLOOKUP($B8, INDIRECT($V$10), 3, FALSE) -> 18 | E8: =VLOOKUP($B8, INDIRECT($V$10), 4, FALSE) -> 19.6 | F8: =VLOOKUP($B8, INDIRECT($V$10), 5, FALSE) -> 19.7 | G8: =VLOOKUP($B8, INDIRECT($V$10), 6, FALSE) -> 0.091373041 | H8: =VLOOKUP($B8, INDIRECT($V$10), 7, FALSE) -> 0.0048183364
B9: =TableA2Hide!B9 -> Gorff 18 | D9: =VLOOKUP($B9, INDIRECT($V$10), 3, FALSE) -> 19.7 | E9: =VLOOKUP($B9, INDIRECT($V$10), 4, FALSE) -> 22.1 | F9: =VLOOKUP($B9, INDIRECT($V$10), 5, FALSE) -> 22 | G9: =VLOOKUP($B9, INDIRECT($V$10), 6, FALSE) -> 0.12200619 | H9: =VLOOKUP($B9, INDIRECT($V$10), 7, FALSE) -> -0.0012911151 | S9: 1
B10: =TableA2Hide!B10 -> Awst 18 | D10: =VLOOKUP($B10, INDIRECT($V$10), 3, FALSE) -> 19.1 | E10: =VLOOKUP($B10, INDIRECT($V$10), 4, FALSE) -> 20 | F10: =VLOOKUP($B10, INDIRECT($V$10), 5, FALSE) -> 19.8 | G10: =VLOOKUP($B10, INDIRECT($V$10), 6, FALSE) -> 0.051864099 | H10: =VLOOKUP($B10, INDIRECT($V$10), 7, FALSE) -> -0.010217139 | S10: 1 | T10: DTORounded | V10: =VLOOKUP($S$9,$S$10:$T$13,2,FALSE) -> DTORounded | W10: 25
B11: =TableA2Hide!B11 -> Medi 18 | D11: =VLOOKUP($B11, INDIRECT($V$10), 3, FALSE) -> 19.4 | E11: =VLOOKUP($B11, INDIRECT($V$10), 4, FALSE) -> 19.9 | F11: =VLOOKUP($B11, INDIRECT($V$10), 5, FALSE) -> 20.2 | G11: =VLOOKUP($B11, INDIRECT($V$10), 6, FALSE) -> 0.027122761 | H11: =VLOOKUP($B11, INDIRECT($V$10), 7, FALSE) -> 0.012169485 | S11: 2 | T11: DRERounded | W11: 26
B12: =TableA2Hide!B12 -> Hyd 18 | D12: =VLOOKUP($B12, INDIRECT($V$10), 3, FALSE) -> 21.3 | E12: =VLOOKUP($B12, INDIRECT($V$10), 4, FALSE) -> 21.8 | F12: =VLOOKUP($B12, INDIRECT($V$10), 5, FALSE) -> 21.7 | G12: =VLOOKUP($B12, INDIRECT($V$10), 6, FALSE) -> 0.024266185 | H12: =VLOOKUP($B12, INDIRECT($V$10), 7, FALSE) -> -0.0057083133 | S12: 3 | T12: DRHRounded | W12: 29
B13: =TableA2Hide!B13 -> Tach 18 | D13: =VLOOKUP($B13, INDIRECT($V$10), 3, FALSE) -> 22.7 | E13: =VLOOKUP($B13, INDIRECT($V$10), 4, FALSE) -> 23.3 | F13: =VLOOKUP($B13, INDIRECT($V$10), 5, FALSE) -> 23.3 | G13: =VLOOKUP($B13, INDIRECT($V$10), 6, FALSE) -> 0.027498295 | H13: =VLOOKUP($B13, INDIRECT($V$10), 7, FALSE) -> -0.0033437219 | S13: 4 | T13: DNRRounded | W13: 28
B14: =TableA2Hide!B14 -> Rhag 18 | D14: =VLOOKUP($B14, INDIRECT($V$10), 3, FALSE) -> 21.4 | E14: =VLOOKUP($B14, INDIRECT($V$10), 4, FALSE) -> 21.5 | F14: =VLOOKUP($B14, INDIRECT($V$10), 5, FALSE) -> 21.5 | G14: =VLOOKUP($B14, INDIRECT($V$10), 6, FALSE) -> 0.0045113453 | H14: =VLOOKUP($B14, INDIRECT($V$10), 7, FALSE) -> -0.0020115025
B15: =TableA2Hide!B15 -> Ion 19 | D15: =VLOOKUP($B15, INDIRECT($V$10), 3, FALSE) -> 16.9 | E15: =VLOOKUP($B15, INDIRECT($V$10), 4, FALSE) -> 17.3 | F15: =VLOOKUP($B15, INDIRECT($V$10), 5, FALSE) -> 17.3 | G15: =VLOOKUP($B15, INDIRECT($V$10), 6, FALSE) -> 0.024766747 | H15: =VLOOKUP($B15, INDIRECT($V$10), 7, FALSE) -> 0.0010937121
B16: =TableA2Hide!B16 -> Chwef 19 | D16: =VLOOKUP($B16, INDIRECT($V$10), 3, FALSE) -> 15.1 | E16: =VLOOKUP($B16, INDIRECT($V$10), 4, FALSE) -> 15.6 | F16: =VLOOKUP($B16, INDIRECT($V$10), 5, FALSE) -> 15.7 | G16: =VLOOKUP($B16, INDIRECT($V$10), 6, FALSE) -> 0.035711168 | H16: =VLOOKUP($B16, INDIRECT($V$10), 7, FALSE) -> 0.0023087229
B17: =TableA2Hide!B17 -> Maw 19 | D17: =VLOOKUP($B17, INDIRECT($V$10), 3, FALSE) -> 19.7 | E17: =VLOOKUP($B17, INDIRECT($V$10), 4, FALSE) -> 20 | F17: =VLOOKUP($B17, INDIRECT($V$10), 5, FALSE) -> 19.9 | G17: =VLOOKUP($B17, INDIRECT($V$10), 6, FALSE) -> 0.018017156 | H17: =VLOOKUP($B17, INDIRECT($V$10), 7, FALSE) -> -0.0039383472
B18: =TableA2Hide!B18 -> Ebr 19 | D18: =VLOOKUP($B18, INDIRECT($V$10), 3, FALSE) -> 14.5 | E18: =VLOOKUP($B18, INDIRECT($V$10), 4, FALSE) -> 14.1 | F18: =VLOOKUP($B18, INDIRECT($V$10), 5, FALSE) -> 14 | G18: =VLOOKUP($B18, INDIRECT($V$10), 6, FALSE) -> -0.03085234 | H18: =VLOOKUP($B18, INDIRECT($V$10), 7, FALSE) -> -0.0053584424
B19: =TableA2Hide!B19 -> Mai 19 | D19: =VLOOKUP($B19, INDIRECT($V$10), 3, FALSE) -> 17.7 | E19: =VLOOKUP($B19, INDIRECT($V$10), 4, FALSE) -> 18 | F19: =VLOOKUP($B19, INDIRECT($V$10), 5, FALSE) -> 20.1 | G19: =VLOOKUP($B19, INDIRECT($V$10), 6, FALSE) -> 0.015440736 | H19: =VLOOKUP($B19, INDIRECT($V$10), 7, FALSE) -> 0.11469074
B20: =TableA2Hide!B20 -> Meh 19 | D20: =VLOOKUP($B20, INDIRECT($V$10), 3, FALSE) -> 15.8 | E20: =VLOOKUP($B20, INDIRECT($V$10), 4, FALSE) -> 17.2 | F20: =VLOOKUP($B20, INDIRECT($V$10), 5, FALSE) -> 17.1 | G20: =VLOOKUP($B20, INDIRECT($V$10), 6, FALSE) -> 0.089102347 | H20: =VLOOKUP($B20, INDIRECT($V$10), 7, FALSE) -> -0.0080990279
B21: =TableA2Hide!B21 -> Gorff 19 | D21: =VLOOKUP($B21, INDIRECT($V$10), 3, FALSE) -> 19.6 | E21: =VLOOKUP($B21, INDIRECT($V$10), 4, FALSE) -> 19.8 | F21: =VLOOKUP($B21, INDIRECT($V$10), 5, FALSE) -> 19.8 | G21: =VLOOKUP($B21, INDIRECT($V$10), 6, FALSE) -> 0.011441159 | H21: =VLOOKUP($B21, INDIRECT($V$10), 7, FALSE) -> -0.0011871931
B22: =TableA2Hide!B22 -> Awst 19 | D22: =VLOOKUP($B22, INDIRECT($V$10), 3, FALSE) -> 20.8 | E22: =VLOOKUP($B22, INDIRECT($V$10), 4, FALSE) -> 21.4 | F22: =VLOOKUP($B22, INDIRECT($V$10), 5, FALSE) -> 21.4 | G22: =VLOOKUP($B22, INDIRECT($V$10), 6, FALSE) -> 0.031490991 | H22: =VLOOKUP($B22, INDIRECT($V$10), 7, FALSE) -> -0.00042109265
B23: =TableA2Hide!B23 -> Medi 19 | C23: =IF(OR(S9=1, S9=4), TableA2Hide!A34, "") -> 2 | D23: =VLOOKUP($B23, INDIRECT($V$10), 3, FALSE) -> 19.2 | E23: =VLOOKUP($B23, INDIRECT($V$10), 4, FALSE) -> 22.3 | F23: =VLOOKUP($B23, INDIRECT($V$10), 5, FALSE) -> 22.2 | G23: =VLOOKUP($B23, INDIRECT($V$10), 6, FALSE) -> 0.15841686 | H23: =VLOOKUP($B23, INDIRECT($V$10), 7, FALSE) -> -0.0024222841
B24: =TableA2Hide!B24 -> Hyd 19 | D24: =VLOOKUP($B24, INDIRECT($V$10), 3, FALSE) -> 20.3 | E24: =VLOOKUP($B24, INDIRECT($V$10), 4, FALSE) -> 20.7 | F24: =VLOOKUP($B24, INDIRECT($V$10), 5, FALSE) -> 20.5 | G24: =VLOOKUP($B24, INDIRECT($V$10), 6, FALSE) -> 0.019157896 | H24: =VLOOKUP($B24, INDIRECT($V$10), 7, FALSE) -> -0.0053428682
B25: =TableA2Hide!B25 -> Tach 19 | D25: =VLOOKUP($B25, INDIRECT($V$10), 3, FALSE) -> 23.2 | E25: =VLOOKUP($B25, INDIRECT($V$10), 4, FALSE) -> 23.5 | F25: =VLOOKUP($B25, INDIRECT($V$10), 5, FALSE) -> 23.4 | G25: =VLOOKUP($B25, INDIRECT($V$10), 6, FALSE) -> 0.013392402 | H25: =VLOOKUP($B25, INDIRECT($V$10), 7, FALSE) -> -0.004263685
B26: =TableA2Hide!B26 -> Rhag 19 | D26: =VLOOKUP($B26, INDIRECT($V$10), 3, FALSE) -> 24.4 | E26: =VLOOKUP($B26, INDIRECT($V$10), 4, FALSE) -> 24.3 | F26: =VLOOKUP($B26, INDIRECT($V$10), 5, FALSE) -> 24.3 | G26: =VLOOKUP($B26, INDIRECT($V$10), 6, FALSE) -> -0.0018407602 | H26: =VLOOKUP($B26, INDIRECT($V$10), 7, FALSE) -> 0.00071884087
B27: =TableA2Hide!B27 -> Ion 20 | D27: =VLOOKUP($B27, INDIRECT($V$10), 3, FALSE) -> 16.2 | E27: =VLOOKUP($B27, INDIRECT($V$10), 4, FALSE) -> 20.6 | F27: =VLOOKUP($B27, INDIRECT($V$10), 5, FALSE) -> 20.3 | G27: =VLOOKUP($B27, INDIRECT($V$10), 6, FALSE) -> 0.2659639 | H27: =VLOOKUP($B27, INDIRECT($V$10), 7, FALSE) -> -0.011386199
B28: =TableA2Hide!B28 -> Chwef 20 | D28: =VLOOKUP($B28, INDIRECT($V$10), 3, FALSE) -> 16.5 | E28: =VLOOKUP($B28, INDIRECT($V$10), 4, FALSE) -> 16.6 | F28: =VLOOKUP($B28, INDIRECT($V$10), 5, FALSE) -> 16.6 | G28: =VLOOKUP($B28, INDIRECT($V$10), 6, FALSE) -> 0.0088695419 | H28: =VLOOKUP($B28, INDIRECT($V$10), 7, FALSE) -> -0.0033444692
B29: =TableA2Hide!B29 -> Maw 20 | D29: =VLOOKUP($B29, INDIRECT($V$10), 3, FALSE) -> 17.4 | E29: =VLOOKUP($B29, INDIRECT($V$10), 4, FALSE) -> 18.4 | F29: =VLOOKUP($B29, INDIRECT($V$10), 5, FALSE) | G29: =VLOOKUP($B29, INDIRECT($V$10), 6, FALSE) -> 0.055038664 | H29: =VLOOKUP($B29, INDIRECT($V$10), 7, FALSE)
B30: =TableA2Hide!B30 -> Ebr 20 | D30: =VLOOKUP($B30, INDIRECT($V$10), 3, FALSE) -> 10 | E30: =VLOOKUP($B30, INDIRECT($V$10), 4, FALSE) | F30: =VLOOKUP($B30, INDIRECT($V$10), 5, FALSE) | G30: =VLOOKUP($B30, INDIRECT($V$10), 6, FALSE) | H30: =VLOOKUP($B30, INDIRECT($V$10), 7, FALSE)
A32: 1 | B32: Mae'r dreth yn y tabl hwn wedi cael ei thalgrynnu i'r £0.1 miliwn agosaf.
A34: =IF(OR(S9=1, S9=4), TableA2Hide!A34, "") -> 2
