Workbook
Name CNRRounded: TableA1Hide!$B$96:$H$117
Name CNRRoundedHeader: TableA1Hide!$A$92
Name ContentsHead: Cynhwysion!$A$1
Name ContentsQuarterly: Cynhwysion!#REF!
Name CRERounded: TableA1Hide!$B$36:$H$57
Name CRERoundedHeader: TableA1Hide!$A$32
Name CRHRounded: TableA1Hide!$B$66:$H$87
Name CRHRoundedHeader: TableA1Hide!$A$62
Name CTORounded: TableA1Hide!$B$6:$H$27
Name CTORoundedHeader: TableA1Hide!$A$2
Name DNRRounded: TableA2Hide!$B$100:$H$121
Name DNRRoundedHeader: TableA2Hide!$A$96
Name DRERounded: TableA2Hide!$B$38:$H$59
Name DRERoundedHeader: TableA2Hide!$A$34
Name DRHRounded: TableA2Hide!$B$68:$H$89
Name DRHRoundedHeader: TableA2Hide!$A$64
Name DTORounded: TableA2Hide!$B$6:$H$27
Name DTORoundedHeader: TableA2Hide!$A$2
Name Table1: Tabl1!$A$2
Name Table1PreRelease: Tabl1!#REF!
Name Table2: Tabl2!$A$2
Name Table3: Tabl3!$A$2
Name Table4: Tabl4!$A$2
Name Table5: Tabl5!$A$2
Name Table5a: Tabl5!$A$25
Name Table5Quarter: Tabl5!$B$6:$B$14
Name Table6: Tabl6!$A$2
Name Table6a: Tabl6a!$B$2
Name Table7: Tabl7!$A$2
Name TableA1DeleteColumns: TablA1!$K:$Q
Name TableA1DeleteColumns: TableA1Hide!$K:$Q
Name TableA1FormulasHeader: TablA1!$A$4:$H$5
Name TableA1FormulasLabelControl: TablA1!$S$3
Name TableA1FormulasLabels: TableA1Hide!$V$4:$V$7
Name TableA1FormulasMonths: TablA1!$B$6:$H$27
Name TableA2DeleteColumns: TablA2!$K:$Q
Name TableA2DeleteColumns: TableA2Hide!$K:$Q
Name TableA2FormulasFootnotes: TablA2!$B$30:$H$32
Name TableA2FormulasHeader: TablA2!$A$4:$H$5
Name TableA2FormulasLabelControl: TablA2!$S$9
Name TableA2FormulasLabels: TableA2Hide!$V$10:$V$13
Name TableA2FormulasMonths: TablA2!$E$16:$E$18
Name TableCNR: TableA1Hide!$B$96:$H$117
Name TableCRE: TableA1Hide!$B$36:$H$57
Name TableCRH: TableA1Hide!$B$66:$H$87
Name TableCTO: TablA1!$B$6:$H$25
Name TableCTO: TableA1Hide!$B$6:$H$27
Name TableDNR: TableA2Hide!$B$100:$H$121
Name TableDRE: TableA2Hide!$B$38:$H$59
Name TableDRH: TableA2Hide!$B$68:$H$89
Name TableDTO: TablA2!$B$6:$H$27
Name TableDTO: TableA2Hide!$B$6:$H$27

Sheet Cynhwysion
A1: Ystadegau’r Dreth Trafodiadau Tir: Ionawr 2020
A3: Ar gyfer bob tablau a siartau: Mae ffurflenni treth a diwygiadau i ffurflenni treth a ddaeth i law yr Awdurdod hyd at 17.02.2020 (ac yn cynnwys y dyddiad hwn) yn cynnwys yn yr ystadegau hyn.
A4: Tabl 5: Mae ffurflenni treth a diwygiadau i ffurflenni treth a ddaeth i law yr Awdurdod hyd at 20.01.20 (ac yn cynnwys y dyddiad hwn) yn cynnwys yn yr ystadegau hyn. Caiff y tabl hyn ei diweddaru bob chwarter.
A6: Mae'r gwerthoedd am y cyfnod cyfredol yn rhai dros dro, a byddant yn cael eu diwygio mewn cyhoeddiadau yn y dyfodol. Bydd unrhyw newid a wneir yn ganlyniad i ffurflenni ychwanegol nad ydynt wedi eu derbyn eto, ac ad-daliadau sy’n berthnasol i rai trafodiadau preswyl cyfraddau uwch. Yn y cyhoeddiad hwn, mae gwerthoedd ar gyfer cyfnodau cynharach yn cael eu diwygio am yr un rhesymau.
A8: I gael gwybodaeth am y dulliau sy’n cael eu defnyddio, diwygiadau a sut mae dehongli’r ystadegau hyn, darllenwch ein datganiadau ystadegol ar wefan ACC.
A9: https://gov.wales/land-transaction-tax-statistics
A11: Ffynhonnell: Ffurflenni Treth Trafodiadau Tir i Awdurdod Cyllid Cymru
A12: Dyddiad cyhoeddi: 21.02.2020
A13: Cysylltwch â ni: data@acc.llyw.cymru
A15: Mae’r holl gynnwys ar gael dan y Drwydded Llywodraeth Agored, fersiwn 3.0, oni nodir yn wahanol.
A17: Cynhwysion
A19: Tablau data (cael eu diweddaru'n fisol)
A21: Tabl 1 | B21: Nifer y trafodiadau hysbysadwy a adroddwyd, y dreth sy’n ddyledus ar y trafodiadau hynny a’r gwerth a briodolwyd i'r eiddo sy’n agored i'r dreth, yn ôl dyddiad dod i rym
A22: Tabl 2 | B22: Nifer a gwerth yr eiddo a drethwyd, yn ôl math o drafodiad a dyddiad dod i rym
A23: Tabl 3 | B23: Nifer y trafodiadau preswyl, y dreth sy’n ddyledus ar yr eiddo hynny a gwerth yr eiddo a drethwyd, yn ôl band treth breswyl a dyddiad dod i rym
A24: Tabl 4 | B24: Nifer y trafodiadau amrheswyl, y dreth sy’n ddyledus ar yr eiddo hynny a gwerth yr eiddo a drethwyd, yn ôl gwerth a dyddiad dod i rym
A25: Tabl 5 | B25: Nifer a gwerth unrhyw ryddhad treth a gyhoeddwyd erbyn y dyddiad dod i rym
A26: Tabl 6 | B26: Nifer a gwerth unrhyw ad-daliadau treth a gyhoeddwyd erbyn y dyddiad dod i rym
A27: Tabl 6a | B27: Nifer a gwerth ad-daliadau preswyl cyfradd uwch yn ôl cyfnod o amser (sail arian parod)
A28: Tabl 7 | B28: Treth Trafodiadau Tir a dalwyd i'r Awdurdod
A30: Dadansoddiad o ddiwygiadau i ystadegau’r Dreth Trafodiadau Tir hyd at Jan-20
A32: Amcangyfrifon trafodiadau hysbysadwy a adroddwyd:
A33: Tabl A1 | B33: Pob trafodiadau, pob preswyl, preswyl cyfraddau uwch ac amhreswyl
A35: Amcangyfrifon treth yn ddyledus ar drafodiadau hysbysadwy a adroddwyd:
A36: Tabl A2 | B36: Pob trafodiadau, pob preswyl, refeniw ychwanegol o’r gyfradd uwch preswyl ac amhreswyl

Sheet Tabl1
A1: Nôl i'r dudalen cynnwys
A2: Tabl 1: Nifer y trafodiadau hysbysadwy a adroddwyd, y dreth sy’n ddyledus ar y trafodiadau hynny a’r gwerth a briodolwyd i'r eiddo sy’n agored i'r dreth, yn ôl dyddiad dod i rym
A4: Dyddiad dod i rym | D4: Trafodiadau (nifer) ¹ | I4: Treth yn ddyledus (£ miliwn) ² | N4: Gwerth yr eiddo a drethwyd (£ miliwn) ³
D5: Preswyl | E5: o'r rhain: | F5: Amhreswyl ⁴ | G5: Cyfanswm nifer y trafodiadau ⁵ | I5: Preswyl (r) | J5: o'r rhain: | K5: Amhreswyl ⁴ | L5: Cyfanswm treth yn ddyledus ⁵ (r) | N5: Preswyl | O5: o'r rhain: | P5: Amhreswyl ³ ⁴ | Q5: Cyfanswm gwerth yr eiddo a drethwyd ³ ⁵ | S5: Gwerth rhent ar gyfer lesoedd amhreswyl a roddwyd o’r newydd ³
E6: Cyfraddau uwch (r) | J6: Refeniw ychwanegol o’r gyfradd uwch ⁶ (r) | O6: Cyfraddau uwch (r)
A7: Gan flywddyn
B8: 2018-19 | D8: 55670 | E8: 12450 | F8: 6150 | G8: 61820 | I8: 150.2 | J8: 55.7 | K8: 73 | L8: 223.2 | N8: 9855 | O8: 1906 | P8: 2633 | Q8: 12488 | S8: 1289
B9: 2019-20 hyd yn hyn (p) | D9: 47050 | E9: 11610 | F9: 5020 | G9: 52060 | I9: 142.9 | J9: 55.9 | K9: 54.2 | L9: 197.2 | N9: 8624 | O9: 1942 | P9: 1733 | Q9: 10357 | S9: 1110
A10: Gan chwarter
B11: Ebrill - Mehefin 18 | D11: 13220 | E11: 2990 | F11: 1420 | G11: 14650 | I11: 31.9 | J11: 12.6 | K11: 15.4 | L11: 47.4 | N11: 2257 | O11: 430 | P11: 522 | Q11: 2779 | S11: 255
B12: Gorffenaf - Medi 18 | D12: 14840 | E12: 3180 | F12: 1480 | G12: 16330 | I12: 41.9 | J12: 14.6 | K12: 17.7 | L12: 59.6 | N12: 2686 | O12: 497 | P12: 692 | Q12: 3378 | S12: 388
B13: Hydref - Rhagfyr 18 | D13: 15760 | E13: 3370 | F13: 1690 | G13: 17440 | I13: 44.6 | J13: 15.9 | K13: 19.6 | L13: 64.2 | N13: 2847 | O13: 539 | P13: 659 | Q13: 3506 | S13: 319
B14: Ionawr - Mawrth 19 | D14: 11860 | E14: 2920 | F14: 1560 | G14: 13410 | I14: 31.8 | J14: 12.6 | K14: 20.3 | L14: 52.1 | N14: 2064 | O14: 439 | P14: 761 | Q14: 2825 | S14: 327
B15: Ebrill - Mehefin 19 | D15: 13240 | E15: 3180 | F15: 1510 | G15: 14750 | I15: 36.3 | J15: 14.4 | K15: 13.9 | L15: 50.1 | N15: 2397 | O15: 506 | P15: 375 | Q15: 2773 | S15: 373
B16: Gorffenaf - Medi 19 (r) | D16: 14910 | E16: 3590 | F16: 1550 | G16: 16460 | I16: 45.6 | J16: 17.6 | K16: 17 | L16: 62.6 | N16: 2738 | O16: 605 | P16: 634 | Q16: 3372 | S16: 318
B17: Hydref - Rhagfyr 19 (p) | D17: 15150 | E17: 3730 | F17: 1490 | G17: 16650 | I17: 48.2 | J17: 18.5 | K17: 19.9 | L17: 68.2 | N17: 2814 | O17: 642 | P17: 624 | Q17: 3438 | S17: 335
A18: Gan fis
B19: Ebrill 18 | D19: 3890 | E19: 930 | F19: 490 | G19: 4380 | I19: 9 | J19: 4 | K19: 6 | L19: 15 | N19: 638 | O19: 135 | P19: 217 | Q19: 855 | S19: 123
B20: Mai 18 | D20: 4350 | E20: 980 | F20: 460 | G20: 4810 | I20: 10 | J20: 4.1 | K20: 3.6 | L20: 13.6 | N20: 722 | O20: 140 | P20: 124 | Q20: 846 | S20: 66
B21: Mehefin 18 | D21: 4980 | E21: 1080 | F21: 480 | G21: 5460 | I21: 12.9 | J21: 4.5 | K21: 5.8 | L21: 18.8 | N21: 897 | O21: 154 | P21: 180 | Q21: 1078 | S21: 65
B22: Gorffenaf 18 | D22: 4850 | E22: 1090 | F22: 490 | G22: 5340 | I22: 13.3 | J22: 5 | K22: 8 | L22: 21.3 | N22: 862 | O22: 171 | P22: 332 | Q22: 1194 | S22: 98
B23: Awst 18 | D23: 5460 | E23: 1150 | F23: 530 | G23: 5990 | I23: 15.2 | J23: 5.2 | K23: 3.8 | L23: 19 | N23: 991 | O23: 175 | P23: 190 | Q23: 1182 | S23: 59
B24: Medi 18 | D24: 4540 | E24: 930 | F24: 470 | G24: 5000 | I24: 13.4 | J24: 4.4 | K24: 5.9 | L24: 19.3 | N24: 833 | O24: 151 | P24: 170 | Q24: 1003 | S24: 231
B25: Hydref 18 | D25: 5050 | E25: 1120 | F25: 600 | G25: 5650 | I25: 14.5 | J25: 5.2 | K25: 6.6 | L25: 21.1 | N25: 908 | O25: 177 | P25: 221 | Q25: 1129 | S25: 112
B26: Tachwedd 18 | D26: 5780 | E26: 1230 | F26: 550 | G26: 6340 | I26: 16.7 | J26: 5.9 | K26: 5.6 | L26: 22.2 | N26: 1051 | O26: 200 | P26: 177 | Q26: 1228 | S26: 113
B27: Rhagfyr 18 | D27: 4930 | E27: 1020 | F27: 530 | G27: 5460 | I27: 13.4 | J27: 4.8 | K27: 7.4 | L27: 20.8 | N27: 889 | O27: 163 | P27: 260 | Q27: 1149 | S27: 94
B28: Ionawr 19 | D28: 3580 | E28: 890 | F28: 440 | G28: 4020 | I28: 10.3 | J28: 4 | K28: 6.9 | L28: 17.2 | N28: 637 | O28: 138 | P28: 209 | Q28: 846 | S28: 50
B29: Chwefror 19 | D29: 3860 | E29: 940 | F29: 460 | G29: 4320 | I29: 9.9 | J29: 3.9 | K29: 5.4 | L29: 15.3 | N29: 659 | O29: 137 | P29: 161 | Q29: 819 | S29: 127
B30: Mawrth 19 | D30: 4410 | E30: 1090 | F30: 660 | G30: 5070 | I30: 11.5 | J30: 4.7 | K30: 8.1 | L30: 19.6 | N30: 769 | O30: 165 | P30: 391 | Q30: 1160 | S30: 150
... B40: Ionawr 20 (p) | D40: 3740 | E40: 1110 | F40: 470 | G40: 4210 | I40: 12.8 | J40: 5.4 | K40: 3.4 | L40: 16.2 | N40: 674 | O40: 188 | P40: 100 | Q40: 774 | S40: 84
A43: 1 | B43: Mae'r gwerthoedd yn y tabl hwn wedi cael eu talgrynnu i'r 10 trafodiad agosaf.
A44: 2 | B44: Mae'r dreth yn y tabl hwn wedi cael ei thalgrynnu i'r £0.1 miliwn agosaf.
A45: 3 | B45: Mae'r gwerthoedd yn y tabl hwn wedi cael eu talgrynnu i'r £1 miliwn agosaf. Gall lesoedd amhreswyl sydd wedi’u rhoi o’r newydd fod â naill ai gwerth premiwm, gwerth rhent neu'r ddau (caiff y term 'premiwm' ei ddisgrifio'n fwy cywir fel 'cydnabyddiaeth heblaw am rent'). Y gwerth rhent yw gwerth net presennol (NPV) y rhenti. Yn y tabl hwn, dim ond yr elfen bremiwm sy'n cael ei chynnwys yn y golofn 'cyfanswm gwerth yr eiddo sydd wedi'i drethu'. Dangosir y gwerth rhent ar wahân yn y golofn i'r dde o'r cyfanswm. Ni ddylid ychwanegu'r gwerth rhent at gyfanswm gwerth yr eiddo sydd wedi’i drethu, gan eu bod yn gysyniadau gwahanol. Ceir mwy o wybodaeth am elfen rhent y trafodiadau hyn yn Nhabl 4.
A46: 4 | B46: Mae’r categori ‘eiddo amhreswyl’ yn cynnwys eiddo nad ydynt yn gyfan gwbl breswyl (hy y rheini sy’n cynnwys elfennau preswyl a masnachol).
A47: 5 | B47: Mae’r cyfanswm wedi’i gyfrifo ar sail y gwerthoedd heb eu talgrynnu.
A48: 6 | B48: Nodwch mai dim ond refeniw ychwanegol o drafodiadau cyfradd uwch sydd yn y golofn hon. Nid yw'r golofn hon yn cynnwys elfen prif gyfradd trafodiadau cyfradd uwch.
A49: (p) | B49: Mae'r gwerthoedd yn rhai dros dro a byddant yn cael eu diwygio mewn cyhoeddiad yn y dyfodol. Gweler y dudalen gynnwys am ragor o wybodaeth.
A50: (r) | B50: Mae'r gwerthoedd wedi cael eu diwygio. Gweler y dudalen gynnwys am ragor o wybodaeth.

Sheet Tabl2
A1: Nôl i'r dudalen cynnwys
A2: Tabl 2: Nifer a gwerth yr eiddo a drethwyd, yn ôl math o drafodiad a dyddiad dod i rym
A4: Dyddiad dod i rym | C4: Trawsgludo / trosglwyddo perchnogaeth ¹ | E4: Rhoi les newydd | F4: Aseinio les | G4: Cyfanswm ²
C5: Nifer | D5: Cyfanswm gwerth (£ miliwn) | E5: Nifer | F5: Nifer | G5: Nifer
A6: Gan flywddyn
B7: 2018-19 | C7: 56510 | D7: 11662 | E7: 2620 | F7: 2690 | G7: 61820
B8: 2019-20 hyd yn hyn (p) | C8: 47630 | D8: 9873 | E8: 2360 | F8: 2080 | G8: 52060
A9: Gan chwarter
B10: Ebrill - Mehefin 18 | C10: 13300 | D10: 2604 | E10: 650 | F10: 690 | G10: 14650
B11: Gorffenaf - Medi 18 | C11: 15020 | D11: 3159 | E11: 610 | F11: 700 | G11: 16330
B12: Hydref - Rhagfyr 18 | C12: 16020 | D12: 3271 | E12: 710 | F12: 710 | G12: 17440
B13: Ionawr - Mawrth 19 | C13: 12170 | D13: 2627 | E13: 650 | F13: 590 | G13: 13410
B14: Ebrill - Mehefin 19 | C14: 13470 | D14: 2608 | E14: 680 | F14: 590 | G14: 14750
B15: Gorffenaf - Medi 19 (r) | C15: 15050 | D15: 3226 | E15: 780 | F15: 630 | G15: 16460
B16: Hydref - Rhagfyr 19 (p) | C16: 15320 | D16: 3303 | E16: 660 | F16: 660 | G16: 16650
A17: Gan fis
B18: Ebrill 18 | C18: 3960 | D18: 783 | E18: 220 | F18: 210 | G18: 4380
B19: Mai 18 | C19: 4380 | D19: 803 | E19: 200 | F19: 230 | G19: 4810
B20: Mehefin 18 | C20: 4970 | D20: 1018 | E20: 230 | F20: 260 | G20: 5460
B21: Gorffenaf 18 | C21: 4920 | D21: 1121 | E21: 180 | F21: 240 | G21: 5340
B22: Awst 18 | C22: 5510 | D22: 1123 | E22: 210 | F22: 270 | G22: 5990
B23: Medi 18 | C23: 4600 | D23: 915 | E23: 210 | F23: 190 | G23: 5000
B24: Hydref 18 | C24: 5180 | D24: 1072 | E24: 240 | F24: 230 | G24: 5650
B25: Tachwedd 18 | C25: 5840 | D25: 1166 | E25: 240 | F25: 250 | G25: 6340
B26: Rhagfyr 18 | C26: 5000 | D26: 1033 | E26: 230 | F26: 230 | G26: 5460
B27: Ionawr 19 | C27: 3660 | D27: 762 | E27: 180 | F27: 190 | G27: 4020
B28: Chwefror 19 | C28: 3920 | D28: 765 | E28: 200 | F28: 200 | G28: 4320
B29: Mawrth 19 | C29: 4580 | D29: 1100 | E29: 270 | F29: 210 | G29: 5070
... B39: Ionawr 20 (p) | C39: 3790 | D39: 735 | E39: 230 | F39: 190 | G39: 4210
A42: 1 | B42: Mae trawsgludo / trosglwyddo perchnogaeth yn cynnwys nifer bach o drafodiadau sydd yn y categori ‘Arall’.
A43: 2 | B43: Mae'r gwerthoedd yn y tabl hwn wedi cael eu talgrynnu i'r £1 miliwn agosaf. Mae’r cyfanswm wedi’i gyfrifo ar sail y gwerthoedd heb eu talgrynnu.
A44: (p) | B44: Mae'r gwerthoedd yn rhai dros dro a byddant yn cael eu diwygio mewn cyhoeddiad yn y dyfodol. Gweler y dudalen gynnwys am ragor o wybodaeth.
A45: (r) | B45: Mae'r gwerthoedd wedi cael eu diwygio. Gweler y dudalen gynnwys am ragor o wybodaeth.

Sheet Tabl3
A1: Nôl i'r dudalen cynnwys
A2: Tabl 3: Nifer y trafodiadau preswyl, y dreth sy’n ddyledus ar yr eiddo hynny a gwerth yr eiddo a drethwyd, yn ôl band treth breswyl a dyddiad dod i rym
A4: Dyddiad dod i rym | C4: Trafodiadau yn ôl band treth breswyl (nifer) ¹ | J4: Treth yn ddyledus yn ôl bandiau treth amhreswyl (£ miliwn) ² | Q4: Gwerth yr eiddo a drethwyd (£ miliwn) ³
C5: Hyd at a gan gynnwys £180,000 | D5: £180,001 - £250,000 | E5: £250,001 - 400,000 | F5: £400,001 -£750,000 | G5: £750,001 - £1.5m | H5: Dros £1.5m | I5: Cyfanswm ⁴ | J5: Hyd at a gan gynnwys £180,000 | K5: £180,001 - £250,000 | L5: £250,001 - 400,000 | M5: £400,001 -£750,000 | N5: £750,001 - £1.5m | O5: Dros £1.5m | P5: Cyfanswm ⁴ | Q5: Hyd at a gan gynnwys £180,000 | R5: £180,001 - £250,000 | S5: £250,001 - 400,000 | T5: £400,001 -£750,000 | U5: £750,001 - £1.5m | V5: Dros £1.5m | W5: Cyfanswm ⁴
A6: Gan flywddyn
B7: 2018-19 | C7: 35560 | D7: 10160 | E7: 7680 | F7: 2090 | G7: 160 | H7: 20 | I7: 55670 | J7: 28 | K7: 21.8 | L7: 51.9 | M7: 39.7 | N7: 7.7 | O7: 1.1 | P7: 150.2 | Q7: 4063 | R7: 2172 | S7: 2374 | T7: 1042 | U7: 144 | V7: 60 | W7: 9855
B8: 2019-20 hyd yn hyn (p) | C8: 28910 | D8: 8980 | E8: 7080 | F8: 1900 | G8: 150 | H8: 20 | I8: 47050 | J8: 24.5 | K8: 20.6 | L8: 49.2 | M8: 39.1 | N8: 8.3 | O8: 1.2 | P8: 142.9 | Q8: 3344 | R8: 1916 | S8: 2183 | T8: 953 | U8: 141 | V8: 86 | W8: 8624
A9: Gan chwarter
B10: Ebrill - Mehefin 18 | C10: 8730 | D10: 2370 | E10: 1670 | F10: 420 | G10: 20 | H10: * | I10: 13220 | J10: 7.1 | K10: 5 | L10: 11 | M10: 7.7 | N10: 0.9 | O10: * | P10: 31.9 | Q10: 994 | R10: 504 | S10: 516 | T10: 208 | U10: 21 | V10: * | W10: 2257
B11: Gorffenaf - Medi 18 | C11: 9210 | D11: 2800 | E11: 2160 | F11: 630 | G11: 40 | H11: * | I11: 14840 | J11: 7 | K11: 6 | L11: 14.6 | M11: 12.1 | N11: 2.2 | O11: * | P11: 41.9 | Q11: 1059 | R11: 597 | S11: 670 | T11: 318 | U11: 39 | V11: * | W11: 2686
B12: Hydref - Rhagfyr 18 | C12: 9840 | D12: 2960 | E12: 2270 | F12: 620 | G12: 60 | H12: 10 | I12: 15760 | J12: 7.5 | K12: 6.2 | L12: 15.5 | M12: 12 | N12: 2.7 | O12: 0.7 | P12: 44.6 | Q12: 1141 | R12: 633 | S12: 703 | T12: 306 | U12: 50 | V12: 14 | W12: 2847
B13: Ionawr - Mawrth 19 | C13: 7780 | D13: 2040 | E13: 1570 | F13: 420 | G13: 40 | H13: * | I13: 11860 | J13: 6.4 | K13: 4.6 | L13: 10.9 | M13: 8 | N13: 1.9 | O13: * | P13: 31.8 | Q13: 869 | R13: 438 | S13: 485 | T13: 210 | U13: 34 | V13: * | W13: 2064
B14: Ebrill - Mehefin 19 | C14: 8350 | D14: 2440 | E14: 1950 | F14: 460 | G14: 30 | H14: 10 | I14: 13240 | J14: 7 | K14: 5.4 | L14: 13.1 | M14: 8.9 | N14: 1.7 | O14: 0.3 | P14: 36.3 | Q14: 958 | R14: 521 | S14: 600 | T14: 230 | U14: 32 | V14: 57 | W14: 2397
B15: Gorffenaf - Medi 19 (r) | C15: 9160 | D15: 2890 | E15: 2190 | F15: 630 | G15: 50 | H15: * | I15: 14910 | J15: 7.7 | K15: 6.6 | L15: 15.2 | M15: 13.3 | N15: 2.5 | O15: * | P15: 45.6 | Q15: 1070 | R15: 615 | S15: 676 | T15: 317 | U15: 43 | V15: * | W15: 2738
B16: Hydref - Rhagfyr 19 (p) | C16: 9050 | D16: 2980 | E16: 2420 | F16: 640 | G16: 60 | H16: * | I16: 15150 | J16: 7.6 | K16: 6.9 | L16: 17 | M16: 13.3 | N16: 3.1 | O16: * | P16: 48.2 | Q16: 1051 | R16: 637 | S16: 747 | T16: 321 | U16: 50 | V16: * | W16: 2814
A17: Gan fis
B18: Ebrill 18 | C18: 2680 | D18: 660 | E18: 440 | F18: 100 | G18: * | H18: * | I18: 3890 | J18: 2.3 | K18: 1.4 | L18: 3 | M18: 2 | N18: * | O18: * | P18: 9 | Q18: 306 | R18: 139 | S18: 137 | T18: 51 | U18: * | V18: * | W18: 638
B19: Mai 18 | C19: 2970 | D19: 710 | E19: 540 | F19: 130 | G19: 10 | H19: * | I19: 4350 | J19: 2.3 | K19: 1.5 | L19: 3.5 | M19: 2.4 | N19: 0.3 | O19: * | P19: 10 | Q19: 335 | R19: 150 | S19: 165 | T19: 63 | U19: 8 | V19: * | W19: 722
B20: Mehefin 18 | C20: 3080 | D20: 1000 | E20: 690 | F20: 190 | G20: 10 | H20: * | I20: 4980 | J20: 2.5 | K20: 2 | L20: 4.5 | M20: 3.3 | N20: 0.4 | O20: * | P20: 12.9 | Q20: 353 | R20: 214 | S20: 214 | T20: 94 | U20: 9 | V20: * | W20: 897
B21: Gorffenaf 18 | C21: 3080 | D21: 880 | E21: 700 | F21: 180 | G21: 10 | H21: * | I21: 4850 | J21: 2.5 | K21: 1.9 | L21: 4.8 | M21: 3.5 | N21: 0.6 | O21: * | P21: 13.3 | Q21: 353 | R21: 187 | S21: 218 | T21: 91 | U21: 12 | V21: * | W21: 862
B22: Awst 18 | C22: 3380 | D22: 1030 | E22: 780 | F22: 250 | G22: 10 | H22: * | I22: 5460 | J22: 2.6 | K22: 2.2 | L22: 5.2 | M22: 4.8 | N22: 0.5 | O22: * | P22: 15.2 | Q22: 393 | R22: 221 | S22: 243 | T22: 124 | U22: 10 | V22: * | W22: 991
B23: Medi 18 | C23: 2750 | D23: 890 | E23: 680 | F23: 200 | G23: 20 | H23: * | I23: 4540 | J23: 2 | K23: 1.9 | L23: 4.6 | M23: 3.8 | N23: 1.1 | O23: * | P23: 13.4 | Q23: 314 | R23: 190 | S23: 209 | T23: 103 | U23: 18 | V23: * | W23: 833
B24: Hydref 18 | C24: 3180 | D24: 950 | E24: 700 | F24: 200 | G24: 20 | H24: * | I24: 5050 | J24: 2.5 | K24: 2.2 | L24: 4.8 | M24: 4 | N24: 0.8 | O24: * | P24: 14.5 | Q24: 365 | R24: 204 | S24: 216 | T24: 101 | U24: 15 | V24: * | W24: 908
B25: Tachwedd 18 | C25: 3630 | D25: 1040 | E25: 860 | F25: 220 | G25: 30 | H25: * | I25: 5780 | J25: 2.7 | K25: 2.1 | L25: 5.9 | M25: 4.4 | N25: 1.4 | O25: * | P25: 16.7 | Q25: 422 | R25: 222 | S25: 265 | T25: 111 | U25: 26 | V25: * | W25: 1051
B26: Rhagfyr 18 | C26: 3040 | D26: 970 | E26: 720 | F26: 200 | G26: 10 | H26: * | I26: 4930 | J26: 2.3 | K26: 2 | L26: 4.8 | M26: 3.5 | N26: 0.5 | O26: * | P26: 13.4 | Q26: 354 | R26: 207 | S26: 221 | T26: 94 | U26: 10 | V26: * | W26: 889
B27: Ionawr 19 | C27: 2350 | D27: 610 | E27: 470 | F27: 130 | G27: 20 | H27: * | I27: 3580 | J27: 2 | K27: 1.4 | L27: 3.3 | M27: 2.6 | N27: 1 | O27: * | P27: 10.3 | Q27: 263 | R27: 130 | S27: 146 | T27: 66 | U27: 17 | V27: * | W27: 637
B28: Chwefror 19 | C28: 2570 | D28: 660 | E28: 500 | F28: 130 | G28: 10 | H28: * | I28: 3860 | J28: 2.1 | K28: 1.5 | L28: 3.3 | M28: 2.6 | N28: 0.4 | O28: * | P28: 9.9 | Q28: 288 | R28: 142 | S28: 152 | T28: 67 | U28: 9 | V28: * | W28: 659
B29: Mawrth 19 | C29: 2860 | D29: 780 | E29: 600 | F29: 160 | G29: 10 | H29: * | I29: 4410 | J29: 2.3 | K29: 1.7 | L29: 4.3 | M29: 2.8 | N29: 0.4 | O29: * | P29: 11.5 | Q29: 317 | R29: 166 | S29: 186 | T29: 77 | U29: 7 | V29: * | W29: 769
B30: Ebrill 19 | C30: 2580 | D30: 720 | E30: 560 | F30: 150 | G30: 10 | H30: 10 | I30: 4020 | J30: 2.2 | K30: 1.5 | L30: 3.7 | M30: 2.8 | N30: 0.2 | O30: * | P30: 10.6 | Q30: 293 | R30: 151 | S30: 171 | T30: 75 | U30: 7 | V30: 51 | W30: 748
B31: Mai 19 | C31: 2950 | D31: 820 | E31: 640 | F31: 140 | G31: 20 | H31: * | I31: 4560 | J31: 2.5 | K31: 1.7 | L31: 4.4 | M31: 2.8 | N31: 0.9 | O31: * | P31: 12.3 | Q31: 336 | R31: 174 | S31: 197 | T31: 70 | U31: 15 | V31: * | W31: 794
B32: Mehefin 19 | C32: 2820 | D32: 910 | E32: 760 | F32: 170 | G32: 10 | H32: * | I32: 4660 | J32: 2.2 | K32: 2.1 | L32: 5 | M32: 3.3 | N32: 0.6 | O32: * | P32: 13.4 | Q32: 329 | R32: 195 | S32: 232 | T32: 85 | U32: 10 | V32: * | W32: 856
B33: Gorffenaf 19 | C33: 3100 | D33: 970 | E33: 720 | F33: 200 | G33: 10 | H33: * | I33: 5010 | J33: 2.6 | K33: 2.2 | L33: 5 | M33: 4.1 | N33: 0.5 | O33: * | P33: 14.5 | Q33: 360 | R33: 207 | S33: 223 | T33: 102 | U33: 10 | V33: * | W33: 917
B34: Awst 19 | C34: 3150 | D34: 1040 | E34: 810 | F34: 240 | G34: 20 | H34: * | I34: 5260 | J34: 2.7 | K34: 2.4 | L34: 5.6 | M34: 5.2 | N34: 1.2 | O34: * | P34: 17.4 | Q34: 373 | R34: 222 | S34: 251 | T34: 122 | U34: 19 | V34: * | W34: 989
B35: Medi 19 | C35: 2910 | D35: 880 | E35: 650 | F35: 180 | G35: 20 | H35: * | I35: 4640 | J35: 2.4 | K35: 2.1 | L35: 4.5 | M35: 4 | N35: 0.8 | O35: * | P35: 13.7 | Q35: 337 | R35: 186 | S35: 202 | T35: 93 | U35: 14 | V35: * | W35: 833
B36: Hydref 19 (r) | C36: 3070 | D36: 970 | E36: 790 | F36: 210 | G36: 20 | H36: * | I36: 5060 | J36: 2.6 | K36: 2.3 | L36: 5.5 | M36: 4.3 | N36: 1.3 | O36: * | P36: 16.1 | Q36: 354 | R36: 206 | S36: 241 | T36: 104 | U36: 22 | V36: * | W36: 929
B37: Tachwedd 19 (r) | C37: 3040 | D37: 1070 | E37: 860 | F37: 230 | G37: 20 | H37: * | I37: 5220 | J37: 2.5 | K37: 2.4 | L37: 6 | M37: 4.7 | N37: 1.1 | O37: * | P37: 17 | Q37: 354 | R37: 230 | S37: 265 | T37: 116 | U37: 18 | V37: * | W37: 984
B38: Rhagfyr 19 (r) | C38: 2940 | D38: 940 | E38: 780 | F38: 200 | G38: 10 | H38: * | I38: 4880 | J38: 2.5 | K38: 2.2 | L38: 5.5 | M38: 4.2 | N38: 0.7 | O38: * | P38: 15.1 | Q38: 344 | R38: 201 | S38: 241 | T38: 100 | U38: 10 | V38: * | W38: 902
B39: Ionawr 20 (p) | C39: 2360 | D39: 670 | E39: 520 | F39: 170 | G39: 20 | H39: * | I39: 3740 | J39: 2.3 | K39: 1.7 | L39: 4 | M39: 3.6 | N39: 1 | O39: * | P39: 12.8 | Q39: 265 | R39: 143 | S39: 161 | T39: 85 | U39: 16 | V39: * | W39: 674
A42: 1 | B42: Mae'r gwerthoedd yn y tabl hwn wedi cael eu talgrynnu i'r 10 agosaf. Sylwch fod y tabl hwn yn cynnwys trafodiadau les preswyl.
A43: 2 | B43: Mae'r gwerthoedd yn y tabl hwn wedi cael eu talgrynnu i'r £0.1 miliwn agosaf. Sylwch fod y tabl hwn yn cynnwys y dreth sy'n ddyledus ar drafodiadau les preswyl.
A44: 3 | B44: Mae’r cyfanswm wedi’i gyfrifo ar sail y gwerthoedd heb eu talgrynnu.
A45: 4 | B45: Mae’r cyfanswm wedi’i gyfrifo ar sail y gwerthoedd heb eu talgrynnu.
A46: (p) | B46: Mae'r gwerthoedd yn rhai dros dro a byddant yn cael eu diwygio mewn cyhoeddiad yn y dyfodol. Gweler y dudalen gynnwys am ragor o wybodaeth.
A47: (r) | B47: Mae'r gwerthoedd wedi cael eu diwygio. Gweler y dudalen gynnwys am ragor o wybodaeth.
A48: * | B48: Yw gwerth sydd heb fod yn ddigon mawr i’w gyflwyno ac sydd wedi cael ei atal.

Sheet Tabl4
A1: Nôl i'r dudalen cynnwys
A2: Tabl 4: Nifer y trafodiadau amrheswyl, y dreth sy’n ddyledus ar yr eiddo hynny a gwerth yr eiddo a drethwyd, yn ôl gwerth a dyddiad dod i rym
A4: Dyddiad dod i rym | D4: Trafodiadau (nifer) | M4: Treth yn ddyledus (£ miliwn) | U4: Gwerth yr eiddo a drethwyd (£ miliwn)
D5: Gwerth nad yw’n werth rhent | I5: Gwerth rhent | M5: Gwerth nad yw’n werth rhent | U5: Gwerth nad yw’n werth rhent | AA5: Gwerth rhent ar gyfer lesoedd amhreswyl a roddwyd o’r newydd ⁵
D6: Hyd at a gan gynnwys £150,000 (r) | E6: £150,001 - £250,000 | F6: £250,001 - £1m | G6: Dros £1m | I6: Dim premiwm wedi ei dalu ² | J6: Premiwm wedi ei dalu ² ³ | K6: Cyfanswm ³ ⁴ | M6: Hyd at a gan gynnwys £150,000 | N6: £150,001 - £250,000 | O6: £250,001 - £1m | P6: Dros £1m | R6: Rental value | S6: Cyfanswm ⁴ | U6: Hyd at a gan gynnwys £150,000 | V6: £150,001 - £250,000 | W6: £250,001 - £1m | X6: Dros £1m | Y6: Cyfanswm ⁴ ⁵
A7: Gan flywddyn
B8: 2018-19 | D8: 2430 | E8: 710 | F8: 1140 | G8: 360 | I8: 1500 | J8: 180 | K8: 6150 | M8: 0.1 | N8: 0.4 | O8: 12.5 | P8: 49.5 | R8: 10.5 | S8: 73 | U8: 177 | V8: 141 | W8: 552 | X8: 1762 | Y8: 2633 | AA8: 1289
B9: 2019-20 hyd yn hyn (p) | D9: 1990 | E9: 560 | F9: 930 | G9: 260 | I9: 1270 | J9: 130 | K9: 5020 | M9: 0.1 | N9: 0.3 | O9: 10.6 | P9: 32.7 | R9: 10.5 | S9: 54.2 | U9: 146 | V9: 111 | W9: 454 | X9: 1022 | Y9: 1733 | AA9: 1110
A10: Gan chwarter
B11: Ebrill - Mehefin 18 | D11: 590 | E11: 170 | F11: 240 | G11: 80 | I11: 350 | J11: 50 | K11: 1420 | M11: ~ | N11: 0.1 | O11: 2.7 | P11: 10 | R11: 2.6 | S11: 15.4 | U11: 42 | V11: 34 | W11: 118 | X11: 327 | Y11: 522 | AA11: 255
B12: Gorffenaf - Medi 18 | D12: 600 | E12: 160 | F12: 280 | G12: 80 | I12: 370 | J12: 40 | K12: 1480 | M12: ~ | N12: 0.1 | O12: 3.1 | P12: 11.5 | R12: 3 | S12: 17.7 | U12: 44 | V12: 33 | W12: 129 | X12: 486 | Y12: 692 | AA12: 388
B13: Hydref - Rhagfyr 18 | D13: 660 | E13: 200 | F13: 340 | G13: 100 | I13: 390 | J13: 60 | K13: 1690 | M13: ~ | N13: 0.1 | O13: 3.7 | P13: 13.7 | R13: 2.1 | S13: 19.6 | U13: 49 | V13: 39 | W13: 160 | X13: 411 | Y13: 659 | AA13: 319
B14: Ionawr - Mawrth 19 | D14: 580 | E14: 180 | F14: 290 | G14: 110 | I14: 400 | J14: 30 | K14: 1560 | M14: ~ | N14: 0.1 | O14: 3 | P14: 14.4 | R14: 2.8 | S14: 20.3 | U14: 43 | V14: 35 | W14: 145 | X14: 538 | Y14: 761 | AA14: 327
B15: Ebrill - Mehefin 19 | D15: 650 | E15: 190 | F15: 250 | G15: 60 | I15: 350 | J15: 40 | K15: 1510 | M15: ~ | N15: 0.1 | O15: 2.7 | P15: 6.4 | R15: 4.6 | S15: 13.9 | U15: 45 | V15: 38 | W15: 120 | X15: 172 | Y15: 375 | AA15: 373
B16: Gorffenaf - Medi 19 (r) | D16: 540 | E16: 170 | F16: 300 | G16: 100 | I16: 450 | J16: 30 | K16: 1550 | M16: ~ | N16: 0.1 | O16: 3.3 | P16: 11.6 | R16: 2 | S16: 17 | U16: 40 | V16: 34 | W16: 144 | X16: 416 | Y16: 634 | AA16: 318
B17: Hydref - Rhagfyr 19 (p) | D17: 610 | E17: 150 | F17: 290 | G17: 90 | I17: 340 | J17: 30 | K17: 1490 | M17: ~ | N17: 0.1 | O17: 3.5 | P17: 13.6 | R17: 2.7 | S17: 19.9 | U17: 46 | V17: 30 | W17: 143 | X17: 405 | Y17: 624 | AA17: 335
A18: Gan fis
B19: Ebrill 18 | D19: 200 | E19: 60 | F19: 80 | G19: 30 | I19: 120 | J19: 10 | K19: 490 | M19: ~ | N19: ~ | O19: 1 | P19: 3.6 | R19: * | S19: 6 | U19: 15 | V19: 12 | W19: 42 | X19: 148 | Y19: 217 | AA19: 123
B20: Mai 18 | D20: 200 | E20: 50 | F20: 80 | G20: 20 | I20: 110 | J20: 20 | K20: 460 | M20: ~ | N20: ~ | O20: 0.8 | P20: 2.1 | R20: 0.6 | S20: 3.6 | U20: 14 | V20: 10 | W20: 36 | X20: 64 | Y20: 124 | AA20: 66
B21: Mehefin 18 | D21: 180 | E21: 60 | F21: 80 | G21: 40 | I21: 120 | J21: 10 | K21: 480 | M21: ~ | N21: ~ | O21: 0.9 | P21: 4.2 | R21: 0.6 | S21: 5.8 | U21: 13 | V21: 12 | W21: 40 | X21: 115 | Y21: 180 | AA21: 65
B22: Gorffenaf 18 | D22: 210 | E22: 60 | F22: 80 | G22: 30 | I22: 110 | J22: 20 | K22: 490 | M22: ~ | N22: ~ | O22: 1 | P22: 5.7 | R22: 1.3 | S22: 8 | U22: 15 | V22: 12 | W22: 39 | X22: 265 | Y22: 332 | AA22: 98
B23: Awst 18 | D23: 230 | E23: 50 | F23: 110 | G23: 30 | I23: 110 | J23: 10 | K23: 530 | M23: ~ | N23: ~ | O23: 1.3 | P23: 2.2 | R23: 0.2 | S23: 3.8 | U23: 16 | V23: 10 | W23: 53 | X23: 112 | Y23: 190 | AA23: 59
B24: Medi 18 | D24: 170 | E24: 50 | F24: 80 | G24: 20 | I24: 150 | J24: 10 | K24: 470 | M24: ~ | N24: ~ | O24: 0.8 | P24: 3.5 | R24: 1.5 | S24: 5.9 | U24: 13 | V24: 11 | W24: 37 | X24: 109 | Y24: 170 | AA24: 231
B25: Hydref 18 | D25: 250 | E25: 70 | F25: 120 | G25: 30 | I25: 140 | J25: 40 | K25: 600 | M25: ~ | N25: ~ | O25: 1.3 | P25: 4 | R25: 1.2 | S25: 6.6 | U25: 18 | V25: 14 | W25: 58 | X25: 131 | Y25: 221 | AA25: 112
B26: Tachwedd 18 | D26: 200 | E26: 70 | F26: 110 | G26: 30 | I26: 150 | J26: 10 | K26: 550 | M26: ~ | N26: ~ | O26: 1.2 | P26: 4.1 | R26: 0.2 | S26: 5.6 | U26: 16 | V26: 13 | W26: 52 | X26: 96 | Y26: 177 | AA26: 113
B27: Rhagfyr 18 | D27: 220 | E27: 60 | F27: 110 | G27: 40 | I27: 110 | J27: 20 | K27: 530 | M27: * | N27: ~ | O27: 1.1 | P27: 5.6 | R27: 0.6 | S27: 7.4 | U27: 14 | V27: 12 | W27: 50 | X27: 184 | Y27: 260 | AA27: 94
B28: Ionawr 19 | D28: 170 | E28: 50 | F28: 80 | G28: 30 | I28: 110 | J28: 10 | K28: 440 | M28: * | N28: ~ | O28: 0.9 | P28: 5.5 | R28: 0.4 | S28: 6.9 | U28: 13 | V28: 11 | W28: 39 | X28: 147 | Y28: 209 | AA28: 50
B29: Chwefror 19 | D29: 160 | E29: 60 | F29: 80 | G29: 30 | I29: 130 | J29: 10 | K29: 460 | M29: ~ | N29: ~ | O29: 0.8 | P29: 3.2 | R29: 1.4 | S29: 5.4 | U29: 12 | V29: 11 | W29: 39 | X29: 99 | Y29: 161 | AA29: 127
B30: Mawrth 19 | D30: 250 | E30: 70 | F30: 140 | G30: 50 | I30: 160 | J30: 10 | K30: 660 | M30: ~ | N30: ~ | O30: 1.3 | P30: 5.7 | R30: 1 | S30: 8.1 | U30: 18 | V30: 14 | W30: 67 | X30: 293 | Y30: 391 | AA30: 150
B31: Ebrill 19 | D31: 230 | E31: 70 | F31: 100 | G31: 20 | I31: 110 | J31: 10 | K31: 530 | M31: ~ | N31: ~ | O31: 1.1 | P31: 1.2 | R31: 0.6 | S31: 2.9 | U31: 16 | V31: 14 | W31: 47 | X31: 55 | Y31: 132 | AA31: 63
... B40: Ionawr 20 (p) | D40: 190 | E40: 50 | F40: 100 | G40: 10 | I40: 130 | J40: 30 | K40: 470 | M40: ~ | N40: ~ | O40: 1.1 | P40: 1.1 | R40: 1.1 | S40: 3.4 | U40: 15 | V40: 9 | W40: 47 | X40: 29 | Y40: 100 | AA40: 84
A43: 1 | B43: Mae'r trafodiadau yn y tabl hwn wedi cael eu talgrynnu i'r 10 agosaf. Mae treth yn ddyledus yn y tabl hwn wedi cael eu talgrynnu i'r £0.1 miliwn agosaf. Mae'r gwerthoedd yn y tabl hwn wedi cael eu talgrynnu i'r £1 miliwn agosaf. Sylwch fod y tabl hwn yn cynnwys trafodiadau les amhreswyl.
A44: 2 | B44: Disgrifir y term 'premiwm' yn fwy cywir fel 'ystyriaeth heblaw rhent'. Yn y rhan fwyaf o achosion, bydd y premiwm a delir ar ffurf gwerth arian parod, ond gallai fod ar ffurf arall.
A45: 3 | B45: Noder bod prydlesi sydd newydd gael eu rhoi, sydd â phremiwm a dalwyd a gwerth rhent, yn cael eu cyfrif ddwywaith yn rhan trafodiadau’r tabl. Gan hynny, dim ond y pum colofn gyntaf yn rhan trafodiadau’r tabl sy'n adio i roi’r cyfanswm.
A46: 4 | B46: Mae’r cyfanswm wedi’i gyfrifo ar sail y gwerthoedd heb eu talgrynnu.
A47: 5 | B47: Gall lesoedd amhreswyl sydd wedi’u rhoi o’r newydd fod â naill ai gwerth premiwm, gwerth rhent neu'r ddau (caiff y term 'premiwm' ei ddisgrifio'n fwy cywir fel 'cydnabyddiaeth heblaw am rent'). Y gwerth rhent yw gwerth net presennol (NPV) y rhenti. Yn y tabl hwn, dim ond yr elfen bremiwm sy'n cael ei chynnwys yn y golofn 'cyfanswm gwerth yr eiddo sydd wedi'i drethu'. Dangosir y gwerth rhent ar wahân yn y golofn i'r dde o'r cyfanswm. Ni ddylid ychwanegu'r gwerth rhent at gyfanswm gwerth yr eiddo sydd wedi’i drethu, gan eu bod yn gysyniadau gwahanol.
A48: 6 | B48: Mae cywiriad wedi'i wneud i drafodiad amrheswyl sy'n effeithiol ym mis Ebrill 2019, y cofnodwyd yn anghywir ei fod yn fawr pan nad oedd hynny'n wir. Arweiniodd hyn at ddiwygio gostyngiad yn y dreth amrheswyl sy'n ddyledus yn y mis hwn.
A49: (p) | B49: Mae'r gwerthoedd yn rhai dros dro a byddant yn cael eu diwygio mewn cyhoeddiad yn y dyfodol. Gweler y dudalen gynnwys am ragor o wybodaeth.
A50: (r) | B50: Mae'r gwerthoedd wedi cael eu diwygio. Gweler y dudalen gynnwys am ragor o wybodaeth.
A51: ~ | B51: Yn cynrychioli gwerth sy’n talgrynnu i 0, ond sydd heb fod yn 0.
A52: * | B52: Yn cynrychioli gwerth a ataliwyd gan fod y dreth sy’n daladwy ar gyfer nifer fechan o drafodiadau yn cyfrannu at y rhan fwyaf o werth y gell (goruchafiaeth).

Sheet Tabl5
A1: Nôl i'r dudalen cynnwys
A2: Tabl 5: Nifer a gwerth unrhyw ryddhad treth a gyhoeddwyd erbyn y dyddiad dod i rym ¹ ²
A4: Dyddiad dod i rym | C4: Trafodiadau a ryddhawyd | F4: Gwerth y dreth a ryddhawyd (£ miliwn)
C5: Preswyl | D5: Amhreswyl ³ | E5: Cyfanswm ⁴ | F5: Preswyl | G5: Amhreswyl ³ | H5: Cyfanswm ⁴
A6: 2018-19 (r) | C6: 890 | D6: 310 | E6: 1200 | F6: 12 | G6: 41.8 | H6: 53.7
B7: Ebrill - Mehefin 18 (r) | C7: 200 | D7: 60 | E7: 260 | F7: 3.1 | G7: 6.7 | H7: 9.8
B8: Gorffenaf - Medi 18 (r) | C8: 200 | D8: 70 | E8: 260 | F8: 2.3 | G8: 16.6 | H8: 18.9
B9: Hydref - Rhagfyr 18 (r) | C9: 260 | D9: 70 | E9: 330 | F9: 2.6 | G9: 9.9 | H9: 12.4
B10: Ionawr - Mawrth 19 (r) | C10: 230 | D10: 120 | E10: 350 | F10: 4 | G10: 8.6 | H10: 12.5
A11: 2019-20 hyd yn hyn (r) | C11: 840 | D11: 220 | E11: 1060 | F11: 9 | G11: 21.4 | H11: 30.4
B12: Ebrill - Mehefin 19 (r) | C12: 240 | D12: 60 | E12: 300 | F12: 3.6 | G12: 3.2 | H12: 6.8
B13: Gorffenaf - Medi 19 (r) | C13: 250 | D13: 70 | E13: 320 | F13: 1.9 | G13: 11 | H13: 12.9
B14: Hydref - Rhagfyr 19 (p) | C14: 310 | D14: 70 | E14: 380 | F14: 3 | G14: 7.1 | H14: 10.1
A17: 1 | B17: Mae'r gwerthoedd yn y tabl hwn wedi cael eu talgrynnu i'r 10 trafodiad agosaf a’r £0.1 miliwn agosaf o dreth a ryddhawyd.
A18: 2 | B18: Bob chwarter, nid yw’r ffigurau a gyflwynir yn cynnwys 60 i 70 trafodiad cysylltiol sy’n destun rhyddhad gan ei fod yn anodd rhoi amcangyfrif dibynadwy o effaith y rhyddhadau yn yr achosion hyn. Ein hamcangyfrif gorau o effaith y rhyddhadau sy’n ymwneud â thrafodion cysylltiol yw £4 miliwn i £5 miliwn bob chwarter, ond nid yw hwn yn ddigon cadarn i gael ei wahanu a chynnwys gyda’r data uchod.
A19: 3 | B19: Mae’r categori ‘eiddo amhreswyl’ yn cynnwys eiddo nad ydynt yn gyfan gwbl breswyl (hy y rheini sy’n cynnwys elfennau preswyl a masnachol).
A20: 4 | B20: Mae’r cyfanswm wedi’i gyfrifo ar sail y gwerthoedd heb eu talgrynnu.
A21: (p) | B21: Mae'r gwerthoedd yn rhai dros dro a byddant yn cael eu diwygio mewn cyhoeddiad yn y dyfodol. Gweler y dudalen gynnwys am ragor o wybodaeth.
A22: (r) | B22: Mae'r gwerthoedd wedi cael eu diwygio. Gweler y dudalen gynnwys am ragor o wybodaeth.
A25: Tabl 5a: Nifer y trafodaiadau a dderbyniasant ryddhad na gafodd effaith ar y dreth oedd yn ddyledus¹ ²
A27: Dyddiad dod i rym | C27: Trafodiadau (nifer)
C28: Preswyl | D28: Amhreswyl ³ | E28: Cyfanswm ⁴
A29: 2018-19 (r) | C29: 300 | D29: 130 | E29: 430
B30: Ebrill - Mehefin 18 (r) | C30: 50 | D30: 30 | E30: 70
B31: Gorffenaf - Medi 18 (r) | C31: 70 | D31: 20 | E31: 90
B32: Hydref - Rhagfyr 18 (r) | C32: 90 | D32: 30 | E32: 120
B33: Ionawr - Mawrth 19 (r) | C33: 100 | D33: 50 | E33: 150
A34: 2019-20 hyd yn hyn (r) | C34: 250 | D34: 70 | E34: 320
B35: Ebrill - Mehefin 19 (r) | C35: 70 | D35: 20 | E35: 100
B36: Gorffenaf - Medi 19 (r) | C36: 60 | D36: 20 | E36: 80
B37: Hydref - Rhagfyr 19 (p) | C37: 80 | D37: 20 | E37: 100
G38: 0
A40: 1 | B40: Mae'r gwerthoedd yn y tabl hwn wedi cael eu talgrynnu i'r 10 trafodiad agosaf.
A41: 2 | B41: Bob chwarter, nid yw’r ffigurau a gyflwynir yn cynnwys 60 i 70 trafodiad cysylltiol sy’n destun rhyddhad gan ei fod yn anodd rhoi amcangyfrif dibynadwy o effaith y rhyddhadau yn yr achosion hyn. Ein hamcangyfrif gorau o effaith y rhyddhadau sy’n ymwneud â thrafodion cysylltiol yw £4 miliwn i £5 miliwn bob chwarter, ond nid yw hwn yn ddigon cadarn i gael ei wahanu a chynnwys gyda’r data uchod.
A42: 3 | B42: Mae’r categori ‘eiddo amhreswyl’ yn cynnwys eiddo nad ydynt yn gyfan gwbl breswyl (hy y rheini sy’n cynnwys elfennau preswyl a masnachol).
A43: 4 | B43: Mae’r cyfanswm wedi’i gyfrifo ar sail y gwerthoedd heb eu talgrynnu.
A44: (p) | B44: Mae'r gwerthoedd yn rhai dros dro a byddant yn cael eu diwygio mewn cyhoeddiad yn y dyfodol. Gweler y dudalen gynnwys am ragor o wybodaeth.
A45: (r) | B45: Mae'r gwerthoedd wedi cael eu diwygio. Gweler y dudalen gynnwys am ragor o wybodaeth.
A46: ~ | B46: Yn cynrychioli gwerth sy’n talgrynnu i 0, ond sydd heb fod yn 0.

Sheet Tabl6
A1: Nôl i'r dudalen cynnwys
A2: Tabl 6: Nifer a gwerth unrhyw ad-daliadau treth a gyhoeddwyd erbyn y dyddiad dod i rym ¹
A4: Dyddiad dod i rym | C4: Trafodiadau (nifer) | D4: Ad-daliadau (£ miliwn)
A5: Gan flywddyn
B6: 2018-19 (r) | C6: 1410 | D6: 10.6
B7: 2019-20 hyd yn hyn (p) | C7: 480 | D7: 3.9
A8: Gan chwarter
B9: Ebrill - Mehefin 18 (r) | C9: 380 | D9: 2.8
B10: Gorffenaf - Medi 18 (r) | C10: 430 | D10: 3.3
B11: Hydref - Rhagfyr 18 (r) | C11: 360 | D11: 2.9
B12: Ionawr - Mawrth 19 (r) | C12: 230 | D12: 1.6
B13: Ebrill - Mehefin 19 (r) | C13: 240 | D13: 1.9
B14: Gorffenaf - Medi 19 (r) | C14: 180 | D14: 1.4
B15: Hydref - Rhagfyr 19 (p) | C15: 60 | D15: 0.6
A16: Gan fis
B17: Ebrill 18 (r) | C17: 100 | D17: 0.8
B18: Mai 18 (r) | C18: 140 | D18: 0.9
B19: Mehefin 18 (r) | C19: 140 | D19: 1.1
B20: Gorffenaf 18 (r) | C20: 140 | D20: 1
B21: Awst 18 (r) | C21: 160 | D21: 1.2
B22: Medi 18 (r) | C22: 140 | D22: 1.1
B23: Hydref 18 (r) | C23: 110 | D23: 0.8
B24: Tachwedd 18 (r) | C24: 130 | D24: 1.2
B25: Rhagfyr 18 (r) | C25: 120 | D25: 0.9
B26: Ionawr 19 (r) | C26: 80 | D26: 0.5
B27: Chwefror 19 (r) | C27: 60 | D27: 0.4
B28: Mawrth 19 (r) | C28: 100 | D28: 0.7
... B34: Medi 19 (r) | C34: 40 | D34: 0.3
B35: Hydref 19 (r) | C35: 30 | D35: 0.3
B36: Tachwedd 19 (r) | C36: 20 | D36: 0.2
B37: Rhagfyr 19 (r) | C37: 10 | D37: 0.1
B38: Ionawr 20 (p) | C38: * | D38: *
A41: 1 | B41: Mae'r gwerthoedd yn y tabl hwn wedi cael eu talgrynnu i'r 10 trafodiad agosaf a’r £0.1 miliwn agosaf o dreth ad-daliadau.
A42: (p) | B42: Mae'r gwerthoedd yn rhai dros dro a byddant yn cael eu diwygio mewn cyhoeddiad yn y dyfodol. Gweler y dudalen gynnwys am ragor o wybodaeth.
A43: (r) | B43: Mae'r gwerthoedd wedi cael eu diwygio. Gweler y dudalen gynnwys am ragor o wybodaeth.
A44: * | B44: Nid yw’r gwerth hwn yn ddigon mawr i’w gyflwyno ac mae wedi cael ei atal.

Sheet Tabl6a
A1: Nôl i'r dudalen cynnwys
B2: Tabl 6a: Nifer a gwerth ad-daliadau preswyl cyfradd uwch yn ôl cyfnod o amser (sail arian parod) ¹
D4: Ad-daliadau preswyl cyfradd uwch
D5: Nifer | E5: Cyfanswm gwerth (£ miliwn) ²
B6: Gan flywddyn
C7: 2018-19 | D7: 630 | E7: 4.9
C8: 2019-20 hyd yn hyn (p) | D8: 1170 | E8: 8.9
B9: Gan chwarter
C10: Ebrill - Mehefin 18 | D10: 20 | E10: 0.1
C11: Gorffenaf - Medi 18 | D11: 110 | E11: 0.9
C12: Hydref - Rhagfyr 18 | D12: 220 | E12: 1.7
C13: Ionawr - Mawrth 19 | D13: 280 | E13: 2.2
C14: Ebrill - Mehefin 19 | D14: 280 | E14: 2
C15: Gorffenaf - Medi 19 | D15: 390 | E15: 3
C16: Hydref - Rhagfyr 19 | D16: 350 | E16: 2.6
B17: Gan fis
C18: Ebrill 18 | D18: 0 | E18: 0
C19: Mai 18 | D19: ~ | E19: ~
C20: Mehefin 18 | D20: 20 | E20: 0.1
C21: Gorffenaf 18 | D21: 20 | E21: 0.2
C22: Awst 18 | D22: 30 | E22: 0.2
C23: Medi 18 | D23: 70 | E23: 0.5
C24: Hydref 18 | D24: 70 | E24: 0.5
C25: Tachwedd 18 | D25: 100 | E25: 0.8
C26: Rhagfyr 18 | D26: 50 | E26: 0.4
C27: Ionawr 19 | D27: 90 | E27: 0.7 | G27: `
C28: Chwefror 19 | D28: 100 | E28: 0.8
C29: Mawrth 19 | D29: 90 | E29: 0.7
C30: Ebrill 19 | D30: 110 | E30: 0.8
C31: Mai 19 | D31: 90 | E31: 0.6
C32: Mehefin 19 | D32: 90 | E32: 0.7
C33: Gorffenaf 19 | D33: 140 | E33: 1.1
C34: Awst 19 | D34: 120 | E34: 1
C35: Medi 19 | D35: 130 | E35: 1
C36: Hydref 19 | D36: 100 | E36: 0.8
C37: Tachwedd 19 | D37: 130 | E37: 1
C38: Rhagfyr 19 | D38: 120 | E38: 0.8
C39: Ionawr 20 | D39: 150 | E39: 1.2
B42: 1 | C42: Mae'r gwerthoedd yn y tabl hwn wedi cael eu talgrynnu i'r 10 trafodiad agosaf a’r £0.1 miliwn agosaf o dreth ad-daliadau. Dyma’r swm o arian a gafodd ei ad-dalu gan ACC yn ystod y mis a restrwyd, yn hytrach na’r dyddiad y mae'r trafodiad yn dod i rym.
B43: 2 | C43: Mewn nifer fach o achosion, nid oes unrhyw arian wedi cyfnewid dwylo gan nad oedd yr atebolrwydd gwreiddiol wedi’i dalu ar adeg yr ad-daliad. Yn yr achosion hyn, gwnaethpwyd addasiad i ffigwr yr arian parod i’w ychwanegu at werth damcaniaethol yr ad-daliad.
B44: ~ | C44: Represents a value which rounds to 0, but is not 0.

Sheet Tabl7
A1: Nôl i'r dudalen cynnwys
A2: Tabl 7: Treth Trafodiadau Tir a dalwyd i'r Awdurdod
C4: Gwerth taliadau Treth Trafodiadau Tir (£ miliwn)
A5: Gan flywddyn
B6: 2018-19 | C6: 220.2
B7: 2019-20 hyd yn hyn (p) | C7: 195.9
A8: Gan chwarter
B9: Ebrill - Mehefin 18 | C9: 39
B10: Gorffenaf - Medi 18 | C10: 62.8
B11: Hydref - Rhagfyr 18 | C11: 65.8
B12: Ionawr - Mawrth 19 | C12: 52.6
B13: Ebrill - Mehefin 19 | C13: 47.8
B14: Gorffenaf - Medi 19 | C14: 60.6
B15: Hydref - Rhagfyr 19 | C15: 72.3
A16: Gan fis
B17: Ebrill 18 | C17: 6.2
B18: Mai 18 | C18: 17.3
B19: Mehefin 18 | C19: 15.5
B20: Gorffenaf 18 | C20: 20.6
B21: Awst 18 | C21: 23.6
B22: Medi 18 | C22: 18.6
B23: Hydref 18 | C23: 21.7
B24: Tachwedd 18 | C24: 22.1
B25: Rhagfyr 18 | C25: 22.1
B26: Ionawr 19 | C26: 20.7
B27: Chwefror 19 | C27: 14.5
B28: Mawrth 19 | C28: 17.5
... B38: Ionawr 20 | C38: 15.1
A41: 1 | B41: Mae'r gwerthoedd yn y tabl hwn wedi cael eu talgrynnu i'r £0.1 miliwn agosaf.

Sheet TableA1Hide
A1: Nôl i'r dudalen cynnwys | K1: 56
A2: Tabl A1: Amcangyfrifon trafodiadau hysbysadwy a adroddwyd: Pob trafodiadau | K2: 46 | L2: 23 | M2: 25
A4: Dyddiad effeithiol (mis) | D4: Amcangyfrif | G4: % Newid Rhwng Amcangyfrifon | K4: 47 | L4: 38 | M4: 39 | V4: Pob trafodiadau | W4: 25
D5: Yn Gyntaf | E5: Yn Ail | F5: Yn Drydydd | G5: 1af i 2il | H5: 2il i 3ydd | K5: 40 | L5: 41 | M5: 42 | N5: 43 | O5: 44 | P5: 45 | Q5: 48 | V5: Pob preswyl | W5: 26
B6: Ebr 18 | D6: 3940 | E6: 4350 | F6: 4370 | G6: 0.1043412 | H6: 0.003908046 | V6: Preswyl cyfraddau uwch | W6: 27
B7: Mai 18 | D7: 4450 | E7: 4760 | F7: 4790 | G7: 0.071524966 | H7: 0.0046179681 | V7: Amrheswyl | W7: 28
B8: Meh 18 | D8: 5090 | E8: 5390 | F8: 5420 | G8: 0.058892815 | H8: 0.0055617353
B9: Gorff 18 | D9: 4930 | E9: 5300 | F9: 5310 | G9: 0.075487013 | H9: 0.0022641509
B10: Awst 18 | D10: 5660 | E10: 5950 | F10: 5970 | G10: 0.051069093 | H10: 0.0033624748
B11: Medi 18 | D11: 4790 | E11: 4980 | F11: 4990 | G11: 0.039883065 | H11: 0.002811245
B12: Hyd 18 | D12: 5460 | E12: 5620 | F12: 5630 | G12: 0.02894303 | H12: 0.0017803098
B13: Tach 18 | D13: 6090 | E13: 6300 | F13: 6320 | G13: 0.034675431 | H13: 0.0036531131
B14: Rhag 18 | D14: 5360 | E14: 5430 | F14: 5440 | G14: 0.013067015 | H14: 0.0014741109
B15: Ion 19 | D15: 3900 | E15: 4000 | F15: 4010 | G15: 0.025660765 | H15: 0.0022516888
B16: Chwef 19 | D16: 4240 | E16: 4290 | F16: 4300 | G16: 0.012983947 | H16: 0.002563505
B17: Maw 19 | D17: 4900 | E17: 5050 | F17: 5050 | G17: 0.030222585 | H17: 0
B18: Ebr 19 | D18: 4450 | E18: 4510 | F18: 4520 | G18: 0.014848144 | H18: 0.0028818444
B19: Mai 19 | D19: 4950 | E19: 5040 | F19: 5050 | G19: 0.018387553 | H19: 0.0015873016
... B25: Tach 19 | D25: 5530 | E25: 5670 | F25: 5680 | G25: 0.025492678 | H25: 0.00070521862
B26: Rhag 19 | D26: 5360 | E26: 5390 | G26: 0.0044767767
B27: Ion 20 | D27: 4210
A29: 1 | B29: Mae'r gwerthoedd yn y tabl hwn wedi cael eu talgrynnu i'r 10 trafodiad agosaf. | K29: 49
A32: Pob preswyl | K32: 46 | L32: 23 | M32: 26
A34: Dyddiad effeithiol (mis) | D34: Amcangyfrif | G34: % Newid Rhwng Amcangyfrifon | K34: 47 | L34: 38 | M34: 39
D35: Yn Gyntaf | E35: Yn Ail | F35: Yn Drydydd | G35: 1af i 2il | H35: 2il i 3ydd | K35: 40 | L35: 41 | M35: 42 | N35: 43 | O35: 44 | P35: 45 | Q35: 48
B36: Ebr 18 | D36: 3560 | E36: 3870 | F36: 3880 | G36: 0.08797077 | H36: 0.0030999742
B37: Mai 18 | D37: 4090 | E37: 4320 | F37: 4340 | G37: 0.057988745 | H37: 0.0034690102
B38: Meh 18 | D38: 4700 | E38: 4940 | F38: 4960 | G38: 0.05104211 | H38: 0.0036422501
B39: Gorff 18 | D39: 4540 | E39: 4830 | F39: 4840 | G39: 0.06340819 | H39: 0.0014492754
B40: Awst 18 | D40: 5230 | E40: 5450 | F40: 5460 | G40: 0.041108987 | H40: 0.0018365473
B41: Medi 18 | D41: 4400 | E41: 4530 | F41: 4540 | G41: 0.028623353 | H41: 0.0017667845
B42: Hyd 18 | D42: 4920 | E42: 5040 | F42: 5040 | G42: 0.023964257 | H42: 0.00039666799
B43: Tach 18 | D43: 5590 | E43: 5770 | F43: 5780 | G43: 0.031104755 | H43: 0.0026005548
B44: Rhag 18 | D44: 4850 | E44: 4900 | F44: 4910 | G44: 0.0094806265 | H44: 0.0028583095
B45: Ion 19 | D45: 3510 | E45: 3570 | F45: 3580 | G45: 0.018523796 | H45: 0.0011191942
B46: Chwef 19 | D46: 3810 | E46: 3850 | F46: 3850 | G46: 0.01023622 | H46: 0.0012990387
B47: Maw 19 | D47: 4310 | E47: 4400 | F47: 4400 | G47: 0.019012288 | H47: 0.00091012514
... B55: Tach 19 | D55: 5110 | E55: 5220 | F55: 5220 | G55: 0.020547945 | H55: 0
B56: Rhag 19 | D56: 4860 | E56: 4880 | G56: 0.0032908268
B57: Ion 20 | D57: 3740
A59: 1 | B59: Mae'r gwerthoedd yn y tabl hwn wedi cael eu talgrynnu i'r 10 trafodiad agosaf. | K59: 49
A62: Preswyl cyfraddau uwch | K62: 46 | L62: 23 | M62: 27
A64: Dyddiad effeithiol (mis) | D64: Amcangyfrif | G64: % Newid Rhwng Amcangyfrifon | K64: 47 | L64: 38 | M64: 39
D65: Yn Gyntaf | E65: Yn Ail | F65: Yn Drydydd | G65: 1af i 2il | H65: 2il i 3ydd | K65: 40 | L65: 41 | M65: 42 | N65: 43 | O65: 44 | P65: 45 | Q65: 48
B66: Ebr 18 | D66: 920 | E66: 1000 | F66: 1000 | G66: 0.087852495 | H66: -0.00099700897
B67: Mai 18 | D67: 1000 | E67: 1080 | F67: 1080 | G67: 0.078685259 | H67: -0.0036934441
B68: Meh 18 | D68: 1130 | E68: 1180 | F68: 1180 | G68: 0.043209877 | H68: -0.0025359256
B69: Gorff 18 | D69: 1120 | E69: 1190 | F69: 1180 | G69: 0.059661621 | H69: -0.0075630252
B70: Awst 18 | D70: 1210 | E70: 1260 | F70: 1240 | G70: 0.038842975 | H70: -0.016706444
B71: Medi 18 | D71: 1000 | E71: 1020 | F71: 1020 | G71: 0.017964072 | H71: 0.0029411765
B72: Hyd 18 | D72: 1160 | E72: 1200 | F72: 1190 | G72: 0.040692641 | H72: -0.0083194676
B73: Tach 18 | D73: 1280 | E73: 1320 | F73: 1310 | G73: 0.034455756 | H73: -0.0060560182
B74: Rhag 18 | D74: 1090 | E74: 1100 | F74: 1090 | G74: 0.0073394495 | H74: -0.0072859745
B75: Ion 19 | D75: 920 | E75: 940 | F75: 940 | G75: 0.027203482 | H75: -0.0095338983
B76: Chwef 19 | D76: 970 | E76: 970 | F76: 970 | G76: 0.0062111801 | H76: -0.0051440329
B77: Maw 19 | D77: 1150 | E77: 1160 | F77: 1150 | G77: 0.0095403296 | H77: -0.0094501718
... B85: Tach 19 | D85: 1200 | E85: 1210 | F85: 1210 | G85: 0.013355593 | H85: -0.0032948929
B86: Rhag 19 | D86: 1240 | E86: 1240 | G86: -0.0008071025
B87: Ion 20 | D87: 1110
A89: 1 | B89: Mae'r gwerthoedd yn y tabl hwn wedi cael eu talgrynnu i'r 10 trafodiad agosaf. | K89: 49
A92: Amrheswyl | K92: 46 | L92: 23 | M92: 28
A94: Dyddiad effeithiol (mis) | D94: Amcangyfrif | G94: % Newid Rhwng Amcangyfrifon | K94: 47 | L94: 38 | M94: 39
D95: Yn Gyntaf | E95: Yn Ail | F95: Yn Drydydd | G95: 1af i 2il | H95: 2il i 3ydd | K95: 40 | L95: 41 | M95: 42 | N95: 43 | O95: 44 | P95: 45 | Q95: 48
B96: Ebr 18 | D96: 380 | E96: 480 | F96: 480 | G96: 0.25721785 | H96: 0.010438413
B97: Mai 18 | D97: 360 | E97: 440 | F97: 450 | G97: 0.22562674 | H97: 0.015909091
B98: Meh 18 | D98: 390 | E98: 450 | F98: 470 | G98: 0.15306122 | H98: 0.028761062
B99: Gorff 18 | D99: 390 | E99: 470 | F99: 480 | G99: 0.21761658 | H99: 0.010638298
B100: Awst 18 | D100: 430 | E100: 500 | F100: 510 | G100: 0.16166282 | H100: 0.019880716
B101: Medi 18 | D101: 390 | E101: 450 | F101: 460 | G101: 0.15897436 | H101: 0.013274336
B102: Hyd 18 | D102: 540 | E102: 580 | F102: 580 | G102: 0.074766355 | H102: 0.013913043
B103: Tach 18 | D103: 490 | E103: 530 | F103: 540 | G103: 0.075356415 | H103: 0.020833333
B104: Rhag 18 | D104: 510 | E104: 530 | F104: 520 | G104: 0.03960396 | H104: -0.0038095238
B105: Ion 19 | D105: 390 | E105: 420 | F105: 430 | G105: 0.081841432 | H105: 0.011820331
B106: Chwef 19 | D106: 430 | E106: 440 | F106: 440 | G106: 0.04 | H106: 0.0022624434
B107: Maw 19 | D107: 580 | E107: 640 | F107: 650 | G107: 0.095890411 | H107: 0.009375
... B115: Tach 19 | D115: 420 | E115: 460 | F115: 460 | G115: 0.085510689 | H115: 0.0087527352
B116: Rhag 19 | D116: 500 | E116: 510 | G116: 0.016032064
B117: Ion 20 | D117: 470
A119: 1 | B119: Mae'r gwerthoedd yn y tabl hwn wedi cael eu talgrynnu i'r 10 trafodiad agosaf. | K119: 49

Sheet TableA2Hide
A1: Nôl i'r dudalen cynnwys | K1: 56
A2: Tabl A2: Amcangyfrifon treth yn ddyledus ar drafodiadau hysbysadwy a adroddwyd: Pob trafodiadau | K2: 46 | L2: 24 | M2: 25
A4: Dyddiad effeithiol (mis) | D4: Amcangyfrif | G4: % Newid Rhwng Amcangyfrifon | K4: 47 | L4: 38 | M4: 39
D5: Yn Gyntaf | E5: Yn Ail | F5: Yn Drydydd | G5: 1af i 2il | H5: 2il i 3ydd | K5: 40 | L5: 41 | M5: 42 | N5: 43 | O5: 44 | P5: 45 | Q5: 48
B6: Ebr 18 | D6: 12 | E6: 15.6 | F6: 15.5 | G6: 0.29743167 | H6: -0.0050480559
B7: Mai 18 | D7: 13.5 | E7: 14.4 | F7: 14.3 | G7: 0.061823275 | H7: -0.0030596757
B8: Meh 18 | D8: 18 | E8: 19.6 | F8: 19.7 | G8: 0.091373041 | H8: 0.0048183364
B9: Gorff 18 | D9: 19.7 | E9: 22.1 | F9: 22 | G9: 0.12200619 | H9: -0.0012911151
B10: Awst 18 | D10: 19.1 | E10: 20 | F10: 19.8 | G10: 0.051864099 | H10: -0.010217139 | V10: Pob trafodiadau | W10: 25
B11: Medi 18 | D11: 19.4 | E11: 19.9 | F11: 20.2 | G11: 0.027122761 | H11: 0.012169485 | V11: Pob preswyl | W11: 26
B12: Hyd 18 | D12: 21.3 | E12: 21.8 | F12: 21.7 | G12: 0.024266185 | H12: -0.0057083133 | V12: Preswyl cyfraddau uwch | W12: 27
B13: Tach 18 | D13: 22.7 | E13: 23.3 | F13: 23.3 | G13: 0.027498295 | H13: -0.0033437219 | V13: Amrheswyl | W13: 28
B14: Rhag 18 | D14: 21.4 | E14: 21.5 | F14: 21.5 | G14: 0.0045113453 | H14: -0.0020115025
B15: Ion 19 | D15: 16.9 | E15: 17.3 | F15: 17.3 | G15: 0.024766747 | H15: 0.0010937121
B16: Chwef 19 | D16: 15.1 | E16: 15.6 | F16: 15.7 | G16: 0.035711168 | H16: 0.0023087229
B17: Maw 19 | D17: 19.7 | E17: 20 | F17: 19.9 | G17: 0.018017156 | H17: -0.0039383472
B18: Ebr 19 | C18: 2 | D18: 14.5 | E18: 14.1 | F18: 14 | G18: -0.03085234 | H18: -0.0053584424
B19: Mai 19 | D19: 17.7 | E19: 18 | F19: 20.1 | G19: 0.015440736 | H19: 0.11469074
B20: Meh 19 | D20: 15.8 | E20: 17.2 | F20: 17.1 | G20: 0.089102347 | H20: -0.0080990279
B21: Gorff 19 | D21: 19.6 | E21: 19.8 | F21: 19.8 | G21: 0.011441159 | H21: -0.0011871931
B22: Awst 19 | D22: 20.8 | E22: 21.4 | F22: 21.4 | G22: 0.031490991 | H22: -0.00042109265
B23: Medi 19 | D23: 19.2 | E23: 22.3 | F23: 22.2 | G23: 0.15841686 | H23: -0.0024222841
B24: Hyd 19 | D24: 20.3 | E24: 20.7 | F24: 20.5 | G24: 0.019157896 | H24: -0.0053428682
B25: Tach 19 | D25: 23.2 | E25: 23.5 | F25: 23.4 | G25: 0.013392402 | H25: -0.004263685
B26: Rhag 19 | D26: 24.4 | E26: 24.3 | G26: -0.0018407602
B27: Ion 20 | D27: 16.2
A29: 1 | B29: Mae'r dreth yn y tabl hwn wedi cael ei thalgrynnu i'r £0.1 miliwn agosaf. | K29: 50
B30: Dangosir y dreth sy’n ddyledus, net o unrhyw ad-daliadau a hawliwyd am bryniadau preswyl ar gyfraddau uwch (gweler y datganiad ystadegol a gyhoeddir ochr yn ochr â’r Atodiad hwn). | K30: 51
A31: 2 | B31: Mae cywiriad wedi'i wneud i drafodiad amrheswyl sy'n effeithiol ym mis Ebrill 2019, y cofnodwyd yn anghywir ei fod yn fawr pan nad oedd hynny'n wir. Arweiniodd hyn at ddiwygio gostyngiad yn y dreth amrheswyl sy'n ddyledus yn y mis hwn. | K31: 52
A34: Pob preswyl | K34: 46 | L34: 24 | M34: 26
A36: Dyddiad effeithiol (mis) | D36: Amcangyfrif | G36: % Newid Rhwng Amcangyfrifon | K36: 47 | L36: 38 | M36: 39
D37: Yn Gyntaf | E37: Yn Ail | F37: Yn Drydydd | G37: 1af i 2il | H37: 2il i 3ydd | K37: 40 | L37: 41 | M37: 42 | N37: 43 | O37: 44 | P37: 45 | Q37: 48
B38: Ebr 18 | D38: 8.6 | E38: 9.6 | F38: 9.5 | G38: 0.11229335 | H38: -0.0082297027
B39: Mai 18 | D39: 10.2 | E39: 10.8 | F39: 10.8 | G39: 0.063379348 | H39: -0.0051817126
B40: Meh 18 | D40: 13.3 | E40: 13.8 | F40: 13.9 | G40: 0.032867547 | H40: 0.0087031356
B41: Gorff 18 | D41: 13.4 | E41: 14.2 | F41: 14.2 | G41: 0.057056369 | H41: -0.00065325775
B42: Awst 18 | D42: 15.8 | E42: 16.4 | F42: 16.1 | G42: 0.035542718 | H42: -0.013714755
B43: Medi 18 | D43: 14.1 | E43: 14.3 | F43: 14.3 | G43: 0.019963837 | H43: -0.0022473055
B44: Hyd 18 | D44: 14.9 | E44: 15.2 | F44: 15.1 | G44: 0.022265359 | H44: -0.0088097433
B45: Tach 18 | D45: 17.4 | E45: 17.9 | F45: 17.8 | G45: 0.027001601 | H45: -0.0054790583
B46: Rhag 18 | D46: 14.1 | E46: 14.2 | F46: 14.1 | G46: 0.0019454343 | H46: -0.0040028363
B47: Ion 19 | D47: 10.5 | E47: 10.9 | F47: 10.8 | G47: 0.031670606 | H47: -0.0089584203
B48: Chwef 19 | D48: 10.3 | E48: 10.3 | F48: 10.3 | G48: -0.001939083 | H48: -0.004095336
B49: Maw 19 | D49: 12 | E49: 12.1 | F49: 12 | G49: 0.010878177 | H49: -0.0066878205
... B57: Tach 19 | D57: 17 | E57: 17.1 | F57: 17 | G57: 0.0075092857 | H57: -0.0062071007
B58: Rhag 19 | D58: 15.1 | E58: 15.1 | G58: -0.0029694955
B59: Ion 20 | D59: 12.8
A61: 1 | B61: Mae'r dreth yn y tabl hwn wedi cael ei thalgrynnu i'r £0.1 miliwn agosaf. | K61: 50
A64: Refeniw ychwanegol o’r gyfradd uwch preswyl | K64: 46 | L64: 24 | M64: 29
A66: Dyddiad effeithiol (mis) | D66: Amcangyfrif | G66: % Newid Rhwng Amcangyfrifon | K66: 47 | L66: 38 | M66: 39
D67: Yn Gyntaf | E67: Yn Ail | F67: Yn Drydydd | G67: 1af i 2il | H67: 2il i 3ydd | K67: 40 | L67: 41 | M67: 42 | N67: 43 | O67: 44 | P67: 45 | Q67: 48
B68: Ebr 18 | D68: 4.2 | E68: 4.6 | F68: 4.6 | G68: 0.083397983 | H68: 0.0026482609
B69: Mai 18 | D69: 4.6 | E69: 5 | F69: 5 | G69: 0.081343216 | H69: -0.010143999
B70: Meh 18 | D70: 5.3 | E70: 5.5 | F70: 5.5 | G70: 0.039009754 | H70: 0.0047007904
B71: Gorff 18 | D71: 5.6 | E71: 5.9 | F71: 5.9 | G71: 0.049415281 | H71: -0.0074911
B72: Awst 18 | D72: 5.9 | E72: 6.2 | F72: 6 | G72: 0.042610822 | H72: -0.031707396
B73: Medi 18 | D73: 5.2 | E73: 5.3 | F73: 5.2 | G73: 0.008373587 | H73: -0.0024884884
B74: Hyd 18 | D74: 5.7 | E74: 5.9 | F74: 5.9 | G74: 0.037184332 | H74: -0.01548536
B75: Tach 18 | D75: 6.8 | E75: 6.9 | F75: 6.7 | G75: 0.021352784 | H75: -0.027616129
B76: Rhag 18 | D76: 5.6 | E76: 5.4 | F76: 5.4 | G76: -0.020257029 | H76: -0.01278247
B77: Ion 19 | D77: 4.2 | E77: 4.4 | F77: 4.3 | G77: 0.037687514 | H77: -0.022772331
B78: Chwef 19 | D78: 4.2 | E78: 4.2 | F78: 4.2 | G78: -0.001355007 | H78: -0.0090026454
B79: Maw 19 | D79: 5.3 | E79: 5.2 | F79: 5.2 | G79: -0.0012856164 | H79: -0.015580487
... B87: Tach 19 | D87: 6.2 | E87: 6.2 | F87: 6.1 | G87: -0.0049222291 | H87: -0.010730159
B88: Rhag 19 | D88: 6.1 | E88: 6 | G88: -0.0076079673
B89: Ion 20 | D89: 5.4
A91: 1 | B91: Mae'r dreth yn y tabl hwn wedi cael ei thalgrynnu i'r £0.1 miliwn agosaf. | K91: 50
B92: Nodwch mai dim ond refeniw ychwanegol o drafodiadau cyfradd uwch sydd yn y tabl hon. Nid yw'r tabl hon yn cynnwys elfen prif gyfradd trafodiadau cyfradd uwch. | K92: 62
B93: Dangosir y ffigyrau yn net o unrhyw ad-daliadau a hawliwyd am bryniadau preswyl ar gyfraddau uwch. | K93: 54
A96: Amrheswyl | K96: 46 | L96: 24 | M96: 28
A98: Dyddiad effeithiol (mis) | D98: Amcangyfrif | G98: % Newid Rhwng Amcangyfrifon | K98: 47 | L98: 38 | M98: 39
D99: Yn Gyntaf | E99: Yn Ail | F99: Yn Drydydd | G99: 1af i 2il | H99: 2il i 3ydd | K99: 40 | L99: 41 | M99: 42 | N99: 43 | O99: 44 | P99: 45 | Q99: 48
B100: Ebr 18 | D100: 3.4 | E100: 6 | F100: 6 | G100: 0.76302629 | H100: 0
B101: Mai 18 | D101: 3.3 | E101: 3.5 | F101: 3.5 | G101: 0.057078997 | H101: 0.0034487201
B102: Meh 18 | D102: 4.6 | E102: 5.8 | F102: 5.9 | G102: 0.25971008 | H102: 0.0020785225
B103: Gorff 18 | D103: 6.2 | E103: 7.8 | F103: 7.8 | G103: 0.25332007 | H103: 0.0046429246
B104: Awst 18 | D104: 3.3 | E104: 3.7 | F104: 3.7 | G104: 0.11245211 | H104: 0.0053059597
B105: Medi 18 | D105: 5.4 | E105: 5.6 | F105: 5.9 | G105: 0.045900248 | H105: 0.049046257
B106: Hyd 18 | D106: 6.4 | E106: 6.5 | F106: 6.6 | G106: 0.028955992 | H106: 0.0015139694
B107: Tach 18 | D107: 5.3 | E107: 5.4 | F107: 5.4 | G107: 0.029143352 | H107: 0.0037138168
B108: Rhag 18 | D108: 7.3 | E108: 7.4 | F108: 7.4 | G108: 0.0094830262 | H108: 0.0018180742
B109: Ion 19 | D109: 6.4 | E109: 6.5 | F109: 6.6 | G109: 0.013351763 | H109: 0.018014569
B110: Chwef 19 | D110: 4.8 | E110: 5.3 | F110: 5.4 | G110: 0.11719834 | H110: 0.014691085
B111: Maw 19 | D111: 7.7 | E111: 7.9 | F111: 7.9 | G111: 0.029107471 | H111: 0.00025726484
B112: Ebr 19 | C112: 2 | D112: 3.4 | E112: 2.9 | F112: 2.9 | G112: -0.15863396 | H112: 0.0019543635
B113: Mai 19 | D113: 5.1 | E113: 5.2 | F113: 7.4 | G113: 0.019299965 | H113: 0.41553684
B114: Meh 19 | D114: 2.4 | E114: 3.5 | F114: 3.5 | G114: 0.47101833 | H114: 0.002413088
B115: Gorff 19 | D115: 4.8 | E115: 4.9 | F115: 5 | G115: 0.0256323 | H115: 0.012569159
B116: Awst 19 | D116: 3.3 | E116: 3.7 | F116: 3.7 | G116: 0.13318059 | H116: 0.00014093327
B117: Medi 19 | D117: 5.2 | E117: 8.3 | F117: 8.3 | G117: 0.59854856 | H117: 0.00069807737
B118: Hyd 19 | D118: 4.2 | E118: 4.4 | F118: 4.4 | G118: 0.046149605 | H118: 0.0016230466
B119: Tach 19 | D119: 6.2 | E119: 6.4 | F119: 6.4 | G119: 0.029536352 | H119: 0.0009551727
B120: Rhag 19 | D120: 9.2 | E120: 9.2 | G120: 1.347124e-05
B121: Ion 20 | D121: 3.4
A123: 1 | B123: Mae'r dreth yn y tabl hwn wedi cael ei thalgrynnu i'r £0.1 miliwn agosaf. | K123: 50
A124: 2 | B124: Mae cywiriad wedi'i wneud i drafodiad amrheswyl sy'n effeithiol ym mis Ebrill 2019, y cofnodwyd yn anghywir ei fod yn fawr pan nad oedd hynny'n wir. Arweiniodd hyn at ddiwygio gostyngiad yn y dreth amrheswyl sy'n ddyledus yn y mis hwn. | K124: 52

Sheet TablA1
A1: =TableA1Hide!A1 -> Nôl i'r dudalen cynnwys
A2: =INDIRECT($V$4&"Header") -> Tabl A1: Amcangyfrifon trafodiadau hysbysadwy a adroddwyd: Pob trafodiadau
S3: 1
A4: Dyddiad effeithiol (mis) | D4: Amcangyfrif | G4: % Newid Rhwng Amcangyfrifon | S4: 1 | T4: CTORounded | V4: =VLOOKUP($S$3,$S$4:$T$7,2, FALSE) -> CTORounded | W4: 25
D5: Yn Gyntaf | E5: Yn Ail | F5: Yn Drydydd | G5: 1af i 2il | H5: 2il i 3ydd | S5: 2 | T5: CRERounded | W5: 26
B6: =TableA1Hide!B6 -> Ebr 18 | D6: =VLOOKUP($B6, INDIRECT($V$4), 3, FALSE) -> 3940 | E6: =VLOOKUP($B6, INDIRECT($V$4), 4, FALSE) -> 4350 | F6: =VLOOKUP($B6, INDIRECT($V$4), 5, FALSE) -> 4370 | G6: =VLOOKUP($B6, INDIRECT($V$4), 6, FALSE) -> 0.1043412 | H6: =VLOOKUP($B6, INDIRECT($V$4), 7, FALSE) -> 0.003908046 | S6: 3 | T6: CRHRounded | W6: 27
B7: =TableA1Hide!B7 -> Mai 18 | D7: =VLOOKUP($B7, INDIRECT($V$4), 3, FALSE) -> 4450 | E7: =VLOOKUP($B7, INDIRECT($V$4), 4, FALSE) -> 4760 | F7: =VLOOKUP($B7, INDIRECT($V$4), 5, FALSE) -> 4790 | G7: =VLOOKUP($B7, INDIRECT($V$4), 6, FALSE) -> 0.071524966 | H7: =VLOOKUP($B7, INDIRECT($V$4), 7, FALSE) -> 0.0046179681 | S7: 4 | T7: CNRRounded | W7: 28
B8: =TableA1Hide!B8 -> Meh 18 | D8: =VLOOKUP($B8, INDIRECT($V$4), 3, FALSE) -> 5090 | E8: =VLOOKUP($B8, INDIRECT($V$4), 4, FALSE) -> 5390 | F8: =VLOOKUP($B8, INDIRECT($V$4), 5, FALSE) -> 5420 | G8: =VLOOKUP($B8, INDIRECT($V$4), 6, FALSE) -> 0.058892815 | H8: =VLOOKUP($B8, INDIRECT($V$4), 7, FALSE) -> 0.0055617353
B9: =TableA1Hide!B9 -> Gorff 18 | D9: =VLOOKUP($B9, INDIRECT($V$4), 3, FALSE) -> 4930 | E9: =VLOOKUP($B9, INDIRECT($V$4), 4, FALSE) -> 5300 | F9: =VLOOKUP($B9, INDIRECT($V$4), 5, FALSE) -> 5310 | G9: =VLOOKUP($B9, INDIRECT($V$4), 6, FALSE) -> 0.075487013 | H9: =VLOOKUP($B9, INDIRECT($V$4), 7, FALSE) -> 0.0022641509
B10: =TableA1Hide!B10 -> Awst 18 | D10: =VLOOKUP($B10, INDIRECT($V$4), 3, FALSE) -> 5660 | E10: =VLOOKUP($B10, INDIRECT($V$4), 4, FALSE) -> 5950 | F10: =VLOOKUP($B10, INDIRECT($V$4), 5, FALSE) -> 5970 | G10: =VLOOKUP($B10, INDIRECT($V$4), 6, FALSE) -> 0.051069093 | H10: =VLOOKUP($B10, INDIRECT($V$4), 7, FALSE) -> 0.0033624748
B11: =TableA1Hide!B11 -> Medi 18 | D11: =VLOOKUP($B11, INDIRECT($V$4), 3, FALSE) -> 4790 | E11: =VLOOKUP($B11, INDIRECT($V$4), 4, FALSE) -> 4980 | F11: =VLOOKUP($B11, INDIRECT($V$4), 5, FALSE) -> 4990 | G11: =VLOOKUP($B11, INDIRECT($V$4), 6, FALSE) -> 0.039883065 | H11: =VLOOKUP($B11, INDIRECT($V$4), 7, FALSE) -> 0.002811245
B12: =TableA1Hide!B12 -> Hyd 18 | D12: =VLOOKUP($B12, INDIRECT($V$4), 3, FALSE) -> 5460 | E12: =VLOOKUP($B12, INDIRECT($V$4), 4, FALSE) -> 5620 | F12: =VLOOKUP($B12, INDIRECT($V$4), 5, FALSE) -> 5630 | G12: =VLOOKUP($B12, INDIRECT($V$4), 6, FALSE) -> 0.02894303 | H12: =VLOOKUP($B12, INDIRECT($V$4), 7, FALSE) -> 0.0017803098
B13: =TableA1Hide!B13 -> Tach 18 | D13: =VLOOKUP($B13, INDIRECT($V$4), 3, FALSE) -> 6090 | E13: =VLOOKUP($B13, INDIRECT($V$4), 4, FALSE) -> 6300 | F13: =VLOOKUP($B13, INDIRECT($V$4), 5, FALSE) -> 6320 | G13: =VLOOKUP($B13, INDIRECT($V$4), 6, FALSE) -> 0.034675431 | H13: =VLOOKUP($B13, INDIRECT($V$4), 7, FALSE) -> 0.0036531131
B14: =TableA1Hide!B14 -> Rhag 18 | D14: =VLOOKUP($B14, INDIRECT($V$4), 3, FALSE) -> 5360 | E14: =VLOOKUP($B14, INDIRECT($V$4), 4, FALSE) -> 5430 | F14: =VLOOKUP($B14, INDIRECT($V$4), 5, FALSE) -> 5440 | G14: =VLOOKUP($B14, INDIRECT($V$4), 6, FALSE) -> 0.013067015 | H14: =VLOOKUP($B14, INDIRECT($V$4), 7, FALSE) -> 0.0014741109
B15: =TableA1Hide!B15 -> Ion 19 | D15: =VLOOKUP($B15, INDIRECT($V$4), 3, FALSE) -> 3900 | E15: =VLOOKUP($B15, INDIRECT($V$4), 4, FALSE) -> 4000 | F15: =VLOOKUP($B15, INDIRECT($V$4), 5, FALSE) -> 4010 | G15: =VLOOKUP($B15, INDIRECT($V$4), 6, FALSE) -> 0.025660765 | H15: =VLOOKUP($B15, INDIRECT($V$4), 7, FALSE) -> 0.0022516888
B16: =TableA1Hide!B16 -> Chwef 19 | D16: =VLOOKUP($B16, INDIRECT($V$4), 3, FALSE) -> 4240 | E16: =VLOOKUP($B16, INDIRECT($V$4), 4, FALSE) -> 4290 | F16: =VLOOKUP($B16, INDIRECT($V$4), 5, FALSE) -> 4300 | G16: =VLOOKUP($B16, INDIRECT($V$4), 6, FALSE) -> 0.012983947 | H16: =VLOOKUP($B16, INDIRECT($V$4), 7, FALSE) -> 0.002563505
B17: =TableA1Hide!B17 -> Maw 19 | D17: =VLOOKUP($B17, INDIRECT($V$4), 3, FALSE) -> 4900 | E17: =VLOOKUP($B17, INDIRECT($V$4), 4, FALSE) -> 5050 | F17: =VLOOKUP($B17, INDIRECT($V$4), 5, FALSE) -> 5050 | G17: =VLOOKUP($B17, INDIRECT($V$4), 6, FALSE) -> 0.030222585 | H17: =VLOOKUP($B17, INDIRECT($V$4), 7, FALSE) -> 0
B18: =TableA1Hide!B18 -> Ebr 19 | D18: =VLOOKUP($B18, INDIRECT($V$4), 3, FALSE) -> 4450 | E18: =VLOOKUP($B18, INDIRECT($V$4), 4, FALSE) -> 4510 | F18: =VLOOKUP($B18, INDIRECT($V$4), 5, FALSE) -> 4520 | G18: =VLOOKUP($B18, INDIRECT($V$4), 6, FALSE) -> 0.014848144 | H18: =VLOOKUP($B18, INDIRECT($V$4), 7, FALSE) -> 0.0028818444
B19: =TableA1Hide!B19 -> Mai 19 | D19: =VLOOKUP($B19, INDIRECT($V$4), 3, FALSE) -> 4950 | E19: =VLOOKUP($B19, INDIRECT($V$4), 4, FALSE) -> 5040 | F19: =VLOOKUP($B19, INDIRECT($V$4), 5, FALSE) -> 5050 | G19: =VLOOKUP($B19, INDIRECT($V$4), 6, FALSE) -> 0.018387553 | H19: =VLOOKUP($B19, INDIRECT($V$4), 7, FALSE) -> 0.0015873016
... B27: =TableA1Hide!B27 -> Ion 20 | D27: =VLOOKUP($B27, INDIRECT($V$4), 3, FALSE) -> 4210 | E27: =VLOOKUP($B27, INDIRECT($V$4), 4, FALSE) | F27: =VLOOKUP($B27, INDIRECT($V$4), 5, FALSE) | G27: =VLOOKUP($B27, INDIRECT($V$4), 6, FALSE) | H27: =VLOOKUP($B27, INDIRECT($V$4), 7, FALSE)
A29: 1 | B29: =TableA1Hide!B29 -> Mae'r gwerthoedd yn y tabl hwn wedi cael eu talgrynnu i'r 10 trafodiad agosaf.

Sheet TablA2
A1: =TableA2Hide!A1 -> Nôl i'r dudalen cynnwys
A2: =INDIRECT($V$10&"Header") -> Tabl A2: Amcangyfrifon treth yn ddyledus ar drafodiadau hysbysadwy a adroddwyd: Pob trafodiadau
A4: Dyddiad effeithiol (mis) | D4: Amcangyfrif | G4: % Newid Rhwng Amcangyfrifon
D5: Yn Gyntaf | E5: Yn Ail | F5: Yn Drydydd | G5: 1af i 2il | H5: 2il i 3ydd
B6: =TableA2Hide!B6 -> Ebr 18 | D6: =VLOOKUP($B6, INDIRECT($V$10), 3, FALSE) -> 12 | E6: =VLOOKUP($B6, INDIRECT($V$10), 4, FALSE) -> 15.6 | F6: =VLOOKUP($B6, INDIRECT($V$10), 5, FALSE) -> 15.5 | G6: =VLOOKUP($B6, INDIRECT($V$10), 6, FALSE) -> 0.29743167 | H6: =VLOOKUP($B6, INDIRECT($V$10), 7, FALSE) -> -0.0050480559
B7: =TableA2Hide!B7 -> Mai 18 | D7: =VLOOKUP($B7, INDIRECT($V$10), 3, FALSE) -> 13.5 | E7: =VLOOKUP($B7, INDIRECT($V$10), 4, FALSE) -> 14.4 | F7: =VLOOKUP($B7, INDIRECT($V$10), 5, FALSE) -> 14.3 | G7: =VLOOKUP($B7, INDIRECT($V$10), 6, FALSE) -> 0.061823275 | H7: =VLOOKUP($B7, INDIRECT($V$10), 7, FALSE) -> -0.0030596757
B8: =TableA2Hide!B8 -> Meh 18 | D8: =VLOOKUP($B8, INDIRECT($V$10), 3, FALSE) -> 18 | E8: =VLOOKUP($B8, INDIRECT($V$10), 4, FALSE) -> 19.6 | F8: =VLOOKUP($B8, INDIRECT($V$10), 5, FALSE) -> 19.7 | G8: =VLOOKUP($B8, INDIRECT($V$10), 6, FALSE) -> 0.091373041 | H8: =VLOOKUP($B8, INDIRECT($V$10), 7, FALSE) -> 0.0048183364
B9: =TableA2Hide!B9 -> Gorff 18 | D9: =VLOOKUP($B9, INDIRECT($V$10), 3, FALSE) -> 19.7 | E9: =VLOOKUP($B9, INDIRECT($V$10), 4, FALSE) -> 22.1 | F9: =VLOOKUP($B9, INDIRECT($V$10), 5, FALSE) -> 22 | G9: =VLOOKUP($B9, INDIRECT($V$10), 6, FALSE) -> 0.12200619 | H9: =VLOOKUP($B9, INDIRECT($V$10), 7, FALSE) -> -0.0012911151 | S9: 1
B10: =TableA2Hide!B10 -> Awst 18 | D10: =VLOOKUP($B10, INDIRECT($V$10), 3, FALSE) -> 19.1 | E10: =VLOOKUP($B10, INDIRECT($V$10), 4, FALSE) -> 20 | F10: =VLOOKUP($B10, INDIRECT($V$10), 5, FALSE) -> 19.8 | G10: =VLOOKUP($B10, INDIRECT($V$10), 6, FALSE) -> 0.051864099 | H10: =VLOOKUP($B10, INDIRECT($V$10), 7, FALSE) -> -0.010217139 | S10: 1 | T10: DTORounded | V10: =VLOOKUP($S$9,$S$10:$T$13,2,FALSE) -> DTORounded | W10: 25
B11: =TableA2Hide!B11 -> Medi 18 | D11: =VLOOKUP($B11, INDIRECT($V$10), 3, FALSE) -> 19.4 | E11: =VLOOKUP($B11, INDIRECT($V$10), 4, FALSE) -> 19.9 | F11: =VLOOKUP($B11, INDIRECT($V$10), 5, FALSE) -> 20.2 | G11: =VLOOKUP($B11, INDIRECT($V$10), 6, FALSE) -> 0.027122761 | H11: =VLOOKUP($B11, INDIRECT($V$10), 7, FALSE) -> 0.012169485 | S11: 2 | T11: DRERounded | W11: 26
B12: =TableA2Hide!B12 -> Hyd 18 | D12: =VLOOKUP($B12, INDIRECT($V$10), 3, FALSE) -> 21.3 | E12: =VLOOKUP($B12, INDIRECT($V$10), 4, FALSE) -> 21.8 | F12: =VLOOKUP($B12, INDIRECT($V$10), 5, FALSE) -> 21.7 | G12: =VLOOKUP($B12, INDIRECT($V$10), 6, FALSE) -> 0.024266185 | H12: =VLOOKUP($B12, INDIRECT($V$10), 7, FALSE) -> -0.0057083133 | S12: 3 | T12: DRHRounded | W12: 29
B13: =TableA2Hide!B13 -> Tach 18 | D13: =VLOOKUP($B13, INDIRECT($V$10), 3, FALSE) -> 22.7 | E13: =VLOOKUP($B13, INDIRECT($V$10), 4, FALSE) -> 23.3 | F13: =VLOOKUP($B13, INDIRECT($V$10), 5, FALSE) -> 23.3 | G13: =VLOOKUP($B13, INDIRECT($V$10), 6, FALSE) -> 0.027498295 | H13: =VLOOKUP($B13, INDIRECT($V$10), 7, FALSE) -> -0.0033437219 | S13: 4 | T13: DNRRounded | W13: 28
B14: =TableA2Hide!B14 -> Rhag 18 | D14: =VLOOKUP($B14, INDIRECT($V$10), 3, FALSE) -> 21.4 | E14: =VLOOKUP($B14, INDIRECT($V$10), 4, FALSE) -> 21.5 | F14: =VLOOKUP($B14, INDIRECT($V$10), 5, FALSE) -> 21.5 | G14: =VLOOKUP($B14, INDIRECT($V$10), 6, FALSE) -> 0.0045113453 | H14: =VLOOKUP($B14, INDIRECT($V$10), 7, FALSE) -> -0.0020115025
B15: =TableA2Hide!B15 -> Ion 19 | D15: =VLOOKUP($B15, INDIRECT($V$10), 3, FALSE) -> 16.9 | E15: =VLOOKUP($B15, INDIRECT($V$10), 4, FALSE) -> 17.3 | F15: =VLOOKUP($B15, INDIRECT($V$10), 5, FALSE) -> 17.3 | G15: =VLOOKUP($B15, INDIRECT($V$10), 6, FALSE) -> 0.024766747 | H15: =VLOOKUP($B15, INDIRECT($V$10), 7, FALSE) -> 0.0010937121
B16: =TableA2Hide!B16 -> Chwef 19 | D16: =VLOOKUP($B16, INDIRECT($V$10), 3, FALSE) -> 15.1 | E16: =VLOOKUP($B16, INDIRECT($V$10), 4, FALSE) -> 15.6 | F16: =VLOOKUP($B16, INDIRECT($V$10), 5, FALSE) -> 15.7 | G16: =VLOOKUP($B16, INDIRECT($V$10), 6, FALSE) -> 0.035711168 | H16: =VLOOKUP($B16, INDIRECT($V$10), 7, FALSE) -> 0.0023087229
B17: =TableA2Hide!B17 -> Maw 19 | D17: =VLOOKUP($B17, INDIRECT($V$10), 3, FALSE) -> 19.7 | E17: =VLOOKUP($B17, INDIRECT($V$10), 4, FALSE) -> 20 | F17: =VLOOKUP($B17, INDIRECT($V$10), 5, FALSE) -> 19.9 | G17: =VLOOKUP($B17, INDIRECT($V$10), 6, FALSE) -> 0.018017156 | H17: =VLOOKUP($B17, INDIRECT($V$10), 7, FALSE) -> -0.0039383472
B18: =TableA2Hide!B18 -> Ebr 19 | D18: =VLOOKUP($B18, INDIRECT($V$10), 3, FALSE) -> 14.5 | E18: =VLOOKUP($B18, INDIRECT($V$10), 4, FALSE) -> 14.1 | F18: =VLOOKUP($B18, INDIRECT($V$10), 5, FALSE) -> 14 | G18: =VLOOKUP($B18, INDIRECT($V$10), 6, FALSE) -> -0.03085234 | H18: =VLOOKUP($B18, INDIRECT($V$10), 7, FALSE) -> -0.0053584424
B19: =TableA2Hide!B18 -> Ebr 19 | D19: =VLOOKUP($B19, INDIRECT($V$10), 3, FALSE) -> 14.5 | E19: =VLOOKUP($B19, INDIRECT($V$10), 4, FALSE) -> 14.1 | F19: =VLOOKUP($B19, INDIRECT($V$10), 5, FALSE) -> 14 | G19: =VLOOKUP($B19, INDIRECT($V$10), 6, FALSE) -> -0.03085234 | H19: =VLOOKUP($B19, INDIRECT($V$10), 7, FALSE) -> -0.0053584424
B20: =TableA2Hide!B19 -> Mai 19 | C20: =IF(OR(S9=1, S9=4), TableA2Hide!A31, "") -> 2 | D20: =VLOOKUP($B20, INDIRECT($V$10), 3, FALSE) -> 17.7 | E20: =VLOOKUP($B20, INDIRECT($V$10), 4, FALSE) -> 18 | F20: =VLOOKUP($B20, INDIRECT($V$10), 5, FALSE) -> 20.1 | G20: =VLOOKUP($B20, INDIRECT($V$10), 6, FALSE) -> 0.015440736 | H20: =VLOOKUP($B20, INDIRECT($V$10), 7, FALSE) -> 0.11469074
B21: =TableA2Hide!B20 -> Meh 19 | D21: =VLOOKUP($B21, INDIRECT($V$10), 3, FALSE) -> 15.8 | E21: =VLOOKUP($B21, INDIRECT($V$10), 4, FALSE) -> 17.2 | F21: =VLOOKUP($B21, INDIRECT($V$10), 5, FALSE) -> 17.1 | G21: =VLOOKUP($B21, INDIRECT($V$10), 6, FALSE) -> 0.089102347 | H21: =VLOOKUP($B21, INDIRECT($V$10), 7, FALSE) -> -0.0080990279
B22: =TableA2Hide!B21 -> Gorff 19 | D22: =VLOOKUP($B22, INDIRECT($V$10), 3, FALSE) -> 19.6 | E22: =VLOOKUP($B22, INDIRECT($V$10), 4, FALSE) -> 19.8 | F22: =VLOOKUP($B22, INDIRECT($V$10), 5, FALSE) -> 19.8 | G22: =VLOOKUP($B22, INDIRECT($V$10), 6, FALSE) -> 0.011441159 | H22: =VLOOKUP($B22, INDIRECT($V$10), 7, FALSE) -> -0.0011871931
B23: =TableA2Hide!B22 -> Awst 19 | D23: =VLOOKUP($B23, INDIRECT($V$10), 3, FALSE) -> 20.8 | E23: =VLOOKUP($B23, INDIRECT($V$10), 4, FALSE) -> 21.4 | F23: =VLOOKUP($B23, INDIRECT($V$10), 5, FALSE) -> 21.4 | G23: =VLOOKUP($B23, INDIRECT($V$10), 6, FALSE) -> 0.031490991 | H23: =VLOOKUP($B23, INDIRECT($V$10), 7, FALSE) -> -0.00042109265
B24: =TableA2Hide!B23 -> Medi 19 | D24: =VLOOKUP($B24, INDIRECT($V$10), 3, FALSE) -> 19.2 | E24: =VLOOKUP($B24, INDIRECT($V$10), 4, FALSE) -> 22.3 | F24: =VLOOKUP($B24, INDIRECT($V$10), 5, FALSE) -> 22.2 | G24: =VLOOKUP($B24, INDIRECT($V$10), 6, FALSE) -> 0.15841686 | H24: =VLOOKUP($B24, INDIRECT($V$10), 7, FALSE) -> -0.0024222841
B25: =TableA2Hide!B24 -> Hyd 19 | D25: =VLOOKUP($B25, INDIRECT($V$10), 3, FALSE) -> 20.3 | E25: =VLOOKUP($B25, INDIRECT($V$10), 4, FALSE) -> 20.7 | F25: =VLOOKUP($B25, INDIRECT($V$10), 5, FALSE) -> 20.5 | G25: =VLOOKUP($B25, INDIRECT($V$10), 6, FALSE) -> 0.019157896 | H25: =VLOOKUP($B25, INDIRECT($V$10), 7, FALSE) -> -0.0053428682
B26: =TableA2Hide!B25 -> Tach 19 | D26: =VLOOKUP($B26, INDIRECT($V$10), 3, FALSE) -> 23.2 | E26: =VLOOKUP($B26, INDIRECT($V$10), 4, FALSE) -> 23.5 | F26: =VLOOKUP($B26, INDIRECT($V$10), 5, FALSE) -> 23.4 | G26: =VLOOKUP($B26, INDIRECT($V$10), 6, FALSE) -> 0.013392402 | H26: =VLOOKUP($B26, INDIRECT($V$10), 7, FALSE) -> -0.004263685
B27: =TableA2Hide!B26 -> Rhag 19 | D27: =VLOOKUP($B27, INDIRECT($V$10), 3, FALSE) -> 24.4 | E27: =VLOOKUP($B27, INDIRECT($V$10), 4, FALSE) -> 24.3 | F27: =VLOOKUP($B27, INDIRECT($V$10), 5, FALSE) | G27: =VLOOKUP($B27, INDIRECT($V$10), 6, FALSE) -> -0.0018407602 | H27: =VLOOKUP($B27, INDIRECT($V$10), 7, FALSE)
B28: =TableA2Hide!B27 -> Ion 20 | D28: =VLOOKUP($B28, INDIRECT($V$10), 3, FALSE) -> 16.2 | E28: =VLOOKUP($B28, INDIRECT($V$10), 4, FALSE) | F28: =VLOOKUP($B28, INDIRECT($V$10), 5, FALSE) | G28: =VLOOKUP($B28, INDIRECT($V$10), 6, FALSE) | H28: =VLOOKUP($B28, INDIRECT($V$10), 7, FALSE)
A30: 1 | B30: Mae'r dreth yn y tabl hwn wedi cael ei thalgrynnu i'r £0.1 miliwn agosaf.
B31: Dangosir y dreth sy’n ddyledus, net o unrhyw ad-daliadau a hawliwyd am bryniadau preswyl ar gyfraddau uwch (gweler y datganiad ystadegol a gyhoeddir ochr yn ochr â’r Atodiad hwn).
A32: =IF(OR(S9=1, S9=4), TableA2Hide!A31, "") -> 2 | B32: Mae cywiriad wedi'i wneud i drafodiad amrheswyl sy'n effeithiol ym mis Ebrill 2019, y cofnodwyd yn anghywir ei fod yn fawr pan nad oedd hynny'n wir. Arweiniodd hyn at ddiwygio gostyngiad yn y dreth amrheswyl sy'n ddyledus yn y mis hwn.
