Workbook

Sheet Deall y data
A1: Adroddiadau Canlyniadau Dysgwyr ar gyfer
A2: Partneriaethau Dysgu Oedolion
A3: Deall y data
A7: Rhagarweiniad
A9: 1 Mae Llywodraeth Cymru wedi cyhoeddi dangosyddion perfformiad blynyddol ar gyfer partneriaethau dysgu oedolion ers 2013. Mae'r canllawiau hyn yn esbonio pa wybodaeth y mae'r dangosyddion yn berthnasol iddi, sut maen nhw'n cael eu cyfri, a sut i ddehongli ein hadroddiadau.
A11: Beth yw Adroddiadau Canlyniadau Dysgwyr?
A13: 2 Diben yr Adroddiadau Canlyniadau Dysgwyr yw rhoi trosolwg o gyfraddau cwblhau a chyrhaeddiad dysgwyr ym mhob partneriaeth dysgu oedolion yng Nghymru. 'Ciplun' ydyn nhw sy'n dangos yr ystadegau ar gyfer blwyddyn benodol, ond maen nhw hefyd yn cynnwys gwybodaeth am batrymau sy'n dangos sut mae canlyniadau dysgwyr wedi newid dros gyfnod o dair blynedd. Mae'r ystadegau yn seiliedig ar wybodaeth y mae'r sefydliadau yn ei rhoi i ni.
A15: 3 Mae'r Adroddiadau Canlyniadau Dysgwyr yn seiliedig ar flwyddyn academaidd sy’n dechrau ar 1 Awst ac sy’n dod i ben ar 31 Gorffennaf. Mae oedi o rai misoedd cyn cyhoeddi'r adroddiadau, i roi amser i ddarparwyr dysgu gyflwyno'u data a’u gwirio ac i’r data hynny gael eu dadansoddi. Y drefn fel arfer yw cyhoeddi'r adroddiadau yn nhymor y gwanwyn ar ôl y flwyddyn academaidd berthnasol.
A17: Darllen yr adroddiadau
A19: 4 Mae tri math penodol o ddarpariaeth dysgu oedolion, sef:
A20: · Y dysgu a ddarperir yn uniongyrchol gan awdurdodau lleol – a’r awdurdod lleol sy’n cyflwyno’r data i Gofnod Dysgu Gydol Oes Cymru;
A21: · Y dysgu a ddarperir gan awdurdodau lleol drwy defnyddio trefniadau breinio ar gyfer sefydliad addysg bellach – a’r sefydliad addysg bellach sy’n cyflwyno’r data i Gofnod Dysgu Gydol Oes Cymru; a
... A80: 19 Chwefror 2020

Sheet Nodiadau esboniadol
A1: Fframwaith Ansawdd ac Effeithiolrwydd
A2: Adroddiadau Deilliannau Dysgwyr 2018/19:
A3: Nodiadau esboniadol ar gyfer partneriaethau dysgu oedolion
A7: Cyflwyniad
A9: 1 Fel rhan o'r Fframwaith Ansawdd ac effeithiolrwydd ar gyfer dysgu ôl-16, mae Llywodraeth Cymru wedi datblygu Adroddiadau Deilliannau Dysgwyr (ADDau) safonol ar gyfer partneriaethau dysgu oedolion (DO). Mae'r ddogfen hon yn darparu canllawiau manwl ar gyfer partneriaethau DO o ran cyfrifo ystadegau perfformiad sy'n cael eu cynnwys yn yr ADDau.
A11: 2 Mae holl ystadegau'r ADD yn deillio o Gofnod Dysgu Gydol Oes Cymru (LLWR) ac maen nhw wedi'u seilio ar ddyddiad cau blynyddol LLWR. Ar gyfer 2018/19, y dyddiad cau oedd 19 Rhagfyr 2019. Mae pob cyfeirnod yn y ddogfen hon sy'n cychwyn ag ‘LN’, ‘LP’, ‘LA’ neu ‘AW’ yn cyfeirio at feysydd LLWR.
A13: Adran 1: siartiau cryno
A28: 3 Diben y siartiau cryno yw dangos tueddiadau cyffredinol o ran cwblhau cyrsiau, cyrhaeddiad a chyfraddau llwyddo dros gyfnod o dair blynedd.
A30: 4 Seiliwyd y cohort dysgwyr ar gyfer yr holl gyfrifiadau ar weithgareddau dysgu yr oedd disgwyl y byddent:
A31: · wedi'u cwblhau yn ystod 2018/19 (LA10); neu
A32: · wedi'u cwblhau cyn 2018/19 ond a ddaeth i ben mewn gwirionedd yn ystod 2018/19 (LA30).
A34: 5 Ymdrinnir â gweithgareddau dysgu 24 wythnos o hyd neu fwy a ddaeth i ben, heb eu cwblhau, o fewn 8 wythnos o'u dechrau fel achosion o adael cwrs yn gynnar ac nid ydynt yn cael eu cynnwys mewn unrhyw gyfrifiadau.
... A129: 19 Chwefror 2020

Sheet Dewiswch Bartneriaeth DOG
A23: Pan ddetholir partneriaeth DO, diweddarir y tab ADD i ddangos data’r bartneriaeth honno.

Sheet ADD
A1: =VLOOKUP(Providers!$A$20,Providers!$A$1:$C$18,2,FALSE) -> PARTNERIAETH DYSGU OEDOLION YN Y GYMUNED: SIR GAERFYRDDIN
B3: =VLOOKUP(Providers!$A$20,Providers!$A$1:$C$18,3,FALSE) -> P08
C4: Sector success rate | D4: Completion | E4: Attainment | F4: Success | G4: Dark Green | H4: Green | I4: Orange | J4: Red
C5: 0.89497465
D6: =VLOOKUP($B$3,Data!$A$1:$J$19,2,FALSE) -> 0.97
B7: 2016/17 | E7: =VLOOKUP($B$3,Data!$A$1:$J$19,3,FALSE) -> 0.93
F8: =VLOOKUP($B$3,Data!$A$1:$J$19,4,FALSE) -> 0.9
D10: =VLOOKUP($B$3,Data!$A$1:$J$19,5,FALSE) -> 0.95
B11: 2017/18 | E11: =VLOOKUP($B$3,Data!$A$1:$J$19,6,FALSE) -> 0.98
F12: =VLOOKUP($B$3,Data!$A$1:$J$19,7,FALSE) -> 0.92
D14: =VLOOKUP($B$3,Data!$A$1:$J$19,8,FALSE) -> 0.97
B15: 2018/19 | E15: =VLOOKUP($B$3,Data!$A$1:$J$19,9,FALSE) -> 0.95
G16: =IF(K16>=0.85,K16,"") -> 0.9 | H16: =IF(K16>=0.75,IF(K16<0.85, K16,""),"") | I16: =IF(K16>=0.65,IF(K16<0.75, K16,""),"") | J16: =IF(K16<0.65,K16,"") | K16: =VLOOKUP($B$3,Data!$A$1:$J$19,10,FALSE) -> 0.9
C17: 0.89497465
A20: Data dysgwyr cyd-destunol - 2018/19
A22: Oed a rhyw | C22: 16-18 | E22: 19+ | G22: Pob oed | I22: Ethnigrwydd | M22: Pa mor ddifreintiedig yw'r cartref
I23: Gwyn | K23: =VLOOKUP(ADD!$B$3,Data!$L$2:$Q$19,2,FALSE) -> 0.898096 | M23: Mwyaf difreintiedig | O23: =VLOOKUP(ADD!$B$3,Data!$L$22:$Q$39,2,FALSE) -> 0.18626981
A24: Gwrywaidd | C24: =VLOOKUP(ADD!$B$3,Data!$A$22:$J$39,2,FALSE) -> 0.017824 | E24: =VLOOKUP(ADD!$B$3,Data!$A$22:$J$39,3,FALSE) -> 0.363039 | G24: =VLOOKUP(ADD!$B$3,Data!$A$22:$J$39,4,FALSE) -> 0.380863 | I24: Du | K24: =VLOOKUP(ADD!$B$3,Data!$L$2:$Q$19,3,FALSE) -> 0.005599 | O24: =VLOOKUP(ADD!$B$3,Data!$L$22:$Q$39,3,FALSE) -> 0.25441224
A25: Benywaidd | C25: =VLOOKUP(ADD!$B$3,Data!$A$22:$J$39,5,FALSE) -> 0.008443 | E25: =VLOOKUP(ADD!$B$3,Data!$A$22:$J$39,6,FALSE) -> 0.609756 | G25: =VLOOKUP(ADD!$B$3,Data!$A$22:$J$39,7,FALSE) -> 0.618199 | I25: Asiaidd | K25: =VLOOKUP(ADD!$B$3,Data!$L$2:$Q$19,4,FALSE) -> 0.044793 | O25: =VLOOKUP(ADD!$B$3,Data!$L$22:$Q$39,4,FALSE) -> 0.26431151
I26: Cymysg | K26: =VLOOKUP(ADD!$B$3,Data!$L$2:$Q$19,5,FALSE) -> 0.012318 | O26: =VLOOKUP(ADD!$B$3,Data!$L$22:$Q$39,5,FALSE) -> 0.25160132
A27: Cyfanswm | C27: =VLOOKUP(ADD!$B$3,Data!$A$22:$J$39,8,FALSE) -> 0.026266 | E27: =VLOOKUP(ADD!$B$3,Data!$A$22:$J$39,9,FALSE) -> 0.973734 | G27: =VLOOKUP(ADD!$B$3,Data!$A$22:$J$39,10,FALSE) -> 1 | I27: Arall | K27: =VLOOKUP(ADD!$B$3,Data!$L$2:$Q$19,6,FALSE) -> 0.039194 | M27: Lleiaf difreintiedig | O27: =VLOOKUP(ADD!$B$3,Data!$L$22:$Q$39,6,FALSE) -> 0.043405118
A30: Learners' employment status at start of course
A31: Employed (including self employed) | H31: =VLOOKUP(ADD!$B$3,Data!$S$2:$Y$19,2,FALSE) -> 0.42213884
A32: Non-employed and not available for/not seeking work | H32: =VLOOKUP(ADD!$B$3,Data!$S$2:$Y$19,3,FALSE) -> 0.16135084
A33: Non-employed and available for/seeking work | H33: =VLOOKUP(ADD!$B$3,Data!$S$2:$Y$19,4,FALSE) -> 0.090056285
A34: Full-time education or training | H34: =VLOOKUP(ADD!$B$3,Data!$S$2:$Y$19,5,FALSE) -> 0.013133208
A35: Other (including part-time education or training) | H35: =VLOOKUP(ADD!$B$3,Data!$S$2:$Y$19,6,FALSE) -> 0.054409006
A36: Not known | H36: =VLOOKUP(ADD!$B$3,Data!$S$2:$Y$19,7,FALSE) -> 0.25891182
A38: Cyfraddau llwyddiant yn ôl lefel a maes pwnc sector - 2018/19
A40: Lefel | C40: Maes Pwnc Sector | M40: Partneriaeth | O40: Cymaryddion Cenedlaethol 2018/19
A41: Lefel Mynediad | C41: Y Celfyddydau, Cyfryngau a Chyhoeddi | M41: =VLOOKUP(ADD!$B$3,Data!$A$43:$Y$60,2,FALSE) -> n/a | O41: 0.900369
C42: Technoleg Gwybodaeth a Chyfathrebu | M42: =VLOOKUP(ADD!$B$3,Data!$A$43:$Y$60,3,FALSE) -> * | O42: 0.86375
C43: Ieithoedd, Llenyddiaeth a Diwylliant | M43: =VLOOKUP(ADD!$B$3,Data!$A$43:$Y$60,4,FALSE) -> n/a | O43: 0.85096154
C44: Addysg Sylfaenol i Oedolion | M44: =VLOOKUP(ADD!$B$3,Data!$A$43:$Y$60,5,FALSE) -> 0.95 | O44: 0.8678341
C45: Saesneg ar gyfer Siaradwyr Ieithoedd Eraill | M45: =VLOOKUP(ADD!$B$3,Data!$A$43:$Y$60,6,FALSE) -> 0.81 | O45: 0.80460889
C46: Arall | M46: =VLOOKUP(ADD!$B$3,Data!$A$43:$Y$60,7,FALSE) -> 0.91 | O46: 0.92735703
A47: Lefel 1 | C47: Y Celfyddydau, Cyfryngau a Chyhoeddi | M47: =VLOOKUP(ADD!$B$3,Data!$A$43:$Y$60,8,FALSE) -> * | O47: 0.82687927
C48: Technoleg Gwybodaeth a Chyfathrebu | M48: =VLOOKUP(ADD!$B$3,Data!$A$43:$Y$60,9,FALSE) -> 1 | O48: 0.91278195
C49: Ieithoedd, Llenyddiaeth a Diwylliant | M49: =VLOOKUP(ADD!$B$3,Data!$A$43:$Y$60,10,FALSE) -> n/a | O49: 0.83815029
C50: Addysg Sylfaenol i Oedolion | M50: =VLOOKUP(ADD!$B$3,Data!$A$43:$Y$60,11,FALSE) -> 0.9 | O50: 0.86255924
C51: Saesneg ar gyfer Siaradwyr Ieithoedd Eraill | M51: =VLOOKUP(ADD!$B$3,Data!$A$43:$Y$60,12,FALSE) -> 0.85 | O51: 0.8
C52: Arall | M52: =VLOOKUP(ADD!$B$3,Data!$A$43:$Y$60,13,FALSE) -> 0.89 | O52: 0.92737547
A53: Lefel 2 | C53: Y Celfyddydau, Cyfryngau a Chyhoeddi | M53: =VLOOKUP(ADD!$B$3,Data!$A$43:$Y$60,14,FALSE) -> n/a | O53: 0.80152672
C54: Technoleg Gwybodaeth a Chyfathrebu | M54: =VLOOKUP(ADD!$B$3,Data!$A$43:$Y$60,15,FALSE) -> n/a | O54: 0.93493976
C55: Ieithoedd, Llenyddiaeth a Diwylliant | M55: =VLOOKUP(ADD!$B$3,Data!$A$43:$Y$60,16,FALSE) -> 0.94 | O55: 0.89361702
C56: Addysg Sylfaenol i Oedolion | M56: =VLOOKUP(ADD!$B$3,Data!$A$43:$Y$60,17,FALSE) -> 0.72 | O56: 0.92911392
C57: Saesneg ar gyfer Siaradwyr Ieithoedd Eraill | M57: =VLOOKUP(ADD!$B$3,Data!$A$43:$Y$60,18,FALSE) -> * | O57: 0.77192982
C58: Arall | M58: =VLOOKUP(ADD!$B$3,Data!$A$43:$Y$60,19,FALSE) -> 0.93 | O58: 0.91076115
A59: Lefelau eraill | C59: Y Celfyddydau, Cyfryngau a Chyhoeddi | M59: =VLOOKUP(ADD!$B$3,Data!$A$43:$Y$60,20,FALSE) -> n/a | O59: *
A60: (gan gynnwys rhai nas | C60: Technoleg Gwybodaeth a Chyfathrebu | M60: =VLOOKUP(ADD!$B$3,Data!$A$43:$Y$60,21,FALSE) -> n/a | O60: 0.84415584
A61: gwyddir) | C61: Ieithoedd, Llenyddiaeth a Diwylliant | M61: =VLOOKUP(ADD!$B$3,Data!$A$43:$Y$60,22,FALSE) -> n/a | O61: 0.90873016
C62: Addysg Sylfaenol i Oedolion | M62: =VLOOKUP(ADD!$B$3,Data!$A$43:$Y$60,23,FALSE) -> n/a | O62: 0.9144385
C63: Saesneg ar gyfer Siaradwyr Ieithoedd Eraill | M63: =VLOOKUP(ADD!$B$3,Data!$A$43:$Y$60,24,FALSE) -> n/a | O63: *
C64: Arall | M64: =VLOOKUP(ADD!$B$3,Data!$A$43:$Y$60,25,FALSE) -> 0.99 | O64: 0.89479769
M65: X | P65: 22
O66: Ffynhonnell: Cofnod Dysgu Gydol Oes Cymru - data fel yr oedd ar 19 December 2019
A68: Nodyn: Ar gyfer sectorau maes pwnc â llai na 10 o weithgareddau dysgu, mae'r ffigurau yn y tabl wedi eu cuddio a'u disodli gyda '*'
A70: Graddfeydd categoreiddio:
A72: 85% neu uwch
A73: 75% - 84%
A74: 65% - 74%
A75: Llai na 65%

Sheet Data
B1: 2016/17 | E1: 2017/18 | H1: 2018/19 | S1: Employment status
A2: code | B2: Comp | C2: Att | D2: Succ | E2: Comp | F2: Att | G2: Succ | H2: Comp | I2: Att | J2: Succ | L2: prov name | M2: White | N2: Black | O2: Asian | P2: Mixed | Q2: Other | S2: prov name | T2: 1 | U2: 2 | V2: 3 | W2: 4 | X2: 5 | Y2: 6
A3: P01 | B3: 0.95 | C3: 0.87 | D3: 0.84 | E3: 0.94 | F3: 0.95 | G3: 0.91 | H3: 0.96 | I3: 0.96 | J3: 0.95 | L3: P01 | M3: 0.959746 | N3: 0.002119 | O3: 0.027542 | P3: 0.008475 | Q3: 0.002119 | S3: P01 | T3: 0.31388013 | U3: 0.10173502 | V3: 0.14826498 | W3: 0.0055205047 | X3: 0.029968454 | Y3: 0.40063091
A4: P02 | B4: 0.98 | C4: 0.92 | D4: 0.91 | E4: 0.99 | F4: 0.95 | G4: 0.94 | H4: 0.98 | I4: 0.93 | J4: 0.91 | L4: P02 | M4: 0.973789 | N4: 0.003971 | O4: 0.009531 | P4: 0.007943 | Q4: 0.004766 | S4: P02 | T4: 0.2754159 | U4: 0.1133703 | V4: 0.050523722 | W4: 0 | X4: 0.0006161429 | Y4: 0.56007394
A5: P03 | B5: 0.98 | C5: 0.95 | D5: 0.94 | E5: 0.99 | F5: 0.9 | G5: 0.89 | H5: 0.98 | I5: 0.94 | J5: 0.92 | L5: P03 | M5: 0.978261 | N5: 0 | O5: 0.007905 | P5: 0.009881 | Q5: 0.003953 | S5: P03 | T5: 0.39613527 | U5: 0.17391304 | V5: 0.069243156 | W5: 0.001610306 | X5: 0 | Y5: 0.35909823
A6: P04 | B6: 0.97 | C6: 0.93 | D6: 0.9 | E6: 0.96 | F6: 0.88 | G6: 0.84 | H6: 0.97 | I6: 0.92 | J6: 0.89 | L6: P04 | M6: 0.974895 | N6: 0.006974 | O6: 0.008368 | P6: 0.008368 | Q6: 0.001395 | S6: P04 | T6: 0.38546922 | U6: 0.23309788 | V6: 0.027245207 | W6: 0.0050454087 | X6: 0.0020181635 | Y6: 0.34712412
A7: P05 | B7: 0.99 | C7: 0.92 | D7: 0.91 | E7: 0.99 | F7: 0.94 | G7: 0.93 | H7: 0.99 | I7: 0.96 | J7: 0.95 | L7: P05 | M7: 0.941109 | N7: 0.003464 | O7: 0.011547 | P7: 0.008083 | Q7: 0.035797 | S7: P05 | T7: 0.26038781 | U7: 0.1966759 | V7: 0.14035088 | W7: 0.12742382 | X7: 0.01754386 | Y7: 0.25761773
A8: P06 | B8: 0.96 | C8: 0.93 | D8: 0.92 | E8: 0.95 | F8: 0.94 | G8: 0.89 | H8: 0.99 | I8: 0.93 | J8: 0.92 | L8: P06 | M8: 0.947846 | N8: 0.002268 | O8: 0.015873 | P8: 0.00907 | Q8: 0.024943 | S8: P06 | T8: 0.42528736 | U8: 0.18582375 | V8: 0.12068966 | W8: 0.01532567 | X8: 0.074712644 | Y8: 0.17816092
A9: P07 | B9: 0.93 | C9: 0.95 | D9: 0.93 | E9: 0.94 | F9: 0.93 | G9: 0.91 | H9: 0.94 | I9: 0.96 | J9: 0.91 | L9: P07 | M9: 0.958403 | N9: 0.00416 | O9: 0.017471 | P9: 0.00624 | Q9: 0.013727 | S9: P07 | T9: 0.40355843 | U9: 0.34694703 | V9: 0.10028306 | W9: 0.0076829761 | X9: 0.090982612 | Y9: 0.050545896
A10: P08 | B10: 0.97 | C10: 0.93 | D10: 0.9 | E10: 0.95 | F10: 0.98 | G10: 0.92 | H10: 0.97 | I10: 0.95 | J10: 0.9 | L10: P08 | M10: 0.898096 | N10: 0.005599 | O10: 0.044793 | P10: 0.012318 | Q10: 0.039194 | S10: P08 | T10: 0.42213884 | U10: 0.16135084 | V10: 0.090056285 | W10: 0.013133208 | X10: 0.054409006 | Y10: 0.25891182
A11: P09 | B11: 0.94 | C11: 0.92 | D11: 0.89 | E11: 0.94 | F11: 0.94 | G11: 0.89 | H11: 0.92 | I11: 0.94 | J11: 0.9 | L11: P09 | M11: 0.829414 | N11: 0.038266 | O11: 0.072384 | P11: 0.00876 | Q11: 0.051176 | S11: P09 | T11: 0.36230798 | U11: 0.16897714 | V11: 0.06069689 | W11: 0.0082427876 | X11: 0.17721993 | Y11: 0.22255526
A12: P10 | B12: 0.98 | C12: 0.89 | D12: 0.88 | E12: 0.99 | F12: 0.9 | G12: 0.89 | H12: 0.98 | I12: 0.89 | J12: 0.87 | L12: P10 | M12: 0.946853 | N12: 0.005594 | O12: 0.02331 | P12: 0.016783 | Q12: 0.007459 | S12: P10 | T12: 0.079184634 | U12: 0.074088593 | V12: 0.040768326 | W12: 0.39866719 | X12: 0.021952176 | Y12: 0.38533908
A13: P11 | B13: 0.97 | C13: 0.88 | D13: 0.87 | E13: 1 | F13: 0.93 | G13: 0.93 | H13: 0.97 | I13: 0.91 | J13: 0.88 | L13: P11 | M13: 0.985352 | N13: 0.004883 | O13: 0.006836 | P13: 0.00293 | Q13: 0 | S13: P11 | T13: 0.11958569 | U13: 0.21939736 | V13: 0.12806026 | W13: 0.0028248588 | X13: 0.016949152 | Y13: 0.51318267
A14: P13 | B14: 0.97 | C14: 0.88 | D14: 0.85 | E14: 0.96 | F14: 0.93 | G14: 0.9 | H14: 0.97 | I14: 0.9 | J14: 0.88 | L14: P13 | M14: 0.980968 | N14: 0.005379 | O14: 0.007034 | P14: 0.004965 | Q14: 0.001655 | S14: P13 | T14: 0.28957529 | U14: 0.35696736 | V14: 0.092313092 | W14: 0.010530011 | X14: 0.017901018 | Y14: 0.23271323
... A19: F0009040 | B19: 0.98 | C19: 0.91 | D19: 0.9 | E19: 0.98 | F19: 0.93 | G19: 0.91 | H19: 0.98 | I19: 0.91 | J19: 0.89 | L19: F0009040 | M19: 0.866635 | N19: 0.024859 | O19: 0.053369 | P19: 0.007658 | Q19: 0.047479 | S19: F0009040 | T19: 0.38798338 | U19: 0.22635027 | V19: 0.058884628 | W19: 0 | X19: 0 | Y19: 0.32678172
A22: prov name | B22: Male 16-18 | C22: Male 19+ | D22: Male - All | E22: Female 16-18 | F22: Female 19+ | G22: Female - All | H22: Total 16-18 | I22: Total 19+ | J22: Total - All | L22: prov name | M22: Most Deprived | Q22: Least Deprived
A23: P01 | B23: 0.003943 | C23: 0.297319 | D23: 0.301262 | E23: 0.020505 | F23: 0.678233 | G23: 0.698738 | H23: 0.024448 | I23: 0.975552 | J23: 1 | L23: P01 | M23: 0.15988136 | N23: 0.15252428 | O23: 0.34251643 | P23: 0.25821893 | Q23: 0.086858996
A24: P02 | B24: 0.027177 | C24: 0.318098 | D24: 0.345275 | E24: 0.032736 | F24: 0.621989 | G24: 0.654725 | H24: 0.059914 | I24: 0.940086 | J24: 1 | L24: P02 | M24: 0.24856484 | N24: 0.298326 | O24: 0.17584302 | P24: 0.15001966 | Q24: 0.12724649
A25: P03 | B25: 0.016103 | C25: 0.381643 | D25: 0.397746 | E25: 0.016103 | F25: 0.584541 | G25: 0.600644 | H25: 0.032206 | I25: 0.967794 | J25: 1 | L25: P03 | M25: 0.1835171 | N25: 0.17976728 | O25: 0.21317106 | P25: 0.18251301 | Q25: 0.24103155
A26: P04 | B26: 0.00202 | C26: 0.352525 | D26: 0.354545 | E26: 0.012121 | F26: 0.633333 | G26: 0.645455 | H26: 0.014141 | I26: 0.985859 | J26: 1 | L26: P04 | M26: 0.22825638 | N26: 0.21453207 | O26: 0.1874576 | P26: 0.23078816 | Q26: 0.13896579
A27: P05 | B27: 0.083102 | C27: 0.311173 | D27: 0.394275 | E27: 0.100646 | F27: 0.503232 | G27: 0.603878 | H27: 0.183749 | I27: 0.816251 | J27: 1 | L27: P05 | M27: 0.14250409 | N27: 0.17059577 | O27: 0.21622281 | P27: 0.27469108 | Q27: 0.19598626
A28: P06 | B28: 0.007663 | C28: 0.321839 | D28: 0.329502 | E28: 0.02682 | F28: 0.643678 | G28: 0.670498 | H28: 0.034483 | I28: 0.965517 | J28: 1 | L28: P06 | M28: 0.035339806 | N28: 0.12 | O28: 0.24862933 | P28: 0.41244772 | Q28: 0.18358315
A29: P07 | B29: 0.006475 | C29: 0.242817 | D29: 0.249292 | E29: 0.00688 | F29: 0.743424 | G29: 0.750304 | H29: 0.013355 | I29: 0.986645 | J29: 1 | L29: P07 | M29: 0.14778463 | N29: 0.13664255 | O29: 0.34350975 | P29: 0.32707529 | Q29: 0.044987783
A30: P08 | B30: 0.017824 | C30: 0.363039 | D30: 0.380863 | E30: 0.008443 | F30: 0.609756 | G30: 0.618199 | H30: 0.026266 | I30: 0.973734 | J30: 1 | L30: P08 | M30: 0.18626981 | N30: 0.25441224 | O30: 0.26431151 | P30: 0.25160132 | Q30: 0.043405118
A31: P09 | B31: 0.011619 | C31: 0.384183 | D31: 0.395802 | E31: 0.005997 | F31: 0.597826 | G31: 0.603823 | H31: 0.017616 | I31: 0.982384 | J31: 1 | L31: P09 | M31: 0.29258478 | N31: 0.25348484 | O31: 0.12075301 | P31: 0.11032964 | Q31: 0.22284773
A32: P10 | B32: 0.239403 | C32: 0.170722 | D32: 0.410126 | E32: 0.217818 | F32: 0.370879 | G32: 0.588697 | H32: 0.458399 | I32: 0.541601 | J32: 1 | L32: P10 | M32: 0.31208255 | N32: 0.28132664 | O32: 0.20602511 | P32: 0.12484132 | Q32: 0.075724377
A33: P11 | B33: 0.017891 | C33: 0.34275 | D33: 0.36064 | E33: 0.018832 | F33: 0.620527 | G33: 0.63936 | H33: 0.036723 | I33: 0.963277 | J33: 1 | L33: P11 | M33: 0.22999808 | N33: 0.31450293 | O33: 0.1946435 | P33: 0.1046434 | Q33: 0.1562121
A34: P13 | B34: 0.016186 | C34: 0.394441 | D34: 0.410626 | E34: 0.024279 | F34: 0.564039 | G34: 0.588318 | H34: 0.040464 | I34: 0.959536 | J34: 1 | L34: P13 | M34: 0.37390699 | N34: 0.31013882 | O34: 0.14121419 | P34: 0.080694193 | Q34: 0.094045809
... A39: F0009040 | B39: 0.021572 | C39: 0.425695 | D39: 0.447267 | E39: 0.019255 | F39: 0.533158 | G39: 0.552413 | H39: 0.040828 | I39: 0.959172 | J39: 1 | L39: F0009040 | M39: 0.32179443 | N39: 0.25550727 | O39: 0.17832982 | P39: 0.13582702 | Q39: 0.10854145
B42: Entry Level | H42: Level 1 | N42: Level 2 | T42: Other levels (incl. not known)
A43: prov name | B43: Arts, Media and Publishing | C43: Information and Communication Technology | D43: Languages, Literature and Culture | E43: Adult Basic Education | F43: English for Speakers of Other Languages | G43: Other | H43: Arts, Media and Publishing | I43: Information and Communication Technology | J43: Languages, Literature and Culture | K43: Adult Basic Education | L43: English for Speakers of Other Languages | M43: Other | N43: Arts, Media and Publishing | O43: Information and Communication Technology | P43: Languages, Literature and Culture | Q43: Adult Basic Education | R43: English for Speakers of Other Languages | S43: Other | T43: Arts, Media and Publishing | U43: Information and Communication Technology | V43: Languages, Literature and Culture | W43: Adult Basic Education | X43: English for Speakers of Other Languages | Y43: Other
A44: P01 | B44: * | C44: n/a | D44: n/a | E44: 0.97 | F44: 0.9 | G44: 1 | H44: 0.89 | I44: 1 | J44: 1 | K44: 0.98 | L44: * | M44: 0.97 | N44: 0.87 | O44: 0.94 | P44: n/a | Q44: 1 | R44: * | S44: 0.9 | T44: n/a | U44: n/a | V44: 0.94 | W44: n/a | X44: n/a | Y44: 1
A45: P02 | B45: * | C45: * | D45: 0.94 | E45: 0.93 | F45: 1 | G45: 0.95 | H45: 0.8 | I45: 0.95 | J45: 0.74 | K45: 0.91 | L45: * | M45: 0.9 | N45: 0.86 | O45: 0.93 | P45: n/a | Q45: 0.9 | R45: n/a | S45: 0.9 | T45: n/a | U45: n/a | V45: 0.86 | W45: 0.92 | X45: n/a | Y45: 0.83
A46: P03 | B46: 1 | C46: n/a | D46: 1 | E46: 0.85 | F46: n/a | G46: 0.97 | H46: 0.89 | I46: 1 | J46: 0.61 | K46: * | L46: n/a | M46: 0.93 | N46: 0.8 | O46: 1 | P46: n/a | Q46: n/a | R46: n/a | S46: 0.97 | T46: n/a | U46: n/a | V46: n/a | W46: n/a | X46: n/a | Y46: n/a
A47: P04 | B47: 0.92 | C47: 0.9 | D47: n/a | E47: 0.87 | F47: 0.76 | G47: 0.96 | H47: 0.83 | I47: 0.85 | J47: 0.72 | K47: * | L47: n/a | M47: 0.96 | N47: 0.71 | O47: 1 | P47: n/a | Q47: * | R47: n/a | S47: 0.89 | T47: n/a | U47: n/a | V47: 0.96 | W47: n/a | X47: n/a | Y47: 0.84
A48: P05 | B48: 0.95 | C48: 0.94 | D48: 0.95 | E48: 0.9 | F48: 0.9 | G48: 0.98 | H48: n/a | I48: 0.97 | J48: 1 | K48: 0.96 | L48: 0.91 | M48: 0.96 | N48: n/a | O48: 0.97 | P48: n/a | Q48: n/a | R48: * | S48: 0.95 | T48: n/a | U48: n/a | V48: n/a | W48: n/a | X48: n/a | Y48: 0.89
A49: P06 | B49: 0.88 | C49: 0.97 | D49: * | E49: 0.77 | F49: * | G49: 0.96 | H49: n/a | I49: 1 | J49: n/a | K49: 0.92 | L49: n/a | M49: * | N49: n/a | O49: 1 | P49: 1 | Q49: n/a | R49: n/a | S49: 0.98 | T49: n/a | U49: * | V49: * | W49: * | X49: n/a | Y49: 0.93
A50: P07 | B50: n/a | C50: 1 | D50: n/a | E50: 0.88 | F50: 0.89 | G50: * | H50: n/a | I50: 1 | J50: n/a | K50: 0.85 | L50: * | M50: 0.91 | N50: n/a | O50: 0.95 | P50: n/a | Q50: * | R50: n/a | S50: 0.89 | T50: n/a | U50: * | V50: n/a | W50: * | X50: n/a | Y50: 0.97
A51: P08 | B51: n/a | C51: * | D51: n/a | E51: 0.95 | F51: 0.81 | G51: 0.91 | H51: * | I51: 1 | J51: n/a | K51: 0.9 | L51: 0.85 | M51: 0.89 | N51: n/a | O51: n/a | P51: 0.94 | Q51: 0.72 | R51: * | S51: 0.93 | T51: n/a | U51: n/a | V51: n/a | W51: n/a | X51: n/a | Y51: 0.99
A52: P09 | B52: 1 | C52: 0.91 | D52: * | E52: 0.91 | F52: 0.79 | G52: 0.95 | H52: * | I52: 1 | J52: n/a | K52: 1 | L52: n/a | M52: 1 | N52: n/a | O52: 0.99 | P52: n/a | Q52: * | R52: n/a | S52: 0.88 | T52: n/a | U52: n/a | V52: n/a | W52: * | X52: n/a | Y52: 0.93
A53: P10 | B53: n/a | C53: 0.63 | D53: n/a | E53: 0.83 | F53: * | G53: 0.99 | H53: 0.69 | I53: 0.92 | J53: 0.83 | K53: 0.87 | L53: * | M53: 0.92 | N53: * | O53: 0.99 | P53: 0.88 | Q53: * | R53: 0.92 | S53: 0.89 | T53: n/a | U53: n/a | V53: 1 | W53: n/a | X53: n/a | Y53: 0.41
A54: P11 | B54: 0.72 | C54: 0.79 | D54: 0.69 | E54: 0.9 | F54: n/a | G54: 0.89 | H54: 0.61 | I54: 0.88 | J54: n/a | K54: * | L54: n/a | M54: 0.75 | N54: n/a | O54: 0.98 | P54: n/a | Q54: n/a | R54: n/a | S54: 0.9 | T54: n/a | U54: 1 | V54: n/a | W54: n/a | X54: n/a | Y54: 1
A55: P13 | B55: 0.97 | C55: 0.75 | D55: 0.67 | E55: 0.79 | F55: 0.56 | G55: 0.93 | H55: n/a | I55: 0.9 | J55: 0.6 | K55: 0.66 | L55: n/a | M55: 0.92 | N55: n/a | O55: 0.92 | P55: n/a | Q55: 0.74 | R55: n/a | S55: 0.9 | T55: n/a | U55: n/a | V55: n/a | W55: n/a | X55: n/a | Y55: 0.96
A56: P14 | B56: 0.86 | C56: * | D56: n/a | E56: 0.77 | F56: n/a | G56: 0.82 | H56: n/a | I56: 0.88 | J56: 1 | K56: * | L56: n/a | M56: 0.81 | N56: n/a | O56: n/a | P56: n/a | Q56: n/a | R56: * | S56: 0.91 | T56: n/a | U56: n/a | V56: n/a | W56: n/a | X56: n/a | Y56: 0.93
A57: P15 | B57: 0.9 | C57: 0.77 | D57: 0.85 | E57: 0.84 | F57: 0.77 | G57: 0.86 | H57: 0.78 | I57: 0.7 | J57: 0.9 | K57: 0.82 | L57: 0.55 | M57: 0.94 | N57: * | O57: 0.74 | P57: 0.88 | Q57: 0.92 | R57: n/a | S57: 0.9 | T57: n/a | U57: * | V57: n/a | W57: n/a | X57: n/a | Y57: 0.92
A58: P16 | B58: n/a | C58: n/a | D58: n/a | E58: n/a | F58: n/a | G58: 0.93 | H58: n/a | I58: n/a | J58: n/a | K58: n/a | L58: n/a | M58: n/a | N58: n/a | O58: n/a | P58: n/a | Q58: n/a | R58: n/a | S58: 1 | T58: n/a | U58: n/a | V58: n/a | W58: n/a | X58: n/a | Y58: 1
A59: P18 | B59: 0.85 | C59: 0.92 | D59: 1 | E59: 0.89 | F59: 0.81 | G59: 0.96 | H59: 0.93 | I59: 0.96 | J59: 1 | K59: 0.89 | L59: 1 | M59: 0.98 | N59: n/a | O59: 0.95 | P59: * | Q59: 1 | R59: 0.64 | S59: 0.94 | T59: n/a | U59: 0.69 | V59: n/a | W59: * | X59: n/a | Y59: 0.87
A60: F0009040 | B60: 0.9 | C60: 0.81 | D60: 0.9 | E60: 0.86 | F60: 0.8 | G60: 0.93 | H60: 0.82 | I60: 0.89 | J60: 0.79 | K60: 0.88 | L60: * | M60: 0.92 | N60: 0.8 | O60: 0.92 | P60: n/a | Q60: 0.81 | R60: n/a | S60: 0.9 | T60: n/a | U60: n/a | V60: n/a | W60: n/a | X60: n/a | Y60: 0.9

Sheet Providers
B1: prov name | C1: code
A2: 1 | B2: PARTNERIAETH DYSGU OEDOLION YN Y GYMUNED: ADDYSG OEDOLION CYMRU | C2: F0009040
A3: 2 | B3: PARTNERIAETH DYSGU OEDOLION YN Y GYMUNED: PEN-Y-BONT AR OGWR | C3: P11
A4: 3 | B4: PARTNERIAETH DYSGU OEDOLION YN Y GYMUNED: CAERDYDD A’R FRO | C4: P18
A5: 4 | B5: PARTNERIAETH DYSGU OEDOLION YN Y GYMUNED: SIR GAERFYRDDIN | C5: P08
A6: 5 | B6: PARTNERIAETH DYSGU OEDOLION YN Y GYMUNED: CEREDIGION | C6: P06
A7: 6 | B7: PARTNERIAETH DYSGU OEDOLION YN Y GYMUNED: CSYWLLT DYSGU | C7: P02
A8: 7 | B8: PARTNERIAETH DYSGU OEDOLION YN Y GYMUNED: SIR Y FFLINT | C8: P03
A9: 8 | B9: PARTNERIAETH DYSGU OEDOLION YN Y GYMUNED: GWENT | C9: P15
A10: 9 | B10: PARTNERIAETH DYSGU OEDOLION YN Y GYMUNED: GWYNEDD A MÔN | C10: P01
A11: 10 | B11: PARTNERIAETH DYSGU OEDOLION YN Y GYMUNED: MERTHYR TUDFUL | C11: P14
A12: 11 | B12: PARTNERIAETH DYSGU OEDOLION YN Y GYMUNED: CASTELL-NEDD PORT TALBOT | C12: P10
A13: 12 | B13: PARTNERIAETH DYSGU OEDOLION YN Y GYMUNED: SIR BENFRO | C13: P07
... A18: 17 | B18: PARTNERIAETH DYSGU OEDOLION YN Y GYMUNED: YSTRAD MYNACH | C18: P16
A20: 4
