Workbook

Sheet Tudalen Flaen
B1: Offeryn i Ddefnyddwyr: Amcangyfrifon o'r Angen am Dai yng Nghymru yn ôl Deiliadaeth (yn seiliedig ar 2018)
B2: Fersiwn: | C2: 1
B3: Dyddiad Cyhoeddi: | C3: 5 Mehefin 2019
B4: Manylion Cyswllt: | C4: ystadegau.tai@llyw.cymru
B6: Cyfarwyddiadau
B7: Mae'r offeryn hwn yn caniatáu i ddefnyddwyr archwilio amcangyfrifon o'r angen am dai yng Nghymru yn ôl Deiliadaeth, ac mae'n cynnwys yr opsiwn i newid y rhagdybiaethau sylfaenol a ffynonellau'r data. Ym mis Ionawr 2019, cyhoeddodd Llywodraeth Cymru amcangyfrifon cyffredinol o'r angen am dai ychwanegol ar lefel cenedlaethol a rhanbarthol dros gyfnod o 20 mlynedd (2018/19 i 2037/38). Yn dilyn hyn, cafwyd ail gyhoeddiad sy'n rhannu'r acmangyfrifon cyffredinol ar gyfer y pum mlynedd cyntaf i ddeiliadaeth tai (naill ai marchnad neu fforddiadwy). Ceir dolen at yr erthyglau yma isod ac maent yn rhoi'r gwybodaeth gefndirol berthnasol i'r adnodd hwn. At ddiben yr adroddiad hwn, diffinnir tai'r farchnad a thai fforddiadwy fel a ganlyn: Tai'r Farchnad: Unedau tai sydd â pherchennog-ddeiliad neu a rentir yn breifat. Mae'n cynnwys unedau tai Cymorth i Brynu a Pherchentyaeth Cost Isel Canolradd (ee Cymorth Prynu a Rhanberchnogaeth). Tai Fforddiadwy : Tai cymdeithasol a thai rhent canolradd. Nid yw'n cynnwys unedau tai Perchentyaeth Cost Isel Canolradd. Fel y trafodwyd yn yr erthygl ystadegol (dolen isod), mae'r offeryn hwn hefyd yn caniatáu i ddefnyddwyr archwilio amcangyfrifon sydd wedi'u rhannu yn bedair deiliadaeth. Ceir taflenni gwahanol ar gyfer pob un o'r ardaloedd daearyddol (Cymru, Gogledd Cymru, Canolbarth a De-orllewin Cymru, De-ddwyrain Cymru). Yn y daflen sy'n dangos Rhaniad y Ddeiliadaeth (CYMRU), mae gan ddefnyddwyr yr opsiwn i newid ffynonellau'r data a'r rhagdybiaethau sylfaenol. Darllenwch drwy'r CANLLAWIAU AR NEWIDYNNAU a fydd yn egluro sut y mae pob newidyn yn cael ei ddefnyddio a ffynhonnell y newidyn sydd wedi'i ragosod. Ar ôl dewis o'r blychau glas, bydd cyfarwyddiadau'n ymddangos er mwyn gallu cyflwyno data. Ar ôl cwblhau mewnbynnu'r data, bydd amcangyfrifon yn ymddangos ar ffurf siartiau a thablau a rhywfaint o sylwadau am y rhagdybiaethau a ddewiswyd.
B25: Mae'r holl gelloedd sy'n cynnig opsiwn i ddefnyddwyr ddewis neu fewnbynnu data wedi'u lliwio'n las.
B27: Ymwadiad
B28: Nid yw'r amcangyfrifon a gynhyrchwyd gan ddefnyddio'r Offeryn i Ddefnyddwyr: Amcangyfrifon o'r Angen am Dai yng Nghymru yn ôl Deiliadaeth yn ffigurau swyddogol a gynhyrchwyd nac a gymeradwywyd gan Lywodraeth Cymru. Mae gan ddefnyddwyr yr opsiwn i drawsysgrifo'r rhagdybiaethau sylfaenol i archwilio'r effaith y byddai'r newid yn ei gael ar yr amcangyfrifon. Nid targedau ar gyfer tai yw'r amcangyfrifon hyn. Amcangyfrifon o'r angen am dai yn ôl deiliadaeth wedi'u seilio ar set o ragdybiaethau ydynt. Wrth rannu unrhyw amcangyfrifon sydd wedi'u cynhyrchu gan yr offeryn pan fydd defnyddwyr wedi cyflwyno eu rhagdybiaethau eu hunain, rhaid i hynny gael ei ddatgan yn glir.
B33: Disgrifiad o'r Taflenni
B34: Enw | C34: Disgrifiad
B35: Canllawiau ar Newidynnau | C35: Yn rhestru'r newidynnau sydd eu hangen i'w rhannu yn ddeiliadaeth, pam y mae eu hangen a ffynhonnell y newidyn sydd wedi'i ragosod (os yw'n berthnasol)
B36: Rhaniad y Ddeiliadaeth (Cymru) | C36: Yn caniatáu i ddefnyddwyr archwilio amcangyfrifon o unedau tai ychwanegol yng Nghymru wedi'u rhannu yn ôl deiliadaeth (rhaniad o ddwy ddeiliadaeth a rhaniad o bedair deiliadaeth)
B37: Rhaniad y Ddeiliadaeth (Gogledd Cymru) | C37: Yn caniatáu i ddefnyddwyr archwilio amcangyfrifon o unedau tai ychwanegol yng Ngogledd Cymru wedi'u rhannu yn ôl deiliadaeth (rhaniad o ddwy ddeiliadaeth a rhaniad o bedair deiliadaeth)
B38: Rhaniad y Ddeiliadaeth (Canolbarth a De-orllewin Cymru) | C38: Yn caniatáu i ddefnyddwyr archwilio amcangyfrifon o unedau tai ychwanegol yng Nghanolbarth a De-orllewin Cymru wedi'u rhannu yn ôl deiliadaeth (rhaniad o ddwy ddeiliadaeth a rhaniad o bedair deiliadaeth)
B39: Rhaniad y Ddeiliadaeth (De-ddwyrain Cymru) | C39: Yn caniatáu i ddefnyddwyr archwilio amcangyfrifon o unedau tai ychwanegol yn Ne-ddwyrain Cymru wedi'u rhannu yn ôl deiliadaeth (rhaniad o ddwy ddeiliadaeth a rhaniad o bedair deiliadaeth)
B40: Cyfrifiadau - Cymru | C40: Cyfrifiadau cam wrth gam o amcangyfrifon wedi'u rhannu yn ôl deiliadaeth (Cymru)
B41: Cyfrifiadau - Gogledd Cymru | C41: Cyfrifiadau cam wrth gam o amcangyfrifon wedi'u rhannu yn ôl deiliadaeth (Gogledd Cymru)
B42: Cyfrifiadau - Canolbarth a De-orllewin Cymru | C42: Cyfrifiadau cam wrth gam o amcangyfrifon wedi'u rhannu yn ôl deiliadaeth (Canolbarth a De-orllewin Cymru)
B43: Cyfrifiadau - De-ddwyrain Cymru | C43: Cyfrifiadau cam wrth gam o amcangyfrifon wedi'u rhannu yn ôl deiliadaeth (De-ddwyrain Cymru)
B44: Amcanestyniadau o Aelwydydd | C44: Holl Amrywiolion Amcanestyniadau o Aelwydydd
B45: Rhagdybiaethau Blynyddol | C45: Yr holl ragdybiaethau sy'n gyson drwy gydol cyfnod o bum mlynedd yr amcangyfrifon
... B58: Map Rhanbarthol | C58: Map o'r tair rhanbarth economaidd yng Nghymru
B60: Dolenni defnyddiol
B61: Erthygl Ystadegol ar Raniad Deiliadaeth Amcangyfrifon Tai
B62: Erthygl Ystadegol ar Gyfanswm yr Unedau Tai Ychwanegol
B68: Mae'r holl gynnwys ar gael o dan Drwydded Llywodraeth Agored f3.0, oni nodir fel arall.

Sheet Canllawiau ar Newidynnau
B1: Canllawiau ar y Newidynnau
B2: Mae'r daflen hon yn cynnig arweiniad ar bob un o'r newidynnau sydd eu hangen i gynhyrchu amcangyfrifon yn ôl rhaniad y ddeiliadaeth.
C6: Newidyn | D6: Disgrifiad o'r newidyn | E6: Sylwadau ar y Newidyn sydd wedi'i Ragosod | F6: Ffynhonnell y Newidyn sydd wedi'i Ragosod | G6: Nodiadau
B7: Mae angen y newidynnau hyn i gynhyrchu amcangyfrifon wedi'u rhannu yn ddwy ddeiliadaeth (ar y farchnad a fforddiadwy). | C7: Ffynonellau Data (rhaniad 2 ddeiliadaeth)
C8: Amcanestyniadau o Aelwydydd | D8: Defnyddir amcanestyniadau aelwydydd i gyfrifo'r angen newydd sy’n codi’n flynyddol. Diffinnir angen newydd sy’n codi fel nifer amcanestynedig o aelwydydd newydd bydd angen tai ychwanegol arnynt am gyfnod yn y dyfodol. Mae nifer o newidynnau o amcanestyniadau aelwydydd: - Prif Amcanestyniadau (y sail ar gyfer amcanion canolog angen tai) - Amrywiolyn uwch - Amrywiolyn is - Amrywiolyn Ymfudo Cymedrig Deng Mlynedd - Amrywiolyn Dim Ymfudo | E8: Defnyddir Amcanestyniadau Aelwydydd sy'n seiliedig ar 2014 gan Lywodraeth Cymru fel y ffynhonnell sydd wedi'i rhagosod ar gyfer lefel genedlaethol a lefel ranbarthol. Mae gan ddefnyddwyr yr opsiwn i ddewis amrywiolyn amcanestyniadau aelwydydd y maent yn ei ddefnyddio. Ceir diffiniadau llawn o'r gwahanol amrywiolion yn yr erthygl ystadegol gyntaf. | F8: https://llyw.cymru/amcanestyniadau-aelwydydd-awdurdodau-lleol-sail-2014 | G8: Mae amcanestyniadau aelwydydd Awdurdodau lleol wedi'u cyfansymu i gyfrifo amcanestyniadau cenedlaethol a rhanbarthol.
C9: Yr Angen Presennol nas Diwallwyd | D9: Defnyddir amcangyfrifon o'r angen presennol nas diwallwyd ynghyd ag amcanestyniadau aelwydydd i amcangyfrif yr angen cyffredinol am unedau tai ychwanegol. Diffinnir yr angen presennol nas diwallwyd fel nifer yr aelwydydd sydd heb fynediad i dai digonol ac y byddai angen uned tai ychwanegol. Ni chaiff y rheini a all fod angen tai mwy priodol na fyddai angen tai ychwanegol arnynt eu cynnwys yn y dadansoddiad hwn. | E9: Mae'r amcangyfrifon sydd wedi'u rhagosod o'r angen presennol nas diwallwyd yn cynnwys dwy agwedd: aelwydydd digartref mewn llety dros dro (ciplun ar ddiwedd mis Mehefin 2018) ac aelwydydd sy'n orlawn ac yn gudd (Cyfrifiad 2011). | F9: https://statscymru.llyw.cymru/Catalogue/Housing/Homelessness/Temporary-Accommodation/householdsaccommodatedtemporarily-by-accommodationtype-householdtype https://cy.ons.gov.uk/peoplepopulationandcommunity/housing/adhocs/008905ct08512011census?:uri=peoplepopulationandcommunity/housing/adhocs/008905ct08512011census | G9: Daw'r data am aelwydydd sy'n orlawn ac yn gudd o Gyfrifiad 2011.
C10: Incwm yr Aelwyd | D10: Mae dosbarthiad incwm yr aelwyd yn ofynnol (ynghyd â meini prawf fforddiadwyedd pob deiliadaeth) ar lefel genedlaethol a rhanbarthol i gyfrifo pa gyfran o'r angen newydd sy’n codi fyddai'n addas ar gyfer pob deiliadaeth tai. | E10: At ddibenion y gwaith hwn, caiff incwm yr aelwyd ei ddiffinio'n incwm gros yr aelwyd nad yw'n cyfrif cyfwerthedd ar gyfer pob oedolyn sy'n byw yn yr aelwyd, yn deillio o gwestiynau manwl ar incwm yn Arolwg Cenedlaethol Cymru 2017. Mae hynny'n cynnwys budd-daliadau a lwfansau sy'n gysylltiedig â thai.
C11: Prisiau Rhenti Preifat | D11: Defnyddir data canolrif a 30 canradd rhent preifatar lefel genedlaethol a rhanbarthol ynghyd â dosbarthiad incwm aelwydydd er mwyn sefydlu faint o aelwydydd sydd yn addas ar gyfer tai’r farchnad. | E11: Defnyddir Data ar Renti Preifat a gasglwyd gan swyddogion rhenti Llywodraeth Cymru fel y data wedi'u rhagosod. Mae'r gwerthoedd canolrifol a 30 canradd wedi'u cymryd o Orffennaf 2017 - Mehefin 2018. | F11: https://llyw.cymru/rhenti-yn-y-sector-preifat-2017 | G11: Mae'r data a ddefnyddiwyd at bwrpas y gwaith hwn yn cynnwys aelwydydd sydd yn derbyn cymhorthdal tai yn ogystal a aelwydydd myfyrwyr. Caiff y rhain eu heithrio o'r data a gyhoeddir ar StatsCymru ac felly nid oes modd cymharu'r data.
C12: Rhagdybiaethau Blynyddol Penodol (rhaniad 2 ddeiliadaeth)
C13: Meini Prawf Fforddiadwyedd (Marchnad) | D13: Mae'r dybiaeth yn ofynnol er mwyn cyfrifo (ynghyd â phris canolrif rhent preifat) yr incwm gofynnol sydd ei angen i fforddio tai ar y farchnad (rhent preifat neu berchen-feddiannydd). | E13: Byddai aelwydydd a fyddai'n gwario llai na 30% o incwm yr aelwyd ar rent preifat canolrifol yn addas ar gyfer rhentu'n breifat. Wrth i'r trothwy incwm aelwyd gynyddu (ee aelwydydd sy'n gwario llai na 35% o incwm aelwyd ar rhent canolrifol yn addas ar gyfer rhent preifat) felly hefyd fydd nifer yr aelwydydd a fyddai'n addas i rentu'n breifat.
C14: Blynyddoedd i gael gwared ar yr ôl-groniad | D14: Dyma'r hyd amser fydd angen i ddiwallu'r holl aelwydydd a chanddynt angen presennol nas diwallwyd. | E14: Y dybiaeth ragosod yw y bydd yn cymryd 5 mlynedd i gael gwared ar yr ôl-groniad o angen presennol nas diwallwyd. Casgliad y grŵp technegol oedd ei bod yn rhesymol i dybio y dylid cael gwared ar yr angen presennol o fewn 5 mlynedd. | F14: https://llyw.cymru/angen-ar-galw-am-dai-sail-2018
C15: Rhagdybiaethau 5 mlynedd (rhaniad 2 ddeiliadaeth)
C16: Newid i Incwm Canolrifol yr Aelwyd | D16: I ragweld tyfiant incwm yr aelwyd | E16: Mae’r Swyddfa Cyfrifoldeb Cyllidebol (OBR) yn cyhoeddi rhagolygon o incwm aelwydydd. Tra bo’r rhagolygon ar lefel DU mae wedi’i ddefnyddio ar lefel cenedlaethol a rhanbarthol yng Nghymru. Mae’r rhagolwg yn nodi twf o oddeutu 3% bob blwyddyn ar gyfer y cyfnod o bum mlynedd. | F16: https://obr.uk/download/march-2019-economic-and-fiscal-outlook-supplementary-economy-tables/ (Table 1.13) | G16: Defnyddiwyd rhagolygon ar gyfer blynyddoedd ariannol sydd ychydig yn wahanol i'r cyfnodau canol blwyddyn a ddefnyddir yn yr amcangyfrifon o dai ychwanegol.
C17: Newid i Ddosbarthiad Incwm yr Aelwyd | D17: I ragweld sut y bydd dosbarthiad incwm yr aelwyd yn newid dros amser. | E17: Yn seiliedig ar y llenyddiaeth sydd ar gael, y dybiaeth ragosod yw y bydd, dros amser, mwy o anghydraddoldeb yn nosbarthiad incwm aelwydydd. Mae hyn yn golygu y bydd aelwydydd incwm uchel yn cynyddu yn gynt na'r rhai o gartrefi incwm isel.
C18: Newid i brisiau rhenti | D18: I ragweld tyfiant prisiau rhenti preifat. | E18: Cyhoeddodd y Swyddfa Cyfrifoldeb Cyllidebol (OBR) ei Rhagolygon Economaidd a Chyllidol diweddaraf ym mis Mawrth 2019. Maent yn datgan y tybir bod rhenti preifat yn cynyddu yn unol â'u rhagolygon o enillion cyfartalog. Tra bo’r rhagolygon ar lefel DU mae wedi’i ddefnyddio ar lefel cenedlaethol a rhanbarthol yng Nghymru. Mae’r rhagolwg yn nodi twf o oddeutu 3% bob blwyddyn ar gyfer y cyfnod o bum mlynedd. | F18: https://obr.uk/download/march-2019-economic-and-fiscal-outlook-supplementary-economy-tables/ (Table 1.6) | G18: Defnyddiwyd rhagolygon ar gyfer blynyddoedd ariannol sydd ychydig yn wahanol i'r cyfnodau canol blwyddyn a ddefnyddir yn yr amcangyfrifon o dai ychwanegol.
B19: Mae angen y newidynnau ychwanegol hyn i gynhyrchu amcangyfrifon wedi'u rhannu yn bedair deiliadaeth (perchen-feddiannydd, rhent preifat, rhent canolradd a chymdeithasol). | C19: Ffynonellau Data (rhaniad 4 deiliadaeth)
C20: Dosbarthiad Prisiau Tai | D20: Mae'n ofynnol i brisiau tai sy'n addas ar gyfer tai'r farchnad agored gael eu dyrannu i berchen-feddianwyr a rhenti preifat. | E20: Mae data ar brisiau tai ar gael drwy set ddata Cofrestrfa Tir ar brisiau a dalwyd. | F20: http://landregistry.data.gov.uk/app/ppd/ | G20: Data yn gywir ar 6 Rhagfyr 2018.
C21: Rhagdybiaethau Blynyddol Penodol (rhaniad 4 deiliadaeth)
C22: Cymhareb Incwm Prynwyr am y Tro Cyntaf | D22: Mae angen y newidyn hwn er mwyn rhannu'r farchnad tai i berchen-feddianwyr a rhenti preifat. Y gymhareb fforddiadwyedd yw sawl gwaith eu hincwm y gall prynwyr tro cyntaf ddisgwyl talu am dŷ. | E22: Mae Cyllid y DU (a adwaenir gynt fel Cyngor Benthycwyr Morgeisi) yn cyhoeddi ffigurau chwarterol ar lefel Cymru. | F22: https://www.ukfinance.org.uk/data-and-research/data/mortgages/regional-lending-trends
C23: Canradd y Prynwyr sy'n Prynu Eiddo am y Tro Cyntaf | D23: Defnyddir y newidyn hwn ar y cyd gyda'r uchod i ddarganfod faint o incwm yr aelwyd sydd angen i Brynwyr am y Tro Cyntaf fedru prynu tŷ. | E23: O gymharu'r pris cyfartalog a dalwyd gan brynwyr am y tro cyntaf yng Nghymru yn ôl yr hyn a gyhoeddwyd gan y Swyddfa Ystadegau Gwladol â dosbarthiad set ddata Cofrestrfa Tir ar brisiau a dalwyd, mae prynwyr am y tro cyntaf yng Nghymru yn tueddu i allu prynu eiddo am y tro cyntaf yn ôl 40 canradd.
C24: Prynwyr sy'n mynd ymlaen i brynu eiddo am y tro cyntaf (nid oes newidyn wedi'i ragosod) | D24: Mae'r newidyn hwn yn ystyried na fydd pob aelwyd sy'n medru fforddio prynu tŷ (yn seiliedig ar y rhagdybiaeth uchod) mewn gwirionedd yn parhau i wneud hynny, unai drwy ddewis neu amgylchiad | E24: Ni chanfuwyd tystiolaeth gadarn er mwyn gwneud rhagdybiaeth gredadwy am y newidyn hwn yng Nghymru. Rhaid i ddefnyddwyr gyflwyno eu gwerth eu hunain i weld amcangyfrifon wedi'u rhannu yn bedair deiliadaeth. | G24: Heb ei ragosod.
C25: Meini Prawf Fforddiadwyedd (Cymdeithasol) | D25: Er mwyn dyrannu'r rheini a ystyrir yn addas ar gyfer rhent fforddiadwy i rhent cymdeithasol a chanolradd, mae gofyn am ragdybiaeth o ba aelwydydd sy'n addas ar gyfer rhent cymdeithasol. | E25: Byddai aelwydydd fyddai’n gwario mwy na 35% o incwm yr aelwyd ar renti 30 canradd yn addas ar gyfer tai cymdeithasol. Wrth i'r trothwy incwm aelwyd ostwng (ee aelwydydd sy'n mwy llai na 30% o incwm aelwyd ar rhent canolrifol yn addas ar gyfer tai cymdeithasol) bydd mwy o aelwydydd yn addas ar gyfer tai cymdeithasol
C26: Rhagdybiaethau 5 mlynedd (rhaniad 4 deiliadaeth)
C27: Newid i brisiau tai | D27: I ragweld tyfiant mewn prisiau tai. | E27: Mae'r Swyddfa Cyfrifoldeb Cyllidebol (OBR) yn cynhyrchu rhagolygon o brisiau tai ar gyfer y DU. | F27: https://www.ukfinance.org.uk/data-and-research/data/mortgages/regional-lending-trends | G27: Defnyddiwyd rhagolygon ar gyfer blynyddoedd ariannol sydd ychydig yn wahanol i'r cyfnodau canol blwyddyn a ddefnyddir yn yr amcangyfrifon o dai ychwanegol.

Sheet Cyngor
B2: Mae'r daflen hon yn anelu i roi cyngor defnyddiol ar gyfer defnyddio a llywio'r adnodd. Os ydych yn meddwl y byddai cyngor ychwanegol yn ddefnyddiol, cysylltwch â ni os gwelwch yn dda (manylion cyswllt ar y dudalen flaen).
B5: Defnydd cyffredinol o'r adnodd
B7: • Mae celloedd sydd wedi'u lliwio'n las yn nodi y gallwch ddewis o ddewislen, ychwanegu data, neu glicio ar fotwm.
B8: • Os nad oes amcangyfrifon yn ymddangos, gwiriwch nad oes celloedd coch yn dangos "N" yng ngholofn gyflawn pob taflen rhaniad y ddeiliadaeth. Os oes, dilynwch y testun coch i fewnbynnu data neu ddewis yr opsiwn wedi'i ragosod (lle'n bosib).
B9: • Er mwyn gweld amcangyfrifon wedi'u rhannu yn ddwy ddeiliadaeth, nid oes angen i chi mewngofnodi eich data chi o gwbl.
B10: • Er mwyn gweld amcangyfrifon wedi'u rhannu yn bedair deiliadaeth, mae'n rhaid i chi fewngofnodi eich data ar gyfer y gyfran o brynwyr am y tro cyntaf sy'n mynd ymlaen i brynu eiddo.
B12: Mewngofnodi eich data chi
B14: • Mae'r opsiwn gennych i ddefnyddio'ch data a'ch rhagdybiaethau eich hun. Gallwch roi eich data chi yn lle'r rhagdybiaethau a ffynonellau data wedi'u rhagosod, defnyddio cymysgedd o'ch data chi a data wedi'i ragosod, neu ddefnyddio'r holl ragdybiaethau a ffynonellau data wedi'u rhagosod.
B15: • Bydd y dewisiadau a wnewch ar daflen Rhaniad y Ddeiliadaeth (Cymru) i ddefnyddio data wedi'i ragosod neu eich data chi, yn dilyn drwodd i'r taflenni rhanbarthol. Ni fedrwch ddefnyddio'r rhagosodon mewn un ardal ddaearyddol a defnyddio'ch data eich hun mewn un arall.
B16: • Nid oes rhaid i chi fewngofnodi gwerthoedd ym mhob rhanbarth er mwyn i'r adnodd weithio. Cyhyd â'ch bod wedi mewngofnodi data ar lefel Cymru, mi fyddwch yn gweld amcangyfrifon ar lefel Cymru. Bydd y taflenni rhanbarthol yn dangos statws anorffenedig a pharhau yn wag.
B17: • Yn yr un modd, nid oes angen i chi fewngofnodi data ar lefel Cymru er mwyn i'r adnodd weithio. Os oes gennych ddiddordeb penodol mewn un rhanbarth, ac eisiau defnyddio eich data eich hun, gallwch wneud hynny drwy ddewis ar y daflen Cymru. Bydd mewngofnodi data ar lefel rhanbarthol yn unig yn darparu amcangyfrifon ar gyfer y rhanbarth hwnnw (bydd y taflenni eraill yn parhau yn anorffenedig ac ni fyddant yn arddangos canlyniadau).
B19: Deall y fethodoleg
B21: • Ar gyfer amcangyfrifon ar lefel Cymru a'r tair rhanbarth, mae yna daflen 'Cyfrifiadau'. Mae hwn yn torri'r fethodoleg i lawr gam wrth gam. Mae yna enghraifft weithredol yn Atodiad 4 o'r erthygl ystadegol (linc ar y dudalen flaen).

Sheet Rhaniad y Ddeiliadaeth (Cymru)
B1: Lefel Ddaearyddol: | D1: Cymru
B2: Llenwch y blychau GLAS a dilynwch unrhyw gyfarwyddiadau yn y golofn Cyfarwyddiadau/Gwirio
C4: Newidyn | D4: Dewislen | E4: Wedi'i gwblhau? | F4: Cyfarwyddiadau/Gwirio | K4: Dolenni defnyddiol i daenlenni eraill:
B5: Mae angen y newidynnau hyn i gynhyrchu amcangyfrifon wedi'u rhannu yn ddwy deiliadaeth (ar y farchnad a fforddiadwy). Mae'r daenlen "Canllawiau ar Newidynnau" yn darparu diffiniadau llawn. | C5: Ffynonellau Data (rhaniad 2 ddeiliadaeth)
C6: Rhagdybiaethau yr Aelwyd | D6: Prif Amcanestyniadau | E6: =IF(OR(F6=$B$195,F6=$B$196),"Y","N") -> Y | F6: =IF(D6="",$B$194,IF(D6="Rhagdybiaethau'r defnyddiwr",IF('Amcanestyniadau o Aelwyd'!J26<6,$B$197&B198,$B$196),$B$195)) -> Defnyddiwyd Data Wedi'i Ragosod
C7: Angen Nas Diwallwyd Presennol | D7: Amcangyfrifon LlC | E7: =IF(OR(F7=$B$195,F7=$B$196),"Y","N") -> Y | F7: =IF(D7="",$B$194,IF(D7="Arall",IF(ISBLANK('Angen Presennol Nas Diwallwyd'!C21),$B$197&B199,$B$196),$B$195)) -> Defnyddiwyd Data Wedi'i Ragosod
C8: Incwm yr Aelwyd | D8: Amcangyfrifon LlC | E8: =IF(OR(F8=$B$195,F8=$B$196),"Y","N") -> Y | F8: =IF(D8="",$B$194,IF(D8="Arall",IF('Incwm (Cymru)'!N85=1,$B$197&B200,$B$196),$B$195)) -> Defnyddiwyd Data Wedi'i Ragosod
C9: Prisiau Rhenti Preifat | D9: Data LlC ar Renti | E9: =IF(OR(F9=$B$195,F9=$B$196),"Y","N") -> Y | F9: =IF(D9="",$B$194,IF(D9="Arall",IF(OR(ISBLANK('Prisiau Rhenti'!C10),ISBLANK('Prisiau Rhenti'!D10)),$B$197&B202,$B$196),$B$195)) -> Defnyddiwyd Data Wedi'i Ragosod
C10: Rhagdybiaethau Blynyddol Penodol (rhaniad 2ddeiliadaeth)
C11: Meini Prawf Fforddiadwyedd (Marchnad) | D11: Wedi'i ragosod | E11: =IF(OR(F11=$B$195,F11=$B$196),"Y","N") -> Y | F11: =IF(D11="",$B$194,IF(D11="Arall",IF(ISBLANK('Rhagdybiaeth Blynyddol'!D9),$B$197&B203,$B$196),$B$195)) -> Defnyddiwyd Data Wedi'i Ragosod
C12: Blynyddoedd i Gael Gwared ar yr Ôl Groniad | D12: Wedi'i ragosod | E12: =IF(OR(F12=$B$195,F12=$B$196),"Y","N") -> Y | F12: =IF(D12="",$B$194,IF(D12="Arall",IF(ISBLANK('Angen Presennol Nas Diwallwyd'!C24),$B$197&B199,$B$196),$B$195)) -> Defnyddiwyd Data Wedi'i Ragosod
C13: Rhagdybiaethau Blynyddol Penodol (rhaniad 2 ddeiliadaeth)
C14: Newid i Incwm Canolrifol yr Aelwyd | D14: Wedi'i ragosod | E14: =IF(OR(F14=$B$195,F14=$B$196),"Y","N") -> Y | F14: =IF(D14="",$B$194,IF(D14="Arall",IF('Rhagolygon y Dyfodol'!I11<5,$B$197&B204,$B$196),$B$195)) -> Defnyddiwyd Data Wedi'i Ragosod
C15: Newid i Ddosbarthiad Incwm yr Aelwyd | D15: Mwy o Anghydraddoldeb | E15: =IF(OR(F15=$B$195,F15=$B$196),"Y","N") -> Y | F15: =IF(D15="",$B$194,IF(D15="Arall",IF('Rhagolygon y Dyfodol'!I16<5,$B$197&B204,$B$196),$B$195)) -> Defnyddiwyd Data Wedi'i Ragosod
C16: Newid i Brisiau Rhenti | D16: Wedi'i ragosod | E16: =IF(OR(F16=$B$195,F16=$B$196),"Y","N") -> Y | F16: =IF(D16="",$B$194,IF(D16="Arall",IF('Rhagolygon y Dyfodol'!I22<5,$B$197&B204,$B$196),$B$195)) -> Defnyddiwyd Data Wedi'i Ragosod
B17: Mae angen y newidynnau ychwanegol hyn i gynhyrchu amcangyfrifon wedi'u rhannu yn bedair deiliadaeth (perchen-feddiannydd, rhent preifat, rhent canolradd a chymdeithasol). Mae'r daenlen "Canllawiau ar Newidynnau" yn darparu diffiniadau llawn. | C17: Ffynonellau Data (rhaniad 4 deiliadaeth)
C18: Dosbarthiad Prisiau Tai | D18: Data Cofrestrfa Tir | E18: =IF(OR(F18=$B$195,F18=$B$196),"Y","N") -> Y | F18: =IF(D18="",$B$194,IF(D18="Arall",IF('Prisiau Tai (Cymru)'!N85=1,$B$197&B201,$B$196),$B$195)) -> Defnyddiwyd Data Wedi'i Ragosod
C19: Rhagdybiaethau Blynyddol Penodol (rhaniad 4 deiliadaeth)
C20: Cymhareb Incwm Prynwyr am y Tro Cyntaf | D20: Wedi'i ragosod | E20: =IF(OR(F20=$B$195,F20=$B$196),"Y","N") -> Y | F20: =IF(D20="",$B$194,IF(D20="Arall",IF(ISBLANK('Rhagdybiaeth Blynyddol'!D12),$B$197&B203,$B$196),$B$195)) -> Defnyddiwyd Data Wedi'i Ragosod
C21: Canradd y Prynwyr sy'n Prynu Eiddo am y Tro Cyntaf | D21: 25 | E21: =IF(OR(F21=$B$195,F21=$B$196),"Y","N") -> Y | F21: =IF(D21="",$B$194,IF(D21="Arall",IF(ISBLANK('Rhagdybiaeth Blynyddol'!D16),$B$197&B203,$B$196),$B$195)) -> Defnyddiwyd Data Wedi'i Ragosod
C22: Prynwyr sy'n mynd ymlaen i brynu eiddo am y tro cyntaf (nid oes newidyn wedi'i ragosod) | D22: Gwerth defnyddiwr (nid oes gwerth wedi'i ragosod) | E22: =IF(OR(F22=$B$195,F22=$B$196),"Y","N") -> N | F22: =IF(ISBLANK('Rhagdybiaeth Blynyddol'!D18),'Rhaniad y Ddeiliadaeth (Cymru)'!B197&'Rhaniad y Ddeiliadaeth (Cymru)'!B203,'Rhaniad y Ddeiliadaeth (Cymru)'!B196) -> Rhowch ddata'r defnyddiwr ar y daflen:'Rhagdybiaeth Blynyddol'
C23: Meini Prawf Fforddiadwyedd (Cymdeithasol) | D23: Wedi'i ragosod | E23: =IF(OR(F23=$B$195,F23=$B$196),"Y","N") -> Y | F23: =IF(D23="",$B$194,IF(D23="Arall",IF(ISBLANK('Rhagdybiaeth Blynyddol'!D21),$B$197&B203,$B$196),$B$195)) -> Defnyddiwyd Data Wedi'i Ragosod
C24: Rhagdybiaethau 5 mlynedd (rhaniad 4 deiliadaeth)
C25: Newid i Brisiau Tai | D25: Wedi'i ragosod | E25: =IF(OR(F25=$B$195,F25=$B$196),"Y","N") -> Y | F25: =IF(D25="",$B$194,IF(D25="Arall",IF('Rhagolygon y Dyfodol'!I27<5,$B$197&B204,$B$196),$B$195)) -> Defnyddiwyd Data Wedi'i Ragosod
B27: =IF(C133=1,"","Sylwadau ar y rhagdybiaethau a ddewiswyd ar gyfer rhaniad o ddwy ddeiliadaeth: "&D1) -> Sylwadau ar y rhagdybiaethau a ddewiswyd ar gyfer rhaniad o ddwy ddeiliadaeth: Cymru
B28: =B188 -> Mae'r ffigurau isod yn rhannu'r amcangyfrifon o'r angen o ran tai yn ddwy ddeiliadaeth, ac maent wedi'i seilio ar y rhagdybiaethau canlynol. Mae amcangyfrifon sylfaenol yr unedau tai ychwanegol wedi'u seilio ar amcanestyniadau aelwydydd gan Llywodraeth Cymru sy'n seiliedig ar 2014 (Prif Amcanestyniadau), ac amcangyfrif o 5645 aelwydydd o ran angen presennol nas diwallwyd a fydd yn cymryd 5 mlynedd i'w diwallu.Mae data ar incwm yn seiliedig ar Ddata Llywodraeth Cymru ac mae data ar renti preifat yn seiliedig ar Ddata Llywodraeth Cymru. Mae'r newid blynyddol i incwm canolrifol yr aelwyd yn seiliedig ar amcangyfrifon wedi'u rhagosod, mae'r newid blynyddol i ddosbarthiad incwm yr aelwyd yn seiliedig ar amcangyfrifon wedi'u rhagosod ac mae'r newid blynyddol i brisiau rhenti yn seiliedig ar amcangyfrifon wedi'u rhagosod.
B52: Noder: Gall fod gwahaniaethau bach rhwng swm y canlyniadau rhanbarthol a'r canlyniadau cenedlaethol o dan unrhyw amcangyfrifon a rhannwyd yn ôl daliadaeth. Mae hyn oherwydd y cyfrifir amcangyfrifon rhanbarthol gan ddefnyddio data rhanbarthol (incwm aelwyd, prisiau rhentu) ac felly bydd yn wahanol i lefel Cymru gyfan.
B55: Rhaniad o 2 Ddeiliadaeth a amcangyfrifir - Cymru (yn seiliedig ar ragdybiaethau defnyddwyr)
B56: =B148 | C56: =C148 -> 2018/19 | D56: =D148 -> 2019/20 | E56: =E148 -> 2020/21 | F56: =F148 -> 2021/22 | G56: =G148 -> 2022/23
B57: Tai'r Farchnad | C57: =C149 -> 4475.78 | D57: =D149 -> 4248.65 | E57: =E149 -> 4287.69 | F57: =F149 -> 4572.56 | G57: =G149 -> 4413.16
B58: Tai Fforddiadwy | C58: =C150 -> 3872.22 | D58: =D150 -> 3845.35 | E58: =E150 -> 3870.31 | F58: =F150 -> 4052.44 | G58: =G150 -> 3833.84
B60: Rhaniad Cymesur o 2 Ddeiliadaeth - Cymru (yn seiliedig ar ragdybiaethau defnyddwyr)
B61: =B151 | C61: =C151 -> 2018/19 | D61: =D151 -> 2019/20 | E61: =E151 -> 2020/21 | F61: =F151 -> 2021/22 | G61: =G151 -> 2022/23 | I61: =I151 -> Rhaniad Blynyddol Cyfartalog ar draws 5 mlynedd
B62: Tai'r Farchnad | C62: =C152 -> 0.53614998 | D62: =D152 -> 0.52491352 | E62: =E152 -> 0.52558102 | F62: =F152 -> 0.53015188 | G62: =G152 -> 0.53512308 | I62: =I152 -> 0.53042631
B63: Tai Fforddiadwy | C63: =C153 -> 0.46385002 | D63: =D153 -> 0.47508648 | E63: =E153 -> 0.47441898 | F63: =F153 -> 0.46984812 | G63: =G153 -> 0.46487692 | I63: =I153 -> 0.46957369
B65: =IF(C145=1,"","Sylwadau ar y rhagdybiaethau a ddewiswyd ar gyfer rhaniad o bediar deiliadaeth")
B66: =B192 -> Ni fydd amcangyfrifon wedi'u rhannu'n 4 deiliadaeth yn ymddangos hyd nes bod y tabl uchod wedi'i gwblhau.
B90: Amcangyfrif Rhaniad 4 deiliadaeth - Cymru (wedi'i seilio ar ragdybiaethau'r defnyddwyr)
B91: =B157 -> Cwblhewch y tabl i weld amcangyfrifon wedi'u rhannu'n 4 deiliadaeth.
C92: =C157 | D92: =D157 | E92: =E157 | F92: =F157 | G92: =G157
...

Sheet Rhaniad y Ddeiliadaeth (Gog)
B1: Lefel Ddaearyddol: | D1: Gogledd Cymru
B2: Mae'r dewisiadau a wnaed ar daflen: Rhaniad y Ddeiliadaeth (Cymru) yn cael eu cadw yn y taflenni rhanbarthol. Os byddwch wedi dewis defnyddio eich data eich hunain, ac nad ydych wedi nodi'r data rhanbarthol lle y mae angen eu rhoi, cewch eich atgoffa i wneud hynny.
C4: Newidyn | D4: Dewislen | E4: Wedi'i gwblhau? | F4: Cyfarwyddiadau/Gwirio | K4: Dolenni defnyddiol i daenlenni eraill:
B5: Mae angen y newidynnau hyn i gynhyrchu amcangyfrifon wedi'u rhannu yn ddwy deiliadaeth (ar y farchnad a fforddiadwy). Mae'r daenlen "Canllawiau ar Newidynnau" yn darparu diffiniadau llawn. | C5: Ffynonellau Data (rhaniad 2 ddeiliadaeth)
C6: Rhagdybiaethau yr Aelwyd | D6: ='Rhaniad y Ddeiliadaeth (Cymru)'!D6 -> Prif Amcanestyniadau | E6: =IF(OR(F6=$B$195,F6=$B$196),"Y","N") -> Y | F6: =IF(D6="",B194,IF(D6="Arall",IF('Amcanestyniadau o Aelwyd'!J23<6,B197&B198,B196),B195)) -> Defnyddiwyd Data Wedi'i Ragosod
C7: Angen Nas Diwallwyd Presennol | D7: ='Rhaniad y Ddeiliadaeth (Cymru)'!D7 -> Amcangyfrifon LlC | E7: =IF(OR(F7=$B$195,F7=$B$196),"Y","N") -> Y | F7: =IF(D7="",B194,IF(D7="Arall",IF(ISBLANK('Angen Presennol Nas Diwallwyd'!C18),'Rhaniad y Ddeiliadaeth (Gog)'!B197&'Rhaniad y Ddeiliadaeth (Gog)'!B199,'Rhaniad y Ddeiliadaeth (Gog)'!B196),'Rhaniad y Ddeiliadaeth (Gog)'!B195)) -> Defnyddiwyd Data Wedi'i Ragosod
C8: Incwm yr Aelwyd | D8: ='Rhaniad y Ddeiliadaeth (Cymru)'!D8 -> Amcangyfrifon LlC | E8: =IF(OR(F8=$B$195,F8=$B$196),"Y","N") -> Y | F8: =IF(D8="",B194,IF(D8="Arall",IF('Incwm (Gogledd)'!N85=0,B196,B197&B200),B195)) -> Defnyddiwyd Data Wedi'i Ragosod
C9: Prisiau Rhenti Preifat | D9: ='Rhaniad y Ddeiliadaeth (Cymru)'!D9 -> Data LlC ar Renti | E9: =IF(OR(F9=$B$195,F9=$B$196),"Y","N") -> Y | F9: =IF(D9="",B194,IF(D9="Arall",IF(OR(ISBLANK('Prisiau Rhenti'!C15),ISBLANK('Prisiau Rhenti'!D15)),'Rhaniad y Ddeiliadaeth (Gog)'!B197&'Rhaniad y Ddeiliadaeth (Gog)'!B202,'Rhaniad y Ddeiliadaeth (Gog)'!B196),'Rhaniad y Ddeiliadaeth (Gog)'!B195)) -> Defnyddiwyd Data Wedi'i Ragosod
C10: Rhagdybiaethau Blynyddol Penodol (rhaniad 2ddeiliadaeth)
C11: Meini Prawf Fforddiadwyedd (Marchnad) | D11: ='Rhaniad y Ddeiliadaeth (Cymru)'!D11 -> Wedi'i ragosod | E11: =IF(OR(F11=$B$195,F11=$B$196),"Y","N") -> Y | F11: ='Rhaniad y Ddeiliadaeth (Cymru)'!F11:I11 -> Defnyddiwyd Data Wedi'i Ragosod
C12: Blynyddoedd i Gael Gwared ar yr Ôl Groniad | D12: ='Rhaniad y Ddeiliadaeth (Cymru)'!D12 -> Wedi'i ragosod | E12: =IF(OR(F12=$B$195,F12=$B$196),"Y","N") -> Y | F12: ='Rhaniad y Ddeiliadaeth (Cymru)'!F12:I12 -> Defnyddiwyd Data Wedi'i Ragosod
C13: Rhagdybiaethau Blynyddol Penodol (rhaniad 2 ddeiliadaeth)
C14: Newid i Incwm Canolrifol yr Aelwyd | D14: ='Rhaniad y Ddeiliadaeth (Cymru)'!D14 -> Wedi'i ragosod | E14: =IF(OR(F14=$B$195,F14=$B$196),"Y","N") -> Y | F14: ='Rhaniad y Ddeiliadaeth (Cymru)'!F14:I14 -> Defnyddiwyd Data Wedi'i Ragosod
C15: Newid i Ddosbarthiad Incwm yr Aelwyd | D15: ='Rhaniad y Ddeiliadaeth (Cymru)'!D15 -> Mwy o Anghydraddoldeb | E15: =IF(OR(F15=$B$195,F15=$B$196),"Y","N") -> Y | F15: ='Rhaniad y Ddeiliadaeth (Cymru)'!F15:I15 -> Defnyddiwyd Data Wedi'i Ragosod
C16: Newid i Brisiau Rhenti | D16: ='Rhaniad y Ddeiliadaeth (Cymru)'!D16 -> Wedi'i ragosod | E16: =IF(OR(F16=$B$195,F16=$B$196),"Y","N") -> Y | F16: ='Rhaniad y Ddeiliadaeth (Cymru)'!F16:I16 -> Defnyddiwyd Data Wedi'i Ragosod
B17: Mae angen y newidynnau ychwanegol hyn i gynhyrchu amcangyfrifon wedi'u rhannu yn bedair deiliadaeth (perchen-feddiannydd, rhent preifat, rhent canolradd a chymdeithasol). Mae'r daenlen "Canllawiau ar Newidynnau" yn darparu diffiniadau llawn. | C17: Ffynonellau Data (rhaniad 4 deiliadaeth)
C18: Dosbarthiad Prisiau Tai | D18: ='Rhaniad y Ddeiliadaeth (Cymru)'!D18 -> Data Cofrestrfa Tir | E18: =IF(OR(F18=$B$195,F18=$B$196),"Y","N") -> Y | F18: =IF(D18="",B194,IF(D18="Arall",IF('Prisiau Tai (Gogledd)'!N85=1,B197&B201,B196),B195)) -> Defnyddiwyd Data Wedi'i Ragosod
C19: Rhagdybiaethau Blynyddol Penodol (rhaniad 4 deiliadaeth)
C20: Cymhareb Incwm Prynwyr am y Tro Cyntaf | D20: ='Rhaniad y Ddeiliadaeth (Cymru)'!D20 -> Wedi'i ragosod | E20: =IF(OR(F20=$B$195,F20=$B$196),"Y","N") -> Y | F20: ='Rhaniad y Ddeiliadaeth (Cymru)'!F20:I20 -> Defnyddiwyd Data Wedi'i Ragosod
C21: Canradd y Prynwyr sy'n Prynu Eiddo am y Tro Cyntaf | D21: ='Rhaniad y Ddeiliadaeth (Cymru)'!D21 -> 25 | E21: =IF(OR(F21=$B$195,F21=$B$196),"Y","N") -> Y | F21: ='Rhaniad y Ddeiliadaeth (Cymru)'!F21:I21 -> Defnyddiwyd Data Wedi'i Ragosod
C22: Prynwyr sy'n mynd ymlaen i brynu eiddo am y tro cyntaf (nid oes rhagosodyn) | D22: ='Rhaniad y Ddeiliadaeth (Cymru)'!D22 -> Gwerth defnyddiwr (nid oes gwerth wedi'i ragosod) | E22: =IF(OR(F22=$B$195,F22=$B$196),"Y","N") -> N | F22: ='Rhaniad y Ddeiliadaeth (Cymru)'!F22:I22 -> Rhowch ddata'r defnyddiwr ar y daflen:'Rhagdybiaeth Blynyddol'
C23: Meini Prawf Fforddiadwyedd (Cymdeithasol) | D23: ='Rhaniad y Ddeiliadaeth (Cymru)'!D23 -> Wedi'i ragosod | E23: =IF(OR(F23=$B$195,F23=$B$196),"Y","N") -> Y | F23: ='Rhaniad y Ddeiliadaeth (Cymru)'!F23:I23 -> Defnyddiwyd Data Wedi'i Ragosod
C24: Rhagdybiaethau 5 mlynedd (rhaniad 4 deiliadaeth)
C25: Newid i Brisiau Tai | D25: ='Rhaniad y Ddeiliadaeth (Cymru)'!D25 -> Wedi'i ragosod | E25: =IF(OR(F25=$B$195,F25=$B$196),"Y","N") -> Y | F25: ='Rhaniad y Ddeiliadaeth (Cymru)'!F25:I25 -> Defnyddiwyd Data Wedi'i Ragosod
B27: =IF(C133=1,"","Sylwadau ar y rhagdybiaethau a ddewiswyd ar gyfer rhaniad o ddwy ddeiliadaeth: "&D1) -> Sylwadau ar y rhagdybiaethau a ddewiswyd ar gyfer rhaniad o ddwy ddeiliadaeth: Gogledd Cymru
B28: =B188 -> Mae'r ffigurau isod yn rhannu'r amcangyfrifon o'r angen o ran tai yn Gogledd Cymru yn ddwy ddeiliadaeth, ac maent wedi'i seilio ar y rhagdybiaethau canlynol.Mae amcangyfrifon sylfaenol yr unedau tai ychwanegol wedi'u seilio ar amcanestyniadau aelwydydd gan Llywodraeth Cymru sy'n seiliedig ar 2014 (Prif Amcanestyniadau), ac amcangyfrif o 5645 aelwydydd o ran angen presennol nas diwallwyd a fydd yn cymryd 5 mlynedd i'w diwallu.Mae data ar incwm yn seiliedig ar Ddata Llywodraeth Cymru ac mae data ar renti preifat yn seiliedig ar Ddata Llywodraeth Cymru. Mae'r newid blynyddol i incwm canolrifol yr aelwyd yn seiliedig ar amcangyfrifon wedi'u rhagosod, mae'r newid blynyddol i ddosbarthiad incwm yr aelwyd yn seiliedig ar amcangyfrifon wedi'u rhagosod ac mae'r newid blynyddol i brisiau rhenti yn seiliedig ar amcangyfrifon wedi'u rhagosod.
B52: Noder: Gall fod gwahaniaethau bach rhwng swm y canlyniadau rhanbarthol a'r canlyniadau cenedlaethol o dan unrhyw amcangyfrifon a rhannwyd yn ôl daliadaeth. Mae hyn oherwydd y cyfrifir amcangyfrifon rhanbarthol gan ddefnyddio data rhanbarthol (incwm aelwyd, prisiau rhentu) ac felly bydd yn wahanol i lefel Cymru gyfan.
B55: Rhaniad o 2 Ddeiliadaeth a amcangyfrifir - Gogledd Cymru (yn seiliedig ar ragdybiaethau defnyddwyr)
B56: =B148 | C56: =C148 -> 2018/19 | D56: =D148 -> 2019/20 | E56: =E148 -> 2020/21 | F56: =F148 -> 2021/22 | G56: =G148 -> 2022/23
B57: =B149 -> Tai'r Farchnad | C57: =C149 -> 814.79 | D57: =D149 -> 758.06 | E57: =E149 -> 754 | F57: =F149 -> 816.56 | G57: =G149 -> 771.13
B58: =B150 -> Tai Fforddiadwy | C58: =C150 -> 814.61 | D58: =D150 -> 797.34 | E58: =E150 -> 794.4 | F58: =F150 -> 815.84 | G58: =G150 -> 784.27
B60: Rhaniad Cymesur o 2 Ddeiliadaeth - Gogledd Cymru (yn seiliedig ar ragdybiaethau defnyddwyr)
B61: =B151 | C61: =C151 -> 2018/19 | D61: =D151 -> 2019/20 | E61: =E151 -> 2020/21 | F61: =F151 -> 2021/22 | G61: =G151 -> 2022/23 | I61: =I151 -> Rhaniad Blynyddol Cyfartalog ar draws 5 mlynedd
B62: =B152 -> Tai'r Farchnad | C62: =C152 -> 0.50005524 | D62: =D152 -> 0.48737302 | E62: =E152 -> 0.48695428 | F62: =F152 -> 0.50022053 | G62: =G152 -> 0.49577601 | I62: =I152 -> 0.4941977
B63: =B153 -> Tai Fforddiadwy | C63: =C153 -> 0.49994476 | D63: =D153 -> 0.51262698 | E63: =E153 -> 0.51304572 | F63: =F153 -> 0.49977947 | G63: =G153 -> 0.50422399 | I63: =I153 -> 0.5058023
B65: =IF(C145=1,"","Sylwadau ar y rhagdybiaethau a ddewiswyd ar gyfer rhaniad o bediar deiliadaeth")
B66: =B192 -> Ni fydd amcangyfrifon rhaniad 4 deiliadaeth yn ymddangos hyd nes bod y tabl uchod wedi'i gwblhau.
B90: Rhaniad o 4 deiliadaeth a amcangyfrifir - Gogledd Cymru (yn seiliedig ar ragdybiaethau defnyddwyr)
B91: =B157 -> Cwblhewch y tabl i weld amcangyfrifon wedi'u rhannu'n 4 deiliadaeth.
C92: =C157 | D92: =D157 | E92: =E157 | F92: =F157 | G92: =G157
...

Sheet Rhaniad y Ddeiliadaeth (C&De-o)
B1: Lefel Ddaearyddol: | D1: Canolbarth a De-orllewin Cymru
B2: Mae'r dewisiadau a wnaed ar daflen: Rhaniad y Ddeiliadaeth (Cymru) yn cael eu cadw yn y taflenni rhanbarthol. Os byddwch wedi dewis defnyddio eich data eich hunain, ac nad ydych wedi nodi'r data rhanbarthol lle y mae angen eu rhoi, cewch eich atgoffa i wneud hynny.
C4: Newidyn | D4: Dewislen | E4: Wedi'i gwblhau? | F4: Cyfarwyddiadau/Gwirio | K4: Dolenni defnyddiol i daenlenni eraill:
B5: Mae angen y newidynnau hyn i gynhyrchu amcangyfrifon wedi'u rhannu yn ddwy deiliadaeth (ar y farchnad a fforddiadwy). Mae'r daenlen "Canllawiau ar Newidynnau" yn darparu diffiniadau llawn. | C5: Ffynonellau Data (rhaniad 2 ddeiliadaeth)
C6: Rhagdybiaethau yr Aelwyd | D6: ='Rhaniad y Ddeiliadaeth (Cymru)'!D6 -> Prif Amcanestyniadau | E6: =IF(OR(F6=$B$195,F6=$B$196),"Y","N") -> Y | F6: =IF(D6="",B194,IF(D6="Arall",IF('Amcanestyniadau o Aelwyd'!J24=0,B197&B198,B196),B195)) -> Defnyddiwyd Data Wedi'i Ragosod
C7: Angen Nas Diwallwyd Presennol | D7: ='Rhaniad y Ddeiliadaeth (Cymru)'!D7 -> Amcangyfrifon LlC | E7: =IF(OR(F7=$B$195,F7=$B$196),"Y","N") -> Y | F7: =IF(D7="",B194,IF(D7="Arall",IF(ISBLANK('Angen Presennol Nas Diwallwyd'!C19),B197&B199,B196),B195)) -> Defnyddiwyd Data Wedi'i Ragosod
C8: Incwm yr Aelwyd | D8: ='Rhaniad y Ddeiliadaeth (Cymru)'!D8 -> Amcangyfrifon LlC | E8: =IF(OR(F8=$B$195,F8=$B$196),"Y","N") -> Y | F8: =IF(D8="",B194,IF(D8="Arall",IF('Incwm (Canol. & De-orll)'!N85=0,B196,B197&B200),B195)) -> Defnyddiwyd Data Wedi'i Ragosod
C9: Prisiau Rhenti Preifat | D9: ='Rhaniad y Ddeiliadaeth (Cymru)'!D9 -> Data LlC ar Renti | E9: =IF(OR(F9=$B$195,F9=$B$196),"Y","N") -> Y | F9: =IF(D9="",B194,IF(D9="Arall",IF(OR(ISBLANK('Prisiau Rhenti'!C20),ISBLANK('Prisiau Rhenti'!D20)),B197&B202,B196),B195)) -> Defnyddiwyd Data Wedi'i Ragosod
C10: Rhagdybiaethau Blynyddol Penodol (rhaniad 2ddeiliadaeth)
C11: Meini Prawf Fforddiadwyedd (Marchnad) | D11: ='Rhaniad y Ddeiliadaeth (Cymru)'!D11 -> Wedi'i ragosod | E11: =IF(OR(F11=$B$195,F11=$B$196),"Y","N") -> Y | F11: ='Rhaniad y Ddeiliadaeth (Cymru)'!F11:I11 -> Defnyddiwyd Data Wedi'i Ragosod
C12: Blynyddoedd i Gael Gwared ar yr Ôl Groniad | D12: ='Rhaniad y Ddeiliadaeth (Cymru)'!D12 -> Wedi'i ragosod | E12: =IF(OR(F12=$B$195,F12=$B$196),"Y","N") -> Y | F12: ='Rhaniad y Ddeiliadaeth (Cymru)'!F12:I12 -> Defnyddiwyd Data Wedi'i Ragosod
C13: Rhagdybiaethau Blynyddol Penodol (rhaniad 2 ddeiliadaeth)
C14: Newid i Incwm Canolrifol yr Aelwyd | D14: ='Rhaniad y Ddeiliadaeth (Cymru)'!D14 -> Wedi'i ragosod | E14: =IF(OR(F14=$B$195,F14=$B$196),"Y","N") -> Y | F14: ='Rhaniad y Ddeiliadaeth (Cymru)'!F14:I14 -> Defnyddiwyd Data Wedi'i Ragosod
C15: Newid i Ddosbarthiad Incwm yr Aelwyd | D15: ='Rhaniad y Ddeiliadaeth (Cymru)'!D15 -> Mwy o Anghydraddoldeb | E15: =IF(OR(F15=$B$195,F15=$B$196),"Y","N") -> Y | F15: ='Rhaniad y Ddeiliadaeth (Cymru)'!F15:I15 -> Defnyddiwyd Data Wedi'i Ragosod
C16: Newid i Brisiau Rhenti | D16: ='Rhaniad y Ddeiliadaeth (Cymru)'!D16 -> Wedi'i ragosod | E16: =IF(OR(F16=$B$195,F16=$B$196),"Y","N") -> Y | F16: ='Rhaniad y Ddeiliadaeth (Cymru)'!F16:I16 -> Defnyddiwyd Data Wedi'i Ragosod
B17: Mae angen y newidynnau ychwanegol hyn i gynhyrchu amcangyfrifon wedi'u rhannu yn bedair deiliadaeth (perchen-feddiannydd, rhent preifat, rhent canolradd a chymdeithasol). Mae'r daenlen "Canllawiau ar Newidynnau" yn darparu diffiniadau llawn. | C17: Ffynonellau Data (rhaniad 4 deiliadaeth)
C18: Dosbarthiad Prisiau Tai | D18: ='Rhaniad y Ddeiliadaeth (Cymru)'!D18 -> Data Cofrestrfa Tir | E18: =IF(OR(F18=$B$195,F18=$B$196),"Y","N") -> Y | F18: =IF(D18="",B194,IF(D18="Arall",IF('Prisiau Tai (Canol. & De-orll)'!N85=1,B197&B201,B196),B195)) -> Defnyddiwyd Data Wedi'i Ragosod
C19: Rhagdybiaethau Blynyddol Penodol (rhaniad 4 deiliadaeth)
C20: Cymhareb Incwm Prynwyr am y Tro Cyntaf | D20: ='Rhaniad y Ddeiliadaeth (Cymru)'!D20 -> Wedi'i ragosod | E20: =IF(OR(F20=$B$195,F20=$B$196),"Y","N") -> Y | F20: ='Rhaniad y Ddeiliadaeth (Cymru)'!F20:I20 -> Defnyddiwyd Data Wedi'i Ragosod
C21: Canradd y Prynwyr sy'n Prynu Eiddo am y Tro Cyntaf | D21: ='Rhaniad y Ddeiliadaeth (Cymru)'!D21 -> 25 | E21: =IF(OR(F21=$B$195,F21=$B$196),"Y","N") -> Y | F21: ='Rhaniad y Ddeiliadaeth (Cymru)'!F21:I21 -> Defnyddiwyd Data Wedi'i Ragosod
C22: Prynwyr sy'n mynd ymlaen i brynu eiddo am y tro cyntaf (nid oes rhagosodyn) | D22: ='Rhaniad y Ddeiliadaeth (Cymru)'!D22 -> Gwerth defnyddiwr (nid oes gwerth wedi'i ragosod) | E22: =IF(OR(F22=$B$195,F22=$B$196),"Y","N") -> N | F22: ='Rhaniad y Ddeiliadaeth (Cymru)'!F22:I22 -> Rhowch ddata'r defnyddiwr ar y daflen:'Rhagdybiaeth Blynyddol'
C23: Meini Prawf Fforddiadwyedd (Cymdeithasol) | D23: ='Rhaniad y Ddeiliadaeth (Cymru)'!D23 -> Wedi'i ragosod | E23: =IF(OR(F23=$B$195,F23=$B$196),"Y","N") -> Y | F23: ='Rhaniad y Ddeiliadaeth (Cymru)'!F23:I23 -> Defnyddiwyd Data Wedi'i Ragosod
C24: Rhagdybiaethau 5 mlynedd (rhaniad 4 deiliadaeth)
C25: Newid i Brisiau Tai | D25: ='Rhaniad y Ddeiliadaeth (Cymru)'!D25 -> Wedi'i ragosod | E25: =IF(OR(F25=$B$195,F25=$B$196),"Y","N") -> Y | F25: ='Rhaniad y Ddeiliadaeth (Cymru)'!F25:I25 -> Defnyddiwyd Data Wedi'i Ragosod
B27: =IF(C133=1,"","Sylwadau ar y rhagdybiaethau a ddewiswyd ar gyfer rhaniad o ddwy ddeiliadaeth: "&D1) -> Sylwadau ar y rhagdybiaethau a ddewiswyd ar gyfer rhaniad o ddwy ddeiliadaeth: Canolbarth a De-orllewin Cymru
B28: =B188 -> Mae'r ffigurau isod yn rhannu'r amcangyfrifon o'r angen o ran tai yn Canolbarth a De-orllewin Cymru yn ddwy ddeiliadaeth, ac maent wedi'i seilio ar y rhagdybiaethau canlynol.Mae amcangyfrifon sylfaenol yr unedau tai ychwanegol wedi'u seilio ar amcanestyniadau aelwydydd gan Llywodraeth Cymru sy'n seiliedig ar 2014 (Prif Amcanestyniadau), ac amcangyfrif o 5645 aelwydydd o ran angen presennol nas diwallwyd a fydd yn cymryd 5 mlynedd i'w diwallu.Mae data ar incwm yn seiliedig ar Ddata Llywodraeth Cymru ac mae data ar renti preifat yn seiliedig ar Ddata Llywodraeth Cymru. Mae'r newid blynyddol i incwm canolrifol yr aelwyd yn seiliedig ar amcangyfrifon wedi'u rhagosod, mae'r newid blynyddol i ddosbarthiad incwm yr aelwyd yn seiliedig ar amcangyfrifon wedi'u rhagosod ac mae'r newid blynyddol i brisiau rhenti yn seiliedig ar amcangyfrifon wedi'u rhagosod.
B52: Noder: Gall fod gwahaniaethau bach rhwng swm y canlyniadau rhanbarthol a'r canlyniadau cenedlaethol o dan unrhyw amcangyfrifon a rhannwyd yn ôl daliadaeth. Mae hyn oherwydd y cyfrifir amcangyfrifon rhanbarthol gan ddefnyddio data rhanbarthol (incwm aelwyd, prisiau rhentu) ac felly bydd yn wahanol i lefel Cymru gyfan.
B55: Rhaniad o 2 Ddeiliadaeth a amcangyfrifir - Canolbarth a De-orllewin Cymru (yn seiliedig ar ragdybiaethau defnyddwyr)
B56: =B148 | C56: =C148 -> 2018/19 | D56: =D148 -> 2019/20 | E56: =E148 -> 2020/21 | F56: =F148 -> 2021/22 | G56: =G148 -> 2022/23
B57: =B149 -> Tai'r Farchnad | C57: =C149 -> 1123.92 | D57: =D149 -> 1076.67 | E57: =E149 -> 1076.04 | F57: =F149 -> 1151.01 | G57: =G149 -> 1072.26
B58: =B150 -> Tai Fforddiadwy | C58: =C150 -> 890.68 | D58: =D150 -> 862.93 | E58: =E150 -> 862.56 | F58: =F150 -> 906.59 | G58: =G150 -> 860.34
B60: Rhaniad Cymesur o 2 Ddeiliadaeth - Canolbarth a De-orllewin Cymru (yn seiliedig ar ragdybiaethau defnyddwyr)
B61: =B151 | C61: =C151 -> 2018/19 | D61: =D151 -> 2019/20 | E61: =E151 -> 2020/21 | F61: =F151 -> 2021/22 | G61: =G151 -> 2022/23 | I61: =I151 -> Rhaniad Blynyddol Cyfartalog ar draws 5 mlynedd
B62: =B152 -> Tai'r Farchnad | C62: =C152 -> 0.55788742 | D62: =D152 -> 0.55509899 | E62: =E152 -> 0.55506035 | F62: =F152 -> 0.55939444 | G62: =G152 -> 0.55482769 | I62: =I152 -> 0.55650106
B63: =B153 -> Tai Fforddiadwy | C63: =C153 -> 0.44211258 | D63: =D153 -> 0.44490101 | E63: =E153 -> 0.44493965 | F63: =F153 -> 0.44060556 | G63: =G153 -> 0.44517231 | I63: =I153 -> 0.44349894
B65: =IF(C145=1,"","Sylwadau ar y rhagdybiaethau a ddewiswyd ar gyfer rhaniad o bediar deiliadaeth")
B66: =B192 -> Ni fydd amcangyfrifon rhaniad 4 deiliadaeth yn ymddangos hyd nes bod y tabl uchod wedi'i gwblhau.
B90: Rhaniad o 4 deiliadaeth a amcangyfrifir - Canolbarth a De-orllewin Cymru (yn seiliedig ar ragdybiaethau defnyddwyr)
B91: =B157 -> Cwblhewch y tabl i weld amcangyfrifon wedi'u rhannu'n 4 deiliadaeth.
C92: =C157 | D92: =D157 | E92: =E157 | F92: =F157 | G92: =G157
...

Sheet Rhaniad y Ddeiliadaeth (De-ddn)
B1: Lefel Ddaearyddol: | D1: De-ddwyrain Cymru
B2: Mae'r dewisiadau a wnaed ar daflen: Rhaniad y Ddeiliadaeth (Cymru) yn cael eu cadw yn y taflenni rhanbarthol. Os byddwch wedi dewis defnyddio eich data eich hunain, ac nad ydych wedi nodi'r data rhanbarthol lle y mae angen eu rhoi, cewch eich atgoffa i wneud hynny.
C4: Newidyn | D4: Dewislen | E4: Wedi'i gwblhau? | F4: Cyfarwyddiadau/Gwirio | K4: Dolenni defnyddiol i daenlenni eraill:
B5: Mae angen y newidynnau hyn i gynhyrchu amcangyfrifon wedi'u rhannu yn ddwy deiliadaeth (ar y farchnad a fforddiadwy). Mae'r daenlen "Canllawiau ar Newidynnau" yn darparu diffiniadau llawn. | C5: Ffynonellau Data (rhaniad 2 ddeiliadaeth)
C6: Rhagdybiaethau yr Aelwyd | D6: ='Rhaniad y Ddeiliadaeth (Cymru)'!D6 -> Prif Amcanestyniadau | E6: =IF(OR(F6=$B$195,F6=$B$196),"Y","N") -> Y | F6: =IF(D6="",B194,IF(D6="Arall",IF('Amcanestyniadau o Aelwyd'!J25=0,B197&B198,B196),B195)) -> Defnyddiwyd Data Wedi'i Ragosod
C7: Angen Nas Diwallwyd Presennol | D7: ='Rhaniad y Ddeiliadaeth (Cymru)'!D7 -> Amcangyfrifon LlC | E7: =IF(OR(F7=$B$195,F7=$B$196),"Y","N") -> Y | F7: =IF(D7="",B194,IF(D7="Arall",IF(ISBLANK('Angen Presennol Nas Diwallwyd'!C20),B197&B199,B196),B195)) -> Defnyddiwyd Data Wedi'i Ragosod
C8: Incwm yr Aelwyd | D8: ='Rhaniad y Ddeiliadaeth (Cymru)'!D8 -> Amcangyfrifon LlC | E8: =IF(OR(F8=$B$195,F8=$B$196),"Y","N") -> Y | F8: =IF(D8="",B194,IF(D8="Arall",IF('Incwm (De-ddwyrain)'!N85=0,B196,B197&B200),B195)) -> Defnyddiwyd Data Wedi'i Ragosod
C9: Prisiau Rhenti Preifat | D9: ='Rhaniad y Ddeiliadaeth (Cymru)'!D9 -> Data LlC ar Renti | E9: =IF(OR(F9=$B$195,F9=$B$196),"Y","N") -> Y | F9: =IF(D9="",B194,IF(D9="Arall",IF(OR(ISBLANK('Prisiau Rhenti'!C25),ISBLANK('Prisiau Rhenti'!D25)),B197&B202,B196),B195)) -> Defnyddiwyd Data Wedi'i Ragosod
C10: Rhagdybiaethau Blynyddol Penodol (rhaniad 2ddeiliadaeth)
C11: Meini Prawf Fforddiadwyedd (Marchnad) | D11: ='Rhaniad y Ddeiliadaeth (Cymru)'!D11 -> Wedi'i ragosod | E11: =IF(OR(F11=$B$195,F11=$B$196),"Y","N") -> Y | F11: ='Rhaniad y Ddeiliadaeth (Cymru)'!F11:I11 -> Defnyddiwyd Data Wedi'i Ragosod
C12: Blynyddoedd i Gael Gwared ar yr Ôl Groniad | D12: ='Rhaniad y Ddeiliadaeth (Cymru)'!D12 -> Wedi'i ragosod | E12: =IF(OR(F12=$B$195,F12=$B$196),"Y","N") -> Y | F12: ='Rhaniad y Ddeiliadaeth (Cymru)'!F12:I12 -> Defnyddiwyd Data Wedi'i Ragosod
C13: Rhagdybiaethau Blynyddol Penodol (rhaniad 2 ddeiliadaeth)
C14: Newid i Incwm Canolrifol yr Aelwyd | D14: ='Rhaniad y Ddeiliadaeth (Cymru)'!D14 -> Wedi'i ragosod | E14: =IF(OR(F14=$B$195,F14=$B$196),"Y","N") -> Y | F14: ='Rhaniad y Ddeiliadaeth (Cymru)'!F14:I14 -> Defnyddiwyd Data Wedi'i Ragosod
C15: Newid i Ddosbarthiad Incwm yr Aelwyd | D15: ='Rhaniad y Ddeiliadaeth (Cymru)'!D15 -> Mwy o Anghydraddoldeb | E15: =IF(OR(F15=$B$195,F15=$B$196),"Y","N") -> Y | F15: ='Rhaniad y Ddeiliadaeth (Cymru)'!F15:I15 -> Defnyddiwyd Data Wedi'i Ragosod
C16: Newid i Brisiau Rhenti | D16: ='Rhaniad y Ddeiliadaeth (Cymru)'!D16 -> Wedi'i ragosod | E16: =IF(OR(F16=$B$195,F16=$B$196),"Y","N") -> Y | F16: ='Rhaniad y Ddeiliadaeth (Cymru)'!F16:I16 -> Defnyddiwyd Data Wedi'i Ragosod
B17: Mae angen y newidynnau ychwanegol hyn i gynhyrchu amcangyfrifon wedi'u rhannu yn bedair deiliadaeth (perchen-feddiannydd, rhent preifat, rhent canolradd a chymdeithasol). Mae'r daenlen "Canllawiau ar Newidynnau" yn darparu diffiniadau llawn. | C17: Ffynonellau Data (rhaniad 4 deiliadaeth)
C18: Dosbarthiad Prisiau Tai | D18: ='Rhaniad y Ddeiliadaeth (Cymru)'!D18 -> Data Cofrestrfa Tir | E18: =IF(OR(F18=$B$195,F18=$B$196),"Y","N") -> Y | F18: =IF(D18="",B194,IF(D18="Arall",IF('Prisiau Tai (De-ddwyrain)'!N85=1,B197&B201,B196),B195)) -> Defnyddiwyd Data Wedi'i Ragosod
C19: Rhagdybiaethau Blynyddol Penodol (rhaniad 4 deiliadaeth)
C20: Cymhareb Incwm Prynwyr am y Tro Cyntaf | D20: ='Rhaniad y Ddeiliadaeth (Cymru)'!D20 -> Wedi'i ragosod | E20: =IF(OR(F20=$B$195,F20=$B$196),"Y","N") -> Y | F20: ='Rhaniad y Ddeiliadaeth (Cymru)'!F20:I20 -> Defnyddiwyd Data Wedi'i Ragosod
C21: Canradd y Prynwyr sy'n Prynu Eiddo am y Tro Cyntaf | D21: ='Rhaniad y Ddeiliadaeth (Cymru)'!D21 -> 25 | E21: =IF(OR(F21=$B$195,F21=$B$196),"Y","N") -> Y | F21: ='Rhaniad y Ddeiliadaeth (Cymru)'!F21:I21 -> Defnyddiwyd Data Wedi'i Ragosod
C22: Prynwyr sy'n mynd ymlaen i brynu eiddo am y tro cyntaf (nid oes rhagosodyn) | D22: ='Rhaniad y Ddeiliadaeth (Cymru)'!D22 -> Gwerth defnyddiwr (nid oes gwerth wedi'i ragosod) | E22: =IF(OR(F22=$B$195,F22=$B$196),"Y","N") -> N | F22: ='Rhaniad y Ddeiliadaeth (Cymru)'!F22:I22 -> Rhowch ddata'r defnyddiwr ar y daflen:'Rhagdybiaeth Blynyddol'
C23: Meini Prawf Fforddiadwyedd (Cymdeithasol) | D23: ='Rhaniad y Ddeiliadaeth (Cymru)'!D23 -> Wedi'i ragosod | E23: =IF(OR(F23=$B$195,F23=$B$196),"Y","N") -> Y | F23: ='Rhaniad y Ddeiliadaeth (Cymru)'!F23:I23 -> Defnyddiwyd Data Wedi'i Ragosod
C24: Rhagdybiaethau 5 mlynedd (rhaniad 4 deiliadaeth)
C25: Newid i Brisiau Tai | D25: ='Rhaniad y Ddeiliadaeth (Cymru)'!D25 -> Wedi'i ragosod | E25: =IF(OR(F25=$B$195,F25=$B$196),"Y","N") -> Y | F25: ='Rhaniad y Ddeiliadaeth (Cymru)'!F25:I25 -> Defnyddiwyd Data Wedi'i Ragosod
B27: =IF(C133=1,"","Sylwadau ar y rhagdybiaethau a ddewiswyd ar gyfer rhaniad o ddwy ddeiliadaeth") -> Sylwadau ar y rhagdybiaethau a ddewiswyd ar gyfer rhaniad o ddwy ddeiliadaeth
B28: =B188 -> Mae'r ffigurau isod yn rhannu'r amcangyfrifon o'r angen o ran tai yn De-ddwyrain Cymru yn ddwy ddeiliadaeth, ac maent wedi'i seilio ar y rhagdybiaethau canlynol.Mae amcangyfrifon sylfaenol yr unedau tai ychwanegol wedi'u seilio ar amcanestyniadau aelwydydd gan Llywodraeth Cymru sy'n seiliedig ar 2014 (Prif Amcanestyniadau), ac amcangyfrif o 5645 aelwydydd o ran angen presennol nas diwallwyd a fydd yn cymryd 5 mlynedd i'w diwallu.Mae data ar incwm yn seiliedig ar Ddata Llywodraeth Cymru ac mae data ar renti preifat yn seiliedig ar Ddata Llywodraeth Cymru. Mae'r newid blynyddol i incwm canolrifol yr aelwyd yn seiliedig ar amcangyfrifon wedi'u rhagosod, mae'r newid blynyddol i ddosbarthiad incwm yr aelwyd yn seiliedig ar amcangyfrifon wedi'u rhagosod ac mae'r newid blynyddol i brisiau rhenti yn seiliedig ar amcangyfrifon wedi'u rhagosod.
B52: Noder: Gall fod gwahaniaethau bach rhwng swm y canlyniadau rhanbarthol a'r canlyniadau cenedlaethol o dan unrhyw amcangyfrifon a rhannwyd yn ôl daliadaeth. Mae hyn oherwydd y cyfrifir amcangyfrifon rhanbarthol gan ddefnyddio data rhanbarthol (incwm aelwyd, prisiau rhentu) ac felly bydd yn wahanol i lefel Cymru gyfan.
B55: Rhaniad o 2 Ddeiliadaeth a amcangyfrifir - De-ddwyrain Cymru (yn seiliedig ar ragdybiaethau defnyddwyr)
B56: =B148 | C56: =C148 -> 2018/19 | D56: =D148 -> 2019/20 | E56: =E148 -> 2020/21 | F56: =F148 -> 2021/22 | G56: =G148 -> 2022/23
B57: =B149 -> Tai'r Farchnad | C57: =C149 -> 2432.4 | D57: =D149 -> 2369.4 | E57: =E149 -> 2412.6 | F57: =F149 -> 2571 | G57: =G149 -> 2465.4
B58: =B150 -> Tai Fforddiadwy | C58: =C150 -> 2271 | D58: =D150 -> 2229 | E58: =E150 -> 2257.8 | F58: =F150 -> 2363.4 | G58: =G150 -> 2293
B60: Rhaniad Cymesur o 2 Ddeiliadaeth - De-ddwyrain Cymru (yn seiliedig ar ragdybiaethau defnyddwyr)
B61: =B151 | C61: =C151 -> 2018/19 | D61: =D151 -> 2019/20 | E61: =E151 -> 2020/21 | F61: =F151 -> 2021/22 | G61: =G151 -> 2022/23 | I61: =I151 -> Rhaniad Blynyddol Cyfartalog ar draws 5 mlynedd
B62: =B152 -> Tai'r Farchnad | C62: =C152 -> 0.5171578 | D62: =D152 -> 0.51526618 | E62: =E152 -> 0.51657246 | F62: =F152 -> 0.52103599 | G62: =G152 -> 0.51811533 | I62: =I152 -> 0.51767589
B63: =B153 -> Tai Fforddiadwy | C63: =C153 -> 0.4828422 | D63: =D153 -> 0.48473382 | E63: =E153 -> 0.48342754 | F63: =F153 -> 0.47896401 | G63: =G153 -> 0.48188467 | I63: =I153 -> 0.48232411
B65: =IF(C145=1,"","Sylwadau ar y rhagdybiaethau a ddewiswyd ar gyfer rhaniad o bediar deiliadaeth")
B66: =B192 -> Ni fydd amcangyfrifon rhaniad 4 deiliadaeth yn ymddangos hyd nes bod y tabl uchod wedi'i gwblhau.
B90: Rhaniad o 4 deiliadaeth a amcangyfrifir - De-ddwyrain Cymru (yn seiliedig ar ragdybiaethau defnyddwyr)
B91: =B157 -> Cwblhewch y tabl i weld amcangyfrifon wedi'u rhannu'n 4 deiliadaeth.
C92: =C157 | D92: =D157 | E92: =E157 | F92: =F157 | G92: =G157
...

Sheet Cyfrifiadau - Cymru
B1: Cymru
B3: Mae'r daflen hon yn defnyddio'r set o ragdybiaethau i gyfrifo faint o aelwydydd a fyddai'n addas ar gyfer pob deiliadaeth tŷ ym mhob blwyddyn. Caiff y canlyniadau yn y daflen hon eu bwydo i'r daflen Rhaniad y Ddeiliadaeth (Cymru). Nid oes angen ichi roi unrhyw beth ar y daflen hon. Os bydd gennych unrhyw gofnodion o ddata na chwblhawyd ar unrhyw newidynnau, bydd cyfeiliornadau'n digwydd.
B8: Unedau Tai Ychwanegol
C9: 1 | D9: 2 | E9: 3 | F9: 4 | G9: 5
C10: 2018/19 | D10: 2019/20 | E10: 2020/21 | F10: 2021/22 | G10: 2022/23
B11: Angen Sydd Newydd Ymddangos | C11: {=INDEX('Angen Sydd Newydd Ymddangos'!D8:D31,MATCH(1,($B$1='Angen Sydd Newydd Ymddangos'!$C$8:$C$31)*('Rhaniad y Ddeiliadaeth (Cymru)'!$D$6='Angen Sydd Newydd Ymddangos'!$B$8:$B$31),0))} -> 7219 | D11: {=INDEX('Angen Sydd Newydd Ymddangos'!E8:E31,MATCH(1,($B$1='Angen Sydd Newydd Ymddangos'!$C$8:$C$31)*('Rhaniad y Ddeiliadaeth (Cymru)'!$D$6='Angen Sydd Newydd Ymddangos'!$B$8:$B$31),0))} -> 6965 | E11: {=INDEX('Angen Sydd Newydd Ymddangos'!F8:F31,MATCH(1,($B$1='Angen Sydd Newydd Ymddangos'!$C$8:$C$31)*('Rhaniad y Ddeiliadaeth (Cymru)'!$D$6='Angen Sydd Newydd Ymddangos'!$B$8:$B$31),0))} -> 7029 | F11: {=INDEX('Angen Sydd Newydd Ymddangos'!G8:G31,MATCH(1,($B$1='Angen Sydd Newydd Ymddangos'!$C$8:$C$31)*('Rhaniad y Ddeiliadaeth (Cymru)'!$D$6='Angen Sydd Newydd Ymddangos'!$B$8:$B$31),0))} -> 7496 | G11: {=INDEX('Angen Sydd Newydd Ymddangos'!H8:H31,MATCH(1,($B$1='Angen Sydd Newydd Ymddangos'!$C$8:$C$31)*('Rhaniad y Ddeiliadaeth (Cymru)'!$D$6='Angen Sydd Newydd Ymddangos'!$B$8:$B$31),0))} -> 7118
B12: Angen Presennol Nas Diwallwyd | C12: =IF('Angen Presennol Nas Diwallwyd'!$C$28>='Cyfrifiadau - Cymru'!C9,IF(('Rhaniad y Ddeiliadaeth (Cymru)'!$D$7="Amcangyfrifon LlC"),'Angen Presennol Nas Diwallwyd'!$C$12/'Angen Presennol Nas Diwallwyd'!$C$28,'Angen Presennol Nas Diwallwyd'!$C$21/'Angen Presennol Nas Diwallwyd'!$C$28),0) -> 1129 | D12: =IF('Angen Presennol Nas Diwallwyd'!$C$28>='Cyfrifiadau - Cymru'!D9,IF(('Rhaniad y Ddeiliadaeth (Cymru)'!$D$7="Amcangyfrifon LlC"),'Angen Presennol Nas Diwallwyd'!$C$12/'Angen Presennol Nas Diwallwyd'!$C$28,'Angen Presennol Nas Diwallwyd'!$C$21/'Angen Presennol Nas Diwallwyd'!$C$28),0) -> 1129 | E12: =IF('Angen Presennol Nas Diwallwyd'!$C$28>='Cyfrifiadau - Cymru'!E9,IF(('Rhaniad y Ddeiliadaeth (Cymru)'!$D$7="Amcangyfrifon LlC"),'Angen Presennol Nas Diwallwyd'!$C$12/'Angen Presennol Nas Diwallwyd'!$C$28,'Angen Presennol Nas Diwallwyd'!$C$21/'Angen Presennol Nas Diwallwyd'!$C$28),0) -> 1129 | F12: =IF('Angen Presennol Nas Diwallwyd'!$C$28>='Cyfrifiadau - Cymru'!F9,IF(('Rhaniad y Ddeiliadaeth (Cymru)'!$D$7="Amcangyfrifon LlC"),'Angen Presennol Nas Diwallwyd'!$C$12/'Angen Presennol Nas Diwallwyd'!$C$28,'Angen Presennol Nas Diwallwyd'!$C$21/'Angen Presennol Nas Diwallwyd'!$C$28),0) -> 1129 | G12: =IF('Angen Presennol Nas Diwallwyd'!$C$28>='Cyfrifiadau - Cymru'!G9,IF(('Rhaniad y Ddeiliadaeth (Cymru)'!$D$7="Amcangyfrifon LlC"),'Angen Presennol Nas Diwallwyd'!$C$12/'Angen Presennol Nas Diwallwyd'!$C$28,'Angen Presennol Nas Diwallwyd'!$C$21/'Angen Presennol Nas Diwallwyd'!$C$28),0) -> 1129
B13: Cyfanswm | C13: =SUM(C11:C12) -> 8348 | D13: =SUM(D11:D12) -> 8094 | E13: =SUM(E11:E12) -> 8158 | F13: =SUM(F11:F12) -> 8625 | G13: =SUM(G11:G12) -> 8247
B15: Rhaniad y Ddeiliadaeth: Tai Fforddiadwy ac ar y Farchnad
B17: Tai ar y Farchnad
B18: Rhent Preifat Canolrifol | C18: ='Rhaniad y Ddeiliadaeth (Cymru)'!C112 -> 6483.1166 | D18: ='Rhaniad y Ddeiliadaeth (Cymru)'!D112 -> 6674.6035 | E18: ='Rhaniad y Ddeiliadaeth (Cymru)'!E112 -> 6878.8525 | F18: ='Rhaniad y Ddeiliadaeth (Cymru)'!F112 -> 7093.5581 | G18: ='Rhaniad y Ddeiliadaeth (Cymru)'!G112 -> 7318.5406
B19: Isafswm Incwm yr Aelwyd | C19: =C18/'Rhaniad y Ddeiliadaeth (Cymru)'!C108 -> 21610.389 | D19: =D18/'Rhaniad y Ddeiliadaeth (Cymru)'!D108 -> 22248.678 | E19: =E18/'Rhaniad y Ddeiliadaeth (Cymru)'!E108 -> 22929.508 | F19: =F18/'Rhaniad y Ddeiliadaeth (Cymru)'!F108 -> 23645.194 | G19: =G18/'Rhaniad y Ddeiliadaeth (Cymru)'!G108 -> 24395.135
B20: Canradd dosbarthiad incwm | C20: =IFERROR(INDEX('Incwm (Cymru)'!$AB$4:$AB$84,MATCH('Cyfrifiadau - Cymru'!C19,'Incwm (Cymru)'!AC$4:AC$84,1)),10) -> 38 | D20: =IFERROR(INDEX('Incwm (Cymru)'!$AB$4:$AB$84,MATCH('Cyfrifiadau - Cymru'!D19,'Incwm (Cymru)'!AD$4:AD$84,1)),10) -> 39 | E20: =IFERROR(INDEX('Incwm (Cymru)'!$AB$4:$AB$84,MATCH('Cyfrifiadau - Cymru'!E19,'Incwm (Cymru)'!AE$4:AE$84,1)),10) -> 39 | F20: =IFERROR(INDEX('Incwm (Cymru)'!$AB$4:$AB$84,MATCH('Cyfrifiadau - Cymru'!F19,'Incwm (Cymru)'!AF$4:AF$84,1)),10) -> 39 | G20: =IFERROR(INDEX('Incwm (Cymru)'!$AB$4:$AB$84,MATCH('Cyfrifiadau - Cymru'!G19,'Incwm (Cymru)'!AG$4:AG$84,1)),10) -> 38
B21: Canran angen sydd newydd ymddangos sy'n gallu fforddio | C21: =(100-C20)/100 -> 0.62 | D21: =(100-D20)/100 -> 0.61 | E21: =(100-E20)/100 -> 0.61 | F21: =(100-F20)/100 -> 0.61 | G21: =(100-G20)/100 -> 0.62
B22: Cyfanswm yr aelwydydd sydd newydd ymddangos a all fforddio'r farchnad | C22: =C21*C11 -> 4475.78 | D22: =D21*D11 -> 4248.65 | E22: =E21*E11 -> 4287.69 | F22: =F21*F11 -> 4572.56 | G22: =G21*G11 -> 4413.16
B25: Tai Fforddiadwy
B26: Gweddill yr aelwydydd na all fforddio'r farchnad | C26: =C13-C22 -> 3872.22 | D26: =D13-D22 -> 3845.35 | E26: =E13-E22 -> 3870.31 | F26: =F13-F22 -> 4052.44 | G26: =G13-G22 -> 3833.84
B28: Amcangyfrifon
B29: Tai'r Farchnad Agored | C29: =C22 -> 4475.78 | D29: =D22 -> 4248.65 | E29: =E22 -> 4287.69 | F29: =F22 -> 4572.56 | G29: =G22 -> 4413.16
B30: Tai Fforddiadwy | C30: =C26 -> 3872.22 | D30: =D26 -> 3845.35 | E30: =E26 -> 3870.31 | F30: =F26 -> 4052.44 | G30: =G26 -> 3833.84
B32: Rhaniad y Ddeiliadaeth: Perchen-feddianwyr, Y Sector Rhentu Preifat, Rhent Canolradd a Chymdeithasol
B33: NODWCH: OS NAD YDYCH WEDI CWBLHAU OPSIYNAU'R DDEWISLEN, BYDD CYFEILIORNADAU'N DIGWYDD ISOD
B35: Perchen-feddiannydd
B36: ="Canradd y Prynwyr sy'n Prynu Eiddo am y Tro Cyntaf: "&'Rhaniad y Ddeiliadaeth (Cymru)'!C115 -> Canradd y Prynwyr sy'n Prynu Eiddo am y Tro Cyntaf: 25 | C36: =INDEX('Prisiau Tai (Cymru)'!AC$4:AC$84,MATCH('Rhaniad y Ddeiliadaeth (Cymru)'!C115,'Prisiau Tai (Cymru)'!$AB$4:$AB$84,0)) -> 111067.8 | D36: =INDEX('Prisiau Tai (Cymru)'!AD$4:AD$84,MATCH('Rhaniad y Ddeiliadaeth (Cymru)'!D115,'Prisiau Tai (Cymru)'!$AB$4:$AB$84,0)) -> 111315.1 | E36: =INDEX('Prisiau Tai (Cymru)'!AE$4:AE$84,MATCH('Rhaniad y Ddeiliadaeth (Cymru)'!E115,'Prisiau Tai (Cymru)'!$AB$4:$AB$84,0)) -> 113711.09 | F36: =INDEX('Prisiau Tai (Cymru)'!AF$4:AF$84,MATCH('Rhaniad y Ddeiliadaeth (Cymru)'!F115,'Prisiau Tai (Cymru)'!$AB$4:$AB$84,0)) -> 118145.73 | G36: =INDEX('Prisiau Tai (Cymru)'!AG$4:AG$84,MATCH('Rhaniad y Ddeiliadaeth (Cymru)'!G115,'Prisiau Tai (Cymru)'!$AB$4:$AB$84,0)) -> 123046.4
B37: Isafswm Incwm yr Aelwyd | C37: =C36/'Rhaniad y Ddeiliadaeth (Cymru)'!C114 -> 29228.369 | D37: =D36/'Rhaniad y Ddeiliadaeth (Cymru)'!D114 -> 29293.448 | E37: =E36/'Rhaniad y Ddeiliadaeth (Cymru)'!E114 -> 29923.971 | F37: =F36/'Rhaniad y Ddeiliadaeth (Cymru)'!F114 -> 31090.981 | G37: =G36/'Rhaniad y Ddeiliadaeth (Cymru)'!G114 -> 32380.633
B38: Canradd dosbarthiad incwm | C38: =IFERROR(INDEX('Incwm (Cymru)'!$AB$4:$AB$84,MATCH('Cyfrifiadau - Cymru'!C37,'Incwm (Cymru)'!AC$4:AC$84,1)),10) -> 54 | D38: =IFERROR(INDEX('Incwm (Cymru)'!$AB$4:$AB$84,MATCH('Cyfrifiadau - Cymru'!D37,'Incwm (Cymru)'!AD$4:AD$84,1)),10) -> 53 | E38: =IFERROR(INDEX('Incwm (Cymru)'!$AB$4:$AB$84,MATCH('Cyfrifiadau - Cymru'!E37,'Incwm (Cymru)'!AE$4:AE$84,1)),10) -> 53 | F38: =IFERROR(INDEX('Incwm (Cymru)'!$AB$4:$AB$84,MATCH('Cyfrifiadau - Cymru'!F37,'Incwm (Cymru)'!AF$4:AF$84,1)),10) -> 53 | G38: =IFERROR(INDEX('Incwm (Cymru)'!$AB$4:$AB$84,MATCH('Cyfrifiadau - Cymru'!G37,'Incwm (Cymru)'!AG$4:AG$84,1)),10) -> 53
B39: Canran angen sydd newydd ymddangos sy'n gallu fforddio | C39: =(100-C38)/100 -> 0.46 | D39: =(100-D38)/100 -> 0.47 | E39: =(100-E38)/100 -> 0.47 | F39: =(100-F38)/100 -> 0.47 | G39: =(100-G38)/100 -> 0.47
B40: Canran sy'n gallu fforddio mynd ymlaen i brynu eiddo | C40: =C39*'Rhaniad y Ddeiliadaeth (Cymru)'!C116 -> #VALUE! | D40: =D39*'Rhaniad y Ddeiliadaeth (Cymru)'!D116 -> #VALUE! | E40: =E39*'Rhaniad y Ddeiliadaeth (Cymru)'!E116 -> #VALUE! | F40: =F39*'Rhaniad y Ddeiliadaeth (Cymru)'!F116 -> #VALUE! | G40: =G39*'Rhaniad y Ddeiliadaeth (Cymru)'!G116 -> #VALUE!
B41: Perchen-feddiannydd | C41: =C40*C11 -> #VALUE! | D41: =D40*D11 -> #VALUE! | E41: =E40*E11 -> #VALUE! | F41: =F40*F11 -> #VALUE! | G41: =G40*G11 -> #VALUE!
B43: Y Sector Rhentu Preifat
B44: Llai y rheini sy'n mynd ymlaen i brynu eiddo (ar gyfer rhaniad o bedair deiliadaeth) | C44: =C22-C41 -> #VALUE! | D44: =D22-D41 -> #VALUE! | E44: =E22-E41 -> #VALUE! | F44: =F22-F41 -> #VALUE! | G44: =G22-G41 -> #VALUE!
B46: Tai Cymdeithasol
B47: 30 Canradd Rhenti Preifat | C47: ='Rhaniad y Ddeiliadaeth (Cymru)'!C113 -> 5865.6769 | D47: ='Rhaniad y Ddeiliadaeth (Cymru)'!D113 -> 6038.927 | E47: ='Rhaniad y Ddeiliadaeth (Cymru)'!E113 -> 6223.7237 | F47: ='Rhaniad y Ddeiliadaeth (Cymru)'!F113 -> 6417.9811 | G47: ='Rhaniad y Ddeiliadaeth (Cymru)'!G113 -> 6621.5367
