Workbook
Name Amytest: #REF!
Name Astartpg: #REF!
Name Client: #REF!
Name ClientName: #REF!
Name commute_parameter_2011: #REF!
Name LAD_DEC_2019_UK_NC: #REF!
Name LAD_DEC_2019_UK_NC: #REF!
Name OPDT023: #REF!
Name OPDT024: #REF!
Name OPDT025: #REF!
Name ProjectName: #REF!
Name ProjectTitle: #REF!
Name residential_parameter_2011: #REF!
Name Row_A: #REF!
Name Row_B: #REF!
Name Row_C: #REF!
Name Row_D: #REF!
Name Row_E: #REF!
Name Row_F: #REF!
Name Row_G: #REF!
Name strClientName: #REF!
Name strOPNumber: #REF!
Name strProjectLead: #REF!
Name strProjectName: #REF!
Name Table: #REF!
Name toolong: #REF!
Name workplace_parameter_2011: #REF!

Sheet MODEL INFO
B3: Title | C3: Interactive Model – Welsh Government Retrofit Workforce
B4: Date | C4: 46041
B5: Analyst | C5: Pushpin Singh (Cebr), Daniel Smith (Cebr)
B6: Purpose | C6: This Excel workbook accompanies the report (Assessing workforce requirements for home retrofitting in Wales) and is designed to allow users to explore how different assumptions affect projected labour demand, labour supply, and workforce gaps over time. The model is scenario-based and is intended for strategic planning and sensitivity testing, rather than for producing point forecasts.
B7: Related documents:
B8: Other notes:
B10: Model Summary
B11: Sheet | C11: Type | D11: Description | E11: Source
B12: Outputs | C12: Output | D12: Main results page and the recommended starting point for most users.
B13: Inputs -> | C13: Placeholder | D13: Blank sheet demarcating start of input sheets.
B14: Miscallaneous List | C14: Input | D14: To allow for dropdown functionality in Outputs sheet. This sheet is output-focused and not intended for editing.
B15: Labour Demand | C15: Input | D15: Shows how retrofit labour demand evolves over time under different delivery scenarios. This sheet is output-focused and not intended for editing.
B16: Labour Supply – Base | C16: Input | D16: Baseline labour supply projections before adjustments for redeployment or alternative assumptions. This sheet is output-focused and not intended for editing.
B17: Redeployment Potential | C17: Input | D17: Illustrates the scale of potential redeployment from adjacent occupations under different assumptions. This sheet is output-focused and not intended for editing.
B18: Apprenticeships | C18: Input | D18: Details apprenticeship-driven inflows into the workforce under alternative funding growth assumptions. This sheet is output-focused and not intended for editing.
B19: Out-Commuting | C19: Input | D19: Shows how cross-border commuting assumptions affect effective labour supply in Wales. This sheet is output-focused and not intended for editing.
B20: LS – Regional Split Share | C20: Input | D20: Provides indicative regional distributions of labour supply within Wales.. This sheet is output-focused and not intended for editing.
B48: Types of sheets:
B49: Input
B50: Calculations
B51: Output
B52: Proofing
B53: Placeholder
B55: Types of QA:
B56: Formula check
B57: Methodology sense check
B58: Data source review
B59: Assumption review
B61: RAG:
... B64: Green

Sheet Outputs
E2: Region/Country | F2: Wales | G2: <- change for regional insights
E4: Labour Demand | Q4: Labour Supply
E6: Demand Scenario | F6: Low Demand | G6: <- change to adjust for retrofit delivery scenario | Q6: Redployment Potential Scenario | R6: None | S6: <- change to adjust for redployment potential
Q7: Apprenticeships Scenario | R7: 2% Nominal Funding | S7: <- change to adjust for apprenticeship funding
Q8: Out-Commuting Scenario | R8: Historic Trend Out-Commuting | S8: <- change to adjust for out-commuting
E10: ="Labour Demand - Role Level Split in " & F2 -> Labour Demand - Role Level Split in Wales | F10: 2025/26 | G10: 2026/27 | H10: 2027/28 | I10: 2028/29 | J10: 2029/30 | K10: 2030/31 | L10: 2031/32 | M10: 2032/33 | N10: 2033/34 | O10: 2034/35 | Q10: ="Labour Supply - Role Level Split in " & F2 -> Labour Supply - Role Level Split in Wales | R10: 2025/26 | S10: 2026/27 | T10: 2027/28 | U10: 2028/29 | V10: 2029/30 | W10: 2030/31 | X10: 2031/32 | Y10: 2032/33 | Z10: 2033/34 | AA10: 2034/35
E11: Direct | F11: {=INDEX('Labour Demand'!$I$2:$I$151,MATCH(1,($F$6='Labour Demand'!$B$2:$B$151)*($F$2='Labour Demand'!$A$2:$A$151)*(F$10='Labour Demand'!$C$2:$C$151),0))} -> 12211.81 | G11: {=INDEX('Labour Demand'!$I$2:$I$151,MATCH(1,($F$6='Labour Demand'!$B$2:$B$151)*($F$2='Labour Demand'!$A$2:$A$151)*(G$10='Labour Demand'!$C$2:$C$151),0))} -> 12056.136 | H11: {=INDEX('Labour Demand'!$I$2:$I$151,MATCH(1,($F$6='Labour Demand'!$B$2:$B$151)*($F$2='Labour Demand'!$A$2:$A$151)*(H$10='Labour Demand'!$C$2:$C$151),0))} -> 13115.767 | I11: {=INDEX('Labour Demand'!$I$2:$I$151,MATCH(1,($F$6='Labour Demand'!$B$2:$B$151)*($F$2='Labour Demand'!$A$2:$A$151)*(I$10='Labour Demand'!$C$2:$C$151),0))} -> 14091.656 | J11: {=INDEX('Labour Demand'!$I$2:$I$151,MATCH(1,($F$6='Labour Demand'!$B$2:$B$151)*($F$2='Labour Demand'!$A$2:$A$151)*(J$10='Labour Demand'!$C$2:$C$151),0))} -> 14786.247 | K11: {=INDEX('Labour Demand'!$I$2:$I$151,MATCH(1,($F$6='Labour Demand'!$B$2:$B$151)*($F$2='Labour Demand'!$A$2:$A$151)*(K$10='Labour Demand'!$C$2:$C$151),0))} -> 14985.922 | L11: {=INDEX('Labour Demand'!$I$2:$I$151,MATCH(1,($F$6='Labour Demand'!$B$2:$B$151)*($F$2='Labour Demand'!$A$2:$A$151)*(L$10='Labour Demand'!$C$2:$C$151),0))} -> 14569.078 | M11: {=INDEX('Labour Demand'!$I$2:$I$151,MATCH(1,($F$6='Labour Demand'!$B$2:$B$151)*($F$2='Labour Demand'!$A$2:$A$151)*(M$10='Labour Demand'!$C$2:$C$151),0))} -> 13595.927 | ... O11: {=INDEX('Labour Demand'!$I$2:$I$151,MATCH(1,($F$6='Labour Demand'!$B$2:$B$151)*($F$2='Labour Demand'!$A$2:$A$151)*(O$10='Labour Demand'!$C$2:$C$151),0))} -> 10616.781 | Q11: Direct | R11: =SUM('Miscellaneous List'!S15:S18)*'Miscellaneous List'!S14 -> 11768.117 | S11: =SUM('Miscellaneous List'!T15:T18)*'Miscellaneous List'!T14 -> 11310.381 | T11: =SUM('Miscellaneous List'!U15:U18)*'Miscellaneous List'!U14 -> 10968.221 | U11: =SUM('Miscellaneous List'!V15:V18)*'Miscellaneous List'!V14 -> 10715.288 | V11: =SUM('Miscellaneous List'!W15:W18)*'Miscellaneous List'!W14 -> 10467.275 | W11: =SUM('Miscellaneous List'!X15:X18)*'Miscellaneous List'!X14 -> 10224.749 | X11: =SUM('Miscellaneous List'!Y15:Y18)*'Miscellaneous List'!Y14 -> 9987.0724 | Y11: =SUM('Miscellaneous List'!Z15:Z18)*'Miscellaneous List'!Z14 -> 9753.9366 | ... AA11: =SUM('Miscellaneous List'!AB15:AB18)*'Miscellaneous List'!AB14 -> 9302.3059
E12: Support | F12: {=INDEX('Labour Demand'!$P$2:$P$151,MATCH(1,($F$6='Labour Demand'!$B$2:$B$151)*($F$2='Labour Demand'!$A$2:$A$151)*(F$10='Labour Demand'!$C$2:$C$151),0))} -> 9529.0897 | G12: {=INDEX('Labour Demand'!$P$2:$P$151,MATCH(1,($F$6='Labour Demand'!$B$2:$B$151)*($F$2='Labour Demand'!$A$2:$A$151)*(G$10='Labour Demand'!$C$2:$C$151),0))} -> 9340.0683 | H12: {=INDEX('Labour Demand'!$P$2:$P$151,MATCH(1,($F$6='Labour Demand'!$B$2:$B$151)*($F$2='Labour Demand'!$A$2:$A$151)*(H$10='Labour Demand'!$C$2:$C$151),0))} -> 9784.8985 | I12: {=INDEX('Labour Demand'!$P$2:$P$151,MATCH(1,($F$6='Labour Demand'!$B$2:$B$151)*($F$2='Labour Demand'!$A$2:$A$151)*(I$10='Labour Demand'!$C$2:$C$151),0))} -> 10188.863 | J12: {=INDEX('Labour Demand'!$P$2:$P$151,MATCH(1,($F$6='Labour Demand'!$B$2:$B$151)*($F$2='Labour Demand'!$A$2:$A$151)*(J$10='Labour Demand'!$C$2:$C$151),0))} -> 10449.785 | K12: {=INDEX('Labour Demand'!$P$2:$P$151,MATCH(1,($F$6='Labour Demand'!$B$2:$B$151)*($F$2='Labour Demand'!$A$2:$A$151)*(K$10='Labour Demand'!$C$2:$C$151),0))} -> 10454.129 | L12: {=INDEX('Labour Demand'!$P$2:$P$151,MATCH(1,($F$6='Labour Demand'!$B$2:$B$151)*($F$2='Labour Demand'!$A$2:$A$151)*(L$10='Labour Demand'!$C$2:$C$151),0))} -> 10138.536 | M12: {=INDEX('Labour Demand'!$P$2:$P$151,MATCH(1,($F$6='Labour Demand'!$B$2:$B$151)*($F$2='Labour Demand'!$A$2:$A$151)*(M$10='Labour Demand'!$C$2:$C$151),0))} -> 9540.6389 | ... O12: {=INDEX('Labour Demand'!$P$2:$P$151,MATCH(1,($F$6='Labour Demand'!$B$2:$B$151)*($F$2='Labour Demand'!$A$2:$A$151)*(O$10='Labour Demand'!$C$2:$C$151),0))} -> 7811.4612 | Q12: Support | R12: =SUM('Miscellaneous List'!S23:S26)*'Miscellaneous List'!S22 -> 9214.9752 | S12: =SUM('Miscellaneous List'!T23:T26)*'Miscellaneous List'!T22 -> 8991.7054 | T12: =SUM('Miscellaneous List'!U23:U26)*'Miscellaneous List'!U22 -> 8773.1963 | U12: =SUM('Miscellaneous List'!V23:V26)*'Miscellaneous List'!V22 -> 8559.2866 | V12: =SUM('Miscellaneous List'!W23:W26)*'Miscellaneous List'!W22 -> 8349.7329 | W12: =SUM('Miscellaneous List'!X23:X26)*'Miscellaneous List'!X22 -> 8144.7164 | X12: =SUM('Miscellaneous List'!Y23:Y26)*'Miscellaneous List'!Y22 -> 7944.2444 | Y12: =SUM('Miscellaneous List'!Z23:Z26)*'Miscellaneous List'!Z22 -> 7748.1423 | ... AA12: =SUM('Miscellaneous List'!AB23:AB26)*'Miscellaneous List'!AB22 -> 7368.6621
E13: Supervisory | F13: {=INDEX('Labour Demand'!$AA$2:$AA$151,MATCH(1,($F$6='Labour Demand'!$B$2:$B$151)*($F$2='Labour Demand'!$A$2:$A$151)*(F$10='Labour Demand'!$C$2:$C$151),0))} -> 2726.0518 | G13: {=INDEX('Labour Demand'!$AA$2:$AA$151,MATCH(1,($F$6='Labour Demand'!$B$2:$B$151)*($F$2='Labour Demand'!$A$2:$A$151)*(G$10='Labour Demand'!$C$2:$C$151),0))} -> 2768.1431 | H13: {=INDEX('Labour Demand'!$AA$2:$AA$151,MATCH(1,($F$6='Labour Demand'!$B$2:$B$151)*($F$2='Labour Demand'!$A$2:$A$151)*(H$10='Labour Demand'!$C$2:$C$151),0))} -> 2809.9285 | I13: {=INDEX('Labour Demand'!$AA$2:$AA$151,MATCH(1,($F$6='Labour Demand'!$B$2:$B$151)*($F$2='Labour Demand'!$A$2:$A$151)*(I$10='Labour Demand'!$C$2:$C$151),0))} -> 2851.3411 | J13: {=INDEX('Labour Demand'!$AA$2:$AA$151,MATCH(1,($F$6='Labour Demand'!$B$2:$B$151)*($F$2='Labour Demand'!$A$2:$A$151)*(J$10='Labour Demand'!$C$2:$C$151),0))} -> 2888.8847 | K13: {=INDEX('Labour Demand'!$AA$2:$AA$151,MATCH(1,($F$6='Labour Demand'!$B$2:$B$151)*($F$2='Labour Demand'!$A$2:$A$151)*(K$10='Labour Demand'!$C$2:$C$151),0))} -> 2921.4412 | L13: {=INDEX('Labour Demand'!$AA$2:$AA$151,MATCH(1,($F$6='Labour Demand'!$B$2:$B$151)*($F$2='Labour Demand'!$A$2:$A$151)*(L$10='Labour Demand'!$C$2:$C$151),0))} -> 2956.3785 | M13: {=INDEX('Labour Demand'!$AA$2:$AA$151,MATCH(1,($F$6='Labour Demand'!$B$2:$B$151)*($F$2='Labour Demand'!$A$2:$A$151)*(M$10='Labour Demand'!$C$2:$C$151),0))} -> 2985.1432 | ... O13: {=INDEX('Labour Demand'!$AA$2:$AA$151,MATCH(1,($F$6='Labour Demand'!$B$2:$B$151)*($F$2='Labour Demand'!$A$2:$A$151)*(O$10='Labour Demand'!$C$2:$C$151),0))} -> 3044.6729 | Q13: Supervisory | R13: =SUM('Miscellaneous List'!S31:S34)*'Miscellaneous List'!S30 -> 2950.5 | S13: =SUM('Miscellaneous List'!T31:T34)*'Miscellaneous List'!T30 -> 2873.6568 | T13: =SUM('Miscellaneous List'!U31:U34)*'Miscellaneous List'!U30 -> 2785.5061 | U13: =SUM('Miscellaneous List'!V31:V34)*'Miscellaneous List'!V30 -> 2712.2209 | V13: =SUM('Miscellaneous List'!W31:W34)*'Miscellaneous List'!W30 -> 2640.6046 | W13: =SUM('Miscellaneous List'!X31:X34)*'Miscellaneous List'!X30 -> 2570.7103 | X13: =SUM('Miscellaneous List'!Y31:Y34)*'Miscellaneous List'!Y30 -> 2502.5165 | Y13: =SUM('Miscellaneous List'!Z31:Z34)*'Miscellaneous List'!Z30 -> 2435.9551 | ... AA13: =SUM('Miscellaneous List'!AB31:AB34)*'Miscellaneous List'!AB30 -> 2307.5951
E14: Total | F14: =SUM(F11:F13) -> 24466.951 | G14: =SUM(G11:G13) -> 24164.348 | H14: =SUM(H11:H13) -> 25710.594 | I14: =SUM(I11:I13) -> 27131.861 | J14: =SUM(J11:J13) -> 28124.916 | K14: =SUM(K11:K13) -> 28361.492 | L14: =SUM(L11:L13) -> 27663.992 | M14: =SUM(M11:M13) -> 26121.71 | ... O14: =SUM(O11:O13) -> 21472.915 | Q14: Total | R14: =SUM(R11:R13) -> 23933.592 | S14: =SUM(S11:S13) -> 23175.744 | T14: =SUM(T11:T13) -> 22526.924 | U14: =SUM(U11:U13) -> 21986.796 | V14: =SUM(V11:V13) -> 21457.613 | W14: =SUM(W11:W13) -> 20940.175 | X14: =SUM(X11:X13) -> 20433.833 | Y14: =SUM(Y11:Y13) -> 19938.034 | ... AA14: =SUM(AA11:AA13) -> 18978.563
E17: Labour Demand - Occupation Level Split in Wales1 | F17: 2025/26 | G17: 2026/27 | H17: 2027/28 | I17: 2028/29 | J17: 2029/30 | K17: 2030/31 | L17: 2031/32 | M17: 2032/33 | N17: 2033/34 | O17: 2034/35 | Q17: Labour Supply - Occupation Level Split in Wales1,2 | R17: 2025/26 | S17: 2026/27 | T17: 2027/28 | U17: 2028/29 | V17: 2029/30 | W17: 2030/31 | X17: 2031/32 | Y17: 2032/33 | Z17: 2033/34 | AA17: 2034/35
E18: 5241 Electricians and electrical fitters | F18: {=INDEX('Labour Demand'!$D$2:$D$151,MATCH(1,($F$6='Labour Demand'!$B$2:$B$151)*(F$17='Labour Demand'!$C$2:$C$151),0))} -> 3521.8854 | G18: {=INDEX('Labour Demand'!$D$2:$D$151,MATCH(1,($F$6='Labour Demand'!$B$2:$B$151)*(G$17='Labour Demand'!$C$2:$C$151),0))} -> 3447.2518 | H18: {=INDEX('Labour Demand'!$D$2:$D$151,MATCH(1,($F$6='Labour Demand'!$B$2:$B$151)*(H$17='Labour Demand'!$C$2:$C$151),0))} -> 3582.3493 | I18: {=INDEX('Labour Demand'!$D$2:$D$151,MATCH(1,($F$6='Labour Demand'!$B$2:$B$151)*(I$17='Labour Demand'!$C$2:$C$151),0))} -> 3704.2251 | J18: {=INDEX('Labour Demand'!$D$2:$D$151,MATCH(1,($F$6='Labour Demand'!$B$2:$B$151)*(J$17='Labour Demand'!$C$2:$C$151),0))} -> 3779.1669 | K18: {=INDEX('Labour Demand'!$D$2:$D$151,MATCH(1,($F$6='Labour Demand'!$B$2:$B$151)*(K$17='Labour Demand'!$C$2:$C$151),0))} -> 3769.3534 | L18: {=INDEX('Labour Demand'!$D$2:$D$151,MATCH(1,($F$6='Labour Demand'!$B$2:$B$151)*(L$17='Labour Demand'!$C$2:$C$151),0))} -> 3653.8238 | M18: {=INDEX('Labour Demand'!$D$2:$D$151,MATCH(1,($F$6='Labour Demand'!$B$2:$B$151)*(M$17='Labour Demand'!$C$2:$C$151),0))} -> 3445.7653 | ... O18: {=INDEX('Labour Demand'!$D$2:$D$151,MATCH(1,($F$6='Labour Demand'!$B$2:$B$151)*(O$17='Labour Demand'!$C$2:$C$151),0))} -> 2853.6742 | Q18: 5241 Electricians and electrical fitters | R18: ='Miscellaneous List'!S38+'Miscellaneous List'!S62+'Miscellaneous List'!S86 -> 3864.329 | S18: ='Miscellaneous List'!T38+'Miscellaneous List'!T62+'Miscellaneous List'!T86 -> 3675.4031 | T18: ='Miscellaneous List'!U38+'Miscellaneous List'!U62+'Miscellaneous List'!U86 -> 3557.5857 | U18: ='Miscellaneous List'!V38+'Miscellaneous List'!V62+'Miscellaneous List'!V86 -> 3485.0202 | V18: ='Miscellaneous List'!W38+'Miscellaneous List'!W62+'Miscellaneous List'!W86 -> 3413.6668 | W18: ='Miscellaneous List'!X38+'Miscellaneous List'!X62+'Miscellaneous List'!X86 -> 3343.8421 | X18: ='Miscellaneous List'!Y38+'Miscellaneous List'!Y62+'Miscellaneous List'!Y86 -> 3275.1044 | Y18: ='Miscellaneous List'!Z38+'Miscellaneous List'!Z62+'Miscellaneous List'!Z86 -> 3207.3246 | ... AA18: ='Miscellaneous List'!AB38+'Miscellaneous List'!AB62+'Miscellaneous List'!AB86 -> 3075.55
E19: 5314 Roofers, roof tilers and slaters | F19: {=INDEX('Labour Demand'!$E$2:$E$151,MATCH(1,($F$6='Labour Demand'!$B$2:$B$151)*(F$17='Labour Demand'!$C$2:$C$151),0))} -> 228.27351 | G19: {=INDEX('Labour Demand'!$E$2:$E$151,MATCH(1,($F$6='Labour Demand'!$B$2:$B$151)*(G$17='Labour Demand'!$C$2:$C$151),0))} -> 223.07377 | H19: {=INDEX('Labour Demand'!$E$2:$E$151,MATCH(1,($F$6='Labour Demand'!$B$2:$B$151)*(H$17='Labour Demand'!$C$2:$C$151),0))} -> 218.13614 | I19: {=INDEX('Labour Demand'!$E$2:$E$151,MATCH(1,($F$6='Labour Demand'!$B$2:$B$151)*(I$17='Labour Demand'!$C$2:$C$151),0))} -> 213.23797 | J19: {=INDEX('Labour Demand'!$E$2:$E$151,MATCH(1,($F$6='Labour Demand'!$B$2:$B$151)*(J$17='Labour Demand'!$C$2:$C$151),0))} -> 208.37914 | K19: {=INDEX('Labour Demand'!$E$2:$E$151,MATCH(1,($F$6='Labour Demand'!$B$2:$B$151)*(K$17='Labour Demand'!$C$2:$C$151),0))} -> 203.32743 | L19: {=INDEX('Labour Demand'!$E$2:$E$151,MATCH(1,($F$6='Labour Demand'!$B$2:$B$151)*(L$17='Labour Demand'!$C$2:$C$151),0))} -> 198.04032 | M19: {=INDEX('Labour Demand'!$E$2:$E$151,MATCH(1,($F$6='Labour Demand'!$B$2:$B$151)*(M$17='Labour Demand'!$C$2:$C$151),0))} -> 193.01734 | ... O19: {=INDEX('Labour Demand'!$E$2:$E$151,MATCH(1,($F$6='Labour Demand'!$B$2:$B$151)*(O$17='Labour Demand'!$C$2:$C$151),0))} -> 182.59208 | Q19: 5314 Roofers, roof tilers and slaters | R19: ='Miscellaneous List'!S39+'Miscellaneous List'!S63+'Miscellaneous List'!S87 -> 245.8135 | S19: ='Miscellaneous List'!T39+'Miscellaneous List'!T63+'Miscellaneous List'!T87 -> 239.79184 | T19: ='Miscellaneous List'!U39+'Miscellaneous List'!U63+'Miscellaneous List'!U87 -> 233.89995 | U19: ='Miscellaneous List'!V39+'Miscellaneous List'!V63+'Miscellaneous List'!V87 -> 228.13343 | V19: ='Miscellaneous List'!W39+'Miscellaneous List'!W63+'Miscellaneous List'!W87 -> 222.48572 | W19: ='Miscellaneous List'!X39+'Miscellaneous List'!X63+'Miscellaneous List'!X87 -> 216.96155 | X19: ='Miscellaneous List'!Y39+'Miscellaneous List'!Y63+'Miscellaneous List'!Y87 -> 211.56106 | Y19: ='Miscellaneous List'!Z39+'Miscellaneous List'!Z63+'Miscellaneous List'!Z87 -> 206.27949 | ... AA19: ='Miscellaneous List'!AB39+'Miscellaneous List'!AB63+'Miscellaneous List'!AB87 -> 196.06257
E20: 5315 Plumbers & heating and ventilating installers and repairers | F20: {=INDEX('Labour Demand'!$F$2:$F$151,MATCH(1,($F$6='Labour Demand'!$B$2:$B$151)*(F$17='Labour Demand'!$C$2:$C$151),0))} -> 7439.8386 | G20: {=INDEX('Labour Demand'!$F$2:$F$151,MATCH(1,($F$6='Labour Demand'!$B$2:$B$151)*(G$17='Labour Demand'!$C$2:$C$151),0))} -> 7385.1426 | H20: {=INDEX('Labour Demand'!$F$2:$F$151,MATCH(1,($F$6='Labour Demand'!$B$2:$B$151)*(H$17='Labour Demand'!$C$2:$C$151),0))} -> 8302.8329 | I20: {=INDEX('Labour Demand'!$F$2:$F$151,MATCH(1,($F$6='Labour Demand'!$B$2:$B$151)*(I$17='Labour Demand'!$C$2:$C$151),0))} -> 9151.9939 | J20: {=INDEX('Labour Demand'!$F$2:$F$151,MATCH(1,($F$6='Labour Demand'!$B$2:$B$151)*(J$17='Labour Demand'!$C$2:$C$151),0))} -> 9773.9945 | K20: {=INDEX('Labour Demand'!$F$2:$F$151,MATCH(1,($F$6='Labour Demand'!$B$2:$B$151)*(K$17='Labour Demand'!$C$2:$C$151),0))} -> 9999.6142 | L20: {=INDEX('Labour Demand'!$F$2:$F$151,MATCH(1,($F$6='Labour Demand'!$B$2:$B$151)*(L$17='Labour Demand'!$C$2:$C$151),0))} -> 9731.5872 | M20: {=INDEX('Labour Demand'!$F$2:$F$151,MATCH(1,($F$6='Labour Demand'!$B$2:$B$151)*(M$17='Labour Demand'!$C$2:$C$151),0))} -> 9013.3374 | ... O20: {=INDEX('Labour Demand'!$F$2:$F$151,MATCH(1,($F$6='Labour Demand'!$B$2:$B$151)*(O$17='Labour Demand'!$C$2:$C$151),0))} -> 6748.5731 | Q20: 5315 Plumbers & heating and ventilating installers and repairers | R20: ='Miscellaneous List'!S40+'Miscellaneous List'!S64+'Miscellaneous List'!S88 -> 6611.1736 | S20: ='Miscellaneous List'!T40+'Miscellaneous List'!T64+'Miscellaneous List'!T88 -> 6374.0287 | T20: ='Miscellaneous List'!U40+'Miscellaneous List'!U64+'Miscellaneous List'!U88 -> 6178.2802 | U20: ='Miscellaneous List'!V40+'Miscellaneous List'!V64+'Miscellaneous List'!V88 -> 6028.2433 | V20: ='Miscellaneous List'!W40+'Miscellaneous List'!W64+'Miscellaneous List'!W88 -> 5881.2893 | W20: ='Miscellaneous List'!X40+'Miscellaneous List'!X64+'Miscellaneous List'!X88 -> 5737.6415 | X20: ='Miscellaneous List'!Y40+'Miscellaneous List'!Y64+'Miscellaneous List'!Y88 -> 5597.1086 | Y20: ='Miscellaneous List'!Z40+'Miscellaneous List'!Z64+'Miscellaneous List'!Z88 -> 5459.5359 | ... AA20: ='Miscellaneous List'!AB40+'Miscellaneous List'!AB64+'Miscellaneous List'!AB88 -> 5193.4247
E21: 5317 Glaziers, window fabricators and fitters | F21: {=INDEX('Labour Demand'!$G$2:$G$151,MATCH(1,($F$6='Labour Demand'!$B$2:$B$151)*(F$17='Labour Demand'!$C$2:$C$151),0))} -> 607.91201 | G21: {=INDEX('Labour Demand'!$G$2:$G$151,MATCH(1,($F$6='Labour Demand'!$B$2:$B$151)*(G$17='Labour Demand'!$C$2:$C$151),0))} -> 594.06464 | H21: {=INDEX('Labour Demand'!$G$2:$G$151,MATCH(1,($F$6='Labour Demand'!$B$2:$B$151)*(H$17='Labour Demand'!$C$2:$C$151),0))} -> 580.91533 | I21: {=INDEX('Labour Demand'!$G$2:$G$151,MATCH(1,($F$6='Labour Demand'!$B$2:$B$151)*(I$17='Labour Demand'!$C$2:$C$151),0))} -> 567.87107 | J21: {=INDEX('Labour Demand'!$G$2:$G$151,MATCH(1,($F$6='Labour Demand'!$B$2:$B$151)*(J$17='Labour Demand'!$C$2:$C$151),0))} -> 554.93159 | K21: {=INDEX('Labour Demand'!$G$2:$G$151,MATCH(1,($F$6='Labour Demand'!$B$2:$B$151)*(K$17='Labour Demand'!$C$2:$C$151),0))} -> 541.47844 | L21: {=INDEX('Labour Demand'!$G$2:$G$151,MATCH(1,($F$6='Labour Demand'!$B$2:$B$151)*(L$17='Labour Demand'!$C$2:$C$151),0))} -> 527.39842 | M21: {=INDEX('Labour Demand'!$G$2:$G$151,MATCH(1,($F$6='Labour Demand'!$B$2:$B$151)*(M$17='Labour Demand'!$C$2:$C$151),0))} -> 514.02178 | ... O21: {=INDEX('Labour Demand'!$G$2:$G$151,MATCH(1,($F$6='Labour Demand'!$B$2:$B$151)*(O$17='Labour Demand'!$C$2:$C$151),0))} -> 486.25844 | Q21: 5317 Glaziers, window fabricators and fitters | R21: ='Miscellaneous List'!S41+'Miscellaneous List'!S65+'Miscellaneous List'!S89 -> 654.62249 | S21: ='Miscellaneous List'!T41+'Miscellaneous List'!T65+'Miscellaneous List'!T89 -> 638.5863 | T21: ='Miscellaneous List'!U41+'Miscellaneous List'!U65+'Miscellaneous List'!U89 -> 622.89568 | U21: ='Miscellaneous List'!V41+'Miscellaneous List'!V65+'Miscellaneous List'!V89 -> 607.53896 | V21: ='Miscellaneous List'!W41+'Miscellaneous List'!W65+'Miscellaneous List'!W89 -> 592.49861 | W21: ='Miscellaneous List'!X41+'Miscellaneous List'!X65+'Miscellaneous List'!X89 -> 577.78729 | X21: ='Miscellaneous List'!Y41+'Miscellaneous List'!Y65+'Miscellaneous List'!Y89 -> 563.40531 | Y21: ='Miscellaneous List'!Z41+'Miscellaneous List'!Z65+'Miscellaneous List'!Z89 -> 549.34005 | ... AA21: ='Miscellaneous List'!AB41+'Miscellaneous List'!AB65+'Miscellaneous List'!AB89 -> 522.13149
E22: 5319 Construction and building trades n.e.c. | F22: {=INDEX('Labour Demand'!$H$2:$H$151,MATCH(1,($F$6='Labour Demand'!$B$2:$B$151)*(F$17='Labour Demand'!$C$2:$C$151),0))} -> 413.90017 | G22: {=INDEX('Labour Demand'!$H$2:$H$151,MATCH(1,($F$6='Labour Demand'!$B$2:$B$151)*(G$17='Labour Demand'!$C$2:$C$151),0))} -> 406.60327 | H22: {=INDEX('Labour Demand'!$H$2:$H$151,MATCH(1,($F$6='Labour Demand'!$B$2:$B$151)*(H$17='Labour Demand'!$C$2:$C$151),0))} -> 431.53339 | I22: {=INDEX('Labour Demand'!$H$2:$H$151,MATCH(1,($F$6='Labour Demand'!$B$2:$B$151)*(I$17='Labour Demand'!$C$2:$C$151),0))} -> 454.32837 | J22: {=INDEX('Labour Demand'!$H$2:$H$151,MATCH(1,($F$6='Labour Demand'!$B$2:$B$151)*(J$17='Labour Demand'!$C$2:$C$151),0))} -> 469.77468 | K22: {=INDEX('Labour Demand'!$H$2:$H$151,MATCH(1,($F$6='Labour Demand'!$B$2:$B$151)*(K$17='Labour Demand'!$C$2:$C$151),0))} -> 472.14856 | L22: {=INDEX('Labour Demand'!$H$2:$H$151,MATCH(1,($F$6='Labour Demand'!$B$2:$B$151)*(L$17='Labour Demand'!$C$2:$C$151),0))} -> 458.22797 | M22: {=INDEX('Labour Demand'!$H$2:$H$151,MATCH(1,($F$6='Labour Demand'!$B$2:$B$151)*(M$17='Labour Demand'!$C$2:$C$151),0))} -> 429.78561 | ... O22: {=INDEX('Labour Demand'!$H$2:$H$151,MATCH(1,($F$6='Labour Demand'!$B$2:$B$151)*(O$17='Labour Demand'!$C$2:$C$151),0))} -> 345.68355 | Q22: 5319 Construction and building trades n.e.c. | R22: ='Miscellaneous List'!S42+'Miscellaneous List'!S66+'Miscellaneous List'!S90 -> 392.17863 | S22: ='Miscellaneous List'!T42+'Miscellaneous List'!T66+'Miscellaneous List'!T90 -> 382.57148 | T22: ='Miscellaneous List'!U42+'Miscellaneous List'!U66+'Miscellaneous List'!U90 -> 375.55973 | U22: ='Miscellaneous List'!V42+'Miscellaneous List'!V66+'Miscellaneous List'!V90 -> 366.35247 | V22: ='Miscellaneous List'!W42+'Miscellaneous List'!W66+'Miscellaneous List'!W90 -> 357.33472 | W22: ='Miscellaneous List'!X42+'Miscellaneous List'!X66+'Miscellaneous List'!X90 -> 348.51631 | X22: ='Miscellaneous List'!Y42+'Miscellaneous List'!Y66+'Miscellaneous List'!Y90 -> 339.89303 | Y22: ='Miscellaneous List'!Z42+'Miscellaneous List'!Z66+'Miscellaneous List'!Z90 -> 331.4566 | ... AA22: ='Miscellaneous List'!AB42+'Miscellaneous List'!AB66+'Miscellaneous List'!AB90 -> 315.13712
E23: 5313 Bricklayers | F23: {=INDEX('Labour Demand'!$J$2:$J$151,MATCH(1,($F$6='Labour Demand'!$B$2:$B$151)*(F$17='Labour Demand'!$C$2:$C$151),0))} -> 355.21454 | G23: {=INDEX('Labour Demand'!$J$2:$J$151,MATCH(1,($F$6='Labour Demand'!$B$2:$B$151)*(G$17='Labour Demand'!$C$2:$C$151),0))} -> 352.6391 | H23: {=INDEX('Labour Demand'!$J$2:$J$151,MATCH(1,($F$6='Labour Demand'!$B$2:$B$151)*(H$17='Labour Demand'!$C$2:$C$151),0))} -> 396.67535 | I23: {=INDEX('Labour Demand'!$J$2:$J$151,MATCH(1,($F$6='Labour Demand'!$B$2:$B$151)*(I$17='Labour Demand'!$C$2:$C$151),0))} -> 437.42548 | J23: {=INDEX('Labour Demand'!$J$2:$J$151,MATCH(1,($F$6='Labour Demand'!$B$2:$B$151)*(J$17='Labour Demand'!$C$2:$C$151),0))} -> 467.28506 | K23: {=INDEX('Labour Demand'!$J$2:$J$151,MATCH(1,($F$6='Labour Demand'!$B$2:$B$151)*(K$17='Labour Demand'!$C$2:$C$151),0))} -> 478.14344 | L23: {=INDEX('Labour Demand'!$J$2:$J$151,MATCH(1,($F$6='Labour Demand'!$B$2:$B$151)*(L$17='Labour Demand'!$C$2:$C$151),0))} -> 465.33812 | M23: {=INDEX('Labour Demand'!$J$2:$J$151,MATCH(1,($F$6='Labour Demand'!$B$2:$B$151)*(M$17='Labour Demand'!$C$2:$C$151),0))} -> 430.94783 | ... O23: {=INDEX('Labour Demand'!$J$2:$J$151,MATCH(1,($F$6='Labour Demand'!$B$2:$B$151)*(O$17='Labour Demand'!$C$2:$C$151),0))} -> 322.4621 | Q23: 5313 Bricklayers | R23: ='Miscellaneous List'!S43+'Miscellaneous List'!S67+'Miscellaneous List'!S91 -> 304.40531 | S23: ='Miscellaneous List'!T43+'Miscellaneous List'!T67+'Miscellaneous List'!T91 -> 296.94834 | T23: ='Miscellaneous List'!U43+'Miscellaneous List'!U67+'Miscellaneous List'!U91 -> 289.65206 | U23: ='Miscellaneous List'!V43+'Miscellaneous List'!V67+'Miscellaneous List'!V91 -> 282.51105 | V23: ='Miscellaneous List'!W43+'Miscellaneous List'!W67+'Miscellaneous List'!W91 -> 275.51716 | W23: ='Miscellaneous List'!X43+'Miscellaneous List'!X67+'Miscellaneous List'!X91 -> 268.67626 | X23: ='Miscellaneous List'!Y43+'Miscellaneous List'!Y67+'Miscellaneous List'!Y91 -> 261.98851 | Y23: ='Miscellaneous List'!Z43+'Miscellaneous List'!Z67+'Miscellaneous List'!Z91 -> 255.44804 | ... AA23: ='Miscellaneous List'!AB43+'Miscellaneous List'!AB67+'Miscellaneous List'!AB91 -> 242.79581
E24: 5316 Carpenters and joiners | F24: {=INDEX('Labour Demand'!$K$2:$K$151,MATCH(1,($F$6='Labour Demand'!$B$2:$B$151)*(F$17='Labour Demand'!$C$2:$C$151),0))} -> 3377.473 | G24: {=INDEX('Labour Demand'!$K$2:$K$151,MATCH(1,($F$6='Labour Demand'!$B$2:$B$151)*(G$17='Labour Demand'!$C$2:$C$151),0))} -> 3267.8698 | H24: {=INDEX('Labour Demand'!$K$2:$K$151,MATCH(1,($F$6='Labour Demand'!$B$2:$B$151)*(H$17='Labour Demand'!$C$2:$C$151),0))} -> 3163.8867 | I24: {=INDEX('Labour Demand'!$K$2:$K$151,MATCH(1,($F$6='Labour Demand'!$B$2:$B$151)*(I$17='Labour Demand'!$C$2:$C$151),0))} -> 3062.2192 | J24: {=INDEX('Labour Demand'!$K$2:$K$151,MATCH(1,($F$6='Labour Demand'!$B$2:$B$151)*(J$17='Labour Demand'!$C$2:$C$151),0))} -> 2962.8242 | K24: {=INDEX('Labour Demand'!$K$2:$K$151,MATCH(1,($F$6='Labour Demand'!$B$2:$B$151)*(K$17='Labour Demand'!$C$2:$C$151),0))} -> 2862.4237 | L24: {=INDEX('Labour Demand'!$K$2:$K$151,MATCH(1,($F$6='Labour Demand'!$B$2:$B$151)*(L$17='Labour Demand'!$C$2:$C$151),0))} -> 2760.4866 | M24: {=INDEX('Labour Demand'!$K$2:$K$151,MATCH(1,($F$6='Labour Demand'!$B$2:$B$151)*(M$17='Labour Demand'!$C$2:$C$151),0))} -> 2663.9102 | ... O24: {=INDEX('Labour Demand'!$K$2:$K$151,MATCH(1,($F$6='Labour Demand'!$B$2:$B$151)*(O$17='Labour Demand'!$C$2:$C$151),0))} -> 2470.6171 | Q24: 5316 Carpenters and joiners | R24: ='Miscellaneous List'!S44+'Miscellaneous List'!S68+'Miscellaneous List'!S92 -> 3636.9899 | S24: ='Miscellaneous List'!T44+'Miscellaneous List'!T68+'Miscellaneous List'!T92 -> 3547.895 | T24: ='Miscellaneous List'!U44+'Miscellaneous List'!U68+'Miscellaneous List'!U92 -> 3460.7202 | U24: ='Miscellaneous List'!V44+'Miscellaneous List'!V68+'Miscellaneous List'!V92 -> 3375.4005 | V24: ='Miscellaneous List'!W44+'Miscellaneous List'!W68+'Miscellaneous List'!W92 -> 3291.8384 | W24: ='Miscellaneous List'!X44+'Miscellaneous List'!X68+'Miscellaneous List'!X92 -> 3210.1044 | X24: ='Miscellaneous List'!Y44+'Miscellaneous List'!Y68+'Miscellaneous List'!Y92 -> 3130.2001 | Y24: ='Miscellaneous List'!Z44+'Miscellaneous List'!Z68+'Miscellaneous List'!Z92 -> 3052.0555 | ... AA24: ='Miscellaneous List'!AB44+'Miscellaneous List'!AB68+'Miscellaneous List'!AB92 -> 2900.8886
E25: 5321 Plasterers | F25: {=INDEX('Labour Demand'!$L$2:$L$151,MATCH(1,($F$6='Labour Demand'!$B$2:$B$151)*(F$17='Labour Demand'!$C$2:$C$151),0))} -> 1336.248 | G25: {=INDEX('Labour Demand'!$L$2:$L$151,MATCH(1,($F$6='Labour Demand'!$B$2:$B$151)*(G$17='Labour Demand'!$C$2:$C$151),0))} -> 1292.8851 | H25: {=INDEX('Labour Demand'!$L$2:$L$151,MATCH(1,($F$6='Labour Demand'!$B$2:$B$151)*(H$17='Labour Demand'!$C$2:$C$151),0))} -> 1251.7457 | I25: {=INDEX('Labour Demand'!$L$2:$L$151,MATCH(1,($F$6='Labour Demand'!$B$2:$B$151)*(I$17='Labour Demand'!$C$2:$C$151),0))} -> 1211.5224 | J25: {=INDEX('Labour Demand'!$L$2:$L$151,MATCH(1,($F$6='Labour Demand'!$B$2:$B$151)*(J$17='Labour Demand'!$C$2:$C$151),0))} -> 1172.1982 | K25: {=INDEX('Labour Demand'!$L$2:$L$151,MATCH(1,($F$6='Labour Demand'!$B$2:$B$151)*(K$17='Labour Demand'!$C$2:$C$151),0))} -> 1132.4762 | L25: {=INDEX('Labour Demand'!$L$2:$L$151,MATCH(1,($F$6='Labour Demand'!$B$2:$B$151)*(L$17='Labour Demand'!$C$2:$C$151),0))} -> 1092.1463 | M25: {=INDEX('Labour Demand'!$L$2:$L$151,MATCH(1,($F$6='Labour Demand'!$B$2:$B$151)*(M$17='Labour Demand'!$C$2:$C$151),0))} -> 1053.9372 | ... O25: {=INDEX('Labour Demand'!$L$2:$L$151,MATCH(1,($F$6='Labour Demand'!$B$2:$B$151)*(O$17='Labour Demand'!$C$2:$C$151),0))} -> 977.46367 | Q25: 5321 Plasterers | R25: ='Miscellaneous List'!S45+'Miscellaneous List'!S69+'Miscellaneous List'!S93 -> 1438.9221 | S25: ='Miscellaneous List'!T45+'Miscellaneous List'!T69+'Miscellaneous List'!T93 -> 1403.673 | T25: ='Miscellaneous List'!U45+'Miscellaneous List'!U69+'Miscellaneous List'!U93 -> 1369.1835 | U25: ='Miscellaneous List'!V45+'Miscellaneous List'!V69+'Miscellaneous List'!V93 -> 1335.428 | V25: ='Miscellaneous List'!W45+'Miscellaneous List'!W69+'Miscellaneous List'!W93 -> 1302.3679 | W25: ='Miscellaneous List'!X45+'Miscellaneous List'!X69+'Miscellaneous List'!X93 -> 1270.031 | X25: ='Miscellaneous List'!Y45+'Miscellaneous List'!Y69+'Miscellaneous List'!Y93 -> 1238.4181 | Y25: ='Miscellaneous List'!Z45+'Miscellaneous List'!Z69+'Miscellaneous List'!Z93 -> 1207.5013 | ... AA25: ='Miscellaneous List'!AB45+'Miscellaneous List'!AB69+'Miscellaneous List'!AB93 -> 1147.6943
E26: 5322 Floorers and wall tilers | F26: {=INDEX('Labour Demand'!$M$2:$M$151,MATCH(1,($F$6='Labour Demand'!$B$2:$B$151)*(F$17='Labour Demand'!$C$2:$C$151),0))} -> 2738.803 | G26: {=INDEX('Labour Demand'!$M$2:$M$151,MATCH(1,($F$6='Labour Demand'!$B$2:$B$151)*(G$17='Labour Demand'!$C$2:$C$151),0))} -> 2739.8739 | H26: {=INDEX('Labour Demand'!$M$2:$M$151,MATCH(1,($F$6='Labour Demand'!$B$2:$B$151)*(H$17='Labour Demand'!$C$2:$C$151),0))} -> 3207.9256 | I26: {=INDEX('Labour Demand'!$M$2:$M$151,MATCH(1,($F$6='Labour Demand'!$B$2:$B$151)*(I$17='Labour Demand'!$C$2:$C$151),0))} -> 3642.3883 | J26: {=INDEX('Labour Demand'!$M$2:$M$151,MATCH(1,($F$6='Labour Demand'!$B$2:$B$151)*(J$17='Labour Demand'!$C$2:$C$151),0))} -> 3966.8622 | K26: {=INDEX('Labour Demand'!$M$2:$M$151,MATCH(1,($F$6='Labour Demand'!$B$2:$B$151)*(K$17='Labour Demand'!$C$2:$C$151),0))} -> 4100.6556 | L26: {=INDEX('Labour Demand'!$M$2:$M$151,MATCH(1,($F$6='Labour Demand'!$B$2:$B$151)*(L$17='Labour Demand'!$C$2:$C$151),0))} -> 3997.0499 | M26: {=INDEX('Labour Demand'!$M$2:$M$151,MATCH(1,($F$6='Labour Demand'!$B$2:$B$151)*(M$17='Labour Demand'!$C$2:$C$151),0))} -> 3675.2364 | ... O26: {=INDEX('Labour Demand'!$M$2:$M$151,MATCH(1,($F$6='Labour Demand'!$B$2:$B$151)*(O$17='Labour Demand'!$C$2:$C$151),0))} -> 2632.6793 | Q26: 5322 Floorers and wall tilers | R26: ='Miscellaneous List'!S46+'Miscellaneous List'!S70+'Miscellaneous List'!S94 -> 2164.4525 | S26: ='Miscellaneous List'!T46+'Miscellaneous List'!T70+'Miscellaneous List'!T94 -> 2111.4302 | T26: ='Miscellaneous List'!U46+'Miscellaneous List'!U70+'Miscellaneous List'!U94 -> 2059.5506 | U26: ='Miscellaneous List'!V46+'Miscellaneous List'!V70+'Miscellaneous List'!V94 -> 2008.7749 | V26: ='Miscellaneous List'!W46+'Miscellaneous List'!W70+'Miscellaneous List'!W94 -> 1959.0453 | W26: ='Miscellaneous List'!X46+'Miscellaneous List'!X70+'Miscellaneous List'!X94 -> 1910.4036 | X26: ='Miscellaneous List'!Y46+'Miscellaneous List'!Y70+'Miscellaneous List'!Y94 -> 1862.8508 | Y26: ='Miscellaneous List'!Z46+'Miscellaneous List'!Z70+'Miscellaneous List'!Z94 -> 1816.3452 | ... AA26: ='Miscellaneous List'!AB46+'Miscellaneous List'!AB70+'Miscellaneous List'!AB94 -> 1726.3825
E27: 5323 Painters and decorators | F27: {=INDEX('Labour Demand'!$N$2:$N$151,MATCH(1,($F$6='Labour Demand'!$B$2:$B$151)*(F$17='Labour Demand'!$C$2:$C$151),0))} -> 1147.5344 | G27: {=INDEX('Labour Demand'!$N$2:$N$151,MATCH(1,($F$6='Labour Demand'!$B$2:$B$151)*(G$17='Labour Demand'!$C$2:$C$151),0))} -> 1128.2078 | H27: {=INDEX('Labour Demand'!$N$2:$N$151,MATCH(1,($F$6='Labour Demand'!$B$2:$B$151)*(H$17='Labour Demand'!$C$2:$C$151),0))} -> 1202.8773 | I27: {=INDEX('Labour Demand'!$N$2:$N$151,MATCH(1,($F$6='Labour Demand'!$B$2:$B$151)*(I$17='Labour Demand'!$C$2:$C$151),0))} -> 1271.2708 | J27: {=INDEX('Labour Demand'!$N$2:$N$151,MATCH(1,($F$6='Labour Demand'!$B$2:$B$151)*(J$17='Labour Demand'!$C$2:$C$151),0))} -> 1318.1662 | K27: {=INDEX('Labour Demand'!$N$2:$N$151,MATCH(1,($F$6='Labour Demand'!$B$2:$B$151)*(K$17='Labour Demand'!$C$2:$C$151),0))} -> 1326.9105 | L27: {=INDEX('Labour Demand'!$N$2:$N$151,MATCH(1,($F$6='Labour Demand'!$B$2:$B$151)*(L$17='Labour Demand'!$C$2:$C$151),0))} -> 1288.1053 | M27: {=INDEX('Labour Demand'!$N$2:$N$151,MATCH(1,($F$6='Labour Demand'!$B$2:$B$151)*(M$17='Labour Demand'!$C$2:$C$151),0))} -> 1206.8021 | ... O27: {=INDEX('Labour Demand'!$N$2:$N$151,MATCH(1,($F$6='Labour Demand'!$B$2:$B$151)*(O$17='Labour Demand'!$C$2:$C$151),0))} -> 964.72803 | Q27: 5323 Painters and decorators | R27: ='Miscellaneous List'!S47+'Miscellaneous List'!S71+'Miscellaneous List'!S95 -> 1079.425 | S27: ='Miscellaneous List'!T47+'Miscellaneous List'!T71+'Miscellaneous List'!T95 -> 1052.9825 | T27: ='Miscellaneous List'!U47+'Miscellaneous List'!U71+'Miscellaneous List'!U95 -> 1027.1098 | U27: ='Miscellaneous List'!V47+'Miscellaneous List'!V71+'Miscellaneous List'!V95 -> 1001.7877 | V27: ='Miscellaneous List'!W47+'Miscellaneous List'!W71+'Miscellaneous List'!W95 -> 976.98721 | W27: ='Miscellaneous List'!X47+'Miscellaneous List'!X71+'Miscellaneous List'!X95 -> 952.72931 | X27: ='Miscellaneous List'!Y47+'Miscellaneous List'!Y71+'Miscellaneous List'!Y95 -> 929.01446 | Y27: ='Miscellaneous List'!Z47+'Miscellaneous List'!Z71+'Miscellaneous List'!Z95 -> 905.82187 | ... AA27: ='Miscellaneous List'!AB47+'Miscellaneous List'!AB71+'Miscellaneous List'!AB95 -> 860.95693
E28: 9129 Elementary construction occupations n.e.c. | F28: {=INDEX('Labour Demand'!$O$2:$O$151,MATCH(1,($F$6='Labour Demand'!$B$2:$B$151)*(F$17='Labour Demand'!$C$2:$C$151),0))} -> 573.81661 | G28: {=INDEX('Labour Demand'!$O$2:$O$151,MATCH(1,($F$6='Labour Demand'!$B$2:$B$151)*(G$17='Labour Demand'!$C$2:$C$151),0))} -> 558.59263 | H28: {=INDEX('Labour Demand'!$O$2:$O$151,MATCH(1,($F$6='Labour Demand'!$B$2:$B$151)*(H$17='Labour Demand'!$C$2:$C$151),0))} -> 561.78785 | I28: {=INDEX('Labour Demand'!$O$2:$O$151,MATCH(1,($F$6='Labour Demand'!$B$2:$B$151)*(I$17='Labour Demand'!$C$2:$C$151),0))} -> 564.03702 | J28: {=INDEX('Labour Demand'!$O$2:$O$151,MATCH(1,($F$6='Labour Demand'!$B$2:$B$151)*(J$17='Labour Demand'!$C$2:$C$151),0))} -> 562.44872 | K28: {=INDEX('Labour Demand'!$O$2:$O$151,MATCH(1,($F$6='Labour Demand'!$B$2:$B$151)*(K$17='Labour Demand'!$C$2:$C$151),0))} -> 553.51895 | L28: {=INDEX('Labour Demand'!$O$2:$O$151,MATCH(1,($F$6='Labour Demand'!$B$2:$B$151)*(L$17='Labour Demand'!$C$2:$C$151),0))} -> 535.4093 | M28: {=INDEX('Labour Demand'!$O$2:$O$151,MATCH(1,($F$6='Labour Demand'!$B$2:$B$151)*(M$17='Labour Demand'!$C$2:$C$151),0))} -> 509.80517 | ... O28: {=INDEX('Labour Demand'!$O$2:$O$151,MATCH(1,($F$6='Labour Demand'!$B$2:$B$151)*(O$17='Labour Demand'!$C$2:$C$151),0))} -> 443.51096 | Q28: 9129 Elementary construction occupations n.e.c. | R28: ='Miscellaneous List'!S48+'Miscellaneous List'!S72+'Miscellaneous List'!S96 -> 590.7805 | S28: ='Miscellaneous List'!T48+'Miscellaneous List'!T72+'Miscellaneous List'!T96 -> 578.77636 | T28: ='Miscellaneous List'!U48+'Miscellaneous List'!U72+'Miscellaneous List'!U96 -> 566.98012 | U28: ='Miscellaneous List'!V48+'Miscellaneous List'!V72+'Miscellaneous List'!V96 -> 555.38452 | V28: ='Miscellaneous List'!W48+'Miscellaneous List'!W72+'Miscellaneous List'!W96 -> 543.97694 | W28: ='Miscellaneous List'!X48+'Miscellaneous List'!X72+'Miscellaneous List'!X96 -> 532.77183 | X28: ='Miscellaneous List'!Y48+'Miscellaneous List'!Y72+'Miscellaneous List'!Y96 -> 521.77245 | Y28: ='Miscellaneous List'!Z48+'Miscellaneous List'!Z72+'Miscellaneous List'!Z96 -> 510.97037 | ... AA28: ='Miscellaneous List'!AB48+'Miscellaneous List'!AB72+'Miscellaneous List'!AB96 -> 489.94389
E29: 2121 Civil Engineers | F29: {=INDEX('Labour Demand'!$Q$2:$Q$151,MATCH(1,($F$6='Labour Demand'!$B$2:$B$151)*(F$17='Labour Demand'!$C$2:$C$151),0))} -> 0 | G29: {=INDEX('Labour Demand'!$Q$2:$Q$151,MATCH(1,($F$6='Labour Demand'!$B$2:$B$151)*(G$17='Labour Demand'!$C$2:$C$151),0))} -> 0 | H29: {=INDEX('Labour Demand'!$Q$2:$Q$151,MATCH(1,($F$6='Labour Demand'!$B$2:$B$151)*(H$17='Labour Demand'!$C$2:$C$151),0))} -> 0 | I29: {=INDEX('Labour Demand'!$Q$2:$Q$151,MATCH(1,($F$6='Labour Demand'!$B$2:$B$151)*(I$17='Labour Demand'!$C$2:$C$151),0))} -> 0 | J29: {=INDEX('Labour Demand'!$Q$2:$Q$151,MATCH(1,($F$6='Labour Demand'!$B$2:$B$151)*(J$17='Labour Demand'!$C$2:$C$151),0))} -> 0 | K29: {=INDEX('Labour Demand'!$Q$2:$Q$151,MATCH(1,($F$6='Labour Demand'!$B$2:$B$151)*(K$17='Labour Demand'!$C$2:$C$151),0))} -> 0 | L29: {=INDEX('Labour Demand'!$Q$2:$Q$151,MATCH(1,($F$6='Labour Demand'!$B$2:$B$151)*(L$17='Labour Demand'!$C$2:$C$151),0))} -> 0 | M29: {=INDEX('Labour Demand'!$Q$2:$Q$151,MATCH(1,($F$6='Labour Demand'!$B$2:$B$151)*(M$17='Labour Demand'!$C$2:$C$151),0))} -> 0 | ... O29: {=INDEX('Labour Demand'!$Q$2:$Q$151,MATCH(1,($F$6='Labour Demand'!$B$2:$B$151)*(O$17='Labour Demand'!$C$2:$C$151),0))} -> 0 | Q29: 2121 Civil Engineers | R29: ='Miscellaneous List'!S49+'Miscellaneous List'!S73+'Miscellaneous List'!S97 -> 0 | S29: ='Miscellaneous List'!T49+'Miscellaneous List'!T73+'Miscellaneous List'!T97 -> 0 | T29: ='Miscellaneous List'!U49+'Miscellaneous List'!U73+'Miscellaneous List'!U97 -> 0 | U29: ='Miscellaneous List'!V49+'Miscellaneous List'!V73+'Miscellaneous List'!V97 -> 0 | V29: ='Miscellaneous List'!W49+'Miscellaneous List'!W73+'Miscellaneous List'!W97 -> 0 | W29: ='Miscellaneous List'!X49+'Miscellaneous List'!X73+'Miscellaneous List'!X97 -> 0 | X29: ='Miscellaneous List'!Y49+'Miscellaneous List'!Y73+'Miscellaneous List'!Y97 -> 0 | Y29: ='Miscellaneous List'!Z49+'Miscellaneous List'!Z73+'Miscellaneous List'!Z97 -> 0 | ... AA29: ='Miscellaneous List'!AB49+'Miscellaneous List'!AB73+'Miscellaneous List'!AB97 -> 0
E30: 2123 Electrical engineers | F30: {=INDEX('Labour Demand'!$R$2:$R$151,MATCH(1,($F$6='Labour Demand'!$B$2:$B$151)*(F$17='Labour Demand'!$C$2:$C$151),0))} -> 398.02625 | G30: {=INDEX('Labour Demand'!$R$2:$R$151,MATCH(1,($F$6='Labour Demand'!$B$2:$B$151)*(G$17='Labour Demand'!$C$2:$C$151),0))} -> 404.17193 | H30: {=INDEX('Labour Demand'!$R$2:$R$151,MATCH(1,($F$6='Labour Demand'!$B$2:$B$151)*(H$17='Labour Demand'!$C$2:$C$151),0))} -> 410.27296 | I30: {=INDEX('Labour Demand'!$R$2:$R$151,MATCH(1,($F$6='Labour Demand'!$B$2:$B$151)*(I$17='Labour Demand'!$C$2:$C$151),0))} -> 416.31953 | J30: {=INDEX('Labour Demand'!$R$2:$R$151,MATCH(1,($F$6='Labour Demand'!$B$2:$B$151)*(J$17='Labour Demand'!$C$2:$C$151),0))} -> 421.80121 | K30: {=INDEX('Labour Demand'!$R$2:$R$151,MATCH(1,($F$6='Labour Demand'!$B$2:$B$151)*(K$17='Labour Demand'!$C$2:$C$151),0))} -> 426.55474 | L30: {=INDEX('Labour Demand'!$R$2:$R$151,MATCH(1,($F$6='Labour Demand'!$B$2:$B$151)*(L$17='Labour Demand'!$C$2:$C$151),0))} -> 431.65588 | M30: {=INDEX('Labour Demand'!$R$2:$R$151,MATCH(1,($F$6='Labour Demand'!$B$2:$B$151)*(M$17='Labour Demand'!$C$2:$C$151),0))} -> 435.85575 | ... O30: {=INDEX('Labour Demand'!$R$2:$R$151,MATCH(1,($F$6='Labour Demand'!$B$2:$B$151)*(O$17='Labour Demand'!$C$2:$C$151),0))} -> 444.54758 | Q30: 2123 Electrical engineers | R30: ='Miscellaneous List'!S50+'Miscellaneous List'!S74+'Miscellaneous List'!S98 -> 428.56841 | S30: ='Miscellaneous List'!T50+'Miscellaneous List'!T74+'Miscellaneous List'!T98 -> 418.02676 | T30: ='Miscellaneous List'!U50+'Miscellaneous List'!U74+'Miscellaneous List'!U98 -> 407.71045 | U30: ='Miscellaneous List'!V50+'Miscellaneous List'!V74+'Miscellaneous List'!V98 -> 397.61173 | V30: ='Miscellaneous List'!W50+'Miscellaneous List'!W74+'Miscellaneous List'!W98 -> 387.719 | W30: ='Miscellaneous List'!X50+'Miscellaneous List'!X74+'Miscellaneous List'!X98 -> 378.04057 | X30: ='Miscellaneous List'!Y50+'Miscellaneous List'!Y74+'Miscellaneous List'!Y98 -> 368.57669 | Y30: ='Miscellaneous List'!Z50+'Miscellaneous List'!Z74+'Miscellaneous List'!Z98 -> 359.31904 | ... AA30: ='Miscellaneous List'!AB50+'Miscellaneous List'!AB74+'Miscellaneous List'!AB98 -> 341.40387
E31: 2127 Engineering project managers and project engineers | F31: {=INDEX('Labour Demand'!$S$2:$S$151,MATCH(1,($F$6='Labour Demand'!$B$2:$B$151)*(F$17='Labour Demand'!$C$2:$C$151),0))} -> 622.48629 | G31: {=INDEX('Labour Demand'!$S$2:$S$151,MATCH(1,($F$6='Labour Demand'!$B$2:$B$151)*(G$17='Labour Demand'!$C$2:$C$151),0))} -> 632.09772 | H31: {=INDEX('Labour Demand'!$S$2:$S$151,MATCH(1,($F$6='Labour Demand'!$B$2:$B$151)*(H$17='Labour Demand'!$C$2:$C$151),0))} -> 641.63931 | I31: {=INDEX('Labour Demand'!$S$2:$S$151,MATCH(1,($F$6='Labour Demand'!$B$2:$B$151)*(I$17='Labour Demand'!$C$2:$C$151),0))} -> 651.09575 | J31: {=INDEX('Labour Demand'!$S$2:$S$151,MATCH(1,($F$6='Labour Demand'!$B$2:$B$151)*(J$17='Labour Demand'!$C$2:$C$151),0))} -> 659.66872 | K31: {=INDEX('Labour Demand'!$S$2:$S$151,MATCH(1,($F$6='Labour Demand'!$B$2:$B$151)*(K$17='Labour Demand'!$C$2:$C$151),0))} -> 667.10292 | L31: {=INDEX('Labour Demand'!$S$2:$S$151,MATCH(1,($F$6='Labour Demand'!$B$2:$B$151)*(L$17='Labour Demand'!$C$2:$C$151),0))} -> 675.08076 | M31: {=INDEX('Labour Demand'!$S$2:$S$151,MATCH(1,($F$6='Labour Demand'!$B$2:$B$151)*(M$17='Labour Demand'!$C$2:$C$151),0))} -> 681.64909 | ... O31: {=INDEX('Labour Demand'!$S$2:$S$151,MATCH(1,($F$6='Labour Demand'!$B$2:$B$151)*(O$17='Labour Demand'!$C$2:$C$151),0))} -> 695.24253 | Q31: 2127 Engineering project managers and project engineers | R31: ='Miscellaneous List'!S51+'Miscellaneous List'!S75+'Miscellaneous List'!S99 -> 670.25218 | S31: ='Miscellaneous List'!T51+'Miscellaneous List'!T75+'Miscellaneous List'!T99 -> 653.76574 | T31: ='Miscellaneous List'!U51+'Miscellaneous List'!U75+'Miscellaneous List'!U99 -> 637.63172 | U31: ='Miscellaneous List'!V51+'Miscellaneous List'!V75+'Miscellaneous List'!V99 -> 621.83802 | V31: ='Miscellaneous List'!W51+'Miscellaneous List'!W75+'Miscellaneous List'!W99 -> 606.36644 | W31: ='Miscellaneous List'!X51+'Miscellaneous List'!X75+'Miscellaneous List'!X99 -> 591.23003 | X31: ='Miscellaneous List'!Y51+'Miscellaneous List'!Y75+'Miscellaneous List'!Y99 -> 576.42916 | Y31: ='Miscellaneous List'!Z51+'Miscellaneous List'!Z75+'Miscellaneous List'!Z99 -> 561.95082 | ... AA31: ='Miscellaneous List'!AB51+'Miscellaneous List'!AB75+'Miscellaneous List'!AB99 -> 533.93269
E32: 2129 Engineering professionals n.e.c. | F32: {=INDEX('Labour Demand'!$T$2:$T$151,MATCH(1,($F$6='Labour Demand'!$B$2:$B$151)*(F$17='Labour Demand'!$C$2:$C$151),0))} -> 339.048 | G32: {=INDEX('Labour Demand'!$T$2:$T$151,MATCH(1,($F$6='Labour Demand'!$B$2:$B$151)*(G$17='Labour Demand'!$C$2:$C$151),0))} -> 344.28303 | H32: {=INDEX('Labour Demand'!$T$2:$T$151,MATCH(1,($F$6='Labour Demand'!$B$2:$B$151)*(H$17='Labour Demand'!$C$2:$C$151),0))} -> 349.48003 | I32: {=INDEX('Labour Demand'!$T$2:$T$151,MATCH(1,($F$6='Labour Demand'!$B$2:$B$151)*(I$17='Labour Demand'!$C$2:$C$151),0))} -> 354.63064 | J32: {=INDEX('Labour Demand'!$T$2:$T$151,MATCH(1,($F$6='Labour Demand'!$B$2:$B$151)*(J$17='Labour Demand'!$C$2:$C$151),0))} -> 359.30006 | K32: {=INDEX('Labour Demand'!$T$2:$T$151,MATCH(1,($F$6='Labour Demand'!$B$2:$B$151)*(K$17='Labour Demand'!$C$2:$C$151),0))} -> 363.34923 | L32: {=INDEX('Labour Demand'!$T$2:$T$151,MATCH(1,($F$6='Labour Demand'!$B$2:$B$151)*(L$17='Labour Demand'!$C$2:$C$151),0))} -> 367.6945 | M32: {=INDEX('Labour Demand'!$T$2:$T$151,MATCH(1,($F$6='Labour Demand'!$B$2:$B$151)*(M$17='Labour Demand'!$C$2:$C$151),0))} -> 371.27205 | ... O32: {=INDEX('Labour Demand'!$T$2:$T$151,MATCH(1,($F$6='Labour Demand'!$B$2:$B$151)*(O$17='Labour Demand'!$C$2:$C$151),0))} -> 378.67595 | Q32: 2129 Engineering professionals n.e.c. | R32: ='Miscellaneous List'!S52+'Miscellaneous List'!S76+'Miscellaneous List'!S100 -> 365.06452 | S32: ='Miscellaneous List'!T52+'Miscellaneous List'!T76+'Miscellaneous List'!T100 -> 356.0849 | T32: ='Miscellaneous List'!U52+'Miscellaneous List'!U76+'Miscellaneous List'!U100 -> 347.29722 | U32: ='Miscellaneous List'!V52+'Miscellaneous List'!V76+'Miscellaneous List'!V100 -> 338.69491 | V32: ='Miscellaneous List'!W52+'Miscellaneous List'!W76+'Miscellaneous List'!W100 -> 330.26804 | W32: ='Miscellaneous List'!X52+'Miscellaneous List'!X76+'Miscellaneous List'!X100 -> 322.02373 | X32: ='Miscellaneous List'!Y52+'Miscellaneous List'!Y76+'Miscellaneous List'!Y100 -> 313.96218 | Y32: ='Miscellaneous List'!Z52+'Miscellaneous List'!Z76+'Miscellaneous List'!Z100 -> 306.0763 | ... AA32: ='Miscellaneous List'!AB52+'Miscellaneous List'!AB76+'Miscellaneous List'!AB100 -> 290.81574
E33: 2455 Construction project managers and related professionals | F33: {=INDEX('Labour Demand'!$U$2:$U$151,MATCH(1,($F$6='Labour Demand'!$B$2:$B$151)*(F$17='Labour Demand'!$C$2:$C$151),0))} -> 610.45983 | G33: {=INDEX('Labour Demand'!$U$2:$U$151,MATCH(1,($F$6='Labour Demand'!$B$2:$B$151)*(G$17='Labour Demand'!$C$2:$C$151),0))} -> 619.88556 | H33: {=INDEX('Labour Demand'!$U$2:$U$151,MATCH(1,($F$6='Labour Demand'!$B$2:$B$151)*(H$17='Labour Demand'!$C$2:$C$151),0))} -> 629.24281 | I33: {=INDEX('Labour Demand'!$U$2:$U$151,MATCH(1,($F$6='Labour Demand'!$B$2:$B$151)*(I$17='Labour Demand'!$C$2:$C$151),0))} -> 638.51655 | J33: {=INDEX('Labour Demand'!$U$2:$U$151,MATCH(1,($F$6='Labour Demand'!$B$2:$B$151)*(J$17='Labour Demand'!$C$2:$C$151),0))} -> 646.9239 | K33: {=INDEX('Labour Demand'!$U$2:$U$151,MATCH(1,($F$6='Labour Demand'!$B$2:$B$151)*(K$17='Labour Demand'!$C$2:$C$151),0))} -> 654.21446 | L33: {=INDEX('Labour Demand'!$U$2:$U$151,MATCH(1,($F$6='Labour Demand'!$B$2:$B$151)*(L$17='Labour Demand'!$C$2:$C$151),0))} -> 662.03817 | M33: {=INDEX('Labour Demand'!$U$2:$U$151,MATCH(1,($F$6='Labour Demand'!$B$2:$B$151)*(M$17='Labour Demand'!$C$2:$C$151),0))} -> 668.4796 | ... O33: {=INDEX('Labour Demand'!$U$2:$U$151,MATCH(1,($F$6='Labour Demand'!$B$2:$B$151)*(O$17='Labour Demand'!$C$2:$C$151),0))} -> 681.81041 | Q33: 2455 Construction project managers and related professionals | R33: ='Miscellaneous List'!S53+'Miscellaneous List'!S77+'Miscellaneous List'!S101 -> 652.62303 | S33: ='Miscellaneous List'!T53+'Miscellaneous List'!T77+'Miscellaneous List'!T101 -> 632.04008 | T33: ='Miscellaneous List'!U53+'Miscellaneous List'!U77+'Miscellaneous List'!U101 -> 612.0575 | U33: ='Miscellaneous List'!V53+'Miscellaneous List'!V77+'Miscellaneous List'!V101 -> 592.65383 | V33: ='Miscellaneous List'!W53+'Miscellaneous List'!W77+'Miscellaneous List'!W101 -> 573.80239 | W33: ='Miscellaneous List'!X53+'Miscellaneous List'!X77+'Miscellaneous List'!X101 -> 555.50628 | X33: ='Miscellaneous List'!Y53+'Miscellaneous List'!Y77+'Miscellaneous List'!Y101 -> 537.75658 | Y33: ='Miscellaneous List'!Z53+'Miscellaneous List'!Z77+'Miscellaneous List'!Z101 -> 520.53215 | ... AA33: ='Miscellaneous List'!AB53+'Miscellaneous List'!AB77+'Miscellaneous List'!AB101 -> 487.59771
E34: 3114 Building and civil engineering technicians | F34: {=INDEX('Labour Demand'!$V$2:$V$151,MATCH(1,($F$6='Labour Demand'!$B$2:$B$151)*(F$17='Labour Demand'!$C$2:$C$151),0))} -> 0 | G34: {=INDEX('Labour Demand'!$V$2:$V$151,MATCH(1,($F$6='Labour Demand'!$B$2:$B$151)*(G$17='Labour Demand'!$C$2:$C$151),0))} -> 0 | H34: {=INDEX('Labour Demand'!$V$2:$V$151,MATCH(1,($F$6='Labour Demand'!$B$2:$B$151)*(H$17='Labour Demand'!$C$2:$C$151),0))} -> 0 | I34: {=INDEX('Labour Demand'!$V$2:$V$151,MATCH(1,($F$6='Labour Demand'!$B$2:$B$151)*(I$17='Labour Demand'!$C$2:$C$151),0))} -> 0 | J34: {=INDEX('Labour Demand'!$V$2:$V$151,MATCH(1,($F$6='Labour Demand'!$B$2:$B$151)*(J$17='Labour Demand'!$C$2:$C$151),0))} -> 0 | K34: {=INDEX('Labour Demand'!$V$2:$V$151,MATCH(1,($F$6='Labour Demand'!$B$2:$B$151)*(K$17='Labour Demand'!$C$2:$C$151),0))} -> 0 | L34: {=INDEX('Labour Demand'!$V$2:$V$151,MATCH(1,($F$6='Labour Demand'!$B$2:$B$151)*(L$17='Labour Demand'!$C$2:$C$151),0))} -> 0 | M34: {=INDEX('Labour Demand'!$V$2:$V$151,MATCH(1,($F$6='Labour Demand'!$B$2:$B$151)*(M$17='Labour Demand'!$C$2:$C$151),0))} -> 0 | ... O34: {=INDEX('Labour Demand'!$V$2:$V$151,MATCH(1,($F$6='Labour Demand'!$B$2:$B$151)*(O$17='Labour Demand'!$C$2:$C$151),0))} -> 0 | Q34: 3114 Building and civil engineering technicians | R34: ='Miscellaneous List'!S54+'Miscellaneous List'!S78+'Miscellaneous List'!S102 -> 20.2 | S34: ='Miscellaneous List'!T54+'Miscellaneous List'!T78+'Miscellaneous List'!T102 -> 20.2 | T34: ='Miscellaneous List'!U54+'Miscellaneous List'!U78+'Miscellaneous List'!U102 -> 7.0711691 | U34: ='Miscellaneous List'!V54+'Miscellaneous List'!V78+'Miscellaneous List'!V102 -> 7.0499205 | V34: ='Miscellaneous List'!W54+'Miscellaneous List'!W78+'Miscellaneous List'!W102 -> 7.0285676 | W34: ='Miscellaneous List'!X54+'Miscellaneous List'!X78+'Miscellaneous List'!X102 -> 7.0138144 | X34: ='Miscellaneous List'!Y54+'Miscellaneous List'!Y78+'Miscellaneous List'!Y102 -> 6.9926223 | Y34: ='Miscellaneous List'!Z54+'Miscellaneous List'!Z78+'Miscellaneous List'!Z102 -> 6.9628567 | ... AA34: ='Miscellaneous List'!AB54+'Miscellaneous List'!AB78+'Miscellaneous List'!AB102 -> 6.9063851
E35: 3582 Health and safety managers and officers | F35: {=INDEX('Labour Demand'!$W$2:$W$151,MATCH(1,($F$6='Labour Demand'!$B$2:$B$151)*(F$17='Labour Demand'!$C$2:$C$151),0))} -> 68.794494 | G35: {=INDEX('Labour Demand'!$W$2:$W$151,MATCH(1,($F$6='Labour Demand'!$B$2:$B$151)*(G$17='Labour Demand'!$C$2:$C$151),0))} -> 69.856708 | H35: {=INDEX('Labour Demand'!$W$2:$W$151,MATCH(1,($F$6='Labour Demand'!$B$2:$B$151)*(H$17='Labour Demand'!$C$2:$C$151),0))} -> 70.911204 | I35: {=INDEX('Labour Demand'!$W$2:$W$151,MATCH(1,($F$6='Labour Demand'!$B$2:$B$151)*(I$17='Labour Demand'!$C$2:$C$151),0))} -> 71.956288 | J35: {=INDEX('Labour Demand'!$W$2:$W$151,MATCH(1,($F$6='Labour Demand'!$B$2:$B$151)*(J$17='Labour Demand'!$C$2:$C$151),0))} -> 72.903736 | K35: {=INDEX('Labour Demand'!$W$2:$W$151,MATCH(1,($F$6='Labour Demand'!$B$2:$B$151)*(K$17='Labour Demand'!$C$2:$C$151),0))} -> 73.725332 | L35: {=INDEX('Labour Demand'!$W$2:$W$151,MATCH(1,($F$6='Labour Demand'!$B$2:$B$151)*(L$17='Labour Demand'!$C$2:$C$151),0))} -> 74.607008 | M35: {=INDEX('Labour Demand'!$W$2:$W$151,MATCH(1,($F$6='Labour Demand'!$B$2:$B$151)*(M$17='Labour Demand'!$C$2:$C$151),0))} -> 75.332911 | ... O35: {=INDEX('Labour Demand'!$W$2:$W$151,MATCH(1,($F$6='Labour Demand'!$B$2:$B$151)*(O$17='Labour Demand'!$C$2:$C$151),0))} -> 76.835199 | Q35: 3582 Health and safety managers and officers | R35: ='Miscellaneous List'!S55+'Miscellaneous List'!S79+'Miscellaneous List'!S103 -> 73.935478 | S35: ='Miscellaneous List'!T55+'Miscellaneous List'!T79+'Miscellaneous List'!T103 -> 71.983535 | T35: ='Miscellaneous List'!U55+'Miscellaneous List'!U79+'Miscellaneous List'!U103 -> 70.078264 | U35: ='Miscellaneous List'!V55+'Miscellaneous List'!V79+'Miscellaneous List'!V103 -> 68.218102 | V35: ='Miscellaneous List'!W55+'Miscellaneous List'!W79+'Miscellaneous List'!W103 -> 66.400856 | W35: ='Miscellaneous List'!X55+'Miscellaneous List'!X79+'Miscellaneous List'!X103 -> 64.627691 | X35: ='Miscellaneous List'!Y55+'Miscellaneous List'!Y79+'Miscellaneous List'!Y103 -> 62.898388 | Y35: ='Miscellaneous List'!Z55+'Miscellaneous List'!Z79+'Miscellaneous List'!Z103 -> 61.211303 | ... AA35: ='Miscellaneous List'!AB55+'Miscellaneous List'!AB79+'Miscellaneous List'!AB103 -> 57.959718
E36: 4159 Other administrative occupations n.e.c. | F36: {=INDEX('Labour Demand'!$X$2:$X$151,MATCH(1,($F$6='Labour Demand'!$B$2:$B$151)*(F$17='Labour Demand'!$C$2:$C$151),0))} -> 449.17357 | G36: {=INDEX('Labour Demand'!$X$2:$X$151,MATCH(1,($F$6='Labour Demand'!$B$2:$B$151)*(G$17='Labour Demand'!$C$2:$C$151),0))} -> 456.10898 | H36: {=INDEX('Labour Demand'!$X$2:$X$151,MATCH(1,($F$6='Labour Demand'!$B$2:$B$151)*(H$17='Labour Demand'!$C$2:$C$151),0))} -> 462.994 | I36: {=INDEX('Labour Demand'!$X$2:$X$151,MATCH(1,($F$6='Labour Demand'!$B$2:$B$151)*(I$17='Labour Demand'!$C$2:$C$151),0))} -> 469.81757 | J36: {=INDEX('Labour Demand'!$X$2:$X$151,MATCH(1,($F$6='Labour Demand'!$B$2:$B$151)*(J$17='Labour Demand'!$C$2:$C$151),0))} -> 476.00366 | K36: {=INDEX('Labour Demand'!$X$2:$X$151,MATCH(1,($F$6='Labour Demand'!$B$2:$B$151)*(K$17='Labour Demand'!$C$2:$C$151),0))} -> 481.36803 | L36: {=INDEX('Labour Demand'!$X$2:$X$151,MATCH(1,($F$6='Labour Demand'!$B$2:$B$151)*(L$17='Labour Demand'!$C$2:$C$151),0))} -> 487.12468 | M36: {=INDEX('Labour Demand'!$X$2:$X$151,MATCH(1,($F$6='Labour Demand'!$B$2:$B$151)*(M$17='Labour Demand'!$C$2:$C$151),0))} -> 491.86425 | ... O36: {=INDEX('Labour Demand'!$X$2:$X$151,MATCH(1,($F$6='Labour Demand'!$B$2:$B$151)*(O$17='Labour Demand'!$C$2:$C$151),0))} -> 501.673 | Q36: 4159 Other administrative occupations n.e.c. | R36: ='Miscellaneous List'!S56+'Miscellaneous List'!S80+'Miscellaneous List'!S104 -> 482.72281 | S36: ='Miscellaneous List'!T56+'Miscellaneous List'!T80+'Miscellaneous List'!T104 -> 469.96068 | T36: ='Miscellaneous List'!U56+'Miscellaneous List'!U80+'Miscellaneous List'!U104 -> 457.50304 | U36: ='Miscellaneous List'!V56+'Miscellaneous List'!V80+'Miscellaneous List'!V104 -> 445.33968 | V36: ='Miscellaneous List'!W56+'Miscellaneous List'!W80+'Miscellaneous List'!W104 -> 433.45621 | W36: ='Miscellaneous List'!X56+'Miscellaneous List'!X80+'Miscellaneous List'!X104 -> 421.86027 | X36: ='Miscellaneous List'!Y56+'Miscellaneous List'!Y80+'Miscellaneous List'!Y104 -> 410.55044 | Y36: ='Miscellaneous List'!Z56+'Miscellaneous List'!Z80+'Miscellaneous List'!Z104 -> 399.51598 | ... AA36: ='Miscellaneous List'!AB56+'Miscellaneous List'!AB80+'Miscellaneous List'!AB104 -> 378.24655
E37: 5250 Skilled metal, electrical and electronic trades supervisors | F37: {=INDEX('Labour Demand'!$Y$2:$Y$151,MATCH(1,($F$6='Labour Demand'!$B$2:$B$151)*(F$17='Labour Demand'!$C$2:$C$151),0))} -> 238.06335 | G37: {=INDEX('Labour Demand'!$Y$2:$Y$151,MATCH(1,($F$6='Labour Demand'!$B$2:$B$151)*(G$17='Labour Demand'!$C$2:$C$151),0))} -> 241.73914 | H37: {=INDEX('Labour Demand'!$Y$2:$Y$151,MATCH(1,($F$6='Labour Demand'!$B$2:$B$151)*(H$17='Labour Demand'!$C$2:$C$151),0))} -> 245.38822 | I37: {=INDEX('Labour Demand'!$Y$2:$Y$151,MATCH(1,($F$6='Labour Demand'!$B$2:$B$151)*(I$17='Labour Demand'!$C$2:$C$151),0))} -> 249.00473 | J37: {=INDEX('Labour Demand'!$Y$2:$Y$151,MATCH(1,($F$6='Labour Demand'!$B$2:$B$151)*(J$17='Labour Demand'!$C$2:$C$151),0))} -> 252.28338 | K37: {=INDEX('Labour Demand'!$Y$2:$Y$151,MATCH(1,($F$6='Labour Demand'!$B$2:$B$151)*(K$17='Labour Demand'!$C$2:$C$151),0))} -> 255.12651 | L37: {=INDEX('Labour Demand'!$Y$2:$Y$151,MATCH(1,($F$6='Labour Demand'!$B$2:$B$151)*(L$17='Labour Demand'!$C$2:$C$151),0))} -> 258.17755 | M37: {=INDEX('Labour Demand'!$Y$2:$Y$151,MATCH(1,($F$6='Labour Demand'!$B$2:$B$151)*(M$17='Labour Demand'!$C$2:$C$151),0))} -> 260.68954 | ... O37: {=INDEX('Labour Demand'!$Y$2:$Y$151,MATCH(1,($F$6='Labour Demand'!$B$2:$B$151)*(O$17='Labour Demand'!$C$2:$C$151),0))} -> 265.88821 | Q37: 5250 Skilled metal, electrical and electronic trades supervisors | R37: ='Miscellaneous List'!S57+'Miscellaneous List'!S81+'Miscellaneous List'!S105 -> 257.13353 | S37: ='Miscellaneous List'!T57+'Miscellaneous List'!T81+'Miscellaneous List'!T105 -> 251.59515 | T37: ='Miscellaneous List'!U57+'Miscellaneous List'!U81+'Miscellaneous List'!U105 -> 246.15672 | U37: ='Miscellaneous List'!V57+'Miscellaneous List'!V81+'Miscellaneous List'!V105 -> 240.81468 | V37: ='Miscellaneous List'!W57+'Miscellaneous List'!W81+'Miscellaneous List'!W105 -> 235.56306 | W37: ='Miscellaneous List'!X57+'Miscellaneous List'!X81+'Miscellaneous List'!X105 -> 230.40793 | X37: ='Miscellaneous List'!Y57+'Miscellaneous List'!Y81+'Miscellaneous List'!Y105 -> 225.35045 | Y37: ='Miscellaneous List'!Z57+'Miscellaneous List'!Z81+'Miscellaneous List'!Z105 -> 220.38661 | ... AA37: ='Miscellaneous List'!AB57+'Miscellaneous List'!AB81+'Miscellaneous List'!AB105 -> 210.73247
E38: 5330 Construction and building trades supervisors | F38: {=INDEX('Labour Demand'!$Z$2:$Z$151,MATCH(1,($F$6='Labour Demand'!$B$2:$B$151)*(F$17='Labour Demand'!$C$2:$C$151),0))} -> 0 | G38: {=INDEX('Labour Demand'!$Z$2:$Z$151,MATCH(1,($F$6='Labour Demand'!$B$2:$B$151)*(G$17='Labour Demand'!$C$2:$C$151),0))} -> 0 | H38: {=INDEX('Labour Demand'!$Z$2:$Z$151,MATCH(1,($F$6='Labour Demand'!$B$2:$B$151)*(H$17='Labour Demand'!$C$2:$C$151),0))} -> 0 | I38: {=INDEX('Labour Demand'!$Z$2:$Z$151,MATCH(1,($F$6='Labour Demand'!$B$2:$B$151)*(I$17='Labour Demand'!$C$2:$C$151),0))} -> 0 | J38: {=INDEX('Labour Demand'!$Z$2:$Z$151,MATCH(1,($F$6='Labour Demand'!$B$2:$B$151)*(J$17='Labour Demand'!$C$2:$C$151),0))} -> 0 | K38: {=INDEX('Labour Demand'!$Z$2:$Z$151,MATCH(1,($F$6='Labour Demand'!$B$2:$B$151)*(K$17='Labour Demand'!$C$2:$C$151),0))} -> 0 | L38: {=INDEX('Labour Demand'!$Z$2:$Z$151,MATCH(1,($F$6='Labour Demand'!$B$2:$B$151)*(L$17='Labour Demand'!$C$2:$C$151),0))} -> 0 | M38: {=INDEX('Labour Demand'!$Z$2:$Z$151,MATCH(1,($F$6='Labour Demand'!$B$2:$B$151)*(M$17='Labour Demand'!$C$2:$C$151),0))} -> 0 | ... O38: {=INDEX('Labour Demand'!$Z$2:$Z$151,MATCH(1,($F$6='Labour Demand'!$B$2:$B$151)*(O$17='Labour Demand'!$C$2:$C$151),0))} -> 0 | Q38: 5330 Construction and building trades supervisors | R38: ='Miscellaneous List'!S58+'Miscellaneous List'!S82+'Miscellaneous List'!S106 -> 0 | S38: ='Miscellaneous List'!T58+'Miscellaneous List'!T82+'Miscellaneous List'!T106 -> 0 | T38: ='Miscellaneous List'!U58+'Miscellaneous List'!U82+'Miscellaneous List'!U106 -> 0 | U38: ='Miscellaneous List'!V58+'Miscellaneous List'!V82+'Miscellaneous List'!V106 -> 0 | V38: ='Miscellaneous List'!W58+'Miscellaneous List'!W82+'Miscellaneous List'!W106 -> 0 | W38: ='Miscellaneous List'!X58+'Miscellaneous List'!X82+'Miscellaneous List'!X106 -> 0 | X38: ='Miscellaneous List'!Y58+'Miscellaneous List'!Y82+'Miscellaneous List'!Y106 -> 0 | Y38: ='Miscellaneous List'!Z58+'Miscellaneous List'!Z82+'Miscellaneous List'!Z106 -> 0 | ... AA38: ='Miscellaneous List'!AB58+'Miscellaneous List'!AB82+'Miscellaneous List'!AB106 -> 0
E39: Total | F39: =SUM(F18:F38) -> 24466.951 | G39: =SUM(G18:G38) -> 24164.348 | H39: =SUM(H18:H38) -> 25710.594 | I39: =SUM(I18:I38) -> 27131.861 | J39: =SUM(J18:J38) -> 28124.916 | K39: =SUM(K18:K38) -> 28361.492 | L39: =SUM(L18:L38) -> 27663.992 | M39: =SUM(M18:M38) -> 26121.71 | ... O39: =SUM(O18:O38) -> 21472.915 | Q39: Total | R39: =SUM(R18:R38) -> 23933.592 | S39: =SUM(S18:S38) -> 23175.744 | T39: =SUM(T18:T38) -> 22526.924 | U39: =SUM(U18:U38) -> 21986.796 | V39: =SUM(V18:V38) -> 21457.613 | W39: =SUM(W18:W38) -> 20940.175 | X39: =SUM(X18:X38) -> 20433.833 | Y39: =SUM(Y18:Y38) -> 19938.034 | ... AA39: =SUM(AA18:AA38) -> 18978.563
E41: 1. Region and occupation cross-breaks not estimated due to volatility amidst suppression; as such, if regional splits are selected, only refer to the role level splits | Q41: 1. Occupation split does not account for Redployment Potential
Q42: 2. Region and occupation cross-breaks not estimated due to volatility amidst suppression; as such, if regional splits are selected, only refer to the role level splits
E44: Workforce Gap
E47: ="Workforce Gap - Role Level Split in " & F2 -> Workforce Gap - Role Level Split in Wales | F47: 2025/26 | G47: 2026/27 | H47: 2027/28 | I47: 2028/29 | J47: 2029/30 | K47: 2030/31 | L47: 2031/32 | M47: 2032/33 | N47: 2033/34 | O47: 2034/35
