Workbook
Name Amytest: #REF!
Name Astartpg: #REF!
Name Client: #REF!
Name ClientName: #REF!
Name commute_parameter_2011: #REF!
Name LAD_DEC_2019_UK_NC: #REF!
Name LAD_DEC_2019_UK_NC: #REF!
Name OPDT023: #REF!
Name OPDT024: #REF!
Name OPDT025: #REF!
Name ProjectName: #REF!
Name ProjectTitle: #REF!
Name residential_parameter_2011: #REF!
Name Row_A: #REF!
Name Row_B: #REF!
Name Row_C: #REF!
Name Row_D: #REF!
Name Row_E: #REF!
Name Row_F: #REF!
Name Row_G: #REF!
Name strClientName: #REF!
Name strOPNumber: #REF!
Name strProjectLead: #REF!
Name strProjectName: #REF!
Name Table: #REF!
Name toolong: #REF!
Name workplace_parameter_2011: #REF!

Sheet MODEL INFO
B3: Title | C3: Interactive Model – Welsh Government Retrofit Workforce
B4: Date | C4: 46041
B5: Analyst | C5: Pushpin Singh (Cebr), Daniel Smith (Cebr)
B6: Purpose | C6: This Excel workbook accompanies the report (Assessing workforce requirements for home retrofitting in Wales) and is designed to allow users to explore how different assumptions affect projected labour demand, labour supply, and workforce gaps over time. The model is scenario-based and is intended for strategic planning and sensitivity testing, rather than for producing point forecasts.
B7: Related documents:
B8: Other notes:
B10: Model Summary
B11: Sheet | C11: Type | D11: Description | E11: Source
B12: Outputs | C12: Output | D12: Main results page and the recommended starting point for most users.
B13: Inputs -> | C13: Placeholder | D13: Blank sheet demarcating start of input sheets.
B14: Miscallaneous List | C14: Input | D14: To allow for dropdown functionality in Outputs sheet. This sheet is output-focused and not intended for editing.
B15: Labour Demand | C15: Input | D15: Shows how retrofit labour demand evolves over time under different delivery scenarios. This sheet is output-focused and not intended for editing.
B16: Labour Supply – Base | C16: Input | D16: Baseline labour supply projections before adjustments for redeployment or alternative assumptions. This sheet is output-focused and not intended for editing.
B17: Redeployment Potential | C17: Input | D17: Illustrates the scale of potential redeployment from adjacent occupations under different assumptions. This sheet is output-focused and not intended for editing.
B18: Apprenticeships | C18: Input | D18: Details apprenticeship-driven inflows into the workforce under alternative funding growth assumptions. This sheet is output-focused and not intended for editing.
B19: Out-Commuting | C19: Input | D19: Shows how cross-border commuting assumptions affect effective labour supply in Wales. This sheet is output-focused and not intended for editing.
B20: LS – Regional Split Share | C20: Input | D20: Provides indicative regional distributions of labour supply within Wales.. This sheet is output-focused and not intended for editing.
B48: Types of sheets:
B49: Input
B50: Calculations
B51: Output
B52: Proofing
B53: Placeholder
B55: Types of QA:
B56: Formula check
B57: Methodology sense check
B58: Data source review
B59: Assumption review
B61: RAG:
... B64: Green

Sheet Outputs
E2: Region/Country | F2: Wales | G2: <- change for regional insights
E4: Labour Demand | Q4: Labour Supply
E6: Demand Scenario | F6: Low Demand | G6: <- change to adjust for retrofit delivery scenario | Q6: Redployment Potential Scenario | R6: None | S6: <- change to adjust for redployment potential
Q7: Apprenticeships Scenario | R7: 2% Nominal Funding | S7: <- change to adjust for apprenticeship funding
Q8: Out-Commuting Scenario | R8: Historic Trend Out-Commuting | S8: <- change to adjust for out-commuting
E10: ="Labour Demand - Role Level Split in " & F2 -> Labour Demand - Role Level Split in Wales | F10: 2025/26 | G10: 2026/27 | H10: 2027/28 | I10: 2028/29 | J10: 2029/30 | K10: 2030/31 | L10: 2031/32 | M10: 2032/33 | N10: 2033/34 | O10: 2034/35 | Q10: ="Labour Supply - Role Level Split in " & F2 -> Labour Supply - Role Level Split in Wales | R10: 2025/26 | S10: 2026/27 | T10: 2027/28 | U10: 2028/29 | V10: 2029/30 | W10: 2030/31 | X10: 2031/32 | Y10: 2032/33 | Z10: 2033/34 | AA10: 2034/35
E11: Direct | F11: {=INDEX('Labour Demand'!$I$2:$I$151,MATCH(1,($F$6='Labour Demand'!$B$2:$B$151)*($F$2='Labour Demand'!$A$2:$A$151)*(F$10='Labour Demand'!$C$2:$C$151),0))} -> 12211.81 | G11: {=INDEX('Labour Demand'!$I$2:$I$151,MATCH(1,($F$6='Labour Demand'!$B$2:$B$151)*($F$2='Labour Demand'!$A$2:$A$151)*(G$10='Labour Demand'!$C$2:$C$151),0))} -> 12056.136 | H11: {=INDEX('Labour Demand'!$I$2:$I$151,MATCH(1,($F$6='Labour Demand'!$B$2:$B$151)*($F$2='Labour Demand'!$A$2:$A$151)*(H$10='Labour Demand'!$C$2:$C$151),0))} -> 13115.767 | I11: {=INDEX('Labour Demand'!$I$2:$I$151,MATCH(1,($F$6='Labour Demand'!$B$2:$B$151)*($F$2='Labour Demand'!$A$2:$A$151)*(I$10='Labour Demand'!$C$2:$C$151),0))} -> 14091.656 | J11: {=INDEX('Labour Demand'!$I$2:$I$151,MATCH(1,($F$6='Labour Demand'!$B$2:$B$151)*($F$2='Labour Demand'!$A$2:$A$151)*(J$10='Labour Demand'!$C$2:$C$151),0))} -> 14786.247 | K11: {=INDEX('Labour Demand'!$I$2:$I$151,MATCH(1,($F$6='Labour Demand'!$B$2:$B$151)*($F$2='Labour Demand'!$A$2:$A$151)*(K$10='Labour Demand'!$C$2:$C$151),0))} -> 14985.922 | L11: {=INDEX('Labour Demand'!$I$2:$I$151,MATCH(1,($F$6='Labour Demand'!$B$2:$B$151)*($F$2='Labour Demand'!$A$2:$A$151)*(L$10='Labour Demand'!$C$2:$C$151),0))} -> 14569.078 | M11: {=INDEX('Labour Demand'!$I$2:$I$151,MATCH(1,($F$6='Labour Demand'!$B$2:$B$151)*($F$2='Labour Demand'!$A$2:$A$151)*(M$10='Labour Demand'!$C$2:$C$151),0))} -> 13595.927 | ... O11: {=INDEX('Labour Demand'!$I$2:$I$151,MATCH(1,($F$6='Labour Demand'!$B$2:$B$151)*($F$2='Labour Demand'!$A$2:$A$151)*(O$10='Labour Demand'!$C$2:$C$151),0))} -> 10616.781 | Q11: Direct | R11: =SUM('Miscellaneous List'!S15:S18)*'Miscellaneous List'!S14 -> 11768.117 | S11: =SUM('Miscellaneous List'!T15:T18)*'Miscellaneous List'!T14 -> 11310.381 | T11: =SUM('Miscellaneous List'!U15:U18)*'Miscellaneous List'!U14 -> 10968.221 | U11: =SUM('Miscellaneous List'!V15:V18)*'Miscellaneous List'!V14 -> 10715.288 | V11: =SUM('Miscellaneous List'!W15:W18)*'Miscellaneous List'!W14 -> 10467.275 | W11: =SUM('Miscellaneous List'!X15:X18)*'Miscellaneous List'!X14 -> 10224.749 | X11: =SUM('Miscellaneous List'!Y15:Y18)*'Miscellaneous List'!Y14 -> 9987.0724 | Y11: =SUM('Miscellaneous List'!Z15:Z18)*'Miscellaneous List'!Z14 -> 9753.9366 | ... AA11: =SUM('Miscellaneous List'!AB15:AB18)*'Miscellaneous List'!AB14 -> 9302.3059
E12: Support | F12: {=INDEX('Labour Demand'!$P$2:$P$151,MATCH(1,($F$6='Labour Demand'!$B$2:$B$151)*($F$2='Labour Demand'!$A$2:$A$151)*(F$10='Labour Demand'!$C$2:$C$151),0))} -> 9529.0897 | G12: {=INDEX('Labour Demand'!$P$2:$P$151,MATCH(1,($F$6='Labour Demand'!$B$2:$B$151)*($F$2='Labour Demand'!$A$2:$A$151)*(G$10='Labour Demand'!$C$2:$C$151),0))} -> 9340.0683 | H12: {=INDEX('Labour Demand'!$P$2:$P$151,MATCH(1,($F$6='Labour Demand'!$B$2:$B$151)*($F$2='Labour Demand'!$A$2:$A$151)*(H$10='Labour Demand'!$C$2:$C$151),0))} -> 9784.8985 | I12: {=INDEX('Labour Demand'!$P$2:$P$151,MATCH(1,($F$6='Labour Demand'!$B$2:$B$151)*($F$2='Labour Demand'!$A$2:$A$151)*(I$10='Labour Demand'!$C$2:$C$151),0))} -> 10188.863 | J12: {=INDEX('Labour Demand'!$P$2:$P$151,MATCH(1,($F$6='Labour Demand'!$B$2:$B$151)*($F$2='Labour Demand'!$A$2:$A$151)*(J$10='Labour Demand'!$C$2:$C$151),0))} -> 10449.785 | K12: {=INDEX('Labour Demand'!$P$2:$P$151,MATCH(1,($F$6='Labour Demand'!$B$2:$B$151)*($F$2='Labour Demand'!$A$2:$A$151)*(K$10='Labour Demand'!$C$2:$C$151),0))} -> 10454.129 | L12: {=INDEX('Labour Demand'!$P$2:$P$151,MATCH(1,($F$6='Labour Demand'!$B$2:$B$151)*($F$2='Labour Demand'!$A$2:$A$151)*(L$10='Labour Demand'!$C$2:$C$151),0))} -> 10138.536 | M12: {=INDEX('Labour Demand'!$P$2:$P$151,MATCH(1,($F$6='Labour Demand'!$B$2:$B$151)*($F$2='Labour Demand'!$A$2:$A$151)*(M$10='Labour Demand'!$C$2:$C$151),0))} -> 9540.6389 | ... O12: {=INDEX('Labour Demand'!$P$2:$P$151,MATCH(1,($F$6='Labour Demand'!$B$2:$B$151)*($F$2='Labour Demand'!$A$2:$A$151)*(O$10='Labour Demand'!$C$2:$C$151),0))} -> 7811.4612 | Q12: Support | R12: =SUM('Miscellaneous List'!S23:S26)*'Miscellaneous List'!S22 -> 9214.9752 | S12: =SUM('Miscellaneous List'!T23:T26)*'Miscellaneous List'!T22 -> 8991.7054 | T12: =SUM('Miscellaneous List'!U23:U26)*'Miscellaneous List'!U22 -> 8773.1963 | U12: =SUM('Miscellaneous List'!V23:V26)*'Miscellaneous List'!V22 -> 8559.2866 | V12: =SUM('Miscellaneous List'!W23:W26)*'Miscellaneous List'!W22 -> 8349.7329 | W12: =SUM('Miscellaneous List'!X23:X26)*'Miscellaneous List'!X22 -> 8144.7164 | X12: =SUM('Miscellaneous List'!Y23:Y26)*'Miscellaneous List'!Y22 -> 7944.2444 | Y12: =SUM('Miscellaneous List'!Z23:Z26)*'Miscellaneous List'!Z22 -> 7748.1423 | ... AA12: =SUM('Miscellaneous List'!AB23:AB26)*'Miscellaneous List'!AB22 -> 7368.6621
E13: Supervisory | F13: {=INDEX('Labour Demand'!$AA$2:$AA$151,MATCH(1,($F$6='Labour Demand'!$B$2:$B$151)*($F$2='Labour Demand'!$A$2:$A$151)*(F$10='Labour Demand'!$C$2:$C$151),0))} -> 2726.0518 | G13: {=INDEX('Labour Demand'!$AA$2:$AA$151,MATCH(1,($F$6='Labour Demand'!$B$2:$B$151)*($F$2='Labour Demand'!$A$2:$A$151)*(G$10='Labour Demand'!$C$2:$C$151),0))} -> 2768.1431 | H13: {=INDEX('Labour Demand'!$AA$2:$AA$151,MATCH(1,($F$6='Labour Demand'!$B$2:$B$151)*($F$2='Labour Demand'!$A$2:$A$151)*(H$10='Labour Demand'!$C$2:$C$151),0))} -> 2809.9285 | I13: {=INDEX('Labour Demand'!$AA$2:$AA$151,MATCH(1,($F$6='Labour Demand'!$B$2:$B$151)*($F$2='Labour Demand'!$A$2:$A$151)*(I$10='Labour Demand'!$C$2:$C$151),0))} -> 2851.3411 | J13: {=INDEX('Labour Demand'!$AA$2:$AA$151,MATCH(1,($F$6='Labour Demand'!$B$2:$B$151)*($F$2='Labour Demand'!$A$2:$A$151)*(J$10='Labour Demand'!$C$2:$C$151),0))} -> 2888.8847 | K13: {=INDEX('Labour Demand'!$AA$2:$AA$151,MATCH(1,($F$6='Labour Demand'!$B$2:$B$151)*($F$2='Labour Demand'!$A$2:$A$151)*(K$10='Labour Demand'!$C$2:$C$151),0))} -> 2921.4412 | L13: {=INDEX('Labour Demand'!$AA$2:$AA$151,MATCH(1,($F$6='Labour Demand'!$B$2:$B$151)*($F$2='Labour Demand'!$A$2:$A$151)*(L$10='Labour Demand'!$C$2:$C$151),0))} -> 2956.3785 | M13: {=INDEX('Labour Demand'!$AA$2:$AA$151,MATCH(1,($F$6='Labour Demand'!$B$2:$B$151)*($F$2='Labour Demand'!$A$2:$A$151)*(M$10='Labour Demand'!$C$2:$C$151),0))} -> 2985.1432 | ... O13: {=INDEX('Labour Demand'!$AA$2:$AA$151,MATCH(1,($F$6='Labour Demand'!$B$2:$B$151)*($F$2='Labour Demand'!$A$2:$A$151)*(O$10='Labour Demand'!$C$2:$C$151),0))} -> 3044.6729 | Q13: Supervisory | R13: =SUM('Miscellaneous List'!S31:S34)*'Miscellaneous List'!S30 -> 2950.5 | S13: =SUM('Miscellaneous List'!T31:T34)*'Miscellaneous List'!T30 -> 2873.6568 | T13: =SUM('Miscellaneous List'!U31:U34)*'Miscellaneous List'!U30 -> 2785.5061 | U13: =SUM('Miscellaneous List'!V31:V34)*'Miscellaneous List'!V30 -> 2712.2209 | V13: =SUM('Miscellaneous List'!W31:W34)*'Miscellaneous List'!W30 -> 2640.6046 | W13: =SUM('Miscellaneous List'!X31:X34)*'Miscellaneous List'!X30 -> 2570.7103 | X13: =SUM('Miscellaneous List'!Y31:Y34)*'Miscellaneous List'!Y30 -> 2502.5165 | Y13: =SUM('Miscellaneous List'!Z31:Z34)*'Miscellaneous List'!Z30 -> 2435.9551 | ... AA13: =SUM('Miscellaneous List'!AB31:AB34)*'Miscellaneous List'!AB30 -> 2307.5951
E14: Total | F14: =SUM(F11:F13) -> 24466.951 | G14: =SUM(G11:G13) -> 24164.348 | H14: =SUM(H11:H13) -> 25710.594 | I14: =SUM(I11:I13) -> 27131.861 | J14: =SUM(J11:J13) -> 28124.916 | K14: =SUM(K11:K13) -> 28361.492 | L14: =SUM(L11:L13) -> 27663.992 | M14: =SUM(M11:M13) -> 26121.71 | ... O14: =SUM(O11:O13) -> 21472.915 | Q14: Total | R14: =SUM(R11:R13) -> 23933.592 | S14: =SUM(S11:S13) -> 23175.744 | T14: =SUM(T11:T13) -> 22526.924 | U14: =SUM(U11:U13) -> 21986.796 | V14: =SUM(V11:V13) -> 21457.613 | W14: =SUM(W11:W13) -> 20940.175 | X14: =SUM(X11:X13) -> 20433.833 | Y14: =SUM(Y11:Y13) -> 19938.034 | ... AA14: =SUM(AA11:AA13) -> 18978.563
E17: Labour Demand - Occupation Level Split in Wales1 | F17: 2025/26 | G17: 2026/27 | H17: 2027/28 | I17: 2028/29 | J17: 2029/30 | K17: 2030/31 | L17: 2031/32 | M17: 2032/33 | N17: 2033/34 | O17: 2034/35 | Q17: Labour Supply - Occupation Level Split in Wales1,2 | R17: 2025/26 | S17: 2026/27 | T17: 2027/28 | U17: 2028/29 | V17: 2029/30 | W17: 2030/31 | X17: 2031/32 | Y17: 2032/33 | Z17: 2033/34 | AA17: 2034/35
E18: 5241 Electricians and electrical fitters | F18: {=INDEX('Labour Demand'!$D$2:$D$151,MATCH(1,($F$6='Labour Demand'!$B$2:$B$151)*(F$17='Labour Demand'!$C$2:$C$151),0))} -> 3521.8854 | G18: {=INDEX('Labour Demand'!$D$2:$D$151,MATCH(1,($F$6='Labour Demand'!$B$2:$B$151)*(G$17='Labour Demand'!$C$2:$C$151),0))} -> 3447.2518 | H18: {=INDEX('Labour Demand'!$D$2:$D$151,MATCH(1,($F$6='Labour Demand'!$B$2:$B$151)*(H$17='Labour Demand'!$C$2:$C$151),0))} -> 3582.3493 | I18: {=INDEX('Labour Demand'!$D$2:$D$151,MATCH(1,($F$6='Labour Demand'!$B$2:$B$151)*(I$17='Labour Demand'!$C$2:$C$151),0))} -> 3704.2251 | J18: {=INDEX('Labour Demand'!$D$2:$D$151,MATCH(1,($F$6='Labour Demand'!$B$2:$B$151)*(J$17='Labour Demand'!$C$2:$C$151),0))} -> 3779.1669 | K18: {=INDEX('Labour Demand'!$D$2:$D$151,MATCH(1,($F$6='Labour Demand'!$B$2:$B$151)*(K$17='Labour Demand'!$C$2:$C$151),0))} -> 3769.3534 | L18: {=INDEX('Labour Demand'!$D$2:$D$151,MATCH(1,($F$6='Labour Demand'!$B$2:$B$151)*(L$17='Labour Demand'!$C$2:$C$151),0))} -> 3653.8238 | M18: {=INDEX('Labour Demand'!$D$2:$D$151,MATCH(1,($F$6='Labour Demand'!$B$2:$B$151)*(M$17='Labour Demand'!$C$2:$C$151),0))} -> 3445.7653 | ... O18: {=INDEX('Labour Demand'!$D$2:$D$151,MATCH(1,($F$6='Labour Demand'!$B$2:$B$151)*(O$17='Labour Demand'!$C$2:$C$151),0))} -> 2853.6742 | Q18: 5241 Electricians and electrical fitters | R18: ='Miscellaneous List'!S38+'Miscellaneous List'!S62+'Miscellaneous List'!S86 -> 3864.329 | S18: ='Miscellaneous List'!T38+'Miscellaneous List'!T62+'Miscellaneous List'!T86 -> 3675.4031 | T18: ='Miscellaneous List'!U38+'Miscellaneous List'!U62+'Miscellaneous List'!U86 -> 3557.5857 | U18: ='Miscellaneous List'!V38+'Miscellaneous List'!V62+'Miscellaneous List'!V86 -> 3485.0202 | V18: ='Miscellaneous List'!W38+'Miscellaneous List'!W62+'Miscellaneous List'!W86 -> 3413.6668 | W18: ='Miscellaneous List'!X38+'Miscellaneous List'!X62+'Miscellaneous List'!X86 -> 3343.8421 | X18: ='Miscellaneous List'!Y38+'Miscellaneous List'!Y62+'Miscellaneous List'!Y86 -> 3275.1044 | Y18: ='Miscellaneous List'!Z38+'Miscellaneous List'!Z62+'Miscellaneous List'!Z86 -> 3207.3246 | ... AA18: ='Miscellaneous List'!AB38+'Miscellaneous List'!AB62+'Miscellaneous List'!AB86 -> 3075.55
E19: 5314 Roofers, roof tilers and slaters | F19: {=INDEX('Labour Demand'!$E$2:$E$151,MATCH(1,($F$6='Labour Demand'!$B$2:$B$151)*(F$17='Labour Demand'!$C$2:$C$151),0))} -> 228.27351 | G19: {=INDEX('Labour Demand'!$E$2:$E$151,MATCH(1,($F$6='Labour Demand'!$B$2:$B$151)*(G$17='Labour Demand'!$C$2:$C$151),0))} -> 223.07377 | H19: {=INDEX('Labour Demand'!$E$2:$E$151,MATCH(1,($F$6='Labour Demand'!$B$2:$B$151)*(H$17='Labour Demand'!$C$2:$C$151),0))} -> 218.13614 | I19: {=INDEX('Labour Demand'!$E$2:$E$151,MATCH(1,($F$6='Labour Demand'!$B$2:$B$151)*(I$17='Labour Demand'!$C$2:$C$151),0))} -> 213.23797 | J19: {=INDEX('Labour Demand'!$E$2:$E$151,MATCH(1,($F$6='Labour Demand'!$B$2:$B$151)*(J$17='Labour Demand'!$C$2:$C$151),0))} -> 208.37914 | K19: {=INDEX('Labour Demand'!$E$2:$E$151,MATCH(1,($F$6='Labour Demand'!$B$2:$B$151)*(K$17='Labour Demand'!$C$2:$C$151),0))} -> 203.32743 | L19: {=INDEX('Labour Demand'!$E$2:$E$151,MATCH(1,($F$6='Labour Demand'!$B$2:$B$151)*(L$17='Labour Demand'!$C$2:$C$151),0))} -> 198.04032 | M19: {=INDEX('Labour Demand'!$E$2:$E$151,MATCH(1,($F$6='Labour Demand'!$B$2:$B$151)*(M$17='Labour Demand'!$C$2:$C$151),0))} -> 193.01734 | ... O19: {=INDEX('Labour Demand'!$E$2:$E$151,MATCH(1,($F$6='Labour Demand'!$B$2:$B$151)*(O$17='Labour Demand'!$C$2:$C$151),0))} -> 182.59208 | Q19: 5314 Roofers, roof tilers and slaters | R19: ='Miscellaneous List'!S39+'Miscellaneous List'!S63+'Miscellaneous List'!S87 -> 245.8135 | S19: ='Miscellaneous List'!T39+'Miscellaneous List'!T63+'Miscellaneous List'!T87 -> 239.79184 | T19: ='Miscellaneous List'!U39+'Miscellaneous List'!U63+'Miscellaneous List'!U87 -> 233.89995 | U19: ='Miscellaneous List'!V39+'Miscellaneous List'!V63+'Miscellaneous List'!V87 -> 228.13343 | V19: ='Miscellaneous List'!W39+'Miscellaneous List'!W63+'Miscellaneous List'!W87 -> 222.48572 | W19: ='Miscellaneous List'!X39+'Miscellaneous List'!X63+'Miscellaneous List'!X87 -> 216.96155 | X19: ='Miscellaneous List'!Y39+'Miscellaneous List'!Y63+'Miscellaneous List'!Y87 -> 211.56106 | Y19: ='Miscellaneous List'!Z39+'Miscellaneous List'!Z63+'Miscellaneous List'!Z87 -> 206.27949 | ... AA19: ='Miscellaneous List'!AB39+'Miscellaneous List'!AB63+'Miscellaneous List'!AB87 -> 196.06257
E20: 5315 Plumbers & heating and ventilating installers and repairers | F20: {=INDEX('Labour Demand'!$F$2:$F$151,MATCH(1,($F$6='Labour Demand'!$B$2:$B$151)*(F$17='Labour Demand'!$C$2:$C$151),0))} -> 7439.8386 | G20: {=INDEX('Labour Demand'!$F$2:$F$151,MATCH(1,($F$6='Labour Demand'!$B$2:$B$151)*(G$17='Labour Demand'!$C$2:$C$151),0))} -> 7385.1426 | H20: {=INDEX('Labour Demand'!$F$2:$F$151,MATCH(1,($F$6='Labour Demand'!$B$2:$B$151)*(H$17='Labour Demand'!$C$2:$C$151),0))} -> 8302.8329 | I20: {=INDEX('Labour Demand'!$F$2:$F$151,MATCH(1,($F$6='Labour Demand'!$B$2:$B$151)*(I$17='Labour Demand'!$C$2:$C$151),0))} -> 9151.9939 | J20: {=INDEX('Labour Demand'!$F$2:$F$151,MATCH(1,($F$6='Labour Demand'!$B$2:$B$151)*(J$17='Labour Demand'!$C$2:$C$151),0))} -> 9773.9945 | K20: {=INDEX('Labour Demand'!$F$2:$F$151,MATCH(1,($F$6='Labour Demand'!$B$2:$B$151)*(K$17='Labour Demand'!$C$2:$C$151),0))} -> 9999.6142 | L20: {=INDEX('Labour Demand'!$F$2:$F$151,MATCH(1,($F$6='Labour Demand'!$B$2:$B$151)*(L$17='Labour Demand'!$C$2:$C$151),0))} -> 9731.5872 | M20: {=INDEX('Labour Demand'!$F$2:$F$151,MATCH(1,($F$6='Labour Demand'!$B$2:$B$151)*(M$17='Labour Demand'!$C$2:$C$151),0))} -> 9013.3374 | ... O20: {=INDEX('Labour Demand'!$F$2:$F$151,MATCH(1,($F$6='Labour Demand'!$B$2:$B$151)*(O$17='Labour Demand'!$C$2:$C$151),0))} -> 6748.5731 | Q20: 5315 Plumbers & heating and ventilating installers and repairers | R20: ='Miscellaneous List'!S40+'Miscellaneous List'!S64+'Miscellaneous List'!S88 -> 6611.1736 | S20: ='Miscellaneous List'!T40+'Miscellaneous List'!T64+'Miscellaneous List'!T88 -> 6374.0287 | T20: ='Miscellaneous List'!U40+'Miscellaneous List'!U64+'Miscellaneous List'!U88 -> 6178.2802 | U20: ='Miscellaneous List'!V40+'Miscellaneous List'!V64+'Miscellaneous List'!V88 -> 6028.2433 | V20: ='Miscellaneous List'!W40+'Miscellaneous List'!W64+'Miscellaneous List'!W88 -> 5881.2893 | W20: ='Miscellaneous List'!X40+'Miscellaneous List'!X64+'Miscellaneous List'!X88 -> 5737.6415 | X20: ='Miscellaneous List'!Y40+'Miscellaneous List'!Y64+'Miscellaneous List'!Y88 -> 5597.1086 | Y20: ='Miscellaneous List'!Z40+'Miscellaneous List'!Z64+'Miscellaneous List'!Z88 -> 5459.5359 | ... AA20: ='Miscellaneous List'!AB40+'Miscellaneous List'!AB64+'Miscellaneous List'!AB88 -> 5193.4247
E21: 5317 Glaziers, window fabricators and fitters | F21: {=INDEX('Labour Demand'!$G$2:$G$151,MATCH(1,($F$6='Labour Demand'!$B$2:$B$151)*(F$17='Labour Demand'!$C$2:$C$151),0))} -> 607.91201 | G21: {=INDEX('Labour Demand'!$G$2:$G$151,MATCH(1,($F$6='Labour Demand'!$B$2:$B$151)*(G$17='Labour Demand'!$C$2:$C$151),0))} -> 594.06464 | H21: {=INDEX('Labour Demand'!$G$2:$G$151,MATCH(1,($F$6='Labour Demand'!$B$2:$B$151)*(H$17='Labour Demand'!$C$2:$C$151),0))} -> 580.91533 | I21: {=INDEX('Labour Demand'!$G$2:$G$151,MATCH(1,($F$6='Labour Demand'!$B$2:$B$151)*(I$17='Labour Demand'!$C$2:$C$151),0))} -> 567.87107 | J21: {=INDEX('Labour Demand'!$G$2:$G$151,MATCH(1,($F$6='Labour Demand'!$B$2:$B$151)*(J$17='Labour Demand'!$C$2:$C$151),0))} -> 554.93159 | K21: {=INDEX('Labour Demand'!$G$2:$G$151,MATCH(1,($F$6='Labour Demand'!$B$2:$B$151)*(K$17='Labour Demand'!$C$2:$C$151),0))} -> 541.47844 | L21: {=INDEX('Labour Demand'!$G$2:$G$151,MATCH(1,($F$6='Labour Demand'!$B$2:$B$151)*(L$17='Labour Demand'!$C$2:$C$151),0))} -> 527.39842 | M21: {=INDEX('Labour Demand'!$G$2:$G$151,MATCH(1,($F$6='Labour Demand'!$B$2:$B$151)*(M$17='Labour Demand'!$C$2:$C$151),0))} -> 514.02178 | ... O21: {=INDEX('Labour Demand'!$G$2:$G$151,MATCH(1,($F$6='Labour Demand'!$B$2:$B$151)*(O$17='Labour Demand'!$C$2:$C$151),0))} -> 486.25844 | Q21: 5317 Glaziers, window fabricators and fitters | R21: ='Miscellaneous List'!S41+'Miscellaneous List'!S65+'Miscellaneous List'!S89 -> 654.62249 | S21: ='Miscellaneous List'!T41+'Miscellaneous List'!T65+'Miscellaneous List'!T89 -> 638.5863 | T21: ='Miscellaneous List'!U41+'Miscellaneous List'!U65+'Miscellaneous List'!U89 -> 622.89568 | U21: ='Miscellaneous List'!V41+'Miscellaneous List'!V65+'Miscellaneous List'!V89 -> 607.53896 | V21: ='Miscellaneous List'!W41+'Miscellaneous List'!W65+'Miscellaneous List'!W89 -> 592.49861 | W21: ='Miscellaneous List'!X41+'Miscellaneous List'!X65+'Miscellaneous List'!X89 -> 577.78729 | X21: ='Miscellaneous List'!Y41+'Miscellaneous List'!Y65+'Miscellaneous List'!Y89 -> 563.40531 | Y21: ='Miscellaneous List'!Z41+'Miscellaneous List'!Z65+'Miscellaneous List'!Z89 -> 549.34005 | ... AA21: ='Miscellaneous List'!AB41+'Miscellaneous List'!AB65+'Miscellaneous List'!AB89 -> 522.13149
E22: 5319 Construction and building trades n.e.c. | F22: {=INDEX('Labour Demand'!$H$2:$H$151,MATCH(1,($F$6='Labour Demand'!$B$2:$B$151)*(F$17='Labour Demand'!$C$2:$C$151),0))} -> 413.90017 | G22: {=INDEX('Labour Demand'!$H$2:$H$151,MATCH(1,($F$6='Labour Demand'!$B$2:$B$151)*(G$17='Labour Demand'!$C$2:$C$151),0))} -> 406.60327 | H22: {=INDEX('Labour Demand'!$H$2:$H$151,MATCH(1,($F$6='Labour Demand'!$B$2:$B$151)*(H$17='Labour Demand'!$C$2:$C$151),0))} -> 431.53339 | I22: {=INDEX('Labour Demand'!$H$2:$H$151,MATCH(1,($F$6='Labour Demand'!$B$2:$B$151)*(I$17='Labour Demand'!$C$2:$C$151),0))} -> 454.32837 | J22: {=INDEX('Labour Demand'!$H$2:$H$151,MATCH(1,($F$6='Labour Demand'!$B$2:$B$151)*(J$17='Labour Demand'!$C$2:$C$151),0))} -> 469.77468 | K22: {=INDEX('Labour Demand'!$H$2:$H$151,MATCH(1,($F$6='Labour Demand'!$B$2:$B$151)*(K$17='Labour Demand'!$C$2:$C$151),0))} -> 472.14856 | L22: {=INDEX('Labour Demand'!$H$2:$H$151,MATCH(1,($F$6='Labour Demand'!$B$2:$B$151)*(L$17='Labour Demand'!$C$2:$C$151),0))} -> 458.22797 | M22: {=INDEX('Labour Demand'!$H$2:$H$151,MATCH(1,($F$6='Labour Demand'!$B$2:$B$151)*(M$17='Labour Demand'!$C$2:$C$151),0))} -> 429.78561 | ... O22: {=INDEX('Labour Demand'!$H$2:$H$151,MATCH(1,($F$6='Labour Demand'!$B$2:$B$151)*(O$17='Labour Demand'!$C$2:$C$151),0))} -> 345.68355 | Q22: 5319 Construction and building trades n.e.c. | R22: ='Miscellaneous List'!S42+'Miscellaneous List'!S66+'Miscellaneous List'!S90 -> 392.17863 | S22: ='Miscellaneous List'!T42+'Miscellaneous List'!T66+'Miscellaneous List'!T90 -> 382.57148 | T22: ='Miscellaneous List'!U42+'Miscellaneous List'!U66+'Miscellaneous List'!U90 -> 375.55973 | U22: ='Miscellaneous List'!V42+'Miscellaneous List'!V66+'Miscellaneous List'!V90 -> 366.35247 | V22: ='Miscellaneous List'!W42+'Miscellaneous List'!W66+'Miscellaneous List'!W90 -> 357.33472 | W22: ='Miscellaneous List'!X42+'Miscellaneous List'!X66+'Miscellaneous List'!X90 -> 348.51631 | X22: ='Miscellaneous List'!Y42+'Miscellaneous List'!Y66+'Miscellaneous List'!Y90 -> 339.89303 | Y22: ='Miscellaneous List'!Z42+'Miscellaneous List'!Z66+'Miscellaneous List'!Z90 -> 331.4566 | ... AA22: ='Miscellaneous List'!AB42+'Miscellaneous List'!AB66+'Miscellaneous List'!AB90 -> 315.13712
E23: 5313 Bricklayers | F23: {=INDEX('Labour Demand'!$J$2:$J$151,MATCH(1,($F$6='Labour Demand'!$B$2:$B$151)*(F$17='Labour Demand'!$C$2:$C$151),0))} -> 355.21454 | G23: {=INDEX('Labour Demand'!$J$2:$J$151,MATCH(1,($F$6='Labour Demand'!$B$2:$B$151)*(G$17='Labour Demand'!$C$2:$C$151),0))} -> 352.6391 | H23: {=INDEX('Labour Demand'!$J$2:$J$151,MATCH(1,($F$6='Labour Demand'!$B$2:$B$151)*(H$17='Labour Demand'!$C$2:$C$151),0))} -> 396.67535 | I23: {=INDEX('Labour Demand'!$J$2:$J$151,MATCH(1,($F$6='Labour Demand'!$B$2:$B$151)*(I$17='Labour Demand'!$C$2:$C$151),0))} -> 437.42548 | J23: {=INDEX('Labour Demand'!$J$2:$J$151,MATCH(1,($F$6='Labour Demand'!$B$2:$B$151)*(J$17='Labour Demand'!$C$2:$C$151),0))} -> 467.28506 | K23: {=INDEX('Labour Demand'!$J$2:$J$151,MATCH(1,($F$6='Labour Demand'!$B$2:$B$151)*(K$17='Labour Demand'!$C$2:$C$151),0))} -> 478.14344 | L23: {=INDEX('Labour Demand'!$J$2:$J$151,MATCH(1,($F$6='Labour Demand'!$B$2:$B$151)*(L$17='Labour Demand'!$C$2:$C$151),0))} -> 465.33812 | M23: {=INDEX('Labour Demand'!$J$2:$J$151,MATCH(1,($F$6='Labour Demand'!$B$2:$B$151)*(M$17='Labour Demand'!$C$2:$C$151),0))} -> 430.94783 | ... O23: {=INDEX('Labour Demand'!$J$2:$J$151,MATCH(1,($F$6='Labour Demand'!$B$2:$B$151)*(O$17='Labour Demand'!$C$2:$C$151),0))} -> 322.4621 | Q23: 5313 Bricklayers | R23: ='Miscellaneous List'!S43+'Miscellaneous List'!S67+'Miscellaneous List'!S91 -> 304.40531 | S23: ='Miscellaneous List'!T43+'Miscellaneous List'!T67+'Miscellaneous List'!T91 -> 296.94834 | T23: ='Miscellaneous List'!U43+'Miscellaneous List'!U67+'Miscellaneous List'!U91 -> 289.65206 | U23: ='Miscellaneous List'!V43+'Miscellaneous List'!V67+'Miscellaneous List'!V91 -> 282.51105 | V23: ='Miscellaneous List'!W43+'Miscellaneous List'!W67+'Miscellaneous List'!W91 -> 275.51716 | W23: ='Miscellaneous List'!X43+'Miscellaneous List'!X67+'Miscellaneous List'!X91 -> 268.67626 | X23: ='Miscellaneous List'!Y43+'Miscellaneous List'!Y67+'Miscellaneous List'!Y91 -> 261.98851 | Y23: ='Miscellaneous List'!Z43+'Miscellaneous List'!Z67+'Miscellaneous List'!Z91 -> 255.44804 | ... AA23: ='Miscellaneous List'!AB43+'Miscellaneous List'!AB67+'Miscellaneous List'!AB91 -> 242.79581
E24: 5316 Carpenters and joiners | F24: {=INDEX('Labour Demand'!$K$2:$K$151,MATCH(1,($F$6='Labour Demand'!$B$2:$B$151)*(F$17='Labour Demand'!$C$2:$C$151),0))} -> 3377.473 | G24: {=INDEX('Labour Demand'!$K$2:$K$151,MATCH(1,($F$6='Labour Demand'!$B$2:$B$151)*(G$17='Labour Demand'!$C$2:$C$151),0))} -> 3267.8698 | H24: {=INDEX('Labour Demand'!$K$2:$K$151,MATCH(1,($F$6='Labour Demand'!$B$2:$B$151)*(H$17='Labour Demand'!$C$2:$C$151),0))} -> 3163.8867 | I24: {=INDEX('Labour Demand'!$K$2:$K$151,MATCH(1,($F$6='Labour Demand'!$B$2:$B$151)*(I$17='Labour Demand'!$C$2:$C$151),0))} -> 3062.2192 | J24: {=INDEX('Labour Demand'!$K$2:$K$151,MATCH(1,($F$6='Labour Demand'!$B$2:$B$151)*(J$17='Labour Demand'!$C$2:$C$151),0))} -> 2962.8242 | K24: {=INDEX('Labour Demand'!$K$2:$K$151,MATCH(1,($F$6='Labour Demand'!$B$2:$B$151)*(K$17='Labour Demand'!$C$2:$C$151),0))} -> 2862.4237 | L24: {=INDEX('Labour Demand'!$K$2:$K$151,MATCH(1,($F$6='Labour Demand'!$B$2:$B$151)*(L$17='Labour Demand'!$C$2:$C$151),0))} -> 2760.4866 | M24: {=INDEX('Labour Demand'!$K$2:$K$151,MATCH(1,($F$6='Labour Demand'!$B$2:$B$151)*(M$17='Labour Demand'!$C$2:$C$151),0))} -> 2663.9102 | ... O24: {=INDEX('Labour Demand'!$K$2:$K$151,MATCH(1,($F$6='Labour Demand'!$B$2:$B$151)*(O$17='Labour Demand'!$C$2:$C$151),0))} -> 2470.6171 | Q24: 5316 Carpenters and joiners | R24: ='Miscellaneous List'!S44+'Miscellaneous List'!S68+'Miscellaneous List'!S92 -> 3636.9899 | S24: ='Miscellaneous List'!T44+'Miscellaneous List'!T68+'Miscellaneous List'!T92 -> 3547.895 | T24: ='Miscellaneous List'!U44+'Miscellaneous List'!U68+'Miscellaneous List'!U92 -> 3460.7202 | U24: ='Miscellaneous List'!V44+'Miscellaneous List'!V68+'Miscellaneous List'!V92 -> 3375.4005 | V24: ='Miscellaneous List'!W44+'Miscellaneous List'!W68+'Miscellaneous List'!W92 -> 3291.8384 | W24: ='Miscellaneous List'!X44+'Miscellaneous List'!X68+'Miscellaneous List'!X92 -> 3210.1044 | X24: ='Miscellaneous List'!Y44+'Miscellaneous List'!Y68+'Miscellaneous List'!Y92 -> 3130.2001 | Y24: ='Miscellaneous List'!Z44+'Miscellaneous List'!Z68+'Miscellaneous List'!Z92 -> 3052.0555 | ... AA24: ='Miscellaneous List'!AB44+'Miscellaneous List'!AB68+'Miscellaneous List'!AB92 -> 2900.8886
E25: 5321 Plasterers | F25: {=INDEX('Labour Demand'!$L$2:$L$151,MATCH(1,($F$6='Labour Demand'!$B$2:$B$151)*(F$17='Labour Demand'!$C$2:$C$151),0))} -> 1336.248 | G25: {=INDEX('Labour Demand'!$L$2:$L$151,MATCH(1,($F$6='Labour Demand'!$B$2:$B$151)*(G$17='Labour Demand'!$C$2:$C$151),0))} -> 1292.8851 | H25: {=INDEX('Labour Demand'!$L$2:$L$151,MATCH(1,($F$6='Labour Demand'!$B$2:$B$151)*(H$17='Labour Demand'!$C$2:$C$151),0))} -> 1251.7457 | I25: {=INDEX('Labour Demand'!$L$2:$L$151,MATCH(1,($F$6='Labour Demand'!$B$2:$B$151)*(I$17='Labour Demand'!$C$2:$C$151),0))} -> 1211.5224 | J25: {=INDEX('Labour Demand'!$L$2:$L$151,MATCH(1,($F$6='Labour Demand'!$B$2:$B$151)*(J$17='Labour Demand'!$C$2:$C$151),0))} -> 1172.1982 | K25: {=INDEX('Labour Demand'!$L$2:$L$151,MATCH(1,($F$6='Labour Demand'!$B$2:$B$151)*(K$17='Labour Demand'!$C$2:$C$151),0))} -> 1132.4762 | L25: {=INDEX('Labour Demand'!$L$2:$L$151,MATCH(1,($F$6='Labour Demand'!$B$2:$B$151)*(L$17='Labour Demand'!$C$2:$C$151),0))} -> 1092.1463 | M25: {=INDEX('Labour Demand'!$L$2:$L$151,MATCH(1,($F$6='Labour Demand'!$B$2:$B$151)*(M$17='Labour Demand'!$C$2:$C$151),0))} -> 1053.9372 | ... O25: {=INDEX('Labour Demand'!$L$2:$L$151,MATCH(1,($F$6='Labour Demand'!$B$2:$B$151)*(O$17='Labour Demand'!$C$2:$C$151),0))} -> 977.46367 | Q25: 5321 Plasterers | R25: ='Miscellaneous List'!S45+'Miscellaneous List'!S69+'Miscellaneous List'!S93 -> 1438.9221 | S25: ='Miscellaneous List'!T45+'Miscellaneous List'!T69+'Miscellaneous List'!T93 -> 1403.673 | T25: ='Miscellaneous List'!U45+'Miscellaneous List'!U69+'Miscellaneous List'!U93 -> 1369.1835 | U25: ='Miscellaneous List'!V45+'Miscellaneous List'!V69+'Miscellaneous List'!V93 -> 1335.428 | V25: ='Miscellaneous List'!W45+'Miscellaneous List'!W69+'Miscellaneous List'!W93 -> 1302.3679 | W25: ='Miscellaneous List'!X45+'Miscellaneous List'!X69+'Miscellaneous List'!X93 -> 1270.031 | X25: ='Miscellaneous List'!Y45+'Miscellaneous List'!Y69+'Miscellaneous List'!Y93 -> 1238.4181 | Y25: ='Miscellaneous List'!Z45+'Miscellaneous List'!Z69+'Miscellaneous List'!Z93 -> 1207.5013 | ... AA25: ='Miscellaneous List'!AB45+'Miscellaneous List'!AB69+'Miscellaneous List'!AB93 -> 1147.6943
E26: 5322 Floorers and wall tilers | F26: {=INDEX('Labour Demand'!$M$2:$M$151,MATCH(1,($F$6='Labour Demand'!$B$2:$B$151)*(F$17='Labour Demand'!$C$2:$C$151),0))} -> 2738.803 | G26: {=INDEX('Labour Demand'!$M$2:$M$151,MATCH(1,($F$6='Labour Demand'!$B$2:$B$151)*(G$17='Labour Demand'!$C$2:$C$151),0))} -> 2739.8739 | H26: {=INDEX('Labour Demand'!$M$2:$M$151,MATCH(1,($F$6='Labour Demand'!$B$2:$B$151)*(H$17='Labour Demand'!$C$2:$C$151),0))} -> 3207.9256 | I26: {=INDEX('Labour Demand'!$M$2:$M$151,MATCH(1,($F$6='Labour Demand'!$B$2:$B$151)*(I$17='Labour Demand'!$C$2:$C$151),0))} -> 3642.3883 | J26: {=INDEX('Labour Demand'!$M$2:$M$151,MATCH(1,($F$6='Labour Demand'!$B$2:$B$151)*(J$17='Labour Demand'!$C$2:$C$151),0))} -> 3966.8622 | K26: {=INDEX('Labour Demand'!$M$2:$M$151,MATCH(1,($F$6='Labour Demand'!$B$2:$B$151)*(K$17='Labour Demand'!$C$2:$C$151),0))} -> 4100.6556 | L26: {=INDEX('Labour Demand'!$M$2:$M$151,MATCH(1,($F$6='Labour Demand'!$B$2:$B$151)*(L$17='Labour Demand'!$C$2:$C$151),0))} -> 3997.0499 | M26: {=INDEX('Labour Demand'!$M$2:$M$151,MATCH(1,($F$6='Labour Demand'!$B$2:$B$151)*(M$17='Labour Demand'!$C$2:$C$151),0))} -> 3675.2364 | ... O26: {=INDEX('Labour Demand'!$M$2:$M$151,MATCH(1,($F$6='Labour Demand'!$B$2:$B$151)*(O$17='Labour Demand'!$C$2:$C$151),0))} -> 2632.6793 | Q26: 5322 Floorers and wall tilers | R26: ='Miscellaneous List'!S46+'Miscellaneous List'!S70+'Miscellaneous List'!S94 -> 2164.4525 | S26: ='Miscellaneous List'!T46+'Miscellaneous List'!T70+'Miscellaneous List'!T94 -> 2111.4302 | T26: ='Miscellaneous List'!U46+'Miscellaneous List'!U70+'Miscellaneous List'!U94 -> 2059.5506 | U26: ='Miscellaneous List'!V46+'Miscellaneous List'!V70+'Miscellaneous List'!V94 -> 2008.7749 | V26: ='Miscellaneous List'!W46+'Miscellaneous List'!W70+'Miscellaneous List'!W94 -> 1959.0453 | W26: ='Miscellaneous List'!X46+'Miscellaneous List'!X70+'Miscellaneous List'!X94 -> 1910.4036 | X26: ='Miscellaneous List'!Y46+'Miscellaneous List'!Y70+'Miscellaneous List'!Y94 -> 1862.8508 | Y26: ='Miscellaneous List'!Z46+'Miscellaneous List'!Z70+'Miscellaneous List'!Z94 -> 1816.3452 | ... AA26: ='Miscellaneous List'!AB46+'Miscellaneous List'!AB70+'Miscellaneous List'!AB94 -> 1726.3825
E27: 5323 Painters and decorators | F27: {=INDEX('Labour Demand'!$N$2:$N$151,MATCH(1,($F$6='Labour Demand'!$B$2:$B$151)*(F$17='Labour Demand'!$C$2:$C$151),0))} -> 1147.5344 | G27: {=INDEX('Labour Demand'!$N$2:$N$151,MATCH(1,($F$6='Labour Demand'!$B$2:$B$151)*(G$17='Labour Demand'!$C$2:$C$151),0))} -> 1128.2078 | H27: {=INDEX('Labour Demand'!$N$2:$N$151,MATCH(1,($F$6='Labour Demand'!$B$2:$B$151)*(H$17='Labour Demand'!$C$2:$C$151),0))} -> 1202.8773 | I27: {=INDEX('Labour Demand'!$N$2:$N$151,MATCH(1,($F$6='Labour Demand'!$B$2:$B$151)*(I$17='Labour Demand'!$C$2:$C$151),0))} -> 1271.2708 | J27: {=INDEX('Labour Demand'!$N$2:$N$151,MATCH(1,($F$6='Labour Demand'!$B$2:$B$151)*(J$17='Labour Demand'!$C$2:$C$151),0))} -> 1318.1662 | K27: {=INDEX('Labour Demand'!$N$2:$N$151,MATCH(1,($F$6='Labour Demand'!$B$2:$B$151)*(K$17='Labour Demand'!$C$2:$C$151),0))} -> 1326.9105 | L27: {=INDEX('Labour Demand'!$N$2:$N$151,MATCH(1,($F$6='Labour Demand'!$B$2:$B$151)*(L$17='Labour Demand'!$C$2:$C$151),0))} -> 1288.1053 | M27: {=INDEX('Labour Demand'!$N$2:$N$151,MATCH(1,($F$6='Labour Demand'!$B$2:$B$151)*(M$17='Labour Demand'!$C$2:$C$151),0))} -> 1206.8021 | ... O27: {=INDEX('Labour Demand'!$N$2:$N$151,MATCH(1,($F$6='Labour Demand'!$B$2:$B$151)*(O$17='Labour Demand'!$C$2:$C$151),0))} -> 964.72803 | Q27: 5323 Painters and decorators | R27: ='Miscellaneous List'!S47+'Miscellaneous List'!S71+'Miscellaneous List'!S95 -> 1079.425 | S27: ='Miscellaneous List'!T47+'Miscellaneous List'!T71+'Miscellaneous List'!T95 -> 1052.9825 | T27: ='Miscellaneous List'!U47+'Miscellaneous List'!U71+'Miscellaneous List'!U95 -> 1027.1098 | U27: ='Miscellaneous List'!V47+'Miscellaneous List'!V71+'Miscellaneous List'!V95 -> 1001.7877 | V27: ='Miscellaneous List'!W47+'Miscellaneous List'!W71+'Miscellaneous List'!W95 -> 976.98721 | W27: ='Miscellaneous List'!X47+'Miscellaneous List'!X71+'Miscellaneous List'!X95 -> 952.72931 | X27: ='Miscellaneous List'!Y47+'Miscellaneous List'!Y71+'Miscellaneous List'!Y95 -> 929.01446 | Y27: ='Miscellaneous List'!Z47+'Miscellaneous List'!Z71+'Miscellaneous List'!Z95 -> 905.82187 | ... AA27: ='Miscellaneous List'!AB47+'Miscellaneous List'!AB71+'Miscellaneous List'!AB95 -> 860.95693
E28: 9129 Elementary construction occupations n.e.c. | F28: {=INDEX('Labour Demand'!$O$2:$O$151,MATCH(1,($F$6='Labour Demand'!$B$2:$B$151)*(F$17='Labour Demand'!$C$2:$C$151),0))} -> 573.81661 | G28: {=INDEX('Labour Demand'!$O$2:$O$151,MATCH(1,($F$6='Labour Demand'!$B$2:$B$151)*(G$17='Labour Demand'!$C$2:$C$151),0))} -> 558.59263 | H28: {=INDEX('Labour Demand'!$O$2:$O$151,MATCH(1,($F$6='Labour Demand'!$B$2:$B$151)*(H$17='Labour Demand'!$C$2:$C$151),0))} -> 561.78785 | I28: {=INDEX('Labour Demand'!$O$2:$O$151,MATCH(1,($F$6='Labour Demand'!$B$2:$B$151)*(I$17='Labour Demand'!$C$2:$C$151),0))} -> 564.03702 | J28: {=INDEX('Labour Demand'!$O$2:$O$151,MATCH(1,($F$6='Labour Demand'!$B$2:$B$151)*(J$17='Labour Demand'!$C$2:$C$151),0))} -> 562.44872 | K28: {=INDEX('Labour Demand'!$O$2:$O$151,MATCH(1,($F$6='Labour Demand'!$B$2:$B$151)*(K$17='Labour Demand'!$C$2:$C$151),0))} -> 553.51895 | L28: {=INDEX('Labour Demand'!$O$2:$O$151,MATCH(1,($F$6='Labour Demand'!$B$2:$B$151)*(L$17='Labour Demand'!$C$2:$C$151),0))} -> 535.4093 | M28: {=INDEX('Labour Demand'!$O$2:$O$151,MATCH(1,($F$6='Labour Demand'!$B$2:$B$151)*(M$17='Labour Demand'!$C$2:$C$151),0))} -> 509.80517 | ... O28: {=INDEX('Labour Demand'!$O$2:$O$151,MATCH(1,($F$6='Labour Demand'!$B$2:$B$151)*(O$17='Labour Demand'!$C$2:$C$151),0))} -> 443.51096 | Q28: 9129 Elementary construction occupations n.e.c. | R28: ='Miscellaneous List'!S48+'Miscellaneous List'!S72+'Miscellaneous List'!S96 -> 590.7805 | S28: ='Miscellaneous List'!T48+'Miscellaneous List'!T72+'Miscellaneous List'!T96 -> 578.77636 | T28: ='Miscellaneous List'!U48+'Miscellaneous List'!U72+'Miscellaneous List'!U96 -> 566.98012 | U28: ='Miscellaneous List'!V48+'Miscellaneous List'!V72+'Miscellaneous List'!V96 -> 555.38452 | V28: ='Miscellaneous List'!W48+'Miscellaneous List'!W72+'Miscellaneous List'!W96 -> 543.97694 | W28: ='Miscellaneous List'!X48+'Miscellaneous List'!X72+'Miscellaneous List'!X96 -> 532.77183 | X28: ='Miscellaneous List'!Y48+'Miscellaneous List'!Y72+'Miscellaneous List'!Y96 -> 521.77245 | Y28: ='Miscellaneous List'!Z48+'Miscellaneous List'!Z72+'Miscellaneous List'!Z96 -> 510.97037 | ... AA28: ='Miscellaneous List'!AB48+'Miscellaneous List'!AB72+'Miscellaneous List'!AB96 -> 489.94389
E29: 2121 Civil Engineers | F29: {=INDEX('Labour Demand'!$Q$2:$Q$151,MATCH(1,($F$6='Labour Demand'!$B$2:$B$151)*(F$17='Labour Demand'!$C$2:$C$151),0))} -> 0 | G29: {=INDEX('Labour Demand'!$Q$2:$Q$151,MATCH(1,($F$6='Labour Demand'!$B$2:$B$151)*(G$17='Labour Demand'!$C$2:$C$151),0))} -> 0 | H29: {=INDEX('Labour Demand'!$Q$2:$Q$151,MATCH(1,($F$6='Labour Demand'!$B$2:$B$151)*(H$17='Labour Demand'!$C$2:$C$151),0))} -> 0 | I29: {=INDEX('Labour Demand'!$Q$2:$Q$151,MATCH(1,($F$6='Labour Demand'!$B$2:$B$151)*(I$17='Labour Demand'!$C$2:$C$151),0))} -> 0 | J29: {=INDEX('Labour Demand'!$Q$2:$Q$151,MATCH(1,($F$6='Labour Demand'!$B$2:$B$151)*(J$17='Labour Demand'!$C$2:$C$151),0))} -> 0 | K29: {=INDEX('Labour Demand'!$Q$2:$Q$151,MATCH(1,($F$6='Labour Demand'!$B$2:$B$151)*(K$17='Labour Demand'!$C$2:$C$151),0))} -> 0 | L29: {=INDEX('Labour Demand'!$Q$2:$Q$151,MATCH(1,($F$6='Labour Demand'!$B$2:$B$151)*(L$17='Labour Demand'!$C$2:$C$151),0))} -> 0 | M29: {=INDEX('Labour Demand'!$Q$2:$Q$151,MATCH(1,($F$6='Labour Demand'!$B$2:$B$151)*(M$17='Labour Demand'!$C$2:$C$151),0))} -> 0 | ... O29: {=INDEX('Labour Demand'!$Q$2:$Q$151,MATCH(1,($F$6='Labour Demand'!$B$2:$B$151)*(O$17='Labour Demand'!$C$2:$C$151),0))} -> 0 | Q29: 2121 Civil Engineers | R29: ='Miscellaneous List'!S49+'Miscellaneous List'!S73+'Miscellaneous List'!S97 -> 0 | S29: ='Miscellaneous List'!T49+'Miscellaneous List'!T73+'Miscellaneous List'!T97 -> 0 | T29: ='Miscellaneous List'!U49+'Miscellaneous List'!U73+'Miscellaneous List'!U97 -> 0 | U29: ='Miscellaneous List'!V49+'Miscellaneous List'!V73+'Miscellaneous List'!V97 -> 0 | V29: ='Miscellaneous List'!W49+'Miscellaneous List'!W73+'Miscellaneous List'!W97 -> 0 | W29: ='Miscellaneous List'!X49+'Miscellaneous List'!X73+'Miscellaneous List'!X97 -> 0 | X29: ='Miscellaneous List'!Y49+'Miscellaneous List'!Y73+'Miscellaneous List'!Y97 -> 0 | Y29: ='Miscellaneous List'!Z49+'Miscellaneous List'!Z73+'Miscellaneous List'!Z97 -> 0 | ... AA29: ='Miscellaneous List'!AB49+'Miscellaneous List'!AB73+'Miscellaneous List'!AB97 -> 0
E30: 2123 Electrical engineers | F30: {=INDEX('Labour Demand'!$R$2:$R$151,MATCH(1,($F$6='Labour Demand'!$B$2:$B$151)*(F$17='Labour Demand'!$C$2:$C$151),0))} -> 398.02625 | G30: {=INDEX('Labour Demand'!$R$2:$R$151,MATCH(1,($F$6='Labour Demand'!$B$2:$B$151)*(G$17='Labour Demand'!$C$2:$C$151),0))} -> 404.17193 | H30: {=INDEX('Labour Demand'!$R$2:$R$151,MATCH(1,($F$6='Labour Demand'!$B$2:$B$151)*(H$17='Labour Demand'!$C$2:$C$151),0))} -> 410.27296 | I30: {=INDEX('Labour Demand'!$R$2:$R$151,MATCH(1,($F$6='Labour Demand'!$B$2:$B$151)*(I$17='Labour Demand'!$C$2:$C$151),0))} -> 416.31953 | J30: {=INDEX('Labour Demand'!$R$2:$R$151,MATCH(1,($F$6='Labour Demand'!$B$2:$B$151)*(J$17='Labour Demand'!$C$2:$C$151),0))} -> 421.80121 | K30: {=INDEX('Labour Demand'!$R$2:$R$151,MATCH(1,($F$6='Labour Demand'!$B$2:$B$151)*(K$17='Labour Demand'!$C$2:$C$151),0))} -> 426.55474 | L30: {=INDEX('Labour Demand'!$R$2:$R$151,MATCH(1,($F$6='Labour Demand'!$B$2:$B$151)*(L$17='Labour Demand'!$C$2:$C$151),0))} -> 431.65588 | M30: {=INDEX('Labour Demand'!$R$2:$R$151,MATCH(1,($F$6='Labour Demand'!$B$2:$B$151)*(M$17='Labour Demand'!$C$2:$C$151),0))} -> 435.85575 | ... O30: {=INDEX('Labour Demand'!$R$2:$R$151,MATCH(1,($F$6='Labour Demand'!$B$2:$B$151)*(O$17='Labour Demand'!$C$2:$C$151),0))} -> 444.54758 | Q30: 2123 Electrical engineers | R30: ='Miscellaneous List'!S50+'Miscellaneous List'!S74+'Miscellaneous List'!S98 -> 428.56841 | S30: ='Miscellaneous List'!T50+'Miscellaneous List'!T74+'Miscellaneous List'!T98 -> 418.02676 | T30: ='Miscellaneous List'!U50+'Miscellaneous List'!U74+'Miscellaneous List'!U98 -> 407.71045 | U30: ='Miscellaneous List'!V50+'Miscellaneous List'!V74+'Miscellaneous List'!V98 -> 397.61173 | V30: ='Miscellaneous List'!W50+'Miscellaneous List'!W74+'Miscellaneous List'!W98 -> 387.719 | W30: ='Miscellaneous List'!X50+'Miscellaneous List'!X74+'Miscellaneous List'!X98 -> 378.04057 | X30: ='Miscellaneous List'!Y50+'Miscellaneous List'!Y74+'Miscellaneous List'!Y98 -> 368.57669 | Y30: ='Miscellaneous List'!Z50+'Miscellaneous List'!Z74+'Miscellaneous List'!Z98 -> 359.31904 | ... AA30: ='Miscellaneous List'!AB50+'Miscellaneous List'!AB74+'Miscellaneous List'!AB98 -> 341.40387
E31: 2127 Engineering project managers and project engineers | F31: {=INDEX('Labour Demand'!$S$2:$S$151,MATCH(1,($F$6='Labour Demand'!$B$2:$B$151)*(F$17='Labour Demand'!$C$2:$C$151),0))} -> 622.48629 | G31: {=INDEX('Labour Demand'!$S$2:$S$151,MATCH(1,($F$6='Labour Demand'!$B$2:$B$151)*(G$17='Labour Demand'!$C$2:$C$151),0))} -> 632.09772 | H31: {=INDEX('Labour Demand'!$S$2:$S$151,MATCH(1,($F$6='Labour Demand'!$B$2:$B$151)*(H$17='Labour Demand'!$C$2:$C$151),0))} -> 641.63931 | I31: {=INDEX('Labour Demand'!$S$2:$S$151,MATCH(1,($F$6='Labour Demand'!$B$2:$B$151)*(I$17='Labour Demand'!$C$2:$C$151),0))} -> 651.09575 | J31: {=INDEX('Labour Demand'!$S$2:$S$151,MATCH(1,($F$6='Labour Demand'!$B$2:$B$151)*(J$17='Labour Demand'!$C$2:$C$151),0))} -> 659.66872 | K31: {=INDEX('Labour Demand'!$S$2:$S$151,MATCH(1,($F$6='Labour Demand'!$B$2:$B$151)*(K$17='Labour Demand'!$C$2:$C$151),0))} -> 667.10292 | L31: {=INDEX('Labour Demand'!$S$2:$S$151,MATCH(1,($F$6='Labour Demand'!$B$2:$B$151)*(L$17='Labour Demand'!$C$2:$C$151),0))} -> 675.08076 | M31: {=INDEX('Labour Demand'!$S$2:$S$151,MATCH(1,($F$6='Labour Demand'!$B$2:$B$151)*(M$17='Labour Demand'!$C$2:$C$151),0))} -> 681.64909 | ... O31: {=INDEX('Labour Demand'!$S$2:$S$151,MATCH(1,($F$6='Labour Demand'!$B$2:$B$151)*(O$17='Labour Demand'!$C$2:$C$151),0))} -> 695.24253 | Q31: 2127 Engineering project managers and project engineers | R31: ='Miscellaneous List'!S51+'Miscellaneous List'!S75+'Miscellaneous List'!S99 -> 670.25218 | S31: ='Miscellaneous List'!T51+'Miscellaneous List'!T75+'Miscellaneous List'!T99 -> 653.76574 | T31: ='Miscellaneous List'!U51+'Miscellaneous List'!U75+'Miscellaneous List'!U99 -> 637.63172 | U31: ='Miscellaneous List'!V51+'Miscellaneous List'!V75+'Miscellaneous List'!V99 -> 621.83802 | V31: ='Miscellaneous List'!W51+'Miscellaneous List'!W75+'Miscellaneous List'!W99 -> 606.36644 | W31: ='Miscellaneous List'!X51+'Miscellaneous List'!X75+'Miscellaneous List'!X99 -> 591.23003 | X31: ='Miscellaneous List'!Y51+'Miscellaneous List'!Y75+'Miscellaneous List'!Y99 -> 576.42916 | Y31: ='Miscellaneous List'!Z51+'Miscellaneous List'!Z75+'Miscellaneous List'!Z99 -> 561.95082 | ... AA31: ='Miscellaneous List'!AB51+'Miscellaneous List'!AB75+'Miscellaneous List'!AB99 -> 533.93269
E32: 2129 Engineering professionals n.e.c. | F32: {=INDEX('Labour Demand'!$T$2:$T$151,MATCH(1,($F$6='Labour Demand'!$B$2:$B$151)*(F$17='Labour Demand'!$C$2:$C$151),0))} -> 339.048 | G32: {=INDEX('Labour Demand'!$T$2:$T$151,MATCH(1,($F$6='Labour Demand'!$B$2:$B$151)*(G$17='Labour Demand'!$C$2:$C$151),0))} -> 344.28303 | H32: {=INDEX('Labour Demand'!$T$2:$T$151,MATCH(1,($F$6='Labour Demand'!$B$2:$B$151)*(H$17='Labour Demand'!$C$2:$C$151),0))} -> 349.48003 | I32: {=INDEX('Labour Demand'!$T$2:$T$151,MATCH(1,($F$6='Labour Demand'!$B$2:$B$151)*(I$17='Labour Demand'!$C$2:$C$151),0))} -> 354.63064 | J32: {=INDEX('Labour Demand'!$T$2:$T$151,MATCH(1,($F$6='Labour Demand'!$B$2:$B$151)*(J$17='Labour Demand'!$C$2:$C$151),0))} -> 359.30006 | K32: {=INDEX('Labour Demand'!$T$2:$T$151,MATCH(1,($F$6='Labour Demand'!$B$2:$B$151)*(K$17='Labour Demand'!$C$2:$C$151),0))} -> 363.34923 | L32: {=INDEX('Labour Demand'!$T$2:$T$151,MATCH(1,($F$6='Labour Demand'!$B$2:$B$151)*(L$17='Labour Demand'!$C$2:$C$151),0))} -> 367.6945 | M32: {=INDEX('Labour Demand'!$T$2:$T$151,MATCH(1,($F$6='Labour Demand'!$B$2:$B$151)*(M$17='Labour Demand'!$C$2:$C$151),0))} -> 371.27205 | ... O32: {=INDEX('Labour Demand'!$T$2:$T$151,MATCH(1,($F$6='Labour Demand'!$B$2:$B$151)*(O$17='Labour Demand'!$C$2:$C$151),0))} -> 378.67595 | Q32: 2129 Engineering professionals n.e.c. | R32: ='Miscellaneous List'!S52+'Miscellaneous List'!S76+'Miscellaneous List'!S100 -> 365.06452 | S32: ='Miscellaneous List'!T52+'Miscellaneous List'!T76+'Miscellaneous List'!T100 -> 356.0849 | T32: ='Miscellaneous List'!U52+'Miscellaneous List'!U76+'Miscellaneous List'!U100 -> 347.29722 | U32: ='Miscellaneous List'!V52+'Miscellaneous List'!V76+'Miscellaneous List'!V100 -> 338.69491 | V32: ='Miscellaneous List'!W52+'Miscellaneous List'!W76+'Miscellaneous List'!W100 -> 330.26804 | W32: ='Miscellaneous List'!X52+'Miscellaneous List'!X76+'Miscellaneous List'!X100 -> 322.02373 | X32: ='Miscellaneous List'!Y52+'Miscellaneous List'!Y76+'Miscellaneous List'!Y100 -> 313.96218 | Y32: ='Miscellaneous List'!Z52+'Miscellaneous List'!Z76+'Miscellaneous List'!Z100 -> 306.0763 | ... AA32: ='Miscellaneous List'!AB52+'Miscellaneous List'!AB76+'Miscellaneous List'!AB100 -> 290.81574
E33: 2455 Construction project managers and related professionals | F33: {=INDEX('Labour Demand'!$U$2:$U$151,MATCH(1,($F$6='Labour Demand'!$B$2:$B$151)*(F$17='Labour Demand'!$C$2:$C$151),0))} -> 610.45983 | G33: {=INDEX('Labour Demand'!$U$2:$U$151,MATCH(1,($F$6='Labour Demand'!$B$2:$B$151)*(G$17='Labour Demand'!$C$2:$C$151),0))} -> 619.88556 | H33: {=INDEX('Labour Demand'!$U$2:$U$151,MATCH(1,($F$6='Labour Demand'!$B$2:$B$151)*(H$17='Labour Demand'!$C$2:$C$151),0))} -> 629.24281 | I33: {=INDEX('Labour Demand'!$U$2:$U$151,MATCH(1,($F$6='Labour Demand'!$B$2:$B$151)*(I$17='Labour Demand'!$C$2:$C$151),0))} -> 638.51655 | J33: {=INDEX('Labour Demand'!$U$2:$U$151,MATCH(1,($F$6='Labour Demand'!$B$2:$B$151)*(J$17='Labour Demand'!$C$2:$C$151),0))} -> 646.9239 | K33: {=INDEX('Labour Demand'!$U$2:$U$151,MATCH(1,($F$6='Labour Demand'!$B$2:$B$151)*(K$17='Labour Demand'!$C$2:$C$151),0))} -> 654.21446 | L33: {=INDEX('Labour Demand'!$U$2:$U$151,MATCH(1,($F$6='Labour Demand'!$B$2:$B$151)*(L$17='Labour Demand'!$C$2:$C$151),0))} -> 662.03817 | M33: {=INDEX('Labour Demand'!$U$2:$U$151,MATCH(1,($F$6='Labour Demand'!$B$2:$B$151)*(M$17='Labour Demand'!$C$2:$C$151),0))} -> 668.4796 | ... O33: {=INDEX('Labour Demand'!$U$2:$U$151,MATCH(1,($F$6='Labour Demand'!$B$2:$B$151)*(O$17='Labour Demand'!$C$2:$C$151),0))} -> 681.81041 | Q33: 2455 Construction project managers and related professionals | R33: ='Miscellaneous List'!S53+'Miscellaneous List'!S77+'Miscellaneous List'!S101 -> 652.62303 | S33: ='Miscellaneous List'!T53+'Miscellaneous List'!T77+'Miscellaneous List'!T101 -> 632.04008 | T33: ='Miscellaneous List'!U53+'Miscellaneous List'!U77+'Miscellaneous List'!U101 -> 612.0575 | U33: ='Miscellaneous List'!V53+'Miscellaneous List'!V77+'Miscellaneous List'!V101 -> 592.65383 | V33: ='Miscellaneous List'!W53+'Miscellaneous List'!W77+'Miscellaneous List'!W101 -> 573.80239 | W33: ='Miscellaneous List'!X53+'Miscellaneous List'!X77+'Miscellaneous List'!X101 -> 555.50628 | X33: ='Miscellaneous List'!Y53+'Miscellaneous List'!Y77+'Miscellaneous List'!Y101 -> 537.75658 | Y33: ='Miscellaneous List'!Z53+'Miscellaneous List'!Z77+'Miscellaneous List'!Z101 -> 520.53215 | ... AA33: ='Miscellaneous List'!AB53+'Miscellaneous List'!AB77+'Miscellaneous List'!AB101 -> 487.59771
E34: 3114 Building and civil engineering technicians | F34: {=INDEX('Labour Demand'!$V$2:$V$151,MATCH(1,($F$6='Labour Demand'!$B$2:$B$151)*(F$17='Labour Demand'!$C$2:$C$151),0))} -> 0 | G34: {=INDEX('Labour Demand'!$V$2:$V$151,MATCH(1,($F$6='Labour Demand'!$B$2:$B$151)*(G$17='Labour Demand'!$C$2:$C$151),0))} -> 0 | H34: {=INDEX('Labour Demand'!$V$2:$V$151,MATCH(1,($F$6='Labour Demand'!$B$2:$B$151)*(H$17='Labour Demand'!$C$2:$C$151),0))} -> 0 | I34: {=INDEX('Labour Demand'!$V$2:$V$151,MATCH(1,($F$6='Labour Demand'!$B$2:$B$151)*(I$17='Labour Demand'!$C$2:$C$151),0))} -> 0 | J34: {=INDEX('Labour Demand'!$V$2:$V$151,MATCH(1,($F$6='Labour Demand'!$B$2:$B$151)*(J$17='Labour Demand'!$C$2:$C$151),0))} -> 0 | K34: {=INDEX('Labour Demand'!$V$2:$V$151,MATCH(1,($F$6='Labour Demand'!$B$2:$B$151)*(K$17='Labour Demand'!$C$2:$C$151),0))} -> 0 | L34: {=INDEX('Labour Demand'!$V$2:$V$151,MATCH(1,($F$6='Labour Demand'!$B$2:$B$151)*(L$17='Labour Demand'!$C$2:$C$151),0))} -> 0 | M34: {=INDEX('Labour Demand'!$V$2:$V$151,MATCH(1,($F$6='Labour Demand'!$B$2:$B$151)*(M$17='Labour Demand'!$C$2:$C$151),0))} -> 0 | ... O34: {=INDEX('Labour Demand'!$V$2:$V$151,MATCH(1,($F$6='Labour Demand'!$B$2:$B$151)*(O$17='Labour Demand'!$C$2:$C$151),0))} -> 0 | Q34: 3114 Building and civil engineering technicians | R34: ='Miscellaneous List'!S54+'Miscellaneous List'!S78+'Miscellaneous List'!S102 -> 20.2 | S34: ='Miscellaneous List'!T54+'Miscellaneous List'!T78+'Miscellaneous List'!T102 -> 20.2 | T34: ='Miscellaneous List'!U54+'Miscellaneous List'!U78+'Miscellaneous List'!U102 -> 7.0711691 | U34: ='Miscellaneous List'!V54+'Miscellaneous List'!V78+'Miscellaneous List'!V102 -> 7.0499205 | V34: ='Miscellaneous List'!W54+'Miscellaneous List'!W78+'Miscellaneous List'!W102 -> 7.0285676 | W34: ='Miscellaneous List'!X54+'Miscellaneous List'!X78+'Miscellaneous List'!X102 -> 7.0138144 | X34: ='Miscellaneous List'!Y54+'Miscellaneous List'!Y78+'Miscellaneous List'!Y102 -> 6.9926223 | Y34: ='Miscellaneous List'!Z54+'Miscellaneous List'!Z78+'Miscellaneous List'!Z102 -> 6.9628567 | ... AA34: ='Miscellaneous List'!AB54+'Miscellaneous List'!AB78+'Miscellaneous List'!AB102 -> 6.9063851
E35: 3582 Health and safety managers and officers | F35: {=INDEX('Labour Demand'!$W$2:$W$151,MATCH(1,($F$6='Labour Demand'!$B$2:$B$151)*(F$17='Labour Demand'!$C$2:$C$151),0))} -> 68.794494 | G35: {=INDEX('Labour Demand'!$W$2:$W$151,MATCH(1,($F$6='Labour Demand'!$B$2:$B$151)*(G$17='Labour Demand'!$C$2:$C$151),0))} -> 69.856708 | H35: {=INDEX('Labour Demand'!$W$2:$W$151,MATCH(1,($F$6='Labour Demand'!$B$2:$B$151)*(H$17='Labour Demand'!$C$2:$C$151),0))} -> 70.911204 | I35: {=INDEX('Labour Demand'!$W$2:$W$151,MATCH(1,($F$6='Labour Demand'!$B$2:$B$151)*(I$17='Labour Demand'!$C$2:$C$151),0))} -> 71.956288 | J35: {=INDEX('Labour Demand'!$W$2:$W$151,MATCH(1,($F$6='Labour Demand'!$B$2:$B$151)*(J$17='Labour Demand'!$C$2:$C$151),0))} -> 72.903736 | K35: {=INDEX('Labour Demand'!$W$2:$W$151,MATCH(1,($F$6='Labour Demand'!$B$2:$B$151)*(K$17='Labour Demand'!$C$2:$C$151),0))} -> 73.725332 | L35: {=INDEX('Labour Demand'!$W$2:$W$151,MATCH(1,($F$6='Labour Demand'!$B$2:$B$151)*(L$17='Labour Demand'!$C$2:$C$151),0))} -> 74.607008 | M35: {=INDEX('Labour Demand'!$W$2:$W$151,MATCH(1,($F$6='Labour Demand'!$B$2:$B$151)*(M$17='Labour Demand'!$C$2:$C$151),0))} -> 75.332911 | ... O35: {=INDEX('Labour Demand'!$W$2:$W$151,MATCH(1,($F$6='Labour Demand'!$B$2:$B$151)*(O$17='Labour Demand'!$C$2:$C$151),0))} -> 76.835199 | Q35: 3582 Health and safety managers and officers | R35: ='Miscellaneous List'!S55+'Miscellaneous List'!S79+'Miscellaneous List'!S103 -> 73.935478 | S35: ='Miscellaneous List'!T55+'Miscellaneous List'!T79+'Miscellaneous List'!T103 -> 71.983535 | T35: ='Miscellaneous List'!U55+'Miscellaneous List'!U79+'Miscellaneous List'!U103 -> 70.078264 | U35: ='Miscellaneous List'!V55+'Miscellaneous List'!V79+'Miscellaneous List'!V103 -> 68.218102 | V35: ='Miscellaneous List'!W55+'Miscellaneous List'!W79+'Miscellaneous List'!W103 -> 66.400856 | W35: ='Miscellaneous List'!X55+'Miscellaneous List'!X79+'Miscellaneous List'!X103 -> 64.627691 | X35: ='Miscellaneous List'!Y55+'Miscellaneous List'!Y79+'Miscellaneous List'!Y103 -> 62.898388 | Y35: ='Miscellaneous List'!Z55+'Miscellaneous List'!Z79+'Miscellaneous List'!Z103 -> 61.211303 | ... AA35: ='Miscellaneous List'!AB55+'Miscellaneous List'!AB79+'Miscellaneous List'!AB103 -> 57.959718
E36: 4159 Other administrative occupations n.e.c. | F36: {=INDEX('Labour Demand'!$X$2:$X$151,MATCH(1,($F$6='Labour Demand'!$B$2:$B$151)*(F$17='Labour Demand'!$C$2:$C$151),0))} -> 449.17357 | G36: {=INDEX('Labour Demand'!$X$2:$X$151,MATCH(1,($F$6='Labour Demand'!$B$2:$B$151)*(G$17='Labour Demand'!$C$2:$C$151),0))} -> 456.10898 | H36: {=INDEX('Labour Demand'!$X$2:$X$151,MATCH(1,($F$6='Labour Demand'!$B$2:$B$151)*(H$17='Labour Demand'!$C$2:$C$151),0))} -> 462.994 | I36: {=INDEX('Labour Demand'!$X$2:$X$151,MATCH(1,($F$6='Labour Demand'!$B$2:$B$151)*(I$17='Labour Demand'!$C$2:$C$151),0))} -> 469.81757 | J36: {=INDEX('Labour Demand'!$X$2:$X$151,MATCH(1,($F$6='Labour Demand'!$B$2:$B$151)*(J$17='Labour Demand'!$C$2:$C$151),0))} -> 476.00366 | K36: {=INDEX('Labour Demand'!$X$2:$X$151,MATCH(1,($F$6='Labour Demand'!$B$2:$B$151)*(K$17='Labour Demand'!$C$2:$C$151),0))} -> 481.36803 | L36: {=INDEX('Labour Demand'!$X$2:$X$151,MATCH(1,($F$6='Labour Demand'!$B$2:$B$151)*(L$17='Labour Demand'!$C$2:$C$151),0))} -> 487.12468 | M36: {=INDEX('Labour Demand'!$X$2:$X$151,MATCH(1,($F$6='Labour Demand'!$B$2:$B$151)*(M$17='Labour Demand'!$C$2:$C$151),0))} -> 491.86425 | ... O36: {=INDEX('Labour Demand'!$X$2:$X$151,MATCH(1,($F$6='Labour Demand'!$B$2:$B$151)*(O$17='Labour Demand'!$C$2:$C$151),0))} -> 501.673 | Q36: 4159 Other administrative occupations n.e.c. | R36: ='Miscellaneous List'!S56+'Miscellaneous List'!S80+'Miscellaneous List'!S104 -> 482.72281 | S36: ='Miscellaneous List'!T56+'Miscellaneous List'!T80+'Miscellaneous List'!T104 -> 469.96068 | T36: ='Miscellaneous List'!U56+'Miscellaneous List'!U80+'Miscellaneous List'!U104 -> 457.50304 | U36: ='Miscellaneous List'!V56+'Miscellaneous List'!V80+'Miscellaneous List'!V104 -> 445.33968 | V36: ='Miscellaneous List'!W56+'Miscellaneous List'!W80+'Miscellaneous List'!W104 -> 433.45621 | W36: ='Miscellaneous List'!X56+'Miscellaneous List'!X80+'Miscellaneous List'!X104 -> 421.86027 | X36: ='Miscellaneous List'!Y56+'Miscellaneous List'!Y80+'Miscellaneous List'!Y104 -> 410.55044 | Y36: ='Miscellaneous List'!Z56+'Miscellaneous List'!Z80+'Miscellaneous List'!Z104 -> 399.51598 | ... AA36: ='Miscellaneous List'!AB56+'Miscellaneous List'!AB80+'Miscellaneous List'!AB104 -> 378.24655
E37: 5250 Skilled metal, electrical and electronic trades supervisors | F37: {=INDEX('Labour Demand'!$Y$2:$Y$151,MATCH(1,($F$6='Labour Demand'!$B$2:$B$151)*(F$17='Labour Demand'!$C$2:$C$151),0))} -> 238.06335 | G37: {=INDEX('Labour Demand'!$Y$2:$Y$151,MATCH(1,($F$6='Labour Demand'!$B$2:$B$151)*(G$17='Labour Demand'!$C$2:$C$151),0))} -> 241.73914 | H37: {=INDEX('Labour Demand'!$Y$2:$Y$151,MATCH(1,($F$6='Labour Demand'!$B$2:$B$151)*(H$17='Labour Demand'!$C$2:$C$151),0))} -> 245.38822 | I37: {=INDEX('Labour Demand'!$Y$2:$Y$151,MATCH(1,($F$6='Labour Demand'!$B$2:$B$151)*(I$17='Labour Demand'!$C$2:$C$151),0))} -> 249.00473 | J37: {=INDEX('Labour Demand'!$Y$2:$Y$151,MATCH(1,($F$6='Labour Demand'!$B$2:$B$151)*(J$17='Labour Demand'!$C$2:$C$151),0))} -> 252.28338 | K37: {=INDEX('Labour Demand'!$Y$2:$Y$151,MATCH(1,($F$6='Labour Demand'!$B$2:$B$151)*(K$17='Labour Demand'!$C$2:$C$151),0))} -> 255.12651 | L37: {=INDEX('Labour Demand'!$Y$2:$Y$151,MATCH(1,($F$6='Labour Demand'!$B$2:$B$151)*(L$17='Labour Demand'!$C$2:$C$151),0))} -> 258.17755 | M37: {=INDEX('Labour Demand'!$Y$2:$Y$151,MATCH(1,($F$6='Labour Demand'!$B$2:$B$151)*(M$17='Labour Demand'!$C$2:$C$151),0))} -> 260.68954 | ... O37: {=INDEX('Labour Demand'!$Y$2:$Y$151,MATCH(1,($F$6='Labour Demand'!$B$2:$B$151)*(O$17='Labour Demand'!$C$2:$C$151),0))} -> 265.88821 | Q37: 5250 Skilled metal, electrical and electronic trades supervisors | R37: ='Miscellaneous List'!S57+'Miscellaneous List'!S81+'Miscellaneous List'!S105 -> 257.13353 | S37: ='Miscellaneous List'!T57+'Miscellaneous List'!T81+'Miscellaneous List'!T105 -> 251.59515 | T37: ='Miscellaneous List'!U57+'Miscellaneous List'!U81+'Miscellaneous List'!U105 -> 246.15672 | U37: ='Miscellaneous List'!V57+'Miscellaneous List'!V81+'Miscellaneous List'!V105 -> 240.81468 | V37: ='Miscellaneous List'!W57+'Miscellaneous List'!W81+'Miscellaneous List'!W105 -> 235.56306 | W37: ='Miscellaneous List'!X57+'Miscellaneous List'!X81+'Miscellaneous List'!X105 -> 230.40793 | X37: ='Miscellaneous List'!Y57+'Miscellaneous List'!Y81+'Miscellaneous List'!Y105 -> 225.35045 | Y37: ='Miscellaneous List'!Z57+'Miscellaneous List'!Z81+'Miscellaneous List'!Z105 -> 220.38661 | ... AA37: ='Miscellaneous List'!AB57+'Miscellaneous List'!AB81+'Miscellaneous List'!AB105 -> 210.73247
E38: 5330 Construction and building trades supervisors | F38: {=INDEX('Labour Demand'!$Z$2:$Z$151,MATCH(1,($F$6='Labour Demand'!$B$2:$B$151)*(F$17='Labour Demand'!$C$2:$C$151),0))} -> 0 | G38: {=INDEX('Labour Demand'!$Z$2:$Z$151,MATCH(1,($F$6='Labour Demand'!$B$2:$B$151)*(G$17='Labour Demand'!$C$2:$C$151),0))} -> 0 | H38: {=INDEX('Labour Demand'!$Z$2:$Z$151,MATCH(1,($F$6='Labour Demand'!$B$2:$B$151)*(H$17='Labour Demand'!$C$2:$C$151),0))} -> 0 | I38: {=INDEX('Labour Demand'!$Z$2:$Z$151,MATCH(1,($F$6='Labour Demand'!$B$2:$B$151)*(I$17='Labour Demand'!$C$2:$C$151),0))} -> 0 | J38: {=INDEX('Labour Demand'!$Z$2:$Z$151,MATCH(1,($F$6='Labour Demand'!$B$2:$B$151)*(J$17='Labour Demand'!$C$2:$C$151),0))} -> 0 | K38: {=INDEX('Labour Demand'!$Z$2:$Z$151,MATCH(1,($F$6='Labour Demand'!$B$2:$B$151)*(K$17='Labour Demand'!$C$2:$C$151),0))} -> 0 | L38: {=INDEX('Labour Demand'!$Z$2:$Z$151,MATCH(1,($F$6='Labour Demand'!$B$2:$B$151)*(L$17='Labour Demand'!$C$2:$C$151),0))} -> 0 | M38: {=INDEX('Labour Demand'!$Z$2:$Z$151,MATCH(1,($F$6='Labour Demand'!$B$2:$B$151)*(M$17='Labour Demand'!$C$2:$C$151),0))} -> 0 | ... O38: {=INDEX('Labour Demand'!$Z$2:$Z$151,MATCH(1,($F$6='Labour Demand'!$B$2:$B$151)*(O$17='Labour Demand'!$C$2:$C$151),0))} -> 0 | Q38: 5330 Construction and building trades supervisors | R38: ='Miscellaneous List'!S58+'Miscellaneous List'!S82+'Miscellaneous List'!S106 -> 0 | S38: ='Miscellaneous List'!T58+'Miscellaneous List'!T82+'Miscellaneous List'!T106 -> 0 | T38: ='Miscellaneous List'!U58+'Miscellaneous List'!U82+'Miscellaneous List'!U106 -> 0 | U38: ='Miscellaneous List'!V58+'Miscellaneous List'!V82+'Miscellaneous List'!V106 -> 0 | V38: ='Miscellaneous List'!W58+'Miscellaneous List'!W82+'Miscellaneous List'!W106 -> 0 | W38: ='Miscellaneous List'!X58+'Miscellaneous List'!X82+'Miscellaneous List'!X106 -> 0 | X38: ='Miscellaneous List'!Y58+'Miscellaneous List'!Y82+'Miscellaneous List'!Y106 -> 0 | Y38: ='Miscellaneous List'!Z58+'Miscellaneous List'!Z82+'Miscellaneous List'!Z106 -> 0 | ... AA38: ='Miscellaneous List'!AB58+'Miscellaneous List'!AB82+'Miscellaneous List'!AB106 -> 0
E39: Total | F39: =SUM(F18:F38) -> 24466.951 | G39: =SUM(G18:G38) -> 24164.348 | H39: =SUM(H18:H38) -> 25710.594 | I39: =SUM(I18:I38) -> 27131.861 | J39: =SUM(J18:J38) -> 28124.916 | K39: =SUM(K18:K38) -> 28361.492 | L39: =SUM(L18:L38) -> 27663.992 | M39: =SUM(M18:M38) -> 26121.71 | ... O39: =SUM(O18:O38) -> 21472.915 | Q39: Total | R39: =SUM(R18:R38) -> 23933.592 | S39: =SUM(S18:S38) -> 23175.744 | T39: =SUM(T18:T38) -> 22526.924 | U39: =SUM(U18:U38) -> 21986.796 | V39: =SUM(V18:V38) -> 21457.613 | W39: =SUM(W18:W38) -> 20940.175 | X39: =SUM(X18:X38) -> 20433.833 | Y39: =SUM(Y18:Y38) -> 19938.034 | ... AA39: =SUM(AA18:AA38) -> 18978.563
E41: 1. Region and occupation cross-breaks not estimated due to volatility amidst suppression; as such, if regional splits are selected, only refer to the role level splits | Q41: 1. Occupation split does not account for Redployment Potential
Q42: 2. Region and occupation cross-breaks not estimated due to volatility amidst suppression; as such, if regional splits are selected, only refer to the role level splits
E44: Workforce Gap
E47: ="Workforce Gap - Role Level Split in " & F2 -> Workforce Gap - Role Level Split in Wales | F47: 2025/26 | G47: 2026/27 | H47: 2027/28 | I47: 2028/29 | J47: 2029/30 | K47: 2030/31 | L47: 2031/32 | M47: 2032/33 | N47: 2033/34 | O47: 2034/35
E48: Direct | F48: =F11-R11 -> 443.69248 | G48: =G11-S11 -> 745.75462 | H48: =H11-T11 -> 2147.5458 | I48: =I11-U11 -> 3376.368 | J48: =J11-V11 -> 4318.9716 | K48: =K11-W11 -> 4761.1732 | L48: =L11-X11 -> 4582.0053 | M48: =M11-Y11 -> 3841.9908 | ... O48: =O11-AA11 -> 1314.4754
E49: Support | F49: =F12-R12 -> 314.11442 | G49: =G12-S12 -> 348.36294 | H49: =H12-T12 -> 1011.7022 | I49: =I12-U12 -> 1629.5766 | J49: =J12-V12 -> 2100.0518 | K49: =K12-W12 -> 2309.4121 | L49: =L12-X12 -> 2194.2912 | M49: =M12-Y12 -> 1792.4966 | ... O49: =O12-AA12 -> 442.79912
E50: Supervisory | F50: =F13-R13 -> -224.4482 | G50: =G13-S13 -> -105.51377 | H50: =H13-T13 -> 24.422453 | I50: =I13-U13 -> 139.12019 | J50: =J13-V13 -> 248.28009 | K50: =K13-W13 -> 350.7309 | L50: =L13-X13 -> 453.86202 | M50: =M13-Y13 -> 549.18813 | ... O50: =O13-AA13 -> 737.07775
E51: Total | F51: =SUM(F48:F50) -> 533.3587 | G51: =SUM(G48:G50) -> 988.60379 | H51: =SUM(H48:H50) -> 3183.6704 | I51: =SUM(I48:I50) -> 5145.0648 | J51: =SUM(J48:J50) -> 6667.3035 | K51: =SUM(K48:K50) -> 7421.3163 | L51: =SUM(L48:L50) -> 7230.1585 | M51: =SUM(M48:M50) -> 6183.6756 | ... O51: =SUM(O48:O50) -> 2494.3523
E52: Note: postive readings indicate a shortage of workers, whereas negative readings indicate a surplus
E53: Note: regional workforce gaps are indicative and are derived by allocating national labour demand and supply using proportional regional shares, rather than by modelling fully independent regional labour markets.
E54: As a result, regional gaps are not expected to sum exactly to the national workforce gap.
E55: Regional results should therefore be interpreted as illustrating the geographic distribution of workforce pressures, not as additive components of the national total.
E57: Workforce Gap - Occupation Level Split in Wales | F57: 2025/26 | G57: 2026/27 | H57: 2027/28 | I57: 2028/29 | J57: 2029/30 | K57: 2030/31 | L57: 2031/32 | M57: 2032/33 | N57: 2033/34 | O57: 2034/35
E58: 5241 Electricians and electrical fitters | F58: =F18-R18 -> -342.4436 | G58: =G18-S18 -> -228.1513 | H58: =H18-T18 -> 24.763616 | I58: =I18-U18 -> 219.2049 | J58: =J18-V18 -> 365.50004 | K58: =K18-W18 -> 425.51128 | L58: =L18-X18 -> 378.71936 | M58: =M18-Y18 -> 238.4407 | ... O58: =O18-AA18 -> -221.87581
E59: 5314 Roofers, roof tilers and slaters | F59: =F19-R19 -> -17.539983 | G59: =G19-S19 -> -16.718069 | H59: =H19-T19 -> -15.763801 | I59: =I19-U19 -> -14.895462 | J59: =J19-V19 -> -14.106575 | K59: =K19-W19 -> -13.634127 | L59: =L19-X19 -> -13.520736 | M59: =M19-Y19 -> -13.262159 | ... O59: =O19-AA19 -> -13.470483
E60: 5315 Plumbers & heating and ventilating installers and repairers | F60: =F20-R20 -> 828.665 | G60: =G20-S20 -> 1011.1139 | H60: =H20-T20 -> 2124.5527 | I60: =I20-U20 -> 3123.7506 | J60: =J20-V20 -> 3892.7052 | K60: =K20-W20 -> 4261.9727 | L60: =L20-X20 -> 4134.4786 | M60: =M20-Y20 -> 3553.8015 | ... O60: =O20-AA20 -> 1555.1483
E61: 5317 Glaziers, window fabricators and fitters | F61: =F21-R21 -> -46.710484 | G61: =G21-S21 -> -44.521658 | H61: =H21-T21 -> -41.980358 | I61: =I21-U21 -> -39.667897 | J61: =J21-V21 -> -37.567022 | K61: =K21-W21 -> -36.308852 | L61: =L21-X21 -> -36.006883 | M61: =M21-Y21 -> -35.31827 | ... O61: =O21-AA21 -> -35.873055
E62: 5319 Construction and building trades n.e.c. | F62: =F22-R22 -> 21.72154 | G62: =G22-S22 -> 24.031789 | H62: =H22-T22 -> 55.973659 | I62: =I22-U22 -> 87.975896 | J62: =J22-V22 -> 112.43996 | K62: =K22-W22 -> 123.63225 | L62: =L22-X22 -> 118.33494 | M62: =M22-Y22 -> 98.329004 | ... O62: =O22-AA22 -> 30.546426
E63: 5313 Bricklayers | F63: =F23-R23 -> 50.809224 | G63: =G23-S23 -> 55.690763 | H63: =H23-T23 -> 107.02329 | I63: =I23-U23 -> 154.91443 | J63: =J23-V23 -> 191.76791 | K63: =K23-W23 -> 209.46718 | L63: =L23-X23 -> 203.34961 | M63: =M23-Y23 -> 175.49979 | ... O63: =O23-AA23 -> 79.666286
E64: 5316 Carpenters and joiners | F64: =F24-R24 -> -259.51684 | G64: =G24-S24 -> -280.02524 | H64: =H24-T24 -> -296.83356 | I64: =I24-U24 -> -313.18126 | J64: =J24-V24 -> -329.01416 | K64: =K24-W24 -> -347.68065 | L64: =L24-X24 -> -369.71352 | M64: =M24-Y24 -> -388.14534 | ... O64: =O24-AA24 -> -430.27151
E65: 5321 Plasterers | F65: =F25-R25 -> -102.67405 | G65: =G25-S25 -> -110.78791 | H65: =H25-T25 -> -117.43787 | I65: =I25-U25 -> -123.9056 | J65: =J25-V25 -> -130.16966 | K65: =K25-W25 -> -137.55478 | L65: =L25-X25 -> -146.27177 | M65: =M25-Y25 -> -153.56405 | ... O65: =O25-AA25 -> -170.23066
E66: 5322 Floorers and wall tilers | F66: =F26-R26 -> 574.35052 | G66: =G26-S26 -> 628.44373 | H66: =H26-T26 -> 1148.3751 | I66: =I26-U26 -> 1633.6134 | J66: =J26-V26 -> 2007.8169 | K66: =K26-W26 -> 2190.2521 | L66: =L26-X26 -> 2134.1991 | M66: =M26-Y26 -> 1858.8912 | ... O66: =O26-AA26 -> 906.29683
E67: 5323 Painters and decorators | F67: =F27-R27 -> 68.109454 | G67: =G27-S27 -> 75.225327 | H67: =H27-T27 -> 175.76752 | I67: =I27-U27 -> 269.48309 | J67: =J27-V27 -> 341.17903 | K67: =K27-W27 -> 374.18121 | L67: =L27-X27 -> 359.09088 | M67: =M27-Y27 -> 300.98025 | ... O67: =O27-AA27 -> 103.7711
E68: 9129 Elementary construction occupations n.e.c. | F68: =F28-R28 -> -16.963893 | G68: =G28-S28 -> -20.183732 | H68: =H28-T28 -> -5.1922742 | I68: =I28-U28 -> 8.6524952 | J68: =J28-V28 -> 18.471782 | K68: =K28-W28 -> 20.74712 | L68: =L28-X28 -> 13.636843 | M68: =M28-Y28 -> -1.1652046 | ... O68: =O28-AA28 -> -46.43293
E69: 2121 Civil Engineers | F69: =F29-R29 -> 0 | G69: =G29-S29 -> 0 | H69: =H29-T29 -> 0 | I69: =I29-U29 -> 0 | J69: =J29-V29 -> 0 | K69: =K29-W29 -> 0 | L69: =L29-X29 -> 0 | M69: =M29-Y29 -> 0 | ... O69: =O29-AA29 -> 0
... E78: 5330 Construction and building trades supervisors | F78: =F38-R38 -> 0 | G78: =G38-S38 -> 0 | H78: =H38-T38 -> 0 | I78: =I38-U38 -> 0 | J78: =J38-V38 -> 0 | K78: =K38-W38 -> 0 | L78: =L38-X38 -> 0 | M78: =M38-Y38 -> 0 | ... O78: =O38-AA38 -> 0
E79: Total | F79: =SUM(F58:F78) -> 533.3587 | G79: =SUM(G58:G78) -> 988.60379 | H79: =SUM(H58:H78) -> 3183.6704 | I79: =SUM(I58:I78) -> 5145.0648 | J79: =SUM(J58:J78) -> 6667.3035 | K79: =SUM(K58:K78) -> 7421.3163 | L79: =SUM(L58:L78) -> 7230.1585 | M79: =SUM(M58:M78) -> 6183.6756 | ... O79: =SUM(O58:O78) -> 2494.3523
E80: Note: postive readings indicate a shortage of workers, whereas negative readings indicate a surplus

Sheet Inputs ->

Sheet Miscellaneous List
D3: Labour Demand
D5: Regional Splits | F5: Demand Scenarios
D6: Wales | F6: Base
D7: North Wales | F7: High Demand
D8: Mid Wales | F8: Low Demand
D9: South West Wales
D10: South East Wales
D12: Labour Supply | S12: 2025/26 | T12: 2026/27 | U12: 2027/28 | V12: 2028/29 | W12: 2029/30 | X12: 2030/31 | Y12: 2031/32 | Z12: 2032/33 | AA12: 2033/34 | AB12: 2034/35
R13: Direct
D14: Regional Splits | F14: Redeployment Potential Scenarios | H14: Redeployment Potential Scenarios | J14: Out-Commuting Scenarios | R14: Region | S14: =INDEX('LS - Regional Split Share'!$B$2:$B$6,MATCH(Outputs!$F$2,'LS - Regional Split Share'!$A$2:$A$6,0)) -> 1 | T14: =INDEX('LS - Regional Split Share'!$B$2:$B$6,MATCH(Outputs!$F$2,'LS - Regional Split Share'!$A$2:$A$6,0)) -> 1 | U14: =INDEX('LS - Regional Split Share'!$B$2:$B$6,MATCH(Outputs!$F$2,'LS - Regional Split Share'!$A$2:$A$6,0)) -> 1 | V14: =INDEX('LS - Regional Split Share'!$B$2:$B$6,MATCH(Outputs!$F$2,'LS - Regional Split Share'!$A$2:$A$6,0)) -> 1 | W14: =INDEX('LS - Regional Split Share'!$B$2:$B$6,MATCH(Outputs!$F$2,'LS - Regional Split Share'!$A$2:$A$6,0)) -> 1 | X14: =INDEX('LS - Regional Split Share'!$B$2:$B$6,MATCH(Outputs!$F$2,'LS - Regional Split Share'!$A$2:$A$6,0)) -> 1 | Y14: =INDEX('LS - Regional Split Share'!$B$2:$B$6,MATCH(Outputs!$F$2,'LS - Regional Split Share'!$A$2:$A$6,0)) -> 1 | Z14: =INDEX('LS - Regional Split Share'!$B$2:$B$6,MATCH(Outputs!$F$2,'LS - Regional Split Share'!$A$2:$A$6,0)) -> 1 | ... AB14: =INDEX('LS - Regional Split Share'!$B$2:$B$6,MATCH(Outputs!$F$2,'LS - Regional Split Share'!$A$2:$A$6,0)) -> 1
D15: Wales | F15: None | H15: 2% Nominal Funding | J15: Low Out-Commuting | R15: Base | S15: =INDEX('Labour Supply - Base'!$G$2:$G$12,MATCH(S12,'Labour Supply - Base'!$A$2:$A$12,0)) -> 11647.449 | T15: =INDEX('Labour Supply - Base'!$G$2:$G$12,MATCH(T12,'Labour Supply - Base'!$A$2:$A$12,0)) -> 11390.409 | U15: =INDEX('Labour Supply - Base'!$G$2:$G$12,MATCH(U12,'Labour Supply - Base'!$A$2:$A$12,0)) -> 11139.065 | V15: =INDEX('Labour Supply - Base'!$G$2:$G$12,MATCH(V12,'Labour Supply - Base'!$A$2:$A$12,0)) -> 10893.288 | W15: =INDEX('Labour Supply - Base'!$G$2:$G$12,MATCH(W12,'Labour Supply - Base'!$A$2:$A$12,0)) -> 10652.956 | X15: =INDEX('Labour Supply - Base'!$G$2:$G$12,MATCH(X12,'Labour Supply - Base'!$A$2:$A$12,0)) -> 10417.947 | Y15: =INDEX('Labour Supply - Base'!$G$2:$G$12,MATCH(Y12,'Labour Supply - Base'!$A$2:$A$12,0)) -> 10188.143 | Z15: =INDEX('Labour Supply - Base'!$G$2:$G$12,MATCH(Z12,'Labour Supply - Base'!$A$2:$A$12,0)) -> 9963.4284 | ... AB15: =INDEX('Labour Supply - Base'!$G$2:$G$12,MATCH(AB12,'Labour Supply - Base'!$A$2:$A$12,0)) -> 9528.8172
D16: North Wales | F16: Low | H16: 2% Real Funding | J16: Historic Trend Out-Commuting | R16: Redployment Potential Scenario | S16: {=INDEX('Redeployment Potential'!$C$2:$C$31,MATCH(1,(Outputs!$R$6='Redeployment Potential'!$A$2:$A$31)*(S$12='Redeployment Potential'!$B$2:$B$31),0))} -> 0 | T16: {=INDEX('Redeployment Potential'!$C$2:$C$31,MATCH(1,(Outputs!$R$6='Redeployment Potential'!$A$2:$A$31)*(T$12='Redeployment Potential'!$B$2:$B$31),0))} -> 0 | U16: {=INDEX('Redeployment Potential'!$C$2:$C$31,MATCH(1,(Outputs!$R$6='Redeployment Potential'!$A$2:$A$31)*(U$12='Redeployment Potential'!$B$2:$B$31),0))} -> 0 | V16: {=INDEX('Redeployment Potential'!$C$2:$C$31,MATCH(1,(Outputs!$R$6='Redeployment Potential'!$A$2:$A$31)*(V$12='Redeployment Potential'!$B$2:$B$31),0))} -> 0 | W16: {=INDEX('Redeployment Potential'!$C$2:$C$31,MATCH(1,(Outputs!$R$6='Redeployment Potential'!$A$2:$A$31)*(W$12='Redeployment Potential'!$B$2:$B$31),0))} -> 0 | X16: {=INDEX('Redeployment Potential'!$C$2:$C$31,MATCH(1,(Outputs!$R$6='Redeployment Potential'!$A$2:$A$31)*(X$12='Redeployment Potential'!$B$2:$B$31),0))} -> 0 | Y16: {=INDEX('Redeployment Potential'!$C$2:$C$31,MATCH(1,(Outputs!$R$6='Redeployment Potential'!$A$2:$A$31)*(Y$12='Redeployment Potential'!$B$2:$B$31),0))} -> 0 | Z16: {=INDEX('Redeployment Potential'!$C$2:$C$31,MATCH(1,(Outputs!$R$6='Redeployment Potential'!$A$2:$A$31)*(Z$12='Redeployment Potential'!$B$2:$B$31),0))} -> 0 | ... AB16: {=INDEX('Redeployment Potential'!$C$2:$C$31,MATCH(1,(Outputs!$R$6='Redeployment Potential'!$A$2:$A$31)*(AB$12='Redeployment Potential'!$B$2:$B$31),0))} -> 0
D17: Mid Wales | F17: High | J17: Elevated Out-Commuting | R17: Apprenticeships Scenario | S17: {=INDEX(Apprenticeships!$C$2:$C$21,MATCH(1,(Outputs!$R$7=Apprenticeships!$A$2:$A$21)*(S$12='Redeployment Potential'!$B$2:$B$31),0))} -> 636.3 | T17: {=INDEX(Apprenticeships!$C$2:$C$21,MATCH(1,(Outputs!$R$7=Apprenticeships!$A$2:$A$21)*(T$12='Redeployment Potential'!$B$2:$B$31),0))} -> 441.03333 | U17: {=INDEX(Apprenticeships!$C$2:$C$21,MATCH(1,(Outputs!$R$7=Apprenticeships!$A$2:$A$21)*(U$12='Redeployment Potential'!$B$2:$B$31),0))} -> 355.94681 | V17: {=INDEX(Apprenticeships!$C$2:$C$21,MATCH(1,(Outputs!$R$7=Apprenticeships!$A$2:$A$21)*(V$12='Redeployment Potential'!$B$2:$B$31),0))} -> 354.8772 | W17: {=INDEX(Apprenticeships!$C$2:$C$21,MATCH(1,(Outputs!$R$7=Apprenticeships!$A$2:$A$21)*(W$12='Redeployment Potential'!$B$2:$B$31),0))} -> 353.80235 | X17: {=INDEX(Apprenticeships!$C$2:$C$21,MATCH(1,(Outputs!$R$7=Apprenticeships!$A$2:$A$21)*(X$12='Redeployment Potential'!$B$2:$B$31),0))} -> 353.0597 | Y17: {=INDEX(Apprenticeships!$C$2:$C$21,MATCH(1,(Outputs!$R$7=Apprenticeships!$A$2:$A$21)*(Y$12='Redeployment Potential'!$B$2:$B$31),0))} -> 351.99294 | Z17: {=INDEX(Apprenticeships!$C$2:$C$21,MATCH(1,(Outputs!$R$7=Apprenticeships!$A$2:$A$21)*(Z$12='Redeployment Potential'!$B$2:$B$31),0))} -> 350.4946 | ... AB17: {=INDEX(Apprenticeships!$C$2:$C$21,MATCH(1,(Outputs!$R$7=Apprenticeships!$A$2:$A$21)*(AB$12='Redeployment Potential'!$B$2:$B$31),0))} -> 347.65195
D18: South West Wales | R18: Out-Commuting Scenrio | S18: {=INDEX('Out-Commuting'!$C$2:$C$31,MATCH(1,(Outputs!$R$8='Out-Commuting'!$A$2:$A$31)*(S$12='Out-Commuting'!$B$2:$B$31),0))} -> -515.63198 | T18: {=INDEX('Out-Commuting'!$C$2:$C$31,MATCH(1,(Outputs!$R$8='Out-Commuting'!$A$2:$A$31)*(T$12='Out-Commuting'!$B$2:$B$31),0))} -> -521.06127 | U18: {=INDEX('Out-Commuting'!$C$2:$C$31,MATCH(1,(Outputs!$R$8='Out-Commuting'!$A$2:$A$31)*(U$12='Out-Commuting'!$B$2:$B$31),0))} -> -526.79002 | V18: {=INDEX('Out-Commuting'!$C$2:$C$31,MATCH(1,(Outputs!$R$8='Out-Commuting'!$A$2:$A$31)*(V$12='Out-Commuting'!$B$2:$B$31),0))} -> -532.87664 | W18: {=INDEX('Out-Commuting'!$C$2:$C$31,MATCH(1,(Outputs!$R$8='Out-Commuting'!$A$2:$A$31)*(W$12='Out-Commuting'!$B$2:$B$31),0))} -> -539.48277 | X18: {=INDEX('Out-Commuting'!$C$2:$C$31,MATCH(1,(Outputs!$R$8='Out-Commuting'!$A$2:$A$31)*(X$12='Out-Commuting'!$B$2:$B$31),0))} -> -546.25768 | Y18: {=INDEX('Out-Commuting'!$C$2:$C$31,MATCH(1,(Outputs!$R$8='Out-Commuting'!$A$2:$A$31)*(Y$12='Out-Commuting'!$B$2:$B$31),0))} -> -553.06342 | Z18: {=INDEX('Out-Commuting'!$C$2:$C$31,MATCH(1,(Outputs!$R$8='Out-Commuting'!$A$2:$A$31)*(Z$12='Out-Commuting'!$B$2:$B$31),0))} -> -559.98634 | ... AB18: {=INDEX('Out-Commuting'!$C$2:$C$31,MATCH(1,(Outputs!$R$8='Out-Commuting'!$A$2:$A$31)*(AB$12='Out-Commuting'!$B$2:$B$31),0))} -> -574.16327
D19: South East Wales
S20: 2025/26 | T20: 2026/27 | U20: 2027/28 | V20: 2028/29 | W20: 2029/30 | X20: 2030/31 | Y20: 2031/32 | Z20: 2032/33 | AA20: 2033/34 | AB20: 2034/35
R21: Support
R22: Region | S22: =INDEX('LS - Regional Split Share'!$C$2:$C$6,MATCH(Outputs!$F$2,'LS - Regional Split Share'!$A$2:$A$6,0)) -> 1 | T22: =INDEX('LS - Regional Split Share'!$C$2:$C$6,MATCH(Outputs!$F$2,'LS - Regional Split Share'!$A$2:$A$6,0)) -> 1 | U22: =INDEX('LS - Regional Split Share'!$C$2:$C$6,MATCH(Outputs!$F$2,'LS - Regional Split Share'!$A$2:$A$6,0)) -> 1 | V22: =INDEX('LS - Regional Split Share'!$C$2:$C$6,MATCH(Outputs!$F$2,'LS - Regional Split Share'!$A$2:$A$6,0)) -> 1 | W22: =INDEX('LS - Regional Split Share'!$C$2:$C$6,MATCH(Outputs!$F$2,'LS - Regional Split Share'!$A$2:$A$6,0)) -> 1 | X22: =INDEX('LS - Regional Split Share'!$C$2:$C$6,MATCH(Outputs!$F$2,'LS - Regional Split Share'!$A$2:$A$6,0)) -> 1 | Y22: =INDEX('LS - Regional Split Share'!$C$2:$C$6,MATCH(Outputs!$F$2,'LS - Regional Split Share'!$A$2:$A$6,0)) -> 1 | Z22: =INDEX('LS - Regional Split Share'!$C$2:$C$6,MATCH(Outputs!$F$2,'LS - Regional Split Share'!$A$2:$A$6,0)) -> 1 | ... AB22: =INDEX('LS - Regional Split Share'!$C$2:$C$6,MATCH(Outputs!$F$2,'LS - Regional Split Share'!$A$2:$A$6,0)) -> 1
R23: Base | S23: =INDEX('Labour Supply - Base'!$N$2:$N$12,MATCH(S20,'Labour Supply - Base'!$A$2:$A$12,0)) -> 9641.602 | T23: =INDEX('Labour Supply - Base'!$N$2:$N$12,MATCH(T20,'Labour Supply - Base'!$A$2:$A$12,0)) -> 9422.3173 | U23: =INDEX('Labour Supply - Base'!$N$2:$N$12,MATCH(U20,'Labour Supply - Base'!$A$2:$A$12,0)) -> 9208.0291 | V23: =INDEX('Labour Supply - Base'!$N$2:$N$12,MATCH(V20,'Labour Supply - Base'!$A$2:$A$12,0)) -> 8998.6235 | W23: =INDEX('Labour Supply - Base'!$N$2:$N$12,MATCH(W20,'Labour Supply - Base'!$A$2:$A$12,0)) -> 8793.9891 | X23: =INDEX('Labour Supply - Base'!$N$2:$N$12,MATCH(X20,'Labour Supply - Base'!$A$2:$A$12,0)) -> 8594.0168 | Y23: =INDEX('Labour Supply - Base'!$N$2:$N$12,MATCH(Y20,'Labour Supply - Base'!$A$2:$A$12,0)) -> 8398.6005 | Z23: =INDEX('Labour Supply - Base'!$N$2:$N$12,MATCH(Z20,'Labour Supply - Base'!$A$2:$A$12,0)) -> 8207.636 | ... AB23: =INDEX('Labour Supply - Base'!$N$2:$N$12,MATCH(AB20,'Labour Supply - Base'!$A$2:$A$12,0)) -> 7838.6588
R24: Redployment Potential Scenario | S24: {=INDEX('Redeployment Potential'!$D$2:$D$31,MATCH(1,(Outputs!$R$6='Redeployment Potential'!$A$2:$A$31)*(S$12='Redeployment Potential'!$B$2:$B$31),0))} -> 0 | T24: {=INDEX('Redeployment Potential'!$D$2:$D$31,MATCH(1,(Outputs!$R$6='Redeployment Potential'!$A$2:$A$31)*(T$12='Redeployment Potential'!$B$2:$B$31),0))} -> 0 | U24: {=INDEX('Redeployment Potential'!$D$2:$D$31,MATCH(1,(Outputs!$R$6='Redeployment Potential'!$A$2:$A$31)*(U$12='Redeployment Potential'!$B$2:$B$31),0))} -> 0 | V24: {=INDEX('Redeployment Potential'!$D$2:$D$31,MATCH(1,(Outputs!$R$6='Redeployment Potential'!$A$2:$A$31)*(V$12='Redeployment Potential'!$B$2:$B$31),0))} -> 0 | W24: {=INDEX('Redeployment Potential'!$D$2:$D$31,MATCH(1,(Outputs!$R$6='Redeployment Potential'!$A$2:$A$31)*(W$12='Redeployment Potential'!$B$2:$B$31),0))} -> 0 | X24: {=INDEX('Redeployment Potential'!$D$2:$D$31,MATCH(1,(Outputs!$R$6='Redeployment Potential'!$A$2:$A$31)*(X$12='Redeployment Potential'!$B$2:$B$31),0))} -> 0 | Y24: {=INDEX('Redeployment Potential'!$D$2:$D$31,MATCH(1,(Outputs!$R$6='Redeployment Potential'!$A$2:$A$31)*(Y$12='Redeployment Potential'!$B$2:$B$31),0))} -> 0 | Z24: {=INDEX('Redeployment Potential'!$D$2:$D$31,MATCH(1,(Outputs!$R$6='Redeployment Potential'!$A$2:$A$31)*(Z$12='Redeployment Potential'!$B$2:$B$31),0))} -> 0 | ... AB24: {=INDEX('Redeployment Potential'!$D$2:$D$31,MATCH(1,(Outputs!$R$6='Redeployment Potential'!$A$2:$A$31)*(AB$12='Redeployment Potential'!$B$2:$B$31),0))} -> 0
R25: Apprenticeships Scenario | S25: {=INDEX(Apprenticeships!$D$2:$D$21,MATCH(1,(Outputs!$R$7=Apprenticeships!$A$2:$A$21)*(S$12='Redeployment Potential'!$B$2:$B$31),0))} -> 0 | T25: {=INDEX(Apprenticeships!$D$2:$D$21,MATCH(1,(Outputs!$R$7=Apprenticeships!$A$2:$A$21)*(T$12='Redeployment Potential'!$B$2:$B$31),0))} -> 0 | U25: {=INDEX(Apprenticeships!$D$2:$D$21,MATCH(1,(Outputs!$R$7=Apprenticeships!$A$2:$A$21)*(U$12='Redeployment Potential'!$B$2:$B$31),0))} -> 0 | V25: {=INDEX(Apprenticeships!$D$2:$D$21,MATCH(1,(Outputs!$R$7=Apprenticeships!$A$2:$A$21)*(V$12='Redeployment Potential'!$B$2:$B$31),0))} -> 0 | W25: {=INDEX(Apprenticeships!$D$2:$D$21,MATCH(1,(Outputs!$R$7=Apprenticeships!$A$2:$A$21)*(W$12='Redeployment Potential'!$B$2:$B$31),0))} -> 0 | X25: {=INDEX(Apprenticeships!$D$2:$D$21,MATCH(1,(Outputs!$R$7=Apprenticeships!$A$2:$A$21)*(X$12='Redeployment Potential'!$B$2:$B$31),0))} -> 0 | Y25: {=INDEX(Apprenticeships!$D$2:$D$21,MATCH(1,(Outputs!$R$7=Apprenticeships!$A$2:$A$21)*(Y$12='Redeployment Potential'!$B$2:$B$31),0))} -> 0 | Z25: {=INDEX(Apprenticeships!$D$2:$D$21,MATCH(1,(Outputs!$R$7=Apprenticeships!$A$2:$A$21)*(Z$12='Redeployment Potential'!$B$2:$B$31),0))} -> 0 | ... AB25: {=INDEX(Apprenticeships!$D$2:$D$21,MATCH(1,(Outputs!$R$7=Apprenticeships!$A$2:$A$21)*(AB$12='Redeployment Potential'!$B$2:$B$31),0))} -> 0
R26: Out-Commuting Scenrio | S26: {=INDEX('Out-Commuting'!$D$2:$D$31,MATCH(1,(Outputs!$R$8='Out-Commuting'!$A$2:$A$31)*(S$12='Out-Commuting'!$B$2:$B$31),0))} -> -426.62676 | T26: {=INDEX('Out-Commuting'!$D$2:$D$31,MATCH(1,(Outputs!$R$8='Out-Commuting'!$A$2:$A$31)*(T$12='Out-Commuting'!$B$2:$B$31),0))} -> -430.61188 | U26: {=INDEX('Out-Commuting'!$D$2:$D$31,MATCH(1,(Outputs!$R$8='Out-Commuting'!$A$2:$A$31)*(U$12='Out-Commuting'!$B$2:$B$31),0))} -> -434.83284 | V26: {=INDEX('Out-Commuting'!$D$2:$D$31,MATCH(1,(Outputs!$R$8='Out-Commuting'!$A$2:$A$31)*(V$12='Out-Commuting'!$B$2:$B$31),0))} -> -439.33692 | W26: {=INDEX('Out-Commuting'!$D$2:$D$31,MATCH(1,(Outputs!$R$8='Out-Commuting'!$A$2:$A$31)*(W$12='Out-Commuting'!$B$2:$B$31),0))} -> -444.25614 | X26: {=INDEX('Out-Commuting'!$D$2:$D$31,MATCH(1,(Outputs!$R$8='Out-Commuting'!$A$2:$A$31)*(X$12='Out-Commuting'!$B$2:$B$31),0))} -> -449.30048 | Y26: {=INDEX('Out-Commuting'!$D$2:$D$31,MATCH(1,(Outputs!$R$8='Out-Commuting'!$A$2:$A$31)*(Y$12='Out-Commuting'!$B$2:$B$31),0))} -> -454.35608 | Z26: {=INDEX('Out-Commuting'!$D$2:$D$31,MATCH(1,(Outputs!$R$8='Out-Commuting'!$A$2:$A$31)*(Z$12='Out-Commuting'!$B$2:$B$31),0))} -> -459.49369 | ... AB26: {=INDEX('Out-Commuting'!$D$2:$D$31,MATCH(1,(Outputs!$R$8='Out-Commuting'!$A$2:$A$31)*(AB$12='Out-Commuting'!$B$2:$B$31),0))} -> -469.99669
S28: 2025/26 | T28: 2026/27 | U28: 2027/28 | V28: 2028/29 | W28: 2029/30 | X28: 2030/31 | Y28: 2031/32 | Z28: 2032/33 | AA28: 2033/34 | AB28: 2034/35
R29: Supervisory
R30: Region | S30: =INDEX('LS - Regional Split Share'!$D$2:$D$6,MATCH(Outputs!$F$2,'LS - Regional Split Share'!$A$2:$A$6,0)) -> 1 | T30: =INDEX('LS - Regional Split Share'!$D$2:$D$6,MATCH(Outputs!$F$2,'LS - Regional Split Share'!$A$2:$A$6,0)) -> 1 | U30: =INDEX('LS - Regional Split Share'!$D$2:$D$6,MATCH(Outputs!$F$2,'LS - Regional Split Share'!$A$2:$A$6,0)) -> 1 | V30: =INDEX('LS - Regional Split Share'!$D$2:$D$6,MATCH(Outputs!$F$2,'LS - Regional Split Share'!$A$2:$A$6,0)) -> 1 | W30: =INDEX('LS - Regional Split Share'!$D$2:$D$6,MATCH(Outputs!$F$2,'LS - Regional Split Share'!$A$2:$A$6,0)) -> 1 | X30: =INDEX('LS - Regional Split Share'!$D$2:$D$6,MATCH(Outputs!$F$2,'LS - Regional Split Share'!$A$2:$A$6,0)) -> 1 | Y30: =INDEX('LS - Regional Split Share'!$D$2:$D$6,MATCH(Outputs!$F$2,'LS - Regional Split Share'!$A$2:$A$6,0)) -> 1 | Z30: =INDEX('LS - Regional Split Share'!$D$2:$D$6,MATCH(Outputs!$F$2,'LS - Regional Split Share'!$A$2:$A$6,0)) -> 1 | ... AB30: =INDEX('LS - Regional Split Share'!$D$2:$D$6,MATCH(Outputs!$F$2,'LS - Regional Split Share'!$A$2:$A$6,0)) -> 1
R31: Base | S31: =INDEX('Labour Supply - Base'!$Y$2:$Y$12,MATCH(S28,'Labour Supply - Base'!$A$2:$A$12,0)) -> 3066.1565 | T31: =INDEX('Labour Supply - Base'!$Y$2:$Y$12,MATCH(T28,'Labour Supply - Base'!$A$2:$A$12,0)) -> 2990.4971 | U31: =INDEX('Labour Supply - Base'!$Y$2:$Y$12,MATCH(U28,'Labour Supply - Base'!$A$2:$A$12,0)) -> 2916.7342 | V31: =INDEX('Labour Supply - Base'!$Y$2:$Y$12,MATCH(V28,'Labour Supply - Base'!$A$2:$A$12,0)) -> 2844.8196 | W31: =INDEX('Labour Supply - Base'!$Y$2:$Y$12,MATCH(W28,'Labour Supply - Base'!$A$2:$A$12,0)) -> 2774.7061 | X31: =INDEX('Labour Supply - Base'!$Y$2:$Y$12,MATCH(X28,'Labour Supply - Base'!$A$2:$A$12,0)) -> 2706.3479 | Y31: =INDEX('Labour Supply - Base'!$Y$2:$Y$12,MATCH(Y28,'Labour Supply - Base'!$A$2:$A$12,0)) -> 2639.7003 | Z31: =INDEX('Labour Supply - Base'!$Y$2:$Y$12,MATCH(Z28,'Labour Supply - Base'!$A$2:$A$12,0)) -> 2574.7198 | ... AB31: =INDEX('Labour Supply - Base'!$Y$2:$Y$12,MATCH(AB28,'Labour Supply - Base'!$A$2:$A$12,0)) -> 2449.5917
R32: Redployment Potential Scenario | S32: {=INDEX('Redeployment Potential'!$E$2:$E$31,MATCH(1,(Outputs!$R$6='Redeployment Potential'!$A$2:$A$31)*(S$12='Redeployment Potential'!$B$2:$B$31),0))} -> 0 | T32: {=INDEX('Redeployment Potential'!$E$2:$E$31,MATCH(1,(Outputs!$R$6='Redeployment Potential'!$A$2:$A$31)*(T$12='Redeployment Potential'!$B$2:$B$31),0))} -> 0 | U32: {=INDEX('Redeployment Potential'!$E$2:$E$31,MATCH(1,(Outputs!$R$6='Redeployment Potential'!$A$2:$A$31)*(U$12='Redeployment Potential'!$B$2:$B$31),0))} -> 0 | V32: {=INDEX('Redeployment Potential'!$E$2:$E$31,MATCH(1,(Outputs!$R$6='Redeployment Potential'!$A$2:$A$31)*(V$12='Redeployment Potential'!$B$2:$B$31),0))} -> 0 | W32: {=INDEX('Redeployment Potential'!$E$2:$E$31,MATCH(1,(Outputs!$R$6='Redeployment Potential'!$A$2:$A$31)*(W$12='Redeployment Potential'!$B$2:$B$31),0))} -> 0 | X32: {=INDEX('Redeployment Potential'!$E$2:$E$31,MATCH(1,(Outputs!$R$6='Redeployment Potential'!$A$2:$A$31)*(X$12='Redeployment Potential'!$B$2:$B$31),0))} -> 0 | Y32: {=INDEX('Redeployment Potential'!$E$2:$E$31,MATCH(1,(Outputs!$R$6='Redeployment Potential'!$A$2:$A$31)*(Y$12='Redeployment Potential'!$B$2:$B$31),0))} -> 0 | Z32: {=INDEX('Redeployment Potential'!$E$2:$E$31,MATCH(1,(Outputs!$R$6='Redeployment Potential'!$A$2:$A$31)*(Z$12='Redeployment Potential'!$B$2:$B$31),0))} -> 0 | ... AB32: {=INDEX('Redeployment Potential'!$E$2:$E$31,MATCH(1,(Outputs!$R$6='Redeployment Potential'!$A$2:$A$31)*(AB$12='Redeployment Potential'!$B$2:$B$31),0))} -> 0
R33: Apprenticeships Scenario | S33: {=INDEX(Apprenticeships!$E$2:$E$21,MATCH(1,(Outputs!$R$7=Apprenticeships!$A$2:$A$21)*(S$12='Redeployment Potential'!$B$2:$B$31),0))} -> 20.2 | T33: {=INDEX(Apprenticeships!$E$2:$E$21,MATCH(1,(Outputs!$R$7=Apprenticeships!$A$2:$A$21)*(T$12='Redeployment Potential'!$B$2:$B$31),0))} -> 20.2 | U33: {=INDEX(Apprenticeships!$E$2:$E$21,MATCH(1,(Outputs!$R$7=Apprenticeships!$A$2:$A$21)*(U$12='Redeployment Potential'!$B$2:$B$31),0))} -> 7.0711691 | V33: {=INDEX(Apprenticeships!$E$2:$E$21,MATCH(1,(Outputs!$R$7=Apprenticeships!$A$2:$A$21)*(V$12='Redeployment Potential'!$B$2:$B$31),0))} -> 7.0499205 | W33: {=INDEX(Apprenticeships!$E$2:$E$21,MATCH(1,(Outputs!$R$7=Apprenticeships!$A$2:$A$21)*(W$12='Redeployment Potential'!$B$2:$B$31),0))} -> 7.0285676 | X33: {=INDEX(Apprenticeships!$E$2:$E$21,MATCH(1,(Outputs!$R$7=Apprenticeships!$A$2:$A$21)*(X$12='Redeployment Potential'!$B$2:$B$31),0))} -> 7.0138144 | Y33: {=INDEX(Apprenticeships!$E$2:$E$21,MATCH(1,(Outputs!$R$7=Apprenticeships!$A$2:$A$21)*(Y$12='Redeployment Potential'!$B$2:$B$31),0))} -> 6.9926223 | Z33: {=INDEX(Apprenticeships!$E$2:$E$21,MATCH(1,(Outputs!$R$7=Apprenticeships!$A$2:$A$21)*(Z$12='Redeployment Potential'!$B$2:$B$31),0))} -> 6.9628567 | ... AB33: {=INDEX(Apprenticeships!$E$2:$E$21,MATCH(1,(Outputs!$R$7=Apprenticeships!$A$2:$A$21)*(AB$12='Redeployment Potential'!$B$2:$B$31),0))} -> 6.9063851
R34: Out-Commuting Scenrio | S34: {=INDEX('Out-Commuting'!$E$2:$E$31,MATCH(1,(Outputs!$R$8='Out-Commuting'!$A$2:$A$31)*(S$12='Out-Commuting'!$B$2:$B$31),0))} -> -135.85653 | T34: {=INDEX('Out-Commuting'!$E$2:$E$31,MATCH(1,(Outputs!$R$8='Out-Commuting'!$A$2:$A$31)*(T$12='Out-Commuting'!$B$2:$B$31),0))} -> -137.04025 | U34: {=INDEX('Out-Commuting'!$E$2:$E$31,MATCH(1,(Outputs!$R$8='Out-Commuting'!$A$2:$A$31)*(U$12='Out-Commuting'!$B$2:$B$31),0))} -> -138.2993 | V34: {=INDEX('Out-Commuting'!$E$2:$E$31,MATCH(1,(Outputs!$R$8='Out-Commuting'!$A$2:$A$31)*(V$12='Out-Commuting'!$B$2:$B$31),0))} -> -139.64863 | W34: {=INDEX('Out-Commuting'!$E$2:$E$31,MATCH(1,(Outputs!$R$8='Out-Commuting'!$A$2:$A$31)*(W$12='Out-Commuting'!$B$2:$B$31),0))} -> -141.13007 | X34: {=INDEX('Out-Commuting'!$E$2:$E$31,MATCH(1,(Outputs!$R$8='Out-Commuting'!$A$2:$A$31)*(X$12='Out-Commuting'!$B$2:$B$31),0))} -> -142.65137 | Y34: {=INDEX('Out-Commuting'!$E$2:$E$31,MATCH(1,(Outputs!$R$8='Out-Commuting'!$A$2:$A$31)*(Y$12='Out-Commuting'!$B$2:$B$31),0))} -> -144.17638 | Z34: {=INDEX('Out-Commuting'!$E$2:$E$31,MATCH(1,(Outputs!$R$8='Out-Commuting'!$A$2:$A$31)*(Z$12='Out-Commuting'!$B$2:$B$31),0))} -> -145.7276 | ... AB34: {=INDEX('Out-Commuting'!$E$2:$E$31,MATCH(1,(Outputs!$R$8='Out-Commuting'!$A$2:$A$31)*(AB$12='Out-Commuting'!$B$2:$B$31),0))} -> -148.90294
R37: Base | S37: 2025/26 | T37: 2026/27 | U37: 2027/28 | V37: 2028/29 | W37: 2029/30 | X37: 2030/31 | Y37: 2031/32 | Z37: 2032/33 | AA37: 2033/34 | AB37: 2034/35
R38: 5241 Electricians and electrical fitters | S38: =VLOOKUP(S$37,'Labour Supply - Base'!$A$1:$Y$12,MATCH($R38,'Labour Supply - Base'!$A$1:$Y$1,0),0) -> 3617.18 | T38: =VLOOKUP(T$37,'Labour Supply - Base'!$A$1:$Y$12,MATCH($R38,'Labour Supply - Base'!$A$1:$Y$1,0),0) -> 3544.8364 | U38: =VLOOKUP(U$37,'Labour Supply - Base'!$A$1:$Y$12,MATCH($R38,'Labour Supply - Base'!$A$1:$Y$1,0),0) -> 3473.9397 | V38: =VLOOKUP(V$37,'Labour Supply - Base'!$A$1:$Y$12,MATCH($R38,'Labour Supply - Base'!$A$1:$Y$1,0),0) -> 3404.4609 | W38: =VLOOKUP(W$37,'Labour Supply - Base'!$A$1:$Y$12,MATCH($R38,'Labour Supply - Base'!$A$1:$Y$1,0),0) -> 3336.3717 | X38: =VLOOKUP(X$37,'Labour Supply - Base'!$A$1:$Y$12,MATCH($R38,'Labour Supply - Base'!$A$1:$Y$1,0),0) -> 3269.6442 | Y38: =VLOOKUP(Y$37,'Labour Supply - Base'!$A$1:$Y$12,MATCH($R38,'Labour Supply - Base'!$A$1:$Y$1,0),0) -> 3204.2513 | Z38: =VLOOKUP(Z$37,'Labour Supply - Base'!$A$1:$Y$12,MATCH($R38,'Labour Supply - Base'!$A$1:$Y$1,0),0) -> 3140.1663 | ... AB38: =VLOOKUP(AB$37,'Labour Supply - Base'!$A$1:$Y$12,MATCH($R38,'Labour Supply - Base'!$A$1:$Y$1,0),0) -> 3015.8157
R39: 5314 Roofers, roof tilers and slaters | S39: =VLOOKUP(S$37,'Labour Supply - Base'!$A$1:$Y$12,MATCH($R39,'Labour Supply - Base'!$A$1:$Y$1,0),0) -> 257.19686 | T39: =VLOOKUP(T$37,'Labour Supply - Base'!$A$1:$Y$12,MATCH($R39,'Labour Supply - Base'!$A$1:$Y$1,0),0) -> 251.28133 | U39: =VLOOKUP(U$37,'Labour Supply - Base'!$A$1:$Y$12,MATCH($R39,'Labour Supply - Base'!$A$1:$Y$1,0),0) -> 245.50186 | V39: =VLOOKUP(V$37,'Labour Supply - Base'!$A$1:$Y$12,MATCH($R39,'Labour Supply - Base'!$A$1:$Y$1,0),0) -> 239.85531 | W39: =VLOOKUP(W$37,'Labour Supply - Base'!$A$1:$Y$12,MATCH($R39,'Labour Supply - Base'!$A$1:$Y$1,0),0) -> 234.33864 | X39: =VLOOKUP(X$37,'Labour Supply - Base'!$A$1:$Y$12,MATCH($R39,'Labour Supply - Base'!$A$1:$Y$1,0),0) -> 228.94885 | Y39: =VLOOKUP(Y$37,'Labour Supply - Base'!$A$1:$Y$12,MATCH($R39,'Labour Supply - Base'!$A$1:$Y$1,0),0) -> 223.68303 | Z39: =VLOOKUP(Z$37,'Labour Supply - Base'!$A$1:$Y$12,MATCH($R39,'Labour Supply - Base'!$A$1:$Y$1,0),0) -> 218.53832 | ... AB39: =VLOOKUP(AB$37,'Labour Supply - Base'!$A$1:$Y$12,MATCH($R39,'Labour Supply - Base'!$A$1:$Y$1,0),0) -> 208.60116
R40: 5315 Plumbers & heating and ventilating installers and repairers | S40: =VLOOKUP(S$37,'Labour Supply - Base'!$A$1:$Y$12,MATCH($R40,'Labour Supply - Base'!$A$1:$Y$1,0),0) -> 6677.795 | T40: =VLOOKUP(T$37,'Labour Supply - Base'!$A$1:$Y$12,MATCH($R40,'Labour Supply - Base'!$A$1:$Y$1,0),0) -> 6524.2057 | U40: =VLOOKUP(U$37,'Labour Supply - Base'!$A$1:$Y$12,MATCH($R40,'Labour Supply - Base'!$A$1:$Y$1,0),0) -> 6374.149 | V40: =VLOOKUP(V$37,'Labour Supply - Base'!$A$1:$Y$12,MATCH($R40,'Labour Supply - Base'!$A$1:$Y$1,0),0) -> 6227.5436 | W40: =VLOOKUP(W$37,'Labour Supply - Base'!$A$1:$Y$12,MATCH($R40,'Labour Supply - Base'!$A$1:$Y$1,0),0) -> 6084.3101 | X40: =VLOOKUP(X$37,'Labour Supply - Base'!$A$1:$Y$12,MATCH($R40,'Labour Supply - Base'!$A$1:$Y$1,0),0) -> 5944.3709 | Y40: =VLOOKUP(Y$37,'Labour Supply - Base'!$A$1:$Y$12,MATCH($R40,'Labour Supply - Base'!$A$1:$Y$1,0),0) -> 5807.6504 | Z40: =VLOOKUP(Z$37,'Labour Supply - Base'!$A$1:$Y$12,MATCH($R40,'Labour Supply - Base'!$A$1:$Y$1,0),0) -> 5674.0744 | ... AB40: =VLOOKUP(AB$37,'Labour Supply - Base'!$A$1:$Y$12,MATCH($R40,'Labour Supply - Base'!$A$1:$Y$1,0),0) -> 5416.0686
R41: 5317 Glaziers, window fabricators and fitters | S41: =VLOOKUP(S$37,'Labour Supply - Base'!$A$1:$Y$12,MATCH($R41,'Labour Supply - Base'!$A$1:$Y$1,0),0) -> 684.93736 | T41: =VLOOKUP(T$37,'Labour Supply - Base'!$A$1:$Y$12,MATCH($R41,'Labour Supply - Base'!$A$1:$Y$1,0),0) -> 669.1838 | U41: =VLOOKUP(U$37,'Labour Supply - Base'!$A$1:$Y$12,MATCH($R41,'Labour Supply - Base'!$A$1:$Y$1,0),0) -> 653.79257 | V41: =VLOOKUP(V$37,'Labour Supply - Base'!$A$1:$Y$12,MATCH($R41,'Labour Supply - Base'!$A$1:$Y$1,0),0) -> 638.75535 | W41: =VLOOKUP(W$37,'Labour Supply - Base'!$A$1:$Y$12,MATCH($R41,'Labour Supply - Base'!$A$1:$Y$1,0),0) -> 624.06397 | X41: =VLOOKUP(X$37,'Labour Supply - Base'!$A$1:$Y$12,MATCH($R41,'Labour Supply - Base'!$A$1:$Y$1,0),0) -> 609.7105 | Y41: =VLOOKUP(Y$37,'Labour Supply - Base'!$A$1:$Y$12,MATCH($R41,'Labour Supply - Base'!$A$1:$Y$1,0),0) -> 595.68716 | Z41: =VLOOKUP(Z$37,'Labour Supply - Base'!$A$1:$Y$12,MATCH($R41,'Labour Supply - Base'!$A$1:$Y$1,0),0) -> 581.98635 | ... AB41: =VLOOKUP(AB$37,'Labour Supply - Base'!$A$1:$Y$12,MATCH($R41,'Labour Supply - Base'!$A$1:$Y$1,0),0) -> 555.52285
R42: 5319 Construction and building trades n.e.c. | S42: =VLOOKUP(S$37,'Labour Supply - Base'!$A$1:$Y$12,MATCH($R42,'Labour Supply - Base'!$A$1:$Y$1,0),0) -> 410.34 | T42: =VLOOKUP(T$37,'Labour Supply - Base'!$A$1:$Y$12,MATCH($R42,'Labour Supply - Base'!$A$1:$Y$1,0),0) -> 400.90218 | U42: =VLOOKUP(U$37,'Labour Supply - Base'!$A$1:$Y$12,MATCH($R42,'Labour Supply - Base'!$A$1:$Y$1,0),0) -> 391.68143 | V42: =VLOOKUP(V$37,'Labour Supply - Base'!$A$1:$Y$12,MATCH($R42,'Labour Supply - Base'!$A$1:$Y$1,0),0) -> 382.67276 | W42: =VLOOKUP(W$37,'Labour Supply - Base'!$A$1:$Y$12,MATCH($R42,'Labour Supply - Base'!$A$1:$Y$1,0),0) -> 373.87128 | X42: =VLOOKUP(X$37,'Labour Supply - Base'!$A$1:$Y$12,MATCH($R42,'Labour Supply - Base'!$A$1:$Y$1,0),0) -> 365.27224 | Y42: =VLOOKUP(Y$37,'Labour Supply - Base'!$A$1:$Y$12,MATCH($R42,'Labour Supply - Base'!$A$1:$Y$1,0),0) -> 356.87098 | Z42: =VLOOKUP(Z$37,'Labour Supply - Base'!$A$1:$Y$12,MATCH($R42,'Labour Supply - Base'!$A$1:$Y$1,0),0) -> 348.66295 | ... AB42: =VLOOKUP(AB$37,'Labour Supply - Base'!$A$1:$Y$12,MATCH($R42,'Labour Supply - Base'!$A$1:$Y$1,0),0) -> 332.8089
R43: 5313 Bricklayers | S43: =VLOOKUP(S$37,'Labour Supply - Base'!$A$1:$Y$12,MATCH($R43,'Labour Supply - Base'!$A$1:$Y$1,0),0) -> 318.502 | T43: =VLOOKUP(T$37,'Labour Supply - Base'!$A$1:$Y$12,MATCH($R43,'Labour Supply - Base'!$A$1:$Y$1,0),0) -> 311.17645 | U43: =VLOOKUP(U$37,'Labour Supply - Base'!$A$1:$Y$12,MATCH($R43,'Labour Supply - Base'!$A$1:$Y$1,0),0) -> 304.0194 | V43: =VLOOKUP(V$37,'Labour Supply - Base'!$A$1:$Y$12,MATCH($R43,'Labour Supply - Base'!$A$1:$Y$1,0),0) -> 297.02695 | W43: =VLOOKUP(W$37,'Labour Supply - Base'!$A$1:$Y$12,MATCH($R43,'Labour Supply - Base'!$A$1:$Y$1,0),0) -> 290.19533 | X43: =VLOOKUP(X$37,'Labour Supply - Base'!$A$1:$Y$12,MATCH($R43,'Labour Supply - Base'!$A$1:$Y$1,0),0) -> 283.52084 | Y43: =VLOOKUP(Y$37,'Labour Supply - Base'!$A$1:$Y$12,MATCH($R43,'Labour Supply - Base'!$A$1:$Y$1,0),0) -> 276.99986 | Z43: =VLOOKUP(Z$37,'Labour Supply - Base'!$A$1:$Y$12,MATCH($R43,'Labour Supply - Base'!$A$1:$Y$1,0),0) -> 270.62886 | ... AB43: =VLOOKUP(AB$37,'Labour Supply - Base'!$A$1:$Y$12,MATCH($R43,'Labour Supply - Base'!$A$1:$Y$1,0),0) -> 258.3231
R44: 5316 Carpenters and joiners | S44: =VLOOKUP(S$37,'Labour Supply - Base'!$A$1:$Y$12,MATCH($R44,'Labour Supply - Base'!$A$1:$Y$1,0),0) -> 3805.415 | T44: =VLOOKUP(T$37,'Labour Supply - Base'!$A$1:$Y$12,MATCH($R44,'Labour Supply - Base'!$A$1:$Y$1,0),0) -> 3717.8905 | U44: =VLOOKUP(U$37,'Labour Supply - Base'!$A$1:$Y$12,MATCH($R44,'Labour Supply - Base'!$A$1:$Y$1,0),0) -> 3632.379 | V44: =VLOOKUP(V$37,'Labour Supply - Base'!$A$1:$Y$12,MATCH($R44,'Labour Supply - Base'!$A$1:$Y$1,0),0) -> 3548.8343 | W44: =VLOOKUP(W$37,'Labour Supply - Base'!$A$1:$Y$12,MATCH($R44,'Labour Supply - Base'!$A$1:$Y$1,0),0) -> 3467.2111 | X44: =VLOOKUP(X$37,'Labour Supply - Base'!$A$1:$Y$12,MATCH($R44,'Labour Supply - Base'!$A$1:$Y$1,0),0) -> 3387.4652 | Y44: =VLOOKUP(Y$37,'Labour Supply - Base'!$A$1:$Y$12,MATCH($R44,'Labour Supply - Base'!$A$1:$Y$1,0),0) -> 3309.5535 | Z44: =VLOOKUP(Z$37,'Labour Supply - Base'!$A$1:$Y$12,MATCH($R44,'Labour Supply - Base'!$A$1:$Y$1,0),0) -> 3233.4338 | ... AB44: =VLOOKUP(AB$37,'Labour Supply - Base'!$A$1:$Y$12,MATCH($R44,'Labour Supply - Base'!$A$1:$Y$1,0),0) -> 3086.4063
R45: 5321 Plasterers | S45: =VLOOKUP(S$37,'Labour Supply - Base'!$A$1:$Y$12,MATCH($R45,'Labour Supply - Base'!$A$1:$Y$1,0),0) -> 1505.557 | T45: =VLOOKUP(T$37,'Labour Supply - Base'!$A$1:$Y$12,MATCH($R45,'Labour Supply - Base'!$A$1:$Y$1,0),0) -> 1470.9292 | U45: =VLOOKUP(U$37,'Labour Supply - Base'!$A$1:$Y$12,MATCH($R45,'Labour Supply - Base'!$A$1:$Y$1,0),0) -> 1437.0978 | V45: =VLOOKUP(V$37,'Labour Supply - Base'!$A$1:$Y$12,MATCH($R45,'Labour Supply - Base'!$A$1:$Y$1,0),0) -> 1404.0446 | W45: =VLOOKUP(W$37,'Labour Supply - Base'!$A$1:$Y$12,MATCH($R45,'Labour Supply - Base'!$A$1:$Y$1,0),0) -> 1371.7515 | X45: =VLOOKUP(X$37,'Labour Supply - Base'!$A$1:$Y$12,MATCH($R45,'Labour Supply - Base'!$A$1:$Y$1,0),0) -> 1340.2013 | Y45: =VLOOKUP(Y$37,'Labour Supply - Base'!$A$1:$Y$12,MATCH($R45,'Labour Supply - Base'!$A$1:$Y$1,0),0) -> 1309.3766 | Z45: =VLOOKUP(Z$37,'Labour Supply - Base'!$A$1:$Y$12,MATCH($R45,'Labour Supply - Base'!$A$1:$Y$1,0),0) -> 1279.261 | ... AB45: =VLOOKUP(AB$37,'Labour Supply - Base'!$A$1:$Y$12,MATCH($R45,'Labour Supply - Base'!$A$1:$Y$1,0),0) -> 1221.0917
R46: 5322 Floorers and wall tilers | S46: =VLOOKUP(S$37,'Labour Supply - Base'!$A$1:$Y$12,MATCH($R46,'Labour Supply - Base'!$A$1:$Y$1,0),0) -> 2264.686 | T46: =VLOOKUP(T$37,'Labour Supply - Base'!$A$1:$Y$12,MATCH($R46,'Labour Supply - Base'!$A$1:$Y$1,0),0) -> 2212.5982 | U46: =VLOOKUP(U$37,'Labour Supply - Base'!$A$1:$Y$12,MATCH($R46,'Labour Supply - Base'!$A$1:$Y$1,0),0) -> 2161.7085 | V46: =VLOOKUP(V$37,'Labour Supply - Base'!$A$1:$Y$12,MATCH($R46,'Labour Supply - Base'!$A$1:$Y$1,0),0) -> 2111.9892 | W46: =VLOOKUP(W$37,'Labour Supply - Base'!$A$1:$Y$12,MATCH($R46,'Labour Supply - Base'!$A$1:$Y$1,0),0) -> 2063.4134 | X46: =VLOOKUP(X$37,'Labour Supply - Base'!$A$1:$Y$12,MATCH($R46,'Labour Supply - Base'!$A$1:$Y$1,0),0) -> 2015.9549 | Y46: =VLOOKUP(Y$37,'Labour Supply - Base'!$A$1:$Y$12,MATCH($R46,'Labour Supply - Base'!$A$1:$Y$1,0),0) -> 1969.5879 | Z46: =VLOOKUP(Z$37,'Labour Supply - Base'!$A$1:$Y$12,MATCH($R46,'Labour Supply - Base'!$A$1:$Y$1,0),0) -> 1924.2874 | ... AB46: =VLOOKUP(AB$37,'Labour Supply - Base'!$A$1:$Y$12,MATCH($R46,'Labour Supply - Base'!$A$1:$Y$1,0),0) -> 1836.7881
R47: 5323 Painters and decorators | S47: =VLOOKUP(S$37,'Labour Supply - Base'!$A$1:$Y$12,MATCH($R47,'Labour Supply - Base'!$A$1:$Y$1,0),0) -> 1129.412 | T47: =VLOOKUP(T$37,'Labour Supply - Base'!$A$1:$Y$12,MATCH($R47,'Labour Supply - Base'!$A$1:$Y$1,0),0) -> 1103.4355 | U47: =VLOOKUP(U$37,'Labour Supply - Base'!$A$1:$Y$12,MATCH($R47,'Labour Supply - Base'!$A$1:$Y$1,0),0) -> 1078.0565 | V47: =VLOOKUP(V$37,'Labour Supply - Base'!$A$1:$Y$12,MATCH($R47,'Labour Supply - Base'!$A$1:$Y$1,0),0) -> 1053.2612 | W47: =VLOOKUP(W$37,'Labour Supply - Base'!$A$1:$Y$12,MATCH($R47,'Labour Supply - Base'!$A$1:$Y$1,0),0) -> 1029.0362 | X47: =VLOOKUP(X$37,'Labour Supply - Base'!$A$1:$Y$12,MATCH($R47,'Labour Supply - Base'!$A$1:$Y$1,0),0) -> 1005.3684 | Y47: =VLOOKUP(Y$37,'Labour Supply - Base'!$A$1:$Y$12,MATCH($R47,'Labour Supply - Base'!$A$1:$Y$1,0),0) -> 982.24489 | Z47: =VLOOKUP(Z$37,'Labour Supply - Base'!$A$1:$Y$12,MATCH($R47,'Labour Supply - Base'!$A$1:$Y$1,0),0) -> 959.65326 | ... AB47: =VLOOKUP(AB$37,'Labour Supply - Base'!$A$1:$Y$12,MATCH($R47,'Labour Supply - Base'!$A$1:$Y$1,0),0) -> 916.01687
R48: 9129 Elementary construction occupations n.e.c. | S48: =VLOOKUP(S$37,'Labour Supply - Base'!$A$1:$Y$12,MATCH($R48,'Labour Supply - Base'!$A$1:$Y$1,0),0) -> 618.03 | T48: =VLOOKUP(T$37,'Labour Supply - Base'!$A$1:$Y$12,MATCH($R48,'Labour Supply - Base'!$A$1:$Y$1,0),0) -> 606.28743 | U48: =VLOOKUP(U$37,'Labour Supply - Base'!$A$1:$Y$12,MATCH($R48,'Labour Supply - Base'!$A$1:$Y$1,0),0) -> 594.76797 | V48: =VLOOKUP(V$37,'Labour Supply - Base'!$A$1:$Y$12,MATCH($R48,'Labour Supply - Base'!$A$1:$Y$1,0),0) -> 583.46738 | W48: =VLOOKUP(W$37,'Labour Supply - Base'!$A$1:$Y$12,MATCH($R48,'Labour Supply - Base'!$A$1:$Y$1,0),0) -> 572.3815 | X48: =VLOOKUP(X$37,'Labour Supply - Base'!$A$1:$Y$12,MATCH($R48,'Labour Supply - Base'!$A$1:$Y$1,0),0) -> 561.50625 | Y48: =VLOOKUP(Y$37,'Labour Supply - Base'!$A$1:$Y$12,MATCH($R48,'Labour Supply - Base'!$A$1:$Y$1,0),0) -> 550.83763 | Z48: =VLOOKUP(Z$37,'Labour Supply - Base'!$A$1:$Y$12,MATCH($R48,'Labour Supply - Base'!$A$1:$Y$1,0),0) -> 540.37172 | ... AB48: =VLOOKUP(AB$37,'Labour Supply - Base'!$A$1:$Y$12,MATCH($R48,'Labour Supply - Base'!$A$1:$Y$1,0),0) -> 520.03266
R49: 2121 Civil Engineers | S49: =VLOOKUP(S$37,'Labour Supply - Base'!$A$1:$Y$12,MATCH($R49,'Labour Supply - Base'!$A$1:$Y$1,0),0) -> 0 | T49: =VLOOKUP(T$37,'Labour Supply - Base'!$A$1:$Y$12,MATCH($R49,'Labour Supply - Base'!$A$1:$Y$1,0),0) -> 0 | U49: =VLOOKUP(U$37,'Labour Supply - Base'!$A$1:$Y$12,MATCH($R49,'Labour Supply - Base'!$A$1:$Y$1,0),0) -> 0 | V49: =VLOOKUP(V$37,'Labour Supply - Base'!$A$1:$Y$12,MATCH($R49,'Labour Supply - Base'!$A$1:$Y$1,0),0) -> 0 | W49: =VLOOKUP(W$37,'Labour Supply - Base'!$A$1:$Y$12,MATCH($R49,'Labour Supply - Base'!$A$1:$Y$1,0),0) -> 0 | X49: =VLOOKUP(X$37,'Labour Supply - Base'!$A$1:$Y$12,MATCH($R49,'Labour Supply - Base'!$A$1:$Y$1,0),0) -> 0 | Y49: =VLOOKUP(Y$37,'Labour Supply - Base'!$A$1:$Y$12,MATCH($R49,'Labour Supply - Base'!$A$1:$Y$1,0),0) -> 0 | Z49: =VLOOKUP(Z$37,'Labour Supply - Base'!$A$1:$Y$12,MATCH($R49,'Labour Supply - Base'!$A$1:$Y$1,0),0) -> 0 | ... AB49: =VLOOKUP(AB$37,'Labour Supply - Base'!$A$1:$Y$12,MATCH($R49,'Labour Supply - Base'!$A$1:$Y$1,0),0) -> 0
... R58: 5330 Construction and building trades supervisors | S58: =VLOOKUP(S$37,'Labour Supply - Base'!$A$1:$Y$12,MATCH($R58,'Labour Supply - Base'!$A$1:$Y$1,0),0) -> 0 | T58: =VLOOKUP(T$37,'Labour Supply - Base'!$A$1:$Y$12,MATCH($R58,'Labour Supply - Base'!$A$1:$Y$1,0),0) -> 0 | U58: =VLOOKUP(U$37,'Labour Supply - Base'!$A$1:$Y$12,MATCH($R58,'Labour Supply - Base'!$A$1:$Y$1,0),0) -> 0 | V58: =VLOOKUP(V$37,'Labour Supply - Base'!$A$1:$Y$12,MATCH($R58,'Labour Supply - Base'!$A$1:$Y$1,0),0) -> 0 | W58: =VLOOKUP(W$37,'Labour Supply - Base'!$A$1:$Y$12,MATCH($R58,'Labour Supply - Base'!$A$1:$Y$1,0),0) -> 0 | X58: =VLOOKUP(X$37,'Labour Supply - Base'!$A$1:$Y$12,MATCH($R58,'Labour Supply - Base'!$A$1:$Y$1,0),0) -> 0 | Y58: =VLOOKUP(Y$37,'Labour Supply - Base'!$A$1:$Y$12,MATCH($R58,'Labour Supply - Base'!$A$1:$Y$1,0),0) -> 0 | Z58: =VLOOKUP(Z$37,'Labour Supply - Base'!$A$1:$Y$12,MATCH($R58,'Labour Supply - Base'!$A$1:$Y$1,0),0) -> 0 | ... AB58: =VLOOKUP(AB$37,'Labour Supply - Base'!$A$1:$Y$12,MATCH($R58,'Labour Supply - Base'!$A$1:$Y$1,0),0) -> 0
R60: Scenario | S60: =Outputs!R7 -> 2% Nominal Funding
R61: Apprenticeships Scenario | S61: 2025/26 | T61: 2026/27 | U61: 2027/28 | V61: 2028/29 | W61: 2029/30 | X61: 2030/31 | Y61: 2031/32 | Z61: 2032/33 | AA61: 2033/34 | AB61: 2034/35
R62: 5241 Electricians and electrical fitters | S62: {=INDEX(Apprenticeships!$F$2:$Z$21, MATCH(1, ($S$60=Apprenticeships!$A$2:$A$21)*(S$61=Apprenticeships!$B$2:$B$21), 0), MATCH($R62, Apprenticeships!$F$1:$Z$1, 0))} -> 407.36667 | T62: {=INDEX(Apprenticeships!$F$2:$Z$21, MATCH(1, ($S$60=Apprenticeships!$A$2:$A$21)*(T$61=Apprenticeships!$B$2:$B$21), 0), MATCH($R62, Apprenticeships!$F$1:$Z$1, 0))} -> 292.9 | U62: {=INDEX(Apprenticeships!$F$2:$Z$21, MATCH(1, ($S$60=Apprenticeships!$A$2:$A$21)*(U$61=Apprenticeships!$B$2:$B$21), 0), MATCH($R62, Apprenticeships!$F$1:$Z$1, 0))} -> 248.19804 | V62: {=INDEX(Apprenticeships!$F$2:$Z$21, MATCH(1, ($S$60=Apprenticeships!$A$2:$A$21)*(V$61=Apprenticeships!$B$2:$B$21), 0), MATCH($R62, Apprenticeships!$F$1:$Z$1, 0))} -> 247.45221 | W62: {=INDEX(Apprenticeships!$F$2:$Z$21, MATCH(1, ($S$60=Apprenticeships!$A$2:$A$21)*(W$61=Apprenticeships!$B$2:$B$21), 0), MATCH($R62, Apprenticeships!$F$1:$Z$1, 0))} -> 246.70272 | X62: {=INDEX(Apprenticeships!$F$2:$Z$21, MATCH(1, ($S$60=Apprenticeships!$A$2:$A$21)*(X$61=Apprenticeships!$B$2:$B$21), 0), MATCH($R62, Apprenticeships!$F$1:$Z$1, 0))} -> 246.18489 | Y62: {=INDEX(Apprenticeships!$F$2:$Z$21, MATCH(1, ($S$60=Apprenticeships!$A$2:$A$21)*(Y$61=Apprenticeships!$B$2:$B$21), 0), MATCH($R62, Apprenticeships!$F$1:$Z$1, 0))} -> 245.44104 | Z62: {=INDEX(Apprenticeships!$F$2:$Z$21, MATCH(1, ($S$60=Apprenticeships!$A$2:$A$21)*(Z$61=Apprenticeships!$B$2:$B$21), 0), MATCH($R62, Apprenticeships!$F$1:$Z$1, 0))} -> 244.39627 | ... AB62: {=INDEX(Apprenticeships!$F$2:$Z$21, MATCH(1, ($S$60=Apprenticeships!$A$2:$A$21)*(AB$61=Apprenticeships!$B$2:$B$21), 0), MATCH($R62, Apprenticeships!$F$1:$Z$1, 0))} -> 242.41412
R63: 5314 Roofers, roof tilers and slaters | S63: {=INDEX(Apprenticeships!$F$2:$Z$21, MATCH(1, ($S$60=Apprenticeships!$A$2:$A$21)*(S$61=Apprenticeships!$B$2:$B$21), 0), MATCH($R63, Apprenticeships!$F$1:$Z$1, 0))} -> 0 | T63: {=INDEX(Apprenticeships!$F$2:$Z$21, MATCH(1, ($S$60=Apprenticeships!$A$2:$A$21)*(T$61=Apprenticeships!$B$2:$B$21), 0), MATCH($R63, Apprenticeships!$F$1:$Z$1, 0))} -> 0 | U63: {=INDEX(Apprenticeships!$F$2:$Z$21, MATCH(1, ($S$60=Apprenticeships!$A$2:$A$21)*(U$61=Apprenticeships!$B$2:$B$21), 0), MATCH($R63, Apprenticeships!$F$1:$Z$1, 0))} -> 0 | V63: {=INDEX(Apprenticeships!$F$2:$Z$21, MATCH(1, ($S$60=Apprenticeships!$A$2:$A$21)*(V$61=Apprenticeships!$B$2:$B$21), 0), MATCH($R63, Apprenticeships!$F$1:$Z$1, 0))} -> 0 | W63: {=INDEX(Apprenticeships!$F$2:$Z$21, MATCH(1, ($S$60=Apprenticeships!$A$2:$A$21)*(W$61=Apprenticeships!$B$2:$B$21), 0), MATCH($R63, Apprenticeships!$F$1:$Z$1, 0))} -> 0 | X63: {=INDEX(Apprenticeships!$F$2:$Z$21, MATCH(1, ($S$60=Apprenticeships!$A$2:$A$21)*(X$61=Apprenticeships!$B$2:$B$21), 0), MATCH($R63, Apprenticeships!$F$1:$Z$1, 0))} -> 0 | Y63: {=INDEX(Apprenticeships!$F$2:$Z$21, MATCH(1, ($S$60=Apprenticeships!$A$2:$A$21)*(Y$61=Apprenticeships!$B$2:$B$21), 0), MATCH($R63, Apprenticeships!$F$1:$Z$1, 0))} -> 0 | Z63: {=INDEX(Apprenticeships!$F$2:$Z$21, MATCH(1, ($S$60=Apprenticeships!$A$2:$A$21)*(Z$61=Apprenticeships!$B$2:$B$21), 0), MATCH($R63, Apprenticeships!$F$1:$Z$1, 0))} -> 0 | ... AB63: {=INDEX(Apprenticeships!$F$2:$Z$21, MATCH(1, ($S$60=Apprenticeships!$A$2:$A$21)*(AB$61=Apprenticeships!$B$2:$B$21), 0), MATCH($R63, Apprenticeships!$F$1:$Z$1, 0))} -> 0
R64: 5315 Plumbers & heating and ventilating installers and repairers | S64: {=INDEX(Apprenticeships!$F$2:$Z$21, MATCH(1, ($S$60=Apprenticeships!$A$2:$A$21)*(S$61=Apprenticeships!$B$2:$B$21), 0), MATCH($R64, Apprenticeships!$F$1:$Z$1, 0))} -> 228.93333 | T64: {=INDEX(Apprenticeships!$F$2:$Z$21, MATCH(1, ($S$60=Apprenticeships!$A$2:$A$21)*(T$61=Apprenticeships!$B$2:$B$21), 0), MATCH($R64, Apprenticeships!$F$1:$Z$1, 0))} -> 148.13333 | U64: {=INDEX(Apprenticeships!$F$2:$Z$21, MATCH(1, ($S$60=Apprenticeships!$A$2:$A$21)*(U$61=Apprenticeships!$B$2:$B$21), 0), MATCH($R64, Apprenticeships!$F$1:$Z$1, 0))} -> 105.36042 | V64: {=INDEX(Apprenticeships!$F$2:$Z$21, MATCH(1, ($S$60=Apprenticeships!$A$2:$A$21)*(V$61=Apprenticeships!$B$2:$B$21), 0), MATCH($R64, Apprenticeships!$F$1:$Z$1, 0))} -> 105.04382 | W64: {=INDEX(Apprenticeships!$F$2:$Z$21, MATCH(1, ($S$60=Apprenticeships!$A$2:$A$21)*(W$61=Apprenticeships!$B$2:$B$21), 0), MATCH($R64, Apprenticeships!$F$1:$Z$1, 0))} -> 104.72566 | X64: {=INDEX(Apprenticeships!$F$2:$Z$21, MATCH(1, ($S$60=Apprenticeships!$A$2:$A$21)*(X$61=Apprenticeships!$B$2:$B$21), 0), MATCH($R64, Apprenticeships!$F$1:$Z$1, 0))} -> 104.50583 | Y64: {=INDEX(Apprenticeships!$F$2:$Z$21, MATCH(1, ($S$60=Apprenticeships!$A$2:$A$21)*(Y$61=Apprenticeships!$B$2:$B$21), 0), MATCH($R64, Apprenticeships!$F$1:$Z$1, 0))} -> 104.19007 | Z64: {=INDEX(Apprenticeships!$F$2:$Z$21, MATCH(1, ($S$60=Apprenticeships!$A$2:$A$21)*(Z$61=Apprenticeships!$B$2:$B$21), 0), MATCH($R64, Apprenticeships!$F$1:$Z$1, 0))} -> 103.74656 | ... AB64: {=INDEX(Apprenticeships!$F$2:$Z$21, MATCH(1, ($S$60=Apprenticeships!$A$2:$A$21)*(AB$61=Apprenticeships!$B$2:$B$21), 0), MATCH($R64, Apprenticeships!$F$1:$Z$1, 0))} -> 102.90514
R65: 5317 Glaziers, window fabricators and fitters | S65: {=INDEX(Apprenticeships!$F$2:$Z$21, MATCH(1, ($S$60=Apprenticeships!$A$2:$A$21)*(S$61=Apprenticeships!$B$2:$B$21), 0), MATCH($R65, Apprenticeships!$F$1:$Z$1, 0))} -> 0 | T65: {=INDEX(Apprenticeships!$F$2:$Z$21, MATCH(1, ($S$60=Apprenticeships!$A$2:$A$21)*(T$61=Apprenticeships!$B$2:$B$21), 0), MATCH($R65, Apprenticeships!$F$1:$Z$1, 0))} -> 0 | U65: {=INDEX(Apprenticeships!$F$2:$Z$21, MATCH(1, ($S$60=Apprenticeships!$A$2:$A$21)*(U$61=Apprenticeships!$B$2:$B$21), 0), MATCH($R65, Apprenticeships!$F$1:$Z$1, 0))} -> 0 | V65: {=INDEX(Apprenticeships!$F$2:$Z$21, MATCH(1, ($S$60=Apprenticeships!$A$2:$A$21)*(V$61=Apprenticeships!$B$2:$B$21), 0), MATCH($R65, Apprenticeships!$F$1:$Z$1, 0))} -> 0 | W65: {=INDEX(Apprenticeships!$F$2:$Z$21, MATCH(1, ($S$60=Apprenticeships!$A$2:$A$21)*(W$61=Apprenticeships!$B$2:$B$21), 0), MATCH($R65, Apprenticeships!$F$1:$Z$1, 0))} -> 0 | X65: {=INDEX(Apprenticeships!$F$2:$Z$21, MATCH(1, ($S$60=Apprenticeships!$A$2:$A$21)*(X$61=Apprenticeships!$B$2:$B$21), 0), MATCH($R65, Apprenticeships!$F$1:$Z$1, 0))} -> 0 | Y65: {=INDEX(Apprenticeships!$F$2:$Z$21, MATCH(1, ($S$60=Apprenticeships!$A$2:$A$21)*(Y$61=Apprenticeships!$B$2:$B$21), 0), MATCH($R65, Apprenticeships!$F$1:$Z$1, 0))} -> 0 | Z65: {=INDEX(Apprenticeships!$F$2:$Z$21, MATCH(1, ($S$60=Apprenticeships!$A$2:$A$21)*(Z$61=Apprenticeships!$B$2:$B$21), 0), MATCH($R65, Apprenticeships!$F$1:$Z$1, 0))} -> 0 | ... AB65: {=INDEX(Apprenticeships!$F$2:$Z$21, MATCH(1, ($S$60=Apprenticeships!$A$2:$A$21)*(AB$61=Apprenticeships!$B$2:$B$21), 0), MATCH($R65, Apprenticeships!$F$1:$Z$1, 0))} -> 0
R66: 5319 Construction and building trades n.e.c. | S66: {=INDEX(Apprenticeships!$F$2:$Z$21, MATCH(1, ($S$60=Apprenticeships!$A$2:$A$21)*(S$61=Apprenticeships!$B$2:$B$21), 0), MATCH($R66, Apprenticeships!$F$1:$Z$1, 0))} -> 0 | T66: {=INDEX(Apprenticeships!$F$2:$Z$21, MATCH(1, ($S$60=Apprenticeships!$A$2:$A$21)*(T$61=Apprenticeships!$B$2:$B$21), 0), MATCH($R66, Apprenticeships!$F$1:$Z$1, 0))} -> 0 | U66: {=INDEX(Apprenticeships!$F$2:$Z$21, MATCH(1, ($S$60=Apprenticeships!$A$2:$A$21)*(U$61=Apprenticeships!$B$2:$B$21), 0), MATCH($R66, Apprenticeships!$F$1:$Z$1, 0))} -> 2.3883549 | V66: {=INDEX(Apprenticeships!$F$2:$Z$21, MATCH(1, ($S$60=Apprenticeships!$A$2:$A$21)*(V$61=Apprenticeships!$B$2:$B$21), 0), MATCH($R66, Apprenticeships!$F$1:$Z$1, 0))} -> 2.381178 | W66: {=INDEX(Apprenticeships!$F$2:$Z$21, MATCH(1, ($S$60=Apprenticeships!$A$2:$A$21)*(W$61=Apprenticeships!$B$2:$B$21), 0), MATCH($R66, Apprenticeships!$F$1:$Z$1, 0))} -> 2.3739658 | X66: {=INDEX(Apprenticeships!$F$2:$Z$21, MATCH(1, ($S$60=Apprenticeships!$A$2:$A$21)*(X$61=Apprenticeships!$B$2:$B$21), 0), MATCH($R66, Apprenticeships!$F$1:$Z$1, 0))} -> 2.3689828 | Y66: {=INDEX(Apprenticeships!$F$2:$Z$21, MATCH(1, ($S$60=Apprenticeships!$A$2:$A$21)*(Y$61=Apprenticeships!$B$2:$B$21), 0), MATCH($R66, Apprenticeships!$F$1:$Z$1, 0))} -> 2.3618249 | Z66: {=INDEX(Apprenticeships!$F$2:$Z$21, MATCH(1, ($S$60=Apprenticeships!$A$2:$A$21)*(Z$61=Apprenticeships!$B$2:$B$21), 0), MATCH($R66, Apprenticeships!$F$1:$Z$1, 0))} -> 2.3517713 | ... AB66: {=INDEX(Apprenticeships!$F$2:$Z$21, MATCH(1, ($S$60=Apprenticeships!$A$2:$A$21)*(AB$61=Apprenticeships!$B$2:$B$21), 0), MATCH($R66, Apprenticeships!$F$1:$Z$1, 0))} -> 2.3326975
R67: 5313 Bricklayers | S67: {=INDEX(Apprenticeships!$F$2:$Z$21, MATCH(1, ($S$60=Apprenticeships!$A$2:$A$21)*(S$61=Apprenticeships!$B$2:$B$21), 0), MATCH($R67, Apprenticeships!$F$1:$Z$1, 0))} -> 0 | T67: {=INDEX(Apprenticeships!$F$2:$Z$21, MATCH(1, ($S$60=Apprenticeships!$A$2:$A$21)*(T$61=Apprenticeships!$B$2:$B$21), 0), MATCH($R67, Apprenticeships!$F$1:$Z$1, 0))} -> 0 | U67: {=INDEX(Apprenticeships!$F$2:$Z$21, MATCH(1, ($S$60=Apprenticeships!$A$2:$A$21)*(U$61=Apprenticeships!$B$2:$B$21), 0), MATCH($R67, Apprenticeships!$F$1:$Z$1, 0))} -> 0 | V67: {=INDEX(Apprenticeships!$F$2:$Z$21, MATCH(1, ($S$60=Apprenticeships!$A$2:$A$21)*(V$61=Apprenticeships!$B$2:$B$21), 0), MATCH($R67, Apprenticeships!$F$1:$Z$1, 0))} -> 0 | W67: {=INDEX(Apprenticeships!$F$2:$Z$21, MATCH(1, ($S$60=Apprenticeships!$A$2:$A$21)*(W$61=Apprenticeships!$B$2:$B$21), 0), MATCH($R67, Apprenticeships!$F$1:$Z$1, 0))} -> 0 | X67: {=INDEX(Apprenticeships!$F$2:$Z$21, MATCH(1, ($S$60=Apprenticeships!$A$2:$A$21)*(X$61=Apprenticeships!$B$2:$B$21), 0), MATCH($R67, Apprenticeships!$F$1:$Z$1, 0))} -> 0 | Y67: {=INDEX(Apprenticeships!$F$2:$Z$21, MATCH(1, ($S$60=Apprenticeships!$A$2:$A$21)*(Y$61=Apprenticeships!$B$2:$B$21), 0), MATCH($R67, Apprenticeships!$F$1:$Z$1, 0))} -> 0 | Z67: {=INDEX(Apprenticeships!$F$2:$Z$21, MATCH(1, ($S$60=Apprenticeships!$A$2:$A$21)*(Z$61=Apprenticeships!$B$2:$B$21), 0), MATCH($R67, Apprenticeships!$F$1:$Z$1, 0))} -> 0 | ... AB67: {=INDEX(Apprenticeships!$F$2:$Z$21, MATCH(1, ($S$60=Apprenticeships!$A$2:$A$21)*(AB$61=Apprenticeships!$B$2:$B$21), 0), MATCH($R67, Apprenticeships!$F$1:$Z$1, 0))} -> 0
R68: 5316 Carpenters and joiners | S68: {=INDEX(Apprenticeships!$F$2:$Z$21, MATCH(1, ($S$60=Apprenticeships!$A$2:$A$21)*(S$61=Apprenticeships!$B$2:$B$21), 0), MATCH($R68, Apprenticeships!$F$1:$Z$1, 0))} -> 0 | T68: {=INDEX(Apprenticeships!$F$2:$Z$21, MATCH(1, ($S$60=Apprenticeships!$A$2:$A$21)*(T$61=Apprenticeships!$B$2:$B$21), 0), MATCH($R68, Apprenticeships!$F$1:$Z$1, 0))} -> 0 | U68: {=INDEX(Apprenticeships!$F$2:$Z$21, MATCH(1, ($S$60=Apprenticeships!$A$2:$A$21)*(U$61=Apprenticeships!$B$2:$B$21), 0), MATCH($R68, Apprenticeships!$F$1:$Z$1, 0))} -> 0 | V68: {=INDEX(Apprenticeships!$F$2:$Z$21, MATCH(1, ($S$60=Apprenticeships!$A$2:$A$21)*(V$61=Apprenticeships!$B$2:$B$21), 0), MATCH($R68, Apprenticeships!$F$1:$Z$1, 0))} -> 0 | W68: {=INDEX(Apprenticeships!$F$2:$Z$21, MATCH(1, ($S$60=Apprenticeships!$A$2:$A$21)*(W$61=Apprenticeships!$B$2:$B$21), 0), MATCH($R68, Apprenticeships!$F$1:$Z$1, 0))} -> 0 | X68: {=INDEX(Apprenticeships!$F$2:$Z$21, MATCH(1, ($S$60=Apprenticeships!$A$2:$A$21)*(X$61=Apprenticeships!$B$2:$B$21), 0), MATCH($R68, Apprenticeships!$F$1:$Z$1, 0))} -> 0 | Y68: {=INDEX(Apprenticeships!$F$2:$Z$21, MATCH(1, ($S$60=Apprenticeships!$A$2:$A$21)*(Y$61=Apprenticeships!$B$2:$B$21), 0), MATCH($R68, Apprenticeships!$F$1:$Z$1, 0))} -> 0 | Z68: {=INDEX(Apprenticeships!$F$2:$Z$21, MATCH(1, ($S$60=Apprenticeships!$A$2:$A$21)*(Z$61=Apprenticeships!$B$2:$B$21), 0), MATCH($R68, Apprenticeships!$F$1:$Z$1, 0))} -> 0 | ... AB68: {=INDEX(Apprenticeships!$F$2:$Z$21, MATCH(1, ($S$60=Apprenticeships!$A$2:$A$21)*(AB$61=Apprenticeships!$B$2:$B$21), 0), MATCH($R68, Apprenticeships!$F$1:$Z$1, 0))} -> 0
R69: 5321 Plasterers | S69: {=INDEX(Apprenticeships!$F$2:$Z$21, MATCH(1, ($S$60=Apprenticeships!$A$2:$A$21)*(S$61=Apprenticeships!$B$2:$B$21), 0), MATCH($R69, Apprenticeships!$F$1:$Z$1, 0))} -> 0 | T69: {=INDEX(Apprenticeships!$F$2:$Z$21, MATCH(1, ($S$60=Apprenticeships!$A$2:$A$21)*(T$61=Apprenticeships!$B$2:$B$21), 0), MATCH($R69, Apprenticeships!$F$1:$Z$1, 0))} -> 0 | U69: {=INDEX(Apprenticeships!$F$2:$Z$21, MATCH(1, ($S$60=Apprenticeships!$A$2:$A$21)*(U$61=Apprenticeships!$B$2:$B$21), 0), MATCH($R69, Apprenticeships!$F$1:$Z$1, 0))} -> 0 | V69: {=INDEX(Apprenticeships!$F$2:$Z$21, MATCH(1, ($S$60=Apprenticeships!$A$2:$A$21)*(V$61=Apprenticeships!$B$2:$B$21), 0), MATCH($R69, Apprenticeships!$F$1:$Z$1, 0))} -> 0 | W69: {=INDEX(Apprenticeships!$F$2:$Z$21, MATCH(1, ($S$60=Apprenticeships!$A$2:$A$21)*(W$61=Apprenticeships!$B$2:$B$21), 0), MATCH($R69, Apprenticeships!$F$1:$Z$1, 0))} -> 0 | X69: {=INDEX(Apprenticeships!$F$2:$Z$21, MATCH(1, ($S$60=Apprenticeships!$A$2:$A$21)*(X$61=Apprenticeships!$B$2:$B$21), 0), MATCH($R69, Apprenticeships!$F$1:$Z$1, 0))} -> 0 | Y69: {=INDEX(Apprenticeships!$F$2:$Z$21, MATCH(1, ($S$60=Apprenticeships!$A$2:$A$21)*(Y$61=Apprenticeships!$B$2:$B$21), 0), MATCH($R69, Apprenticeships!$F$1:$Z$1, 0))} -> 0 | Z69: {=INDEX(Apprenticeships!$F$2:$Z$21, MATCH(1, ($S$60=Apprenticeships!$A$2:$A$21)*(Z$61=Apprenticeships!$B$2:$B$21), 0), MATCH($R69, Apprenticeships!$F$1:$Z$1, 0))} -> 0 | ... AB69: {=INDEX(Apprenticeships!$F$2:$Z$21, MATCH(1, ($S$60=Apprenticeships!$A$2:$A$21)*(AB$61=Apprenticeships!$B$2:$B$21), 0), MATCH($R69, Apprenticeships!$F$1:$Z$1, 0))} -> 0
R70: 5322 Floorers and wall tilers | S70: {=INDEX(Apprenticeships!$F$2:$Z$21, MATCH(1, ($S$60=Apprenticeships!$A$2:$A$21)*(S$61=Apprenticeships!$B$2:$B$21), 0), MATCH($R70, Apprenticeships!$F$1:$Z$1, 0))} -> 0 | T70: {=INDEX(Apprenticeships!$F$2:$Z$21, MATCH(1, ($S$60=Apprenticeships!$A$2:$A$21)*(T$61=Apprenticeships!$B$2:$B$21), 0), MATCH($R70, Apprenticeships!$F$1:$Z$1, 0))} -> 0 | U70: {=INDEX(Apprenticeships!$F$2:$Z$21, MATCH(1, ($S$60=Apprenticeships!$A$2:$A$21)*(U$61=Apprenticeships!$B$2:$B$21), 0), MATCH($R70, Apprenticeships!$F$1:$Z$1, 0))} -> 0 | V70: {=INDEX(Apprenticeships!$F$2:$Z$21, MATCH(1, ($S$60=Apprenticeships!$A$2:$A$21)*(V$61=Apprenticeships!$B$2:$B$21), 0), MATCH($R70, Apprenticeships!$F$1:$Z$1, 0))} -> 0 | W70: {=INDEX(Apprenticeships!$F$2:$Z$21, MATCH(1, ($S$60=Apprenticeships!$A$2:$A$21)*(W$61=Apprenticeships!$B$2:$B$21), 0), MATCH($R70, Apprenticeships!$F$1:$Z$1, 0))} -> 0 | X70: {=INDEX(Apprenticeships!$F$2:$Z$21, MATCH(1, ($S$60=Apprenticeships!$A$2:$A$21)*(X$61=Apprenticeships!$B$2:$B$21), 0), MATCH($R70, Apprenticeships!$F$1:$Z$1, 0))} -> 0 | Y70: {=INDEX(Apprenticeships!$F$2:$Z$21, MATCH(1, ($S$60=Apprenticeships!$A$2:$A$21)*(Y$61=Apprenticeships!$B$2:$B$21), 0), MATCH($R70, Apprenticeships!$F$1:$Z$1, 0))} -> 0 | Z70: {=INDEX(Apprenticeships!$F$2:$Z$21, MATCH(1, ($S$60=Apprenticeships!$A$2:$A$21)*(Z$61=Apprenticeships!$B$2:$B$21), 0), MATCH($R70, Apprenticeships!$F$1:$Z$1, 0))} -> 0 | ... AB70: {=INDEX(Apprenticeships!$F$2:$Z$21, MATCH(1, ($S$60=Apprenticeships!$A$2:$A$21)*(AB$61=Apprenticeships!$B$2:$B$21), 0), MATCH($R70, Apprenticeships!$F$1:$Z$1, 0))} -> 0
R71: 5323 Painters and decorators | S71: {=INDEX(Apprenticeships!$F$2:$Z$21, MATCH(1, ($S$60=Apprenticeships!$A$2:$A$21)*(S$61=Apprenticeships!$B$2:$B$21), 0), MATCH($R71, Apprenticeships!$F$1:$Z$1, 0))} -> 0 | T71: {=INDEX(Apprenticeships!$F$2:$Z$21, MATCH(1, ($S$60=Apprenticeships!$A$2:$A$21)*(T$61=Apprenticeships!$B$2:$B$21), 0), MATCH($R71, Apprenticeships!$F$1:$Z$1, 0))} -> 0 | U71: {=INDEX(Apprenticeships!$F$2:$Z$21, MATCH(1, ($S$60=Apprenticeships!$A$2:$A$21)*(U$61=Apprenticeships!$B$2:$B$21), 0), MATCH($R71, Apprenticeships!$F$1:$Z$1, 0))} -> 0 | V71: {=INDEX(Apprenticeships!$F$2:$Z$21, MATCH(1, ($S$60=Apprenticeships!$A$2:$A$21)*(V$61=Apprenticeships!$B$2:$B$21), 0), MATCH($R71, Apprenticeships!$F$1:$Z$1, 0))} -> 0 | W71: {=INDEX(Apprenticeships!$F$2:$Z$21, MATCH(1, ($S$60=Apprenticeships!$A$2:$A$21)*(W$61=Apprenticeships!$B$2:$B$21), 0), MATCH($R71, Apprenticeships!$F$1:$Z$1, 0))} -> 0 | X71: {=INDEX(Apprenticeships!$F$2:$Z$21, MATCH(1, ($S$60=Apprenticeships!$A$2:$A$21)*(X$61=Apprenticeships!$B$2:$B$21), 0), MATCH($R71, Apprenticeships!$F$1:$Z$1, 0))} -> 0 | Y71: {=INDEX(Apprenticeships!$F$2:$Z$21, MATCH(1, ($S$60=Apprenticeships!$A$2:$A$21)*(Y$61=Apprenticeships!$B$2:$B$21), 0), MATCH($R71, Apprenticeships!$F$1:$Z$1, 0))} -> 0 | Z71: {=INDEX(Apprenticeships!$F$2:$Z$21, MATCH(1, ($S$60=Apprenticeships!$A$2:$A$21)*(Z$61=Apprenticeships!$B$2:$B$21), 0), MATCH($R71, Apprenticeships!$F$1:$Z$1, 0))} -> 0 | ... AB71: {=INDEX(Apprenticeships!$F$2:$Z$21, MATCH(1, ($S$60=Apprenticeships!$A$2:$A$21)*(AB$61=Apprenticeships!$B$2:$B$21), 0), MATCH($R71, Apprenticeships!$F$1:$Z$1, 0))} -> 0
R72: 9129 Elementary construction occupations n.e.c. | S72: {=INDEX(Apprenticeships!$F$2:$Z$21, MATCH(1, ($S$60=Apprenticeships!$A$2:$A$21)*(S$61=Apprenticeships!$B$2:$B$21), 0), MATCH($R72, Apprenticeships!$F$1:$Z$1, 0))} -> 0 | T72: {=INDEX(Apprenticeships!$F$2:$Z$21, MATCH(1, ($S$60=Apprenticeships!$A$2:$A$21)*(T$61=Apprenticeships!$B$2:$B$21), 0), MATCH($R72, Apprenticeships!$F$1:$Z$1, 0))} -> 0 | U72: {=INDEX(Apprenticeships!$F$2:$Z$21, MATCH(1, ($S$60=Apprenticeships!$A$2:$A$21)*(U$61=Apprenticeships!$B$2:$B$21), 0), MATCH($R72, Apprenticeships!$F$1:$Z$1, 0))} -> 0 | V72: {=INDEX(Apprenticeships!$F$2:$Z$21, MATCH(1, ($S$60=Apprenticeships!$A$2:$A$21)*(V$61=Apprenticeships!$B$2:$B$21), 0), MATCH($R72, Apprenticeships!$F$1:$Z$1, 0))} -> 0 | W72: {=INDEX(Apprenticeships!$F$2:$Z$21, MATCH(1, ($S$60=Apprenticeships!$A$2:$A$21)*(W$61=Apprenticeships!$B$2:$B$21), 0), MATCH($R72, Apprenticeships!$F$1:$Z$1, 0))} -> 0 | X72: {=INDEX(Apprenticeships!$F$2:$Z$21, MATCH(1, ($S$60=Apprenticeships!$A$2:$A$21)*(X$61=Apprenticeships!$B$2:$B$21), 0), MATCH($R72, Apprenticeships!$F$1:$Z$1, 0))} -> 0 | Y72: {=INDEX(Apprenticeships!$F$2:$Z$21, MATCH(1, ($S$60=Apprenticeships!$A$2:$A$21)*(Y$61=Apprenticeships!$B$2:$B$21), 0), MATCH($R72, Apprenticeships!$F$1:$Z$1, 0))} -> 0 | Z72: {=INDEX(Apprenticeships!$F$2:$Z$21, MATCH(1, ($S$60=Apprenticeships!$A$2:$A$21)*(Z$61=Apprenticeships!$B$2:$B$21), 0), MATCH($R72, Apprenticeships!$F$1:$Z$1, 0))} -> 0 | ... AB72: {=INDEX(Apprenticeships!$F$2:$Z$21, MATCH(1, ($S$60=Apprenticeships!$A$2:$A$21)*(AB$61=Apprenticeships!$B$2:$B$21), 0), MATCH($R72, Apprenticeships!$F$1:$Z$1, 0))} -> 0
R73: 2121 Civil Engineers | S73: {=INDEX(Apprenticeships!$F$2:$Z$21, MATCH(1, ($S$60=Apprenticeships!$A$2:$A$21)*(S$61=Apprenticeships!$B$2:$B$21), 0), MATCH($R73, Apprenticeships!$F$1:$Z$1, 0))} -> 0 | T73: {=INDEX(Apprenticeships!$F$2:$Z$21, MATCH(1, ($S$60=Apprenticeships!$A$2:$A$21)*(T$61=Apprenticeships!$B$2:$B$21), 0), MATCH($R73, Apprenticeships!$F$1:$Z$1, 0))} -> 0 | U73: {=INDEX(Apprenticeships!$F$2:$Z$21, MATCH(1, ($S$60=Apprenticeships!$A$2:$A$21)*(U$61=Apprenticeships!$B$2:$B$21), 0), MATCH($R73, Apprenticeships!$F$1:$Z$1, 0))} -> 0 | V73: {=INDEX(Apprenticeships!$F$2:$Z$21, MATCH(1, ($S$60=Apprenticeships!$A$2:$A$21)*(V$61=Apprenticeships!$B$2:$B$21), 0), MATCH($R73, Apprenticeships!$F$1:$Z$1, 0))} -> 0 | W73: {=INDEX(Apprenticeships!$F$2:$Z$21, MATCH(1, ($S$60=Apprenticeships!$A$2:$A$21)*(W$61=Apprenticeships!$B$2:$B$21), 0), MATCH($R73, Apprenticeships!$F$1:$Z$1, 0))} -> 0 | X73: {=INDEX(Apprenticeships!$F$2:$Z$21, MATCH(1, ($S$60=Apprenticeships!$A$2:$A$21)*(X$61=Apprenticeships!$B$2:$B$21), 0), MATCH($R73, Apprenticeships!$F$1:$Z$1, 0))} -> 0 | Y73: {=INDEX(Apprenticeships!$F$2:$Z$21, MATCH(1, ($S$60=Apprenticeships!$A$2:$A$21)*(Y$61=Apprenticeships!$B$2:$B$21), 0), MATCH($R73, Apprenticeships!$F$1:$Z$1, 0))} -> 0 | Z73: {=INDEX(Apprenticeships!$F$2:$Z$21, MATCH(1, ($S$60=Apprenticeships!$A$2:$A$21)*(Z$61=Apprenticeships!$B$2:$B$21), 0), MATCH($R73, Apprenticeships!$F$1:$Z$1, 0))} -> 0 | ... AB73: {=INDEX(Apprenticeships!$F$2:$Z$21, MATCH(1, ($S$60=Apprenticeships!$A$2:$A$21)*(AB$61=Apprenticeships!$B$2:$B$21), 0), MATCH($R73, Apprenticeships!$F$1:$Z$1, 0))} -> 0
... R82: 5330 Construction and building trades supervisors | S82: {=INDEX(Apprenticeships!$F$2:$Z$21, MATCH(1, ($S$60=Apprenticeships!$A$2:$A$21)*(S$61=Apprenticeships!$B$2:$B$21), 0), MATCH($R82, Apprenticeships!$F$1:$Z$1, 0))} -> 0 | T82: {=INDEX(Apprenticeships!$F$2:$Z$21, MATCH(1, ($S$60=Apprenticeships!$A$2:$A$21)*(T$61=Apprenticeships!$B$2:$B$21), 0), MATCH($R82, Apprenticeships!$F$1:$Z$1, 0))} -> 0 | U82: {=INDEX(Apprenticeships!$F$2:$Z$21, MATCH(1, ($S$60=Apprenticeships!$A$2:$A$21)*(U$61=Apprenticeships!$B$2:$B$21), 0), MATCH($R82, Apprenticeships!$F$1:$Z$1, 0))} -> 0 | V82: {=INDEX(Apprenticeships!$F$2:$Z$21, MATCH(1, ($S$60=Apprenticeships!$A$2:$A$21)*(V$61=Apprenticeships!$B$2:$B$21), 0), MATCH($R82, Apprenticeships!$F$1:$Z$1, 0))} -> 0 | W82: {=INDEX(Apprenticeships!$F$2:$Z$21, MATCH(1, ($S$60=Apprenticeships!$A$2:$A$21)*(W$61=Apprenticeships!$B$2:$B$21), 0), MATCH($R82, Apprenticeships!$F$1:$Z$1, 0))} -> 0 | X82: {=INDEX(Apprenticeships!$F$2:$Z$21, MATCH(1, ($S$60=Apprenticeships!$A$2:$A$21)*(X$61=Apprenticeships!$B$2:$B$21), 0), MATCH($R82, Apprenticeships!$F$1:$Z$1, 0))} -> 0 | Y82: {=INDEX(Apprenticeships!$F$2:$Z$21, MATCH(1, ($S$60=Apprenticeships!$A$2:$A$21)*(Y$61=Apprenticeships!$B$2:$B$21), 0), MATCH($R82, Apprenticeships!$F$1:$Z$1, 0))} -> 0 | Z82: {=INDEX(Apprenticeships!$F$2:$Z$21, MATCH(1, ($S$60=Apprenticeships!$A$2:$A$21)*(Z$61=Apprenticeships!$B$2:$B$21), 0), MATCH($R82, Apprenticeships!$F$1:$Z$1, 0))} -> 0 | ... AB82: {=INDEX(Apprenticeships!$F$2:$Z$21, MATCH(1, ($S$60=Apprenticeships!$A$2:$A$21)*(AB$61=Apprenticeships!$B$2:$B$21), 0), MATCH($R82, Apprenticeships!$F$1:$Z$1, 0))} -> 0
R84: Scenario | S84: =Outputs!R8 -> Historic Trend Out-Commuting
R85: Out-Commuting Scenrio | S85: 2025/26 | T85: 2026/27 | U85: 2027/28 | V85: 2028/29 | W85: 2029/30 | X85: 2030/31 | Y85: 2031/32 | Z85: 2032/33 | AA85: 2033/34 | AB85: 2034/35
R86: 5241 Electricians and electrical fitters | S86: {=INDEX('Out-Commuting'!$F$2:$Z$31, MATCH(1, ($S$84='Out-Commuting'!$A$2:$A$31)*(S$85='Out-Commuting'!$B$2:$B$31), 0), MATCH($R86, 'Out-Commuting'!$F$1:$Z$1, 0))} -> -160.21764 | T86: {=INDEX('Out-Commuting'!$F$2:$Z$31, MATCH(1, ($S$84='Out-Commuting'!$A$2:$A$31)*(T$85='Out-Commuting'!$B$2:$B$31), 0), MATCH($R86, 'Out-Commuting'!$F$1:$Z$1, 0))} -> -162.33327 | U86: {=INDEX('Out-Commuting'!$F$2:$Z$31, MATCH(1, ($S$84='Out-Commuting'!$A$2:$A$31)*(U$85='Out-Commuting'!$B$2:$B$31), 0), MATCH($R86, 'Out-Commuting'!$F$1:$Z$1, 0))} -> -164.55199 | V86: {=INDEX('Out-Commuting'!$F$2:$Z$31, MATCH(1, ($S$84='Out-Commuting'!$A$2:$A$31)*(V$85='Out-Commuting'!$B$2:$B$31), 0), MATCH($R86, 'Out-Commuting'!$F$1:$Z$1, 0))} -> -166.89288 | W86: {=INDEX('Out-Commuting'!$F$2:$Z$31, MATCH(1, ($S$84='Out-Commuting'!$A$2:$A$31)*(W$85='Out-Commuting'!$B$2:$B$31), 0), MATCH($R86, 'Out-Commuting'!$F$1:$Z$1, 0))} -> -169.40758 | X86: {=INDEX('Out-Commuting'!$F$2:$Z$31, MATCH(1, ($S$84='Out-Commuting'!$A$2:$A$31)*(X$85='Out-Commuting'!$B$2:$B$31), 0), MATCH($R86, 'Out-Commuting'!$F$1:$Z$1, 0))} -> -171.98698 | Y86: {=INDEX('Out-Commuting'!$F$2:$Z$31, MATCH(1, ($S$84='Out-Commuting'!$A$2:$A$31)*(Y$85='Out-Commuting'!$B$2:$B$31), 0), MATCH($R86, 'Out-Commuting'!$F$1:$Z$1, 0))} -> -174.58797 | Z86: {=INDEX('Out-Commuting'!$F$2:$Z$31, MATCH(1, ($S$84='Out-Commuting'!$A$2:$A$31)*(Z$85='Out-Commuting'!$B$2:$B$31), 0), MATCH($R86, 'Out-Commuting'!$F$1:$Z$1, 0))} -> -177.23798 | ... AB86: {=INDEX('Out-Commuting'!$F$2:$Z$31, MATCH(1, ($S$84='Out-Commuting'!$A$2:$A$31)*(AB$85='Out-Commuting'!$B$2:$B$31), 0), MATCH($R86, 'Out-Commuting'!$F$1:$Z$1, 0))} -> -182.67983
R87: 5314 Roofers, roof tilers and slaters | S87: {=INDEX('Out-Commuting'!$F$2:$Z$31, MATCH(1, ($S$84='Out-Commuting'!$A$2:$A$31)*(S$85='Out-Commuting'!$B$2:$B$31), 0), MATCH($R87, 'Out-Commuting'!$F$1:$Z$1, 0))} -> -11.383361 | T87: {=INDEX('Out-Commuting'!$F$2:$Z$31, MATCH(1, ($S$84='Out-Commuting'!$A$2:$A$31)*(T$85='Out-Commuting'!$B$2:$B$31), 0), MATCH($R87, 'Out-Commuting'!$F$1:$Z$1, 0))} -> -11.489492 | U87: {=INDEX('Out-Commuting'!$F$2:$Z$31, MATCH(1, ($S$84='Out-Commuting'!$A$2:$A$31)*(U$85='Out-Commuting'!$B$2:$B$31), 0), MATCH($R87, 'Out-Commuting'!$F$1:$Z$1, 0))} -> -11.601913 | V87: {=INDEX('Out-Commuting'!$F$2:$Z$31, MATCH(1, ($S$84='Out-Commuting'!$A$2:$A$31)*(V$85='Out-Commuting'!$B$2:$B$31), 0), MATCH($R87, 'Out-Commuting'!$F$1:$Z$1, 0))} -> -11.721883 | W87: {=INDEX('Out-Commuting'!$F$2:$Z$31, MATCH(1, ($S$84='Out-Commuting'!$A$2:$A$31)*(W$85='Out-Commuting'!$B$2:$B$31), 0), MATCH($R87, 'Out-Commuting'!$F$1:$Z$1, 0))} -> -11.852925 | X87: {=INDEX('Out-Commuting'!$F$2:$Z$31, MATCH(1, ($S$84='Out-Commuting'!$A$2:$A$31)*(X$85='Out-Commuting'!$B$2:$B$31), 0), MATCH($R87, 'Out-Commuting'!$F$1:$Z$1, 0))} -> -11.9873 | Y87: {=INDEX('Out-Commuting'!$F$2:$Z$31, MATCH(1, ($S$84='Out-Commuting'!$A$2:$A$31)*(Y$85='Out-Commuting'!$B$2:$B$31), 0), MATCH($R87, 'Out-Commuting'!$F$1:$Z$1, 0))} -> -12.121972 | Z87: {=INDEX('Out-Commuting'!$F$2:$Z$31, MATCH(1, ($S$84='Out-Commuting'!$A$2:$A$31)*(Z$85='Out-Commuting'!$B$2:$B$31), 0), MATCH($R87, 'Out-Commuting'!$F$1:$Z$1, 0))} -> -12.258826 | ... AB87: {=INDEX('Out-Commuting'!$F$2:$Z$31, MATCH(1, ($S$84='Out-Commuting'!$A$2:$A$31)*(AB$85='Out-Commuting'!$B$2:$B$31), 0), MATCH($R87, 'Out-Commuting'!$F$1:$Z$1, 0))} -> -12.538597
R88: 5315 Plumbers & heating and ventilating installers and repairers | S88: {=INDEX('Out-Commuting'!$F$2:$Z$31, MATCH(1, ($S$84='Out-Commuting'!$A$2:$A$31)*(S$85='Out-Commuting'!$B$2:$B$31), 0), MATCH($R88, 'Out-Commuting'!$F$1:$Z$1, 0))} -> -295.55474 | T88: {=INDEX('Out-Commuting'!$F$2:$Z$31, MATCH(1, ($S$84='Out-Commuting'!$A$2:$A$31)*(T$85='Out-Commuting'!$B$2:$B$31), 0), MATCH($R88, 'Out-Commuting'!$F$1:$Z$1, 0))} -> -298.31031 | U88: {=INDEX('Out-Commuting'!$F$2:$Z$31, MATCH(1, ($S$84='Out-Commuting'!$A$2:$A$31)*(U$85='Out-Commuting'!$B$2:$B$31), 0), MATCH($R88, 'Out-Commuting'!$F$1:$Z$1, 0))} -> -301.22916 | V88: {=INDEX('Out-Commuting'!$F$2:$Z$31, MATCH(1, ($S$84='Out-Commuting'!$A$2:$A$31)*(V$85='Out-Commuting'!$B$2:$B$31), 0), MATCH($R88, 'Out-Commuting'!$F$1:$Z$1, 0))} -> -304.34404 | W88: {=INDEX('Out-Commuting'!$F$2:$Z$31, MATCH(1, ($S$84='Out-Commuting'!$A$2:$A$31)*(W$85='Out-Commuting'!$B$2:$B$31), 0), MATCH($R88, 'Out-Commuting'!$F$1:$Z$1, 0))} -> -307.74638 | X88: {=INDEX('Out-Commuting'!$F$2:$Z$31, MATCH(1, ($S$84='Out-Commuting'!$A$2:$A$31)*(X$85='Out-Commuting'!$B$2:$B$31), 0), MATCH($R88, 'Out-Commuting'!$F$1:$Z$1, 0))} -> -311.23527 | Y88: {=INDEX('Out-Commuting'!$F$2:$Z$31, MATCH(1, ($S$84='Out-Commuting'!$A$2:$A$31)*(Y$85='Out-Commuting'!$B$2:$B$31), 0), MATCH($R88, 'Out-Commuting'!$F$1:$Z$1, 0))} -> -314.73185 | Z88: {=INDEX('Out-Commuting'!$F$2:$Z$31, MATCH(1, ($S$84='Out-Commuting'!$A$2:$A$31)*(Z$85='Out-Commuting'!$B$2:$B$31), 0), MATCH($R88, 'Out-Commuting'!$F$1:$Z$1, 0))} -> -318.2851 | ... AB88: {=INDEX('Out-Commuting'!$F$2:$Z$31, MATCH(1, ($S$84='Out-Commuting'!$A$2:$A$31)*(AB$85='Out-Commuting'!$B$2:$B$31), 0), MATCH($R88, 'Out-Commuting'!$F$1:$Z$1, 0))} -> -325.549
R89: 5317 Glaziers, window fabricators and fitters | S89: {=INDEX('Out-Commuting'!$F$2:$Z$31, MATCH(1, ($S$84='Out-Commuting'!$A$2:$A$31)*(S$85='Out-Commuting'!$B$2:$B$31), 0), MATCH($R89, 'Out-Commuting'!$F$1:$Z$1, 0))} -> -30.314869 | T89: {=INDEX('Out-Commuting'!$F$2:$Z$31, MATCH(1, ($S$84='Out-Commuting'!$A$2:$A$31)*(T$85='Out-Commuting'!$B$2:$B$31), 0), MATCH($R89, 'Out-Commuting'!$F$1:$Z$1, 0))} -> -30.597506 | U89: {=INDEX('Out-Commuting'!$F$2:$Z$31, MATCH(1, ($S$84='Out-Commuting'!$A$2:$A$31)*(U$85='Out-Commuting'!$B$2:$B$31), 0), MATCH($R89, 'Out-Commuting'!$F$1:$Z$1, 0))} -> -30.896892 | V89: {=INDEX('Out-Commuting'!$F$2:$Z$31, MATCH(1, ($S$84='Out-Commuting'!$A$2:$A$31)*(V$85='Out-Commuting'!$B$2:$B$31), 0), MATCH($R89, 'Out-Commuting'!$F$1:$Z$1, 0))} -> -31.216382 | W89: {=INDEX('Out-Commuting'!$F$2:$Z$31, MATCH(1, ($S$84='Out-Commuting'!$A$2:$A$31)*(W$85='Out-Commuting'!$B$2:$B$31), 0), MATCH($R89, 'Out-Commuting'!$F$1:$Z$1, 0))} -> -31.565359 | X89: {=INDEX('Out-Commuting'!$F$2:$Z$31, MATCH(1, ($S$84='Out-Commuting'!$A$2:$A$31)*(X$85='Out-Commuting'!$B$2:$B$31), 0), MATCH($R89, 'Out-Commuting'!$F$1:$Z$1, 0))} -> -31.923212 | Y89: {=INDEX('Out-Commuting'!$F$2:$Z$31, MATCH(1, ($S$84='Out-Commuting'!$A$2:$A$31)*(Y$85='Out-Commuting'!$B$2:$B$31), 0), MATCH($R89, 'Out-Commuting'!$F$1:$Z$1, 0))} -> -32.281854 | Z89: {=INDEX('Out-Commuting'!$F$2:$Z$31, MATCH(1, ($S$84='Out-Commuting'!$A$2:$A$31)*(Z$85='Out-Commuting'!$B$2:$B$31), 0), MATCH($R89, 'Out-Commuting'!$F$1:$Z$1, 0))} -> -32.646309 | ... AB89: {=INDEX('Out-Commuting'!$F$2:$Z$31, MATCH(1, ($S$84='Out-Commuting'!$A$2:$A$31)*(AB$85='Out-Commuting'!$B$2:$B$31), 0), MATCH($R89, 'Out-Commuting'!$F$1:$Z$1, 0))} -> -33.391363
R90: 5319 Construction and building trades n.e.c. | S90: {=INDEX('Out-Commuting'!$F$2:$Z$31, MATCH(1, ($S$84='Out-Commuting'!$A$2:$A$31)*(S$85='Out-Commuting'!$B$2:$B$31), 0), MATCH($R90, 'Out-Commuting'!$F$1:$Z$1, 0))} -> -18.161374 | T90: {=INDEX('Out-Commuting'!$F$2:$Z$31, MATCH(1, ($S$84='Out-Commuting'!$A$2:$A$31)*(T$85='Out-Commuting'!$B$2:$B$31), 0), MATCH($R90, 'Out-Commuting'!$F$1:$Z$1, 0))} -> -18.330699 | U90: {=INDEX('Out-Commuting'!$F$2:$Z$31, MATCH(1, ($S$84='Out-Commuting'!$A$2:$A$31)*(U$85='Out-Commuting'!$B$2:$B$31), 0), MATCH($R90, 'Out-Commuting'!$F$1:$Z$1, 0))} -> -18.510058 | V90: {=INDEX('Out-Commuting'!$F$2:$Z$31, MATCH(1, ($S$84='Out-Commuting'!$A$2:$A$31)*(V$85='Out-Commuting'!$B$2:$B$31), 0), MATCH($R90, 'Out-Commuting'!$F$1:$Z$1, 0))} -> -18.701462 | W90: {=INDEX('Out-Commuting'!$F$2:$Z$31, MATCH(1, ($S$84='Out-Commuting'!$A$2:$A$31)*(W$85='Out-Commuting'!$B$2:$B$31), 0), MATCH($R90, 'Out-Commuting'!$F$1:$Z$1, 0))} -> -18.910531 | X90: {=INDEX('Out-Commuting'!$F$2:$Z$31, MATCH(1, ($S$84='Out-Commuting'!$A$2:$A$31)*(X$85='Out-Commuting'!$B$2:$B$31), 0), MATCH($R90, 'Out-Commuting'!$F$1:$Z$1, 0))} -> -19.124918 | Y90: {=INDEX('Out-Commuting'!$F$2:$Z$31, MATCH(1, ($S$84='Out-Commuting'!$A$2:$A$31)*(Y$85='Out-Commuting'!$B$2:$B$31), 0), MATCH($R90, 'Out-Commuting'!$F$1:$Z$1, 0))} -> -19.339777 | Z90: {=INDEX('Out-Commuting'!$F$2:$Z$31, MATCH(1, ($S$84='Out-Commuting'!$A$2:$A$31)*(Z$85='Out-Commuting'!$B$2:$B$31), 0), MATCH($R90, 'Out-Commuting'!$F$1:$Z$1, 0))} -> -19.558119 | ... AB90: {=INDEX('Out-Commuting'!$F$2:$Z$31, MATCH(1, ($S$84='Out-Commuting'!$A$2:$A$31)*(AB$85='Out-Commuting'!$B$2:$B$31), 0), MATCH($R90, 'Out-Commuting'!$F$1:$Z$1, 0))} -> -20.004474
R91: 5313 Bricklayers | S91: {=INDEX('Out-Commuting'!$F$2:$Z$31, MATCH(1, ($S$84='Out-Commuting'!$A$2:$A$31)*(S$85='Out-Commuting'!$B$2:$B$31), 0), MATCH($R91, 'Out-Commuting'!$F$1:$Z$1, 0))} -> -14.096685 | T91: {=INDEX('Out-Commuting'!$F$2:$Z$31, MATCH(1, ($S$84='Out-Commuting'!$A$2:$A$31)*(T$85='Out-Commuting'!$B$2:$B$31), 0), MATCH($R91, 'Out-Commuting'!$F$1:$Z$1, 0))} -> -14.228114 | U91: {=INDEX('Out-Commuting'!$F$2:$Z$31, MATCH(1, ($S$84='Out-Commuting'!$A$2:$A$31)*(U$85='Out-Commuting'!$B$2:$B$31), 0), MATCH($R91, 'Out-Commuting'!$F$1:$Z$1, 0))} -> -14.367331 | V91: {=INDEX('Out-Commuting'!$F$2:$Z$31, MATCH(1, ($S$84='Out-Commuting'!$A$2:$A$31)*(V$85='Out-Commuting'!$B$2:$B$31), 0), MATCH($R91, 'Out-Commuting'!$F$1:$Z$1, 0))} -> -14.515897 | W91: {=INDEX('Out-Commuting'!$F$2:$Z$31, MATCH(1, ($S$84='Out-Commuting'!$A$2:$A$31)*(W$85='Out-Commuting'!$B$2:$B$31), 0), MATCH($R91, 'Out-Commuting'!$F$1:$Z$1, 0))} -> -14.678174 | X91: {=INDEX('Out-Commuting'!$F$2:$Z$31, MATCH(1, ($S$84='Out-Commuting'!$A$2:$A$31)*(X$85='Out-Commuting'!$B$2:$B$31), 0), MATCH($R91, 'Out-Commuting'!$F$1:$Z$1, 0))} -> -14.844579 | Y91: {=INDEX('Out-Commuting'!$F$2:$Z$31, MATCH(1, ($S$84='Out-Commuting'!$A$2:$A$31)*(Y$85='Out-Commuting'!$B$2:$B$31), 0), MATCH($R91, 'Out-Commuting'!$F$1:$Z$1, 0))} -> -15.011351 | Z91: {=INDEX('Out-Commuting'!$F$2:$Z$31, MATCH(1, ($S$84='Out-Commuting'!$A$2:$A$31)*(Z$85='Out-Commuting'!$B$2:$B$31), 0), MATCH($R91, 'Out-Commuting'!$F$1:$Z$1, 0))} -> -15.180826 | ... AB91: {=INDEX('Out-Commuting'!$F$2:$Z$31, MATCH(1, ($S$84='Out-Commuting'!$A$2:$A$31)*(AB$85='Out-Commuting'!$B$2:$B$31), 0), MATCH($R91, 'Out-Commuting'!$F$1:$Z$1, 0))} -> -15.527282
R92: 5316 Carpenters and joiners | S92: {=INDEX('Out-Commuting'!$F$2:$Z$31, MATCH(1, ($S$84='Out-Commuting'!$A$2:$A$31)*(S$85='Out-Commuting'!$B$2:$B$31), 0), MATCH($R92, 'Out-Commuting'!$F$1:$Z$1, 0))} -> -168.42512 | T92: {=INDEX('Out-Commuting'!$F$2:$Z$31, MATCH(1, ($S$84='Out-Commuting'!$A$2:$A$31)*(T$85='Out-Commuting'!$B$2:$B$31), 0), MATCH($R92, 'Out-Commuting'!$F$1:$Z$1, 0))} -> -169.99541 | U92: {=INDEX('Out-Commuting'!$F$2:$Z$31, MATCH(1, ($S$84='Out-Commuting'!$A$2:$A$31)*(U$85='Out-Commuting'!$B$2:$B$31), 0), MATCH($R92, 'Out-Commuting'!$F$1:$Z$1, 0))} -> -171.65875 | V92: {=INDEX('Out-Commuting'!$F$2:$Z$31, MATCH(1, ($S$84='Out-Commuting'!$A$2:$A$31)*(V$85='Out-Commuting'!$B$2:$B$31), 0), MATCH($R92, 'Out-Commuting'!$F$1:$Z$1, 0))} -> -173.4338 | W92: {=INDEX('Out-Commuting'!$F$2:$Z$31, MATCH(1, ($S$84='Out-Commuting'!$A$2:$A$31)*(W$85='Out-Commuting'!$B$2:$B$31), 0), MATCH($R92, 'Out-Commuting'!$F$1:$Z$1, 0))} -> -175.37266 | X92: {=INDEX('Out-Commuting'!$F$2:$Z$31, MATCH(1, ($S$84='Out-Commuting'!$A$2:$A$31)*(X$85='Out-Commuting'!$B$2:$B$31), 0), MATCH($R92, 'Out-Commuting'!$F$1:$Z$1, 0))} -> -177.36085 | Y92: {=INDEX('Out-Commuting'!$F$2:$Z$31, MATCH(1, ($S$84='Out-Commuting'!$A$2:$A$31)*(Y$85='Out-Commuting'!$B$2:$B$31), 0), MATCH($R92, 'Out-Commuting'!$F$1:$Z$1, 0))} -> -179.35341 | Z92: {=INDEX('Out-Commuting'!$F$2:$Z$31, MATCH(1, ($S$84='Out-Commuting'!$A$2:$A$31)*(Z$85='Out-Commuting'!$B$2:$B$31), 0), MATCH($R92, 'Out-Commuting'!$F$1:$Z$1, 0))} -> -181.37827 | ... AB92: {=INDEX('Out-Commuting'!$F$2:$Z$31, MATCH(1, ($S$84='Out-Commuting'!$A$2:$A$31)*(AB$85='Out-Commuting'!$B$2:$B$31), 0), MATCH($R92, 'Out-Commuting'!$F$1:$Z$1, 0))} -> -185.51768
R93: 5321 Plasterers | S93: {=INDEX('Out-Commuting'!$F$2:$Z$31, MATCH(1, ($S$84='Out-Commuting'!$A$2:$A$31)*(S$85='Out-Commuting'!$B$2:$B$31), 0), MATCH($R93, 'Out-Commuting'!$F$1:$Z$1, 0))} -> -66.634945 | T93: {=INDEX('Out-Commuting'!$F$2:$Z$31, MATCH(1, ($S$84='Out-Commuting'!$A$2:$A$31)*(T$85='Out-Commuting'!$B$2:$B$31), 0), MATCH($R93, 'Out-Commuting'!$F$1:$Z$1, 0))} -> -67.256208 | U93: {=INDEX('Out-Commuting'!$F$2:$Z$31, MATCH(1, ($S$84='Out-Commuting'!$A$2:$A$31)*(U$85='Out-Commuting'!$B$2:$B$31), 0), MATCH($R93, 'Out-Commuting'!$F$1:$Z$1, 0))} -> -67.914285 | V93: {=INDEX('Out-Commuting'!$F$2:$Z$31, MATCH(1, ($S$84='Out-Commuting'!$A$2:$A$31)*(V$85='Out-Commuting'!$B$2:$B$31), 0), MATCH($R93, 'Out-Commuting'!$F$1:$Z$1, 0))} -> -68.616556 | W93: {=INDEX('Out-Commuting'!$F$2:$Z$31, MATCH(1, ($S$84='Out-Commuting'!$A$2:$A$31)*(W$85='Out-Commuting'!$B$2:$B$31), 0), MATCH($R93, 'Out-Commuting'!$F$1:$Z$1, 0))} -> -69.383639 | X93: {=INDEX('Out-Commuting'!$F$2:$Z$31, MATCH(1, ($S$84='Out-Commuting'!$A$2:$A$31)*(X$85='Out-Commuting'!$B$2:$B$31), 0), MATCH($R93, 'Out-Commuting'!$F$1:$Z$1, 0))} -> -70.170235 | Y93: {=INDEX('Out-Commuting'!$F$2:$Z$31, MATCH(1, ($S$84='Out-Commuting'!$A$2:$A$31)*(Y$85='Out-Commuting'!$B$2:$B$31), 0), MATCH($R93, 'Out-Commuting'!$F$1:$Z$1, 0))} -> -70.958563 | Z93: {=INDEX('Out-Commuting'!$F$2:$Z$31, MATCH(1, ($S$84='Out-Commuting'!$A$2:$A$31)*(Z$85='Out-Commuting'!$B$2:$B$31), 0), MATCH($R93, 'Out-Commuting'!$F$1:$Z$1, 0))} -> -71.75967 | ... AB93: {=INDEX('Out-Commuting'!$F$2:$Z$31, MATCH(1, ($S$84='Out-Commuting'!$A$2:$A$31)*(AB$85='Out-Commuting'!$B$2:$B$31), 0), MATCH($R93, 'Out-Commuting'!$F$1:$Z$1, 0))} -> -73.397368
R94: 5322 Floorers and wall tilers | S94: {=INDEX('Out-Commuting'!$F$2:$Z$31, MATCH(1, ($S$84='Out-Commuting'!$A$2:$A$31)*(S$85='Out-Commuting'!$B$2:$B$31), 0), MATCH($R94, 'Out-Commuting'!$F$1:$Z$1, 0))} -> -100.23349 | T94: {=INDEX('Out-Commuting'!$F$2:$Z$31, MATCH(1, ($S$84='Out-Commuting'!$A$2:$A$31)*(T$85='Out-Commuting'!$B$2:$B$31), 0), MATCH($R94, 'Out-Commuting'!$F$1:$Z$1, 0))} -> -101.168 | U94: {=INDEX('Out-Commuting'!$F$2:$Z$31, MATCH(1, ($S$84='Out-Commuting'!$A$2:$A$31)*(U$85='Out-Commuting'!$B$2:$B$31), 0), MATCH($R94, 'Out-Commuting'!$F$1:$Z$1, 0))} -> -102.15789 | V94: {=INDEX('Out-Commuting'!$F$2:$Z$31, MATCH(1, ($S$84='Out-Commuting'!$A$2:$A$31)*(V$85='Out-Commuting'!$B$2:$B$31), 0), MATCH($R94, 'Out-Commuting'!$F$1:$Z$1, 0))} -> -103.21426 | W94: {=INDEX('Out-Commuting'!$F$2:$Z$31, MATCH(1, ($S$84='Out-Commuting'!$A$2:$A$31)*(W$85='Out-Commuting'!$B$2:$B$31), 0), MATCH($R94, 'Out-Commuting'!$F$1:$Z$1, 0))} -> -104.36812 | X94: {=INDEX('Out-Commuting'!$F$2:$Z$31, MATCH(1, ($S$84='Out-Commuting'!$A$2:$A$31)*(X$85='Out-Commuting'!$B$2:$B$31), 0), MATCH($R94, 'Out-Commuting'!$F$1:$Z$1, 0))} -> -105.55133 | Y94: {=INDEX('Out-Commuting'!$F$2:$Z$31, MATCH(1, ($S$84='Out-Commuting'!$A$2:$A$31)*(Y$85='Out-Commuting'!$B$2:$B$31), 0), MATCH($R94, 'Out-Commuting'!$F$1:$Z$1, 0))} -> -106.73715 | Z94: {=INDEX('Out-Commuting'!$F$2:$Z$31, MATCH(1, ($S$84='Out-Commuting'!$A$2:$A$31)*(Z$85='Out-Commuting'!$B$2:$B$31), 0), MATCH($R94, 'Out-Commuting'!$F$1:$Z$1, 0))} -> -107.94219 | ... AB94: {=INDEX('Out-Commuting'!$F$2:$Z$31, MATCH(1, ($S$84='Out-Commuting'!$A$2:$A$31)*(AB$85='Out-Commuting'!$B$2:$B$31), 0), MATCH($R94, 'Out-Commuting'!$F$1:$Z$1, 0))} -> -110.40565
R95: 5323 Painters and decorators | S95: {=INDEX('Out-Commuting'!$F$2:$Z$31, MATCH(1, ($S$84='Out-Commuting'!$A$2:$A$31)*(S$85='Out-Commuting'!$B$2:$B$31), 0), MATCH($R95, 'Out-Commuting'!$F$1:$Z$1, 0))} -> -49.987019 | T95: {=INDEX('Out-Commuting'!$F$2:$Z$31, MATCH(1, ($S$84='Out-Commuting'!$A$2:$A$31)*(T$85='Out-Commuting'!$B$2:$B$31), 0), MATCH($R95, 'Out-Commuting'!$F$1:$Z$1, 0))} -> -50.453067 | U95: {=INDEX('Out-Commuting'!$F$2:$Z$31, MATCH(1, ($S$84='Out-Commuting'!$A$2:$A$31)*(U$85='Out-Commuting'!$B$2:$B$31), 0), MATCH($R95, 'Out-Commuting'!$F$1:$Z$1, 0))} -> -50.946732 | V95: {=INDEX('Out-Commuting'!$F$2:$Z$31, MATCH(1, ($S$84='Out-Commuting'!$A$2:$A$31)*(V$85='Out-Commuting'!$B$2:$B$31), 0), MATCH($R95, 'Out-Commuting'!$F$1:$Z$1, 0))} -> -51.473549 | W95: {=INDEX('Out-Commuting'!$F$2:$Z$31, MATCH(1, ($S$84='Out-Commuting'!$A$2:$A$31)*(W$85='Out-Commuting'!$B$2:$B$31), 0), MATCH($R95, 'Out-Commuting'!$F$1:$Z$1, 0))} -> -52.048986 | X95: {=INDEX('Out-Commuting'!$F$2:$Z$31, MATCH(1, ($S$84='Out-Commuting'!$A$2:$A$31)*(X$85='Out-Commuting'!$B$2:$B$31), 0), MATCH($R95, 'Out-Commuting'!$F$1:$Z$1, 0))} -> -52.63906 | Y95: {=INDEX('Out-Commuting'!$F$2:$Z$31, MATCH(1, ($S$84='Out-Commuting'!$A$2:$A$31)*(Y$85='Out-Commuting'!$B$2:$B$31), 0), MATCH($R95, 'Out-Commuting'!$F$1:$Z$1, 0))} -> -53.230434 | Z95: {=INDEX('Out-Commuting'!$F$2:$Z$31, MATCH(1, ($S$84='Out-Commuting'!$A$2:$A$31)*(Z$85='Out-Commuting'!$B$2:$B$31), 0), MATCH($R95, 'Out-Commuting'!$F$1:$Z$1, 0))} -> -53.831394 | ... AB95: {=INDEX('Out-Commuting'!$F$2:$Z$31, MATCH(1, ($S$84='Out-Commuting'!$A$2:$A$31)*(AB$85='Out-Commuting'!$B$2:$B$31), 0), MATCH($R95, 'Out-Commuting'!$F$1:$Z$1, 0))} -> -55.059934
R96: 9129 Elementary construction occupations n.e.c. | S96: {=INDEX('Out-Commuting'!$F$2:$Z$31, MATCH(1, ($S$84='Out-Commuting'!$A$2:$A$31)*(S$85='Out-Commuting'!$B$2:$B$31), 0), MATCH($R96, 'Out-Commuting'!$F$1:$Z$1, 0))} -> -27.249502 | T96: {=INDEX('Out-Commuting'!$F$2:$Z$31, MATCH(1, ($S$84='Out-Commuting'!$A$2:$A$31)*(T$85='Out-Commuting'!$B$2:$B$31), 0), MATCH($R96, 'Out-Commuting'!$F$1:$Z$1, 0))} -> -27.511071 | U96: {=INDEX('Out-Commuting'!$F$2:$Z$31, MATCH(1, ($S$84='Out-Commuting'!$A$2:$A$31)*(U$85='Out-Commuting'!$B$2:$B$31), 0), MATCH($R96, 'Out-Commuting'!$F$1:$Z$1, 0))} -> -27.787845 | V96: {=INDEX('Out-Commuting'!$F$2:$Z$31, MATCH(1, ($S$84='Out-Commuting'!$A$2:$A$31)*(V$85='Out-Commuting'!$B$2:$B$31), 0), MATCH($R96, 'Out-Commuting'!$F$1:$Z$1, 0))} -> -28.082855 | W96: {=INDEX('Out-Commuting'!$F$2:$Z$31, MATCH(1, ($S$84='Out-Commuting'!$A$2:$A$31)*(W$85='Out-Commuting'!$B$2:$B$31), 0), MATCH($R96, 'Out-Commuting'!$F$1:$Z$1, 0))} -> -28.404557 | X96: {=INDEX('Out-Commuting'!$F$2:$Z$31, MATCH(1, ($S$84='Out-Commuting'!$A$2:$A$31)*(X$85='Out-Commuting'!$B$2:$B$31), 0), MATCH($R96, 'Out-Commuting'!$F$1:$Z$1, 0))} -> -28.734423 | Y96: {=INDEX('Out-Commuting'!$F$2:$Z$31, MATCH(1, ($S$84='Out-Commuting'!$A$2:$A$31)*(Y$85='Out-Commuting'!$B$2:$B$31), 0), MATCH($R96, 'Out-Commuting'!$F$1:$Z$1, 0))} -> -29.065177 | Z96: {=INDEX('Out-Commuting'!$F$2:$Z$31, MATCH(1, ($S$84='Out-Commuting'!$A$2:$A$31)*(Z$85='Out-Commuting'!$B$2:$B$31), 0), MATCH($R96, 'Out-Commuting'!$F$1:$Z$1, 0))} -> -29.401344 | ... AB96: {=INDEX('Out-Commuting'!$F$2:$Z$31, MATCH(1, ($S$84='Out-Commuting'!$A$2:$A$31)*(AB$85='Out-Commuting'!$B$2:$B$31), 0), MATCH($R96, 'Out-Commuting'!$F$1:$Z$1, 0))} -> -30.088772
R97: 2121 Civil Engineers | S97: {=INDEX('Out-Commuting'!$F$2:$Z$31, MATCH(1, ($S$84='Out-Commuting'!$A$2:$A$31)*(S$85='Out-Commuting'!$B$2:$B$31), 0), MATCH($R97, 'Out-Commuting'!$F$1:$Z$1, 0))} -> 0 | T97: {=INDEX('Out-Commuting'!$F$2:$Z$31, MATCH(1, ($S$84='Out-Commuting'!$A$2:$A$31)*(T$85='Out-Commuting'!$B$2:$B$31), 0), MATCH($R97, 'Out-Commuting'!$F$1:$Z$1, 0))} -> 0 | U97: {=INDEX('Out-Commuting'!$F$2:$Z$31, MATCH(1, ($S$84='Out-Commuting'!$A$2:$A$31)*(U$85='Out-Commuting'!$B$2:$B$31), 0), MATCH($R97, 'Out-Commuting'!$F$1:$Z$1, 0))} -> 0 | V97: {=INDEX('Out-Commuting'!$F$2:$Z$31, MATCH(1, ($S$84='Out-Commuting'!$A$2:$A$31)*(V$85='Out-Commuting'!$B$2:$B$31), 0), MATCH($R97, 'Out-Commuting'!$F$1:$Z$1, 0))} -> 0 | W97: {=INDEX('Out-Commuting'!$F$2:$Z$31, MATCH(1, ($S$84='Out-Commuting'!$A$2:$A$31)*(W$85='Out-Commuting'!$B$2:$B$31), 0), MATCH($R97, 'Out-Commuting'!$F$1:$Z$1, 0))} -> 0 | X97: {=INDEX('Out-Commuting'!$F$2:$Z$31, MATCH(1, ($S$84='Out-Commuting'!$A$2:$A$31)*(X$85='Out-Commuting'!$B$2:$B$31), 0), MATCH($R97, 'Out-Commuting'!$F$1:$Z$1, 0))} -> 0 | Y97: {=INDEX('Out-Commuting'!$F$2:$Z$31, MATCH(1, ($S$84='Out-Commuting'!$A$2:$A$31)*(Y$85='Out-Commuting'!$B$2:$B$31), 0), MATCH($R97, 'Out-Commuting'!$F$1:$Z$1, 0))} -> 0 | Z97: {=INDEX('Out-Commuting'!$F$2:$Z$31, MATCH(1, ($S$84='Out-Commuting'!$A$2:$A$31)*(Z$85='Out-Commuting'!$B$2:$B$31), 0), MATCH($R97, 'Out-Commuting'!$F$1:$Z$1, 0))} -> 0 | ... AB97: {=INDEX('Out-Commuting'!$F$2:$Z$31, MATCH(1, ($S$84='Out-Commuting'!$A$2:$A$31)*(AB$85='Out-Commuting'!$B$2:$B$31), 0), MATCH($R97, 'Out-Commuting'!$F$1:$Z$1, 0))} -> 0
... R106: 5330 Construction and building trades supervisors | S106: {=INDEX('Out-Commuting'!$F$2:$Z$31, MATCH(1, ($S$84='Out-Commuting'!$A$2:$A$31)*(S$85='Out-Commuting'!$B$2:$B$31), 0), MATCH($R106, 'Out-Commuting'!$F$1:$Z$1, 0))} -> 0 | T106: {=INDEX('Out-Commuting'!$F$2:$Z$31, MATCH(1, ($S$84='Out-Commuting'!$A$2:$A$31)*(T$85='Out-Commuting'!$B$2:$B$31), 0), MATCH($R106, 'Out-Commuting'!$F$1:$Z$1, 0))} -> 0 | U106: {=INDEX('Out-Commuting'!$F$2:$Z$31, MATCH(1, ($S$84='Out-Commuting'!$A$2:$A$31)*(U$85='Out-Commuting'!$B$2:$B$31), 0), MATCH($R106, 'Out-Commuting'!$F$1:$Z$1, 0))} -> 0 | V106: {=INDEX('Out-Commuting'!$F$2:$Z$31, MATCH(1, ($S$84='Out-Commuting'!$A$2:$A$31)*(V$85='Out-Commuting'!$B$2:$B$31), 0), MATCH($R106, 'Out-Commuting'!$F$1:$Z$1, 0))} -> 0 | W106: {=INDEX('Out-Commuting'!$F$2:$Z$31, MATCH(1, ($S$84='Out-Commuting'!$A$2:$A$31)*(W$85='Out-Commuting'!$B$2:$B$31), 0), MATCH($R106, 'Out-Commuting'!$F$1:$Z$1, 0))} -> 0 | X106: {=INDEX('Out-Commuting'!$F$2:$Z$31, MATCH(1, ($S$84='Out-Commuting'!$A$2:$A$31)*(X$85='Out-Commuting'!$B$2:$B$31), 0), MATCH($R106, 'Out-Commuting'!$F$1:$Z$1, 0))} -> 0 | Y106: {=INDEX('Out-Commuting'!$F$2:$Z$31, MATCH(1, ($S$84='Out-Commuting'!$A$2:$A$31)*(Y$85='Out-Commuting'!$B$2:$B$31), 0), MATCH($R106, 'Out-Commuting'!$F$1:$Z$1, 0))} -> 0 | Z106: {=INDEX('Out-Commuting'!$F$2:$Z$31, MATCH(1, ($S$84='Out-Commuting'!$A$2:$A$31)*(Z$85='Out-Commuting'!$B$2:$B$31), 0), MATCH($R106, 'Out-Commuting'!$F$1:$Z$1, 0))} -> 0 | ... AB106: {=INDEX('Out-Commuting'!$F$2:$Z$31, MATCH(1, ($S$84='Out-Commuting'!$A$2:$A$31)*(AB$85='Out-Commuting'!$B$2:$B$31), 0), MATCH($R106, 'Out-Commuting'!$F$1:$Z$1, 0))} -> 0

Sheet Labour Demand
A1: Region | B1: Scenario | C1: Year | D1: 5241 Electricians and electrical fitters | E1: 5314 Roofers, roof tilers and slaters | F1: 5315 Plumbers & heating and ventilating installers and repairers | G1: 5317 Glaziers, window fabricators and fitters | H1: 5319 Construction and building trades n.e.c. | I1: Direct | J1: 5313 Bricklayers | K1: 5316 Carpenters and joiners | L1: 5321 Plasterers | M1: 5322 Floorers and wall tilers | N1: 5323 Painters and decorators | O1: 9129 Elementary construction occupations n.e.c. | P1: Support | Q1: 2121 Civil Engineers | R1: 2123 Electrical engineers | S1: 2127 Engineering project managers and project engineers | T1: 2129 Engineering professionals n.e.c. | U1: 2455 Construction project managers and related professionals | V1: 3114 Building and civil engineering technicians | W1: 3582 Health and safety managers and officers | X1: 4159 Other administrative occupations n.e.c. | Y1: 5250 Skilled metal, electrical and electronic trades supervisors | Z1: 5330 Construction and building trades supervisors | AA1: Supervisory
A2: Wales | B2: Base | C2: 2025/26 | D2: 3910.7352 | E2: 267.00488 | F2: 7928.8457 | G2: 711.05697 | H2: 454.83916 | I2: =SUM('Labour Demand'!$D2:$H2) -> 13272.482 | J2: 378.44586 | K2: 3950.5319 | L2: 1562.9704 | M2: 2850.3559 | N2: 1258.1191 | O2: 647.06364 | P2: =SUM('Labour Demand'!$J2:$O2) -> 10647.487 | Q2: 0 | R2: 502.70676 | S2: 786.19957 | T2: 428.21729 | U2: 771.01016 | V2: 0 | W2: 86.887379 | X2: 567.30577 | Y2: 300.67377 | Z2: 0 | AA2: =SUM('Labour Demand'!$Q2:$Z2) -> 3443.0007
A3: Wales | B3: Base | C3: 2026/27 | D3: 4306.9892 | E3: 268.26281 | F3: 9849.7145 | G3: 714.40695 | H3: 516.9254 | I3: =SUM('Labour Demand'!$D3:$H3) -> 15656.299 | J3: 470.53674 | K3: 3969.1439 | L3: 1570.3339 | M3: 3780.6919 | N3: 1439.7673 | O3: 679.37317 | P3: =SUM('Labour Demand'!$J3:$O3) -> 11909.847 | Q3: 0 | R3: 524.48286 | S3: 820.25593 | T3: 446.76668 | U3: 804.40855 | V3: 0 | W3: 90.65114 | X3: 591.88015 | Y3: 313.69827 | Z3: 0 | AA3: =SUM('Labour Demand'!$Q3:$Z3) -> 3592.1436
A4: Wales | B4: Base | C4: 2027/28 | D4: 4799.4163 | E4: 269.43842 | F4: 12226.529 | G4: 717.5377 | H4: 593.93342 | I4: =SUM('Labour Demand'!$D4:$H4) -> 18606.854 | J4: 584.48513 | K4: 3986.5379 | L4: 1577.2156 | M4: 4930.9354 | N4: 1665.0052 | O4: 719.82972 | P4: =SUM('Labour Demand'!$J4:$O4) -> 13464.009 | Q4: 0 | R4: 547.0162 | S4: 855.49655 | T4: 465.9611 | U4: 838.96832 | V4: 0 | W4: 94.545782 | X4: 617.30908 | Y4: 327.17567 | Z4: 0 | AA4: =SUM('Labour Demand'!$Q4:$Z4) -> 3746.4727
A5: Wales | B5: Base | C5: 2028/29 | D5: 5379.971 | E5: 270.52747 | F5: 15021.465 | G5: 720.43794 | H5: 684.61949 | I5: =SUM('Labour Demand'!$D5:$H5) -> 22077.021 | J5: 718.47788 | K5: 4002.6512 | L5: 1583.5906 | M5: 6282.8734 | N5: 1930.2017 | O5: 767.74225 | P5: =SUM('Labour Demand'!$J5:$O5) -> 15285.537 | Q5: 0 | R5: 570.31687 | S5: 891.93724 | T5: 485.80915 | U5: 874.70497 | V5: 0 | W5: 98.573049 | X5: 643.60394 | Y5: 341.11203 | Z5: 0 | AA5: =SUM('Labour Demand'!$Q5:$Z5) -> 3906.0573
A6: Wales | B6: Base | C6: 2029/30 | D6: 6205.4884 | E6: 271.21595 | F6: 18984.679 | G6: 722.27142 | H6: 813.41219 | I6: =SUM('Labour Demand'!$D6:$H6) -> 26997.067 | J6: 908.47762 | K6: 4012.8378 | L6: 1587.6208 | M6: 8198.9213 | N6: 2306.762 | O6: 836.19964 | P6: =SUM('Labour Demand'!$J6:$O6) -> 17850.819 | Q6: 0 | R6: 593.68954 | S6: 928.49053 | T6: 505.71854 | U6: 910.55205 | V6: 0 | W6: 102.61276 | X6: 669.98006 | Y6: 355.09145 | Z6: 0 | AA6: =SUM('Labour Demand'!$Q6:$Z6) -> 4066.1349
A7: Wales | B7: Base | C7: 2030/31 | D7: 7289.6226 | E7: 271.41574 | F7: 24183.281 | G7: 722.80348 | H7: 982.46407 | I7: =SUM('Labour Demand'!$D7:$H7) -> 33449.587 | J7: 1157.7019 | K7: 4015.7938 | L7: 1588.7903 | M7: 10711.665 | N7: 2800.9898 | O7: 926.2878 | P7: =SUM('Labour Demand'!$J7:$O7) -> 21201.229 | Q7: 0 | R7: 616.86267 | S7: 964.73174 | T7: 525.45795 | U7: 946.09308 | V7: 0 | W7: 106.61798 | X7: 696.13099 | Y7: 368.95153 | Z7: 0 | AA7: =SUM('Labour Demand'!$Q7:$Z7) -> 4224.8459
A8: Wales | B8: Base | C8: 2031/32 | D8: 8955.6691 | E8: 271.794 | F8: 32114.661 | G8: 723.81082 | H8: 1241.4305 | I8: =SUM('Labour Demand'!$D8:$H8) -> 43307.365 | J8: 1537.9285 | K8: 4021.3904 | L8: 1591.0045 | M8: 14540.073 | N8: 3557.7043 | O8: 1066.4447 | P8: =SUM('Labour Demand'!$J8:$O8) -> 26314.546 | Q8: 0 | R8: 641.37721 | S8: 1003.0708 | T8: 546.34 | U8: 983.69145 | V8: 0 | W8: 110.85505 | X8: 723.7957 | Y8: 383.61391 | Z8: 0 | AA8: =SUM('Labour Demand'!$Q8:$Z8) -> 4392.7441
A9: Wales | B9: Base | C9: 2032/33 | D9: 9391.6346 | E9: 271.59528 | F9: 34273.932 | G9: 723.28161 | H9: 1310.396 | I9: =SUM('Labour Demand'!$D9:$H9) -> 45970.84 | J9: 1641.4559 | K9: 4018.4502 | L9: 1589.8413 | M9: 15589.994 | N9: 3759.7817 | O9: 1100.6264 | P9: =SUM('Labour Demand'!$J9:$O9) -> 27700.15 | Q9: 0 | R9: 665.39693 | S9: 1040.6361 | T9: 566.80055 | U9: 1020.5309 | V9: 0 | W9: 115.0066 | X9: 750.90201 | Y9: 397.98033 | Z9: 0 | AA9: =SUM('Labour Demand'!$Q9:$Z9) -> 4557.2534
A10: Wales | B10: Base | C10: 2033/34 | D10: 9099.9006 | E10: 271.42496 | F10: 33004.4 | G10: 722.82803 | H10: 1266.7576 | I10: =SUM('Labour Demand'!$D10:$H10) -> 44365.311 | J10: 1580.6137 | K10: 4015.9302 | L10: 1588.8443 | M10: 14988.105 | N10: 3633.0597 | O10: 1072.5341 | P10: =SUM('Labour Demand'!$J10:$O10) -> 26879.086 | Q10: 0 | R10: 690.3908 | S10: 1079.7248 | T10: 588.09091 | U10: 1058.8644 | V10: 0 | W10: 119.32652 | X10: 779.10765 | Y10: 412.92941 | Z10: 0 | AA10: =SUM('Labour Demand'!$Q10:$Z10) -> 4728.4345
A11: Wales | B11: Base | C11: 2034/35 | D11: 9120.8656 | E11: 271.29767 | F11: 33204.718 | G11: 722.48905 | H11: 1271.4555 | I11: =SUM('Labour Demand'!$D11:$H11) -> 44590.826 | J11: 1590.2324 | K11: 4014.0469 | L11: 1588.0992 | M11: 15093.982 | N11: 3647.4542 | O11: 1071.3067 | P11: =SUM('Labour Demand'!$J11:$O11) -> 27005.122 | Q11: 0 | R11: 716.44119 | S11: 1120.4658 | T11: 610.28124 | U11: 1098.8184 | V11: 0 | W11: 123.82904 | X11: 808.50558 | Y11: 428.5104 | Z11: 0 | AA11: =SUM('Labour Demand'!$Q11:$Z11) -> 4906.8517
A12: Wales | B12: High Demand | C12: 2025/26 | D12: 3979.1673 | E12: 295.2426 | F12: 8235.0762 | G12: 786.25645 | H12: 465.19622 | I12: =SUM('Labour Demand'!$D12:$H12) -> 13760.939 | J12: 393.12336 | K12: 4368.3295 | L12: 1728.2659 | M12: 2996.3842 | N12: 1288.2532 | O12: 653.40223 | P12: =SUM('Labour Demand'!$J12:$O12) -> 11427.758 | Q12: 0 | R12: 692.38557 | S12: 1082.8445 | T12: 589.79011 | U12: 1061.9239 | V12: 0 | W12: 119.67129 | X12: 781.35876 | Y12: 414.1225 | Z12: 0 | AA12: =SUM('Labour Demand'!$Q12:$Z12) -> 4742.0966
A13: Wales | B13: High Demand | C13: 2026/27 | D13: 4424.0392 | E13: 297.50845 | F13: 10385.401 | G13: 792.2906 | H13: 534.81095 | I13: =SUM('Labour Demand'!$D13:$H13) -> 16434.05 | J13: 496.21393 | K13: 4401.8544 | L13: 1741.5296 | M13: 4037.2941 | N13: 1491.8869 | O13: 689.86111 | P13: =SUM('Labour Demand'!$J13:$O13) -> 12858.64 | Q13: 0 | R13: 716.68187 | S13: 1120.8423 | T13: 610.48626 | U13: 1099.1875 | V13: 0 | W13: 123.87064 | X13: 808.77719 | Y13: 428.65435 | Z13: 0 | AA13: =SUM('Labour Demand'!$Q13:$Z13) -> 4908.5001
... A31: Wales | B31: Low Demand | C31: 2034/35 | D31: 2853.6742 | E31: 182.59208 | F31: 6748.5731 | G31: 486.25844 | H31: 345.68355 | I31: =SUM('Labour Demand'!$D31:$H31) -> 10616.781 | J31: 322.4621 | K31: 2470.6171 | L31: 977.46367 | M31: 2632.6793 | N31: 964.72803 | O31: 443.51096 | P31: =SUM('Labour Demand'!$J31:$O31) -> 7811.4612 | Q31: 0 | R31: 444.54758 | S31: 695.24253 | T31: 378.67595 | U31: 681.81041 | V31: 0 | W31: 76.835199 | X31: 501.673 | Y31: 265.88821 | Z31: 0 | AA31: =SUM('Labour Demand'!$Q31:$Z31) -> 3044.6729
A32: North Wales | B32: Base | C32: 2025/26 | D32: - | E32: - | F32: - | G32: - | H32: - | I32: 3068.1742 | J32: - | K32: - | L32: - | M32: - | N32: - | O32: - | P32: 2461.3591 | Q32: - | R32: - | S32: - | T32: - | U32: - | V32: - | W32: - | X32: - | Y32: - | Z32: - | AA32: 795.91187
A33: North Wales | B33: Base | C33: 2026/27 | D33: - | E33: - | F33: - | G33: - | H33: - | I33: 3617.9548 | J33: - | K33: - | L33: - | M33: - | N33: - | O33: - | P33: 2752.2014 | Q33: - | R33: - | S33: - | T33: - | U33: - | V33: - | W33: - | X33: - | Y33: - | Z33: - | AA33: 830.09485
A34: North Wales | B34: Base | C34: 2027/28 | D34: - | E34: - | F34: - | G34: - | H34: - | I34: 4298.4536 | J34: - | K34: - | L34: - | M34: - | N34: - | O34: - | P34: 3110.3816 | Q34: - | R34: - | S34: - | T34: - | U34: - | V34: - | W34: - | X34: - | Y34: - | Z34: - | AA34: 865.4896
A35: North Wales | B35: Base | C35: 2028/29 | D35: - | E35: - | F35: - | G35: - | H35: - | I35: 5098.7883 | J35: - | K35: - | L35: - | M35: - | N35: - | O35: - | P35: 3530.2642 | Q35: - | R35: - | S35: - | T35: - | U35: - | V35: - | W35: - | X35: - | Y35: - | Z35: - | AA35: 902.12167
A36: North Wales | B36: Base | C36: 2029/30 | D36: - | E36: - | F36: - | G36: - | H36: - | I36: 6233.734 | J36: - | K36: - | L36: - | M36: - | N36: - | O36: - | P36: 4121.8277 | Q36: - | R36: - | S36: - | T36: - | U36: - | V36: - | W36: - | X36: - | Y36: - | Z36: - | AA36: 938.88731
A37: North Wales | B37: Base | C37: 2030/31 | D37: - | E37: - | F37: - | G37: - | H37: - | I37: 7722.5498 | J37: - | K37: - | L37: - | M37: - | N37: - | O37: - | P37: 4894.7554 | Q37: - | R37: - | S37: - | T37: - | U37: - | V37: - | W37: - | X37: - | Y37: - | Z37: - | AA37: 975.3957
A38: North Wales | B38: Base | C38: 2031/32 | D38: - | E38: - | F38: - | G38: - | H38: - | I38: 9997.7041 | J38: - | K38: - | L38: - | M38: - | N38: - | O38: - | P38: 6074.8336 | Q38: - | R38: - | S38: - | T38: - | U38: - | V38: - | W38: - | X38: - | Y38: - | Z38: - | AA38: 1014.0851
A39: North Wales | B39: Base | C39: 2032/33 | D39: - | E39: - | F39: - | G39: - | H39: - | I39: 10612.065 | J39: - | K39: - | L39: - | M39: - | N39: - | O39: - | P39: 6394.3965 | Q39: - | R39: - | S39: - | T39: - | U39: - | V39: - | W39: - | X39: - | Y39: - | Z39: - | AA39: 1052.0118
A40: North Wales | B40: Base | C40: 2033/34 | D40: - | E40: - | F40: - | G40: - | H40: - | I40: 10241.517 | J40: - | K40: - | L40: - | M40: - | N40: - | O40: - | P40: 6204.9066 | Q40: - | R40: - | S40: - | T40: - | U40: - | V40: - | W40: - | X40: - | Y40: - | Z40: - | AA40: 1091.5361
A41: North Wales | B41: Base | C41: 2034/35 | D41: - | E41: - | F41: - | G41: - | H41: - | I41: 10294.266 | J41: - | K41: - | L41: - | M41: - | N41: - | O41: - | P41: 6234.4191 | Q41: - | R41: - | S41: - | T41: - | U41: - | V41: - | W41: - | X41: - | Y41: - | Z41: - | AA41: 1132.7988
A42: North Wales | B42: High Demand | C42: 2025/26 | D42: - | E42: - | F42: - | G42: - | H42: - | I42: 3177.1492 | J42: - | K42: - | L42: - | M42: - | N42: - | O42: - | P42: 2638.4605 | Q42: - | R42: - | S42: - | T42: - | U42: - | V42: - | W42: - | X42: - | Y42: - | Z42: - | AA42: 1094.8634
A43: North Wales | B43: High Demand | C43: 2026/27 | D43: - | E43: - | F43: - | G43: - | H43: - | I43: 3799.0278 | J43: - | K43: - | L43: - | M43: - | N43: - | O43: - | P43: 2972.5071 | Q43: - | R43: - | S43: - | T43: - | U43: - | V43: - | W43: - | X43: - | Y43: - | Z43: - | AA43: 1134.6886
... A151: South East Wales | B151: Low Demand | C151: 2034/35 | D151: - | E151: - | F151: - | G151: - | H151: - | I151: 5011.1308 | J151: - | K151: - | L151: - | M151: - | N151: - | O151: - | P151: 3687.017 | Q151: - | R151: - | S151: - | T151: - | U151: - | V151: - | W151: - | X151: - | Y151: - | Z151: - | AA151: 1437.0885

Sheet Labour Supply - Base
A1: Year | B1: 5241 Electricians and electrical fitters | C1: 5314 Roofers, roof tilers and slaters | D1: 5315 Plumbers & heating and ventilating installers and repairers | E1: 5317 Glaziers, window fabricators and fitters | F1: 5319 Construction and building trades n.e.c. | G1: Direct | H1: 5313 Bricklayers | I1: 5316 Carpenters and joiners | J1: 5321 Plasterers | K1: 5322 Floorers and wall tilers | L1: 5323 Painters and decorators | M1: 9129 Elementary construction occupations n.e.c. | N1: Support | O1: 2121 Civil Engineers | P1: 2123 Electrical engineers | Q1: 2127 Engineering project managers and project engineers | R1: 2129 Engineering professionals n.e.c. | S1: 2455 Construction project managers and related professionals | T1: 3114 Building and civil engineering technicians | U1: 3582 Health and safety managers and officers | V1: 4159 Other administrative occupations n.e.c. | W1: 5250 Skilled metal, electrical and electronic trades supervisors | X1: 5330 Construction and building trades supervisors | Y1: Supervisory
A2: 2024/25 | B2: 3691 | C2: 263.25164 | D2: 6835 | E2: 701.06178 | F2: 420 | G2: =SUM('Labour Supply - Base'!$B2:$F2) -> 11910.313 | H2: 326 | I2: 3895 | J2: 1541 | K2: 2318 | L2: 1156 | M2: 630 | N2: =SUM('Labour Supply - Base'!$H2:$M2) -> 9866 | O2: 0 | P2: 459.01543 | Q2: 717.86927 | R2: 391 | S2: 704 | T2: 0 | U2: 79.335809 | V2: 518 | W2: 274.54156 | X2: 0 | Y2: =SUM('Labour Supply - Base'!$O2:$X2) -> 3143.7621
A3: 2025/26 | B3: 3617.18 | C3: 257.19686 | D3: 6677.795 | E3: 684.93736 | F3: 410.34 | G3: =SUM('Labour Supply - Base'!$B3:$F3) -> 11647.449 | H3: 318.502 | I3: 3805.415 | J3: 1505.557 | K3: 2264.686 | L3: 1129.412 | M3: 618.03 | N3: =SUM('Labour Supply - Base'!$H3:$M3) -> 9641.602 | O3: 0 | P3: 448.45808 | Q3: 701.35827 | R3: 382.007 | S3: 682.88 | T3: 0 | U3: 77.352414 | V3: 505.05 | W3: 269.05073 | X3: 0 | Y3: =SUM('Labour Supply - Base'!$O3:$X3) -> 3066.1565
A4: 2026/27 | B4: 3544.8364 | C4: 251.28133 | D4: 6524.2057 | E4: 669.1838 | F4: 400.90218 | G4: =SUM('Labour Supply - Base'!$B4:$F4) -> 11390.409 | H4: 311.17645 | I4: 3717.8905 | J4: 1470.9292 | K4: 2212.5982 | L4: 1103.4355 | M4: 606.28743 | N4: =SUM('Labour Supply - Base'!$H4:$M4) -> 9422.3173 | O4: 0 | P4: 438.14354 | Q4: 685.22703 | R4: 373.22084 | S4: 662.3936 | T4: 0 | U4: 75.418603 | V4: 492.42375 | W4: 263.66972 | X4: 0 | Y4: =SUM('Labour Supply - Base'!$O4:$X4) -> 2990.4971
A5: 2027/28 | B5: 3473.9397 | C5: 245.50186 | D5: 6374.149 | E5: 653.79257 | F5: 391.68143 | G5: =SUM('Labour Supply - Base'!$B5:$F5) -> 11139.065 | H5: 304.0194 | I5: 3632.379 | J5: 1437.0978 | K5: 2161.7085 | L5: 1078.0565 | M5: 594.76797 | N5: =SUM('Labour Supply - Base'!$H5:$M5) -> 9208.0291 | O5: 0 | P5: 428.06624 | Q5: 669.46681 | R5: 364.63676 | S5: 642.52179 | T5: 0 | U5: 73.533138 | V5: 480.11316 | W5: 258.39632 | X5: 0 | Y5: =SUM('Labour Supply - Base'!$O5:$X5) -> 2916.7342
A6: 2028/29 | B6: 3404.4609 | C6: 239.85531 | D6: 6227.5436 | E6: 638.75535 | F6: 382.67276 | G6: =SUM('Labour Supply - Base'!$B6:$F6) -> 10893.288 | H6: 297.02695 | I6: 3548.8343 | J6: 1404.0446 | K6: 2111.9892 | L6: 1053.2612 | M6: 583.46738 | N6: =SUM('Labour Supply - Base'!$H6:$M6) -> 8998.6235 | O6: 0 | P6: 418.22071 | Q6: 654.06907 | R6: 356.25011 | S6: 623.24614 | T6: 0 | U6: 71.69481 | V6: 468.11033 | W6: 253.2284 | X6: 0 | Y6: =SUM('Labour Supply - Base'!$O6:$X6) -> 2844.8196
A7: 2029/30 | B7: 3336.3717 | C7: 234.33864 | D7: 6084.3101 | E7: 624.06397 | F7: 373.87128 | G7: =SUM('Labour Supply - Base'!$B7:$F7) -> 10652.956 | H7: 290.19533 | I7: 3467.2111 | J7: 1371.7515 | K7: 2063.4134 | L7: 1029.0362 | M7: 572.3815 | N7: =SUM('Labour Supply - Base'!$H7:$M7) -> 8793.9891 | O7: 0 | P7: 408.60164 | Q7: 639.02549 | R7: 348.05636 | S7: 604.54875 | T7: 0 | U7: 69.902439 | V7: 456.40757 | W7: 248.16383 | X7: 0 | Y7: =SUM('Labour Supply - Base'!$O7:$X7) -> 2774.7061
A8: 2030/31 | B8: 3269.6442 | C8: 228.94885 | D8: 5944.3709 | E8: 609.7105 | F8: 365.27224 | G8: =SUM('Labour Supply - Base'!$B8:$F8) -> 10417.947 | H8: 283.52084 | I8: 3387.4652 | J8: 1340.2013 | K8: 2015.9549 | L8: 1005.3684 | M8: 561.50625 | N8: =SUM('Labour Supply - Base'!$H8:$M8) -> 8594.0168 | O8: 0 | P8: 399.2038 | Q8: 624.3279 | R8: 340.05107 | S8: 586.41229 | T8: 0 | U8: 68.154878 | V8: 444.99738 | W8: 243.20055 | X8: 0 | Y8: =SUM('Labour Supply - Base'!$O8:$X8) -> 2706.3479
A9: 2031/32 | B9: 3204.2513 | C9: 223.68303 | D9: 5807.6504 | E9: 595.68716 | F9: 356.87098 | G9: =SUM('Labour Supply - Base'!$B9:$F9) -> 10188.143 | H9: 276.99986 | I9: 3309.5535 | J9: 1309.3766 | K9: 1969.5879 | L9: 982.24489 | M9: 550.83763 | N9: =SUM('Labour Supply - Base'!$H9:$M9) -> 8398.6005 | O9: 0 | P9: 390.02211 | Q9: 609.96836 | R9: 332.22989 | S9: 568.81992 | T9: 0 | U9: 66.451006 | V9: 433.87245 | W9: 238.33654 | X9: 0 | Y9: =SUM('Labour Supply - Base'!$O9:$X9) -> 2639.7003
A10: 2032/33 | B10: 3140.1663 | C10: 218.53832 | D10: 5674.0744 | E10: 581.98635 | F10: 348.66295 | G10: =SUM('Labour Supply - Base'!$B10:$F10) -> 9963.4284 | H10: 270.62886 | I10: 3233.4338 | J10: 1279.261 | K10: 1924.2874 | L10: 959.65326 | M10: 540.37172 | N10: =SUM('Labour Supply - Base'!$H10:$M10) -> 8207.636 | O10: 0 | P10: 381.0516 | Q10: 595.93909 | R10: 324.5886 | S10: 551.75533 | T10: 0 | U10: 64.789731 | V10: 423.02563 | W10: 233.56981 | X10: 0 | Y10: =SUM('Labour Supply - Base'!$O10:$X10) -> 2574.7198
A11: 2033/34 | B11: 3077.363 | C11: 213.51194 | D11: 5543.5707 | E11: 568.60067 | F11: 340.6437 | G11: =SUM('Labour Supply - Base'!$B11:$F11) -> 9743.69 | H11: 264.4044 | I11: 3159.0648 | J11: 1249.838 | K11: 1880.0288 | L11: 937.58124 | M11: 530.10465 | N11: =SUM('Labour Supply - Base'!$H11:$M11) -> 8021.0219 | O11: 0 | P11: 372.28742 | Q11: 582.23249 | R11: 317.12307 | S11: 535.20267 | T11: 0 | U11: 63.169988 | V11: 412.44999 | W11: 228.89841 | X11: 0 | Y11: =SUM('Labour Supply - Base'!$O11:$X11) -> 2511.364
A12: 2034/35 | B12: 3015.8157 | C12: 208.60116 | D12: 5416.0686 | E12: 555.52285 | F12: 332.8089 | G12: =SUM('Labour Supply - Base'!$B12:$F12) -> 9528.8172 | H12: 258.3231 | I12: 3086.4063 | J12: 1221.0917 | K12: 1836.7881 | L12: 916.01687 | M12: 520.03266 | N12: =SUM('Labour Supply - Base'!$H12:$M12) -> 7838.6588 | O12: 0 | P12: 363.72481 | Q12: 568.84114 | R12: 309.82923 | S12: 519.14659 | T12: 0 | U12: 61.590738 | V12: 402.13874 | W12: 224.32045 | X12: 0 | Y12: =SUM('Labour Supply - Base'!$O12:$X12) -> 2449.5917

Sheet Redeployment Potential
A1: Redeployment Scenario | B1: Year | C1: Direct | D1: Support | E1: Supervisory
A2: None | B2: 2025/26 | C2: 0 | D2: 0 | E2: 0
A3: None | B3: 2026/27 | C3: 0 | D3: 0 | E3: 0
A4: None | B4: 2027/28 | C4: 0 | D4: 0 | E4: 0
A5: None | B5: 2028/29 | C5: 0 | D5: 0 | E5: 0
A6: None | B6: 2029/30 | C6: 0 | D6: 0 | E6: 0
A7: None | B7: 2030/31 | C7: 0 | D7: 0 | E7: 0
A8: None | B8: 2031/32 | C8: 0 | D8: 0 | E8: 0
A9: None | B9: 2032/33 | C9: 0 | D9: 0 | E9: 0
A10: None | B10: 2033/34 | C10: 0 | D10: 0 | E10: 0
A11: None | B11: 2034/35 | C11: 0 | D11: 0 | E11: 0
A12: Low | B12: 2025/26 | C12: 406.19206 | D12: 166.90918 | E12: 560.65655
A13: Low | B13: 2026/27 | C13: 396.84861 | D13: 162.6784 | E13: 545.21246
... A31: High | B31: 2034/35 | C31: 658.95166 | D31: 264.94603 | E31: 872.29414

Sheet Apprenticeships
A1: Scenario | B1: Year | C1: Direct | D1: Support | E1: Supervisory | F1: 5241 Electricians and electrical fitters | G1: 5314 Roofers, roof tilers and slaters | H1: 5315 Plumbers & heating and ventilating installers and repairers | I1: 5317 Glaziers, window fabricators and fitters | J1: 5319 Construction and building trades n.e.c. | K1: 5313 Bricklayers | L1: 5316 Carpenters and joiners | M1: 5321 Plasterers | N1: 5322 Floorers and wall tilers | O1: 5323 Painters and decorators | P1: 9129 Elementary construction occupations n.e.c. | Q1: 2121 Civil Engineers | R1: 2123 Electrical engineers | S1: 2127 Engineering project managers and project engineers | T1: 2129 Engineering professionals n.e.c. | U1: 2455 Construction project managers and related professionals | V1: 3114 Building and civil engineering technicians | W1: 3582 Health and safety managers and officers | X1: 4159 Other administrative occupations n.e.c. | Y1: 5250 Skilled metal, electrical and electronic trades supervisors | Z1: 5330 Construction and building trades supervisors
A2: 2% Nominal Funding | B2: 2025/26 | C2: 636.3 | D2: 0 | E2: 20.2 | F2: 407.36667 | G2: 0 | H2: 228.93333 | I2: 0 | J2: 0 | K2: 0 | L2: 0 | M2: 0 | N2: 0 | O2: 0 | P2: 0 | Q2: 0 | R2: 0 | S2: 0 | T2: 0 | U2: 0 | V2: 20.2 | W2: 0 | X2: 0 | Y2: 0 | Z2: 0
A3: 2% Nominal Funding | B3: 2026/27 | C3: 441.03333 | D3: 0 | E3: 20.2 | F3: 292.9 | G3: 0 | H3: 148.13333 | I3: 0 | J3: 0 | K3: 0 | L3: 0 | M3: 0 | N3: 0 | O3: 0 | P3: 0 | Q3: 0 | R3: 0 | S3: 0 | T3: 0 | U3: 0 | V3: 20.2 | W3: 0 | X3: 0 | Y3: 0 | Z3: 0
A4: 2% Nominal Funding | B4: 2027/28 | C4: 355.94681 | D4: 0 | E4: 7.0711691 | F4: 248.19804 | G4: 0 | H4: 105.36042 | I4: 0 | J4: 2.3883549 | K4: 0 | L4: 0 | M4: 0 | N4: 0 | O4: 0 | P4: 0 | Q4: 0 | R4: 0 | S4: 0 | T4: 0 | U4: 0 | V4: 7.0711691 | W4: 0 | X4: 0 | Y4: 0 | Z4: 0
A5: 2% Nominal Funding | B5: 2028/29 | C5: 354.8772 | D5: 0 | E5: 7.0499205 | F5: 247.45221 | G5: 0 | H5: 105.04382 | I5: 0 | J5: 2.381178 | K5: 0 | L5: 0 | M5: 0 | N5: 0 | O5: 0 | P5: 0 | Q5: 0 | R5: 0 | S5: 0 | T5: 0 | U5: 0 | V5: 7.0499205 | W5: 0 | X5: 0 | Y5: 0 | Z5: 0
A6: 2% Nominal Funding | B6: 2029/30 | C6: 353.80235 | D6: 0 | E6: 7.0285676 | F6: 246.70272 | G6: 0 | H6: 104.72566 | I6: 0 | J6: 2.3739658 | K6: 0 | L6: 0 | M6: 0 | N6: 0 | O6: 0 | P6: 0 | Q6: 0 | R6: 0 | S6: 0 | T6: 0 | U6: 0 | V6: 7.0285676 | W6: 0 | X6: 0 | Y6: 0 | Z6: 0
A7: 2% Nominal Funding | B7: 2030/31 | C7: 353.0597 | D7: 0 | E7: 7.0138144 | F7: 246.18489 | G7: 0 | H7: 104.50583 | I7: 0 | J7: 2.3689828 | K7: 0 | L7: 0 | M7: 0 | N7: 0 | O7: 0 | P7: 0 | Q7: 0 | R7: 0 | S7: 0 | T7: 0 | U7: 0 | V7: 7.0138144 | W7: 0 | X7: 0 | Y7: 0 | Z7: 0
A8: 2% Nominal Funding | B8: 2031/32 | C8: 351.99294 | D8: 0 | E8: 6.9926223 | F8: 245.44104 | G8: 0 | H8: 104.19007 | I8: 0 | J8: 2.3618249 | K8: 0 | L8: 0 | M8: 0 | N8: 0 | O8: 0 | P8: 0 | Q8: 0 | R8: 0 | S8: 0 | T8: 0 | U8: 0 | V8: 6.9926223 | W8: 0 | X8: 0 | Y8: 0 | Z8: 0
A9: 2% Nominal Funding | B9: 2032/33 | C9: 350.4946 | D9: 0 | E9: 6.9628567 | F9: 244.39627 | G9: 0 | H9: 103.74656 | I9: 0 | J9: 2.3517713 | K9: 0 | L9: 0 | M9: 0 | N9: 0 | O9: 0 | P9: 0 | Q9: 0 | R9: 0 | S9: 0 | T9: 0 | U9: 0 | V9: 6.9628567 | W9: 0 | X9: 0 | Y9: 0 | Z9: 0
A10: 2% Nominal Funding | B10: 2033/34 | C10: 349.0638 | D10: 0 | E10: 6.9344326 | F10: 243.39858 | G10: 0 | H10: 103.32305 | I10: 0 | J10: 2.3421708 | K10: 0 | L10: 0 | M10: 0 | N10: 0 | O10: 0 | P10: 0 | Q10: 0 | R10: 0 | S10: 0 | T10: 0 | U10: 0 | V10: 6.9344326 | W10: 0 | X10: 0 | Y10: 0 | Z10: 0
A11: 2% Nominal Funding | B11: 2034/35 | C11: 347.65195 | D11: 0 | E11: 6.9063851 | F11: 242.41412 | G11: 0 | H11: 102.90514 | I11: 0 | J11: 2.3326975 | K11: 0 | L11: 0 | M11: 0 | N11: 0 | O11: 0 | P11: 0 | Q11: 0 | R11: 0 | S11: 0 | T11: 0 | U11: 0 | V11: 6.9063851 | W11: 0 | X11: 0 | Y11: 0 | Z11: 0
A12: 2% Real Funding | B12: 2025/26 | C12: 636.3 | D12: 0 | E12: 20.2 | F12: 407.36667 | G12: 0 | H12: 228.93333 | I12: 0 | J12: 0 | K12: 0 | L12: 0 | M12: 0 | N12: 0 | O12: 0 | P12: 0 | Q12: 0 | R12: 0 | S12: 0 | T12: 0 | U12: 0 | V12: 20.2 | W12: 0 | X12: 0 | Y12: 0 | Z12: 0
A13: 2% Real Funding | B13: 2026/27 | C13: 441.03333 | D13: 0 | E13: 20.2 | F13: 292.9 | G13: 0 | H13: 148.13333 | I13: 0 | J13: 0 | K13: 0 | L13: 0 | M13: 0 | N13: 0 | O13: 0 | P13: 0 | Q13: 0 | R13: 0 | S13: 0 | T13: 0 | U13: 0 | V13: 20.2 | W13: 0 | X13: 0 | Y13: 0 | Z13: 0
... A21: 2% Real Funding | B21: 2034/35 | C21: 362.92194 | D21: 0 | E21: 7.2097357 | F21: 253.06172 | G21: 0 | H21: 107.42506 | I21: 0 | J21: 2.4351571 | K21: 0 | L21: 0 | M21: 0 | N21: 0 | O21: 0 | P21: 0 | Q21: 0 | R21: 0 | S21: 0 | T21: 0 | U21: 0 | V21: 7.2097357 | W21: 0 | X21: 0 | Y21: 0 | Z21: 0

Sheet Out-Commuting
A1: Scenario | B1: Year | C1: Direct | D1: Support | E1: Supervisory | F1: 5241 Electricians and electrical fitters | G1: 5314 Roofers, roof tilers and slaters | H1: 5315 Plumbers & heating and ventilating installers and repairers | I1: 5317 Glaziers, window fabricators and fitters | J1: 5319 Construction and building trades n.e.c. | K1: 5313 Bricklayers | L1: 5316 Carpenters and joiners | M1: 5321 Plasterers | N1: 5322 Floorers and wall tilers | O1: 5323 Painters and decorators | P1: 9129 Elementary construction occupations n.e.c. | Q1: 2121 Civil Engineers | R1: 2123 Electrical engineers | S1: 2127 Engineering project managers and project engineers | T1: 2129 Engineering professionals n.e.c. | U1: 2455 Construction project managers and related professionals | V1: 3114 Building and civil engineering technicians | W1: 3582 Health and safety managers and officers | X1: 4159 Other administrative occupations n.e.c. | Y1: 5250 Skilled metal, electrical and electronic trades supervisors | Z1: 5330 Construction and building trades supervisors
A2: Low Out-Commuting | B2: 2025/26 | C2: -513.81502 | D2: -425.12343 | E2: -135.3778 | F2: -159.65307 | G2: -11.343249 | H2: -294.51327 | I2: -30.208047 | J2: -18.097378 | K2: -14.047012 | L2: -167.83163 | M2: -66.40014 | N2: -99.880288 | O2: -49.810877 | P2: -27.153481 | Q2: 0 | R2: -19.819577 | S2: -30.996485 | T2: -16.882776 | U2: -30.150349 | V2: 0 | W2: -3.4048954 | X2: -22.248511 | Y2: -11.875211 | Z2: 0
A3: Low Out-Commuting | B3: 2026/27 | C3: -518.38079 | D3: -428.39669 | E3: -136.33527 | F3: -161.49818 | G3: -11.430387 | H3: -296.77572 | I3: -30.440104 | J3: -18.236401 | K3: -14.154921 | L3: -169.12091 | M3: -66.910223 | N3: -100.64757 | O3: -50.193523 | P3: -27.369547 | Q3: 0 | R3: -20.013295 | S3: -31.299447 | T3: -17.047789 | U3: -30.197374 | V3: 0 | W3: -3.4173969 | X3: -22.347517 | Y3: -12.012453 | Z3: 0
A4: Low Out-Commuting | B4: 2027/28 | C4: -523.11938 | D4: -431.80296 | E4: -137.33564 | F4: -163.40541 | G4: -11.521071 | H4: -299.13022 | I4: -30.681604 | J4: -18.381082 | K4: -14.26722 | L4: -170.46265 | M4: -67.441063 | N4: -101.44606 | O4: -50.591739 | P4: -27.594221 | Q4: 0 | R4: -20.213953 | S4: -31.613264 | T4: -17.218715 | U4: -30.252024 | V4: 0 | W4: -3.4308009 | X4: -22.45257 | Y4: -12.154315 | Z4: 0
A5: Low Out-Commuting | B5: 2028/29 | C5: -528.0406 | D5: -435.34978 | E5: -138.38127 | F5: -165.37827 | G5: -11.615502 | H5: -301.58201 | I5: -30.933083 | J5: -18.53174 | K5: -14.38416 | L5: -171.85983 | M5: -67.993837 | N5: -102.27756 | O5: -51.006408 | P5: -27.827993 | Q5: 0 | R5: -20.421946 | S5: -31.938551 | T5: -17.395888 | U5: -30.314674 | V5: 0 | W5: -3.4451554 | X5: -22.563997 | Y5: -12.301059 | Z5: 0
A6: Low Out-Commuting | B6: 2029/30 | C6: -533.17663 | D6: -439.06312 | E6: -139.48037 | F6: -167.42733 | G6: -11.714373 | H6: -304.14906 | I6: -31.196383 | J6: -18.689481 | K6: -14.506597 | L6: -173.32269 | M6: -68.572597 | N6: -103.14814 | O6: -51.440572 | P6: -28.072529 | Q6: 0 | R6: -20.638537 | S6: -32.277284 | T6: -17.580385 | U6: -30.386963 | V6: 0 | W6: -3.4606527 | X6: -22.683074 | Y6: -12.453471 | Z6: 0
A7: Low Out-Commuting | B7: 2030/31 | C7: -538.38968 | D7: -442.829 | E7: -140.59669 | F7: -169.50977 | G7: -11.814642 | H7: -306.75241 | I7: -31.463408 | J7: -18.849453 | K7: -14.630766 | L7: -174.80624 | M7: -69.159541 | N7: -104.03103 | O7: -51.880876 | P7: -28.320548 | Q7: 0 | R7: -20.858408 | S7: -32.621147 | T7: -17.767676 | U7: -30.460858 | V7: 0 | W7: -3.4763836 | X7: -22.803855 | Y7: -12.608365 | Z7: 0
A8: Low Out-Commuting | B8: 2031/32 | C8: -543.62508 | D8: -446.60224 | E8: -141.71593 | F8: -171.60853 | G8: -11.915103 | H8: -309.36077 | I8: -31.730946 | J8: -19.009733 | K8: -14.755174 | L8: -176.29264 | M8: -69.747615 | N8: -104.91562 | O8: -52.322027 | P8: -28.569163 | Q8: 0 | R8: -21.079444 | S8: -32.966833 | T8: -17.95596 | U8: -30.533229 | V8: 0 | W8: -3.491991 | X8: -22.923998 | Y8: -12.764474 | Z8: 0
A9: Low Out-Commuting | B9: 2032/33 | C9: -548.93363 | D9: -450.42445 | E9: -142.8513 | F9: -173.73975 | G9: -12.016868 | H9: -312.00296 | I9: -32.001953 | J9: -19.172091 | K9: -14.881195 | L9: -177.79832 | M9: -70.343316 | N9: -105.81168 | O9: -52.768899 | P9: -28.821036 | Q9: 0 | R9: -21.303617 | S9: -33.317425 | T9: -18.146916 | U9: -30.606913 | V9: 0 | W9: -3.5077994 | X9: -23.045635 | Y9: -12.922998 | Z9: 0
A10: Low Out-Commuting | B10: 2033/34 | C10: -554.30335 | D10: -454.28558 | E10: -143.99965 | F10: -175.89985 | G10: -12.119667 | H10: -314.67201 | I10: -32.275717 | J10: -19.3361 | K10: -15.008497 | L10: -179.31931 | M10: -70.945073 | N10: -106.71686 | O10: -53.220314 | P10: -29.075528 | Q10: 0 | R10: -21.530469 | S10: -33.672206 | T10: -18.340154 | U10: -30.681195 | V10: 0 | W10: -3.5237275 | X10: -23.168234 | Y10: -13.083669 | Z10: 0
A11: Low Out-Commuting | B11: 2034/35 | C11: -559.74776 | D11: -458.19649 | E11: -145.16444 | F11: -178.09329 | G11: -12.223791 | H11: -317.37545 | I11: -32.553006 | J11: -19.502222 | K11: -15.137439 | L11: -180.85989 | M11: -71.554582 | N11: -107.63369 | O11: -53.677545 | P11: -29.333334 | Q11: 0 | R11: -21.760529 | S11: -34.032003 | T11: -18.536123 | U11: -30.756777 | V11: 0 | W11: -3.5398568 | X11: -23.292332 | Y11: -13.246819 | Z11: 0
A12: Historic Trend Out-Commuting | B12: 2025/26 | C12: -515.63198 | D12: -426.62676 | E12: -135.85653 | F12: -160.21764 | G12: -11.383361 | H12: -295.55474 | I12: -30.314869 | J12: -18.161374 | K12: -14.096685 | L12: -168.42512 | M12: -66.634945 | N12: -100.23349 | O12: -49.987019 | P12: -27.249502 | Q12: 0 | R12: -19.889663 | S12: -31.106096 | T12: -16.942477 | U12: -30.256968 | V12: 0 | W12: -3.4169358 | X12: -22.327187 | Y12: -11.917204 | Z12: 0
A13: Historic Trend Out-Commuting | B13: 2026/27 | C13: -521.06127 | D13: -430.61188 | E13: -137.04025 | F13: -162.33327 | G13: -11.489492 | H13: -298.31031 | I13: -30.597506 | J13: -18.330699 | K13: -14.228114 | L13: -169.99541 | M13: -67.256208 | N13: -101.168 | O13: -50.453067 | P13: -27.511071 | Q13: 0 | R13: -20.116781 | S13: -31.461293 | T13: -17.135941 | U13: -30.353521 | V13: 0 | W13: -3.4350678 | X13: -22.463074 | Y13: -12.074568 | Z13: 0
... A31: Elevated Out-Commuting | B31: 2034/35 | C31: -588.92282 | D31: -482.07852 | E31: -152.73067 | F31: -187.37583 | G31: -12.860917 | H31: -333.91763 | I31: -34.249728 | J31: -20.518713 | K31: -15.92643 | L31: -190.28664 | M31: -75.284136 | N31: -113.24376 | O31: -56.475316 | P31: -30.86224 | Q31: 0 | R31: -22.894727 | S31: -35.805813 | T31: -19.50226 | U31: -32.359875 | V31: 0 | W31: -3.7243605 | X31: -24.506371 | Y31: -13.937268 | Z31: 0

Sheet LS - Regional Split Share
B1: Direct | C1: Support | D1: Supervisory
A2: Wales | B2: =SUM(B3:B6) -> 1 | C2: =SUM(C3:C6) -> 1 | D2: =SUM(D3:D6) -> 1
A3: North Wales | B3: 0.24997385 | C3: 0.22693836 | D3: 0.29552855
A4: Mid Wales | B4: 0.090245248 | C4: 0.10704525 | D4: 0.076642877
A5: South West Wales | B5: 0.11509943 | C5: 0.12456433 | D5: 0.10956472
A6: South East Wales | B6: 0.54468148 | C6: 0.54145206 | D6: 0.51826386
