Workbook
Name _Hlk201052911: 'Raw data'!$H$1
Name _Hlk201053146: 'Raw data'!$M$1
Name _Hlk201053452: 'Raw data'!$S$1

Sheet Raw data
A1: ID | B1: Rwy'n fwy ymwybodol o bethau sy'n digwydd yn fy nghymuned | C1: Rwy' wedi dod i ddysgu mwy am fywydau pobl eraill | D1: Rwy'n teimlo'n rhan o'm cymuned | E1: Rwy' wedi cymryd mwy o ran yn fy nghymuned | F1: Sut rydych chi wedi cymryd mwy o ran? | G1: Rwy'n fwy ymwybodol o ddiwylliant Cymru | H1: Rwy' wedi cynyddu fy ngwybodaeth am ddiwylliant Cymru | I1: Rwy'n teimlo'n fwy hyderus yn mynd i leoliadau a digwyddiadau diwylliannol | J1: Rwy' wedi cymryd rhan mewn gweithgareddau | K1: Pa weithgaredd gwnaethoch chi ei fwynhau fwyaf? Pam gwnaethoch chi ei fwynhau? | L1: Rwy'n ymwybodol o adnoddau sy'n gallu fy helpu i ddysgu rhywbeth newydd | M1: Rwy' wedi dysgu pethau sydd o gymorth i'm bywyd bob dydd | N1: Rwy'n teimlo fy mod yn gallu dysgu pethau newydd | O1: Rwy' wedi defnyddio'r hyn rwy' wedi'i ddysgu | P1: Esboniwch sut rydych wedi defnyddio'r hyn rydych wedi'i ddysgu | Q1: Rwy'n fwy ymwybodol o gymorth ac adnoddau sy'n gallu helpu i ofalu am fy lles i neu les fy nheulu | R1: Rwy'n deall fy iechyd a'm lles fy hun yn well | S1: Rwy'n gallu cymryd gwell gofal o'm lles i neu les fy nheulu | T1: Rwy' wedi newid o leiaf un peth i wella fy lles corfforol neu feddyliol | U1: Os ydych yn fodlon gwneud, disgrifiwch pa agweddau ar eich iechyd corfforol neu feddyliol rydych chi wedi'u newid
A2: 1
A3: 2
A4: 3
A5: 4
A6: 5
A7: 6
A8: 7
A9: 8
A10: 9
A11: 10
A12: 11
A13: 12
... A401: 400
A402: Cyfartalog | B402: =AVERAGE(B2:B401) -> #DIV/0! | C402: =AVERAGE(C2:C401) -> #DIV/0! | D402: =AVERAGE(D2:D401) -> #DIV/0! | E402: =AVERAGE(E2:E401) -> #DIV/0! | G402: =AVERAGE(G2:G401) -> #DIV/0! | H402: =AVERAGE(H2:H401) -> #DIV/0! | I402: =AVERAGE(I2:I401) -> #DIV/0! | J402: =AVERAGE(J2:J401) -> #DIV/0! | L402: =AVERAGE(L2:L401) -> #DIV/0! | M402: =AVERAGE(M2:M401) -> #DIV/0! | N402: =AVERAGE(N2:N401) -> #DIV/0! | O402: =AVERAGE(O2:O401) -> #DIV/0! | Q402: =AVERAGE(Q2:Q401) -> #DIV/0! | R402: =AVERAGE(R2:R401) -> #DIV/0! | S402: =AVERAGE(S2:S401) -> #DIV/0! | T402: =AVERAGE(T2:T401) -> #DIV/0!
A403: Cytundeb | B403: =(COUNTIF(B2:B401,"4")+COUNTIF(B2:B401,"5"))/COUNT(B2:B401) -> #DIV/0! | C403: =(COUNTIF(C2:C401,"4")+COUNTIF(C2:C401,"5"))/COUNT(C2:C401) -> #DIV/0! | D403: =(COUNTIF(D2:D401,"4")+COUNTIF(D2:D401,"5"))/COUNT(D2:D401) -> #DIV/0! | E403: =(COUNTIF(E2:E401,"4")+COUNTIF(E2:E401,"5"))/COUNT(E2:E401) -> #DIV/0! | G403: =(COUNTIF(G2:G401,"4")+COUNTIF(G2:G401,"5"))/COUNT(G2:G401) -> #DIV/0! | H403: =(COUNTIF(H2:H401,"4")+COUNTIF(H2:H401,"5"))/COUNT(H2:H401) -> #DIV/0! | I403: =(COUNTIF(I2:I401,"4")+COUNTIF(I2:I401,"5"))/COUNT(I2:I401) -> #DIV/0! | J403: =(COUNTIF(J2:J401,"4")+COUNTIF(J2:J401,"5"))/COUNT(J2:J401) -> #DIV/0! | L403: =(COUNTIF(L2:L401,"4")+COUNTIF(L2:L401,"5"))/COUNT(L2:L401) -> #DIV/0! | M403: =(COUNTIF(M2:M401,"4")+COUNTIF(M2:M401,"5"))/COUNT(M2:M401) -> #DIV/0! | N403: =(COUNTIF(N2:N401,"4")+COUNTIF(N2:N401,"5"))/COUNT(N2:N401) -> #DIV/0! | O403: =(COUNTIF(O2:O401,"4")+COUNTIF(O2:O401,"5"))/COUNT(O2:O401) -> #DIV/0! | Q403: =(COUNTIF(Q2:Q401,"4")+COUNTIF(Q2:Q401,"5"))/COUNT(Q2:Q401) -> #DIV/0! | R403: =(COUNTIF(R2:R401,"4")+COUNTIF(R2:R401,"5"))/COUNT(R2:R401) -> #DIV/0! | S403: =(COUNTIF(S2:S401,"4")+COUNTIF(S2:S401,"5"))/COUNT(S2:S401) -> #DIV/0! | T403: =(COUNTIF(T2:T401,"4")+COUNTIF(T2:T401,"5"))/COUNT(T2:T401) -> #DIV/0!

Sheet Chart
B1: Ymwybyddiaeth gymunedol | C1: Gwybodaeth gymunedol | D1: Hyder cymunedol | E1: Cymhwyso cymunedol | F1: Ymwybyddiaeth ddiwylliannol | G1: Gwybodaeth ddiwylliannol | H1: Hyder diwylliannol | I1: Cymhwyso diwylliannol | J1: Ymwybyddiaeth ddysgu | K1: Gwybodaeth ddysgu | L1: Hyder dysgu | M1: Cymhwyso dysgu | N1: Ymwybyddiaeth llesiant | O1: Gwybodaeth llesiant | P1: Hyder llesiant | Q1: Cymhwyso llesiant
A2: Sgôr | B2: ='Raw data'!B402 -> #DIV/0! | C2: ='Raw data'!C402 -> #DIV/0! | D2: ='Raw data'!D402 -> #DIV/0! | E2: ='Raw data'!E402 -> #DIV/0! | F2: ='Raw data'!G402 -> #DIV/0! | G2: ='Raw data'!H402 -> #DIV/0! | H2: ='Raw data'!I402 -> #DIV/0! | I2: ='Raw data'!J402 -> #DIV/0! | J2: ='Raw data'!L402 -> #DIV/0! | K2: ='Raw data'!M402 -> #DIV/0! | L2: ='Raw data'!N402 -> #DIV/0! | M2: ='Raw data'!O402 -> #DIV/0! | N2: ='Raw data'!Q402 -> #DIV/0! | O2: ='Raw data'!R402 -> #DIV/0! | P2: ='Raw data'!S402 -> #DIV/0! | Q2: ='Raw data'!T402 -> #DIV/0!
B6: Ymwybyddiaeth gymunedol | C6: Gwybodaeth gymunedol | D6: Hyder cymunedol | E6: Cymhwyso cymunedol | F6: Ymwybyddiaeth ddiwylliannol | G6: Gwybodaeth ddiwylliannol | H6: Hyder diwylliannol | I6: Cymhwyso diwylliannol | J6: Ymwybyddiaeth ddysgu | K6: Gwybodaeth ddysgu | L6: Hyder dysgu | M6: Cymhwyso dysgu | N6: Ymwybyddiaeth llesiant | O6: Gwybodaeth llesiant | P6: Hyder llesiant | Q6: Cymhwyso llesiant
A7: Cymuned | B7: =B2 -> #DIV/0! | C7: =C2 -> #DIV/0! | D7: =D2 -> #DIV/0! | E7: =E2 -> #DIV/0! | F7: 0 | G7: 0 | H7: 0 | I7: 0 | J7: 0 | K7: 0 | L7: 0 | M7: 0 | N7: 0 | O7: 0 | P7: 0 | Q7: 0
A8: Diwylliant | B8: 0 | C8: 0 | D8: 0 | E8: 0 | F8: =F2 -> #DIV/0! | G8: =G2 -> #DIV/0! | H8: =H2 -> #DIV/0! | I8: =I2 -> #DIV/0! | J8: 0 | K8: 0 | L8: 0 | M8: 0 | N8: 0 | O8: 0 | P8: 0 | Q8: 0
A9: Dysgu | B9: 0 | C9: 0 | D9: 0 | E9: 0 | F9: 0 | G9: 0 | H9: 0 | I9: 0 | J9: =J2 -> #DIV/0! | K9: =K2 -> #DIV/0! | L9: =L2 -> #DIV/0! | M9: =M2 -> #DIV/0! | N9: 0 | O9: 0 | P9: 0 | Q9: 0
A10: Llesiant | B10: 0 | C10: 0 | D10: 0 | E10: 0 | F10: 0 | G10: 0 | H10: 0 | I10: 0 | J10: 0 | K10: 0 | L10: 0 | M10: 0 | N10: =N2 -> #DIV/0! | O10: =O2 -> #DIV/0! | P10: =P2 -> #DIV/0! | Q10: =Q2 -> #DIV/0!
B12: Cymuned | F12: Diwylliant | J12: Dysgu | N12: Llesiant
B13: Ymwybyddiaeth | C13: Gwybodaeth | D13: Hyder | E13: Cymhwyso | F13: Ymwybyddiaeth | G13: Gwybodaeth | H13: Hyder | I13: Cymhwyso | J13: Ymwybyddiaeth | K13: Gwybodaeth | L13: Hyder | M13: Cymhwyso | N13: Ymwybyddiaeth | O13: Gwybodaeth | P13: Hyder | Q13: Cymhwyso
A14: Sgôr | B14: =B2 -> #DIV/0! | C14: =C2 -> #DIV/0! | D14: =D2 -> #DIV/0! | E14: =E2 -> #DIV/0! | F14: =F2 -> #DIV/0! | G14: =G2 -> #DIV/0! | H14: =H2 -> #DIV/0! | I14: =I2 -> #DIV/0! | ... Q14: =Q2 -> #DIV/0!
