Workbook
Name Slicer_hider: #N/A
Name Slicer_hider1: #N/A
Name Slicer_hider2: #N/A

Sheet Canllawiau
L3: Rheoli Fersiwn: v1.0 | O3: 46042
I6: Ffurflen Gais
C10: Grant Gwres Carbon Isel Awdurdodau Lleol
C12: Cwblhewch adrannau 1-6 fel y rhestrir isod:
C14: 1. Cwestiynau | H14: O fewn adrannau 1-6 mae'r codau lliw canlynol yn berthnasol:
C15: 2. Manylion Technegol | H15: Celloedd glas | I15: = mewnbwn gan ddefnyddiwr
C16: 3. Manylion Cyflawnadwyedd | H16: Celloedd gwyrdd | I16: = cael ei gynhyrchu yn awtomatig (manylion wedi'u cyfrifo) - peidiwch â golygu
C17: 4. Manylion Ariannol | H17: Celloedd oren | I17: = cael ei gynhyrchu yn awtomatig (gwerthoedd gwirio) - PEIDIWCH â golygu
C18: 5. Risgiau
C19: 6. Crynodeb a Datganiad
C21: Cyfeiriwch at Ganllawiau Grant Gwres Carbon Isel Awdurdodau Lleol a ryddhawyd ochr yn ochr â'r ffurflen hon, am feini prawf cymhwysedd ac amodau grant.
C23: Nodiadau Pwysig
C25: Gellir llenwi'r ffurflen hon ar gyfer hyd at 10 safle, os oes mwy o safleoedd i'ch cais, llenwch ffurflen arall ar gyfer y rhain.
C26: Dim ond i ymgeiswyr sy'n gallu sicrhau y gellir gosod a chomisiynu eu prosiectau erbyn 31 Mawrth 2027 y bydd cyllid yn cael ei roi.
C27: Rhaid i geisiadau gael eu cefnogi gan gyfarwyddwr noddi, bydd angen llofnod wrth ddarparu llythyrau cynnig.
C28: Sylwch na all y gwaith ddechrau nes bod llythyr dyfarnu grant ffurfiol wedi'i lofnodi yn cael ei dderbyn.
C30: Cyflwyniadau Cais
C32: Anfonwch ffurflenni cais wedi'u llenwi at lowcarbonheat@energyservice.wales
C33: Os oes gennych unrhyw ymholiadau am y broses ymgeisio neu'r ffurflen ei hun, defnyddiwch y cyfeiriad uchod.
C35: Ymwadiad Rhannu Data
... C44: enquiries@energyservice.wales

Sheet Lookups
B2: Please translate highlighted text | T2: Design & Planning | X2: Procurement and contracting | AD2: Operation
T3: Please indicate the project position on designs | U3: Please indicate the project position on planning permission | V3: Please indicate the project position on supplier costs | W3: Please indicate the project position on DNO upgrades / engagement | X3: Principle contractor: approach | Y3: Principle contractor: status | Z3: Equipment supply status | AA3: Install subcontractors status | AB3: DNO upgrade / grid connection status | AC3: Client Engineer: status | AD3: O&M contractor approach
B4: Iawn | C4: Cais mewnbwn personol | D4: Nid ydych wedi ticio pob blwch | E4: Cuddio adeiladau dienw (Cntrl + clic) | F4: Dewiswch | G4: Dewiswch | H4: Dewiswch | I4: Dewiswch | J4: Dewiswch | K4: Dewiswch | L4: Dewiswch | M4: Dewiswch | N4: Dewiswch | O4: Dewiswch | P4: Trydan | Q4: Dyddiad Tynnu i Lawr | T4: Dichonoldeb cychwynnol | U4: Cynllunio anhysbys | V4: Mewn contract - costau wedi'u cwblhau yn seiliedig ar ddyluniad | W4: Heb ymgysylltu | X4: Fframwaith | Y4: Cam manyleb | Z4: Amherthnasol (prif gontractwr yn gwneud offer ei hun) | AA4: Amherthnasol (prif gontractwr yn cyflenwi pob crefftwr) | AB4: Amherthnasol - Ddim ei angen | AC4: Ddim ei angen | AD4: Dim Gweithrediadau a Chynnal a Chadw wedi'u cynllunio
B5: Nid yw swm y tynnu i lawr yn cyfateb i’r cais am grant | D5: Adran heb ei chwblhau | E5: Cadw’r rhai a ddewiswyd (Cntrl + clic) | F5: Ydy | G5: Pasio | H5: Cadarnhau | I5: Cymraeg | J5: Cartref Gofal | K5: Boeleri | L5: Nwy naturiol | M5: Wedi'i gadw fel presennol | N5: Wedi'i gadw fel presennol | O5: Pwmp gwres – o’r aer | P5: Biomas | Q5: Ebr-26 | T5: Dyluniad cysyniad - maint, lluniadau cysyniad | U5: Datblygiad a ganiateir - tybiedig | V5: Mewn contract - ond mae dylunio terfynol a chost is-gyflenwi yn ansicr | W5: Wedi ymgysylltu â gweithredwr rhwydwaith dosbarthu, nid oes angen unrhyw waith | X5: Cystadleuaeth y farchnad agored | Y5: Allan i dendr | Z5: Wedi'i nodi ond nid yw'r cyflenwr wedi ymgysylltu | AA5: Wedi'i nodi ond heb ei ddiogelu | AB5: Amcangyfrif cost cychwynnol yn unig | AC5: Wedi'i nodi ond heb ei ddiogelu | AD5: Contractwyr presennol eu hunain
D6: Nid yw pob adran wedi'i chwblhau | F6: Na | G6: Methu | H6: Methu Cadarnhau | I6: Saesneg | J6: Canolfan Gymunedol | K6: Gwresogydd dŵr poeth wedi'i danio'n uniongyrchol | L6: LPG | M6: Parthau wedi'u dileu | N6: Tynnwyd storfa thermol gwres | O6: Pwmp gwres – o’r ddaear | P6: Bionwy | Q6: Mai-26 | T6: Dyluniad datblygedig - dichonoldeb manwl ac ystyriaeth mynediad / strwythurol / cynllunio / gweithredwr rhwydwaith dosbarthu | U6: Datblygiad a ganiateir - wedi'i gadarnhau gyda'r adran gynllunio | V6: Tendr wedi'i gwblhau - costau cynigydd o ddewis wedi eu defnyddio | W6: Angen gwaith uwchraddio gweithredwr rhwydwaith dosbarthu - heb ei gynllunio eto | X6: Cystadleuaeth trwy wahoddiad yn unig | Y6: Cyflenwr o ddewis | Z6: Wedi'i nodi, wedi'i brisio, ac ar gael | AA6: Wedi'i nodi, wedi'i brisio, ac ar gael | AB6: Dyfynbris wedi'i gostio gan y cwmni | AC6: Wedi'i nodi, wedi'i brisio, ac ar gael | AD6: Prif gontractwr sy'n darparu Gweithrediadau a Chynnal a Chadw hefyd
G7: Angen Eglurhad | J7: Depo | K7: Gwres a phŵer cyfunedig | L7: Cerosîn | M7: Rheolaeth parthau wedi'i ychwanegu / ei atgyweirio / ei ymestyn | N7: Ychwanegwyd storfa thermol gwres | O7: Pwmp gwres - o ddŵr daear | P7: Gwresogi Ardal | Q7: Meh-26 | T7: Dyluniad technegol - manyleb offer llawn a lluniadau Mecanyddol a Pheirianneg | U7: Cais cynllunio yn cael ei ddatblygu (e.e. astudiaethau ar y gweill) | V7: Dyfynbris prawf Marchnad Feddal yn seiliedig ar ddyluniad | W7: Mae angen gwaith uwchraddio gweithredwr rhwydwaith dosbarthu, a chytunwyd ar yr amserlen | X7: Dyfarniad uniongyrchol | Y7: Wedi llofnodi contract | Z7: Wedi llofnodi cytundeb cyflenwi | AA7: Wedi llofnodi is-gontract | AB7: Wedi'i gontractio | AC7: Wedi llofnodi contract | AD7: Angen caffael yn y dyfodol
J8: Lleoliad Arddangosfa | K8: Gwresogydd trydan (uniongyrchol ar gyfer gwresogi gofod) | L8: Olew nwy | O8: Pwmp gwres - o ddŵr | Q8: Gor-26 | T8: Wedi cytuno ar y dyluniad terfynol gyda'r Prif Gontractwr a'r Peiriannydd Cleient | U8: Wedi gwneud cais am ganiatâd cynllunio | V8: Amcangyfrif astudiaeth ddichonoldeb o gostau yn unig | X8: Contractwyr presennol mewn contract
J9: Hanesyddol | K9: Arall | L9: Trydan | O9: Pwmp gwres - dau gam - aer yna dŵr | Q9: Aws-26 | U9: Wedi cael caniatâd cynllunio | V9: Amcangyfrif mewnol o gostau yn unig | X9: Contract Perfformiad Ynni Presennol
J10: Canolfan Hamdden (gyda phwll) | O10: Pwmp gwres - o aer tymheredd uchel | Q10: Med-26
J11: Canolfan Hamdden (heb bwll) | O11: Boeler trydan | Q11: Hyd-26
J12: Llyfrgell | O12: Gwresogyddion trydan uniongyrchol | Q12: Tach-26
J13: Swyddfeydd | O13: Biomas | Q13: Rhag-26
J14: Ysgol Gynradd | O14: Bionwy | Q14: Ion-27
J15: Ysgol Uwchradd | O15: Cysylltiad â'r rhwydwaith gwresogi ardal presennol | Q15: Chwe-27
J16: Ysgol Uwchradd gyda phwll | Q16: Maw-27
J17: Arall | Q17: Ebr-27
B22: Word counts:
B23: 455
B24: 960
B25: 720
B26: 1833
B27: 480
B28: 667
B29: 84
B30: 1768
B31: =SUM(B23:B30) -> 6967

Sheet 1. Cwestiynau
C2: 1. Questions
C7: 1.1 Cwestiynau'r Prosiect
C9: Manylion y Prosiect
D11: Rhowch:
D12: • Crynodeb cyffredinol o'r rhaglen
D13: • Crynodeb o'r datrysiad gwres carbon isel a ddewiswyd a pham
D14: • Rhesymeg ar gyfer safleoedd a ddewiswyd
D15: • Gweithgaredd datblygu prosiect hyd yma
D16: • Rhowch wybodaeth unigryw neu wahanol ar sail adeilad fel y bo'n berthnasol
D18: • Alt+Enter am linellau newydd • Alt+7 am bwyntiau bwled (bysellfwrdd rhifol gyda NumLk ymlaen YN UNIG)
C20: Dyluniad
D22: Rhowch wybodaeth am:
D23: • Dull dylunio, cam dylunio cyfredol ac aeddfedrwydd
D24: • Sut mae dyluniad wedi'i optimeiddio ar gyfer y safle
D25: • Mesurau galluogi a gwneuthuriad i gefnogi dull adeilad cyfan
D26: • Manyleb dylunio - gan gynnwys sut y byddwch chi'n osgoi gorboethi neu wresogi gwastraffus (e.e. defnydd ardal, rheolaethau a chynlluniau parthau)
D27: • Rhowch wybodaeth unigryw neu wahanol ar sail adeilad fel y bo'n berthnasol
D29: • Alt+Enter am linellau newydd • Alt+7 am bwyntiau bwled
C31: Perfformiad
D33: Rhowch wybodaeth am:
D34: • Cynlluniau gweithrediadau a chynnal a chadw a chymorth dan gontract
D35: • Monitro a rheoli perfformiad
D36: • Data mesurydd a gasglwyd, argaeledd a defnydd
D37: • Proses Monitro a Rheoli Perfformiad
D39: • Alt+Enter am linellau newydd • Alt+7 am bwyntiau bwled
C41: Costau
D43: Rhowch wybodaeth am:
D45: • Eich dull o sicrhau gwerth am arian
D46: • Statws caffael a hyder mewn costau
D47: • Cywirdeb cost wrth adlewyrchu cam dylunio ac ymgysylltiad â'r gadwyn gyflenwi hyd yma
D48: • Ffynonellau cyllido cyfatebol a statws cymeradwyo
D49: • Eich ymagwedd at gostau wrth gefn
D50: • Os na ellir adennill yr holl TAW, a'ch bod yn cynnwys y TAW na ellir ei adennill yng nghostau eich prosiect, manylwch ac esboniwch
D52: • Alt+Enter am linellau newydd • Alt+7 am bwyntiau bwled
C54: Cyflawnadwyedd
D56: Rhowch wybodaeth (fesul adeilad lle bo'n briodol) am :
D57: • Caffael a chontractio - statws a dull gweithredu
D58: • Cynllunio a gweithredwr rhwydwaith dosbarthu - statws a dull gweithredu
D59: • Aelodau tîm hanfodol i gyflawni
D60: • Risgiau cyflawnadwyedd allweddol wedi'u nodi
...

Sheet 2. Manylion Technegol
D2: 2. Manylion Technegol
E3: Rhestrwch safleoedd yn eich trefn blaenoriaeth. | G3: Botwm hidlo er mwyn cuddio rhesi nas defnyddiwyd (h.y. adeiladau heb eu henwi) > >
D5: 2.1Manylion yr adeilad a'r ddarpariaeth wres bresennol
E7: Manylion yr adeilad | M7: PRESENNOL - Prif orsaf cynhyrchu gwres | T7: PRESENNOL - Cynhyrchu gwres eilaidd (dewisol) | AA7: PRESENNOL - Cynhyrchu gwres pellach (e.e., cynhyrchu dŵr poeth, defnydd cegin ac ati) (dewisol) | AH7: Cyfanswm y presennol
A8: hider | D8: Enw'r Adeilad | E8: Cyfeiriad yr Adeilad | F8: Cod Post yr Adeilad | G8: Math o adeilad | H8: Arwynebedd llawr mewnol gros yr adeilad (m2) | I8: Cadarnhau perchnogaeth neu brydles adeilad am o leiaf 10 mlynedd | J8: Cadarnhau rhan o Adrodd Sero Net y Sector Cyhoeddus i Lywodraeth Cymru | K8: A yw'r adeilad yng nghyffiniau rhwydwaith gwres presennol neu un wedi'i gynllunio? | L8: Rhan o brosiect adeiladu neu adnewyddu mawr? Os wedi ticio 'ydy', manylwch yn '1. Cwestiynau' | M8: Prif ffynhonnell wres yn yr adeilad | N8: Math o danwydd | O8: Oedran y prif offer (blynyddoedd) | P8: Capasiti wedi'i osod (gwres kW) | Q8: Mewnbwn defnydd ynni (kWh y flwyddyn) | R8: Amcangyfrif o effeithlonrwydd cynhyrchu gwres presennol (%) | S8: Amcangyfrif o allbwn y galw am wres (kWh y flwyddyn) | T8: Angen mewnbwn cynhyrchu gwres eilaidd presennol? | U8: Ffynhonnell wres bresennol | V8: Math o danwydd presennol | W8: Capasiti wedi'i osod (gwres kW) | X8: Mewnbwn defnydd ynni (kWh y flwyddyn) | Y8: Amcangyfrif o effeithlonrwydd cynhyrchu gwres presennol (%) | Z8: Amcangyfrif o allbwn y galw am wres (kWh y flwyddyn) | AA8: Angen mewnbwn cynhyrchu gwres presennol pellach? | AB8: Ffynhonnell wres | AC8: Math o danwydd | AD8: Capasiti wedi'i osod (gwres kW) | AE8: Mewnbwn defnydd ynni (kWh y flwyddyn) | AF8: Amcangyfrif o effeithlonrwydd cynhyrchu gwres presennol (%) | AG8: Amcangyfrif o allbwn y galw am wres (kWh y flwyddyn) | AH8: Cyfanswm y galw am wres (kWh y flwyddyn) | AI8: Cyfanswm capasiti cynhyrchu gwres wedi ei osod (kW) | AJ8: Allyriadau Carbon (kgCO2e y flwyddyn) | AK8: Allyriadau Carbon Gydol Oes (kgCO2e)
A9: =IF(D9="",Lookups!$E$4,Lookups!$E$5) -> Cuddio adeiladau dienw (Cntrl + clic) | G9: Dewiswch | I9: FALSE | J9: FALSE | K9: FALSE | L9: FALSE | T9: FALSE | AA9: FALSE | AH9: =SUM(S9,IF(Z9>0,Z9,0),IF(AG9>0,AG9,0)) -> 0 | AI9: =SUM(P9,W9,AD9) -> 0 | AJ9: =IFERROR(Q9*_xlfn.XLOOKUP(N9,Calculation_factors!$H$6:$H$13,Calculation_factors!$I$6:$I$13),)+IFERROR(X9*_xlfn.XLOOKUP(V9,Calculation_factors!$H$6:$H$13,Calculation_factors!$I$6:$I$13),0)+IFERROR(AE9*_xlfn.XLOOKUP(AC9,Calculation_factors!$H$6:$H$13,Calculation_factors!$I$6:$I$13),0) -> 0 | AK9: =IFERROR(Q9*_xlfn.XLOOKUP(N9,Calculation_factors!$E$6:$E$13,Calculation_factors!$F$6:$F$13),)+IFERROR(X9*_xlfn.XLOOKUP(V9,Calculation_factors!$E$6:$E$13,Calculation_factors!$F$6:$F$13),0)+IFERROR(AE9*_xlfn.XLOOKUP(AC9,Calculation_factors!$E$6:$E$13,Calculation_factors!$F$6:$F$13),0) -> 0 | AL9: Sgroliwch i lawr am yr adran nesaf
A10: =IF(D10="",Lookups!$E$4,Lookups!$E$5) -> Cuddio adeiladau dienw (Cntrl + clic) | G10: Dewiswch | I10: FALSE | J10: FALSE | K10: FALSE | L10: FALSE | T10: FALSE | AA10: FALSE | AH10: =SUM(S10,IF(Z10>0,Z10,0),IF(AG10>0,AG10,0)) -> 0 | AI10: =SUM(P10,W10,AD10) -> 0 | AJ10: =IFERROR(Q10*_xlfn.XLOOKUP(N10,Calculation_factors!$H$6:$H$13,Calculation_factors!$I$6:$I$13),)+IFERROR(X10*_xlfn.XLOOKUP(V10,Calculation_factors!$H$6:$H$13,Calculation_factors!$I$6:$I$13),0)+IFERROR(AE10*_xlfn.XLOOKUP(AC10,Calculation_factors!$H$6:$H$13,Calculation_factors!$I$6:$I$13),0) -> 0 | AK10: =IFERROR(Q10*_xlfn.XLOOKUP(N10,Calculation_factors!$E$6:$E$13,Calculation_factors!$F$6:$F$13),)+IFERROR(X10*_xlfn.XLOOKUP(V10,Calculation_factors!$E$6:$E$13,Calculation_factors!$F$6:$F$13),0)+IFERROR(AE10*_xlfn.XLOOKUP(AC10,Calculation_factors!$E$6:$E$13,Calculation_factors!$F$6:$F$13),0) -> 0 | AL10: ↓
A11: =IF(D11="",Lookups!$E$4,Lookups!$E$5) -> Cuddio adeiladau dienw (Cntrl + clic) | G11: Dewiswch | I11: FALSE | J11: FALSE | K11: FALSE | L11: FALSE | T11: FALSE | AA11: FALSE | AH11: =SUM(S11,IF(Z11>0,Z11,0),IF(AG11>0,AG11,0)) -> 0 | AI11: =SUM(P11,W11,AD11) -> 0 | AJ11: =IFERROR(Q11*_xlfn.XLOOKUP(N11,Calculation_factors!$H$6:$H$13,Calculation_factors!$I$6:$I$13),)+IFERROR(X11*_xlfn.XLOOKUP(V11,Calculation_factors!$H$6:$H$13,Calculation_factors!$I$6:$I$13),0)+IFERROR(AE11*_xlfn.XLOOKUP(AC11,Calculation_factors!$H$6:$H$13,Calculation_factors!$I$6:$I$13),0) -> 0 | AK11: =IFERROR(Q11*_xlfn.XLOOKUP(N11,Calculation_factors!$E$6:$E$13,Calculation_factors!$F$6:$F$13),)+IFERROR(X11*_xlfn.XLOOKUP(V11,Calculation_factors!$E$6:$E$13,Calculation_factors!$F$6:$F$13),0)+IFERROR(AE11*_xlfn.XLOOKUP(AC11,Calculation_factors!$E$6:$E$13,Calculation_factors!$F$6:$F$13),0) -> 0 | AL11: ↙
A12: =IF(D12="",Lookups!$E$4,Lookups!$E$5) -> Cuddio adeiladau dienw (Cntrl + clic) | G12: Dewiswch | I12: FALSE | J12: FALSE | K12: FALSE | L12: FALSE | T12: FALSE | AA12: FALSE | AH12: =SUM(S12,IF(Z12>0,Z12,0),IF(AG12>0,AG12,0)) -> 0 | AI12: =SUM(P12,W12,AD12) -> 0 | AJ12: =IFERROR(Q12*_xlfn.XLOOKUP(N12,Calculation_factors!$H$6:$H$13,Calculation_factors!$I$6:$I$13),)+IFERROR(X12*_xlfn.XLOOKUP(V12,Calculation_factors!$H$6:$H$13,Calculation_factors!$I$6:$I$13),0)+IFERROR(AE12*_xlfn.XLOOKUP(AC12,Calculation_factors!$H$6:$H$13,Calculation_factors!$I$6:$I$13),0) -> 0 | AK12: =IFERROR(Q12*_xlfn.XLOOKUP(N12,Calculation_factors!$E$6:$E$13,Calculation_factors!$F$6:$F$13),)+IFERROR(X12*_xlfn.XLOOKUP(V12,Calculation_factors!$E$6:$E$13,Calculation_factors!$F$6:$F$13),0)+IFERROR(AE12*_xlfn.XLOOKUP(AC12,Calculation_factors!$E$6:$E$13,Calculation_factors!$F$6:$F$13),0) -> 0
A13: =IF(D13="",Lookups!$E$4,Lookups!$E$5) -> Cuddio adeiladau dienw (Cntrl + clic) | G13: Dewiswch | I13: FALSE | J13: FALSE | K13: FALSE | L13: FALSE | T13: FALSE | AA13: FALSE | AH13: =SUM(S13,IF(Z13>0,Z13,0),IF(AG13>0,AG13,0)) -> 0 | AI13: =SUM(P13,W13,AD13) -> 0 | AJ13: =IFERROR(Q13*_xlfn.XLOOKUP(N13,Calculation_factors!$H$6:$H$13,Calculation_factors!$I$6:$I$13),)+IFERROR(X13*_xlfn.XLOOKUP(V13,Calculation_factors!$H$6:$H$13,Calculation_factors!$I$6:$I$13),0)+IFERROR(AE13*_xlfn.XLOOKUP(AC13,Calculation_factors!$H$6:$H$13,Calculation_factors!$I$6:$I$13),0) -> 0 | AK13: =IFERROR(Q13*_xlfn.XLOOKUP(N13,Calculation_factors!$E$6:$E$13,Calculation_factors!$F$6:$F$13),)+IFERROR(X13*_xlfn.XLOOKUP(V13,Calculation_factors!$E$6:$E$13,Calculation_factors!$F$6:$F$13),0)+IFERROR(AE13*_xlfn.XLOOKUP(AC13,Calculation_factors!$E$6:$E$13,Calculation_factors!$F$6:$F$13),0) -> 0
A14: =IF(D14="",Lookups!$E$4,Lookups!$E$5) -> Cuddio adeiladau dienw (Cntrl + clic) | G14: Dewiswch | I14: FALSE | J14: FALSE | K14: FALSE | L14: FALSE | T14: FALSE | AA14: FALSE | AH14: =SUM(S14,IF(Z14>0,Z14,0),IF(AG14>0,AG14,0)) -> 0 | AI14: =SUM(P14,W14,AD14) -> 0 | AJ14: =IFERROR(Q14*_xlfn.XLOOKUP(N14,Calculation_factors!$H$6:$H$13,Calculation_factors!$I$6:$I$13),)+IFERROR(X14*_xlfn.XLOOKUP(V14,Calculation_factors!$H$6:$H$13,Calculation_factors!$I$6:$I$13),0)+IFERROR(AE14*_xlfn.XLOOKUP(AC14,Calculation_factors!$H$6:$H$13,Calculation_factors!$I$6:$I$13),0) -> 0 | AK14: =IFERROR(Q14*_xlfn.XLOOKUP(N14,Calculation_factors!$E$6:$E$13,Calculation_factors!$F$6:$F$13),)+IFERROR(X14*_xlfn.XLOOKUP(V14,Calculation_factors!$E$6:$E$13,Calculation_factors!$F$6:$F$13),0)+IFERROR(AE14*_xlfn.XLOOKUP(AC14,Calculation_factors!$E$6:$E$13,Calculation_factors!$F$6:$F$13),0) -> 0
A15: =IF(D15="",Lookups!$E$4,Lookups!$E$5) -> Cuddio adeiladau dienw (Cntrl + clic) | G15: Dewiswch | I15: FALSE | J15: FALSE | K15: FALSE | L15: FALSE | T15: FALSE | AA15: FALSE | AH15: =SUM(S15,IF(Z15>0,Z15,0),IF(AG15>0,AG15,0)) -> 0 | AI15: =SUM(P15,W15,AD15) -> 0 | AJ15: =IFERROR(Q15*_xlfn.XLOOKUP(N15,Calculation_factors!$H$6:$H$13,Calculation_factors!$I$6:$I$13),)+IFERROR(X15*_xlfn.XLOOKUP(V15,Calculation_factors!$H$6:$H$13,Calculation_factors!$I$6:$I$13),0)+IFERROR(AE15*_xlfn.XLOOKUP(AC15,Calculation_factors!$H$6:$H$13,Calculation_factors!$I$6:$I$13),0) -> 0 | AK15: =IFERROR(Q15*_xlfn.XLOOKUP(N15,Calculation_factors!$E$6:$E$13,Calculation_factors!$F$6:$F$13),)+IFERROR(X15*_xlfn.XLOOKUP(V15,Calculation_factors!$E$6:$E$13,Calculation_factors!$F$6:$F$13),0)+IFERROR(AE15*_xlfn.XLOOKUP(AC15,Calculation_factors!$E$6:$E$13,Calculation_factors!$F$6:$F$13),0) -> 0
A16: =IF(D16="",Lookups!$E$4,Lookups!$E$5) -> Cuddio adeiladau dienw (Cntrl + clic) | G16: Dewiswch | I16: FALSE | J16: FALSE | K16: FALSE | L16: FALSE | T16: FALSE | AA16: FALSE | AH16: =SUM(S16,IF(Z16>0,Z16,0),IF(AG16>0,AG16,0)) -> 0 | AI16: =SUM(P16,W16,AD16) -> 0 | AJ16: =IFERROR(Q16*_xlfn.XLOOKUP(N16,Calculation_factors!$H$6:$H$13,Calculation_factors!$I$6:$I$13),)+IFERROR(X16*_xlfn.XLOOKUP(V16,Calculation_factors!$H$6:$H$13,Calculation_factors!$I$6:$I$13),0)+IFERROR(AE16*_xlfn.XLOOKUP(AC16,Calculation_factors!$H$6:$H$13,Calculation_factors!$I$6:$I$13),0) -> 0 | AK16: =IFERROR(Q16*_xlfn.XLOOKUP(N16,Calculation_factors!$E$6:$E$13,Calculation_factors!$F$6:$F$13),)+IFERROR(X16*_xlfn.XLOOKUP(V16,Calculation_factors!$E$6:$E$13,Calculation_factors!$F$6:$F$13),0)+IFERROR(AE16*_xlfn.XLOOKUP(AC16,Calculation_factors!$E$6:$E$13,Calculation_factors!$F$6:$F$13),0) -> 0
A17: =IF(D17="",Lookups!$E$4,Lookups!$E$5) -> Cuddio adeiladau dienw (Cntrl + clic) | G17: Dewiswch | I17: FALSE | J17: FALSE | K17: FALSE | L17: FALSE | T17: FALSE | AA17: FALSE | AH17: =SUM(S17,IF(Z17>0,Z17,0),IF(AG17>0,AG17,0)) -> 0 | AI17: =SUM(P17,W17,AD17) -> 0 | AJ17: =IFERROR(Q17*_xlfn.XLOOKUP(N17,Calculation_factors!$H$6:$H$13,Calculation_factors!$I$6:$I$13),)+IFERROR(X17*_xlfn.XLOOKUP(V17,Calculation_factors!$H$6:$H$13,Calculation_factors!$I$6:$I$13),0)+IFERROR(AE17*_xlfn.XLOOKUP(AC17,Calculation_factors!$H$6:$H$13,Calculation_factors!$I$6:$I$13),0) -> 0 | AK17: =IFERROR(Q17*_xlfn.XLOOKUP(N17,Calculation_factors!$E$6:$E$13,Calculation_factors!$F$6:$F$13),)+IFERROR(X17*_xlfn.XLOOKUP(V17,Calculation_factors!$E$6:$E$13,Calculation_factors!$F$6:$F$13),0)+IFERROR(AE17*_xlfn.XLOOKUP(AC17,Calculation_factors!$E$6:$E$13,Calculation_factors!$F$6:$F$13),0) -> 0
A18: =IF(D18="",Lookups!$E$4,Lookups!$E$5) -> Cuddio adeiladau dienw (Cntrl + clic) | G18: Dewiswch | I18: FALSE | J18: FALSE | K18: FALSE | L18: FALSE | T18: FALSE | AA18: FALSE | AH18: =SUM(S18,IF(Z18>0,Z18,0),IF(AG18>0,AG18,0)) -> 0 | AI18: =SUM(P18,W18,AD18) -> 0 | AJ18: =IFERROR(Q18*_xlfn.XLOOKUP(N18,Calculation_factors!$H$6:$H$13,Calculation_factors!$I$6:$I$13),)+IFERROR(X18*_xlfn.XLOOKUP(V18,Calculation_factors!$H$6:$H$13,Calculation_factors!$I$6:$I$13),0)+IFERROR(AE18*_xlfn.XLOOKUP(AC18,Calculation_factors!$H$6:$H$13,Calculation_factors!$I$6:$I$13),0) -> 0 | AK18: =IFERROR(Q18*_xlfn.XLOOKUP(N18,Calculation_factors!$E$6:$E$13,Calculation_factors!$F$6:$F$13),)+IFERROR(X18*_xlfn.XLOOKUP(V18,Calculation_factors!$E$6:$E$13,Calculation_factors!$F$6:$F$13),0)+IFERROR(AE18*_xlfn.XLOOKUP(AC18,Calculation_factors!$E$6:$E$13,Calculation_factors!$F$6:$F$13),0) -> 0
A19: =Lookups!$E$5 -> Cadw’r rhai a ddewiswyd (Cntrl + clic)
A20: =Lookups!$E$5 -> Cadw’r rhai a ddewiswyd (Cntrl + clic)
A21: =Lookups!$E$5 -> Cadw’r rhai a ddewiswyd (Cntrl + clic) | D21: 2.2 Dylunio tymereddau, mesurau galluogi, rheolaethau, ac uwchraddio gwneuthuriad
A22: =Lookups!$E$5 -> Cadw’r rhai a ddewiswyd (Cntrl + clic)
A23: =Lookups!$E$5 -> Cadw’r rhai a ddewiswyd (Cntrl + clic) | E23: Tymereddau llif | I23: Mesurau galluogi - allyrrwyr gwres, seilwaith gwres, a rheolaethau | Q23: Mesurau galluogi – gwella gwneuthuriad | W23: Cyfansymiau Crynodeb
A24: =Lookups!$E$5 -> Cadw’r rhai a ddewiswyd (Cntrl + clic) | D24: Enw'r Adeilad | E24: Tymheredd llif gwresogi gofod presennol (oC) | F24: Tymheredd dŵr poeth domestig presennol(oC) | G24: Tymheredd llif arfaethedig ar gyfer gwresogi gofod (oC) | H24: Tymheredd dŵr poeth domestig arfaethedig (oC) | I24: Ydych chi'n disodli rheiddiaduron? | J24: Ydych chi'n disodli coiliau gwresogi uned trin aer? | K24: Ydych chi'n uwchraddio'r pibellau cylched gwresogi? | L24: Dull dylunio ar gyfer rheolaethau parthau gwres? | M24: Dull dylunio ar gyfer storio gwres? | N24: A yw uwchraddio system rheoli adeilad wedi'i gynnwys yn y prosiect? | O24: A yw rheolaeth cymryd lle tywydd wedi'i gynnwys yn y prosiect? | P24: Arbedion gwres o fesurau galluogi / rheoli? (kWh y flwyddyn) Mewnosod gwerth negyddol os ydych chi'n disgwyl cynnydd mewn gwres | Q24: Ydych chi'n gosod inswleiddio llofft? | R24: Ydych chi'n gosod inswleiddio waliau ceudod (lle mae'n briodol)? | S24: Ydych chi'n gosod inswleiddio cladin allanol (lle mae’n briodol)? | T24: Ydych chi'n gosod deunyddiau gwrthsefyll drafft ffenestri/drysau? | U24: Ydych chi'n amnewid ffenestri fel rhan o'r prosiect | V24: Arbedion gwres disgwyliedig o fesurau gwneuthuriad? (kWh y flwyddyn) | W24: Cyfanswm mesurau galluogi arbedion gwres (kWh y flwyddyn) | X24: Cyfanswm y gwres i'w wasanaethu gan y system wres carbon isel arfaethedig
A25: =IF(D25="",Lookups!$E$4,Lookups!$E$5) -> Cuddio adeiladau dienw (Cntrl + clic) | D25: =IF(D9<>"",D9,"") | I25: FALSE | J25: FALSE | K25: FALSE | L25: Dewiswch | M25: Dewiswch | N25: FALSE | O25: FALSE | Q25: FALSE | R25: FALSE | S25: FALSE | T25: FALSE | U25: FALSE | W25: =P25+V25 -> 0 | X25: =AH9-W25 -> 0 | Y25: Sgroliwch i lawr am yr adran nesaf
A26: =IF(D26="",Lookups!$E$4,Lookups!$E$5) -> Cuddio adeiladau dienw (Cntrl + clic) | D26: =IF(D10<>"",D10,"") | I26: FALSE | J26: FALSE | K26: FALSE | L26: Dewiswch | M26: Dewiswch | N26: FALSE | O26: FALSE | Q26: FALSE | R26: FALSE | S26: FALSE | T26: FALSE | U26: FALSE | W26: =P26+V26 -> 0 | X26: =AH10-W26 -> 0 | Y26: ↓
A27: =IF(D27="",Lookups!$E$4,Lookups!$E$5) -> Cuddio adeiladau dienw (Cntrl + clic) | D27: =IF(D11<>"",D11,"") | I27: FALSE | J27: FALSE | K27: FALSE | L27: Dewiswch | M27: Dewiswch | N27: FALSE | O27: FALSE | Q27: FALSE | R27: FALSE | S27: FALSE | T27: FALSE | U27: FALSE | W27: =P27+V27 -> 0 | X27: =AH11-W27 -> 0 | Y27: ↙
A28: =IF(D28="",Lookups!$E$4,Lookups!$E$5) -> Cuddio adeiladau dienw (Cntrl + clic) | D28: =IF(D12<>"",D12,"") | I28: FALSE | J28: FALSE | K28: FALSE | L28: Dewiswch | M28: Dewiswch | N28: FALSE | O28: FALSE | Q28: FALSE | R28: FALSE | S28: FALSE | T28: FALSE | U28: FALSE | W28: =P28+V28 -> 0 | X28: =AH12-W28 -> 0
A29: =IF(D29="",Lookups!$E$4,Lookups!$E$5) -> Cuddio adeiladau dienw (Cntrl + clic) | D29: =IF(D13<>"",D13,"") | I29: FALSE | J29: FALSE | K29: FALSE | L29: Dewiswch | M29: Dewiswch | N29: FALSE | O29: FALSE | Q29: FALSE | R29: FALSE | S29: FALSE | T29: FALSE | U29: FALSE | W29: =P29+V29 -> 0 | X29: =AH13-W29 -> 0
A30: =IF(D30="",Lookups!$E$4,Lookups!$E$5) -> Cuddio adeiladau dienw (Cntrl + clic) | D30: =IF(D14<>"",D14,"") | I30: FALSE | J30: FALSE | K30: FALSE | L30: Dewiswch | M30: Dewiswch | N30: FALSE | O30: FALSE | Q30: FALSE | R30: FALSE | S30: FALSE | T30: FALSE | U30: FALSE | W30: =P30+V30 -> 0 | X30: =AH14-W30 -> 0
A31: =IF(D31="",Lookups!$E$4,Lookups!$E$5) -> Cuddio adeiladau dienw (Cntrl + clic) | D31: =IF(D15<>"",D15,"") | I31: FALSE | J31: FALSE | K31: FALSE | L31: Dewiswch | M31: Dewiswch | N31: FALSE | O31: FALSE | Q31: FALSE | R31: FALSE | S31: FALSE | T31: FALSE | U31: FALSE | W31: =P31+V31 -> 0 | X31: =AH15-W31 -> 0
A32: =IF(D32="",Lookups!$E$4,Lookups!$E$5) -> Cuddio adeiladau dienw (Cntrl + clic) | D32: =IF(D16<>"",D16,"") | I32: FALSE | J32: FALSE | K32: FALSE | L32: Dewiswch | M32: Dewiswch | N32: FALSE | O32: FALSE | Q32: FALSE | R32: FALSE | S32: FALSE | T32: FALSE | U32: FALSE | W32: =P32+V32 -> 0 | X32: =AH16-W32 -> 0
A33: =IF(D33="",Lookups!$E$4,Lookups!$E$5) -> Cuddio adeiladau dienw (Cntrl + clic) | D33: =IF(D17<>"",D17,"") | I33: FALSE | J33: FALSE | K33: FALSE | L33: Dewiswch | M33: Dewiswch | N33: FALSE | O33: FALSE | Q33: FALSE | R33: FALSE | S33: FALSE | T33: FALSE | U33: FALSE | W33: =P33+V33 -> 0 | X33: =AH17-W33 -> 0
A34: =IF(D34="",Lookups!$E$4,Lookups!$E$5) -> Cuddio adeiladau dienw (Cntrl + clic) | D34: =IF(D18<>"",D18,"") | I34: FALSE | J34: FALSE | K34: FALSE | L34: Dewiswch | M34: Dewiswch | N34: FALSE | O34: FALSE | Q34: FALSE | R34: FALSE | S34: FALSE | T34: FALSE | U34: FALSE | W34: =P34+V34 -> 0 | X34: =AH18-W34 -> 0
A35: =Lookups!$E$5 -> Cadw’r rhai a ddewiswyd (Cntrl + clic)
A36: =Lookups!$E$5 -> Cadw’r rhai a ddewiswyd (Cntrl + clic) | D36: 2.3 Datrysiad gwres carbon isel arfaethedig
A37: =Lookups!$E$5 -> Cadw’r rhai a ddewiswyd (Cntrl + clic)
A38: =Lookups!$E$5 -> Cadw’r rhai a ddewiswyd (Cntrl + clic) | E38: ARFAETHEDIG - Prif gynhyrchu gwres carbon isel | K38: ARFAETHEDIG - Cynhyrchu gwres eilaidd (os oes angen) | R38: ARFAETHEDIG - Cynhyrchu gwres pellach (e.e. pwynt defnydd lleol, defnydd cegin ac ati) (os oes angen) | Y38: Cyfanswm Arfaethedig | AD38: Metrigau a Gwiriadau
A39: =Lookups!$E$5 -> Cadw’r rhai a ddewiswyd (Cntrl + clic) | D39: Enw'r Adeilad | E39: Math o dechnoleg cynhyrchu prif wres carbon isel | F39: Math o Danwydd | G39: Capasiti wedi'i osod (gwres kW) | H39: Mewnbwn defnydd ynni (kWh y flwyddyn) | I39: Allbwn gwres (kWh y flwyddyn) | J39: Cyfernod Perfformiad Tymhorol Disgwyliedig (effeithlonrwydd) | K39: Angen mewnbwn cynhyrchu gwres carbon isel arfaethedig eilaidd? | L39: Math o dechnoleg cynhyrchu gwres | M39: Math o Danwydd | N39: Capasiti wedi'i osod (gwres kW) | O39: Mewnbwn defnydd ynni (kWh y flwyddyn) | P39: Allbwn gwres (kWh y flwyddyn) | Q39: Cyfernod Perfformiad / Effeithlonrwydd Tymhorol Disgwyliedig | R39: Angen mewnbwn cynhyrchu gwres carbon isel pellach? | S39: Math o dechnoleg cynhyrchu gwres | T39: Math o Danwydd | U39: Capasiti wedi'i osod (gwres kW) | V39: Mewnbwn defnydd ynni (kWh y flwyddyn) | W39: Allbwn gwres (kWh y flwyddyn) | X39: Cyfernod Perfformiad / Effeithlonrwydd Tymhorol Disgwyliedig | Y39: Crynodeb o gynhyrchu gwres (kWh y flwyddyn) | Z39: Capasiti cynhyrchu gwres (kW) wedi ei osod | AA39: Allyriadau Carbon (kgCO2e y flwyddyn) | AB39: Allyriadau Carbon Gydol Oes (kg CO2e) | AD39: Canran y cynhyrchiad gwres arfaethedig o'i gymharu â'r galw am wres presennol tynnu arbedion galluogi/gwneuthuriad (kWh y flwyddyn) | AE39: Canran y capasiti gwres arfaethedig o'i gymharu â'r capasiti gwres presennol (kW) | AF39: Allyriadau Carbon (kgCO2e y flwyddyn) [gostyngiad] | AG39: Allyriadau Carbon Gydol Oes (kgCO2e) [gostyngiad] | AH39: Canran y gwres arfaethedig a wasanaethir gan y prif gynhyrchydd gwres (%) | AI39: Canran y gwres arfaethedig a wasanaethir gan gynhyrchydd gwres eilaidd (%) | AJ39: Canran y gwres arfaethedig a wasanaethir gan gynhyrchu gwres pellach (%) | AK39: Allyriadau CO2e fesul gwres kWh (gCO2e/kWh) | AL39: £ CAPEX fesul allyriadau CO2 a arbedir (£/tCO2e) | AM39: SCOP cyfartalog wedi'i bwysoli | AN39: Galw arfaethedig am wres a wasanaethir fesul arwynebedd llawr (gwres kWh / m2) | AO39: Capasiti gosod arfaethedig fesul arwynebedd llawr (kW / m2)
A40: =IF(D40="",Lookups!$E$4,Lookups!$E$5) -> Cuddio adeiladau dienw (Cntrl + clic) | D40: =IF(D9<>"",D9,"") | J40: =IFERROR(I40/H40,"") | K40: FALSE | Q40: =IFERROR(P40/O40,"") | R40: FALSE | X40: =IFERROR(W40/V40,"") | Y40: =SUM(I40,IF(P40>0,P40,0),IF(W40>0,W40,0)) -> 0 | Z40: =SUM(G40,N40,U40) -> 0 | AA40: =IFERROR(H40*_xlfn.XLOOKUP(F40,Calculation_factors!$H$6:$H$13,Calculation_factors!$I$6:$I$13),)+IFERROR(O40*_xlfn.XLOOKUP(M40,Calculation_factors!$H$6:$H$13,Calculation_factors!$I$6:$I$13),)+IFERROR(V40*_xlfn.XLOOKUP(T40,Calculation_factors!$H$6:$H$13,Calculation_factors!$I$6:$I$13),) -> 0 | AB40: =IFERROR(H40*_xlfn.XLOOKUP(F40,Calculation_factors!$E$6:$E$13,Calculation_factors!$F$6:$F$13),0)+IFERROR(O40*_xlfn.XLOOKUP(M40,Calculation_factors!$E$6:$E$13,Calculation_factors!$F$6:$F$13),)+IFERROR(V40*_xlfn.XLOOKUP(T40,Calculation_factors!$E$6:$E$13,Calculation_factors!$F$6:$F$13),) -> 0 | AD40: =IFERROR(Y40/X25,"") | AE40: =IFERROR(Z40/AI9,"") | AF40: =IFERROR(AJ9-AA40,"") -> 0 | AG40: =IFERROR(AK9-AB40,"") -> 0 | AH40: =IFERROR(I40/Y40,0) -> 0 | AI40: =IFERROR(P40/Y40,0) -> 0 | AJ40: =IFERROR(W40/Y40,0) -> 0 | AK40: =IFERROR(AA40*1000/Y40,"") | AL40: =IFERROR('4. Manylion Ariannol'!L9/(AG40/1000),"") | AM40: =AH40*IF(J40="",0,J40) + AI40*IF(Q40="",0,Q40) + AJ40*IF(X40="",0,X40) -> 0 | AN40: =IFERROR(Y40/H9,"") | AO40: =IFERROR(Z40/H9,"")
A41: =IF(D41="",Lookups!$E$4,Lookups!$E$5) -> Cuddio adeiladau dienw (Cntrl + clic) | D41: =IF(D10<>"",D10,"") | J41: =IFERROR(I41/H41,"") | K41: FALSE | Q41: =IFERROR(P41/O41,"") | R41: FALSE | X41: =IFERROR(W41/V41,"") | Y41: =SUM(I41,IF(P41>0,P41,0),IF(W41>0,W41,0)) -> 0 | Z41: =SUM(G41,N41,U41) -> 0 | AA41: =IFERROR(H41*_xlfn.XLOOKUP(F41,Calculation_factors!$H$6:$H$13,Calculation_factors!$I$6:$I$13),)+IFERROR(O41*_xlfn.XLOOKUP(M41,Calculation_factors!$H$6:$H$13,Calculation_factors!$I$6:$I$13),)+IFERROR(V41*_xlfn.XLOOKUP(T41,Calculation_factors!$H$6:$H$13,Calculation_factors!$I$6:$I$13),) -> 0 | AB41: =IFERROR(H41*_xlfn.XLOOKUP(F41,Calculation_factors!$E$6:$E$13,Calculation_factors!$F$6:$F$13),0)+IFERROR(O41*_xlfn.XLOOKUP(M41,Calculation_factors!$E$6:$E$13,Calculation_factors!$F$6:$F$13),)+IFERROR(V41*_xlfn.XLOOKUP(T41,Calculation_factors!$E$6:$E$13,Calculation_factors!$F$6:$F$13),) -> 0 | AD41: =IFERROR(Y41/X26,"") | AE41: =IFERROR(Z41/AI10,"") | AF41: =IFERROR(AJ10-AA41,"") -> 0 | AG41: =IFERROR(AK10-AB41,"") -> 0 | AH41: =IFERROR(I41/Y41,0) -> 0 | AI41: =IFERROR(P41/Y41,0) -> 0 | AJ41: =IFERROR(W41/Y41,0) -> 0 | AK41: =IFERROR(AA41*1000/Y41,"") | AL41: =IFERROR('4. Manylion Ariannol'!L10/(AG41/1000),"") | AM41: =AH41*IF(J41="",0,J41) + AI41*IF(Q41="",0,Q41) + AJ41*IF(X41="",0,X41) -> 0 | AN41: =IFERROR(Y41/H10,"") | AO41: =IFERROR(Z41/H10,"")
A42: =IF(D42="",Lookups!$E$4,Lookups!$E$5) -> Cuddio adeiladau dienw (Cntrl + clic) | D42: =IF(D11<>"",D11,"") | J42: =IFERROR(I42/H42,"") | K42: FALSE | Q42: =IFERROR(P42/O42,"") | R42: FALSE | X42: =IFERROR(W42/V42,"") | Y42: =SUM(I42,IF(P42>0,P42,0),IF(W42>0,W42,0)) -> 0 | Z42: =SUM(G42,N42,U42) -> 0 | AA42: =IFERROR(H42*_xlfn.XLOOKUP(F42,Calculation_factors!$H$6:$H$13,Calculation_factors!$I$6:$I$13),)+IFERROR(O42*_xlfn.XLOOKUP(M42,Calculation_factors!$H$6:$H$13,Calculation_factors!$I$6:$I$13),)+IFERROR(V42*_xlfn.XLOOKUP(T42,Calculation_factors!$H$6:$H$13,Calculation_factors!$I$6:$I$13),) -> 0 | AB42: =IFERROR(H42*_xlfn.XLOOKUP(F42,Calculation_factors!$E$6:$E$13,Calculation_factors!$F$6:$F$13),0)+IFERROR(O42*_xlfn.XLOOKUP(M42,Calculation_factors!$E$6:$E$13,Calculation_factors!$F$6:$F$13),)+IFERROR(V42*_xlfn.XLOOKUP(T42,Calculation_factors!$E$6:$E$13,Calculation_factors!$F$6:$F$13),) -> 0 | AD42: =IFERROR(Y42/X27,"") | AE42: =IFERROR(Z42/AI11,"") | AF42: =IFERROR(AJ11-AA42,"") -> 0 | AG42: =IFERROR(AK11-AB42,"") -> 0 | AH42: =IFERROR(I42/Y42,0) -> 0 | AI42: =IFERROR(P42/Y42,0) -> 0 | AJ42: =IFERROR(W42/Y42,0) -> 0 | AK42: =IFERROR(AA42*1000/Y42,"") | AL42: =IFERROR('4. Manylion Ariannol'!L11/(AG42/1000),"") | AM42: =AH42*IF(J42="",0,J42) + AI42*IF(Q42="",0,Q42) + AJ42*IF(X42="",0,X42) -> 0 | AN42: =IFERROR(Y42/H11,"") | AO42: =IFERROR(Z42/H11,"")
A43: =IF(D43="",Lookups!$E$4,Lookups!$E$5) -> Cuddio adeiladau dienw (Cntrl + clic) | D43: =IF(D12<>"",D12,"") | J43: =IFERROR(I43/H43,"") | K43: FALSE | Q43: =IFERROR(P43/O43,"") | R43: FALSE | X43: =IFERROR(W43/V43,"") | Y43: =SUM(I43,IF(P43>0,P43,0),IF(W43>0,W43,0)) -> 0 | Z43: =SUM(G43,N43,U43) -> 0 | AA43: =IFERROR(H43*_xlfn.XLOOKUP(F43,Calculation_factors!$H$6:$H$13,Calculation_factors!$I$6:$I$13),)+IFERROR(O43*_xlfn.XLOOKUP(M43,Calculation_factors!$H$6:$H$13,Calculation_factors!$I$6:$I$13),)+IFERROR(V43*_xlfn.XLOOKUP(T43,Calculation_factors!$H$6:$H$13,Calculation_factors!$I$6:$I$13),) -> 0 | AB43: =IFERROR(H43*_xlfn.XLOOKUP(F43,Calculation_factors!$E$6:$E$13,Calculation_factors!$F$6:$F$13),0)+IFERROR(O43*_xlfn.XLOOKUP(M43,Calculation_factors!$E$6:$E$13,Calculation_factors!$F$6:$F$13),)+IFERROR(V43*_xlfn.XLOOKUP(T43,Calculation_factors!$E$6:$E$13,Calculation_factors!$F$6:$F$13),) -> 0 | AD43: =IFERROR(Y43/X28,"") | AE43: =IFERROR(Z43/AI12,"") | AF43: =IFERROR(AJ12-AA43,"") -> 0 | AG43: =IFERROR(AK12-AB43,"") -> 0 | AH43: =IFERROR(I43/Y43,0) -> 0 | AI43: =IFERROR(P43/Y43,0) -> 0 | AJ43: =IFERROR(W43/Y43,0) -> 0 | AK43: =IFERROR(AA43*1000/Y43,"") | AL43: =IFERROR('4. Manylion Ariannol'!L12/(AG43/1000),"") | AM43: =AH43*IF(J43="",0,J43) + AI43*IF(Q43="",0,Q43) + AJ43*IF(X43="",0,X43) -> 0 | AN43: =IFERROR(Y43/H12,"") | AO43: =IFERROR(Z43/H12,"")
...

Sheet 3. Manylion Cyflawnadwyedd
D2: 3. Manylion Cyflawnadwyedd
F3: Botwm hidlo er mwyn cuddio rhesi nas defnyddiwyd (h.y. adeiladau heb eu henwi) > >
D5: 3.1 Manylion gweithredol, dylunio, cynllunio a chontractio
E7: Dylunio a Chynllunio | I7: Caffael a chontractio | O7: Gweithrediad a pherfformiad
A8: hider | D8: Enw'r Adeilad | E8: Nodwch sefyllfa'r prosiect ar ddyluniadau | F8: Nodwch sefyllfa'r prosiect ar ganiatâd cynllunio | G8: Nodwch sefyllfa'r prosiect ar gostau cyflenwyr | H8: Nodwch sefyllfa’r prosiect ar uwchraddio / ymgysylltu â gweithredwr rhwydwaith dosbarthu | I8: Prif gontractwr: dull gweithredu | J8: Prif gontractwr: statws | K8: Statws darparu offer | L8: Gosod statws isgontractwyr | M8: Statws cysylltiad grid/uwchraddio gweithredwr rhwydwaith dosbarthu | N8: Peiriannydd Cleient: statws | O8: Dull contractwr Gweithrediad a Chynnal a Chadw | P8: Cynllun Rheoli Perfformiad ar waith? | Q8: Mae rheoli perfformiad yn cynnwys Cynllun Mesur a Gwirio i’r IPMVP | R8: A fydd yr holl drydan a gwres pwmp gwres yn cael ei fesur gyda mesuryddion sy'n cydymffurfio â MID, gyda data ar gael i'w rannu yn y dyfodol?
A9: =IF(D9="",Lookups!$E$4,Lookups!$E$5) -> Cuddio adeiladau dienw (Cntrl + clic) | D9: =IF(ISBLANK('2. Manylion Technegol'!D9),"",'2. Manylion Technegol'!D9) | P9: FALSE | Q9: FALSE | R9: FALSE | S9: Sgroliwch i lawr am yr adran nesaf
A10: =IF(D10="",Lookups!$E$4,Lookups!$E$5) -> Cuddio adeiladau dienw (Cntrl + clic) | D10: =IF(ISBLANK('2. Manylion Technegol'!D10),"",'2. Manylion Technegol'!D10) | P10: FALSE | Q10: FALSE | R10: FALSE | S10: ↓
A11: =IF(D11="",Lookups!$E$4,Lookups!$E$5) -> Cuddio adeiladau dienw (Cntrl + clic) | D11: =IF(ISBLANK('2. Manylion Technegol'!D11),"",'2. Manylion Technegol'!D11) | P11: FALSE | Q11: FALSE | R11: FALSE | S11: ↙
A12: =IF(D12="",Lookups!$E$4,Lookups!$E$5) -> Cuddio adeiladau dienw (Cntrl + clic) | D12: =IF(ISBLANK('2. Manylion Technegol'!D12),"",'2. Manylion Technegol'!D12) | P12: FALSE | Q12: FALSE | R12: FALSE
A13: =IF(D13="",Lookups!$E$4,Lookups!$E$5) -> Cuddio adeiladau dienw (Cntrl + clic) | D13: =IF(ISBLANK('2. Manylion Technegol'!D13),"",'2. Manylion Technegol'!D13) | P13: FALSE | Q13: FALSE | R13: FALSE
A14: =IF(D14="",Lookups!$E$4,Lookups!$E$5) -> Cuddio adeiladau dienw (Cntrl + clic) | D14: =IF(ISBLANK('2. Manylion Technegol'!D14),"",'2. Manylion Technegol'!D14) | P14: FALSE | Q14: FALSE | R14: FALSE
A15: =IF(D15="",Lookups!$E$4,Lookups!$E$5) -> Cuddio adeiladau dienw (Cntrl + clic) | D15: =IF(ISBLANK('2. Manylion Technegol'!D15),"",'2. Manylion Technegol'!D15) | P15: FALSE | Q15: FALSE | R15: FALSE
A16: =IF(D16="",Lookups!$E$4,Lookups!$E$5) -> Cuddio adeiladau dienw (Cntrl + clic) | D16: =IF(ISBLANK('2. Manylion Technegol'!D16),"",'2. Manylion Technegol'!D16) | P16: FALSE | Q16: FALSE | R16: FALSE
A17: =IF(D17="",Lookups!$E$4,Lookups!$E$5) -> Cuddio adeiladau dienw (Cntrl + clic) | D17: =IF(ISBLANK('2. Manylion Technegol'!D17),"",'2. Manylion Technegol'!D17) | P17: FALSE | Q17: FALSE | R17: FALSE
A18: =IF(D18="",Lookups!$E$4,Lookups!$E$5) -> Cuddio adeiladau dienw (Cntrl + clic) | D18: =IF(ISBLANK('2. Manylion Technegol'!D18),"",'2. Manylion Technegol'!D18) | P18: FALSE | Q18: FALSE | R18: FALSE
A19: =Lookups!$E$5 -> Cadw’r rhai a ddewiswyd (Cntrl + clic)
A20: =Lookups!$E$5 -> Cadw’r rhai a ddewiswyd (Cntrl + clic)
A21: =Lookups!$E$5 -> Cadw’r rhai a ddewiswyd (Cntrl + clic) | D21: 3.2 Manylion cyflawnadwyedd llinell amser
A22: =Lookups!$E$5 -> Cadw’r rhai a ddewiswyd (Cntrl + clic)
A23: =Lookups!$E$5 -> Cadw’r rhai a ddewiswyd (Cntrl + clic) | E23: Cerrig milltir y Prosiect
A24: =Lookups!$E$5 -> Cadw’r rhai a ddewiswyd (Cntrl + clic) | D24: Enw'r Adeilad | E24: Dyddiad cau'r tendr ar gyfer y Prif Gontractwr (os yw'n berthnasol) | F24: Prif Gontractwr - dyddiad llofnodi'r contract | G24: Dyluniadau terfynol mewn lle (os nad ydynt eisoes) | H24: Dyddiad archebu offer | I24: Dyddiad dechrau gwaith ar y safle | J24: Offer wedi'i osod ar y safle | K24: Dyddiad cwblhau a chomisiynu
A25: =IF(D25="",Lookups!$E$4,Lookups!$E$5) -> Cuddio adeiladau dienw (Cntrl + clic) | D25: =IF(ISBLANK('2. Manylion Technegol'!D9),"",'2. Manylion Technegol'!D9)
A26: =IF(D26="",Lookups!$E$4,Lookups!$E$5) -> Cuddio adeiladau dienw (Cntrl + clic) | D26: =IF(ISBLANK('2. Manylion Technegol'!D10),"",'2. Manylion Technegol'!D10)
A27: =IF(D27="",Lookups!$E$4,Lookups!$E$5) -> Cuddio adeiladau dienw (Cntrl + clic) | D27: =IF(ISBLANK('2. Manylion Technegol'!D11),"",'2. Manylion Technegol'!D11)
A28: =IF(D28="",Lookups!$E$4,Lookups!$E$5) -> Cuddio adeiladau dienw (Cntrl + clic) | D28: =IF(ISBLANK('2. Manylion Technegol'!D12),"",'2. Manylion Technegol'!D12)
A29: =IF(D29="",Lookups!$E$4,Lookups!$E$5) -> Cuddio adeiladau dienw (Cntrl + clic) | D29: =IF(ISBLANK('2. Manylion Technegol'!D13),"",'2. Manylion Technegol'!D13)
A30: =IF(D30="",Lookups!$E$4,Lookups!$E$5) -> Cuddio adeiladau dienw (Cntrl + clic) | D30: =IF(ISBLANK('2. Manylion Technegol'!D14),"",'2. Manylion Technegol'!D14)
A31: =IF(D31="",Lookups!$E$4,Lookups!$E$5) -> Cuddio adeiladau dienw (Cntrl + clic) | D31: =IF(ISBLANK('2. Manylion Technegol'!D15),"",'2. Manylion Technegol'!D15)
A32: =IF(D32="",Lookups!$E$4,Lookups!$E$5) -> Cuddio adeiladau dienw (Cntrl + clic) | D32: =IF(ISBLANK('2. Manylion Technegol'!D16),"",'2. Manylion Technegol'!D16)
A33: =IF(D33="",Lookups!$E$4,Lookups!$E$5) -> Cuddio adeiladau dienw (Cntrl + clic) | D33: =IF(ISBLANK('2. Manylion Technegol'!D17),"",'2. Manylion Technegol'!D17)
A34: =IF(D34="",Lookups!$E$4,Lookups!$E$5) -> Cuddio adeiladau dienw (Cntrl + clic) | D34: =IF(ISBLANK('2. Manylion Technegol'!D18),"",'2. Manylion Technegol'!D18)
D36: Diwedd y Daflen

Sheet 4. Manylion Ariannol
D2: 4. Manylion Ariannol
F3: Botwm hidlo er mwyn cuddio rhesi nas defnyddiwyd (h.y. adeiladau heb eu henwi) > >
D5: 4.1 Dadansoddiad Cost
E7: Dadansoddiad cost y prosiect (£) - ni ddylai costau gynnwys TAW adenilladwy (noder: rydym yn disgwyl i'r holl TAW gael ei adfer) | O7: Metrigau a Gwiriadau
A8: hider | D8: Adeilad | E8: Costau dyluniad terfynol (£) | F8: Offer gwres carbon isel (£) (costau offer prif wres) | G8: Llafur gwres carbon isel - gosod a chomisiynu(£) | H8: Galluogi gwaith - cyflenwi a gosod (£) (e.e. allyrrwyr gwres neu waith arall y tu allan i'r gwaith gwres) | I8: Gwaith gwneuthuriad - cyflenwi a sefydlu(£) | J8: Costau gweithredwr rhwydwaith dosbarthu (£) | K8: Peiriannydd Cleientiaid, Rheoli Prosiectau, neu arbenigwyr eraill (£) | L8: Cyfanswm costau'r prosiect heb gynnwys cyllid wrth gefn, heb gynnwys TAW (£) Sicrhau bod hyn yn cyfateb i dystiolaeth dyfynbris | M8: Amcangyfrif o gostau wrth gefn (Methu ei gynnwys yn y cynnig grant ) | O8: Costau dyluniad terfynol % | P8: Offer gwres carbon isel% | Q8: Llafur gwres carbon isel % | R8: Galluogi gwaith - cyflenwi a gosod % | S8: Gwaith gwneuthuriad - cyflenwi a sefydlu % | T8: Costau gweithredwr rhwydwaith dosbarthu % | U8: Peiriannydd Cleientiaid, Rheoli Prosiectau, neu arbenigwyr eraill % | V8: £ / kW Cost offer fesul capasiti wedi'i osod | W8: £ / kW Costau fesul capasiti wedi'i osod (ac eithrio gweithredwr rhwydwaith dosbarthu a gwneuthuriad) | X8: £ / tCO2e Cyfanswm y costau ar gyfer arbed carbon blwyddyn 1 | Y8: £ / tCO2e Cyfanswm y costau ar gyfer arbed carbon yn ystod oes
A9: =IF(D9="",Lookups!$E$4,Lookups!$E$5) -> Cuddio adeiladau dienw (Cntrl + clic) | D9: =IF(ISBLANK('2. Manylion Technegol'!D9),"",'2. Manylion Technegol'!D9) | L9: =SUM(E9:K9) -> 0 | O9: =IF($L9>0,IFERROR(E9/$L9,""),"") | P9: =IF($L9>0,IFERROR(F9/$L9,""),"") | Q9: =IF($L9>0,IFERROR(G9/$L9,""),"") | R9: =IF($L9>0,IFERROR(H9/$L9,""),"") | S9: =IF($L9>0,IFERROR(I9/$L9,""),"") | T9: =IF($L9>0,IFERROR(J9/$L9,""),"") | U9: =IF($L9>0,IFERROR(K9/$L9,""),"") | V9: =IFERROR(F9/'2. Manylion Technegol'!Z40,"") | W9: =IFERROR(SUM(E9:H9,K9)/'2. Manylion Technegol'!Z40,"") | X9: =IFERROR(L9/('2. Manylion Technegol'!AF40*0.001),"") | Y9: =IFERROR(L9/('2. Manylion Technegol'!AG40*0.001),"") | Z9: Sgroliwch i lawr am yr adran nesaf
A10: =IF(D10="",Lookups!$E$4,Lookups!$E$5) -> Cuddio adeiladau dienw (Cntrl + clic) | D10: =IF(ISBLANK('2. Manylion Technegol'!D10),"",'2. Manylion Technegol'!D10) | L10: =SUM(E10:K10) -> 0 | O10: =IF($L10>0,IFERROR(E10/$L10,""),"") | P10: =IF($L10>0,IFERROR(F10/$L10,""),"") | Q10: =IF($L10>0,IFERROR(G10/$L10,""),"") | R10: =IF($L10>0,IFERROR(H10/$L10,""),"") | S10: =IF($L10>0,IFERROR(I10/$L10,""),"") | T10: =IF($L10>0,IFERROR(J10/$L10,""),"") | U10: =IF($L10>0,IFERROR(K10/$L10,""),"") | V10: =IFERROR(F10/'2. Manylion Technegol'!Z41,"") | W10: =IFERROR(SUM(E10:H10,K10)/'2. Manylion Technegol'!Z41,"") | X10: =IFERROR(L10/('2. Manylion Technegol'!AF41*0.001),"") | Y10: =IFERROR(L10/('2. Manylion Technegol'!AG41*0.001),"") | Z10: ↓
A11: =IF(D11="",Lookups!$E$4,Lookups!$E$5) -> Cuddio adeiladau dienw (Cntrl + clic) | D11: =IF(ISBLANK('2. Manylion Technegol'!D11),"",'2. Manylion Technegol'!D11) | L11: =SUM(E11:K11) -> 0 | O11: =IF($L11>0,IFERROR(E11/$L11,""),"") | P11: =IF($L11>0,IFERROR(F11/$L11,""),"") | Q11: =IF($L11>0,IFERROR(G11/$L11,""),"") | R11: =IF($L11>0,IFERROR(H11/$L11,""),"") | S11: =IF($L11>0,IFERROR(I11/$L11,""),"") | T11: =IF($L11>0,IFERROR(J11/$L11,""),"") | U11: =IF($L11>0,IFERROR(K11/$L11,""),"") | V11: =IFERROR(F11/'2. Manylion Technegol'!Z42,"") | W11: =IFERROR(SUM(E11:H11,K11)/'2. Manylion Technegol'!Z42,"") | X11: =IFERROR(L11/('2. Manylion Technegol'!AF42*0.001),"") | Y11: =IFERROR(L11/('2. Manylion Technegol'!AG42*0.001),"") | Z11: ↙
A12: =IF(D12="",Lookups!$E$4,Lookups!$E$5) -> Cuddio adeiladau dienw (Cntrl + clic) | D12: =IF(ISBLANK('2. Manylion Technegol'!D12),"",'2. Manylion Technegol'!D12) | L12: =SUM(E12:K12) -> 0 | O12: =IF($L12>0,IFERROR(E12/$L12,""),"") | P12: =IF($L12>0,IFERROR(F12/$L12,""),"") | Q12: =IF($L12>0,IFERROR(G12/$L12,""),"") | R12: =IF($L12>0,IFERROR(H12/$L12,""),"") | S12: =IF($L12>0,IFERROR(I12/$L12,""),"") | T12: =IF($L12>0,IFERROR(J12/$L12,""),"") | U12: =IF($L12>0,IFERROR(K12/$L12,""),"") | V12: =IFERROR(F12/'2. Manylion Technegol'!Z43,"") | W12: =IFERROR(SUM(E12:H12,K12)/'2. Manylion Technegol'!Z43,"") | X12: =IFERROR(L12/('2. Manylion Technegol'!AF43*0.001),"") | Y12: =IFERROR(L12/('2. Manylion Technegol'!AG43*0.001),"")
A13: =IF(D13="",Lookups!$E$4,Lookups!$E$5) -> Cuddio adeiladau dienw (Cntrl + clic) | D13: =IF(ISBLANK('2. Manylion Technegol'!D13),"",'2. Manylion Technegol'!D13) | L13: =SUM(E13:K13) -> 0 | O13: =IF($L13>0,IFERROR(E13/$L13,""),"") | P13: =IF($L13>0,IFERROR(F13/$L13,""),"") | Q13: =IF($L13>0,IFERROR(G13/$L13,""),"") | R13: =IF($L13>0,IFERROR(H13/$L13,""),"") | S13: =IF($L13>0,IFERROR(I13/$L13,""),"") | T13: =IF($L13>0,IFERROR(J13/$L13,""),"") | U13: =IF($L13>0,IFERROR(K13/$L13,""),"") | V13: =IFERROR(F13/'2. Manylion Technegol'!Z44,"") | W13: =IFERROR(SUM(E13:H13,K13)/'2. Manylion Technegol'!Z44,"") | X13: =IFERROR(L13/('2. Manylion Technegol'!AF44*0.001),"") | Y13: =IFERROR(L13/('2. Manylion Technegol'!AG44*0.001),"")
A14: =IF(D14="",Lookups!$E$4,Lookups!$E$5) -> Cuddio adeiladau dienw (Cntrl + clic) | D14: =IF(ISBLANK('2. Manylion Technegol'!D14),"",'2. Manylion Technegol'!D14) | L14: =SUM(E14:K14) -> 0 | O14: =IF($L14>0,IFERROR(E14/$L14,""),"") | P14: =IF($L14>0,IFERROR(F14/$L14,""),"") | Q14: =IF($L14>0,IFERROR(G14/$L14,""),"") | R14: =IF($L14>0,IFERROR(H14/$L14,""),"") | S14: =IF($L14>0,IFERROR(I14/$L14,""),"") | T14: =IF($L14>0,IFERROR(J14/$L14,""),"") | U14: =IF($L14>0,IFERROR(K14/$L14,""),"") | V14: =IFERROR(F14/'2. Manylion Technegol'!Z45,"") | W14: =IFERROR(SUM(E14:H14,K14)/'2. Manylion Technegol'!Z45,"") | X14: =IFERROR(L14/('2. Manylion Technegol'!AF45*0.001),"") | Y14: =IFERROR(L14/('2. Manylion Technegol'!AG45*0.001),"")
A15: =IF(D15="",Lookups!$E$4,Lookups!$E$5) -> Cuddio adeiladau dienw (Cntrl + clic) | D15: =IF(ISBLANK('2. Manylion Technegol'!D15),"",'2. Manylion Technegol'!D15) | L15: =SUM(E15:K15) -> 0 | O15: =IF($L15>0,IFERROR(E15/$L15,""),"") | P15: =IF($L15>0,IFERROR(F15/$L15,""),"") | Q15: =IF($L15>0,IFERROR(G15/$L15,""),"") | R15: =IF($L15>0,IFERROR(H15/$L15,""),"") | S15: =IF($L15>0,IFERROR(I15/$L15,""),"") | T15: =IF($L15>0,IFERROR(J15/$L15,""),"") | U15: =IF($L15>0,IFERROR(K15/$L15,""),"") | V15: =IFERROR(F15/'2. Manylion Technegol'!Z46,"") | W15: =IFERROR(SUM(E15:H15,K15)/'2. Manylion Technegol'!Z46,"") | X15: =IFERROR(L15/('2. Manylion Technegol'!AF46*0.001),"") | Y15: =IFERROR(L15/('2. Manylion Technegol'!AG46*0.001),"")
A16: =IF(D16="",Lookups!$E$4,Lookups!$E$5) -> Cuddio adeiladau dienw (Cntrl + clic) | D16: =IF(ISBLANK('2. Manylion Technegol'!D16),"",'2. Manylion Technegol'!D16) | L16: =SUM(E16:K16) -> 0 | O16: =IF($L16>0,IFERROR(E16/$L16,""),"") | P16: =IF($L16>0,IFERROR(F16/$L16,""),"") | Q16: =IF($L16>0,IFERROR(G16/$L16,""),"") | R16: =IF($L16>0,IFERROR(H16/$L16,""),"") | S16: =IF($L16>0,IFERROR(I16/$L16,""),"") | T16: =IF($L16>0,IFERROR(J16/$L16,""),"") | U16: =IF($L16>0,IFERROR(K16/$L16,""),"") | V16: =IFERROR(F16/'2. Manylion Technegol'!Z47,"") | W16: =IFERROR(SUM(E16:H16,K16)/'2. Manylion Technegol'!Z47,"") | X16: =IFERROR(L16/('2. Manylion Technegol'!AF47*0.001),"") | Y16: =IFERROR(L16/('2. Manylion Technegol'!AG47*0.001),"")
A17: =IF(D17="",Lookups!$E$4,Lookups!$E$5) -> Cuddio adeiladau dienw (Cntrl + clic) | D17: =IF(ISBLANK('2. Manylion Technegol'!D17),"",'2. Manylion Technegol'!D17) | L17: =SUM(E17:K17) -> 0 | O17: =IF($L17>0,IFERROR(E17/$L17,""),"") | P17: =IF($L17>0,IFERROR(F17/$L17,""),"") | Q17: =IF($L17>0,IFERROR(G17/$L17,""),"") | R17: =IF($L17>0,IFERROR(H17/$L17,""),"") | S17: =IF($L17>0,IFERROR(I17/$L17,""),"") | T17: =IF($L17>0,IFERROR(J17/$L17,""),"") | U17: =IF($L17>0,IFERROR(K17/$L17,""),"") | V17: =IFERROR(F17/'2. Manylion Technegol'!Z48,"") | W17: =IFERROR(SUM(E17:H17,K17)/'2. Manylion Technegol'!Z48,"") | X17: =IFERROR(L17/('2. Manylion Technegol'!AF48*0.001),"") | Y17: =IFERROR(L17/('2. Manylion Technegol'!AG48*0.001),"")
A18: =IF(D18="",Lookups!$E$4,Lookups!$E$5) -> Cuddio adeiladau dienw (Cntrl + clic) | D18: =IF(ISBLANK('2. Manylion Technegol'!D18),"",'2. Manylion Technegol'!D18) | L18: =SUM(E18:K18) -> 0 | O18: =IF($L18>0,IFERROR(E18/$L18,""),"") | P18: =IF($L18>0,IFERROR(F18/$L18,""),"") | Q18: =IF($L18>0,IFERROR(G18/$L18,""),"") | R18: =IF($L18>0,IFERROR(H18/$L18,""),"") | S18: =IF($L18>0,IFERROR(I18/$L18,""),"") | T18: =IF($L18>0,IFERROR(J18/$L18,""),"") | U18: =IF($L18>0,IFERROR(K18/$L18,""),"") | V18: =IFERROR(F18/'2. Manylion Technegol'!Z49,"") | W18: =IFERROR(SUM(E18:H18,K18)/'2. Manylion Technegol'!Z49,"") | X18: =IFERROR(L18/('2. Manylion Technegol'!AF49*0.001),"") | Y18: =IFERROR(L18/('2. Manylion Technegol'!AG49*0.001),"")
A19: =Lookups!$E$5 -> Cadw’r rhai a ddewiswyd (Cntrl + clic)
A20: =Lookups!$E$5 -> Cadw’r rhai a ddewiswyd (Cntrl + clic) | D20: 4.2 Grant Request
A21: =Lookups!$E$5 -> Cadw’r rhai a ddewiswyd (Cntrl + clic)
A22: =Lookups!$E$5 -> Cadw’r rhai a ddewiswyd (Cntrl + clic) | E22: Cais am grant | I22: Ffynhonnell arian Cyfatebol | M22: Cadw costau'r prosiect | O22: Tynnu’r grant i lawr disgwyliedig
A23: =Lookups!$E$5 -> Cadw’r rhai a ddewiswyd (Cntrl + clic) | D23: Adeilad | E23: Uchafswm gwerth grant cymwys (£) (90% o gostau'r prosiect) | F23: Hoffech chi gael y grant llawn sydd ar gael? Ticiwch am hoffwn. | G23: Swm y grant a geisiwyd (£) Rhowch y gwerth a geisiwyd, hyd at uchafswm cymwys | H23: Cyfraniad yr Ymgeisydd (£) | I23: Cyfraniad yr ymgeisydd o gyfalaf ei hun(£) | J23: Cyfraniad ymgeisydd o grant / cyfalaf arall Llywodraeth Cymru (£) | K23: Cyfraniad yr ymgeisydd o arall (£) | L23: Rhowch sylwadau ar unrhyw ffynhonnell cronfa Llywodraeth Cymru neu unrhyw ffynhonnell gyllid arall fel y bo'n berthnasol | M23: A yw'ch prosiect yn cynnwys taliad wedi’i gadw a fyddai'n cael ei dalu i'r contractwr ym mlwyddyn ariannol 27-28? (Y/N) | N23: Os ydy, beth yw gwerth y taliad a gedwir?(£) | O23: Dyddiad Tynnu i Lawr | P23: Dyddiad Tynnu i Lawr | Q23: Dyddiad Tynnu i Lawr | R23: Dyddiad Tynnu i Lawr | S23: Cyfanswm wedi'i dynnu i lawr (£) | T23: Gwirio
A24: =IF(D24="",Lookups!$E$4,Lookups!$E$5) -> Cuddio adeiladau dienw (Cntrl + clic) | D24: =IF(ISBLANK('2. Manylion Technegol'!D9),"",'2. Manylion Technegol'!D9) | E24: =L9*0.9 -> 0 | F24: TRUE | G24: =IF(E24>0,(IF(F24=TRUE,E24,Lookups!$C$4)),"") | H24: =IFERROR(L9-G24,"") | S24: =_xlfn.AGGREGATE(9,4,O24,P24,Q24,R24) -> 0 | T24: =IF(G24<>"",IF(S24=G24,Lookups!$B$4,Lookups!$B$5),"")
A25: =IF(D25="",Lookups!$E$4,Lookups!$E$5) -> Cuddio adeiladau dienw (Cntrl + clic) | D25: =IF(ISBLANK('2. Manylion Technegol'!D10),"",'2. Manylion Technegol'!D10) | E25: =L10*0.9 -> 0 | F25: TRUE | G25: =IF(E25>0,(IF(F25=TRUE,E25,Lookups!$C$4)),"") | H25: =IFERROR(L10-G25,"") | S25: =_xlfn.AGGREGATE(9,4,O25,P25,Q25,R25) -> 0 | T25: =IF(G25<>"",IF(S25=G25,Lookups!$B$4,Lookups!$B$5),"")
A26: =IF(D26="",Lookups!$E$4,Lookups!$E$5) -> Cuddio adeiladau dienw (Cntrl + clic) | D26: =IF(ISBLANK('2. Manylion Technegol'!D11),"",'2. Manylion Technegol'!D11) | E26: =L11*0.9 -> 0 | F26: TRUE | G26: =IF(E26>0,(IF(F26=TRUE,E26,Lookups!$C$4)),"") | H26: =IFERROR(L11-G26,"") | S26: =_xlfn.AGGREGATE(9,4,O26,P26,Q26,R26) -> 0 | T26: =IF(G26<>"",IF(S26=G26,Lookups!$B$4,Lookups!$B$5),"")
A27: =IF(D27="",Lookups!$E$4,Lookups!$E$5) -> Cuddio adeiladau dienw (Cntrl + clic) | D27: =IF(ISBLANK('2. Manylion Technegol'!D12),"",'2. Manylion Technegol'!D12) | E27: =L12*0.9 -> 0 | F27: TRUE | G27: =IF(E27>0,(IF(F27=TRUE,E27,Lookups!$C$4)),"") | H27: =IFERROR(L12-G27,"") | S27: =_xlfn.AGGREGATE(9,4,O27,P27,Q27,R27) -> 0 | T27: =IF(G27<>"",IF(S27=G27,Lookups!$B$4,Lookups!$B$5),"")
A28: =IF(D28="",Lookups!$E$4,Lookups!$E$5) -> Cuddio adeiladau dienw (Cntrl + clic) | D28: =IF(ISBLANK('2. Manylion Technegol'!D13),"",'2. Manylion Technegol'!D13) | E28: =L13*0.9 -> 0 | F28: TRUE | G28: =IF(E28>0,(IF(F28=TRUE,E28,Lookups!$C$4)),"") | H28: =IFERROR(L13-G28,"") | S28: =_xlfn.AGGREGATE(9,4,O28,P28,Q28,R28) -> 0 | T28: =IF(G28<>"",IF(S28=G28,Lookups!$B$4,Lookups!$B$5),"")
A29: =IF(D29="",Lookups!$E$4,Lookups!$E$5) -> Cuddio adeiladau dienw (Cntrl + clic) | D29: =IF(ISBLANK('2. Manylion Technegol'!D14),"",'2. Manylion Technegol'!D14) | E29: =L14*0.9 -> 0 | F29: TRUE | G29: =IF(E29>0,(IF(F29=TRUE,E29,Lookups!$C$4)),"") | H29: =IFERROR(L14-G29,"") | S29: =_xlfn.AGGREGATE(9,4,O29,P29,Q29,R29) -> 0 | T29: =IF(G29<>"",IF(S29=G29,Lookups!$B$4,Lookups!$B$5),"")
A30: =IF(D30="",Lookups!$E$4,Lookups!$E$5) -> Cuddio adeiladau dienw (Cntrl + clic) | D30: =IF(ISBLANK('2. Manylion Technegol'!D15),"",'2. Manylion Technegol'!D15) | E30: =L15*0.9 -> 0 | F30: TRUE | G30: =IF(E30>0,(IF(F30=TRUE,E30,Lookups!$C$4)),"") | H30: =IFERROR(L15-G30,"") | S30: =_xlfn.AGGREGATE(9,4,O30,P30,Q30,R30) -> 0 | T30: =IF(G30<>"",IF(S30=G30,Lookups!$B$4,Lookups!$B$5),"")
A31: =IF(D31="",Lookups!$E$4,Lookups!$E$5) -> Cuddio adeiladau dienw (Cntrl + clic) | D31: =IF(ISBLANK('2. Manylion Technegol'!D16),"",'2. Manylion Technegol'!D16) | E31: =L16*0.9 -> 0 | F31: TRUE | G31: =IF(E31>0,(IF(F31=TRUE,E31,Lookups!$C$4)),"") | H31: =IFERROR(L16-G31,"") | S31: =_xlfn.AGGREGATE(9,4,O31,P31,Q31,R31) -> 0 | T31: =IF(G31<>"",IF(S31=G31,Lookups!$B$4,Lookups!$B$5),"")
A32: =IF(D32="",Lookups!$E$4,Lookups!$E$5) -> Cuddio adeiladau dienw (Cntrl + clic) | D32: =IF(ISBLANK('2. Manylion Technegol'!D17),"",'2. Manylion Technegol'!D17) | E32: =L17*0.9 -> 0 | F32: TRUE | G32: =IF(E32>0,(IF(F32=TRUE,E32,Lookups!$C$4)),"") | H32: =IFERROR(L17-G32,"") | S32: =_xlfn.AGGREGATE(9,4,O32,P32,Q32,R32) -> 0 | T32: =IF(G32<>"",IF(S32=G32,Lookups!$B$4,Lookups!$B$5),"")
A33: =IF(D33="",Lookups!$E$4,Lookups!$E$5) -> Cuddio adeiladau dienw (Cntrl + clic) | D33: =IF(ISBLANK('2. Manylion Technegol'!D18),"",'2. Manylion Technegol'!D18) | E33: =L18*0.9 -> 0 | F33: TRUE | G33: =IF(E33>0,(IF(F33=TRUE,E33,Lookups!$C$4)),"") | H33: =IFERROR(L18-G33,"") | S33: =_xlfn.AGGREGATE(9,4,O33,P33,Q33,R33) -> 0 | T33: =IF(G33<>"",IF(S33=G33,Lookups!$B$4,Lookups!$B$5),"")
D35: diwedd y daflen

Sheet 5. Risgiau
C2: 5. Asesiad Risg
C4: Disgrifiad o'r Risg i Gyflawni'r Prosiect | D4: Effaith Bosibl (1-5) | E4: Tebygolrwydd (1-5) | F4: Sgôr Risg (heb ei liniaru) | G4: Lliniaru Arfaethedig (os o gwbl) | H4: Effaith Posibl ar ôl lliniaru (1-5) | I4: Tebygolrwydd ar ôl lliniaru (1-5) | J4: Sgôr Risg (wedi'i liniaru)
F5: =D5*E5 -> 0 | J5: =H5*I5 -> 0
F6: =D6*E6 -> 0 | J6: =H6*I6 -> 0
F7: =D7*E7 -> 0 | J7: =H7*I7 -> 0
F8: =D8*E8 -> 0 | J8: =H8*I8 -> 0
F9: =D9*E9 -> 0 | J9: =H9*I9 -> 0
F10: =D10*E10 -> 0 | J10: =H10*I10 -> 0
F11: =D11*E11 -> 0 | J11: =H11*I11 -> 0
F12: =D12*E12 -> 0 | J12: =H12*I12 -> 0
F13: =D13*E13 -> 0 | J13: =H13*I13 -> 0
F14: =D14*E14 -> 0 | J14: =H14*I14 -> 0
B16: Diwedd y Daflen

Sheet 6.Crynodeb a Datganiad
C2: 6. Crynodeb a Datganiad
C5: 6.1 Gwirio Cyflawnrwydd
G7: Cyflawn?
E8: 1. Cwestiynau | G8: FALSE
E10: 2. Manylion Technegol | G10: FALSE
E12: 3. Manylion Cyflawnadwyedd | G12: FALSE
E14: 4. Manylion Ariannol | G14: FALSE
E16: 5. Risgiau | G16: FALSE
E18: 6. Crynodeb a Datganiad | G18: FALSE
G20: =IF(G8*G10*G12*G14*G16*G18=0,Lookups!D4,"") -> Nid ydych wedi ticio pob blwch
C21: 6.2 Manylion Ymgeisydd
C23: Sefydliad | E23: Sefydliad yr Ymgeisydd
E24: Cyfeiriad Post yr Ymgeisydd
C26: Prif Gyswllt / Ymgeisydd | E26: Enw'r Prif Gyswllt
E27: Teitl Swydd Prif Gyswllt
E28: Cyfeiriad E-bost Prif Gyswllt
E29: Rhif Ffôn Prif Gyswllt
C31: Cyfarwyddwr Noddi | E31: Enw'r Cyfarwyddwr Noddi
E32: Teitl Swydd y Cyfarwyddwr Noddi
E33: Cyfeiriad E-bost y Cyfarwyddwr Noddi
E34: Rhif Ffôn y Cyfarwyddwr Noddi
C36: Cyfarwyddwr Cyllid | E36: Enw'r Cyfarwyddwr Cyllid
E37: Teitl Swydd y Cyfarwyddwr Cyllid
E38: Cyfeiriad E-bost y Cyfarwyddwr Cyllid
E39: Rhif Ffôn y Cyfarwyddwr Cyllid
C41: Cyswllt Gweinyddu Cyllid | E41: Enw’r Cyswllt Cyllid
E42: Teitl Swydd y Cyswllt Cyllid
E43: Cyfeiriad E-bost y Cyswllt Cyllid
E44: Rhif Ffôn y Cyswllt Cyllid
C46: Cyswllt Ychwanegol 1 (dewisol) | E46: Rôl ar y Prosiect
E47: Enw
E48: Teitl y Swydd
E49: Cyfeiriad Ebost
E50: Rhif Ffôn
C53: 6.3 Gwybodaeth Ategol
G55: Wedi'i Atodi? | J55: Enw(au) y ddogfen gan gynnwys math ffeil tair llythyren
C56: Dogfennau dylunio neu Gynnig Gradd Buddsoddi sy'n dangos bod y prosiect yn dechnegol ymarferol, cyfrifiadau maint ac ati. | G56: FALSE
C58: Lluniadau (cynllun a drychiad) sy'n dangos lleoliad y ffynhonnell wres a'r raddfa (dewisol) | G58: FALSE
C60: Taflenni manyleb ar gyfer y pwmp gwres / offer gwres carbon isel arfaethedig | G60: FALSE
C62: Cyfrifiadau modelu a maint - y model ynni i ddangos maint priodol a chyfernod perfformiad tymhorol disgwyliedig y pwmp gwres | G62: FALSE
...

Sheet All data export
D3: Building details | L3: EXISTING - Main heat generation plant | S3: EXISTING - Secondary heat generation (optional) | Z3: EXISTING - Further heat generation (e.g., hot water production, kitchen use etc.) (optional) | AG3: Total of existing | AK3: Flow temperatures | AO3: Enabling measures - heat emitters, heat infrastructure, and controls | AX3: Enabling measures - fabric improvement | BD3: Summary Totals | BF3: PROPOSED - Main low carbon heat generation | BL3: PROPOSED - Secondary heat generation (if required) | BS3: PROPOSED - Further heat generation (e.g., local point of use, kitchen use etc.) (if required) | BZ3: Total Proposed | CE3: Metrics & Checks | CQ3: Design & Planning | CU3: Procurement and contracting | DA3: Operation & performance | DE3: Project Milestones | DL3: Project cost breakdown (£) - costs should not include recoverable VAT (note: we expect all VAT to be recovered) | DV3: Metrics & Checks | EG3: Grant request | EK3: Match funding Source | EO3: Retention of project costs | EQ3: Anticipated drawdown of grant
