Workbook

Sheet Crynodeb
D4: Cynllun Ffermio Cynaliadwy (SFS) Cyffredinol / Cynllun y Taliad Sylfaenol (BPS) - Cyfrifiannell Taliadau Dangosol ar gyfer 2026
D8: Bydd y Canllaw Cyflym hwn yn cyfrifo swm dangosol ar gyfer Taliad Cyffredinol y Cynllun Ffermio Cynaliadwy neu swm gostyngol Cynllun y Taliad Sylfaenol ar gyfer 2026, yn seiliedig ar y manylion a nodir isod. I dderbyn Taliad Cyffredinol y Cynllun Ffermio Cynaliadwy yn 2026, rhaid i chi fod yn gymwys i wneud cais, a bodloni gofynion y cynllun, fel y nodir yn y ' Cynllun Ffermio Cynaliadwy 2026: disgrifiad o’r cynllun'.
D13: Manylion Tir/Hawliau y Cwsmer | M13: Taliadau Dangosol Amcangyfrifedig
D15: Y Cynllun Ffermio Cynaliadwy (SFS) | M15: Y Cynllun Ffermio Cynaliadwy (SFS) | P15: 2026
D17: Arwynebedd Fferm Gyfan: (Gan gynnwys Tir Comin, heb gynnwys nodweddion nad ydynt yn gymwys ar gyfer y Cynllun Ffermio Cynaliadwy) | K17: Ha | M17: Taliad y Fferm Gyfan: | P17: =Calculation!H10 -> 0 | R17: Mae symiau'r taliadau dangosol wedi'u cyfrifo ar sail yr wybodaeth a roddwyd a thrwy ddefnyddio'r model talu a'r cyfraddau talu fel y nodwyd ym Mhennod 8: Adran taliadau'r Cynllun Ffermio Cynaliadwy- fersiwn gyhoeddedig y Cynllun Ffermio Cynaliadwy 2026: disgrifiad o’r cynllun.
D18: Arwynebedd Cynnal a Chadw Cynefinoedd - Tir Caeedig (Arwynebedd a rennir fel Cynefinoedd) | K18: Ha | M18: Taliad Cynnal Cynefin: | P18: =Calculation!H12 -> 0
D19: Arwynebedd Cynnal a Chadw Coetir (Arwynebedd Coedwig dros 0.1ha dan reolaeth) | K19: Ha | M19: Taliad Cynnal Coetir: | P19: =Calculation!H13 -> 0
D20: Arwynebedd Gwerth Cymdeithasol (Yr un â'r Arwynebedd Fferm Gyfan) | J20: =J17 -> 0 | K20: Ha | M20: Taliad Gwerth Cymdeithasol: | P20: =Calculation!H14 -> 0
D22: Gellir dod o hyd i'ch arwynebeddau fferm ar RPW Ar-lein: - Gallwch ddod o hyd i'r awynebedd fferm gyfan yn seiliedig ar yr wybodaeth yn eich dogfen Crynodeb Ffurflen Cais Sengl 2025. - Mae arwynebeddau cynefin a choetir ar gael ar eich ffurflen Cadarnhad Data SFS 2025. Mae 'Canllaw Sut i ' ar gael ar wefan Llywodraeth Cymru. | M22: Cyfanswm y Swm (Cyn y Cap): | P22: =Calculation!H16 -> 0
M24: Cyfanswm y Swm: (Ar ôl y Cap): | P24: =Calculation!H25 -> 0
M26: =IF(J17<=100,"Taliadau Sefydlogi:","") -> Taliadau Sefydlogi: | P26: =Calculation!H27 -> 0
M28: Cyfanswm y Swm Dangosol: | P28: =Calculation!F30 -> 0
D31: Cynllun y Taliad Sylfaenol (BPS) | M31: Cynllun y Taliad Sylfaenol (BPS) | R31: Mae symiau'r taliadau dangosol wedi'u cyfrifo ar sail yr wybodaeth a roddwyd a gan ddefnyddio canran lleihad o 40% fel y nodir ym Mhennod 11: Cynllun y Taliad Sylfaenol - fersiwn gyhoeddedig y Cynllun Ffermio Cynaliadwy 2026: disgrifiad o'r cynllun. Nodwch: Mae cyfraddau taliadau Cynllun y Taliad Sylfaenol 2024 wedi'u defnyddio at ddibenion dangosol yn unig.
D33: Arwynebedd Cymwys o dan Gynllun y Taliad Sylfaenol /Hawliau wedi'u defnyddio | K33: Ha | M33: Taliad y Cynllun Taliad Sylfaenol: | P33: =Calculation!P13 -> 0
D34: Cynnwys Taliad Ffermwyr Ifanc yn y Cyfrifiadau | J34: Na | M34: Taliad Cynllun Ailddosbarthu: | P34: =Calculation!P15 -> 0
D35: Nodwch nifer yr hawliau yr ydych chi'n disgwyl eu defnyddio ar gyfer 2026. | M35: Taliad Ffermwr Ifanc: | P35: =Calculation!P16 -> 0
D36: Mae nifer y hawliau BPS a defnyddir yn 2024 ar gael yn eich dogfen Crynodeb Ffurflen Gais Sengl 2025.
D37: Dewiswch 'Ie' dim ond os ydych yn derbyn Taliad Ffermwyr Ifanc dan y BPS ar hyn o bryd. | M37: Swm Dangosol Cyfan: (Ar ôl Capio): | P37: =Calculation!N19 -> 0
D42: Ymwadiad/Nodiadau
D44: Mae Taliad Cyffredinol y Cynllun Ffermio Cynaliadwy yn daliad blynyddol a fydd yn parhau gydol cyfnod adrodd statudol pum mlynedd Deddf Amaethyddiaeth (Cymru). Er bod y Ddeddf yn sicrhau bod fframwaith y Cynllun Ffermio Cynaliadwy yn parhau, bydd angen i'r Cynllun weithredu o fewn y gyllideb a ddyrennir gan Lywodraeth Cymru ac a gymeradwyir gan y Senedd bob blwyddyn. Nid yw'r wybodaeth a ddarperir yn derfynol, felly rhaid i chi beidio â dibynnu ar yr wybodaeth a ddarperir gan y cyfrifiannell ac ni ddylid gwneud unrhyw benderfyniadau busnes ar sail y symau dangosol hyn. Dylech ofyn am gyngor gan weithwyr proffesiynol cymwys ynglŷn â'ch sefyllfa ariannol benodol. Nid yw Llywodraeth Cymru yn derbyn unrhyw atebolrwydd mewn contract, y gyfraith gamweddau nac fel arall sy'n codi mewn cysylltiad ag unrhyw gam gweithredu neu benderfyniad a wneir yn sgil defnyddio'r cyfifiannell yma neu sy'n digwydd yn ei sgil. Polisi Preifatrwydd Rheolydd data’r wybodaeth yw Llywodraeth Cymru, Parc Cathays, Caerdydd, CF10 3NQ. Y swyddog diogelu data ar gyfer yr un wybodaeth yw’r Swyddog Diogelu Data, Llywodraeth Cymru, Parc Cathays, Caerdydd, CF10 3NQ. E-bost: DataProtectionOfficer@gov.cymru Nid oes unrhyw ddata, personol neu fel arall, yn cael ei storio, ei gadw na'i rannu drwy ddefnyddio'r cyfrifiannell hwn. O ganlyniad, ni fyddwn yn gallu darparu cofnodion o'r wybodaeth a nodwch yn nes ymlaen.

Sheet Calculation
B2: Sustainable Farming Scheme (SFS)
B4: SFS Universal Payment Calculation | J4: Basic Payment Scheme (BPS) Payment Payment Calculation
B6: Whole Farm Area: | D6: =Crynodeb!J17 -> 0 | F6: Whole Farm Payment Breakdown | J6: Number of Activated Entitlements: | L6: =Crynodeb!J33 -> 0 | N6: BPS Payment Pre-Capping Amount: | P6: =L6*K11 -> 0
B7: Habitat Mainatenance Area: | D7: =Crynodeb!J18 -> 0 | F7: Tiers | G7: Area | H7: Value
B8: Woodland Maintenance Area: | D8: =Crynodeb!J19 -> 0 | F8: <70ha | G8: =IF(D6>C14,C14,D6) -> 0 | H8: =G8*D14 -> 0 | J8: Include Young FarmerPayment: | L8: =Crynodeb!J34 -> Na | N8: Capping 90k-120k | P8: =ROUND(-IF($P$6>$K$17,IF($P$6>$K$18,$K$18-$K$17,$P$6-$K$17),0)*$L$18,2) -> 0
B9: Social Value Area: | D9: =D6 -> 0 | F9: >70ha | G9: =IF(D6>C14,D6-C14,0) -> 0 | H9: =G9*D15 -> 0 | N9: Capping 120k-150k | P9: =ROUND(-IF($P$6>$K$18,IF($P$6>$K$19,$K$19-$K$18,$P$6-$K$18),0)*$L$19,2) -> 0
F10: Total | G10: =G8+G9 -> 0 | H10: =SUM(H8+H9) -> 0 | J10: BPS Payment Rates | N10: Capping 150k-180k | P10: =ROUND(-IF($P$6>$K$19,IF($P$6>$K$20,$K$20-$K$19,$P$6-$K$19),0)*$L$20,2) -> 0
J11: Entitlement Value: | K11: 70.28 | N11: Capping 180k> | P11: =ROUND(-IF($P$6>$J$21,SUM($P$6-$J$21,0)),2) -> 0
B12: Whole Farm Payment Rates | F12: Habitat Payment Value: | H12: =D7*D17 -> 0 | J12: Redistributive Rate: | K12: 66.61 | L12: 54
B13: Greater Than (ha) | C13: Less Than (ha) | D13: Rate (£) | F13: Woodland Payment Value: | H13: =D8*D18 -> 0 | J13: Young Farmer Rate: | K13: 10.25 | L13: 25 | N13: BPS Payment Post Capping Amount: | P13: =P6+P8+P9+P10+P11 -> 0
B14: - | C14: 70 | D14: 70 | F14: Social Value Payment Value: | H14: =D9*D19 -> 0
B15: 70 | C15: - | D15: 2 | J15: BPS Capping Rates | N15: Redistributive Payment Amount: | P15: =IF(L6>L12,L12*K12,L6*K12) -> 0
F16: Total Pre-Capping Amount: | H16: =H10+H12+H13+H14 -> 0 | J16: Greater than | K16: Less Than | L16: % | N16: Young Farmer Payment Amount: | P16: =IF(L8="Ie",IF(L6>L13,L13*K13,L6*K13),0) -> 0
B17: Habitat Maintenance Rate: | D17: 69 | J17: 0 | K17: 90000 | L17: 0
B18: Woodland Maintenance Rate | D18: 62 | F18: =CONCATENATE("£",B24," - £",C24) -> £25000 - £50000 | H18: =ROUND(-IF($H$16>$C$23,IF($H$16>$C$24,$C$24-$B$24,$H$16-$C$23),0)*$D$24,2) -> 0 | J18: 90000 | K18: 120000 | L18: 0.15 | N18: Total Payment Amount
B19: Social Value Rate: | D19: 107 | F19: =CONCATENATE("£",B25," - £",C25) -> £50000 - £150000 | H19: =ROUND(-IF($H$16>$C$24,IF($H$16>$C$25,$C$25-$B$25,$H$16-$C$24),0)*$D$25,2) -> 0 | J19: 120000 | K19: 150000 | L19: 0.3 | N19: =P13+P15+P16 -> 0
F20: =CONCATENATE("£",B26," - £",C26) -> £150000 - £200000 | H20: =ROUND(-IF($H$16>$C$25,IF($H$16>$C$26,$C$26-$B$26,$H$16-$C$25),0)*$D$26,2) -> 0 | J20: 150000 | K20: 180000 | L20: 0.55
B21: Capping Tiers | F21: =CONCATENATE("£",B27," - £",C27) -> £200000 - £250000 | H21: =ROUND(-IF($H$16>$C$26,IF($H$16>$C$27,$C$27-$B$27,$H$16-$C$26),0)*$D$27,2) -> 0 | J21: 180000 | K21: - | L21: 1
B22: Greater than | C22: Less Than | D22: % | F22: =CONCATENATE("£",B28," - £",C28) -> £250000 - £300000 | H22: =ROUND(-IF($H$16>$C$27,IF($H$16>$C$28,$C$28-$B$28,$H$16-$C$27),0)*$D$28,2) -> 0
B23: 0 | C23: 25000 | D23: 0 | F23: =CONCATENATE(">",B29) -> >300000 | H23: =ROUND(-IF($H$16>$B$29,SUM($H$16-$B$29,0)),2) -> 0
B24: 25000 | C24: 50000 | D24: 0.05
B25: 50000 | C25: 150000 | D25: 0.1 | F25: Total Post Capping Amount: | H25: =H16+H18+H19+H20+H21+H22+H23 -> 0
B26: 150000 | C26: 200000 | D26: 0.15
B27: 200000 | C27: 250000 | D27: 0.3 | F27: Stability Payment Amount: | H27: =IF(D6=0,0,IF(D6<=100,1000,0)) -> 0
B28: 250000 | C28: 300000 | D28: 0.55
B29: 300000 | C29: - | D29: 1 | F29: Post Capping Amount
F30: =H25+H27 -> 0
