Workbook

Sheet Guidance
B2: Sut i Lenwi'r Cynllun Costau ar gyfer Grantiau Systemau Ynni Lleol Clyfar (SLES) (C37)
B4: Mae llenwi a lanlwytho’r ddogfen hon yn orfodol gan ei bod yn cael ei defnyddio i gefnogi'r asesiad o’ch cais (cwestiynau 33, 34 a 35 yn benodol). Gallai peidio â rhoi'r wybodaeth ofynnol yn y ddogfen hon arwain at ddiarddel neu gosbi ymgeiswyr.
B6: Fel rhan o'ch cais, bydd angen i chi gyflwyno Cynllun Costau sy'n amlinellu cyllideb eich prosiect – yr hyn yr ydych yn bwriadu ei wario, pryd, ac ar beth. Bydd hyn yn ein helpu i asesu pa mor realistig yw eich cyllideb a pha mor dda y mae wedi'i chynllunio. Bydd y canllawiau hyn yn eich tywys trwy sut i lenwi'r cynllun costau mewn modd clir a hyderus.
B12: Beth yw'r Cynllun Costau?
B14: Mae'r Cynllun Costau yn ddadansoddiad o gyfanswm costau eich prosiect ar draws categorïau allweddol a chyfnodau amser. Mae'n dangos:
B16: Ar beth y byddwch yn gwario'r arian grant
B17: Pa un a yw'r costau'n gyfalaf (cyfarpar, gwaith adeiladu) neu'n refeniw (staff, gweinyddol, gwasanaethau)
B20: 1. Rhannwch Weithgareddau eich Prosiect yn Elfennau Llai
B22: Cyn llenwi'r costau, mapiwch eich prif weithgareddau (er enghraifft amser staff, prynu cyfarpar, digwyddiadau allgymorth, gwerthuso, ac ati) a'r hyn y bydd ar bob un ei angen yn ariannol.
B26: 2. Neilltuwch y Costau i'r Categorïau Cywir
B28: Dewiswch y categori cywir ar gyfer pob eitem cost. Mae’r categorïau yn y templed yn cynnwys:
B30: Dylunio a Pheirianneg – Costau'n ymwneud â chynllunio, dyluniadau technegol, astudiaethau dichonoldeb, ac ymgynghoriaeth.
... B99: ✔ Cadwch y ffeil fel a ganlyn: YourProjectName_CostSchedule.xlsx a'i lanlwytho fel rhan o'ch cais.

Sheet Benefits Breakdown
B2: Dadansoddiad o'r Costau
B4: Cyfarwyddiadau i Ymgeiswyr: | F4: Cyfarwyddiadau i Ymgeiswyr:
B6: Rhestrwch bob safle y bydd y SLES yn gweithredu ar ei draws. Cynhwyswch bob adeilad, hyd yn oed os oes sawl adeilad ar yr un safle. Os bydd y safle a'r adeilad yr un fath, ailadroddwch yr enw yn y ddwy golofn. Ychwanegwch resi yn ôl yr angen. | F6: Enw'r Safle/Adeilad: Yn cael ei ddiweddaru'n awtomatig Trydan y Grid Cyn y SLES (kW h/blwyddyn): Nodwch gyfanswm trydan y grid a ddefnyddir yn flynyddol cyn y mesurau arbed ynni (yn seiliedig ar filiau neu gofnodion diweddar). Trydan ar ôl y SLES (kW h/blwyddyn): Nodwch faint o drydan y grid a ddefnyddir yn flynyddol ar ôl y mesurau arbed ynni (gan adlewyrchu gwelliannau megis cyfarpar sy'n arbed ynni neu systemau adnewyddadwy). Y Galw am Wres Cyn y SLES (kW h/blwyddyn): Nodwch y galw am wres yn flynyddol cyn y mesurau arbed ynni, gan gynnwys y defnydd o ffynonellau megis gwresogyddion nwy neu drydan. Tanwydd Gwresogi (Cyn y SLES): Nodwch y math o danwydd a ddefnyddiwyd ar gyfer gwresogi cyn y mesurau (e.e. trydan, nwy, olew). Y Galw am Wres ar ôl y SLES (kW h/blwyddyn): Nodwch y galw am wres yn flynyddol ar ôl y mesurau arbed ynni, gan ystyried systemau mwy effeithlon megis pympiau gwres. Tanwydd Gwresogi (Ar ôl y SLES): Nodwch y tanwydd gwresogi ar ôl y mesurau arbed ynni.
B7: Celloedd i'w llenwi
B10: Enw'r Safle | C10: Enw'r Adeilad | F10: Enw'r Safle/Adeilad | G10: Trydan y Grid cyn y SLES (kW h/blwyddyn) | H10: Trydan y Grid ar ôl y SLES (kW h/blwyddyn) | J10: Y Galw am Wres cyn y SLES (kW h/blwyddyn) | K10: Tanwydd Gwresogi | L10: Y Galw am Wres ar ôl y SLES (kW h/blwyddyn) | M10: Tanwydd Gwresogi | Q10: Carbon Saving tCO2
F11: =CONCATENATE(B11," ",C11) | Q11: =(($G11*Aux!$M$3/1000)-('Benefits Breakdown'!$H11*Aux!$M$3/1000))+($J11*VLOOKUP($K11,Aux!$L$3:$M$15,2,FALSE)/1000)-($L11*VLOOKUP($M11,Aux!$N$3:$O$9,2,FALSE)/1000) -> #N/A
F12: =CONCATENATE(B12," ",C12)
F13: =CONCATENATE(B13," ",C13)
F14: =CONCATENATE(B14," ",C14)
F15: =CONCATENATE(B15," ",C15)
F16: =CONCATENATE(B16," ",C16)
F17: =CONCATENATE(B17," ",C17)
F18: =CONCATENATE(B18," ",C18)
F19: =CONCATENATE(B19," ",C19)
F20: =CONCATENATE(B20," ",C20)
F21: =CONCATENATE(B21," ",C21)
F22: =CONCATENATE(B22," ",C22)
F23: =CONCATENATE(B23," ",C23)
... F50: =CONCATENATE(B50," ",C50)
F51: Cyfanswm y Rhes | G51: =SUM(G11:G50) -> 0 | H51: =SUM(H11:H50) -> 0 | J51: =SUM(J11:J50) -> 0 | L51: =SUM(L11:L50) -> 0 | Q51: =SUM(Q11:Q50) -> #N/A

Sheet Cost Breakdown
B2: Dadansoddiad o'r Costau
B4: Cyfarwyddiadau i Ymgeiswyr:
B5: Rhowch yr wybodaeth ganlynol yn y tabl ar gyfer pob sefydliad sy'n ymwneud â'r System Ynni Lleol Clyfar (SLES); mae'r costau'n cael eu cyfrifo'n awtomatig:
B8: Celloedd i'w llenwi
B11: Enw'r Sefydliad | C11: Y Math o Sefydliad | D11: Cyfanswm Costau'r Prosiect (£) | E11: Cyfanswm y Grant y gofynnwyd amdano (£) | F11: Y Gofyniad o ran Arian Cyfatebol | G11: Y Gofyniad o ran Arian Cyfatebol | I11: Categori | J11: Is-gyfanswm (£) | K11: TAW (£) | L11: Cyfanswm (£)
B12: [Enw'r Sefydliad 1] | D12: =SUMIF($L$27:$L$146,$B12,$J$27:$J$146) -> 0 | E12: =SUMIF($L$27:$L$146,$B12,$K$27:$K$146) -> 0 | F12: =IFERROR(VLOOKUP($C12,Aux!$I$3:$J$6,2,FALSE),"") | G12: =IFERROR(F12*E12,"") | I12: Dylunio a Pheirianneg | J12: =SUM(H27:H46) -> 0 | K12: =SUM(I27:I46) -> 0 | L12: =SUM(J27:J46) -> 0
B13: [Enw'r Sefydliad 2] | D13: =SUMIF($L$27:$L$146,$B13,$J$27:$J$146) -> 0 | E13: =SUMIF($L$27:$L$146,$B13,$K$27:$K$146) -> 0 | F13: =IFERROR(VLOOKUP($C13,Aux!$I$3:$J$6,2,FALSE),"") | G13: =IFERROR(F13*E13,"") | I13: Mesurau Galluogi | J13: =SUM(H47:H66) -> 0 | K13: =SUM(I47:I66) -> 0 | L13: =SUM(J47:J66) -> 0
B14: [Enw'r Sefydliad 3] | D14: =SUMIF($L$27:$L$146,$B14,$J$27:$J$146) -> 0 | E14: =SUMIF($L$27:$L$146,$B14,$K$27:$K$146) -> 0 | F14: =IFERROR(VLOOKUP($C14,Aux!$I$3:$J$6,2,FALSE),"") | G14: =IFERROR(F14*E14,"") | I14: Cyflawni'r Prosiect | J14: =SUM(H67:H86) -> 0 | K14: =SUM(I67:I86) -> 0 | L14: =SUM(J67:J86) -> 0
B15: [Enw'r Sefydliad 4] | D15: =SUMIF($L$27:$L$146,$B15,$J$27:$J$146) -> 0 | E15: =SUMIF($L$27:$L$146,$B15,$K$27:$K$146) -> 0 | F15: =IFERROR(VLOOKUP($C15,Aux!$I$3:$J$6,2,FALSE),"") | G15: =IFERROR(F15*E15,"") | I15: Cyfarpar Cyfalaf | J15: =SUM(H87:H106) -> 0 | K15: =SUM(I87:I106) -> 0 | L15: =SUM(J87:J106) -> 0
B16: [Enw'r Sefydliad 5] | D16: =SUMIF($L$27:$L$146,$B16,$J$27:$J$146) -> 0 | E16: =SUMIF($L$27:$L$146,$B16,$K$27:$K$146) -> 0 | F16: =IFERROR(VLOOKUP($C16,Aux!$I$3:$J$6,2,FALSE),"") | G16: =IFERROR(F16*E16,"") | I16: Gosod a Chomisiynu | J16: =SUM(H107:H126) -> 0 | K16: =SUM(I107:I126) -> 0 | L16: =SUM(J107:J126) -> 0
B17: [Enw'r Sefydliad 7] | D17: =SUMIF($L$27:$L$146,$B17,$J$27:$J$146) -> 0 | E17: =SUMIF($L$27:$L$146,$B17,$K$27:$K$146) -> 0 | F17: =IFERROR(VLOOKUP($C17,Aux!$I$3:$J$6,2,FALSE),"") | G17: =IFERROR(F17*E17,"") | I17: Arall | J17: =SUM(H127:H146) -> 0 | K17: =SUM(I127:I146) -> 0 | L17: =SUM(J127:J146) -> 0
B18: [Enw'r Sefydliad 8] | D18: =SUMIF($L$27:$L$146,$B18,$J$27:$J$146) -> 0 | E18: =SUMIF($L$27:$L$146,$B18,$K$27:$K$146) -> 0 | F18: =IFERROR(VLOOKUP($C18,Aux!$I$3:$J$6,2,FALSE),"") | G18: =IFERROR(F18*E18,"") | I18: Cyfansymiau (£) | J18: =SUM(J12:J17) -> 0 | K18: =SUM(K12:K17) -> 0 | L18: =SUM(L12:L17) -> 0
B19: [Enw'r Sefydliad 9] | D19: =SUMIF($L$27:$L$146,$B19,$J$27:$J$146) -> 0 | E19: =SUMIF($L$27:$L$146,$B19,$K$27:$K$146) -> 0 | F19: =IFERROR(VLOOKUP($C19,Aux!$I$3:$J$6,2,FALSE),"") | G19: =IFERROR(F19*E19,"")
B20: [Enw'r Sefydliad 10] | D20: =SUMIF($L$27:$L$146,$B20,$J$27:$J$146) -> 0 | E20: =SUMIF($L$27:$L$146,$B20,$K$27:$K$146) -> 0 | F20: =IFERROR(VLOOKUP($C20,Aux!$I$3:$J$6,2,FALSE),"") | G20: =IFERROR(F20*E20,"")
B22: Cyfanswm | D22: =SUM(D12:D17) -> 0 | E22: =SUM(E12:E17) -> 0 | G22: =SUM(G12:G17) -> 0
B26: Categori | C26: Math/Technoleg | D26: Disgrifiad | E26: Size (kW/kWp/m2/litres/m3) | F26: Cost yr Uned (£) | G26: Nifer | H26: Is-gyfanswm (£) | I26: TAW (£) | J26: Cyfanswm (£) | K26: Cyfanswm y cais am grant ar gyfer eitem cost (£) | L26: Y Sefydliad sy'n gyfrifol am y gwariant cyfalaf | M26: Adeilad/Safle
B27: Dylunio a Pheirianneg | H27: =G27*F27 -> 0 | J27: =H27+I27 -> 0
H28: =G28*F28 -> 0 | J28: =H28+I28 -> 0
H29: =G29*F29 -> 0 | J29: =H29+I29 -> 0
H30: =G30*F30 -> 0 | J30: =H30+I30 -> 0
H31: =G31*F31 -> 0 | J31: =H31+I31 -> 0
H32: =G32*F32 -> 0 | J32: =H32+I32 -> 0
H33: =G33*F33 -> 0 | J33: =H33+I33 -> 0
H34: =G34*F34 -> 0 | J34: =H34+I34 -> 0
H35: =G35*F35 -> 0 | J35: =H35+I35 -> 0
H36: =G36*F36 -> 0 | J36: =H36+I36 -> 0
H37: =G37*F37 -> 0 | J37: =H37+I37 -> 0
H38: =G38*F38 -> 0 | J38: =H38+I38 -> 0
H39: =G39*F39 -> 0 | J39: =H39+I39 -> 0
... H46: =G46*F46 -> 0 | J46: =H46+I46 -> 0
B47: Mesurau Galluogi | H47: =G47*F47 -> 0 | J47: =H47+I47 -> 0
H48: =G48*F48 -> 0 | J48: =H48+I48 -> 0
H49: =G49*F49 -> 0 | J49: =H49+I49 -> 0
H50: =G50*F50 -> 0 | J50: =H50+I50 -> 0
H51: =G51*F51 -> 0 | J51: =H51+I51 -> 0
H52: =G52*F52 -> 0 | J52: =H52+I52 -> 0
H53: =G53*F53 -> 0 | J53: =H53+I53 -> 0
H54: =G54*F54 -> 0 | J54: =H54+I54 -> 0
H55: =G55*F55 -> 0 | J55: =H55+I55 -> 0
H56: =G56*F56 -> 0 | J56: =H56+I56 -> 0
...

Sheet Aux
D2: Design & Engineering | E2: Enabling Measures | F2: Project Delivery | G2: Capital Equipment | H2: Installation & Commissioning | I2: Match Funding | J2: Level | L2: Heating Fuel Pre | M2: kg CO2e | N2: Heating Fuel Post | O2: kg CO2e
D3: Solar PV | E3: Grid | F3: Project Management | G3: Solar PV | H3: Solar PV | I3: Public Sector | J3: 0.25 | L3: Electricity (incl. T&D) | M3: =0.20705+0.0183 -> 0.22535 | N3: Electricity (incl. T&D) | O3: 0.22535
D4: Hydro | E4: Permitting & Licensing | F4: Stakeholder Engagement | G4: Hydro | H4: Hydro | I4: Social Enterprise | J4: 0 | L4: Electricity (renewable - grid) | M4: 0.0183 | N4: Electricity (renewable - site) | O4: 0
D5: Wind turbine | E5: Site Preparation & Civil Works | F5: Technical Advisory & Consultancy | G5: Wind turbine | H5: Wind turbine | I5: Community Organisation | J5: 0 | L5: Natural Gas | M5: 0.1829 | N5: Electricity (renewable - grid) | O5: 0.0183
D6: Anaerobic digestion | E6: Network Infrastructure | F6: Health & Safety Compliance | G6: Anaerobic digestion | H6: Anaerobic digestion | I6: SME | J6: 0.1 | L6: Gas Oil | M6: 0.25649 | N6: Wood logs | O6: 0.01132
D7: Other renewable generation | E7: Legal & Regulatory Costs | F7: Monitoring & Reporting | G7: Other renewable generation | H7: Other renewable generation | L7: Fuel Oil | M7: 0.26814 | N7: Wood chips | O7: 0.01132
D8: Heat pump (any type) | E8: Other | G8: Heat pump (any type) | H8: Heat pump (any type) | L8: LPG | M8: 0.2145 | N8: Wood pellets | O8: 0.01132
D9: Heat network infrastructure | G9: Heat network infrastructure | H9: Heat network infrastructure | L9: Kerosene (Burning Oil) | M9: 0.24677 | N9: Biogas | O9: 0.00023
D10: Air conditioning | G10: Air conditioning | H10: Air conditioning | L10: Diesel (average biofuel blend) | M10: 0.23902
D11: Solar thermal | G11: Solar thermal | H11: Solar thermal | L11: Petrol (average biofuel blend) | M11: 0.22013
D12: Heat recovery systems | G12: Heat recovery systems | H12: Heat recovery systems | L12: Wood logs | M12: 0.01132
D13: Other low carbon heating or cooling | G13: Other low carbon heating or cooling | H13: Other low carbon heating or cooling | L13: Wood chips | M13: 0.01132
D14: Electric vehicle chargers | G14: Electric vehicle chargers | H14: Electric vehicle chargers | L14: Wood pellets | M14: 0.01132
D15: Green hydrogen production for transportation | G15: Green hydrogen production for transportation | H15: Green hydrogen production for transportation | L15: Biogas | M15: 0.00023
D16: Electric bike or scooter chargers | G16: Electric bike or scooter chargers | H16: Electric bike or scooter chargers
D17: Other ultra low emission transportation | G17: Other ultra low emission transportation | H17: Other ultra low emission transportation
D18: Battery energy storage (Lithium) | G18: Battery energy storage (Lithium) | H18: Battery energy storage (Lithium)
D19: Thermal energy storage systems | G19: Thermal energy storage systems | H19: Thermal energy storage systems
D20: Battery energy storage (Other) | G20: Battery energy storage (Other) | H20: Battery energy storage (Other)
D21: Storage heating systems | G21: Storage heating systems | H21: Storage heating systems
D22: Other energy storage | G22: Other energy storage | H22: Other energy storage
D23: Building management systems (BMS) | G23: Building management systems (BMS) | H23: Building management systems (BMS)
D24: Smart grid monitoring | G24: Smart grid monitoring | H24: Smart grid monitoring
D25: Smart metering | G25: Smart metering | H25: Smart metering
D26: Battery monitoring systems (eg. Solar Edge) | G26: Battery monitoring systems (eg. Solar Edge) | H26: Battery monitoring systems (eg. Solar Edge)
D27: Other Smart System | G27: Other Smart System | H27: Other Smart System
D28: Whole System | G28: Whole System | H28: Whole System
