Workbook

Sheet Trosolwg
A1: Cynllun Gweithredu Adolygiad Diogelu Unedig Sengl (ADUS) 20XX [MEWNOSODWCH Gyfeirnod Unigryw yr ADUS]
A2: Disgrifiad byr o'r achos (PEIDIWCH Â CHYNNWYS UNRHYW DDYNODYDDION PERSONOL YN Y DDOGFEN HON)
A3: Dyddiad cymeradwyo'r Cynllun Gweithredu 1 Ionawr 20XX
A4: Cliciwch yma i weld yr adroddiad (ychwanegwch ddolen)
A6: PWYNTIAU DYSGU | B6: ARGYMHELLION | C6: CAMAU GWEITHREDU | D6: ARWEINYDD CYFRIFOL | E6: AMSERLEN | F6: SGÔR RAG ASIANTAETH | J6: SGÔR RAG GYFFREDINOL | K6: SYLWADAU/CYNNYDD | L6: DYDDIAD CWBLHAU | M6: MONITRO SICRHAU ANSAWDD?
F7: Mewnosodwch ranbarth | G7: Mewnosodwch ranbarth | H7: Mewnosodwch ranbarth | I7: Mewnosodwch ranbarth
F8: Mewnosodwch y Bwrdd Iechyd perthnasol | I8: Mewnosodwch Fwrdd Iechyd
A9: 1. Pwynt Dysgu | B9: 1. Argymhelliad | C9: 1.1 Cam Gweithredu | F9: ='Mewnosodwch Ranbarth'!F8 -> Ar y trywydd cywir | G9: ='Mewnosodwch Ranbarth 2'!F8 -> Heb ei ddechrau | H9: ='Mewnosodwch Ranbarth 3'!F8 -> Yn mynd rhagddo | I9: ='Mewnosodwch Ranbarth 4'!F8 -> Heb ei ddechrau | J9: Yn mynd rhagddo
C10: 1.2 Cam Gweithredu | F10: ='Mewnosodwch Ranbarth'!F9 -> Wedi'i gwblhau | G10: ='Mewnosodwch Ranbarth 2'!F9 -> Heb ei ddechrau | H10: ='Mewnosodwch Ranbarth 3'!F9 -> Yn mynd rhagddo | I10: ='Mewnosodwch Ranbarth 4'!F9 -> Heb ei ddechrau | J10: Yn mynd rhagddo
C11: 1.3 Cam Gweithredu | F11: ='Mewnosodwch Ranbarth'!F10 -> Wedi'i gwblhau | G11: ='Mewnosodwch Ranbarth 2'!F10 -> Heb ei ddechrau | H11: ='Mewnosodwch Ranbarth 3'!F10 -> Yn mynd rhagddo | I11: ='Mewnosodwch Ranbarth 4'!F10 -> Ar y trywydd cywir | J11: Wedi'i gwblhau
C12: 1.4 Cam Gweithredu | F12: ='Mewnosodwch Ranbarth'!F11 -> Wedi'i gwblhau | G12: ='Mewnosodwch Ranbarth 2'!F11 -> Heb ei ddechrau | H12: ='Mewnosodwch Ranbarth 3'!F11 -> Yn mynd rhagddo | I12: ='Mewnosodwch Ranbarth 4'!F11 -> Heb ei ddechrau | J12: Yn mynd rhagddo
A13: 2. Pwynt Dysgu | B13: 2 Argymhelliad | C13: 2.1 Cam Gweithredu | F13: ='Mewnosodwch Fwrdd Iechyd'!F12 -> Yn mynd rhagddo | I13: ='Mewnosodwch Fwrdd Iechyd 2'!F12 -> Yn mynd rhagddo | J13: Yn mynd rhagddo
C14: 2.2 Cam Gweithredu | F14: ='Mewnosodwch Fwrdd Iechyd'!F13 -> Yn mynd rhagddo | I14: ='Mewnosodwch Fwrdd Iechyd 2'!F13 -> Yn mynd rhagddo | J14: Yn mynd rhagddo
A15: 3. Pwynt Dysgu | B15: 3. Argymhelliad | C15: 3.1 Cam Gweithredu | F15: Wedi'i gwblhau | J15: =F15 -> Wedi'i gwblhau
C16: 3.2 Cam Gweithredu | F16: Wedi'i gwblhau | J16: =F16 -> Wedi'i gwblhau
C17: 3.3 Cam Gweithredu | I17: ='Mewnosodwch Ranbarth 4'!F16 -> Ar y trywydd cywir | J17: =I17 -> Ar y trywydd cywir
C18: 3.4 Cam Gweithredu | I18: ='Mewnosodwch Ranbarth 4'!F17 -> Heb ei ddechrau | J18: =I18 -> Heb ei ddechrau
A19: 4. Pwynt Dysgu | B19: 4. Argymhelliad | C19: 4.1 Cam Gweithredu | I19: ='Mewnosodwch Ranbarth 4'!F18 -> Heb ei ddechrau | J19: =I19 -> Heb ei ddechrau
C20: 4.2 Cam Gweithredu | I20: ='Mewnosodwch Ranbarth 4'!F19 -> Heb ei ddechrau | J20: =I20 -> Heb ei ddechrau
A21: 5. Pwynt Dysgu | B21: 5. Argymhelliad | C21: 5.1 Cam Gweithredu | F21: Wedi'i gwblhau | J21: =F21 -> Wedi'i gwblhau
A22: 6. Pwynt Dysgu | B22: 6. Argymhelliad | C22: 6.1 Cam Gweithredu | F22: Ar y trywydd cywir | J22: =F22 -> Ar y trywydd cywir
C23: 6.2 Cam Gweithredu | F23: Heb ei ddechrau | J23: =F23 -> Heb ei ddechrau
A24: 7. Pwynt Dysgu | B24: 7. Argymhelliad | C24: 7.1 Cam Gweithredu | F24: Yn mynd rhagddo | J24: =F24 -> Yn mynd rhagddo
C25: 7.2 Cam Gweithredu | F25: Heb ei ddechrau | J25: =F25 -> Heb ei ddechrau
A26: 8. Pwynt Dysgu | B26: 8. Argymhelliad | C26: 8.1 Cam Gweithredu | F26: ='Mewnosodwch Ranbarth'!F25 -> Wedi'i gwblhau | G26: ='Mewnosodwch Ranbarth 2'!F25 -> Heb ei ddechrau | H26: ='Mewnosodwch Ranbarth 3'!F25 -> Heb ei ddechrau | I26: ='Mewnosodwch Ranbarth 4'!F25 -> Heb ei ddechrau | J26: Heb ei ddechrau

Sheet Themâu
A1: Themâu'r Cynllun Gweithredu
A2: Rhowch X ar unrhyw thema a nodwyd yn yr Adolygiad hwn.
A3: Chwilfrydedd proffesiynol
A4: Addysg ddewisol yn y cartref
A5: Hunanesgeulustod
A6: Hunanladdiad a hunan-niweidio
A7: Rhannu gwybodaeth
A8: Pontio
A9: Goruchwyliaeth
A10: Camfanteisio
A11: Cam-drin Plant yn Rhywiol

Sheet Sicrhau Ansawdd
A1: Cynllun Gweithredu Adolygiad Diogelu Unedig Sengl (ADUS) 20XX [MEWNOSODWCH RANBARTH]
A2: Disgrifiad cryno o’r achos
A3: Dyddiad cymeradwyo'r Cynllun Gweithredu 1 Ionawr 20XX
A4: Cliciwch yma i weld yr adroddiad (ychwanegwch ddolen)
A5: PWYNTIAU DYSGU | B5: ARGYMHELLION | C5: CAMAU GWEITHREDU | D5: DYDDIAD CWBLHAU | E5: SUT BYDD EFFEITHIAU'R CAM GWEITHREDU HWN YN CAEL EU GWERTHUSO? | F5: PA BRYD FYDD Y GWERTHUSO YN CAEL EI GYNNAL? | G5: UNION DDYDDIAD Y GWERTHUSO | H5: CANLYNIADAU'R GWERTHUSO
A8: 1. Pwynt Dysgu | B8: 1. Argymhelliad | C8: 1.1 Cam Gweithredu
C9: 1.2 Cam Gweithredu
A10: 3. Pwynt Dysgu | B10: 3. Argymhelliad | C10: 3.1 Cam Gweithredu
C11: 3.2 Cam Gweithredu
C12: 3.3 Cam Gweithredu
C13: 3.4 Cam Gweithredu
A14: 4. Pwynt Dysgu | B14: 4. Argymhelliad | C14: 4.1 Cam Gweithredu
C15: 4.2 Cam Gweithredu

Sheet Mewnosodwch Ranbarth
A1: Cynllun Gweithredu Adolygiad Diogelu Unedig Sengl (ADUS) 20XX [MEWNOSODWCH Gyfeirnod Unigryw yr ADUS]
A2: Disgrifiad cryno o’r achos
A3: Dyddiad cymeradwyo'r Cynllun Gweithredu 1 Ionawr 20XX
A4: Cliciwch yma i weld yr adroddiad (ychwanegwch ddolen)
A5: PWYNTIAU DYSGU | B5: ARGYMHELLION | C5: CAMAU GWEITHREDU | D5: ARWEINYDD CYFRIFOL | E5: AMSERLEN | F5: HUNANASESIAD | G5: DIWEDDARIADAU
F6: (SGÔR RAG)
A7: ADUS X/20XX | B7: Mewnosodwch Ranbarth
A8: 1. Pwynt Dysgu | B8: 1. Argymhelliad | C8: 1.1 Cam Gweithredu | E8: 44256 | F8: Ar y trywydd cywir | G8: Diweddariad
C9: 1.2 Cam Gweithredu | E9: 44348 | F9: Wedi'i gwblhau | G9: Diweddariad
C10: 1.3 Cam Gweithredu | E10: 44256 | F10: Wedi'i gwblhau | G10: Diweddariad
C11: 1.4 Cam Gweithredu | E11: 44348 | F11: Wedi'i gwblhau | G11: Diweddariad
A12: 2. Pwynt Dysgu | B12: 2 Argymhelliad | C12: 2.1 Cam Gweithredu | E12: 44256
C13: 2.2 Cam Gweithredu | E13: 44348
A14: 3. Pwynt Dysgu | B14: 3. Argymhelliad | C14: 3.1 Cam Gweithredu | E14: 44256
C15: 3.2 Cam Gweithredu | E15: 44348
C16: 3.3 Cam Gweithredu | E16: 44256
C17: 3.4 Cam Gweithredu | E17: 44348
A18: 4. Pwynt Dysgu | B18: 4. Argymhelliad | C18: 4.1 Cam Gweithredu | E18: 44256
C19: 4.2 Cam Gweithredu | E19: 44348
A20: 5. Pwynt Dysgu | B20: 5. Argymhelliad | C20: 5.1 Cam Gweithredu | E20: 44166
A21: 6. Pwynt Dysgu | B21: 6. Argymhelliad | C21: 6.1 Cam Gweithredu | E21: 44256 | F21: Wedi'i gwblhau | G21: Diweddariad
C22: 6.2 Cam Gweithredu | E22: 44348 | F22: Wedi'i gwblhau | G22: Diweddariad
A23: 7. Pwynt Dysgu | B23: 7. Argymhelliad | C23: 7.1 Cam Gweithredu | E23: 44287
C24: 7.2 Cam Gweithredu | E24: 44348
A25: 8. Pwynt Dysgu | B25: 8. Argymhelliad | C25: 8.1 Cam Gweithredu | E25: 44256 | F25: Wedi'i gwblhau | G25: Diweddariad

Sheet Mewnosodwch Ranbarth 2
A1: Cynllun Gweithredu Adolygiad Diogelu Unedig Sengl (ADUS) 20XX [MEWNOSODWCH Gyfeirnod Unigryw yr ADUS]
A2: Disgrifiad cryno o’r achos
A3: Dyddiad cymeradwyo'r Cynllun Gweithredu 1 Ionawr 20XX
A4: Cliciwch yma i weld yr adroddiad (ychwanegwch ddolen)
A5: PWYNTIAU DYSGU | B5: ARGYMHELLION | C5: CAMAU GWEITHREDU | D5: ARWEINYDD CYFRIFOL | E5: AMSERLEN | F5: HUNANASESIAD | G5: DIWEDDARIADAU
F6: (SGÔR RAG)
A7: ADUS X/20XX | B7: Mewnosodwch Ranbarth
A8: 1. Pwynt Dysgu | B8: 1. Argymhelliad | C8: 1.1 Cam Gweithredu | F8: Heb ei ddechrau | G8: Diweddariad
C9: 1.2 Cam Gweithredu | F9: Heb ei ddechrau | G9: Diweddariad
C10: 1.3 Cam Gweithredu | F10: Heb ei ddechrau | G10: Diweddariad
C11: 1.4 Cam Gweithredu | F11: Heb ei ddechrau | G11: Diweddariad
A12: 2. Pwynt Dysgu | B12: 2 Argymhelliad | C12: 2.1 Cam Gweithredu
C13: 2.2 Cam Gweithredu
A14: 3. Pwynt Dysgu | B14: 3. Argymhelliad | C14: 3.1 Cam Gweithredu
C15: 3.2 Cam Gweithredu
C16: 3.3 Cam Gweithredu
C17: 3.4 Cam Gweithredu
A18: 4. Pwynt Dysgu | B18: 4. Argymhelliad | C18: 4.1 Cam Gweithredu
C19: 4.2 Cam Gweithredu
A20: 5. Pwynt Dysgu | B20: 5. Argymhelliad | C20: 5.1 Cam Gweithredu
A21: 6. Pwynt Dysgu | B21: 6. Argymhelliad | C21: 6.1 Cam Gweithredu | F21: Heb ei ddechrau | G21: Diweddariad
C22: 6.2 Cam Gweithredu | F22: Heb ei ddechrau | G22: Diweddariad
A23: 7. Pwynt Dysgu | B23: 7. Argymhelliad | C23: 7.1 Cam Gweithredu
C24: 7.2 Cam Gweithredu
A25: 8. Pwynt Dysgu | B25: 8. Argymhelliad | C25: 8.1 Cam Gweithredu | F25: Heb ei ddechrau | G25: Diweddariad

Sheet Mewnosodwch Ranbarth 3
A1: Cynllun Gweithredu Adolygiad Diogelu Unedig Sengl (ADUS) 20XX [MEWNOSODWCH Gyfeirnod Unigryw yr ADUS]
A2: Disgrifiad cryno o’r achos
A3: Dyddiad cymeradwyo'r Cynllun Gweithredu 1 Ionawr 20XX
A4: Cliciwch yma i weld yr adroddiad (ychwanegwch ddolen)
A5: PWYNTIAU DYSGU | B5: ARGYMHELLION | C5: CAMAU GWEITHREDU | D5: ARWEINYDD CYFRIFOL | E5: AMSERLEN | F5: HUNANASESIAD | G5: DIWEDDARIADAU
F6: (SGÔR RAG)
A7: ADUS X/20XX | B7: Mewnosodwch Ranbarth
A8: 1. Pwynt Dysgu | B8: 1. Argymhelliad | C8: 1.1 Cam Gweithredu | F8: Yn mynd rhagddo | G8: Diweddariad
C9: 1.2 Cam Gweithredu | F9: Yn mynd rhagddo | G9: Diweddariad
C10: 1.3 Cam Gweithredu | F10: Yn mynd rhagddo | G10: Diweddariad
C11: 1.4 Cam Gweithredu | F11: Yn mynd rhagddo | G11: Diweddariad
A12: 2. Pwynt Dysgu | B12: 2 Argymhelliad | C12: 2.1 Cam Gweithredu
C13: 2.2 Cam Gweithredu
A14: 3. Pwynt Dysgu | B14: 3. Argymhelliad | C14: 3.1 Cam Gweithredu
C15: 3.2 Cam Gweithredu
C16: 3.3 Cam Gweithredu
C17: 3.4 Cam Gweithredu
A18: 4. Pwynt Dysgu | B18: 4. Argymhelliad | C18: 4.1 Cam Gweithredu
C19: 4.2 Cam Gweithredu
A20: 5. Pwynt Dysgu | B20: 5. Argymhelliad | C20: 5.1 Cam Gweithredu
A21: 6. Pwynt Dysgu | B21: 6. Argymhelliad | C21: 6.1 Cam Gweithredu | F21: Wedi'i gwblhau | G21: Diweddariad
C22: 6.2 Cam Gweithredu | F22: Wedi'i gwblhau | G22: Diweddariad
A23: 7. Pwynt Dysgu | B23: 7. Argymhelliad | C23: 7.1 Cam Gweithredu
C24: 7.2 Cam Gweithredu
A25: 8. Pwynt Dysgu | B25: 8. Argymhelliad | C25: 8.1 Cam Gweithredu | F25: Heb ei ddechrau | G25: Diweddariad

Sheet Mewnosodwch Ranbarth 4
A1: Cynllun Gweithredu Adolygiad Diogelu Unedig Sengl (ADUS) 20XX [MEWNOSODWCH Gyfeirnod Unigryw yr ADUS]
A2: Disgrifiad cryno o’r achos
A3: Dyddiad cymeradwyo'r Cynllun Gweithredu 1 Ionawr 20XX
A4: Cliciwch yma i weld yr adroddiad (ychwanegwch ddolen)
A5: PWYNTIAU DYSGU | B5: ARGYMHELLION | C5: CAMAU GWEITHREDU | D5: ARWEINYDD CYFRIFOL | E5: AMSERLEN | F5: HUNANASESIAD | G5: DIWEDDARIADAU
F6: (SGÔR RAG)
A7: ADUS X/20XX | B7: Mewnosodwch Ranbarth
A8: 1. Pwynt Dysgu | B8: 1. Argymhelliad | C8: 1.1 Cam Gweithredu | F8: Heb ei ddechrau | G8: Diweddariad
C9: 1.2 Cam Gweithredu | F9: Heb ei ddechrau | G9: Diweddariad
C10: 1.3 Cam Gweithredu | F10: Ar y trywydd cywir | G10: Diweddariad
C11: 1.4 Cam Gweithredu | F11: Heb ei ddechrau | G11: Diweddariad
A12: 2. Pwynt Dysgu | B12: 2 Argymhelliad | C12: 2.1 Cam Gweithredu
C13: 2.2 Cam Gweithredu
A14: 3. Pwynt Dysgu | C14: 3.1 Cam Gweithredu
C15: 3.2 Cam Gweithredu
B16: 3. Argymhelliad | C16: 3.3 Cam Gweithredu | F16: Ar y trywydd cywir | G16: Diweddariad
C17: 3.4 Cam Gweithredu | F17: Heb ei ddechrau | G17: Diweddariad
A18: 4. Pwynt Dysgu | B18: 4. Argymhelliad | C18: 4.1 Cam Gweithredu | F18: Heb ei ddechrau | G18: Diweddariad
C19: 4.2 Cam Gweithredu | F19: Heb ei ddechrau | G19: Diweddariad
A20: 5. Pwynt Dysgu | B20: 5. Argymhelliad | C20: 5.1 Cam Gweithredu
A21: 6. Pwynt Dysgu | B21: 6. Argymhelliad | C21: 6.1 Cam Gweithredu | F21: Heb ei ddechrau | G21: Diweddariad
C22: 6.2 Cam Gweithredu | F22: Heb ei ddechrau | G22: Diweddariad
A23: 7. Pwynt Dysgu | B23: 7. Argymhelliad | C23: 7.1 Cam Gweithredu
C24: 7.2 Cam Gweithredu
A25: 8. Pwynt Dysgu | B25: 8. Argymhelliad | C25: 8.1 Cam Gweithredu | F25: Heb ei ddechrau | G25: Diweddariad

Sheet Mewnosodwch Fwrdd Iechyd
A1: Cynllun Gweithredu Adolygiad Diogelu Unedig Sengl (ADUS) 20XX [MEWNOSODWCH Gyfeirnod Unigryw yr ADUS]
A2: Disgrifiad cryno o’r achos
A3: Dyddiad cymeradwyo'r Cynllun Gweithredu 1 Ionawr 20XX
A4: Cliciwch yma i weld yr adroddiad (ychwanegwch ddolen)
A5: PWYNTIAU DYSGU | B5: ARGYMHELLION | C5: CAMAU GWEITHREDU | D5: ARWEINYDD CYFRIFOL | E5: AMSERLEN | F5: HUNANASESIAD | G5: DIWEDDARIADAU
F6: (SGÔR RAG)
A7: ADUS 20XX | B7: Mewnosodwch Fwrdd Iechyd
A8: 1. Pwynt Dysgu | B8: 1. Argymhelliad | C8: 1.1 Cam Gweithredu
C9: 1.2 Cam Gweithredu
C10: 1.3 Cam Gweithredu
C11: 1.4 Cam Gweithredu
A12: 2. Pwynt Dysgu | B12: 2 Argymhelliad | C12: 2.1 Cam Gweithredu | F12: Yn mynd rhagddo | G12: Diweddariad
C13: 2.2 Cam Gweithredu | F13: Yn mynd rhagddo | G13: Diweddariad
A14: 3. Pwynt Dysgu | B14: 3. Argymhelliad | C14: 3.1 Cam Gweithredu
C15: 3.2 Cam Gweithredu
C16: 3.3 Cam Gweithredu
C17: 3.4 Cam Gweithredu
A18: 4. Pwynt Dysgu | B18: 4. Argymhelliad | C18: 4.1 Cam Gweithredu
C19: 4.2 Cam Gweithredu
A20: 5. Pwynt Dysgu | B20: 5. Argymhelliad | C20: 5.1 Cam Gweithredu
A21: 6. Pwynt Dysgu | B21: 6. Argymhelliad | C21: 6.1 Cam Gweithredu | F21: Wedi'i gwblhau | G21: Diweddariad
C22: 6.2 Cam Gweithredu | F22: Wedi'i gwblhau | G22: Diweddariad
A23: 7. Pwynt Dysgu | B23: 7. Argymhelliad | C23: 7.1 Cam Gweithredu | G23: Diweddariad
C24: 7.2 Cam Gweithredu
A25: 8. Pwynt Dysgu | B25: 8. Argymhelliad | C25: 8.1 Cam Gweithredu

Sheet Mewnosodwch Fwrdd Iechyd 2
A1: Cynllun Gweithredu Adolygiad Diogelu Unedig Sengl (ADUS) 20XX [MEWNOSODWCH Gyfeirnod Unigryw yr ADUS]
A2: Disgrifiad cryno o’r achos
A3: Dyddiad cymeradwyo'r Cynllun Gweithredu 1 Ionawr 20XX
A4: Cliciwch yma i weld yr adroddiad (ychwanegwch ddolen)
A5: PWYNTIAU DYSGU | B5: ARGYMHELLION | C5: CAMAU GWEITHREDU | D5: ARWEINYDD CYFRIFOL | E5: AMSERLEN | F5: HUNANASESIAD | G5: DIWEDDARIADAU
F6: (SGÔR RAG)
A7: ADUS 20XX | B7: Mewnosodwch Fwrdd Iechyd
A8: 1. Pwynt Dysgu | B8: 1. Argymhelliad | C8: 1.1 Cam Gweithredu
C9: 1.2 Cam Gweithredu
C10: 1.3 Cam Gweithredu
C11: 1.4 Cam Gweithredu
A12: 2. Pwynt Dysgu | B12: 2 Argymhelliad | C12: 2.1 Cam Gweithredu | F12: Yn mynd rhagddo | G12: Diweddariad
C13: 2.2 Cam Gweithredu | F13: Yn mynd rhagddo | G13: Diweddariad
A14: 3. Pwynt Dysgu | B14: 3. Argymhelliad | C14: 3.1 Cam Gweithredu
C15: 3.2 Cam Gweithredu
C16: 3.3 Cam Gweithredu
C17: 3.4 Cam Gweithredu
A18: 4. Pwynt Dysgu | B18: 4. Argymhelliad | C18: 4.1 Cam Gweithredu
C19: 4.2 Cam Gweithredu
A20: 5. Pwynt Dysgu | B20: 5. Argymhelliad | C20: 5.1 Cam Gweithredu
A21: 6. Pwynt Dysgu | B21: 6. Argymhelliad | C21: 6.1 Cam Gweithredu | F21: Wedi'i gwblhau | G21: Diweddariad
C22: 6.2 Cam Gweithredu | F22: Wedi'i gwblhau | G22: Diweddariad
A23: 7. Pwynt Dysgu | B23: 7. Argymhelliad | C23: 7.1 Cam Gweithredu
C24: 7.2 Cam Gweithredu
A25: 8. Pwynt Dysgu | B25: 8. Argymhelliad | C25: 8.1 Cam Gweithredu

Sheet Chwiliadau
A1: Heb ei ddechrau | B1: 1
A2: Wedi'i oedi | B2: 1
A3: Yn mynd rhagddo | B3: 2
A4: Ar y trywydd cywir | B4: 3
A5: Wedi'i gwblhau | B5: 4
A7: 1 | B7: Heb ei ddechrau neu wedi'i oedi
A8: 2 | B8: Yn mynd rhagddo
A9: 3 | B9: Ar y trywydd cywir
A10: 4 | B10: Wedi'i gwblhau
A12: Ie
A13: Na
