Workbook

Sheet CLAWR

Sheet CYSYLLTIADAU Â'R NODAU
B2: Cysylltiadau rhwng Buddion Cymunedol a Nodau Llesiant Cenedlaethau'r Dyfodol
B3: Y Diffiniad o Fuddion Cymunedol yng Nghymru. Mae Buddion Cymunedol yn cyfeirio at gynnwys ‘amcanion buddion cymunedol’ neu ‘gymalau cymdeithasol’ fel amodau contract yn ymarferion caffael y sector cyhoeddus y bwriedir iddynt sicrhau gwerth ychwanegol / buddion ychwanegol ar ben y rhai y mae'r contract wedi cael ei roi ar waith ar eu cyfer, bod materion cymdeithasol, economaidd ac amgylcheddol ehangach yn cael eu hystyried, lle y bo'n bosibl, wrth gynnig contractau adeiladu, contractau gwasanaeth neu gontractau cyflenwadau ar dendr’
B4: Bwriedir i'r fersiwn hon o'r Pecyn Mesur Buddion Cymunedol helpu cyrff yn y sector cyhoeddus yng Nghymru i gofnodi canlyniadau contractau y mae amcanion Buddion Cymunedol wedi'u cynllunio ar eu cyfer a dangos sut mae'r canlyniadau hyn yn helpu i gyflawni Nodau Llesiant Deddf Llesiant Cenedlaethau'r Dyfodol 2015 (Deddf LlCD). Er ei bod yn bosibl cefnogi pob un o Nodau Deddf LlCD drwy gymhwyso dull Buddion Cymunedol, bydd natur / pwnc eich contract yn pennu, i raddau helaeth, pa Nodau sydd fwyaf perthnasol. Ar y cyfan, mae Buddion Cymunedol yn canolbwyntio'n benodol ar gyflawni canlyniadau sy'n cyfrannu at Nodau Deddf LlCD o greu Cymru Lewyrchus, Cymru Iachach a Chymru sy'n Fwy Cyfartal. Cymru Lewyrchus drwy helpu i greu cyfleoedd i gefnogi'r gwaith o ddatblygu sgiliau a thyfu BBaChau er mwyn cael effaith gadarnhaol ar economi Cymru a, thrwy wneud hynny, hyrwyddo Cymru Iachach, gan gydnabod y cysylltiad cryf a sefydledig rhwng bod heb waith ac iechyd gwael ac, i'r gwrthwyneb, gyflogaeth ac iechyd corfforol ac iechyd meddwl gwell, llesiant materol a chyfranogiad llawn mewn cymdeithas i unigolion, yn ogystal â'r effaith ehangach ar eu teuluoedd. Mae teuluoedd heb aelod sy'n gweithio yn llawer mwy tebygol o fod ar incwm isel a dioddef tlodi parhaus a, thrwy wneud hynny, hyrwyddo Cymru sy'n Fwy Cyfartal, drwy weithio i ddarparu cyfleoedd cyflogaeth a hyfforddiant yn ogystal ag addysg a chymorth cymunedol ym mhob rhan o Gymru, gan annog canolbwyntio ar y rhai mewn grwpiau 'difreintiedig'. Er mwyn helpu i nodi'r cysylltiadau hyn a chofnodi canlyniadau, mae pob llinell o'r pecyn mesur hwn wedi'i chodio â lliw fel a ganlyn er mwyn nodi'r Nodau Llesiant y maent yn ymwneud â nhw ac, o bosibl, yn cyfrannu atynt.
B5: 1. Cymru lewyrchus
B6: Cymdeithas arloesol, gynhyrchiol, carbon isel sy’n cydnabod y terfynau sydd ar yr amgylchedd byd-eang ac sydd, o ganlyniad, yn defnyddio adnoddau mewn modd effeithlon a chymesur (gan gynnwys gweithredu ar newid yn yr hinsawdd); ac sy’n datblygu poblogaeth fedrus ac addysgedig mewn economi sy’n cynhyrchu cyfoeth ac yn cynnig cyfleoedd cyflogaeth, gan ganiatáu i bobl fanteisio ar y cyfoeth a gynhyrchir drwy gael gafael ar waith addas.
B7: 2. Cymru gydnerth
B8: Cenedl sy’n cynnal ac yn gwella amgylchedd naturiol bioamrywiol gydag ecosystemau iach gweithredol sy’n cynnal cydnerthedd cymdeithasol, economaidd ac ecolegol ynghyd â’r gallu i addasu i newid (er enghraifft newid yn yr hinsawdd).
B9: 3. Cymru iachach
B10: Cymdeithas lle mae llesiant corfforol a meddyliol pobl cystal â phosibl a lle deellir dewisiadau ac ymddygiadau sydd o fudd i iechyd yn y dyfodol.
B11: 4. Cymru sy'n fwy cyfartal
B12: Cymdeithas sy’n galluogi pobl i gyflawni eu potensial ni waeth beth fo’u cefndir neu eu hamgylchiadau (gan gynnwys eu cefndir a'u hamgylchiadau economaidd-gymdeithasol).
B13: 5. Cymru o gymunedau cydlynus
... B18: Cenedl sydd, wrth iddi wneud unrhyw beth i wella llesiant economaidd, cymdeithasol, amgylcheddol a diwylliannol Cymru, yn ystyried a allai gwneud peth o’r fath gyfrannu’n gadarnhaol at lesiant byd-eang.

Sheet CEFNDIR
B2: Buddion Cymunedol – Cyflawni ar gyfer Cenedlaethau'r Dyfodol Pecyn Mesur Buddion Cymunedol Llesiant Cenedlaethau'r Dyfodol (LlCD)
B3: CEFNDIR
B4: Bwriedir i'r fersiwn hon o'r Pecyn Mesur Buddion Cymunedol helpu cyrff yn y sector cyhoeddus yng Nghymru i gofnodi canlyniadau contractau y mae Buddion Cymunedol wedi'u cynllunio ar eu cyfer a dangos sut mae'r canlyniadau hyn yn helpu i gyflawni Nodau Llesiant Deddf Llesiant Cenedlaethau'r Dyfodol 2015 (Deddf LlCD). Bydd y fersiwn bresennol o'r pecyn cofnodi hwn bob amser ar gael ar dudalennau llyw.cymru
B5: Pa wybodaeth / manylion canlyniadau y mae angen i mi ei chofnodi/eu cofnodi?
B6: Dylai'r holl wybodaeth a gofnodir yn y Pecyn Mesur Buddion Cymunedol fod am weithgarwch sy'n ymwneud â'r contract yn unig, yn hytrach na gweithrediadau cyffredinol y sefydliad. Buddion Cymunedol Mandadol – Metrigau Allweddol y mae'n rhaid eu cofnodi, o leiaf Mae'r canlynol yn rhestr o'r metrigau allweddol y mae'n rhaid eu cofnodi, o leiaf, er mwyn i fuddion economaidd-gymdeithasol sylfaenol cymhwyso'r dull Buddion Cymunedol at y contract hwn allu cael eu cyfrifo. Caiff y wybodaeth hon ei hategu gan ganlyniadau unrhyw amcanion Buddion Cymunedol ychwanegol a bennir gan y sefydliad sector cyhoeddus ar gyfer y contract hwn. • Dadansoddiad o werth y contract rhwng gwariant ar fusnesau/cyflenwyr o gymharu â gwariant ar bobl/staff [Taflen waith gyffredinol 1] • Y swm a wariwyd ar gyflenwyr wedi'u lleoli yng Nghymru [Taflen waith 2: Cadwyn Gyflenwi] • Y swm a wariwyd ar gyflenwyr wedi'u lleoli yng Nghymru sydd hefyd yn BBaChau [Taflen waith 2: Cadwyn Gyflenwi] • Y swm a wariwyd ar gyflenwyr wedi'u lleoli yng Nghymru sydd hefyd yn fentrau yn y trydydd sector (Taflen waith 2: Cadwyn Gyflenwi] • Y swm a wariwyd ar staff o Gymru a gyflogwyd ar y prosiect hwn naill ai fel cyflogeion amser llawn neu fel recriwtiaid Buddion Cymunedol neu a gymerwyd fel hyfforddeion neu er mwyn iddynt gael profiad gwaith. (Rhestrir y categorïau hyfforddiant a phrofiad gwaith ar daflen waith HYFFORDDIANT) [Taflen waith 3: Hyfforddiant] • Cyfanswm y bobl ddi-waith a difreintiedig a gyflogwyd [Taflen waith 3: Cyflogaeth] Buddion Cymunedol Dewisol Dylech hefyd gofnodi unrhyw amcanion Buddion Cymunedol eraill sy'n benodol i'r contract y mae'r Sefydliad Sector Cyhoeddus wedi'u pennu.
B7: Sut mae'r wybodaeth o Becynnau Mesur a gyflwynir yn cael ei defnyddio?
B8: Llywodraeth Cymru – Caiff y canlyniadau o becynnau mesur unigol a gyflwynir eu cyfuno er mwyn darparu prif adroddiadau rheolaidd ar gyfer Gweinidogion ar gynnydd o ran sicrhau Buddion Cymunedol. Er y gall data ar y canlyniadau a gofnodir mewn pecyn mesur a gyflwynir hefyd gael eu darparu i bartïon eraill â diddordeb, dim ond er mwyn egluro data / gwybodaeth yn y cyflwyniad a dilysu cymeradwyaeth y Sefydliad Sector Cyhoeddus a'r Prif gontractwr / cyflenwr neu ddarparwr gwasanaeth at ddibenion llywodraethu y defnyddir y manylion cyswllt personol a nodir gan y pecyn mesur. Cyrff yn y Sector Cyhoeddus – Argymhellir y dylai cyrff yn y sector cyhoeddus sy'n ddarostyngedig i Ddeddf Llesiant Cenedlaethau'r Dyfodol gadw copïau o becynnau mesur cyflawn i'w helpu i gofnodi canlyniadau yn erbyn Nodau Llesiant y Ddeddf.
B9: Hysbysiad Preifatrwydd – Sut rydym yn defnyddio eich gwybodaeth Manylion Cyswllt Personol Dim ond yn y copi hwn o'r pecyn mesur a gyflwynir gennych y cedwir manylion cyswllt personol y rheolwr prosiect ar ochr y cleient ar gyfer y prosiect a'r contractwr / person ar ochr y cleient sy'n cyflwyno'r Pecyn Mesur Buddion Cymunedol ar y dudalen Manylion y Crynodeb o'r Contract o'r Pecyn Mesur Buddion Cymunedol a gyflwynir a dim ond at ddibenion egluro eitemau sydd wedi'u cofnodi ar adeg cyflwyno'r Pecyn Mesur y cânt eu defnyddio. Canlyniadau Buddion Cymunedol a gofnodir Cedwir y Pecyn Mesur Buddion Cymunedol a gyflwynir gennych mewn ffeiliau â mynediad cyfyngedig a dim ond i'r unigolion hynny sydd angen eu gwybod y cânt eu darparu. Er ei bod yn bosibl y bydd swyddogion Llywodraeth Cymru sy'n rheoli'r polisi Buddion Cymunedol yn ceisio eglurhad ar ddata / cofnodion penodol, ni lunnir unrhyw farn ynglŷn â rhinweddau cymharol y canlyniadau a gyflawnwyd ar brosiect. Tybir bod y cleientiaid a'r contractwyr wedi gwneud pob ymdrech a bod y canlyniadau a gofnodwyd yn adlewyrchu'r cyd-destun penodol y cyflawnwyd prosiectau ynddo. Caiff manylion y prosiect a'r canlyniadau Buddion Cymunedol a gofnodir mewn Pecynnau Mesur Buddion Cymunedol a gyflwynir eu trosi'n gronfa ddata er mwyn darparu ar gyfer dadansoddi canlyniadau Buddion Cymunedol cyfunol a rhoi'r prif ffigurau i'r Gweinidog Cyllid a'r Trefnydd mewn diweddariadau misol a Gweinidogion eraill a Llywodraeth Cymru pan fydd angen iddynt eu gwybod. Cysylltiadau Os bydd gennych unrhyw gwestiynau am yr Hysbysiad Preifatrwydd hwn, anfonwch neges e-bost i flwch post Polisi Masnachol a Chyflenwi Masnachol PolisiMasnachol@llyw.cymru I gael rhagor o wybodaeth am y wybodaeth sydd gan Lywodraeth Cymru a'r defnydd y mae'n ei wneud ohoni, neu os byddwch am arfer eich hawliau o dan y Rheoliad Cyffredinol ar Ddiogelu Data (GDPR), gweler y manylion cyswllt isod: Swyddog Diogelu Data Llywodraeth Cymru Parc Cathays CAERDYDD CF10 3NQ E-bost: DataProtectionOfficer@gov.wales Manylion cyswllt Swyddfa'r Comisiynydd Gwybodaeth https://ico.org.uk/global/contact-us/postal-addresses/
B10: Pwy ddylai gwblhau'r pecyn hwn?
B11: Gall y pecyn gael ei gwblhau naill ai gan y Sefydliad Sector Cyhoeddus neu Ddarparwr y Gwasanaeth/y Cyflenwr. Fodd bynnag, bydd angen i'r ddau barti gymeradwyo'r cyflwyniad ar daflen waith y Ffurflen Gymeradwyo. Ar gyfer y taflenni gwaith Cyflogaeth, Cymunedol a Hyfforddiant, croesewir data gan isgontractwyr hefyd os yw'n briodol ac yn rhesymol ymarferol ar gyfer maint y contract.
B12: Beth mae angen i mi ei wneud a sut mae'r pecyn yn gweithio?
B13: Mae angen i amcanion Buddion Cymunedol gael eu cynllunio gan y Sefydliad Sector Cyhoeddus fel rhan o'r strategaeth gaffael gyffredinol. Ni fwriedir i'r Pecyn Mesur hwn eich arwain drwy'r broses o gynllunio eich amcanion Buddion Cymunedol, dyma'r mecanwaith ar gyfer cofnodi canlyniadau Buddion Cymunedol a rhoi gwybod amdanynt. I gael rhagor o ganllawiau manwl ar sut i gynllunio amcanion Buddion Cymunedol a sut i ddefnyddio'r pecyn hwn, cysylltwch â thîm Polisi Masnachol a Chyflenwi Masnachol - PolisiMasnachol@llyw.cymru Mae'r taflenni gwaith yn hunanesboniadol. Dechreuwch drwy gwblhau'r taflenni gwaith CYFFREDINOL, CADWYN GYFLENWI a CHYFLOGAETH sy'n casglu'r wybodaeth orfodol sydd ei hangen. Dylech ddefnyddio'r taflenni gwaith dilynol, sef 'YR AMGYLCHEDD AC ADNODDAU, CYMUNEDOL AC ADDYSGOL', 'DIWYLLIANT' a 'HYFFORDDIANT' i gofnodi canlyniadau sy'n ymwneud â DPAau / amcanion Buddion Cymunedol a bennir gan y Sefydliad Sector Cyhoeddus. Mae'r daflen waith CANLYNIADAU yn crynhoi'r buddion cymunedol a sicrhawyd yn awtomatig yn seiliedig ar y wybodaeth a gyflwynwyd. Dylech ddefnyddio'r daflen waith SYLWADAU i gofnodi unrhyw wybodaeth ychwanegol rydych am ei darparu mewn perthynas â'r prosiect megis agweddau cyd-destunol ar yr ymarfer caffael / prosiect a all fod wedi effeithio ar y canlyniadau e.e. adeiladu modwlaidd oddi ar y safle; defnyddio gweithwyr arbenigol / gosodwyr neu gyflenwyr achrededig o'r tu allan i Gymru a all fod wedi cyfyngu ar gyfleoedd i sicrhau Buddion Cymunedol yn yr ardal lle mae'r contract / prosiect yn cael ei gyflawni.
... B22: Defnyddiwch y blychau SYLWADAU wrth ochr pob rhes i ychwanegu esboniad cryno o'r buddion a gofnodwyd, lle y bo'n bosibl. Mae Llywodraeth Cymru yn awyddus i ddatblygu astudiaethau achos o becynnau mesur a gyflwynwyd. Fodd bynnag, ni ellir defnyddio ffigurau / rhifau heb fanylion esboniadol. Mae'n bwysig iawn rhoi 'sylwadau' cryno yn y celloedd i'r dde o unrhyw ffigurau ariannol neu unrhyw ffigurau eraill er mwyn esbonio manylion neu gyd-destun y ffigurau sy'n cael eu cofnodi e.e. ar y daflen CYMUNEDOL AC ADDYSGOL er mwyn nodi sut mae arian parod / nawdd wedi'i ddosbarthu ac esbonio'r gweithgareddau sy'n sail i'r buddion mewn nwyddau a gofnodwyd. Hefyd, mae taflen waith gyffredinol ar gyfer SYLWADAU y gallwch ei defnyddio i ddarparu unrhyw wybodaeth arall y credwch ei bod yn berthnasol i'r cyflwyniad nad yw wedi cael ei chofnodi rywle arall, megis agweddau cyd-destunol ar yr ymarfer caffael / prosiect a all fod wedi effeithio ar y canlyniadau e.e. adeiladu modwlaidd oddi ar y safle; defnyddio gweithwyr arbenigol / gosodwyr neu gyflenwyr achrededig o'r tu allan i Gymru a all fod wedi cyfyngu ar gyfleoedd i sicrhau Buddion Cymunedol yn yr ardal lle mae'r contract / prosiect yn cael ei gyflawni. Gellir cyflwyno dogfennau ar wahân hefyd ynghyd â'r pecyn Buddion Cymunedol a gyflwynir sy'n darparu gwybodaeth ategol e.e. astudiaethau achos.

Sheet GWYBODAETH AM Y CONTRACT
B1: Cwblhewch y wybodaeth ganlynol am y contract a darllenwch y cyfarwyddiadau ar daflen waith CEFNDIR cyn cwblhau'r pecyn hwn.
B2: GWYBODAETH AM Y CONTRACT / FFRAMWAITH | D2: CANLLAWIAU
B3: ENW'R SEFYDLIAD SECTOR CYHOEDDUS
B4: SECTOR (y Sefydliad Sector Cyhoeddus) | E4: LOCAL GOVERNMENT (General) | F4: LOCAL GOVERNMENT (Housing) | G4: WELSH GOVERNMENT | H4: WELSH GOVERNMENT SPONSORED BODY | I4: HIGHER EDUCATION | J4: FURTHER EDUCATION | K4: NHS | L4: HOUSING (Housing Association / Registered Social Landlord)
B5: RHEOLWR Y PROSIECT (Y prif bwynt cyswllt yn y Sefydliad Sector Cyhoeddus) | D5: Rhowch enw a manylion cyswllt Rheolwr y Prosiect / y prif gyswllt yn y Sefydliad Sector Cyhoeddus. Dim ond er mwyn egluro data / gwybodaeth yn y cyflwyniad y defnyddir y manylion cyswllt personol hyn.
B6: CYFEIRIAD E-BOST
B7: RHIF FFÔN CYSWLLT
C8: MANYLION Y CONTRACT
B9: TEITL Y CONTRACT | D9: Defnyddiwch deitl y contract fel yr ymddangosodd yn Hysbysiad y Contract
B10: DISGRIFIAD O'R CONTRACT | D10: Rhowch ddisgrifiad byr o'r prosiect neu'r ymarfer caffael
B11: SUT MAE'R CONTRACT/PROSIECT HWN YN CAEL EI ARIANNU? | D11: Diben y llinell hon yw galluogi Gwerth Cymru i olrhain ac adrodd yn ôl i Adrannau Llywodraeth Cymru sy'n ariannu prosiectau yn llawn neu'n rhannol h.y. Rhaglen Ysgolion yr 21ain Ganrif a'r Is-adran Tai ac Adfywio ar brosiectau sy'n defnyddio cyllid SATC. Os dewisir 'Cyllid Adrannau eraill Llywodraeth Cymru' yng ngholofn gwympo C, rhowch fanylion yn y blwch hwn | F11: SELF FUNDED (Clients own funds) | G11: 21st CENTURY SCHOOLS PROG. (Match funding) | H11: WELSH HOUSING QUALITY STANDARD (Whether partly or wholly WHQS funding) | I11: OTHER WELSH GOVERNMENT DEPT. (Whether partly or wholly funded)
B12: BLE Y CAIFF Y CONTRACT EI GYFLAWNI? | D12: Nodwch yr ardal ddaearyddol lle y cyflawnir y rhan fwyaf o'r contract. 1) Cymru Gyfan 2) Rhanbarthol – De-ddwyrain, De-orllewin, Gogledd-ddwyrain, Gogledd-orllewin a'r Canolbarth (Powys) 3) Neu yn ôl ardal Llywodraeth Leol DS am fod y pecyn ond yn caniatáu i un opsiwn gael ei ddewis, os yw'r cyflwyniad yn ymwneud â chontract neu brosiect sy'n cael ei gyflawni mewn sawl ardal nas diffinnir yn y gwymplen/rhestr, defnyddiwch y Disgrifiad o'r Contract (cell C10 i esbonio) | E12: All Wales | F12: Region: North East (Denbighshire; Flintshire; Wrexham) | G12: Region: North West (Anglesey; Conwy; Gwynedd) | H12: Region: South East (Blaenau Gwent; Bridgend;Caerphilly;Cardiff; Merthyr Tydfil;Monmouthshire;Newport;Rhondda Cynon Taf;Torfaen;Vale of Glamorgan) | I12: Region: Central (Powys) | J12: Blaenau Gwent | K12: Bridgend | L12: Caerphilly | M12: Cardiff | N12: Carmarthenshire | O12: Ceredigion | P12: Conwy | Q12: Denbighshire | R12: Flintshire | S12: Gwynedd | T12: Isle of Anglesey | U12: Merthyr Tydfil | V12: Monmouthshire | W12: Neath Port Talbot | X12: Newport | Y12: Pembrokeshire | Z12: Powys | AA12: Rhondda Cynon Taf | AB12: Swansea | AC12: Torfaen | AD12: Vale of Glamorgan | AE12: Wrexham
B13: CYFANSWM GWERTH AMCANGYFRIFEDIG Y CONTRACT | D13: Ar gyfer contractau sy'n hwy na 12 mis, dyma'r gwariant amcangyfrifedig dros gyfnod llawn y contract.
B14: HYD Y CONTRACT | F14: LESS THAN 1 YEAR | G14: 1 TO 2 YEARS | H14: OVER 3 YEARS
B15: DYDDIAD DECHRAU'R CONTRACT (Mis/Blwyddyn)
B16: DYDDIAD DOD I BEN Y CONTRACT (DD/MM/BB)
B17: A YW'R CONTRACT HWN DRWY FFRAMWAITH? | F17: YDY | G17: NA
B18: OS DYFARNWYD Y CONTRACT HWN FEL RHAN O FFRAMWAITH, RHOWCH FANYLION Y FFRAMWAITH | D18: Dylid cynnwys teitl y Fframwaith A hyd y fframwaith (e.e. 3 blynedd gydag opsiwn ar gyfer blwyddyn ychwanegol) fel y nodir yng Nghyfnodolyn Swyddogol yr Undeb Ewropeaidd (OJEU) / Hysbysiad y Contract | G18: NO
C19: MANYLION Y CYFLWYNIAD
B20: PA GYFNOD A GWMPESIR GAN Y CYLFWYNIAD HWN? | D20: Dylid cyflwyno Pecynnau Mesur Buddion Cymunedol bob blwyddyn ar y dyddiad y dechreuodd y prosiect neu ar ddiwedd y contract ar gyfer contractau sy'n para llai na 2 flynedd/24 mis. Cadarnhewch y dyddiad dechrau a'r dyddiad dod i ben ar gyfer y cyfnod a gwmpesir gan y cyflwyniad hwn.
B21: OS YW'R CYFLWYNIAD HWN AR GYFER 1 FLWYDDYN O GONTRACT AMLFLWYDD, PA FLWYDDYN A GWMPESIR GAN Y CYFLYWNIAD HWN? (e.e. Blwyddyn 1 o 1, Blwyddyn 1 o 2, Blwyddyn 2 o 2 ) | D21: Os yw'r cyflwyniad yn cwmpasu cyfnod llawn y contract, nodwch Flwyddyn 1 o 1. Ar gyfer cyflwyniadau sy'n rhan o gontractau amlflwydd, nodwch y flwyddyn a gwmpesir gan y cyflwyniad e.e. Blwyddyn 1 o 2; Blwyddyn 2 o 2 ac ati. Ar gyfer cyflwyniadau sy'n cwmpasu sawl blwyddyn, nodwch y blynyddoedd a gwmpesir gan y cyflwyniad e.e. Blynyddoedd 1 i 3 neu flynyddoedd 1,2,3 | F21: Year 1 of a 1 year contract / framework | G21: Year 1 of a 2 year contract / framework | H21: Year 2 of a 2 year contract / framework | I21: Year 1 of a 3 year contract / framework | J21: Year 2 of a 3 year contract / framework | K21: Year 3 of a 3 year contract / framework | L21: Year 1 of a 4 year contract / framework | M21: Year 2 of a 4 year contract / framework | N21: Year 3 of a 4 year contract / framework | O21: Year 4 of a 4 year contract / framework
C22: MANYLION CYSWLLT
B23: DYDDIAD CWBLHAU'R PECYN HWN (DD/MM/BBBB)
B24: ENW'R UNIGOLYN SY'N CYFLWYNO'R PECYN HWN | D24: Ysgrifennwch enw'r unigolyn sy'n cyflwyno'r pecyn mesur hwn mewn PRIFLYTHRENNAU. (Os oes gennych lofnod digidol, gellir ei fewnosod yn y blwch llofnodi) Dim ond er mwyn egluro data / gwybodaeth yn y cyflwyniad, os bydd angen, y defnyddir y manylion cyswllt personol hyn.
B25: CYFEIRIAD E-BOST
B26: RHIF FFÔN CYSWLLT
B27: YMHOLIADAU A CHYFLWYNIADAU
B28: Dylid cyflwyno Pecynnau Mesur wedi'u cwblhau i: | C28: Tîm Polisi Masnachol a Chyflenwi Masnachol Llywodraeth Cymru PolisiMasnachol@llyw.cymru
B29: Os bydd gennych ymholiadau ynglŷn â'r Pecyn Mesur neu unrhyw agwedd ar Bolisi Buddion Cymunedol, cysylltwch â:
B30: RHEOLI FERSIYNAU | C30: FERSIWN 10.2 - 29/06/2023

Sheet 1. CYFFREDINOL
B2: 1: GWYBODAETH GYFFREDINOL AM Y CONTRACT | J2: CANLLAWIAU
B3: 1.1 | C3: Dewiswch y categori sy'n disgrifio natur y contract orau o'r gwymplen. | I3: ADEILADU (adeiladau) | J3: Bwriedir i'r fersiwn hon o'r Pecyn Mesur Buddion Cymunedol wneud y canlynol: • Helpu cyrff yny sector cyhoeddus yng Nghymru i gofnodi canlyniadau contractrau ar gyfer Gwaith (Adeiladu neu seilwaith), Gwasanaethau neu Gyflenwi Nwyddau y mae amcanion Buddion Cymunedol wedi'u cynllunio ynddynt • Dangos sut mae'r canlyniadau hyn yn helpu i gyflawni Nodau Llesiant Deddf Llesiant Cenedlaethau'r Dyfodol 2015 (Deddf LlCD). Gweler y daflen ar Fuddion Cymunedol a Deddf LlCD 2015 am fanylion | N3: ADEILADU (adeiladau) | O3: SEILWAITH (Peirianneg sifil) | P3: CYFLENWI NWYDDAU | Q3: GWASANAETHAU
A4: 1. Cymru lewyrchus | B4: 1.2 | C4: A yw'r Contractwr wedi'i leoli yng Nghymru? | I4: NA | J4: Ystyrir bod Contractwr wedi'i leoli yng Nghymru os yw'n darparu'r rhan fwyaf o'r nwyddau neu'r gwasanaethau neu'n cyflawni'r rhan fwyaf o'r gwaith sy'n ymwneud â'r contract hwn o swyddfa neu swyddfeydd sydd wedi'u lleoli mewn codau post y mae'r llythrennau CF, CH, HR, LD, LL, NP, SA, ac SY wedi'u rhagddodi iddynt. | L4: YDY | M4: NA | O4: =SUMIF(I4, "YDY",I7) -> 0
B5: 1.3 | C5: Nodwch werth y gwariant sy'n ymwneud â nwyddau, gwasanaethau a gorbenion ar gyfer y cyfnod a gwmpesir gan y cyflwyniad hwn. | J5: Dylai'r ffigur hwn gynnwys costau sy'n gysylltiedig â gorbenion sy'n gysylltiedig â'r prosiect neu'r contract, megis costau gweithredu, er enghraifft, Cyllid, Yswiriant neu TG, yn ogystal â chostau sy'n gysylltiedig â Chyflenwyr ac isgontractwyr.
B6: 1.4 | C6: Nodwch werth y gwariant sy'n ymwneud â staff a llafur ar gyfer y cyfnod a gwmpesir gan y cyflwyniad hwn. | J6: Costau sy'n gysylltiedig â chyflogeion, ymgynghorwyr a gweithwyr eraill. Os nad ydych yn siŵr, rhowch amcangyfrif gan ddefnyddio'r data diweddaraf sydd ar gael.
B7: 1.5 | C7: CYFANSWM y gwariant ar gyfer y cyfnod a gwmpesir gan y cyflwyniad hwn. Gwariant ar nwyddau, gwasanaethau a gorbenion, ynghyd â gwariant ar staff a llafur) | I7: =SUM(I5:I6) -> 0 | J7: Dyma gyfanswm y gwariant dros y 12 mis blaenorol, sef cyfanswm gwerth y nwyddau, y gwasanaethau a'r gorbenion a'r staff a'r llafur a nodwyd uchod.
B8: CYFARWYDDYD: Ar ôl i chi gwblhau'r daflen waith uchod, ewch i'r daflen waith CADWYN GYFLENWI.

Sheet 2. CADWYN GYFLENWI
B2: 2: CADWYN GYFLENWI | J2: CANLLAWIAU | K2: SYLWADAU
A3: 1. Cymru lewyrchus | B3: 2.1 | C3: Dyma'r gyfran o'r contract rydych wedi nodi ei bod yn ymwneud â nwyddau, gwasanaethau a gorbenion ar gyfer y cyfnod a gwmpesir gan y cyflwyniad hwn. | I3: ='1. CYFFREDINOL'!I5 -> 0
B4: 2.2 | C4: O'r gwerth uchod (2.1), faint a wariwyd ar fusnesau sydd wedi'u lleoli yng Nghymru sy'n darparu nwyddau, gwasanaethau neu orbenion yn ystod y cyfnod a gwmpesir gan y cyflwyniad hwn. | J4: Dylech ystyried bod busnesau wedi'u lleoli yng Nghymru yn fusnesau sy'n darparu'r rhan fwyaf o'r nwyddau neu'r gwasanaethau neu sy'n cyflawni'r rhan fwyaf o'r gwaith sy'n ymwneud â'r contract hwn o swyddfa neu swyddfeydd mewn codau post y mae'r llythrennau CF, CH, HR, LD, LL, NP, SA, ac SY wedi'u rhagddodi iddynt.
C5: Y ganran a wariwyd ar fusnesau wedi'u lleoli yng Nghymru yn ystod y cyfnod a gwmpesir gan y cyflwyniad hwn? | I5: =I4/I3 -> #DIV/0! | J5: Os nad yw'r % yn cyfateb i 100%, defnyddiwch y maes testun ar y dde i roi crynodeb byr o'r ffordd rydych yn creu cyfleoedd i fusnesau sydd wedi'u lleoli yng Nghymru.
B6: 2.3 | C6: O'r gwerth a nodwyd yn 2.2, pa werth a wariwyd ar fusnesau bach a chanolig (BBaChau) sydd wedi'u lleoli yng Nghymru yn ystod y cyfnod a gwmpesir gan y cyflwyniad hwn? | J6: Mae BBaChau yn sefydliadau sy'n cydymffurfio â rheoliadau'r UE ynghylch partneriaethau a chysylltiadau â sefydliadau eraill, sydd â llai na 250 o gyflogeion ac sydd â throsiant blynyddol o lai na €50 miliwn neu gyfanswm ar y fantolen sy'n llai na €43 miliwn.
C7: Canran yr arian a wariwyd ar fusnesau wedi'u lleoli yng Nghymru a wariwyd ar BBaChau wedi'u lleoli yng Nghymru, yn ystod y cyfnod a gwmpesir gan y cyflwyniad hwn? | I7: =I6/I4 -> #DIV/0! | J7: Os nad yw'r % yn cyfateb i 100%, defnyddiwch y maes testun ar y dde i roi crynodeb byr o'r ffordd rydych yn creu cyfleoedd i BBaChau sydd wedi'u lleoli yng Nghymru.
B8: 2.4 | C8: O'r gwerth a nodwyd yn 2.2, pa werth a wariwyd ar Fentrau yn y Trydydd Sector sydd wedi'u lleoli yng Nghymru yn ystod y cyfnod a gwmpesir gan y cyflwyniad hwn? | J8: Mae Mentrau yn y Trydydd Sector yn fusnesau nid er elw sy'n masnachu at ddibenion cymdeithasol neu amgylcheddol. Mae Mentrau nid er elw yn y Trydydd Sector yn tueddu i fod yn fentrau cymdeithasol neu'n fentrau/ffatrïoedd â chymorth. Mae Mentrau yn y Trydydd Sector yn tueddu i fod yn sefydliadau yn y sector cymunedol a gwirfoddol.
C9: Canran yr arian a wariwyd ar fusnesau wedi'u lleoli yng Nghymru a wariwyd ar Fentrau yn y Trydydd Sector wedi'u lleoli yng Nghymru yn ystod y cyfnod a gwmpesir gan y cyflwyniad hwn? | I9: =I8/I4 -> #DIV/0! | J9: Os nad yw'r % yn cyfateb i 100%, defnyddiwch y maes testun ar y dde i roi crynodeb byr o'r ffordd rydych yn creu cyfleoedd i Fentrau yn y Trydydd Sector sydd wedi'u lleoli yng Nghymru.
B10: 2.5 | C10: Os gwnaethoch ddefnyddio isgontractwyr ar y contract hwn, pa ganran a dalwyd o fewn 30 diwrnod yn ystod y cyfnod a gwmpesir gan y cyflwyniad hwn? | I10: 0 | J10: O ystyried y gyfran uchel o Fusnesau Bach a Chanolig (BBaChau) yng Nghymru ac effaith andwyol taliadau araf neu ohiriedig ar hyfywedd busnesau o'r fath pan fyddant yn cefnogi prosiectau caffael fel isgontractwyr, mae'n hanfodol bod cyrff yn y sector cyhoeddus yng Nghymru yn sicrhau bod taliadau teg a phrydlon yn cael eu gwneud ym mhob rhan o gadwyni cyflenwi sy'n gysylltiedig â'u contractau. Dylai cyrff yn y sector cyhoeddus, o leiaf, sicrhau bod isgontractwyr yn cael eu talu o fewn 30 diwrnod yn unol â thelerau talu'r sector cyhoeddus. Os nad ydych yn defnyddio isgontractwyr ar y contract hwn, gadewch y blwch hwn yn wag
B11: 2.6 | C11: A yw Cyfrif Banc Prosiect yn cael ei ddefnyddio ar y prosiect hwn? | I11: NA | J11: Mae Cyfrifon Banc Prosiect yn system dalu sy'n sicrhau bod partneriaid mewn cadwyn gyflenwi sydd wedi cofrestru â'r cyfrif yn cael eu talu o fewn 30 diwrnod. I gael rhagor o wybodaeth am Gyfrifon Banc Prosiect, cysylltwch â blwch post Tîm Polisi Masnachol a Chyflenwi Masnachol Llywodraeth Cymru PolisiMasnachol@llyw.cymru | M11: YDY | N11: NA

Sheet 3. CYFLOGAETH
B2: 3: CYFLOGAETH | J2: CANLLAWIAU | K2: SYLWADAU
A3: 1. Cymru lewyrchus | B3: 3.1 | C3: Dyma'r gyfran o'r contract rydych wedi nodi ei bod yn ymwneud â staff a llafur ar gyfer y cyfnod a gwmpesir gan y cyflwyniad hwn? | I3: ='1. CYFFREDINOL'!I6 -> 0
B4: 3.2 | C4: O'r gwerth uchod (3.1), faint a wariwyd ar bobl sy'n byw yng Nghymru ac sy'n/a oedd yn cael eu cyflogi o ganlyniad i'r contract hwn yn ystod y cyfnod a gwmpesir gan y cyflwyniad hwn? | J4: Dylech ystyried pobl sy'n byw yng Nghymru yn seiliedig ar eu lleoliad preswyl hysbys, eu cyfeiriad anfonebu neu eu cyfeiriad cyflogres. Mae codau post sy'n dechrau gyda'r codau canlynol yn gymwys fel rhai sydd yng Nghymru: CF, CH, HR, LD, LL, NP, SA, ac SY. Dylech ystyried y bobl hynny sy'n cael eu cyflogi mewn perthynas â'r prosiect neu'r contract yn unig, ac nid gweithrediadau cyffredinol y cwmni. | AS4: YDY | AT4: NA
C5: Y ganran a wariwyd ar gyflogau i bobl sy'n byw yng Nghymru | I5: =I4/I3 -> #DIV/0!
B6: 3.3 | C6: A yw'r contract hwn wedi galluogi'r Contractwr neu'r isgontractwyr i gadw staff a fyddai wedi cael eu diswyddo heb y gwaith a ddarparwyd gan y contract hwn yn ystod y cyfnod a gwmpesir gan y cyflwyniad hwn? | I6: YDY | J6: Staff a gedwir yw, 'Staff a fyddai wedi cael eu diswyddo heb y gwaith a ddarparwyd gan y contract hwn ar gyfer y cyfnod a gwmpesir gan y cyflwyniad hwn' Dylai Sefydliadau yn y Sector Cyhoeddus fodloni eu hunain bod hyn yn wir. | AS6: YDY | AT6: NA
B7: 3.4 | C7: Faint o'r aelodau o staff, yn 3.3 a gadwyd oherwydd y contract hwn sy'n byw yng Nghymru? | I7: 2
A8: 4. Cymru sy'n fwy cyfartal | B8: 3.5 | C8: Faint o bobl sydd wedi cael eu cyflogi gan y Contractwr a/neu'r isgontractwyr, sy'n byw yng Nghymru, a oedd yn ddi-waith cyn hynny yn ystod y cyfnod a gwmpesir gan y cyflwyniad hwn? | I8: 10 | J8: Nodwch nifer y bobl, sy'n byw yng Nghymru, sydd wedi cael eu cyflogi yn ystod y cyfnod a gwmpesir gan y cyflwyniad hwn, ac a oedd yn ddi-waith cyn hynny.
B9: CYFARWYDDYD – Yn seiliedig ar eich ateb i 3.5 uchod, cwblhewch res ar gyfer pob unigolyn sy'n byw yng Nghymru a oedd yn ddi-waith cyn cael swydd o ganlyniad i'r contract hwn. O'r gwymplen dewiswch am faint o amser (mewn wythnosau) yr oedd yr unigolyn yn ddi-waith cyn iddo gael ei gyflogi gan Ddarparwr y Gwasanaeth/y Cyflenwr a/neu'r isgontractwyr. Yn olaf, nodwch a yw Darparwr y Gwasanaeth/y Cyflenwr a/neu'r isgontractwyr yn bwriadu parhau i gyflogi'r unigolyn ar ôl i'r contract gael ei gwblhau. Rhoddir diffiniadau o Weithwyr Anabl, Difreintiedig a Difreintiedig Iawn yn y blychau sylwadau yng nghelloedd H14 i J14. Daw'r diffiniadau hyn o Reoliad y Comisiwn (UE) Rhif 651/2014 dyddiedig 17 Mehefin 2014 ac Erthygl 2 Diffiniad o weithiwr difreintiedig iawn Erthygl 2.19 o Reoliad (CE) 800/2008. | O9: YDY | P9: NA | R9: 3 | S9: 4 | T9: 5 | U9: 6 | V9: 7 | W9: 8 | X9: 9 | Y9: 10 | Z9: 11 | AA9: 12 | AB9: 13 | AC9: 14 | AD9: 15 | AE9: 16 | AF9: 17 | AG9: 18 | AH9: 19 | AI9: 20 | AJ9: 21 | AK9: 22 | AL9: 23 | AM9: 24 | AN9: 25 | AO9: 26
B10: 3.6 | C10: Cyflogi pobl ddi-waith (tymor y contract a hirdymor) Peidiwch â chofnodi enwau'r rhai sy'n cael eu cyflogi isod ond sicrhewch y gall eich cofnodion groesgyfeirio 'unigolion 1, 2 3 ac ati' er mwyn sicrhau bod gwybodaeth bersonol yn cael ei diogelu ond y gellir ei harchwilio'n briodol. | F10: A oedd yr unigolyn hwn yn DDI-WAITH am hyd at 6 mis yn union cyn iddo gael ei gyflogi? | I10: A fyddai'r unigolyn hwn wedi cael ei ystyried yn DDIFREINTIEDIG cyn iddo gael ei gyflogi ar gyfer y contract hwn? h.y. a oedd yn ddi-waith am 6 mis neu fwy ond am lai na 24 mis neu a yw'n perthyn i un o'r categorïau yn y diffiniad o weithwyr difreintiedig | J10: A fyddai'r unigolyn hwn wedi cael ei ystyried yn weithiwr DIFREINTIEDIG IAWN cyn iddo gael ei gyflogi ar gyfer y contract hwn? h.y. a oedd yn ddi-waith am 24 mis neu fwy | K10: A ystyrir bod yr unigolyn hwn yn weithiwr ANABL? | L10: A fydd y contractwr a/neu'r isgontractwyr yn parhau i gyflogi'r unigolyn hwn ar ôl y contract presennol?
C11: 1 | Q11: YDY | R11: NA | S11: Dd/G | AQ11: =IF(F11>0,(AR$11-F11)*AR$12,) -> 0 | AR11: 26
C12: 2 | AQ12: =IF(H12>0,(AR$11-H12)*AR$12,) -> 0 | AR12: =NEWIDYNNAU!#REF! -> #REF!
C13: 3 | AQ13: =IF(H13>0,(AR$11-H13)*AR$12,) -> 0
C14: 4 | AQ14: =IF(H14>0,(AR$11-H14)*AR$12,) -> 0
C15: 5 | AQ15: =IF(H15>0,(AR$11-H15)*AR$12,) -> 0
C16: 6 | AQ16: =IF(H16>0,(AR$11-H16)*AR$12,) -> 0
C17: 7 | AQ17: =IF(H17>0,(AR$11-H17)*AR$12,) -> 0
C18: 8 | AQ18: =IF(H18>0,(AR$11-H18)*AR$12,) -> 0
C19: 9 | AQ19: =IF(H19>0,(AR$11-H19)*AR$12,) -> 0
C20: 10 | AQ20: =IF(H20>0,(AR$11-H20)*AR$12,) -> 0
C21: 11 | AQ21: =IF(H21>0,(AR$11-H21)*AR$12,) -> 0
C22: 12 | AQ22: =IF(H22>0,(AR$11-H22)*AR$12,) -> 0
C23: 13 | AQ23: =IF(H23>0,(AR$11-H23)*AR$12,) -> 0
C24: 14 | AQ24: =IF(H24>0,(AR$11-H24)*AR$12,) -> 0
... C59: 49 | AQ59: =IF(H59>0,(AR$11-H59)*AR$12,) -> 0

Sheet 4. YR AMGYLCHEDD AC ADNODDAU
B1: CYFARWYDDYD : Darparwch y wybodaeth ganlynol lle roedd yr awdurdod contractio / cleient wedi gofyn am y rhain ac maent wedi'u cyflawni o ganlyniad uniongyrchol i'r contract/prosiect hwn.
B2: 4: YR AMGYLCHEDD AC ADNODDAU | K2: CANLLAWIAU | L2: SYLWADAU
A3: 1. Cymru lewyrchus | B3: 4.1 | C3: Sawl tunnell o wastraff a gynhyrchwyd yn ystod y cyfnod a gwmpesir gan y cyflwyniad hwn? | K3: Dyma gyfanswm y tunelli o wastraff a gynhyrchwyd o ganlyniad i'r contract yn ystod y cyfnod a gwmpesir gan y cyflwyniad hwn.
B4: 4.2 | C4: Sawl tunnell o DDEUNYDD CYMWYS cyfradd ISAF y mae Darparwr y Gwasanaeth/y Cyflenwr wedi'u dargyfeirio o safle tirlenwi i'w ailddefnyddio neu ei ailgylchu fel rhan o'r contract hwn yn ystod y cyfnod a gwmpesir gan y cyflwyniad hwn? | K4: Dylech ystyried bod unrhyw 'wastraff' a gynhyrchwyd o ganlyniad i'r contract hwn yn wastraff y gellid ei ddargyfeirio o safleoedd tirlenwi i'w ailddefnyddio neu ei ailgylchu. DEUNYDDIAU CYMWYS yw'r rhai a restrir yn Neddf Treth Gwarediadau Tirlenwi (Cymru) 2017 ATODLEN 1 : DEUNYDDIAU PENODEDIG AC AMODAU ac y codir tâl amdanynt ar y GYFRADD ISAF pan gânt eu hanfon i safle tirlenwi
B5: 4.3 | C5: Sawl tunnell o Ddeunydd gwastraff cyfradd SAFONOL y mae Darparwr y Gwasanaeth/y Cyflenwr wedi'u dargyfeirio o safle tirlenwi i'w ailddefnyddio neu ei ailgylchu fel rhan o'r contract hwn yn ystod y cyfnod a gwmpesir gan y cyflwyniad hwn? | K5: Dylech ystyried bod unrhyw 'wastraff' a gynhyrchwyd o ganlyniad i'r contract hwn yn wastraff y gellid ei ddargyfeirio o safleoedd tirlenwi i'w ailddefnyddio neu ei ailgylchu. DEUNYDDIAU SAFONOL yw'r rhai nad ydynt yn cyd-fynd â'r manylebau ar gyfer Deunyddiau Cymwys ac Amodau fel y'u nodir yn Atodlen 1 i Ddeddf Treth Gwarediadau Tirlenwi (Cymru) 2017 a restrir yn ATODLEN 1 i Ddeddf Treth Gwarediadau Tirlenwi (Cymru) 2017: DEUNYDDIAU PENODEDIG AC AMODAU ac y codir tâl amdanynt ar y GYFRADD SAFONOL pan gânt eu hanfon i safle tirlenwi
B6: 4.4 | C6: Pa ganran o'r gwastraff a gynhyrchwyd y mae'r Contractwr / y Cyflenwr / Darparwr y Gwasanaeth wedi'i ddargyfeirio o safle tirlenwi fel rhan o'r contract hwn yn ystod y cyfnod a gwmpesir gan y cyflwyniad hwn? | I6: =(I4+I5)/I3 -> #DIV/0! | K6: Y ffigur hwn fydd y ganran, bydd angen i chi gyfrifo neu amcangyfrif cyfanswm y tunelli o wastraff a gynhyrchwyd o ganlyniad i'r contract hwn a pha ganran o'r gwastraff hwnnw a ddargyfeiriwyd o safle tirlenwi Cyfanswm y gwastraff a gynhyrchwyd yn ystod y cyfnod a gwmpesir gan y cyflwyniad hwn
B7: 4.5 | C7: Sawl metr ciwbig o ddŵr a arbedwyd drwy fentrau i leihau'r defnydd o ddŵr fel rhan o'r contract hwn yn ystod y cyfnod a gwmpesir gan y cyflwyniad hwn? | K7: Gall mesurau i leihau'r defnydd o ddŵr gynnwys, er enghraifft, ddefnyddio casgenni dŵr, cydrannau sy'n arbed dŵr neu fesurau cynaliadwy eraill. Rhaid cyflwyno'r ffigur hwn mewn metrau ciwbig. 1 metr ciwbig = 1000 litr.

Sheet 5. CYMUNEDOL AC ADDYSGOL
B1: CYFARWYDDYD : Darparwch y wybodaeth ganlynol lle roedd y Sefydliad Sector Cyhoeddus wedi gofyn am y rhain ac maent wedi'u cyflawni o ganlyniad uniongyrchol i'r contract/prosiect hwn.
B2: 5: MENTRAU CYMUNEDOL AC ADDYSGOL | J2: CANLLAWIAU | K2: SYLWADAU
A3: 5. Cymru o gymunedau cydlynus | B3: 5.1 | C3: Faint o gyfraniadau arian parod neu nawdd a roddodd y contractwr a/neu'r isgontractwyr i sefydliadau neu brosiectau cymunedol neu addysgol sydd wedi'u lleoli yng Nghymru yn ystod y cyfnod a gwmpesir gan y cyflwyniad hwn? DS Dylid cofnodi cyfraniadau arian parod neu nawdd i gefnogi gweithgareddau diwylliannol neu chwaraeon ar y daflen DIWYLLIANT | J3: Dim ond rhoddion ar ffurf arian parod a nawdd y dylech eu hystyried ar gyfer y cwestiwn hwn. Gall hyn gynnwys arian parod neu nawdd a roddwyd gan sefydliadau eraill o ganlyniad i ymdrechion y contractwr a/neu'r isgontractwyr. Ymdrinnir â rhoddion ar ffurf adnoddau ('in-kind') heblaw arian ar wahân. Defnyddiwch y maes ar y dde i roi manylion am y ffordd y cafodd y cyfraniadau arian parod eu dosbarthu a'u defnyddio.
B4: 5.2 | C4: Beth yw gwerth amcangyfrifedig llafur gwirfoddol ('in-kind'); yr amser a dreuliwyd gan bersonél / staff yn ystod y cyfnod a gwmpesir gan y cyflwyniad hwn yn cefnogi gweithgareddau megis gwaith cymunedol, cyfraniadau at addysg (e.e gweithgareddau i gefnogi pynciau STEM GWELER 5.6 ISOD; sesiynau yn yr ystafell ddosbarth neu ymweliadau â safleoedd) a gweithgareddau gwirfoddoli eraill? DS Dylid cofnodi gwerth amcangyfrifedig llafur gwirfoddol ('in-kind') i gefnogi gweithgareddau diwylliannol neu chwaraeon ar y daflen DIWYLLIANT | J4: Nodwch ffigur ariannol yn seiliedig ar nifer yr oriau a gyfrannwyd. Dylai gynnwys unrhyw adnoddau llafur gwirfoddol ('in-kind') ychwanegol a ddefnyddiwyd o ganlyniad i weithgarwch ymgysylltu Darparwr y Gwasanaeth/y Cyflenwr a/neu'r isgontractwyr â'r gymuned. Dylai'r ffigur hwn fod yn seiliedig ar y cyflog fesul awr neu flynyddol ar gyfer y staff dan sylw. Er mwyn cyfrifo cyfradd fesul awr ar gyfer staff y telir cyflog iddynt, rhannwch y cyflog blynyddol â 1,950. Mae hyn yn cynrychioli wythnos 37.5 awr gan gynnwys gwyliau â thâl. Defnyddiwch y maes ar y dde i ddarparu gwybodaeth am y gweithgareddau a gefnogwyd.
B5: 5.3 | C5: Beth yw gwerth amcangyfrifedig cyfraniadau eraill ('in-kind') yn ystod y cyfnod a gwmpesir gan y cyflwyniad hwn i gefnogi gweithgareddau megis gwaith cymunedol, cyfraniadau at addysg (e.e. gweithgareddau i gefnogi pynciau STEM GWELER 5.6 ISOD; sesiynau yn yr ystafell ddosbarth neu ymweliadau â safleoedd) a gweithgareddau gwirfoddoli eraill? DS Dylid cofnodi gwerth cyfraniadau eraill ('in-kind') i gefnogi gweithgareddau diwylliannol neu chwaraeon ar y daflen DIWYLLIANT | J5: Mae enghreifftiau yn cynnwys defnyddio peiriannau a pheirianwaith am ddim, rhoddion ar ffurf cyfarpar diangen neu gyfarpar dros ben, cynhyrchion traul nas gwerthwyd a defnyddio cyfleusterau corfforaethol am ddim. Gall hyn gynnwys rhoddion ('in-kind') o unrhyw fath gan sefydliadau eraill a gafwyd o ganlyniad i ymdrechion y Contractwr a/neu'r isgontractwyr. Defnyddiwch y maes ar y dde i ddarparu unrhyw dystiolaeth sydd ar gael sy'n ategu'r amcangyfrif o werth y cyfraniadau eraill ('in-kind') ar y farchnad. | K5: Darparwch unrhyw dystiolaeth sydd ar gael sy'n ategu'r amcangyfrif o werth y cyfraniadau eraill ('in-kind') ar y farchnad.
A6: 1. Cymru lewyrchus | B6: 5.4 | C6: A gafodd gweithgareddau addysgol yn gysylltiedig â phynciau STEM (Gwyddoniaeth, Technoleg, Peirianneg a Mathemateg) eu cefnogi yn ystod y cyfnod a gwmpesir gan y cyflwyniad hwn? Gall y rhain fod yn gysylltiedig â llafur gwirfoddol neu gyfraniadau Cymunedol neu Addysgol eraill mewn nwyddau a gofnodwyd yn 5.1 neu 5.2 uchod? | J6: Os mai 'DO' yw'r ateb, cwblhewch y llinellau perthnasol isod ar gyfer gweithgareddau sy'n gysylltiedig â phynciau STEM er mwyn nodi'r canlynol; a) nifer y sesiynau yn ôl pwnc b) nifer y disgyblion / myfyrwyr a gafodd fudd o'r sesiynau hyn yn ystod y cyfnod a gwmpesir gan y cyflwyniad hwn | M6: YDY | N6: NA
B7: 5.5 | C7: Nifer y gwersi / gweithgareddau Gwyddoniaeth a gefnogwyd | J7: Rhowch fanylion y gweithgareddau gwyddoniaeth a gefnogwyd yn y blwch Sylwadau =========>
B8: 5.6 | C8: Nifer y disgyblion / myfyrwyr a gafodd fudd o wersi / gweithgareddau Gwyddoniaeth a gefnogwyd | J8: Rhowch fanylion y gweithgareddau gwyddoniaeth a gefnogwyd yn y blwch Sylwadau =========>
B9: 5.7 | C9: Nifer y gwersi / gweithgareddau Technoleg a gefnogwyd | J9: Rhowch fanylion y gweithgareddau gwyddoniaeth a gefnogwyd yn y blwch Sylwadau =========>
B10: 5.8 | C10: Nifer y disgyblion / myfyrwyr a gafodd fudd o wersi / gweithgareddau Technoleg a gefnogwyd | J10: Rhowch fanylion y gweithgareddau gwyddoniaeth a gefnogwyd yn y blwch Sylwadau =========>
B11: 5.9 | C11: Nifer y gwersi / gweithgareddau Peirianneg a gefnogwyd | J11: Rhowch fanylion y gweithgareddau gwyddoniaeth a gefnogwyd yn y blwch Sylwadau =========>
B12: 5.1 | C12: Nifer y disgyblion / myfyrwyr a gafodd fudd o wersi / gweithgareddau Peirianneg a gefnogwyd | J12: Rhowch fanylion y gweithgareddau gwyddoniaeth a gefnogwyd yn y blwch Sylwadau =========>
B13: 5.11 | C13: Nifer y gwersi / gweithgareddau Mathemateg a gefnogwyd | J13: Rhowch fanylion y gweithgareddau gwyddoniaeth a gefnogwyd yn y blwch Sylwadau =========>
B14: 5.12 | C14: Nifer y disgyblion / myfyrwyr a gafodd fudd o wersi / gweithgareddau Mathemateg a gefnogwyd | J14: Rhowch fanylion y gweithgareddau gwyddoniaeth a gefnogwyd yn y blwch Sylwadau =========>

Sheet 6. DIWYLLIANT
B1: CYFARWYDDYD : Darparwch y wybodaeth ganlynol lle roedd y Sefydliad Sector Cyhoeddus wedi gofyn am y rhain ac maent wedi'u cyflawni o ganlyniad uniongyrchol i'r contract/prosiect hwn.
B2: 6: DIWYLLIANT (Iaith, diwylliant a chwaraeon) | J2: CANLLAWIAU | K2: SYLWADAU
B3: IAITH
A4: 6. Cymru â diwylliant bywiog lle mae'r Gymraeg yn ffynnu | B4: 6.1 | C4: Beth yw'r nifer gofynnol o staff a all siarad/ysgrifennu Cymraeg sydd ei angen neu a argymhellir, i gyflawni'r contract hwn? | J4: Caiff y nifer hwn; y gallu i siarad, ysgrifennu neu siarad ac ysgrifennu a'r lefel o hyfedredd sydd ei hangen eu nodi gan y Sefydliad Sector Cyhoeddus neu cytunir arnynt gan y Sefydliad Sector Cyhoeddus a'r contractwr yn seiliedig ar asesiad o'r galw presennol neu ragamcanol gan ddefnyddwyr gwasanaethau i gyfathrebu drwy gyfrwng y Gymraeg ar gyfer y contract hwn. | K4: Lefel 3 – Canolradd (yn cyfateb i TGAU) Siarad Cymraeg i lefel 3 = 'Gall gymryd rhan mewn rhai sgyrsiau sy'n gysylltiedig â gwaith' Ysgrifennu Cymraeg i lefel 3 = 'Gall baratoi deunydd arferol sy'n gysylltiedig â gwaith os caiff ei wirio' Lefel 4 – Uwch (yn cyfateb i Safon Uwch) Siarad Cymraeg i lefel 4 = 'Gall gymryd rhan yn y rhan fwyaf o sgyrsiau sy'n gysylltiedig â gwaith'? Ysgrifennu Cymraeg i lefel 4 - 'Gall baratoi'r rhan fwyaf o waith ysgrifenedig yn Gymraeg'? | L4: Is this too subjective? Do we need an objective measure, NVQ level ? for example? The proficiency levels in the Commentary box are based on the advice in the embedded Word doc Welsh Language Skill Levels from Fiona Marston (Fiona.Marston@gov.wales) | R4: CANLLAWIAU YCHWANEGOL Dylai unrhyw ofyniad o ran hyfedredd mewn siarad a/neu ysgrifennu Cymraeg gael ei bennu a'i gyfiawnhau fel rhan o'r strategaeth gaffael ar gyfer y contract dan sylw.
B5: 6.2 | C5: Sawl aelod o staff sy'n delio â chwsmeriaid / y cyhoedd ac sydd â'r lefel ofynnol o hyfedredd yn y Gymraeg a fu'n gweithio ar y contract hwn ar gyfer y cyfnod a gwmpesir gan y cyflwyniad hwn? | J5: Dylid defnyddio'r metrig hwn i fonitro nifer yr aelodau o staff sy'n siarad / ysgrifennu Cymraeg os bwriedir pennu neu argymell nifer gofynnol o siaradwyr Cymraeg yn seiliedig ar y galw presennol neu ragamcanol gan ddefnyddwyr gwasanaethau i gyfathrebu drwy gyfrwng y Gymraeg. | L5: What is the minimum number of staff required or recommended, to service this contract who are able to speak Welsh to level 4 - 'Can converse in most work related conversations'?
B6: 6.3 | C6: Pa ganran o'r staff sy'n delio â chwsmeriaid / y cyhoedd ac sydd â'r lefel ofynnol o hyfedredd yn y Gymraeg a fu'n gweithio ar y contract hwn ar gyfer y cyfnod a gwmpesir gan y cyflwyniad hwn? | I6: =I5/I4 -> #DIV/0! | J6: Dyma ganran y staff sy'n delio â chwsmeriaid / y cyhoedd a all siarad a/neu ysgrifennu Cymraeg o gymharu â'r gofyniad yn 6.1 uchod
B7: DIWYLLIANT
B8: 6.4 | C8: A yw'r contract wedi cefnogi gweithgareddau diwylliannol yng Nghymru? | J8: Rhestrwch unrhyw weithgareddau Diwylliannol a gefnogwyd yn y blwch Sylwadau ar y dde ------------------>>>>>>>>>>> Sut mae gweithgareddau diwylliannol yng Nghymru yn cael eu diffinio? Bydd y rhain yn weithgareddau sydd wedi'u cynllunio i wneud y canlynol: • Diogelu – asedau treftadaeth e.e. tirweddau, adeiladau, cofebau, parciau, gerddi ac ati • Hyrwyddo – defnyddio / mynychu / gwerthfawrogi / mynediad i Asedau treftadaeth e.e. tirweddau, adeiladau, cofebau, parciau, gerddi gan gynnwys safleoedd CADW a'r Ymddiriedolaeth Genedlaethol, treftadaeth ddiwydiannol – rheilffyrdd a chamlesi hanesyddol ac ati, Amgueddfeydd, archifau a llyfrgelloedd Y celfyddydau (mynychu) e.e. y theatr, perfformiadau, dawns, cerddoriaeth, orielau Chwaraeon (mynychu) e.e. digwyddiadau chwaraeon lleol neu genedlaethol • Cyfranogi – annog neu gynyddu cyfranogiad yn Y Celfyddydau (cyfranogi) e.e. y theatr, perfformiadau, dawns, cerddoriaeth, orielau, ac mewn Chwaraeon (cyfranogi) e.e. o chwaraeon elît i weithgareddau hamdden cyffredinol yn yr awyr agored e.e. cerdded, heicio, beicio | M8: YDY | N8: NA
B9: 6.5 | C9: Faint o gyfraniadau arian parod neu nawdd a roddodd y contractwr a/neu'r isgontractwyr i gefnogi sefydliadau neu brosiectau gweithgareddau diwylliannol sydd wedi'u lleoli yng Nghymru yn ystod y cyfnod a gwmpesir gan y cyflwyniad hwn? DS Dylid cofnodi cyfraniadau arian parod neu nawdd i gefnogi gweithgareddau diwylliannol neu chwaraeon ar y daflen Mentrau Cymunedol ac Addysgol | J9: Nodwch gyfanswm gwerth y cyfraniadau arian parod neu'r nawdd a roddwyd i'r holl weithgareddau diwylliannol a gefnogwyd a lle mae nifer o weithgareddau wedi'u cefnogi, rhowch ddadansoddiad o'r cyfraniad ariannol yn ôl gweithgaredd yn y maes Sylwadau ar y dde ---------------->>>>>>>>>>>
B10: 6.6 | C10: Beth yw gwerth amcangyfrifedig llafur gwirfoddol ('in-kind'); yr amser a dreuliwyd gan bersonél / staff yn ystod y cyfnod a gwmpesir gan y cyflwyniad hwn yn cefnogi gweithgareddau diwylliannol wedi'u lleoli yng Nghymru yn ystod y cyfnod a gwmpesir gan y cyflwyniad hwn? DS Dylid cofnodi gwerth y llafur gwirfoddol ('in-kind') i gefnogi gweithgareddau cymunedol neu addysgol ar y daflen Cymunedol ac Addysgol | J10: Nodwch ffigur ariannol yn seiliedig ar nifer yr oriau a gyfrannwyd. Dylai gynnwys unrhyw adnoddau llafur gwirfoddol ('in-kind') ychwanegol a ddefnyddiwyd o ganlyniad i weithgarwch ymgysylltu Darparwr y Gwasanaeth/y Cyflenwr a/neu'r isgontractwyr â'r gymuned. Dylai'r ffigur hwn fod yn seiliedig ar y cyflog fesul awr neu flynyddol ar gyfer y staff dan sylw. Er mwyn cyfrifo cyfradd fesul awr ar gyfer staff y telir cyflog iddynt, rhannwch y cyflog blynyddol â 1,950. Mae hyn yn cynrychioli wythnos 37.5 awr gan gynnwys gwyliau â thâl. • Defnyddiwch y maes ar y dde i ddarparu gwybodaeth am y gweithgareddau a gefnogwyd.
B11: 6.7 | C11: Beth yw gwerth amcangyfrifedig gwerth cyfraniadau eraill ('in-kind') i gefnogi gweithgareddau diwylliannol yn ystod y cyfnod a gwmpesir gan y cyflwyniad hwn? DS Dylid cofnodi gwerth y cymorth arall ('in-kind') a roddwyd i weithgareddau cymunedol neu addysgol ar y daflen Cymunedol ac Addysgol | J11: Mae enghreifftiau yn cynnwys defnyddio peiriannau a pheirianwaith am ddim, rhoddion ar ffurf cyfarpar diangen neu gyfarpar dros ben, cynhyrchion traul nas gwerthwyd a defnyddio cyfleusterau corfforaethol am ddim. Gall hyn gynnwys rhoddion ('in-kind') o unrhyw fath gan sefydliadau eraill a gafwyd o ganlyniad i ymdrechion y Contractwr a/neu'r isgontractwyr. • Defnyddiwch y maes ar y dde i ddarparu unrhyw dystiolaeth sydd ar gael sy'n ategu'r amcangyfrif o werth y cyfraniadau eraill ('in-kind') ar y farchnad.
B12: CHWARAEON
A13: 3. A healthier Wales | B13: 6.8 | C13: A yw'r contract wedi cefnogi gweithgareddau chwaraeon yn y gymuned? | J13: Rhestrwch unrhyw weithgareddau Chwaraeon yn y gymuned a gefnogwyd yn y blwch Sylwadau ar y dde ------------------>>>>>>>>>>> Gall y rhain fod yn weithgareddau chwaraeon gydag amcanion i annog cyfranogiad a/neu wella canlyniadau iechyd e.e. gwella symudedd, cynyddu lefelau gweithgarwch corfforol, mynd i'r afael â gordewdra, allgáu cymdeithasol
B14: 6.9 | C14: Faint o gyfraniadau arian parod neu nawdd a roddodd y contractwr a/neu'r isgontractwyr i gefnogi sefydliadau neu brosiectau gweithgareddau chwaraeon sydd wedi'u lleoli yng Nghymru yn ystod y cyfnod a gwmpesir gan y cyflwyniad hwn? | J14: Nodwch gyfanswm gwerth y cyfraniadau arian parod neu'r nawdd a roddwyd i'r holl weithgareddau chwaraeon a gefnogwyd a lle mae nifer o weithgareddau wedi'u cefnogi, rhowch ddadansoddiad o'r cyfraniad ariannol yn ôl gweithgaredd yn y maes Sylwadau ar y dde ---------------->>>>>>>>>>>
B15: 6.10 | C15: Beth yw gwerth amcangyfrifedig llafur gwirfoddol ('in-kind'); yr amser a dreuliwyd gan bersonél / staff yn ystod y cyfnod a gwmpesir gan y cyflwyniad hwn yn cefnogi gweithgareddau chwaraeon wedi'u lleoli yng Nghymru yn ystod y cyfnod a gwmpesir gan y cyflwyniad hwn? DS Dylid cofnodi gwerth llafur gwirfoddol ('in-kind') i gefnogi gweithgareddau cymunedol neu addysgol ar y daflen Cymunedol ac Addysgol | J15: Nodwch ffigur ariannol yn seiliedig ar nifer yr oriau o lafur gwirfoddol ('in-kind') a gyfrannwyd. Dylai gynnwys unrhyw adnoddau llafur gwirfoddol ychwanegol a ddefnyddiwyd o ganlyniad i weithgarwch ymgysylltu Darparwr y Gwasanaeth/y Cyflenwr a/neu'r isgontractwyr â'r gymuned. Dylai'r ffigur hwn fod yn seiliedig ar y cyflog fesul awr neu flynyddol ar gyfer y staff dan sylw. Er mwyn cyfrifo cyfradd fesul awr ar gyfer staff y telir cyflog iddynt, rhannwch y cyflog blynyddol â 1,950. Mae hyn yn cynrychioli wythnos 37.5 awr gan gynnwys gwyliau â thâl. • Defnyddiwch y maes ar y dde i ddarparu gwybodaeth am y gweithgareddau chwaraeon a gefnogwyd ---->>>>>>.
B16: 6.11 | C16: Beth yw gwerth amcangyfrifedig cyfraniadau eraill ('in-kind') i gefnogi gweithgareddau chwaraeon yn ystod y cyfnod a gwmpesir gan y cyflwyniad hwn? DS Dylid cofnodi gwerth cyfraniadau eraill ('in-kind') ar gyfer gweithgareddau cymunedol neu addysgol ar y daflen Cymunedol ac Addysgol | J16: Nodwch ffigur ariannol yn seiliedig ar werth amcangyfrifedig cyfraniadau eraill ('in-kind'). Mae enghreifftiau yn cynnwys defnyddio peiriannau a pheirianwaith am ddim, rhoddion ar ffurf cyfarpar diangen neu gyfarpar dros ben, cynhyrchion traul nas gwerthwyd a defnyddio cyfleusterau corfforaethol am ddim. Gall hyn gynnwys rhoddion ('in-kind') o unrhyw fath gan sefydliadau eraill a gafwyd o ganlyniad i ymdrechion y Contractwr a/neu'r isgontractwyr. • Defnyddiwch y maes ar y dde i ddarparu gwybodaeth am y gweithgareddau chwaraeon a gefnogwyd --->>>>. A Defnyddiwch y maes ar y dde i ddarparu unrhyw dystiolaeth sydd ar gael sy'n ategu'r amcangyfrif o werth y cyfraniadau eraill ('in-kind') ar y farchnad--->>>>.

Sheet 7. HYFFORDDIANT
B1: CYFARWYDDYD : Darparwch y wybodaeth ganlynol lle roedd y Sefydliad Sector Cyhoeddus wedi gofyn am y rhain ac maent wedi'u cyflawni o ganlyniad uniongyrchol i'r contract/prosiect hwn.
B2: NODER: 'WYTHNOSAU' yw wythnosau gwaith 5 diwrnod. Os ydych wedi cofnodi mathau o 'hyfforddiant', a restrir yma, yn nifer y diwrnodau, dylech eu trosi'n wythnosau ar y sail hon. Os yw nifer y diwrnodau yn llai nag wythnos, ychwanegwch nodyn yn y blwch Sylwadau perthnasol.
B3: 7: HYFFORDDIANT | J3: CANLLAWIAU | K3: SYLWADAU
A4: 1. Cymru lewyrchus | B4: 7.1 | C4: Faint o gyfleoedd prentisiaeth a ddechreuwyd gan bobl sy'n byw yng Nghymru fel rhan o'r contract hwn yn ystod y cyfnod a gwmpesir gan y cyflwyniad hwn? | J4: Mae prentisiaeth yn drefniant ffurfiol rhwng unigolyn 16+ oed i ennill cyflog a gweithio ochr yn ochr â staff profiadol er mwyn meithrin sgiliau swydd-benodol. Mae'n cynnwys profiad yn y gwaith yn ogystal â hyfforddiant y tu allan i'r gwaith tuag at gymhwyster a gydnabyddir yn genedlaethol mewn amrywiaeth eang o sectorau. Mae'r cwestiwn yn holi am brentisiaethau a ddechreuwyd yn hytrach nag a ddechreuwyd ac a gwblhawyd neu a gwblhawyd yn unig oherwydd, o safbwynt Buddion Cymunedol, mae creu cyfleoedd a/neu ddarparu wythnosau o brofiad gwaith sy'n cefnogi prentisiaethau sy'n mynd rhagddynt yn bwysig. Mae'r dull hwn o gofnodi cyfleoedd prentisiaeth hefyd yn cydnabod, am fod prentisiaethau yn para am o leiaf 18 mis mewn llawer o achosion, ei bod yn bosibl na fyddwch yn gallu dechrau a chwblhau yn ystod tymor eich contract. Dylid hefyd cynnwys dechrau wythnosau prentisiaethau sy'n gysylltiedig â Chynlluniau Prentisiaeth a Rennir. Defnyddiwch y maes ar y dde i ddarparu gwybodaeth, lle y bo'n bosibl, sy'n ategu'r ffigur hwn. | K4: Noder: Mae pedair lefel o Brentisiaeth ar gael, yn dibynnu ar sgiliau a chymwysterau'r ymgeisydd, sef: 1. Prentisiaethau Canolradd (lefel 2) 2. Uwch Brentisiaeth (lefel 3) 3. Prentisiaeth Uwch (lefel 4-5) 4. Gradd-Brentisiaethau (lefel 6-7) - 'gradd baglor' (lefel 6); Gradd Meistr (lefel 7). https://www.gov.uk/government/publications/higher-and-degree-apprenticeships --------------------------------
B5: 7.2 | C5: Faint o wythnosau prentisiaeth a gwblhawyd gan bobl sy'n byw yng Nghymru fel rhan o'r contract hwn yn ystod y cyfnod a gwmpesir gan y cyflwyniad hwn? | J5: Nodwch gyfanswm yr wythnosau prentisiaeth a gwblhawyd yn ystod y cyfnod a gwmpesir gan y cyflwyniad hwn. Defnyddiwch y blwch sylwadau ar y dde i ddarparu gwybodaeth, lle y bo'n bosibl, sy'n ategu'r ffigur hwn. | M5: DON'T KNOW | N5: NONE | O5: 1 | P5: 2 | Q5: 3 | R5: 4 | S5: 5 | T5: 6 | U5: 7 | V5: 8 | W5: 9 | X5: 10 | Y5: 11 | Z5: 12 | AA5: 13 | AB5: 14 | AC5: 15 | AD5: 16 | AE5: 17 | AF5: 18 | AG5: 19 | AH5: 20
A6: 4. Cymru sy'n fwy cyfartal | B6: 7.3 | C6: Faint o gyfleoedd hyfforddeiaeth a ddechreuwyd ac a gwblhawyd gan bobl sy'n byw yng Nghymru fel rhan o'r contract hwn yn ystod y cyfnod a gwmpesir gan y cyflwyniad hwn? | J6: Bwriedir i hyfforddeiaeth gefnogi pobl ifanc 16-18 oed nad ydynt Mewn Addysg, Cyflogaeth na Hyfforddiant (NEET). Bwriedir i hyfforddeiaeth gefnogi pobl ifanc sydd am weithio, ond y gall fod angen cymorth ychwanegol arnynt i ennill y sgiliau a'r profiad sydd eu hangen i symud ymlaen i brentisiaeth, swydd neu addysg bellach. Mae hyfforddeiaethau yn para rhwng 12 wythnos a 12 mis yn dibynnu ar anghenion unigolyn.
B7: 7.4 | C7: Nodwch gyfanswm yr wythnosau hyfforddeiaeth a gwblhawyd fel rhan o'r contract hwn yn ystod y cyfnod a gwmpesir gan y cyflwyniad hwn? | J7: Nodwch gyfanswm yr wythnosau hyfforddeiaeth a gwblhawyd fel rhan o'r contract hwn. Defnyddiwch y maes ar y dde i ddarparu gwybodaeth, lle y bo'n bosibl, sy'n ategu'r ffigur hwn.
B8: 7.5 | C8: Faint o gyfleoedd profiad gwaith / interneiaeth ar gyfer pobl sy'n byw yng Nghymru a ddechreuwyd ac a gwblhawyd fel rhan o'r contract hwn yn ystod y cyfnod a gwmpesir gan y cyflwyniad hwn? | J8: Gall lleoliad profiad gwaith neu interneiaeth fod yn drefniant ffurfiol neu anffurfiol i roi profiad gwaith, a all fod am dâl neu'n ddi-dâl, i unigolyn, myfyriwr fel arfer. Dylech gynnwys manylion unrhyw brofiad gwaith rydych wedi'i ddarparu i fyfyrwyr a oedd yn astudio llwybr Addysg Bellach.
B9: 7.6 | C9: Nodwch gyfanswm yr wythnosau o brofiad gwaith / interneiaeth a gwblhawyd fel rhan o'r contract hwn yn ystod y cyfnod a gwmpesir gan y cyflwyniad hwn? | J9: Nodwch gyfanswm yr wythnosau o brofiad gwaith / interneiaeth a gwblhawyd fel rhan o'r contract hwn. Defnyddiwch y maes ar y dde i ddarparu gwybodaeth, lle y bo'n bosibl, sy'n ategu'r ffigur hwn.
A10: 1. Cymru lewyrchus | B10: 7.7 | C10: Faint o leoliadau i raddedigion ar gyfer pobl sy'n byw yng Nghymru a ddechreuwyd ac a gwblhawyd fel rhan o'r contract hwn yn ystod y cyfnod a gwmpesir gan y cyflwyniad hwn? | J10: Mae lleoliad i raddedigion yn gyflogaeth sydd wedi'i thargedu at unigolion sydd wedi graddio'n ddiweddar o goleg neu Brifysgol. Dylid cofnodi cyfleoedd i israddedigion sy'n ategu eu hastudiaethau â phrofiad ymarferol o dan brofiad gwaith neu interneiaethau yn 6.7 uchod Defnyddiwch y maes ar y dde i ddarparu gwybodaeth, lle y bo'n bosibl, sy'n ategu'r ffigur hwn.
B11: 7.8 | C11: Nodwch gyfanswm yr wythnosau lleoliadau i raddedigion a gwblhawyd fel rhan o'r contract hwn yn ystod y cyfnod a gwmpesir gan y cyflwyniad hwn? | J11: Nodwch gyfanswm yr wythnosau lleoliadau i raddedigion a gwblhawyd fel rhan o'r contract hwn. Defnyddiwch y maes ar y dde i ddarparu gwybodaeth, lle y bo'n bosibl, sy'n ategu'r ffigur hwn.
A12: 4. Cymru sy'n fwy cyfartal | B12: 7.9 | C12: Faint o dreialon gwaith i bobl sy'n byw yng Nghymru a gwblhawyd fel rhan o'r contract hwn yn ystod y cyfnod a gwmpesir gan y cyflwyniad hwn? | J12: Mae treialon gwaith yn galluogi cyflogwyr i brofi pobl ddi-waith mewn swydd benodol am hyd at 30 diwrnod gwaith tra bod yr unigolyn yn parhau i fod â'r hawl i gael budd-daliadau drwy Adran Gwaith a Phensiynau (DWP) y DU. Defnyddiwch y maes ar y dde i ddarparu gwybodaeth, lle y bo'n bosibl, sy'n ategu'r ffigur hwn.
B13: 7.10 | C13: Nodwch gyfanswm yr wythnosau treialon gwaith a gwblhawyd fel rhan o'r contract hwn yn ystod y cyfnod a gwmpesir gan y cyflwyniad hwn? | J13: Nodwch gyfanswm yr wythnosau treialon gwaith a gwblhawyd fel rhan o'r contract hwn. Defnyddiwch y maes ar y dde i ddarparu gwybodaeth, lle y bo'n bosibl, sy'n ategu'r ffigur hwn.
B14: 7.11 | C14: Faint o gyfleoedd gwaith gwirfoddol a gwblhawyd fel rhan o'r contract hwn yn ystod y cyfnod a gwmpesir gan y cyflwyniad hwn? | J14: Gall cyfleoedd gwaith gwirfoddol gynnwys nifer o oriau neu ddiwrnodau yr wythnos. Mae'r hyblygrwydd hwn yn ffordd ddefnyddiol o gael profiad a/neu ddiweddaru gwybodaeth a sgiliau i bobl sy'n ei chael hi'n anodd cael gwaith. Mae cyfleoedd gwirfoddoli hefyd yn ddefnyddiol fel cyfleoedd lefel mynediad i bobl sydd â rhwystrau cymhleth i waith a fyddai'n elwa o gael eu cyflwyno i waith yn raddol. Rhaid cynllunio unrhyw waith gwirfoddol er mwyn cynnig profiad defnyddiol a chyfleoedd i ddatblygu sgiliau. | K14: Nodwch natur y profiad gwaith a'r sgiliau a ddatblygwyd gan y cyfleoedd gwirfoddoli.
B15: 7.12 | C15: Faint o wythnosau o waith gwirfoddol a gwblhawyd fel rhan o'r contract hwn yn ystod y cyfnod a gwmpesir gan y cyflwyniad hwn? | J15: Nodwch gyfanswm yr wythnosau o waith gwirfoddol a gwblhawyd fel rhan o'r contract hwn. Defnyddiwch y maes ar y dde i ddarparu gwybodaeth, lle y bo'n bosibl, sy'n ategu'r ffigur hwn.
A16: 1. Cymru lewyrchus | B16: 7.13 | C16: Faint o gyfleoedd hyfforddiant achrededig o unrhyw lefel a gwblhawyd fel rhan o'r contract hwn yn ystod y cyfnod a gwmpesir gan y cyflwyniad hwn? DS peidiwch â chynnwys hyfforddiant Prentisiaeth yma, nodir hwn o dan 7.1 uchod | J16: Hyfforddiant ACHREDEDIG yw unrhyw hyfforddiant tuag at gymhwyster ffurfiol, er enghraifft cymwysterau NVQ, cymwysterau'r Sefydliad Arweinyddiaeth a Rheoli (ILM), cymwysterau Iechyd a Diogelwch (e.e. NEBOSH, IOSH). Dylid ystyried cymwysterau ACHREDEDIG a enillwyd gan staff newydd neu bresennol, ar yr amod eu bod wedi dechrau a chwblhau'r cwrs o ganlyniad i'r contract hwn. Defnyddiwch y maes ar y dde i ddarparu gwybodaeth, lle y bo'n bosibl, sy'n ategu'r ffigur hwn.
B17: 7.14 | C17: Faint o wythnosau o hyfforddiant achrededig o unrhyw lefel a gwblhawyd fel rhan o'r contract hwn yn ystod y cyfnod a gwmpesir gan y cyflwyniad hwn? | J17: Nodwch gyfanswm yr wythnosau o hyfforddiant achrededig a gwblhawyd fel rhan o'r contract hwn. Defnyddiwch y maes ar y dde i ddarparu gwybodaeth, lle y bo'n bosibl, sy'n ategu'r ffigur hwn.
B18: 7.15 | C18: Faint o gyfleoedd hyfforddiant heb ei achredu o unrhyw lefel a gwblhawyd fel rhan o'r contract hwn yn ystod y cyfnod a gwmpesir gan y cyflwyniad hwn? | J18: Hyfforddiant HEB EI ACHREDU yw unrhyw hyfforddiant nad yw'n arwain at gymhwyster ffurfiol ond y gellir ei gydnabod fel profiad neu sgìl werthfawr, er enghraifft hyfforddiant ar sut i osod neu weithredu cynnyrch penodol. Gellir cofnodi profiad gwaith neu sgiliau gwerthfawr a enillwyd gan staff newydd neu bresennol drwy hyfforddiant HEB EI ACHREDU ar yr amod eu bod wedi dechrau a chwblhau'r cwrs o ganlyniad i'r contract hwn. Defnyddiwch y maes ar y dde i ddarparu gwybodaeth, lle y bo'n bosibl, sy'n ategu'r ffigur hwn.
B19: 7.16 | C19: Faint o wythnosau o hyfforddiant heb ei achredu a ddarparwyd yn ystod y cyfnod a gwmpesir gan y cyflwyniad hwn? | J19: Nodwch gyfanswm yr wythnosau o hyfforddiant heb ei achredu a gwblhawyd fel rhan o'r contract hwn. Defnyddiwch y maes ar y dde i ddarparu gwybodaeth, lle y bo'n bosibl, sy'n ategu'r ffigur hwn.

Sheet FFURFLEN GYMERADWYO
B2: PECYN MESUR BUDDION CYMUNEDOL LLESIANT CENEDLAETHAU'R DYFODOL
B3: Er mwyn sicrhau bod y data a gofnodir gan y Pecyn Mesur Buddion Cymunedol yn gywir, i'r graddau y bo hynny'n bosibl, mae angen i gyflwyniadau gael eu cymeradwyo gan gynrychiolwyr y sefydliad sector cyhoeddus a'r prif gontractwr neu gyflenwr sy'n rheoli'r gwaith o gyflawni'r Buddion Cymunedol sy'n destun y cyflwyniad hwn.
B4: Y Llofnodwr ar ran y sefydliad sector cyhoeddus
B5: Cadarnhaf, hyd eithaf fy ngwybodaeth, fod hwn yn adlewyrchiad cywir o'r Buddion Cymunedol a sicrhawyd yn ystod y cyfnod a gwmpesir gan y cyflwyniad hwn. Cadarnhaf, hefyd, fod gennyf yr awdurdod i gymeradwyo'r cyflwyniad hwn ar ran y Sefydliad Sector Cyhoeddus sy'n rheoli'r gwaith o gyflawni'r Buddion Cymunedol ar gyfer y contract hwn.
B6: ENW'R PERSON AWDURDODEDIG
B7: ENW'R SEFYDLIAD SECTOR CYHOEDDUS
B9: Y Llofnodwr ar ran y Contractwr
B10: Cadarnhaf, hyd eithaf fy ngwybodaeth, fod hwn yn adlewyrchiad cywir o'r Buddion Cymunedol a sicrhawyd yn ystod y cyfnod a gwmpesir gan y cyflwyniad hwn. Cadarnhaf, hefyd, fod gennyf yr awdurdod i gymeradwyo'r cyflwyniad hwn ar ran y Contractwr sy'n rheoli'r gwaith o gyflawni'r Buddion Cymunedol ar gyfer y contract hwn.
B11: ENW'R PERSON AWDURDODEDIG
B12: ENW SEFYDLIAD Y CONTRACTWR

Sheet CANLYNIADAU
A1: Nodau Llesiant Cenedlaethau'r Dyfodol | B1: Mae'r dudalen hon yn crynhoi'r buddion cymunedol ar gyfer y contract neu'r prosiect sy'n cael ei ystyried. Os na ofynnwyd i chi gofnodi gwybodaeth ar gyfer amcanion Buddion Cymunedol penodol neu os nad ydych wedi gallu darparu'r holl wybodaeth y gofynnwyd amdani mewn taflenni gwaith blaenorol, gall rhai o'r meysydd canlyniadau isod aros yn wag. Mae'r dudalen hon hefyd yn esbonio'r fethodoleg sy'n sail i'r ffigurau a gyflwynir.
B2: LLUOSYDD CONTRACT | J2: BETH YW YSTYR HYN?
A3: Cymru lewyrchus | B3: R0 | C3: Gwerth contract | I3: ='1. CYFFREDINOL'!I7 -> 0 | J3: Dyma'r gwerth a nodir yn 1.5. | L3: DON'T KNOW | M3: NONE | N3: 1 | O3: 2 | P3: 3 | Q3: 4 | R3: 5 | S3: 6 | T3: 7 | U3: 8 | V3: 9 | W3: 10 | X3: 11 | Y3: 12 | Z3: 13 | AA3: 14 | AB3: 15 | AC3: 16 | AD3: 17 | AE3: 18 | AF3: 19 | AG3: 20
