Workbook

Sheet CLAWR

Sheet CYSYLLTIADAU Â'R NODAU
B2: Cysylltiadau rhwng Buddion Cymunedol a Nodau Llesiant Cenedlaethau'r Dyfodol
B3: Y Diffiniad o Fuddion Cymunedol yng Nghymru. Mae Buddion Cymunedol yn cyfeirio at gynnwys ‘amcanion buddion cymunedol’ neu ‘gymalau cymdeithasol’ fel amodau contract yn ymarferion caffael y sector cyhoeddus y bwriedir iddynt sicrhau gwerth ychwanegol / buddion ychwanegol ar ben y rhai y mae'r contract wedi cael ei roi ar waith ar eu cyfer, bod materion cymdeithasol, economaidd ac amgylcheddol ehangach yn cael eu hystyried, lle y bo'n bosibl, wrth gynnig contractau adeiladu, contractau gwasanaeth neu gontractau cyflenwadau ar dendr’
B4: Bwriedir i'r fersiwn hon o'r Pecyn Mesur Buddion Cymunedol helpu cyrff yn y sector cyhoeddus yng Nghymru i gofnodi canlyniadau contractau y mae amcanion Buddion Cymunedol wedi'u cynllunio ar eu cyfer a dangos sut mae'r canlyniadau hyn yn helpu i gyflawni Nodau Llesiant Deddf Llesiant Cenedlaethau'r Dyfodol 2015 (Deddf LlCD). Er ei bod yn bosibl cefnogi pob un o Nodau Deddf LlCD drwy gymhwyso dull Buddion Cymunedol, bydd natur / pwnc eich contract yn pennu, i raddau helaeth, pa Nodau sydd fwyaf perthnasol. Ar y cyfan, mae Buddion Cymunedol yn canolbwyntio'n benodol ar gyflawni canlyniadau sy'n cyfrannu at Nodau Deddf LlCD o greu Cymru Lewyrchus, Cymru Iachach a Chymru sy'n Fwy Cyfartal. Cymru Lewyrchus drwy helpu i greu cyfleoedd i gefnogi'r gwaith o ddatblygu sgiliau a thyfu BBaChau er mwyn cael effaith gadarnhaol ar economi Cymru a, thrwy wneud hynny, hyrwyddo Cymru Iachach, gan gydnabod y cysylltiad cryf a sefydledig rhwng bod heb waith ac iechyd gwael ac, i'r gwrthwyneb, gyflogaeth ac iechyd corfforol ac iechyd meddwl gwell, llesiant materol a chyfranogiad llawn mewn cymdeithas i unigolion, yn ogystal â'r effaith ehangach ar eu teuluoedd. Mae teuluoedd heb aelod sy'n gweithio yn llawer mwy tebygol o fod ar incwm isel a dioddef tlodi parhaus a, thrwy wneud hynny, hyrwyddo Cymru sy'n Fwy Cyfartal, drwy weithio i ddarparu cyfleoedd cyflogaeth a hyfforddiant yn ogystal ag addysg a chymorth cymunedol ym mhob rhan o Gymru, gan annog canolbwyntio ar y rhai mewn grwpiau 'difreintiedig'. Er mwyn helpu i nodi'r cysylltiadau hyn a chofnodi canlyniadau, mae pob llinell o'r pecyn mesur hwn wedi'i chodio â lliw fel a ganlyn er mwyn nodi'r Nodau Llesiant y maent yn ymwneud â nhw ac, o bosibl, yn cyfrannu atynt.
B5: 1. Cymru lewyrchus
B6: Cymdeithas arloesol, gynhyrchiol, carbon isel sy’n cydnabod y terfynau sydd ar yr amgylchedd byd-eang ac sydd, o ganlyniad, yn defnyddio adnoddau mewn modd effeithlon a chymesur (gan gynnwys gweithredu ar newid yn yr hinsawdd); ac sy’n datblygu poblogaeth fedrus ac addysgedig mewn economi sy’n cynhyrchu cyfoeth ac yn cynnig cyfleoedd cyflogaeth, gan ganiatáu i bobl fanteisio ar y cyfoeth a gynhyrchir drwy gael gafael ar waith addas.
B7: 2. Cymru gydnerth
B8: Cenedl sy’n cynnal ac yn gwella amgylchedd naturiol bioamrywiol gydag ecosystemau iach gweithredol sy’n cynnal cydnerthedd cymdeithasol, economaidd ac ecolegol ynghyd â’r gallu i addasu i newid (er enghraifft newid yn yr hinsawdd).
B9: 3. Cymru iachach
B10: Cymdeithas lle mae llesiant corfforol a meddyliol pobl cystal â phosibl a lle deellir dewisiadau ac ymddygiadau sydd o fudd i iechyd yn y dyfodol.
B11: 4. Cymru sy'n fwy cyfartal
B12: Cymdeithas sy’n galluogi pobl i gyflawni eu potensial ni waeth beth fo’u cefndir neu eu hamgylchiadau (gan gynnwys eu cefndir a'u hamgylchiadau economaidd-gymdeithasol).
B13: 5. Cymru o gymunedau cydlynus
... B18: Cenedl sydd, wrth iddi wneud unrhyw beth i wella llesiant economaidd, cymdeithasol, amgylcheddol a diwylliannol Cymru, yn ystyried a allai gwneud peth o’r fath gyfrannu’n gadarnhaol at lesiant byd-eang.

Sheet CEFNDIR
B2: Buddion Cymunedol – Cyflawni ar gyfer Cenedlaethau'r Dyfodol Pecyn Mesur Buddion Cymunedol Llesiant Cenedlaethau'r Dyfodol (LlCD)
B3: CEFNDIR
B4: Bwriedir i'r fersiwn hon o'r Pecyn Mesur Buddion Cymunedol helpu cyrff yn y sector cyhoeddus yng Nghymru i gofnodi canlyniadau contractau y mae Buddion Cymunedol wedi'u cynllunio ar eu cyfer a dangos sut mae'r canlyniadau hyn yn helpu i gyflawni Nodau Llesiant Deddf Llesiant Cenedlaethau'r Dyfodol 2015 (Deddf LlCD). Bydd y fersiwn bresennol o'r pecyn cofnodi hwn bob amser ar gael ar dudalennau llyw.cymru
B5: Pa wybodaeth / manylion canlyniadau y mae angen i mi ei chofnodi/eu cofnodi?
B6: Dylai'r holl wybodaeth a gofnodir yn y Pecyn Mesur Buddion Cymunedol fod am weithgarwch sy'n ymwneud â'r contract yn unig, yn hytrach na gweithrediadau cyffredinol y sefydliad. Buddion Cymunedol Mandadol – Metrigau Allweddol y mae'n rhaid eu cofnodi, o leiaf Mae'r canlynol yn rhestr o'r metrigau allweddol y mae'n rhaid eu cofnodi, o leiaf, er mwyn i fuddion economaidd-gymdeithasol sylfaenol cymhwyso'r dull Buddion Cymunedol at y contract hwn allu cael eu cyfrifo. Caiff y wybodaeth hon ei hategu gan ganlyniadau unrhyw amcanion Buddion Cymunedol ychwanegol a bennir gan y sefydliad sector cyhoeddus ar gyfer y contract hwn. • Dadansoddiad o werth y contract rhwng gwariant ar fusnesau/cyflenwyr o gymharu â gwariant ar bobl/staff [Taflen waith gyffredinol 1] • Y swm a wariwyd ar gyflenwyr wedi'u lleoli yng Nghymru [Taflen waith 2: Cadwyn Gyflenwi] • Y swm a wariwyd ar gyflenwyr wedi'u lleoli yng Nghymru sydd hefyd yn BBaChau [Taflen waith 2: Cadwyn Gyflenwi] • Y swm a wariwyd ar gyflenwyr wedi'u lleoli yng Nghymru sydd hefyd yn fentrau yn y trydydd sector (Taflen waith 2: Cadwyn Gyflenwi] • Y swm a wariwyd ar staff o Gymru a gyflogwyd ar y prosiect hwn naill ai fel cyflogeion amser llawn neu fel recriwtiaid Buddion Cymunedol neu a gymerwyd fel hyfforddeion neu er mwyn iddynt gael profiad gwaith. (Rhestrir y categorïau hyfforddiant a phrofiad gwaith ar daflen waith HYFFORDDIANT) [Taflen waith 3: Hyfforddiant] • Cyfanswm y bobl ddi-waith a difreintiedig a gyflogwyd [Taflen waith 3: Cyflogaeth] Buddion Cymunedol Dewisol Dylech hefyd gofnodi unrhyw amcanion Buddion Cymunedol eraill sy'n benodol i'r contract y mae'r Sefydliad Sector Cyhoeddus wedi'u pennu.
B7: Sut mae'r wybodaeth o Becynnau Mesur a gyflwynir yn cael ei defnyddio?
B8: Llywodraeth Cymru – Caiff y canlyniadau o becynnau mesur unigol a gyflwynir eu cyfuno er mwyn darparu prif adroddiadau rheolaidd ar gyfer Gweinidogion ar gynnydd o ran sicrhau Buddion Cymunedol. Er y gall data ar y canlyniadau a gofnodir mewn pecyn mesur a gyflwynir hefyd gael eu darparu i bartïon eraill â diddordeb, dim ond er mwyn egluro data / gwybodaeth yn y cyflwyniad a dilysu cymeradwyaeth y Sefydliad Sector Cyhoeddus a'r Prif gontractwr / cyflenwr neu ddarparwr gwasanaeth at ddibenion llywodraethu y defnyddir y manylion cyswllt personol a nodir gan y pecyn mesur. Cyrff yn y Sector Cyhoeddus – Argymhellir y dylai cyrff yn y sector cyhoeddus sy'n ddarostyngedig i Ddeddf Llesiant Cenedlaethau'r Dyfodol gadw copïau o becynnau mesur cyflawn i'w helpu i gofnodi canlyniadau yn erbyn Nodau Llesiant y Ddeddf.
B9: Hysbysiad Preifatrwydd – Sut rydym yn defnyddio eich gwybodaeth Manylion Cyswllt Personol Dim ond yn y copi hwn o'r pecyn mesur a gyflwynir gennych y cedwir manylion cyswllt personol y rheolwr prosiect ar ochr y cleient ar gyfer y prosiect a'r contractwr / person ar ochr y cleient sy'n cyflwyno'r Pecyn Mesur Buddion Cymunedol ar y dudalen Manylion y Crynodeb o'r Contract o'r Pecyn Mesur Buddion Cymunedol a gyflwynir a dim ond at ddibenion egluro eitemau sydd wedi'u cofnodi ar adeg cyflwyno'r Pecyn Mesur y cânt eu defnyddio. Canlyniadau Buddion Cymunedol a gofnodir Cedwir y Pecyn Mesur Buddion Cymunedol a gyflwynir gennych mewn ffeiliau â mynediad cyfyngedig a dim ond i'r unigolion hynny sydd angen eu gwybod y cânt eu darparu. Er ei bod yn bosibl y bydd swyddogion Llywodraeth Cymru sy'n rheoli'r polisi Buddion Cymunedol yn ceisio eglurhad ar ddata / cofnodion penodol, ni lunnir unrhyw farn ynglŷn â rhinweddau cymharol y canlyniadau a gyflawnwyd ar brosiect. Tybir bod y cleientiaid a'r contractwyr wedi gwneud pob ymdrech a bod y canlyniadau a gofnodwyd yn adlewyrchu'r cyd-destun penodol y cyflawnwyd prosiectau ynddo. Caiff manylion y prosiect a'r canlyniadau Buddion Cymunedol a gofnodir mewn Pecynnau Mesur Buddion Cymunedol a gyflwynir eu trosi'n gronfa ddata er mwyn darparu ar gyfer dadansoddi canlyniadau Buddion Cymunedol cyfunol a rhoi'r prif ffigurau i'r Gweinidog Cyllid a'r Trefnydd mewn diweddariadau misol a Gweinidogion eraill a Llywodraeth Cymru pan fydd angen iddynt eu gwybod. Cysylltiadau Os bydd gennych unrhyw gwestiynau am yr Hysbysiad Preifatrwydd hwn, anfonwch neges e-bost i flwch post Polisi Masnachol a Chyflenwi Masnachol PolisiMasnachol@llyw.cymru I gael rhagor o wybodaeth am y wybodaeth sydd gan Lywodraeth Cymru a'r defnydd y mae'n ei wneud ohoni, neu os byddwch am arfer eich hawliau o dan y Rheoliad Cyffredinol ar Ddiogelu Data (GDPR), gweler y manylion cyswllt isod: Swyddog Diogelu Data Llywodraeth Cymru Parc Cathays CAERDYDD CF10 3NQ E-bost: DataProtectionOfficer@gov.wales Manylion cyswllt Swyddfa'r Comisiynydd Gwybodaeth https://ico.org.uk/global/contact-us/postal-addresses/
B10: Pwy ddylai gwblhau'r pecyn hwn?
B11: Gall y pecyn gael ei gwblhau naill ai gan y Sefydliad Sector Cyhoeddus neu Ddarparwr y Gwasanaeth/y Cyflenwr. Fodd bynnag, bydd angen i'r ddau barti gymeradwyo'r cyflwyniad ar daflen waith y Ffurflen Gymeradwyo. Ar gyfer y taflenni gwaith Cyflogaeth, Cymunedol a Hyfforddiant, croesewir data gan isgontractwyr hefyd os yw'n briodol ac yn rhesymol ymarferol ar gyfer maint y contract.
B12: Beth mae angen i mi ei wneud a sut mae'r pecyn yn gweithio?
B13: Mae angen i amcanion Buddion Cymunedol gael eu cynllunio gan y Sefydliad Sector Cyhoeddus fel rhan o'r strategaeth gaffael gyffredinol. Ni fwriedir i'r Pecyn Mesur hwn eich arwain drwy'r broses o gynllunio eich amcanion Buddion Cymunedol, dyma'r mecanwaith ar gyfer cofnodi canlyniadau Buddion Cymunedol a rhoi gwybod amdanynt. I gael rhagor o ganllawiau manwl ar sut i gynllunio amcanion Buddion Cymunedol a sut i ddefnyddio'r pecyn hwn, cysylltwch â thîm Polisi Masnachol a Chyflenwi Masnachol - PolisiMasnachol@llyw.cymru Mae'r taflenni gwaith yn hunanesboniadol. Dechreuwch drwy gwblhau'r taflenni gwaith CYFFREDINOL, CADWYN GYFLENWI a CHYFLOGAETH sy'n casglu'r wybodaeth orfodol sydd ei hangen. Dylech ddefnyddio'r taflenni gwaith dilynol, sef 'YR AMGYLCHEDD AC ADNODDAU, CYMUNEDOL AC ADDYSGOL', 'DIWYLLIANT' a 'HYFFORDDIANT' i gofnodi canlyniadau sy'n ymwneud â DPAau / amcanion Buddion Cymunedol a bennir gan y Sefydliad Sector Cyhoeddus. Mae'r daflen waith CANLYNIADAU yn crynhoi'r buddion cymunedol a sicrhawyd yn awtomatig yn seiliedig ar y wybodaeth a gyflwynwyd. Dylech ddefnyddio'r daflen waith SYLWADAU i gofnodi unrhyw wybodaeth ychwanegol rydych am ei darparu mewn perthynas â'r prosiect megis agweddau cyd-destunol ar yr ymarfer caffael / prosiect a all fod wedi effeithio ar y canlyniadau e.e. adeiladu modwlaidd oddi ar y safle; defnyddio gweithwyr arbenigol / gosodwyr neu gyflenwyr achrededig o'r tu allan i Gymru a all fod wedi cyfyngu ar gyfleoedd i sicrhau Buddion Cymunedol yn yr ardal lle mae'r contract / prosiect yn cael ei gyflawni.
... B22: Defnyddiwch y blychau SYLWADAU wrth ochr pob rhes i ychwanegu esboniad cryno o'r buddion a gofnodwyd, lle y bo'n bosibl. Mae Llywodraeth Cymru yn awyddus i ddatblygu astudiaethau achos o becynnau mesur a gyflwynwyd. Fodd bynnag, ni ellir defnyddio ffigurau / rhifau heb fanylion esboniadol. Mae'n bwysig iawn rhoi 'sylwadau' cryno yn y celloedd i'r dde o unrhyw ffigurau ariannol neu unrhyw ffigurau eraill er mwyn esbonio manylion neu gyd-destun y ffigurau sy'n cael eu cofnodi e.e. ar y daflen CYMUNEDOL AC ADDYSGOL er mwyn nodi sut mae arian parod / nawdd wedi'i ddosbarthu ac esbonio'r gweithgareddau sy'n sail i'r buddion mewn nwyddau a gofnodwyd. Hefyd, mae taflen waith gyffredinol ar gyfer SYLWADAU y gallwch ei defnyddio i ddarparu unrhyw wybodaeth arall y credwch ei bod yn berthnasol i'r cyflwyniad nad yw wedi cael ei chofnodi rywle arall, megis agweddau cyd-destunol ar yr ymarfer caffael / prosiect a all fod wedi effeithio ar y canlyniadau e.e. adeiladu modwlaidd oddi ar y safle; defnyddio gweithwyr arbenigol / gosodwyr neu gyflenwyr achrededig o'r tu allan i Gymru a all fod wedi cyfyngu ar gyfleoedd i sicrhau Buddion Cymunedol yn yr ardal lle mae'r contract / prosiect yn cael ei gyflawni. Gellir cyflwyno dogfennau ar wahân hefyd ynghyd â'r pecyn Buddion Cymunedol a gyflwynir sy'n darparu gwybodaeth ategol e.e. astudiaethau achos.

Sheet GWYBODAETH AM Y CONTRACT
B1: Cwblhewch y wybodaeth ganlynol am y contract a darllenwch y cyfarwyddiadau ar daflen waith CEFNDIR cyn cwblhau'r pecyn hwn.
B2: GWYBODAETH AM Y CONTRACT / FFRAMWAITH | D2: CANLLAWIAU
B3: ENW'R SEFYDLIAD SECTOR CYHOEDDUS
B4: SECTOR (y Sefydliad Sector Cyhoeddus) | E4: LOCAL GOVERNMENT (General) | F4: LOCAL GOVERNMENT (Housing) | G4: WELSH GOVERNMENT | H4: WELSH GOVERNMENT SPONSORED BODY | I4: HIGHER EDUCATION | J4: FURTHER EDUCATION | K4: NHS | L4: HOUSING (Housing Association / Registered Social Landlord)
B5: RHEOLWR Y PROSIECT (Y prif bwynt cyswllt yn y Sefydliad Sector Cyhoeddus) | D5: Rhowch enw a manylion cyswllt Rheolwr y Prosiect / y prif gyswllt yn y Sefydliad Sector Cyhoeddus. Dim ond er mwyn egluro data / gwybodaeth yn y cyflwyniad y defnyddir y manylion cyswllt personol hyn.
B6: CYFEIRIAD E-BOST
B7: RHIF FFÔN CYSWLLT
C8: MANYLION Y CONTRACT
B9: TEITL Y CONTRACT | D9: Defnyddiwch deitl y contract fel yr ymddangosodd yn Hysbysiad y Contract
B10: DISGRIFIAD O'R CONTRACT | D10: Rhowch ddisgrifiad byr o'r prosiect neu'r ymarfer caffael
B11: SUT MAE'R CONTRACT/PROSIECT HWN YN CAEL EI ARIANNU? | D11: Diben y llinell hon yw galluogi Gwerth Cymru i olrhain ac adrodd yn ôl i Adrannau Llywodraeth Cymru sy'n ariannu prosiectau yn llawn neu'n rhannol h.y. Rhaglen Ysgolion yr 21ain Ganrif a'r Is-adran Tai ac Adfywio ar brosiectau sy'n defnyddio cyllid SATC. Os dewisir 'Cyllid Adrannau eraill Llywodraeth Cymru' yng ngholofn gwympo C, rhowch fanylion yn y blwch hwn | F11: SELF FUNDED (Clients own funds) | G11: 21st CENTURY SCHOOLS PROG. (Match funding) | H11: WELSH HOUSING QUALITY STANDARD (Whether partly or wholly WHQS funding) | I11: OTHER WELSH GOVERNMENT DEPT. (Whether partly or wholly funded)
B12: BLE Y CAIFF Y CONTRACT EI GYFLAWNI? | D12: Nodwch yr ardal ddaearyddol lle y cyflawnir y rhan fwyaf o'r contract. 1) Cymru Gyfan 2) Rhanbarthol – De-ddwyrain, De-orllewin, Gogledd-ddwyrain, Gogledd-orllewin a'r Canolbarth (Powys) 3) Neu yn ôl ardal Llywodraeth Leol DS am fod y pecyn ond yn caniatáu i un opsiwn gael ei ddewis, os yw'r cyflwyniad yn ymwneud â chontract neu brosiect sy'n cael ei gyflawni mewn sawl ardal nas diffinnir yn y gwymplen/rhestr, defnyddiwch y Disgrifiad o'r Contract (cell C10 i esbonio) | E12: All Wales | F12: Region: North East (Denbighshire; Flintshire; Wrexham) | G12: Region: North West (Anglesey; Conwy; Gwynedd) | H12: Region: South East (Blaenau Gwent; Bridgend;Caerphilly;Cardiff; Merthyr Tydfil;Monmouthshire;Newport;Rhondda Cynon Taf;Torfaen;Vale of Glamorgan) | I12: Region: Central (Powys) | J12: Blaenau Gwent | K12: Bridgend | L12: Caerphilly | M12: Cardiff | N12: Carmarthenshire | O12: Ceredigion | P12: Conwy | Q12: Denbighshire | R12: Flintshire | S12: Gwynedd | T12: Isle of Anglesey | U12: Merthyr Tydfil | V12: Monmouthshire | W12: Neath Port Talbot | X12: Newport | Y12: Pembrokeshire | Z12: Powys | AA12: Rhondda Cynon Taf | AB12: Swansea | AC12: Torfaen | AD12: Vale of Glamorgan | AE12: Wrexham
B13: CYFANSWM GWERTH AMCANGYFRIFEDIG Y CONTRACT | D13: Ar gyfer contractau sy'n hwy na 12 mis, dyma'r gwariant amcangyfrifedig dros gyfnod llawn y contract.
B14: HYD Y CONTRACT | F14: LESS THAN 1 YEAR | G14: 1 TO 2 YEARS | H14: OVER 3 YEARS
B15: DYDDIAD DECHRAU'R CONTRACT (Mis/Blwyddyn)
B16: DYDDIAD DOD I BEN Y CONTRACT (DD/MM/BB)
B17: A YW'R CONTRACT HWN DRWY FFRAMWAITH? | F17: YDY | G17: NA
B18: OS DYFARNWYD Y CONTRACT HWN FEL RHAN O FFRAMWAITH, RHOWCH FANYLION Y FFRAMWAITH | D18: Dylid cynnwys teitl y Fframwaith A hyd y fframwaith (e.e. 3 blynedd gydag opsiwn ar gyfer blwyddyn ychwanegol) fel y nodir yng Nghyfnodolyn Swyddogol yr Undeb Ewropeaidd (OJEU) / Hysbysiad y Contract | G18: NO
C19: MANYLION Y CYFLWYNIAD
B20: PA GYFNOD A GWMPESIR GAN Y CYLFWYNIAD HWN? | D20: Dylid cyflwyno Pecynnau Mesur Buddion Cymunedol bob blwyddyn ar y dyddiad y dechreuodd y prosiect neu ar ddiwedd y contract ar gyfer contractau sy'n para llai na 2 flynedd/24 mis. Cadarnhewch y dyddiad dechrau a'r dyddiad dod i ben ar gyfer y cyfnod a gwmpesir gan y cyflwyniad hwn.
B21: OS YW'R CYFLWYNIAD HWN AR GYFER 1 FLWYDDYN O GONTRACT AMLFLWYDD, PA FLWYDDYN A GWMPESIR GAN Y CYFLYWNIAD HWN? (e.e. Blwyddyn 1 o 1, Blwyddyn 1 o 2, Blwyddyn 2 o 2 ) | D21: Os yw'r cyflwyniad yn cwmpasu cyfnod llawn y contract, nodwch Flwyddyn 1 o 1. Ar gyfer cyflwyniadau sy'n rhan o gontractau amlflwydd, nodwch y flwyddyn a gwmpesir gan y cyflwyniad e.e. Blwyddyn 1 o 2; Blwyddyn 2 o 2 ac ati. Ar gyfer cyflwyniadau sy'n cwmpasu sawl blwyddyn, nodwch y blynyddoedd a gwmpesir gan y cyflwyniad e.e. Blynyddoedd 1 i 3 neu flynyddoedd 1,2,3 | F21: Year 1 of a 1 year contract / framework | G21: Year 1 of a 2 year contract / framework | H21: Year 2 of a 2 year contract / framework | I21: Year 1 of a 3 year contract / framework | J21: Year 2 of a 3 year contract / framework | K21: Year 3 of a 3 year contract / framework | L21: Year 1 of a 4 year contract / framework | M21: Year 2 of a 4 year contract / framework | N21: Year 3 of a 4 year contract / framework | O21: Year 4 of a 4 year contract / framework
C22: MANYLION CYSWLLT
B23: DYDDIAD CWBLHAU'R PECYN HWN (DD/MM/BBBB)
B24: ENW'R UNIGOLYN SY'N CYFLWYNO'R PECYN HWN | D24: Ysgrifennwch enw'r unigolyn sy'n cyflwyno'r pecyn mesur hwn mewn PRIFLYTHRENNAU. (Os oes gennych lofnod digidol, gellir ei fewnosod yn y blwch llofnodi) Dim ond er mwyn egluro data / gwybodaeth yn y cyflwyniad, os bydd angen, y defnyddir y manylion cyswllt personol hyn.
B25: CYFEIRIAD E-BOST
B26: RHIF FFÔN CYSWLLT
B27: YMHOLIADAU A CHYFLWYNIADAU
B28: Dylid cyflwyno Pecynnau Mesur wedi'u cwblhau i: | C28: Tîm Polisi Masnachol a Chyflenwi Masnachol Llywodraeth Cymru PolisiMasnachol@llyw.cymru
B29: Os bydd gennych ymholiadau ynglŷn â'r Pecyn Mesur neu unrhyw agwedd ar Bolisi Buddion Cymunedol, cysylltwch â:
B30: RHEOLI FERSIYNAU | C30: FERSIWN 10.2 - 29/06/2023

Sheet 1. CYFFREDINOL
B2: 1: GWYBODAETH GYFFREDINOL AM Y CONTRACT | J2: CANLLAWIAU
B3: 1.1 | C3: Dewiswch y categori sy'n disgrifio natur y contract orau o'r gwymplen. | I3: ADEILADU (adeiladau) | J3: Bwriedir i'r fersiwn hon o'r Pecyn Mesur Buddion Cymunedol wneud y canlynol: • Helpu cyrff yny sector cyhoeddus yng Nghymru i gofnodi canlyniadau contractrau ar gyfer Gwaith (Adeiladu neu seilwaith), Gwasanaethau neu Gyflenwi Nwyddau y mae amcanion Buddion Cymunedol wedi'u cynllunio ynddynt • Dangos sut mae'r canlyniadau hyn yn helpu i gyflawni Nodau Llesiant Deddf Llesiant Cenedlaethau'r Dyfodol 2015 (Deddf LlCD). Gweler y daflen ar Fuddion Cymunedol a Deddf LlCD 2015 am fanylion | N3: ADEILADU (adeiladau) | O3: SEILWAITH (Peirianneg sifil) | P3: CYFLENWI NWYDDAU | Q3: GWASANAETHAU
A4: 1. Cymru lewyrchus | B4: 1.2 | C4: A yw'r Contractwr wedi'i leoli yng Nghymru? | I4: NA | J4: Ystyrir bod Contractwr wedi'i leoli yng Nghymru os yw'n darparu'r rhan fwyaf o'r nwyddau neu'r gwasanaethau neu'n cyflawni'r rhan fwyaf o'r gwaith sy'n ymwneud â'r contract hwn o swyddfa neu swyddfeydd sydd wedi'u lleoli mewn codau post y mae'r llythrennau CF, CH, HR, LD, LL, NP, SA, ac SY wedi'u rhagddodi iddynt. | L4: YDY | M4: NA | O4: =SUMIF(I4, "YDY",I7) -> 0
B5: 1.3 | C5: Nodwch werth y gwariant sy'n ymwneud â nwyddau, gwasanaethau a gorbenion ar gyfer y cyfnod a gwmpesir gan y cyflwyniad hwn. | J5: Dylai'r ffigur hwn gynnwys costau sy'n gysylltiedig â gorbenion sy'n gysylltiedig â'r prosiect neu'r contract, megis costau gweithredu, er enghraifft, Cyllid, Yswiriant neu TG, yn ogystal â chostau sy'n gysylltiedig â Chyflenwyr ac isgontractwyr.
B6: 1.4 | C6: Nodwch werth y gwariant sy'n ymwneud â staff a llafur ar gyfer y cyfnod a gwmpesir gan y cyflwyniad hwn. | J6: Costau sy'n gysylltiedig â chyflogeion, ymgynghorwyr a gweithwyr eraill. Os nad ydych yn siŵr, rhowch amcangyfrif gan ddefnyddio'r data diweddaraf sydd ar gael.
B7: 1.5 | C7: CYFANSWM y gwariant ar gyfer y cyfnod a gwmpesir gan y cyflwyniad hwn. Gwariant ar nwyddau, gwasanaethau a gorbenion, ynghyd â gwariant ar staff a llafur) | I7: =SUM(I5:I6) -> 0 | J7: Dyma gyfanswm y gwariant dros y 12 mis blaenorol, sef cyfanswm gwerth y nwyddau, y gwasanaethau a'r gorbenion a'r staff a'r llafur a nodwyd uchod.
B8: CYFARWYDDYD: Ar ôl i chi gwblhau'r daflen waith uchod, ewch i'r daflen waith CADWYN GYFLENWI.

Sheet 2. CADWYN GYFLENWI
B2: 2: CADWYN GYFLENWI | J2: CANLLAWIAU | K2: SYLWADAU
A3: 1. Cymru lewyrchus | B3: 2.1 | C3: Dyma'r gyfran o'r contract rydych wedi nodi ei bod yn ymwneud â nwyddau, gwasanaethau a gorbenion ar gyfer y cyfnod a gwmpesir gan y cyflwyniad hwn. | I3: ='1. CYFFREDINOL'!I5 -> 0
B4: 2.2 | C4: O'r gwerth uchod (2.1), faint a wariwyd ar fusnesau sydd wedi'u lleoli yng Nghymru sy'n darparu nwyddau, gwasanaethau neu orbenion yn ystod y cyfnod a gwmpesir gan y cyflwyniad hwn. | J4: Dylech ystyried bod busnesau wedi'u lleoli yng Nghymru yn fusnesau sy'n darparu'r rhan fwyaf o'r nwyddau neu'r gwasanaethau neu sy'n cyflawni'r rhan fwyaf o'r gwaith sy'n ymwneud â'r contract hwn o swyddfa neu swyddfeydd mewn codau post y mae'r llythrennau CF, CH, HR, LD, LL, NP, SA, ac SY wedi'u rhagddodi iddynt.
C5: Y ganran a wariwyd ar fusnesau wedi'u lleoli yng Nghymru yn ystod y cyfnod a gwmpesir gan y cyflwyniad hwn? | I5: =I4/I3 -> #DIV/0! | J5: Os nad yw'r % yn cyfateb i 100%, defnyddiwch y maes testun ar y dde i roi crynodeb byr o'r ffordd rydych yn creu cyfleoedd i fusnesau sydd wedi'u lleoli yng Nghymru.
B6: 2.3 | C6: O'r gwerth a nodwyd yn 2.2, pa werth a wariwyd ar fusnesau bach a chanolig (BBaChau) sydd wedi'u lleoli yng Nghymru yn ystod y cyfnod a gwmpesir gan y cyflwyniad hwn? | J6: Mae BBaChau yn sefydliadau sy'n cydymffurfio â rheoliadau'r UE ynghylch partneriaethau a chysylltiadau â sefydliadau eraill, sydd â llai na 250 o gyflogeion ac sydd â throsiant blynyddol o lai na €50 miliwn neu gyfanswm ar y fantolen sy'n llai na €43 miliwn.
C7: Canran yr arian a wariwyd ar fusnesau wedi'u lleoli yng Nghymru a wariwyd ar BBaChau wedi'u lleoli yng Nghymru, yn ystod y cyfnod a gwmpesir gan y cyflwyniad hwn? | I7: =I6/I4 -> #DIV/0! | J7: Os nad yw'r % yn cyfateb i 100%, defnyddiwch y maes testun ar y dde i roi crynodeb byr o'r ffordd rydych yn creu cyfleoedd i BBaChau sydd wedi'u lleoli yng Nghymru.
B8: 2.4 | C8: O'r gwerth a nodwyd yn 2.2, pa werth a wariwyd ar Fentrau yn y Trydydd Sector sydd wedi'u lleoli yng Nghymru yn ystod y cyfnod a gwmpesir gan y cyflwyniad hwn? | J8: Mae Mentrau yn y Trydydd Sector yn fusnesau nid er elw sy'n masnachu at ddibenion cymdeithasol neu amgylcheddol. Mae Mentrau nid er elw yn y Trydydd Sector yn tueddu i fod yn fentrau cymdeithasol neu'n fentrau/ffatrïoedd â chymorth. Mae Mentrau yn y Trydydd Sector yn tueddu i fod yn sefydliadau yn y sector cymunedol a gwirfoddol.
C9: Canran yr arian a wariwyd ar fusnesau wedi'u lleoli yng Nghymru a wariwyd ar Fentrau yn y Trydydd Sector wedi'u lleoli yng Nghymru yn ystod y cyfnod a gwmpesir gan y cyflwyniad hwn? | I9: =I8/I4 -> #DIV/0! | J9: Os nad yw'r % yn cyfateb i 100%, defnyddiwch y maes testun ar y dde i roi crynodeb byr o'r ffordd rydych yn creu cyfleoedd i Fentrau yn y Trydydd Sector sydd wedi'u lleoli yng Nghymru.
B10: 2.5 | C10: Os gwnaethoch ddefnyddio isgontractwyr ar y contract hwn, pa ganran a dalwyd o fewn 30 diwrnod yn ystod y cyfnod a gwmpesir gan y cyflwyniad hwn? | I10: 0 | J10: O ystyried y gyfran uchel o Fusnesau Bach a Chanolig (BBaChau) yng Nghymru ac effaith andwyol taliadau araf neu ohiriedig ar hyfywedd busnesau o'r fath pan fyddant yn cefnogi prosiectau caffael fel isgontractwyr, mae'n hanfodol bod cyrff yn y sector cyhoeddus yng Nghymru yn sicrhau bod taliadau teg a phrydlon yn cael eu gwneud ym mhob rhan o gadwyni cyflenwi sy'n gysylltiedig â'u contractau. Dylai cyrff yn y sector cyhoeddus, o leiaf, sicrhau bod isgontractwyr yn cael eu talu o fewn 30 diwrnod yn unol â thelerau talu'r sector cyhoeddus. Os nad ydych yn defnyddio isgontractwyr ar y contract hwn, gadewch y blwch hwn yn wag
B11: 2.6 | C11: A yw Cyfrif Banc Prosiect yn cael ei ddefnyddio ar y prosiect hwn? | I11: NA | J11: Mae Cyfrifon Banc Prosiect yn system dalu sy'n sicrhau bod partneriaid mewn cadwyn gyflenwi sydd wedi cofrestru â'r cyfrif yn cael eu talu o fewn 30 diwrnod. I gael rhagor o wybodaeth am Gyfrifon Banc Prosiect, cysylltwch â blwch post Tîm Polisi Masnachol a Chyflenwi Masnachol Llywodraeth Cymru PolisiMasnachol@llyw.cymru | M11: YDY | N11: NA

Sheet 3. CYFLOGAETH
B2: 3: CYFLOGAETH | J2: CANLLAWIAU | K2: SYLWADAU
A3: 1. Cymru lewyrchus | B3: 3.1 | C3: Dyma'r gyfran o'r contract rydych wedi nodi ei bod yn ymwneud â staff a llafur ar gyfer y cyfnod a gwmpesir gan y cyflwyniad hwn? | I3: ='1. CYFFREDINOL'!I6 -> 0
B4: 3.2 | C4: O'r gwerth uchod (3.1), faint a wariwyd ar bobl sy'n byw yng Nghymru ac sy'n/a oedd yn cael eu cyflogi o ganlyniad i'r contract hwn yn ystod y cyfnod a gwmpesir gan y cyflwyniad hwn? | J4: Dylech ystyried pobl sy'n byw yng Nghymru yn seiliedig ar eu lleoliad preswyl hysbys, eu cyfeiriad anfonebu neu eu cyfeiriad cyflogres. Mae codau post sy'n dechrau gyda'r codau canlynol yn gymwys fel rhai sydd yng Nghymru: CF, CH, HR, LD, LL, NP, SA, ac SY. Dylech ystyried y bobl hynny sy'n cael eu cyflogi mewn perthynas â'r prosiect neu'r contract yn unig, ac nid gweithrediadau cyffredinol y cwmni. | AS4: YDY | AT4: NA
C5: Y ganran a wariwyd ar gyflogau i bobl sy'n byw yng Nghymru | I5: =I4/I3 -> #DIV/0!
B6: 3.3 | C6: A yw'r contract hwn wedi galluogi'r Contractwr neu'r isgontractwyr i gadw staff a fyddai wedi cael eu diswyddo heb y gwaith a ddarparwyd gan y contract hwn yn ystod y cyfnod a gwmpesir gan y cyflwyniad hwn? | I6: YDY | J6: Staff a gedwir yw, 'Staff a fyddai wedi cael eu diswyddo heb y gwaith a ddarparwyd gan y contract hwn ar gyfer y cyfnod a gwmpesir gan y cyflwyniad hwn' Dylai Sefydliadau yn y Sector Cyhoeddus fodloni eu hunain bod hyn yn wir. | AS6: YDY | AT6: NA
B7: 3.4 | C7: Faint o'r aelodau o staff, yn 3.3 a gadwyd oherwydd y contract hwn sy'n byw yng Nghymru? | I7: 2
A8: 4. Cymru sy'n fwy cyfartal | B8: 3.5 | C8: Faint o bobl sydd wedi cael eu cyflogi gan y Contractwr a/neu'r isgontractwyr, sy'n byw yng Nghymru, a oedd yn ddi-waith cyn hynny yn ystod y cyfnod a gwmpesir gan y cyflwyniad hwn? | I8: 10 | J8: Nodwch nifer y bobl, sy'n byw yng Nghymru, sydd wedi cael eu cyflogi yn ystod y cyfnod a gwmpesir gan y cyflwyniad hwn, ac a oedd yn ddi-waith cyn hynny.
B9: CYFARWYDDYD – Yn seiliedig ar eich ateb i 3.5 uchod, cwblhewch res ar gyfer pob unigolyn sy'n byw yng Nghymru a oedd yn ddi-waith cyn cael swydd o ganlyniad i'r contract hwn. O'r gwymplen dewiswch am faint o amser (mewn wythnosau) yr oedd yr unigolyn yn ddi-waith cyn iddo gael ei gyflogi gan Ddarparwr y Gwasanaeth/y Cyflenwr a/neu'r isgontractwyr. Yn olaf, nodwch a yw Darparwr y Gwasanaeth/y Cyflenwr a/neu'r isgontractwyr yn bwriadu parhau i gyflogi'r unigolyn ar ôl i'r contract gael ei gwblhau. Rhoddir diffiniadau o Weithwyr Anabl, Difreintiedig a Difreintiedig Iawn yn y blychau sylwadau yng nghelloedd H14 i J14. Daw'r diffiniadau hyn o Reoliad y Comisiwn (UE) Rhif 651/2014 dyddiedig 17 Mehefin 2014 ac Erthygl 2 Diffiniad o weithiwr difreintiedig iawn Erthygl 2.19 o Reoliad (CE) 800/2008. | O9: YDY | P9: NA | R9: 3 | S9: 4 | T9: 5 | U9: 6 | V9: 7 | W9: 8 | X9: 9 | Y9: 10 | Z9: 11 | AA9: 12 | AB9: 13 | AC9: 14 | AD9: 15 | AE9: 16 | AF9: 17 | AG9: 18 | AH9: 19 | AI9: 20 | AJ9: 21 | AK9: 22 | AL9: 23 | AM9: 24 | AN9: 25 | AO9: 26
B10: 3.6 | C10: Cyflogi pobl ddi-waith (tymor y contract a hirdymor) Peidiwch â chofnodi enwau'r rhai sy'n cael eu cyflogi isod ond sicrhewch y gall eich cofnodion groesgyfeirio 'unigolion 1, 2 3 ac ati' er mwyn sicrhau bod gwybodaeth bersonol yn cael ei diogelu ond y gellir ei harchwilio'n briodol. | F10: A oedd yr unigolyn hwn yn DDI-WAITH am hyd at 6 mis yn union cyn iddo gael ei gyflogi? | I10: A fyddai'r unigolyn hwn wedi cael ei ystyried yn DDIFREINTIEDIG cyn iddo gael ei gyflogi ar gyfer y contract hwn? h.y. a oedd yn ddi-waith am 6 mis neu fwy ond am lai na 24 mis neu a yw'n perthyn i un o'r categorïau yn y diffiniad o weithwyr difreintiedig | J10: A fyddai'r unigolyn hwn wedi cael ei ystyried yn weithiwr DIFREINTIEDIG IAWN cyn iddo gael ei gyflogi ar gyfer y contract hwn? h.y. a oedd yn ddi-waith am 24 mis neu fwy | K10: A ystyrir bod yr unigolyn hwn yn weithiwr ANABL? | L10: A fydd y contractwr a/neu'r isgontractwyr yn parhau i gyflogi'r unigolyn hwn ar ôl y contract presennol?
C11: 1 | Q11: YDY | R11: NA | S11: Dd/G | AQ11: =IF(F11>0,(AR$11-F11)*AR$12,) -> 0 | AR11: 26
C12: 2 | AQ12: =IF(H12>0,(AR$11-H12)*AR$12,) -> 0 | AR12: =NEWIDYNNAU!#REF! -> #REF!
C13: 3 | AQ13: =IF(H13>0,(AR$11-H13)*AR$12,) -> 0
C14: 4 | AQ14: =IF(H14>0,(AR$11-H14)*AR$12,) -> 0
C15: 5 | AQ15: =IF(H15>0,(AR$11-H15)*AR$12,) -> 0
C16: 6 | AQ16: =IF(H16>0,(AR$11-H16)*AR$12,) -> 0
C17: 7 | AQ17: =IF(H17>0,(AR$11-H17)*AR$12,) -> 0
C18: 8 | AQ18: =IF(H18>0,(AR$11-H18)*AR$12,) -> 0
C19: 9 | AQ19: =IF(H19>0,(AR$11-H19)*AR$12,) -> 0
C20: 10 | AQ20: =IF(H20>0,(AR$11-H20)*AR$12,) -> 0
C21: 11 | AQ21: =IF(H21>0,(AR$11-H21)*AR$12,) -> 0
C22: 12 | AQ22: =IF(H22>0,(AR$11-H22)*AR$12,) -> 0
C23: 13 | AQ23: =IF(H23>0,(AR$11-H23)*AR$12,) -> 0
C24: 14 | AQ24: =IF(H24>0,(AR$11-H24)*AR$12,) -> 0
... C59: 49 | AQ59: =IF(H59>0,(AR$11-H59)*AR$12,) -> 0

Sheet 4. YR AMGYLCHEDD AC ADNODDAU
B1: CYFARWYDDYD : Darparwch y wybodaeth ganlynol lle roedd yr awdurdod contractio / cleient wedi gofyn am y rhain ac maent wedi'u cyflawni o ganlyniad uniongyrchol i'r contract/prosiect hwn.
B2: 4: YR AMGYLCHEDD AC ADNODDAU | K2: CANLLAWIAU | L2: SYLWADAU
A3: 1. Cymru lewyrchus | B3: 4.1 | C3: Sawl tunnell o wastraff a gynhyrchwyd yn ystod y cyfnod a gwmpesir gan y cyflwyniad hwn? | K3: Dyma gyfanswm y tunelli o wastraff a gynhyrchwyd o ganlyniad i'r contract yn ystod y cyfnod a gwmpesir gan y cyflwyniad hwn.
B4: 4.2 | C4: Sawl tunnell o DDEUNYDD CYMWYS cyfradd ISAF y mae Darparwr y Gwasanaeth/y Cyflenwr wedi'u dargyfeirio o safle tirlenwi i'w ailddefnyddio neu ei ailgylchu fel rhan o'r contract hwn yn ystod y cyfnod a gwmpesir gan y cyflwyniad hwn? | K4: Dylech ystyried bod unrhyw 'wastraff' a gynhyrchwyd o ganlyniad i'r contract hwn yn wastraff y gellid ei ddargyfeirio o safleoedd tirlenwi i'w ailddefnyddio neu ei ailgylchu. DEUNYDDIAU CYMWYS yw'r rhai a restrir yn Neddf Treth Gwarediadau Tirlenwi (Cymru) 2017 ATODLEN 1 : DEUNYDDIAU PENODEDIG AC AMODAU ac y codir tâl amdanynt ar y GYFRADD ISAF pan gânt eu hanfon i safle tirlenwi
B5: 4.3 | C5: Sawl tunnell o Ddeunydd gwastraff cyfradd SAFONOL y mae Darparwr y Gwasanaeth/y Cyflenwr wedi'u dargyfeirio o safle tirlenwi i'w ailddefnyddio neu ei ailgylchu fel rhan o'r contract hwn yn ystod y cyfnod a gwmpesir gan y cyflwyniad hwn? | K5: Dylech ystyried bod unrhyw 'wastraff' a gynhyrchwyd o ganlyniad i'r contract hwn yn wastraff y gellid ei ddargyfeirio o safleoedd tirlenwi i'w ailddefnyddio neu ei ailgylchu. DEUNYDDIAU SAFONOL yw'r rhai nad ydynt yn cyd-fynd â'r manylebau ar gyfer Deunyddiau Cymwys ac Amodau fel y'u nodir yn Atodlen 1 i Ddeddf Treth Gwarediadau Tirlenwi (Cymru) 2017 a restrir yn ATODLEN 1 i Ddeddf Treth Gwarediadau Tirlenwi (Cymru) 2017: DEUNYDDIAU PENODEDIG AC AMODAU ac y codir tâl amdanynt ar y GYFRADD SAFONOL pan gânt eu hanfon i safle tirlenwi
B6: 4.4 | C6: Pa ganran o'r gwastraff a gynhyrchwyd y mae'r Contractwr / y Cyflenwr / Darparwr y Gwasanaeth wedi'i ddargyfeirio o safle tirlenwi fel rhan o'r contract hwn yn ystod y cyfnod a gwmpesir gan y cyflwyniad hwn? | I6: =(I4+I5)/I3 -> #DIV/0! | K6: Y ffigur hwn fydd y ganran, bydd angen i chi gyfrifo neu amcangyfrif cyfanswm y tunelli o wastraff a gynhyrchwyd o ganlyniad i'r contract hwn a pha ganran o'r gwastraff hwnnw a ddargyfeiriwyd o safle tirlenwi Cyfanswm y gwastraff a gynhyrchwyd yn ystod y cyfnod a gwmpesir gan y cyflwyniad hwn
B7: 4.5 | C7: Sawl metr ciwbig o ddŵr a arbedwyd drwy fentrau i leihau'r defnydd o ddŵr fel rhan o'r contract hwn yn ystod y cyfnod a gwmpesir gan y cyflwyniad hwn? | K7: Gall mesurau i leihau'r defnydd o ddŵr gynnwys, er enghraifft, ddefnyddio casgenni dŵr, cydrannau sy'n arbed dŵr neu fesurau cynaliadwy eraill. Rhaid cyflwyno'r ffigur hwn mewn metrau ciwbig. 1 metr ciwbig = 1000 litr.

Sheet 5. CYMUNEDOL AC ADDYSGOL
B1: CYFARWYDDYD : Darparwch y wybodaeth ganlynol lle roedd y Sefydliad Sector Cyhoeddus wedi gofyn am y rhain ac maent wedi'u cyflawni o ganlyniad uniongyrchol i'r contract/prosiect hwn.
B2: 5: MENTRAU CYMUNEDOL AC ADDYSGOL | J2: CANLLAWIAU | K2: SYLWADAU
A3: 5. Cymru o gymunedau cydlynus | B3: 5.1 | C3: Faint o gyfraniadau arian parod neu nawdd a roddodd y contractwr a/neu'r isgontractwyr i sefydliadau neu brosiectau cymunedol neu addysgol sydd wedi'u lleoli yng Nghymru yn ystod y cyfnod a gwmpesir gan y cyflwyniad hwn? DS Dylid cofnodi cyfraniadau arian parod neu nawdd i gefnogi gweithgareddau diwylliannol neu chwaraeon ar y daflen DIWYLLIANT | J3: Dim ond rhoddion ar ffurf arian parod a nawdd y dylech eu hystyried ar gyfer y cwestiwn hwn. Gall hyn gynnwys arian parod neu nawdd a roddwyd gan sefydliadau eraill o ganlyniad i ymdrechion y contractwr a/neu'r isgontractwyr. Ymdrinnir â rhoddion ar ffurf adnoddau ('in-kind') heblaw arian ar wahân. Defnyddiwch y maes ar y dde i roi manylion am y ffordd y cafodd y cyfraniadau arian parod eu dosbarthu a'u defnyddio.
B4: 5.2 | C4: Beth yw gwerth amcangyfrifedig llafur gwirfoddol ('in-kind'); yr amser a dreuliwyd gan bersonél / staff yn ystod y cyfnod a gwmpesir gan y cyflwyniad hwn yn cefnogi gweithgareddau megis gwaith cymunedol, cyfraniadau at addysg (e.e gweithgareddau i gefnogi pynciau STEM GWELER 5.6 ISOD; sesiynau yn yr ystafell ddosbarth neu ymweliadau â safleoedd) a gweithgareddau gwirfoddoli eraill? DS Dylid cofnodi gwerth amcangyfrifedig llafur gwirfoddol ('in-kind') i gefnogi gweithgareddau diwylliannol neu chwaraeon ar y daflen DIWYLLIANT | J4: Nodwch ffigur ariannol yn seiliedig ar nifer yr oriau a gyfrannwyd. Dylai gynnwys unrhyw adnoddau llafur gwirfoddol ('in-kind') ychwanegol a ddefnyddiwyd o ganlyniad i weithgarwch ymgysylltu Darparwr y Gwasanaeth/y Cyflenwr a/neu'r isgontractwyr â'r gymuned. Dylai'r ffigur hwn fod yn seiliedig ar y cyflog fesul awr neu flynyddol ar gyfer y staff dan sylw. Er mwyn cyfrifo cyfradd fesul awr ar gyfer staff y telir cyflog iddynt, rhannwch y cyflog blynyddol â 1,950. Mae hyn yn cynrychioli wythnos 37.5 awr gan gynnwys gwyliau â thâl. Defnyddiwch y maes ar y dde i ddarparu gwybodaeth am y gweithgareddau a gefnogwyd.
B5: 5.3 | C5: Beth yw gwerth amcangyfrifedig cyfraniadau eraill ('in-kind') yn ystod y cyfnod a gwmpesir gan y cyflwyniad hwn i gefnogi gweithgareddau megis gwaith cymunedol, cyfraniadau at addysg (e.e. gweithgareddau i gefnogi pynciau STEM GWELER 5.6 ISOD; sesiynau yn yr ystafell ddosbarth neu ymweliadau â safleoedd) a gweithgareddau gwirfoddoli eraill? DS Dylid cofnodi gwerth cyfraniadau eraill ('in-kind') i gefnogi gweithgareddau diwylliannol neu chwaraeon ar y daflen DIWYLLIANT | J5: Mae enghreifftiau yn cynnwys defnyddio peiriannau a pheirianwaith am ddim, rhoddion ar ffurf cyfarpar diangen neu gyfarpar dros ben, cynhyrchion traul nas gwerthwyd a defnyddio cyfleusterau corfforaethol am ddim. Gall hyn gynnwys rhoddion ('in-kind') o unrhyw fath gan sefydliadau eraill a gafwyd o ganlyniad i ymdrechion y Contractwr a/neu'r isgontractwyr. Defnyddiwch y maes ar y dde i ddarparu unrhyw dystiolaeth sydd ar gael sy'n ategu'r amcangyfrif o werth y cyfraniadau eraill ('in-kind') ar y farchnad. | K5: Darparwch unrhyw dystiolaeth sydd ar gael sy'n ategu'r amcangyfrif o werth y cyfraniadau eraill ('in-kind') ar y farchnad.
A6: 1. Cymru lewyrchus | B6: 5.4 | C6: A gafodd gweithgareddau addysgol yn gysylltiedig â phynciau STEM (Gwyddoniaeth, Technoleg, Peirianneg a Mathemateg) eu cefnogi yn ystod y cyfnod a gwmpesir gan y cyflwyniad hwn? Gall y rhain fod yn gysylltiedig â llafur gwirfoddol neu gyfraniadau Cymunedol neu Addysgol eraill mewn nwyddau a gofnodwyd yn 5.1 neu 5.2 uchod? | J6: Os mai 'DO' yw'r ateb, cwblhewch y llinellau perthnasol isod ar gyfer gweithgareddau sy'n gysylltiedig â phynciau STEM er mwyn nodi'r canlynol; a) nifer y sesiynau yn ôl pwnc b) nifer y disgyblion / myfyrwyr a gafodd fudd o'r sesiynau hyn yn ystod y cyfnod a gwmpesir gan y cyflwyniad hwn | M6: YDY | N6: NA
B7: 5.5 | C7: Nifer y gwersi / gweithgareddau Gwyddoniaeth a gefnogwyd | J7: Rhowch fanylion y gweithgareddau gwyddoniaeth a gefnogwyd yn y blwch Sylwadau =========>
B8: 5.6 | C8: Nifer y disgyblion / myfyrwyr a gafodd fudd o wersi / gweithgareddau Gwyddoniaeth a gefnogwyd | J8: Rhowch fanylion y gweithgareddau gwyddoniaeth a gefnogwyd yn y blwch Sylwadau =========>
B9: 5.7 | C9: Nifer y gwersi / gweithgareddau Technoleg a gefnogwyd | J9: Rhowch fanylion y gweithgareddau gwyddoniaeth a gefnogwyd yn y blwch Sylwadau =========>
B10: 5.8 | C10: Nifer y disgyblion / myfyrwyr a gafodd fudd o wersi / gweithgareddau Technoleg a gefnogwyd | J10: Rhowch fanylion y gweithgareddau gwyddoniaeth a gefnogwyd yn y blwch Sylwadau =========>
B11: 5.9 | C11: Nifer y gwersi / gweithgareddau Peirianneg a gefnogwyd | J11: Rhowch fanylion y gweithgareddau gwyddoniaeth a gefnogwyd yn y blwch Sylwadau =========>
B12: 5.1 | C12: Nifer y disgyblion / myfyrwyr a gafodd fudd o wersi / gweithgareddau Peirianneg a gefnogwyd | J12: Rhowch fanylion y gweithgareddau gwyddoniaeth a gefnogwyd yn y blwch Sylwadau =========>
B13: 5.11 | C13: Nifer y gwersi / gweithgareddau Mathemateg a gefnogwyd | J13: Rhowch fanylion y gweithgareddau gwyddoniaeth a gefnogwyd yn y blwch Sylwadau =========>
B14: 5.12 | C14: Nifer y disgyblion / myfyrwyr a gafodd fudd o wersi / gweithgareddau Mathemateg a gefnogwyd | J14: Rhowch fanylion y gweithgareddau gwyddoniaeth a gefnogwyd yn y blwch Sylwadau =========>

Sheet 6. DIWYLLIANT
B1: CYFARWYDDYD : Darparwch y wybodaeth ganlynol lle roedd y Sefydliad Sector Cyhoeddus wedi gofyn am y rhain ac maent wedi'u cyflawni o ganlyniad uniongyrchol i'r contract/prosiect hwn.
B2: 6: DIWYLLIANT (Iaith, diwylliant a chwaraeon) | J2: CANLLAWIAU | K2: SYLWADAU
B3: IAITH
A4: 6. Cymru â diwylliant bywiog lle mae'r Gymraeg yn ffynnu | B4: 6.1 | C4: Beth yw'r nifer gofynnol o staff a all siarad/ysgrifennu Cymraeg sydd ei angen neu a argymhellir, i gyflawni'r contract hwn? | J4: Caiff y nifer hwn; y gallu i siarad, ysgrifennu neu siarad ac ysgrifennu a'r lefel o hyfedredd sydd ei hangen eu nodi gan y Sefydliad Sector Cyhoeddus neu cytunir arnynt gan y Sefydliad Sector Cyhoeddus a'r contractwr yn seiliedig ar asesiad o'r galw presennol neu ragamcanol gan ddefnyddwyr gwasanaethau i gyfathrebu drwy gyfrwng y Gymraeg ar gyfer y contract hwn. | K4: Lefel 3 – Canolradd (yn cyfateb i TGAU) Siarad Cymraeg i lefel 3 = 'Gall gymryd rhan mewn rhai sgyrsiau sy'n gysylltiedig â gwaith' Ysgrifennu Cymraeg i lefel 3 = 'Gall baratoi deunydd arferol sy'n gysylltiedig â gwaith os caiff ei wirio' Lefel 4 – Uwch (yn cyfateb i Safon Uwch) Siarad Cymraeg i lefel 4 = 'Gall gymryd rhan yn y rhan fwyaf o sgyrsiau sy'n gysylltiedig â gwaith'? Ysgrifennu Cymraeg i lefel 4 - 'Gall baratoi'r rhan fwyaf o waith ysgrifenedig yn Gymraeg'? | L4: Is this too subjective? Do we need an objective measure, NVQ level ? for example? The proficiency levels in the Commentary box are based on the advice in the embedded Word doc Welsh Language Skill Levels from Fiona Marston (Fiona.Marston@gov.wales) | R4: CANLLAWIAU YCHWANEGOL Dylai unrhyw ofyniad o ran hyfedredd mewn siarad a/neu ysgrifennu Cymraeg gael ei bennu a'i gyfiawnhau fel rhan o'r strategaeth gaffael ar gyfer y contract dan sylw.
B5: 6.2 | C5: Sawl aelod o staff sy'n delio â chwsmeriaid / y cyhoedd ac sydd â'r lefel ofynnol o hyfedredd yn y Gymraeg a fu'n gweithio ar y contract hwn ar gyfer y cyfnod a gwmpesir gan y cyflwyniad hwn? | J5: Dylid defnyddio'r metrig hwn i fonitro nifer yr aelodau o staff sy'n siarad / ysgrifennu Cymraeg os bwriedir pennu neu argymell nifer gofynnol o siaradwyr Cymraeg yn seiliedig ar y galw presennol neu ragamcanol gan ddefnyddwyr gwasanaethau i gyfathrebu drwy gyfrwng y Gymraeg. | L5: What is the minimum number of staff required or recommended, to service this contract who are able to speak Welsh to level 4 - 'Can converse in most work related conversations'?
B6: 6.3 | C6: Pa ganran o'r staff sy'n delio â chwsmeriaid / y cyhoedd ac sydd â'r lefel ofynnol o hyfedredd yn y Gymraeg a fu'n gweithio ar y contract hwn ar gyfer y cyfnod a gwmpesir gan y cyflwyniad hwn? | I6: =I5/I4 -> #DIV/0! | J6: Dyma ganran y staff sy'n delio â chwsmeriaid / y cyhoedd a all siarad a/neu ysgrifennu Cymraeg o gymharu â'r gofyniad yn 6.1 uchod
B7: DIWYLLIANT
B8: 6.4 | C8: A yw'r contract wedi cefnogi gweithgareddau diwylliannol yng Nghymru? | J8: Rhestrwch unrhyw weithgareddau Diwylliannol a gefnogwyd yn y blwch Sylwadau ar y dde ------------------>>>>>>>>>>> Sut mae gweithgareddau diwylliannol yng Nghymru yn cael eu diffinio? Bydd y rhain yn weithgareddau sydd wedi'u cynllunio i wneud y canlynol: • Diogelu – asedau treftadaeth e.e. tirweddau, adeiladau, cofebau, parciau, gerddi ac ati • Hyrwyddo – defnyddio / mynychu / gwerthfawrogi / mynediad i Asedau treftadaeth e.e. tirweddau, adeiladau, cofebau, parciau, gerddi gan gynnwys safleoedd CADW a'r Ymddiriedolaeth Genedlaethol, treftadaeth ddiwydiannol – rheilffyrdd a chamlesi hanesyddol ac ati, Amgueddfeydd, archifau a llyfrgelloedd Y celfyddydau (mynychu) e.e. y theatr, perfformiadau, dawns, cerddoriaeth, orielau Chwaraeon (mynychu) e.e. digwyddiadau chwaraeon lleol neu genedlaethol • Cyfranogi – annog neu gynyddu cyfranogiad yn Y Celfyddydau (cyfranogi) e.e. y theatr, perfformiadau, dawns, cerddoriaeth, orielau, ac mewn Chwaraeon (cyfranogi) e.e. o chwaraeon elît i weithgareddau hamdden cyffredinol yn yr awyr agored e.e. cerdded, heicio, beicio | M8: YDY | N8: NA
B9: 6.5 | C9: Faint o gyfraniadau arian parod neu nawdd a roddodd y contractwr a/neu'r isgontractwyr i gefnogi sefydliadau neu brosiectau gweithgareddau diwylliannol sydd wedi'u lleoli yng Nghymru yn ystod y cyfnod a gwmpesir gan y cyflwyniad hwn? DS Dylid cofnodi cyfraniadau arian parod neu nawdd i gefnogi gweithgareddau diwylliannol neu chwaraeon ar y daflen Mentrau Cymunedol ac Addysgol | J9: Nodwch gyfanswm gwerth y cyfraniadau arian parod neu'r nawdd a roddwyd i'r holl weithgareddau diwylliannol a gefnogwyd a lle mae nifer o weithgareddau wedi'u cefnogi, rhowch ddadansoddiad o'r cyfraniad ariannol yn ôl gweithgaredd yn y maes Sylwadau ar y dde ---------------->>>>>>>>>>>
B10: 6.6 | C10: Beth yw gwerth amcangyfrifedig llafur gwirfoddol ('in-kind'); yr amser a dreuliwyd gan bersonél / staff yn ystod y cyfnod a gwmpesir gan y cyflwyniad hwn yn cefnogi gweithgareddau diwylliannol wedi'u lleoli yng Nghymru yn ystod y cyfnod a gwmpesir gan y cyflwyniad hwn? DS Dylid cofnodi gwerth y llafur gwirfoddol ('in-kind') i gefnogi gweithgareddau cymunedol neu addysgol ar y daflen Cymunedol ac Addysgol | J10: Nodwch ffigur ariannol yn seiliedig ar nifer yr oriau a gyfrannwyd. Dylai gynnwys unrhyw adnoddau llafur gwirfoddol ('in-kind') ychwanegol a ddefnyddiwyd o ganlyniad i weithgarwch ymgysylltu Darparwr y Gwasanaeth/y Cyflenwr a/neu'r isgontractwyr â'r gymuned. Dylai'r ffigur hwn fod yn seiliedig ar y cyflog fesul awr neu flynyddol ar gyfer y staff dan sylw. Er mwyn cyfrifo cyfradd fesul awr ar gyfer staff y telir cyflog iddynt, rhannwch y cyflog blynyddol â 1,950. Mae hyn yn cynrychioli wythnos 37.5 awr gan gynnwys gwyliau â thâl. • Defnyddiwch y maes ar y dde i ddarparu gwybodaeth am y gweithgareddau a gefnogwyd.
B11: 6.7 | C11: Beth yw gwerth amcangyfrifedig gwerth cyfraniadau eraill ('in-kind') i gefnogi gweithgareddau diwylliannol yn ystod y cyfnod a gwmpesir gan y cyflwyniad hwn? DS Dylid cofnodi gwerth y cymorth arall ('in-kind') a roddwyd i weithgareddau cymunedol neu addysgol ar y daflen Cymunedol ac Addysgol | J11: Mae enghreifftiau yn cynnwys defnyddio peiriannau a pheirianwaith am ddim, rhoddion ar ffurf cyfarpar diangen neu gyfarpar dros ben, cynhyrchion traul nas gwerthwyd a defnyddio cyfleusterau corfforaethol am ddim. Gall hyn gynnwys rhoddion ('in-kind') o unrhyw fath gan sefydliadau eraill a gafwyd o ganlyniad i ymdrechion y Contractwr a/neu'r isgontractwyr. • Defnyddiwch y maes ar y dde i ddarparu unrhyw dystiolaeth sydd ar gael sy'n ategu'r amcangyfrif o werth y cyfraniadau eraill ('in-kind') ar y farchnad.
B12: CHWARAEON
A13: 3. A healthier Wales | B13: 6.8 | C13: A yw'r contract wedi cefnogi gweithgareddau chwaraeon yn y gymuned? | J13: Rhestrwch unrhyw weithgareddau Chwaraeon yn y gymuned a gefnogwyd yn y blwch Sylwadau ar y dde ------------------>>>>>>>>>>> Gall y rhain fod yn weithgareddau chwaraeon gydag amcanion i annog cyfranogiad a/neu wella canlyniadau iechyd e.e. gwella symudedd, cynyddu lefelau gweithgarwch corfforol, mynd i'r afael â gordewdra, allgáu cymdeithasol
B14: 6.9 | C14: Faint o gyfraniadau arian parod neu nawdd a roddodd y contractwr a/neu'r isgontractwyr i gefnogi sefydliadau neu brosiectau gweithgareddau chwaraeon sydd wedi'u lleoli yng Nghymru yn ystod y cyfnod a gwmpesir gan y cyflwyniad hwn? | J14: Nodwch gyfanswm gwerth y cyfraniadau arian parod neu'r nawdd a roddwyd i'r holl weithgareddau chwaraeon a gefnogwyd a lle mae nifer o weithgareddau wedi'u cefnogi, rhowch ddadansoddiad o'r cyfraniad ariannol yn ôl gweithgaredd yn y maes Sylwadau ar y dde ---------------->>>>>>>>>>>
B15: 6.10 | C15: Beth yw gwerth amcangyfrifedig llafur gwirfoddol ('in-kind'); yr amser a dreuliwyd gan bersonél / staff yn ystod y cyfnod a gwmpesir gan y cyflwyniad hwn yn cefnogi gweithgareddau chwaraeon wedi'u lleoli yng Nghymru yn ystod y cyfnod a gwmpesir gan y cyflwyniad hwn? DS Dylid cofnodi gwerth llafur gwirfoddol ('in-kind') i gefnogi gweithgareddau cymunedol neu addysgol ar y daflen Cymunedol ac Addysgol | J15: Nodwch ffigur ariannol yn seiliedig ar nifer yr oriau o lafur gwirfoddol ('in-kind') a gyfrannwyd. Dylai gynnwys unrhyw adnoddau llafur gwirfoddol ychwanegol a ddefnyddiwyd o ganlyniad i weithgarwch ymgysylltu Darparwr y Gwasanaeth/y Cyflenwr a/neu'r isgontractwyr â'r gymuned. Dylai'r ffigur hwn fod yn seiliedig ar y cyflog fesul awr neu flynyddol ar gyfer y staff dan sylw. Er mwyn cyfrifo cyfradd fesul awr ar gyfer staff y telir cyflog iddynt, rhannwch y cyflog blynyddol â 1,950. Mae hyn yn cynrychioli wythnos 37.5 awr gan gynnwys gwyliau â thâl. • Defnyddiwch y maes ar y dde i ddarparu gwybodaeth am y gweithgareddau chwaraeon a gefnogwyd ---->>>>>>.
B16: 6.11 | C16: Beth yw gwerth amcangyfrifedig cyfraniadau eraill ('in-kind') i gefnogi gweithgareddau chwaraeon yn ystod y cyfnod a gwmpesir gan y cyflwyniad hwn? DS Dylid cofnodi gwerth cyfraniadau eraill ('in-kind') ar gyfer gweithgareddau cymunedol neu addysgol ar y daflen Cymunedol ac Addysgol | J16: Nodwch ffigur ariannol yn seiliedig ar werth amcangyfrifedig cyfraniadau eraill ('in-kind'). Mae enghreifftiau yn cynnwys defnyddio peiriannau a pheirianwaith am ddim, rhoddion ar ffurf cyfarpar diangen neu gyfarpar dros ben, cynhyrchion traul nas gwerthwyd a defnyddio cyfleusterau corfforaethol am ddim. Gall hyn gynnwys rhoddion ('in-kind') o unrhyw fath gan sefydliadau eraill a gafwyd o ganlyniad i ymdrechion y Contractwr a/neu'r isgontractwyr. • Defnyddiwch y maes ar y dde i ddarparu gwybodaeth am y gweithgareddau chwaraeon a gefnogwyd --->>>>. A Defnyddiwch y maes ar y dde i ddarparu unrhyw dystiolaeth sydd ar gael sy'n ategu'r amcangyfrif o werth y cyfraniadau eraill ('in-kind') ar y farchnad--->>>>.

Sheet 7. HYFFORDDIANT
B1: CYFARWYDDYD : Darparwch y wybodaeth ganlynol lle roedd y Sefydliad Sector Cyhoeddus wedi gofyn am y rhain ac maent wedi'u cyflawni o ganlyniad uniongyrchol i'r contract/prosiect hwn.
B2: NODER: 'WYTHNOSAU' yw wythnosau gwaith 5 diwrnod. Os ydych wedi cofnodi mathau o 'hyfforddiant', a restrir yma, yn nifer y diwrnodau, dylech eu trosi'n wythnosau ar y sail hon. Os yw nifer y diwrnodau yn llai nag wythnos, ychwanegwch nodyn yn y blwch Sylwadau perthnasol.
B3: 7: HYFFORDDIANT | J3: CANLLAWIAU | K3: SYLWADAU
A4: 1. Cymru lewyrchus | B4: 7.1 | C4: Faint o gyfleoedd prentisiaeth a ddechreuwyd gan bobl sy'n byw yng Nghymru fel rhan o'r contract hwn yn ystod y cyfnod a gwmpesir gan y cyflwyniad hwn? | J4: Mae prentisiaeth yn drefniant ffurfiol rhwng unigolyn 16+ oed i ennill cyflog a gweithio ochr yn ochr â staff profiadol er mwyn meithrin sgiliau swydd-benodol. Mae'n cynnwys profiad yn y gwaith yn ogystal â hyfforddiant y tu allan i'r gwaith tuag at gymhwyster a gydnabyddir yn genedlaethol mewn amrywiaeth eang o sectorau. Mae'r cwestiwn yn holi am brentisiaethau a ddechreuwyd yn hytrach nag a ddechreuwyd ac a gwblhawyd neu a gwblhawyd yn unig oherwydd, o safbwynt Buddion Cymunedol, mae creu cyfleoedd a/neu ddarparu wythnosau o brofiad gwaith sy'n cefnogi prentisiaethau sy'n mynd rhagddynt yn bwysig. Mae'r dull hwn o gofnodi cyfleoedd prentisiaeth hefyd yn cydnabod, am fod prentisiaethau yn para am o leiaf 18 mis mewn llawer o achosion, ei bod yn bosibl na fyddwch yn gallu dechrau a chwblhau yn ystod tymor eich contract. Dylid hefyd cynnwys dechrau wythnosau prentisiaethau sy'n gysylltiedig â Chynlluniau Prentisiaeth a Rennir. Defnyddiwch y maes ar y dde i ddarparu gwybodaeth, lle y bo'n bosibl, sy'n ategu'r ffigur hwn. | K4: Noder: Mae pedair lefel o Brentisiaeth ar gael, yn dibynnu ar sgiliau a chymwysterau'r ymgeisydd, sef: 1. Prentisiaethau Canolradd (lefel 2) 2. Uwch Brentisiaeth (lefel 3) 3. Prentisiaeth Uwch (lefel 4-5) 4. Gradd-Brentisiaethau (lefel 6-7) - 'gradd baglor' (lefel 6); Gradd Meistr (lefel 7). https://www.gov.uk/government/publications/higher-and-degree-apprenticeships --------------------------------
B5: 7.2 | C5: Faint o wythnosau prentisiaeth a gwblhawyd gan bobl sy'n byw yng Nghymru fel rhan o'r contract hwn yn ystod y cyfnod a gwmpesir gan y cyflwyniad hwn? | J5: Nodwch gyfanswm yr wythnosau prentisiaeth a gwblhawyd yn ystod y cyfnod a gwmpesir gan y cyflwyniad hwn. Defnyddiwch y blwch sylwadau ar y dde i ddarparu gwybodaeth, lle y bo'n bosibl, sy'n ategu'r ffigur hwn. | M5: DON'T KNOW | N5: NONE | O5: 1 | P5: 2 | Q5: 3 | R5: 4 | S5: 5 | T5: 6 | U5: 7 | V5: 8 | W5: 9 | X5: 10 | Y5: 11 | Z5: 12 | AA5: 13 | AB5: 14 | AC5: 15 | AD5: 16 | AE5: 17 | AF5: 18 | AG5: 19 | AH5: 20
A6: 4. Cymru sy'n fwy cyfartal | B6: 7.3 | C6: Faint o gyfleoedd hyfforddeiaeth a ddechreuwyd ac a gwblhawyd gan bobl sy'n byw yng Nghymru fel rhan o'r contract hwn yn ystod y cyfnod a gwmpesir gan y cyflwyniad hwn? | J6: Bwriedir i hyfforddeiaeth gefnogi pobl ifanc 16-18 oed nad ydynt Mewn Addysg, Cyflogaeth na Hyfforddiant (NEET). Bwriedir i hyfforddeiaeth gefnogi pobl ifanc sydd am weithio, ond y gall fod angen cymorth ychwanegol arnynt i ennill y sgiliau a'r profiad sydd eu hangen i symud ymlaen i brentisiaeth, swydd neu addysg bellach. Mae hyfforddeiaethau yn para rhwng 12 wythnos a 12 mis yn dibynnu ar anghenion unigolyn.
B7: 7.4 | C7: Nodwch gyfanswm yr wythnosau hyfforddeiaeth a gwblhawyd fel rhan o'r contract hwn yn ystod y cyfnod a gwmpesir gan y cyflwyniad hwn? | J7: Nodwch gyfanswm yr wythnosau hyfforddeiaeth a gwblhawyd fel rhan o'r contract hwn. Defnyddiwch y maes ar y dde i ddarparu gwybodaeth, lle y bo'n bosibl, sy'n ategu'r ffigur hwn.
B8: 7.5 | C8: Faint o gyfleoedd profiad gwaith / interneiaeth ar gyfer pobl sy'n byw yng Nghymru a ddechreuwyd ac a gwblhawyd fel rhan o'r contract hwn yn ystod y cyfnod a gwmpesir gan y cyflwyniad hwn? | J8: Gall lleoliad profiad gwaith neu interneiaeth fod yn drefniant ffurfiol neu anffurfiol i roi profiad gwaith, a all fod am dâl neu'n ddi-dâl, i unigolyn, myfyriwr fel arfer. Dylech gynnwys manylion unrhyw brofiad gwaith rydych wedi'i ddarparu i fyfyrwyr a oedd yn astudio llwybr Addysg Bellach.
B9: 7.6 | C9: Nodwch gyfanswm yr wythnosau o brofiad gwaith / interneiaeth a gwblhawyd fel rhan o'r contract hwn yn ystod y cyfnod a gwmpesir gan y cyflwyniad hwn? | J9: Nodwch gyfanswm yr wythnosau o brofiad gwaith / interneiaeth a gwblhawyd fel rhan o'r contract hwn. Defnyddiwch y maes ar y dde i ddarparu gwybodaeth, lle y bo'n bosibl, sy'n ategu'r ffigur hwn.
A10: 1. Cymru lewyrchus | B10: 7.7 | C10: Faint o leoliadau i raddedigion ar gyfer pobl sy'n byw yng Nghymru a ddechreuwyd ac a gwblhawyd fel rhan o'r contract hwn yn ystod y cyfnod a gwmpesir gan y cyflwyniad hwn? | J10: Mae lleoliad i raddedigion yn gyflogaeth sydd wedi'i thargedu at unigolion sydd wedi graddio'n ddiweddar o goleg neu Brifysgol. Dylid cofnodi cyfleoedd i israddedigion sy'n ategu eu hastudiaethau â phrofiad ymarferol o dan brofiad gwaith neu interneiaethau yn 6.7 uchod Defnyddiwch y maes ar y dde i ddarparu gwybodaeth, lle y bo'n bosibl, sy'n ategu'r ffigur hwn.
B11: 7.8 | C11: Nodwch gyfanswm yr wythnosau lleoliadau i raddedigion a gwblhawyd fel rhan o'r contract hwn yn ystod y cyfnod a gwmpesir gan y cyflwyniad hwn? | J11: Nodwch gyfanswm yr wythnosau lleoliadau i raddedigion a gwblhawyd fel rhan o'r contract hwn. Defnyddiwch y maes ar y dde i ddarparu gwybodaeth, lle y bo'n bosibl, sy'n ategu'r ffigur hwn.
A12: 4. Cymru sy'n fwy cyfartal | B12: 7.9 | C12: Faint o dreialon gwaith i bobl sy'n byw yng Nghymru a gwblhawyd fel rhan o'r contract hwn yn ystod y cyfnod a gwmpesir gan y cyflwyniad hwn? | J12: Mae treialon gwaith yn galluogi cyflogwyr i brofi pobl ddi-waith mewn swydd benodol am hyd at 30 diwrnod gwaith tra bod yr unigolyn yn parhau i fod â'r hawl i gael budd-daliadau drwy Adran Gwaith a Phensiynau (DWP) y DU. Defnyddiwch y maes ar y dde i ddarparu gwybodaeth, lle y bo'n bosibl, sy'n ategu'r ffigur hwn.
B13: 7.10 | C13: Nodwch gyfanswm yr wythnosau treialon gwaith a gwblhawyd fel rhan o'r contract hwn yn ystod y cyfnod a gwmpesir gan y cyflwyniad hwn? | J13: Nodwch gyfanswm yr wythnosau treialon gwaith a gwblhawyd fel rhan o'r contract hwn. Defnyddiwch y maes ar y dde i ddarparu gwybodaeth, lle y bo'n bosibl, sy'n ategu'r ffigur hwn.
B14: 7.11 | C14: Faint o gyfleoedd gwaith gwirfoddol a gwblhawyd fel rhan o'r contract hwn yn ystod y cyfnod a gwmpesir gan y cyflwyniad hwn? | J14: Gall cyfleoedd gwaith gwirfoddol gynnwys nifer o oriau neu ddiwrnodau yr wythnos. Mae'r hyblygrwydd hwn yn ffordd ddefnyddiol o gael profiad a/neu ddiweddaru gwybodaeth a sgiliau i bobl sy'n ei chael hi'n anodd cael gwaith. Mae cyfleoedd gwirfoddoli hefyd yn ddefnyddiol fel cyfleoedd lefel mynediad i bobl sydd â rhwystrau cymhleth i waith a fyddai'n elwa o gael eu cyflwyno i waith yn raddol. Rhaid cynllunio unrhyw waith gwirfoddol er mwyn cynnig profiad defnyddiol a chyfleoedd i ddatblygu sgiliau. | K14: Nodwch natur y profiad gwaith a'r sgiliau a ddatblygwyd gan y cyfleoedd gwirfoddoli.
B15: 7.12 | C15: Faint o wythnosau o waith gwirfoddol a gwblhawyd fel rhan o'r contract hwn yn ystod y cyfnod a gwmpesir gan y cyflwyniad hwn? | J15: Nodwch gyfanswm yr wythnosau o waith gwirfoddol a gwblhawyd fel rhan o'r contract hwn. Defnyddiwch y maes ar y dde i ddarparu gwybodaeth, lle y bo'n bosibl, sy'n ategu'r ffigur hwn.
A16: 1. Cymru lewyrchus | B16: 7.13 | C16: Faint o gyfleoedd hyfforddiant achrededig o unrhyw lefel a gwblhawyd fel rhan o'r contract hwn yn ystod y cyfnod a gwmpesir gan y cyflwyniad hwn? DS peidiwch â chynnwys hyfforddiant Prentisiaeth yma, nodir hwn o dan 7.1 uchod | J16: Hyfforddiant ACHREDEDIG yw unrhyw hyfforddiant tuag at gymhwyster ffurfiol, er enghraifft cymwysterau NVQ, cymwysterau'r Sefydliad Arweinyddiaeth a Rheoli (ILM), cymwysterau Iechyd a Diogelwch (e.e. NEBOSH, IOSH). Dylid ystyried cymwysterau ACHREDEDIG a enillwyd gan staff newydd neu bresennol, ar yr amod eu bod wedi dechrau a chwblhau'r cwrs o ganlyniad i'r contract hwn. Defnyddiwch y maes ar y dde i ddarparu gwybodaeth, lle y bo'n bosibl, sy'n ategu'r ffigur hwn.
B17: 7.14 | C17: Faint o wythnosau o hyfforddiant achrededig o unrhyw lefel a gwblhawyd fel rhan o'r contract hwn yn ystod y cyfnod a gwmpesir gan y cyflwyniad hwn? | J17: Nodwch gyfanswm yr wythnosau o hyfforddiant achrededig a gwblhawyd fel rhan o'r contract hwn. Defnyddiwch y maes ar y dde i ddarparu gwybodaeth, lle y bo'n bosibl, sy'n ategu'r ffigur hwn.
B18: 7.15 | C18: Faint o gyfleoedd hyfforddiant heb ei achredu o unrhyw lefel a gwblhawyd fel rhan o'r contract hwn yn ystod y cyfnod a gwmpesir gan y cyflwyniad hwn? | J18: Hyfforddiant HEB EI ACHREDU yw unrhyw hyfforddiant nad yw'n arwain at gymhwyster ffurfiol ond y gellir ei gydnabod fel profiad neu sgìl werthfawr, er enghraifft hyfforddiant ar sut i osod neu weithredu cynnyrch penodol. Gellir cofnodi profiad gwaith neu sgiliau gwerthfawr a enillwyd gan staff newydd neu bresennol drwy hyfforddiant HEB EI ACHREDU ar yr amod eu bod wedi dechrau a chwblhau'r cwrs o ganlyniad i'r contract hwn. Defnyddiwch y maes ar y dde i ddarparu gwybodaeth, lle y bo'n bosibl, sy'n ategu'r ffigur hwn.
B19: 7.16 | C19: Faint o wythnosau o hyfforddiant heb ei achredu a ddarparwyd yn ystod y cyfnod a gwmpesir gan y cyflwyniad hwn? | J19: Nodwch gyfanswm yr wythnosau o hyfforddiant heb ei achredu a gwblhawyd fel rhan o'r contract hwn. Defnyddiwch y maes ar y dde i ddarparu gwybodaeth, lle y bo'n bosibl, sy'n ategu'r ffigur hwn.

Sheet FFURFLEN GYMERADWYO
B2: PECYN MESUR BUDDION CYMUNEDOL LLESIANT CENEDLAETHAU'R DYFODOL
B3: Er mwyn sicrhau bod y data a gofnodir gan y Pecyn Mesur Buddion Cymunedol yn gywir, i'r graddau y bo hynny'n bosibl, mae angen i gyflwyniadau gael eu cymeradwyo gan gynrychiolwyr y sefydliad sector cyhoeddus a'r prif gontractwr neu gyflenwr sy'n rheoli'r gwaith o gyflawni'r Buddion Cymunedol sy'n destun y cyflwyniad hwn.
B4: Y Llofnodwr ar ran y sefydliad sector cyhoeddus
B5: Cadarnhaf, hyd eithaf fy ngwybodaeth, fod hwn yn adlewyrchiad cywir o'r Buddion Cymunedol a sicrhawyd yn ystod y cyfnod a gwmpesir gan y cyflwyniad hwn. Cadarnhaf, hefyd, fod gennyf yr awdurdod i gymeradwyo'r cyflwyniad hwn ar ran y Sefydliad Sector Cyhoeddus sy'n rheoli'r gwaith o gyflawni'r Buddion Cymunedol ar gyfer y contract hwn.
B6: ENW'R PERSON AWDURDODEDIG
B7: ENW'R SEFYDLIAD SECTOR CYHOEDDUS
B9: Y Llofnodwr ar ran y Contractwr
B10: Cadarnhaf, hyd eithaf fy ngwybodaeth, fod hwn yn adlewyrchiad cywir o'r Buddion Cymunedol a sicrhawyd yn ystod y cyfnod a gwmpesir gan y cyflwyniad hwn. Cadarnhaf, hefyd, fod gennyf yr awdurdod i gymeradwyo'r cyflwyniad hwn ar ran y Contractwr sy'n rheoli'r gwaith o gyflawni'r Buddion Cymunedol ar gyfer y contract hwn.
B11: ENW'R PERSON AWDURDODEDIG
B12: ENW SEFYDLIAD Y CONTRACTWR

Sheet CANLYNIADAU
A1: Nodau Llesiant Cenedlaethau'r Dyfodol | B1: Mae'r dudalen hon yn crynhoi'r buddion cymunedol ar gyfer y contract neu'r prosiect sy'n cael ei ystyried. Os na ofynnwyd i chi gofnodi gwybodaeth ar gyfer amcanion Buddion Cymunedol penodol neu os nad ydych wedi gallu darparu'r holl wybodaeth y gofynnwyd amdani mewn taflenni gwaith blaenorol, gall rhai o'r meysydd canlyniadau isod aros yn wag. Mae'r dudalen hon hefyd yn esbonio'r fethodoleg sy'n sail i'r ffigurau a gyflwynir.
B2: LLUOSYDD CONTRACT | J2: BETH YW YSTYR HYN?
A3: Cymru lewyrchus | B3: R0 | C3: Gwerth contract | I3: ='1. CYFFREDINOL'!I7 -> 0 | J3: Dyma'r gwerth a nodir yn 1.5. | L3: DON'T KNOW | M3: NONE | N3: 1 | O3: 2 | P3: 3 | Q3: 4 | R3: 5 | S3: 6 | T3: 7 | U3: 8 | V3: 9 | W3: 10 | X3: 11 | Y3: 12 | Z3: 13 | AA3: 14 | AB3: 15 | AC3: 16 | AD3: 17 | AE3: 18 | AF3: 19 | AG3: 20
A4: Cymru lewyrchus | B4: R1 | C4: Lluosydd lleol Cymru | I4: =(I6+I7+I9)/I3 -> #DIV/0! | J4: Dengys lluosydd lleol Cymru effaith gymharol y contract hwn ar Gymru. Ar gyfer pob £1 a wariwyd ar y contract hwn, mae'r swm canlynol o arian wedi'i ailfuddsoddi yn economi Cymru. Mae'r ffigur hwn yn seiliedig ar b'un a wariwyd y contract ar gontractwr wedi'i leoli yng Nghymru (a nodir yn 1.2) ac yna faint o incwm y contract a ailwariodd y contractwr hwnnw, p'un a yw wedi'i leoli yng Nghymru ai peidio (a nodir ar y Taflenni CADWYN GYFLENWI A CHYFLOGAETH). Caiff y symiau a wariwyd ar gyflenwyr / isgontractwyr neu ar staff a gweithwyr wedi'u lleoli yng Nghymru eu hychwanegu at ei gilydd a'u rhannu â gwerth y contract er mwyn llunio cymhareb sy'n dangos faint a wariwyd ar y contract i greu'r incwm ychwanegol ar gyfer Economi Cymru. | L4: DON'T KNOW | M4: NONE | N4: 1 | O4: 2 | P4: 3 | Q4: 4 | R4: 5 | S4: 6 | T4: 7 | U4: 8 | V4: 9 | W4: 10 | X4: 11 | Y4: 12 | Z4: 13 | AA4: 14 | AB4: 15 | AC4: 16 | AD4: 17 | AE4: 18 | AF4: 19 | AG4: 20
B5: BUDDION Y GELLIR EU TROI'N ARIAN PAROD | J5: BETH YW YSTYR HYN?
A6: Cymru lewyrchus | B6: R2 | C6: Buddsoddiad uniongyrchol | I6: ='1. CYFFREDINOL'!O4 -> 0 | J6: Dyma werth y contract os yw wedi'i ddyfarnu i gontractwr wedi'i leoli yng Nghymru. Dyma'r ffigur a gofnodir yn 2.2 os yw'r contractwr wedi'i leoli yng Nghymru fel y nodir yn 1.2. Y ffigur hwn yw 0 os yw'r contractwr wedi'i leoli y tu allan i Gymru. | L6: DON'T KNOW | M6: NONE | N6: 1 | O6: 2 | P6: 3 | Q6: 4 | R6: 5 | S6: 6 | T6: 7 | U6: 8 | V6: 9 | W6: 10 | X6: 11 | Y6: 12 | Z6: 13 | AA6: 14 | AB6: 15 | AC6: 16 | AD6: 17 | AE6: 18 | AF6: 19 | AG6: 20
A7: Cymru lewyrchus | B7: R3 | C7: Refeniw i fusnesau wedi'u lleoli yng Nghymru | I7: ='2. CADWYN GYFLENWI'!I4 -> 0 | J7: Dyma'r swm a wariodd y contractwr ar fusnesau wedi'u lleoli yng Nghymru yn ystod y cyfnod a gwmpesir gan y cyflwyniad hwn a nodir yn 2.2 | L7: DON'T KNOW | M7: NONE | N7: 1 | O7: 2 | P7: 3 | Q7: 4 | R7: 5 | S7: 6 | T7: 7 | U7: 8 | V7: 9 | W7: 10 | X7: 11 | Y7: 12 | Z7: 13 | AA7: 14 | AB7: 15 | AC7: 16 | AD7: 17 | AE7: 18 | AF7: 19 | AG7: 20
A8: Cymru lewyrchus | C8: Y ganran a wariwyd ar fusnesau wedi'u lleoli yng Nghymru yn ystod y cyfnod a gwmpesir gan y cyflwyniad hwn? | I8: ='2. CADWYN GYFLENWI'!I5 -> #DIV/0! | J8: Mae'r ganran hon yn cynrychioli faint o gyfanswm y gwariant ar fusnesau yn 1.3 a wariwyd ar fusnesau wedi'u lleoli yng Nghymru fel y'i nodir yn 2.2
A9: Cymru lewyrchus | B9: R4 | C9: Incwm i bobl sy'n byw yng Nghymru | I9: ='3. CYFLOGAETH'!I4 -> 0 | J9: Dyma'r swm a wariodd y contractwr ar gyflogau i bobl sy'n byw yng Nghymru yn ystod y cyfnod a gwmpesir gan y cyflwyniad hwn a dyma'r ffigur a nodir yn 3.2
A10: Cymru lewyrchus | C10: Y ganran a wariwyd ar gyflogau i bobl sy'n byw yng Nghymru | I10: ='3. CYFLOGAETH'!I5 -> #DIV/0! | J10: Mae'r ganran hon yn cynrychioli faint o'r gwariant ar bobl, fel cyflogau i staff a gweithwyr yn 1.4, a aeth i bobl sy'n byw yng Nghymru fel y'i nodir yn 3.2
A11: Cymru lewyrchus | B11: R5 | C11: Arbedion drwy leihau'r defnydd o ddŵr | I11: ='4. YR AMGYLCHEDD AC ADNODDAU'!I7*NEWIDYNNAU!E5 -> 0 | J11: Dyma gyfanswm yr arian a arbedwyd yn ystod y cyfnod a gwmpesir gan y cyflwyniad hwn drwy leihau'r defnydd o ddŵr fel rhan o'r contract hwn yn 4.5. Mae'r ffigur hwn yn seiliedig ar daliadau mesuredig safonol presennol ar gyfer ardrethi dŵr a charthffosiaeth ar gyfer Dŵr Cymru. Mae'r ffigur hwn yn seiliedig ar nifer y metrau ciwbig a arbedwyd drwy fesurau i leihau'r defnydd o ddŵr yn ystod y cyfnod a gwmpesir gan y cyflwyniad hwn. Gall hyn gynnwys, er enghraifft, fesurau i leihau'r defnydd o ddŵr neu faint o ddŵr sy'n gollwng, defnyddio casgenni dŵr, dŵr 'llwyd', neu fesurau cynaliadwy eraill. Rhaid cyflwyno'r ffigur hwn mewn metrau ciwbig. 1 metr ciwbig = 1000 litr.
A12: Cymru lewyrchus | B12: R6 | C12: Ffioedd y Dreth Gwarediadau Tirlenwi a arbedwyd | I12: ='4. YR AMGYLCHEDD AC ADNODDAU'!I4*NEWIDYNNAU!E3+'4. YR AMGYLCHEDD AC ADNODDAU'!I5*NEWIDYNNAU!E4 -> 0 | J12: Dyma gyfanswm yr arian a arbedwyd yn ystod y cyfnod a gwmpesir gan y cyflwyniad hwn drwy ddargyfeirio gwastraff o safle tirlenwi. Mae'r ffigur hwn yn seiliedig ar y Dreth Gwarediadau Tirlenwi bresennol (gweler NEWIDYNNAU) fel y'i pennir gan Lywodraeth Cymru o dan ddarpariaethau Deddf Treth Gwarediadau Tirlenwi (Cymru) 2017 ar y Cyfraddau Isaf a Safonol yn seiliedig ar y tunelli o ddeunydd Cymwys cyfradd Isaf yn 4.3 a deunydd cyfradd Safonol yn 4.4 na chafodd ei anfon i safle tirlenwi i'w waredu.
A13: Cymru o gymunedau cydlynus | B13: R7 | C13: Rhoddion ar ffurf arian parod / nawdd – gweithgareddau Cymunedol neu Addysgol | I13: ='5. CYMUNEDOL AC ADDYSGOL'!I3 -> 0 | J13: Dyma'r swm a gyfrannodd y contractwr at weithgareddau Cymunedol neu Addysgol ar ffurf rhoddion arian parod yn ystod y cyfnod a gwmpesir gan y cyflwyniad hwn. Dyma'r ffigur a nodir yn 5.3
A14: Cymru â diwylliant bywiog lle mae'r Gymraeg yn ffynnu | B14: R8 | C14: Rhoddion ar ffurf arian parod / nawdd – gweithgaredau Diwylliannol | I14: ='6. DIWYLLIANT'!I9 -> 0 | J14: Dyma'r swm a gyfrannodd y contractwr at weithgareddau Diwylliannol ar ffurf rhoddion arian parod yn ystod y cyfnod a gwmpesir gan y cyflwyniad hwn. Dyma'r ffigur a nodir yn 6.5
A15: Cymru iachach | B15: R9 | C15: Rhoddion ar ffurf arian parod / nawdd – Gweithgareddau chwaraeon | I15: ='6. DIWYLLIANT'!I14 -> 0 | J15: Dyma'r swm a gyfrannodd y contractwr at weithgareddau Chwaraeon ar ffurf rhoddion arian parod yn ystod y cyfnod a gwmpesir gan y cyflwyniad hwn. Dyma'r ffigur a nodir yn 6.9
A16: Cymru o gymunedau cydlynus | B16: R10 | C16: Gwerth llafur gwirfoddol ('in-kind') a chyfraniadau eraill ('in-kind') – gweithgareddau Cymunedol neu Addysgol | I16: ='5. CYMUNEDOL AC ADDYSGOL'!I4+'5. CYMUNEDOL AC ADDYSGOL'!I5 -> 0 | J16: Dyma'r swm a gyfrannodd y contractwr at weithgareddau Cymunedol neu Addysgol ar ffurf llafur gwirfoddol ('in-kind') a chyfraniadau eraill ('in-kind') yn ystod y cyfnod a gwmpesir gan y cyflwyniad hwn. Dyma'r ffigurau a nodir yn 5.4 a 5.5
A17: Cymru â diwylliant bywiog lle mae'r Gymraeg yn ffynnu | B17: R11 | C17: Gwerth llafur gwirfoddol ('in-kind') a chyfraniadau eraill ('in-kind') – gweithgareddau Diwylliannol | I17: ='6. DIWYLLIANT'!I10+'6. DIWYLLIANT'!I11 -> 0 | J17: Dyma'r swm a gyfrannodd y contractwr at weithgareddau Diwylliannol ar ffurf llafur gwirfoddol ('in-kind')a chyfraniadau eraill ('in-kind') yn ystod y cyfnod a gwmpesir gan y cyflwyniad hwn. Dyma'r ffigurau a nodir yn 6.6 a 6.7
A18: Cymru iachach | B18: R12 | C18: Gwerth llafur gwirfoddol ('in-kind')a chyfraniadau eraill ('in-kind') – gweithgareddau Chwaraeon | I18: ='6. DIWYLLIANT'!I15+'6. DIWYLLIANT'!I16 -> 0 | J18: Dyma'r swm a gyfrannodd y contractwr at weithgareddau Chwaraeon ar ffurf llafur gwirfoddol ('in-kind') a chyfraniadau eraill ('in-kind') yn ystod y cyfnod a gwmpesir gan y cyflwyniad hwn. Dyma'r ffigurau a nodir yn 6.10 a 6.11
A19: Cymru lewyrchus | B19: R13 | C19: Cyfanswm y buddsoddiad yn economi Cymru | I19: =SUM(I6,I7,I9,I11,I12,I13,I14,I15,I16,I17,I18) -> 0 | J19: Dyma werth y contract i economi Cymru a gynhyrchwyd yn ystod y cyfnod a gwmpesir gan y cyflwyniad hwn.
B20: BUDDION YCHWANEGOL | J20: BETH YW YSTYR HYN?
A21: Cymru lewyrchus | B21: R14 | C21: Cyfraniad at BBaChau wedi'u lleoli yng Nghymru | I21: ='2. CADWYN GYFLENWI'!I6 -> 0 | J21: Dyma gyfanswm yr arian a wariodd y contractwr ar BBaChau wedi'u lleoli yng Nghymru yn ystod y cyfnod a gwmpesir gan y cyflwyniad hwn. Dyma'r ffigur a nodir yn 2.3 ac mae'n rhan o gyfanswm y Refeniw i fusnesau wedi'u lleoli yng Nghymru a nodir yn R3 uchod
A22: Cymru lewyrchus | C22: Y ganran a wariwyd ar BBaChau wedi'u lleoli yng Nghymru | I22: ='2. CADWYN GYFLENWI'!I7 -> #DIV/0! | J22: Dyma ganran yr arian a wariwyd ar fusnesau wedi'u lleoli yng Nghymru, y ffigur a nodir yn 2.2, a oedd hefyd yn BBaChau.
A23: Cymru lewyrchus | B23: R15 | C23: Cyfraniad at fentrau yn y trydydd sector wedi'u lleoli yng Nghymru | I23: ='2. CADWYN GYFLENWI'!I8 -> 0 | J23: Dyma gyfanswm yr arian a wariodd y contractwr ar fentrau yn y trydydd sector wedi'u lleoli yng Nghymru yn ystod y cyfnod a gwmpesir gan y cyflwyniad hwn. Dyma'r ffigur a nodir yn 2.4 ac mae'n rhan o gyfanswm y Refeniw i fusnesau yng Nghymru a nodir yn R3 uchod
A24: Cymru lewyrchus | C24: Y ganran a wariwyd ar Fentrau yn y Trydydd Sector wedi'u lleoli yng Nghymru | I24: ='2. CADWYN GYFLENWI'!I9 -> #DIV/0! | J24: Dyma ganran yr arian a wariwyd ar fusnesau wedi'u lleoli yng Nghymru, y ffigur a nodir yn 2.2, a oedd hefyd yn Fentrau yn y Trydydd Sector
A25: Cymru lewyrchus | B25: R16 | C25: Canran yr isgontractwyr a dalwyd o fewn 30 diwrnod | I25: ='2. CADWYN GYFLENWI'!I10 -> 0 | J25: Dyma ganran yr isgontractwyr a dalwyd o fewn 30 diwrnod yn ystod y cyfnod a gwmpesir gan y cyflwyniad hwn. Dyma'r ffigur a nodir yn 2.6
A26: Cymru lewyrchus | B26: R17 | C26: A yw Cyfrif Banc Prosiect wedi'i ddefnyddio ar gyfer y contract hwn? | I26: ='2. CADWYN GYFLENWI'!I11 -> NA | J26: Mae Cyfrifon Banc Prosiect yn helpu i wella tryloywder a sicrhau bod contractwyr a phartneriaid yn y gadwyn gyflenwi yn cael eu talu'n brydlon.
A27: Cymru lewyrchus | B27: R18 | C27: Staff sy'n byw yng Nghymru sydd wedi'u cadw | I27: ='3. CYFLOGAETH'!I7 -> 2 | J27: Dyma nifer y staff a gadwyd a fyddai wedi cael eu diswyddo neu a fyddai'n ddi-waith heb y gwaith a ddarparwyd gan y contract hwn ar gyfer y cyfnod a gwmpesir gan y cyflwyniad hwn. Dyma'r ffigur a nodir yn 3.4
A28: Cymru sy'n fwy cyfartal | B28: R19 | C28: Lleihau diweithdra byrdymor | I28: ='3. CYFLOGAETH'!I8-CANLYNIADAU!I29 -> 10 | J28: Dyma nifer y bobl a gyflogwyd yn ystod y cyfnod a gwmpesir gan y cyflwyniad hwn i weithio ar y contract hwn ond na fyddant yn parhau ar ôl hynny. Dyma nifer y bobl yn 3.6 nad yw'r contractwr yn bwriadu eu cyflogi y tu hwnt i'r contract = Lle mae NA wedi'i nodi yng ngholofn L o'r tab cyflogaeth.
A29: Cymru sy'n fwy cyfartal | B29: R20 | C29: Lleihau diweithdra hirdymor | I29: =COUNTIF('3. CYFLOGAETH'!L11:L59,"YDY") -> 0 | J29: Dyma nifer y bobl a gyflogwyd yn ystod y cyfnod a gwmpesir gan y cyflwyniad hwn i weithio ar y contract hwn y bydd darparwr y gwasanaeth / y cyflenwr yn parhau i'w cyflogi. Dyma nifer y bobl yn 3.6 y mae'r contractwr yn bwriadu eu cyflogi y tu hwnt i'r contract = Lle mae YDY wedi'i nodi yng ngholofn L o'r tab cyflogaeth.
A30: Cymru sy'n fwy cyfartal | B30: R21 | C30: Gweithwyr di-waith a gyflogwyd | I30: =COUNTIF('3. CYFLOGAETH'!H11:H59,"YDY") -> 0 | J30: Dyma nifer y gweithwyr DI-WAITH a gyflogwyd yn ystod y cyfnod a gwmpesir gan y cyflwyniad hwn i weithio fel rhan o'r contract hwn. Dyma nifer y bobl yn 3.6 y mae'r contractwr wedi'u cyflogi a oedd yn ddi-waith cyn hynny am hyd at 6 mis. DS mae'n bosibl bod unigolion sydd wedi'u cyfrif yma hefyd wedi cael eu cyfrif fel gweithiwr anabl os yw'n briodol
A31: Cymru sy'n fwy cyfartal | B31: R22 | C31: Gweithwyr difreintiedig a gyflogwyd | I31: =COUNTIF('3. CYFLOGAETH'!I11:I59,"YDY") -> 0 | J31: Dyma nifer y gweithwyr DIFREINTIEDIG a gyflogwyd yn ystod y cyfnod a gwmpesir gan y cyflwyniad hwn i weithio fel rhan o'r contract hwn. Dyma nifer y bobl yn 3.6 y mae'r contractwr wedi'u cyflogi a fyddai wedi cael eu hystyried yn weithiwr DIFREINTIEDIG cyn hynny. DS mae'n bosibl bod unigolion sydd wedi'u cyfrif yma hefyd wedi cael eu cyfrif fel gweithiwr anabl os yw'n briodol
A32: Cymru sy'n fwy cyfartal | B32: R23 | C32: Gweithwyr difreintiedig iawn a gyflogwyd | I32: =COUNTIF('3. CYFLOGAETH'!J11:J59,"YDY") -> 0 | J32: Dyma nifer y gweithwyr DIFREINTIEDIG IAWN a gyflogwyd yn ystod y cyfnod a gwmpesir gan y cyflwyniad hwn i weithio fel rhan o'r contract hwn. Dyma nifer y bobl yn 3.6 y mae'r contractwr wedi'u cyflogi a fyddai wedi cael eu hystyried yn weithiwr DIFREINTIEDIG IAWN cyn hynny. DS mae'n bosibl bod unigolion sydd wedi'u cyfrif yma hefyd wedi cael eu cyfrif fel gweithiwr anabl os yw'n briodol
A33: Cymru sy'n fwy cyfartal | B33: R24 | C33: Gweithwyr anabl a gyflogwyd | I33: =COUNTIF('3. CYFLOGAETH'!K11:K59,"YDY") -> 0 | J33: Dyma nifer y gweithwyr ANABL a gyflogwyd yn ystod y cyfnod a gwmpesir gan y cyflwyniad hwn i weithio fel rhan o'r contract hwn. Dyma nifer y bobl yn 3.6 y mae'r contractwr wedi'u cyflogi a fyddai wedi cael eu hystyried yn weithiwr ANABL cyn hynny. DS mae'n bosibl bod unigolion sydd wedi'u cyfrif yma hefyd wedi cael eu cyfrif fel gweithiwr difreintiedig neu ddifreintiedig iawn yn dibynnu ar hyd eu cyfnod blaenorol o ddiweithdra, neu mae'n bosibl eu bod wedi'u cyfrif fel recriwt hefyd drwy raglen ESGYN.
A34: Cymru lewyrchus | B34: R25 | C34: Cyfanswm y cyfleoedd Cyflogaeth a Hyfforddiant a grëwyd ar y contract hwn yn ystod y cyfnod a gwmpesir gan y cyflwyniad hwn? | I34: ='3. CYFLOGAETH'!I7+'3. CYFLOGAETH'!I8+'7. HYFFORDDIANT'!I4+'7. HYFFORDDIANT'!I6+'7. HYFFORDDIANT'!I8+'7. HYFFORDDIANT'!I10+'7. HYFFORDDIANT'!I12+'7. HYFFORDDIANT'!I14+'7. HYFFORDDIANT'!I16+'7. HYFFORDDIANT'!I18 -> 12 | J34: Dyma gyfanswm y cyfleoedd cyflogaeth neu hyfforddiant a grëwyd ac a gofnodir yn 3.5, 3.6, 7.1, 7.3, 7.5, 7.7, 7.9, 7.11, 7.13, 7.15
A35: Cymru lewyrchus | B35: R26 | C35: Cyfanswm yr wythnosau o hyfforddiant a ddarparwyd ar y contract hwn yn ystod y cyfnod a gwmpesir gan y cyflwyniad hwn? | I35: ='7. HYFFORDDIANT'!I5+'7. HYFFORDDIANT'!I7+'7. HYFFORDDIANT'!I9+'7. HYFFORDDIANT'!I11+'7. HYFFORDDIANT'!I13+'7. HYFFORDDIANT'!I15+'7. HYFFORDDIANT'!I17+'7. HYFFORDDIANT'!I19 -> 0 | J35: Dyma gyfanswm yr wythnosau o hyfforddiant a grëwyd ac a gofnodir yn 7.2, 7.4 ,7.6, 7.8, 7.10, 7.12, 7.14, 7.16
A36: Cymru lewyrchus | B36: R27 | C36: Prentisiaethau | I36: ='7. HYFFORDDIANT'!I4 -> 0 | J36: Dyma nifer y cyfleoedd prentisiaethau a ddechreuwyd gan bobl sy'n byw yng Nghymru fel rhan o'r contract hwn yn ystod y cyfnod a gwmpesir gan y cyflwyniad hwn. Dyma'r ffigur a nodir yn 7.1
A37: Cymru lewyrchus | B37: R28 | C37: Wythnosau prentisiaeth | I37: ='7. HYFFORDDIANT'!I5 -> 0 | J37: Dyma gyfanswm yr wythnosau prentisiaeth a gwblhawyd yn ystod y cyfnod a gwmpesir gan y cyflwyniad hwn. Dyma'r ffigur a nodir yn 7.2
A38: Cymru sy'n fwy cyfartal | B38: R29 | C38: Hyfforddeiaethau | I38: ='7. HYFFORDDIANT'!I6 -> 0 | J38: Dyma nifer yr hyfforddeiaethau a gwblhawyd gan bobl sy'n byw yng Nghymru fel rhan o'r contract hwn yn ystod y cyfnod a gwmpesir gan y cyflwyniad hwn. Dyma'r ffigur a nodir yn 7.3
A39: Cymru sy'n fwy cyfartal | B39: R30 | C39: Wythnosau hyfforddeiaeth | I39: ='7. HYFFORDDIANT'!I7 -> 0 | J39: Dyma gyfanswm yr wythnosau hyfforddeiaeth a gwblhawyd yn ystod y cyfnod a gwmpesir gan y cyflwyniad hwn. Dyma'r ffigur a nodir yn 7.4
A40: Cymru sy'n fwy cyfartal | B40: R31 | C40: Profiad gwaith neu interneiaethau | I40: ='7. HYFFORDDIANT'!I8 -> 0 | J40: Dyma gyfanswm y lleoliadau profiad gwaith / interneiaethau a gwblhawyd fel rhan o'r contract hwn. Dyma'r ffigur a nodir yn 7.5
A41: Cymru sy'n fwy cyfartal | B41: R32 | C41: Wythnosau o brofiad gwaith neu interneiaethau | I41: ='7. HYFFORDDIANT'!I9 -> 0 | J41: Dyma gyfanswm yr wythnosau o brofiad gwaith / interneiaethau yn ystod y cyfnod a gwmpesir gan y cyflwyniad hwn. Dyma'r ffigur a nodir yn 7.6
A42: Cymru lewyrchus | B42: R33 | C42: Lleoliadau i raddedigion | I42: ='7. HYFFORDDIANT'!I10 -> 0 | J42: Dyma nifer y lleoliadau i raddedigion a gwblhawyd gan bobl sy'n byw yng Nghymru fel rhan o'r contract hwn yn ystod y cyfnod a gwmpesir gan y cyflwyniad hwn. Dyma'r ffigur a nodir yn 7.7
A43: Cymru lewyrchus | B43: R34 | C43: Wythnosau lleoliadau i raddedigion | I43: ='7. HYFFORDDIANT'!I11 -> 0 | J43: Dyma gyfanswm yr wythnosau lleoliadau i raddedigion yn ystod y cyfnod a gwmpesir gan y cyflwyniad hwn. Dyma'r ffigur a nodir yn 7.8
A44: Cymru sy'n fwy cyfartal | B44: R35 | C44: Treialon gwaith | I44: ='7. HYFFORDDIANT'!I12 -> 0 | J44: Dyma nifer y treialon gwaith a gwblhawyd gan bobl sy'n byw yng Nghymru fel rhan o'r contract hwn yn ystod y cyfnod a gwmpesir gan y cyflwyniad hwn. Dyma'r ffigur a nodir yn 7.9
A45: Cymru sy'n fwy cyfartal | B45: R36 | C45: Wythnosau treialon gwaith | I45: ='7. HYFFORDDIANT'!I13 -> 0 | J45: Dyma nifer yr wythnosau treialon gwaith yn ystod y cyfnod a gwmpesir gan y cyflwyniad hwn. Dyma'r ffgur a nodir yn 7.10
A46: Cymru sy'n fwy cyfartal | B46: R37 | C46: Lleoliadau gwaith gwirfoddol | I46: ='7. HYFFORDDIANT'!I14 -> 0 | J46: Dyma nifer y cyfleoedd gwirfoddoli a gwblhawyd fel rhan o'r contract hwn yn ystod y cyfnod a gwmpesir gan y cyflwyniad hwn. Dyma'r ffigur a nodir yn 7.11
A47: Cymru sy'n fwy cyfartal | B47: R38 | C47: Wythnosau gwirfoddoli | I47: ='7. HYFFORDDIANT'!I15 -> 0 | J47: Dyma gyfanswm yr wythnosau gwirfoddoli yn ystod y cyfnod a gwmpesir gan y cyflwyniad hwn. Dyma'r ffigur a nodir yn 7.12
... A51: Cymru lewyrchus | B51: R42 | C51: Wythnosau o hyfforddiant heb ei achredu | I51: ='7. HYFFORDDIANT'!I19 -> 0 | J51: Dyma gyfanswm yr wythnosau o hyfforddiant achrededig a gwblhawyd fel rhan o'r contract hwn. Dyma'r ffigur a nodir yn 7.16
A52: Cymru lewyrchus | B52: R43 | C52: Gweithgareddau addysgol sy'n gysylltiedig â phynciau STEM a gefnogwyd fel rhan o'r contract hwn | I52: ='5. CYMUNEDOL AC ADDYSGOL'!I6 -> 0 | J52: Dyma'r ateb i 5.4 sy'n cadarnhau a yw gweithgareddau addysgol sy'n gysylltiedig â phynciau STEM (Gwyddoniaeth, Technoleg, Peirianneg a Mathemateg) wedi'u targedu fel rhan o'r contract hwn. Mae'r rhain yn gysylltiedig â gwerth llafur gwirfoddol ('in-kind') neu gyfraniadau eraill ('in-kind') sy'n gysylltiedig â gweithgareddau Cymunedol neu Addysgol a gofnodir yn R.10 o 5.4 neu 5.5
A53: Cymru lewyrchus | B53: R44 | C53: Nifer y gwersi / gweithgareddau Gwyddoniaeth a gefnogwyd | I53: ='5. CYMUNEDOL AC ADDYSGOL'!I7 -> 0 | J53: Dyma nifer y gwersi / gweithgareddau Gwyddoniaeth a gefnogwyd drwy'r contract hwn yn 5.5
A54: Cymru lewyrchus | B54: R45 | C54: Nifer y disgyblion / myfyrwyr a gafodd fudd o wersi / gweithgareddau Gwyddoniaeth a gefnogwyd | I54: ='5. CYMUNEDOL AC ADDYSGOL'!I8 -> 0 | J54: Dyma Nifer y disgyblion / myfyrwyr a gafodd fudd o wersi / gweithgareddau Gwyddoniaeth a gefnogwyd drwy'r contract hwn yn 5.6
A55: Cymru lewyrchus | B55: R46 | C55: Nifer y gwersi / gweithgareddau Technoleg a gefnogwyd | I55: ='5. CYMUNEDOL AC ADDYSGOL'!I9 -> 0 | J55: Dyma nifer y gwersi / gweithgareddau Technoleg a gefnogwyd drwy'r contract hwn yn 5.7
A56: Cymru lewyrchus | B56: R47 | C56: Nifer y disgyblion / myfyrwyr a gafodd fudd o wersi / gweithgareddau Technoleg a gefnogwyd | I56: ='5. CYMUNEDOL AC ADDYSGOL'!I10 -> 0 | J56: Dyma Nifer y disgyblion / myfyrwyr a gafodd fudd o wersi / gweithgareddau Technoleg a gefnogwyd drwy'r contract hwn yn 5.8
A57: Cymru lewyrchus | B57: R48 | C57: Nifer y gwersi / gweithgareddau Peirianneg a gefnogwyd | I57: ='5. CYMUNEDOL AC ADDYSGOL'!I11 -> 0 | J57: Dyma nifer y gwersi / gweithgareddau Peirianneg a gefnogwyd drwy'r contract hwn yn 5.9
A58: Cymru lewyrchus | B58: R49 | C58: Nifer y disgyblion / myfyrwyr a gafodd fudd o wersi / gweithgareddau Peirianneg a gefnogwyd | I58: ='5. CYMUNEDOL AC ADDYSGOL'!I12 -> 0 | J58: Dyma Nifer y disgyblion / myfyrwyr a gafodd fudd o wersi / gweithgareddau Peirianneg a gefnogwyd drwy'r contract hwn yn 5.10
A59: Cymru lewyrchus | B59: R50 | C59: Nifer y gwersi / gweithgareddau Mathemateg a gefnogwyd | I59: ='5. CYMUNEDOL AC ADDYSGOL'!I13 -> 0 | J59: Dyma nifer y gwersi / gweithgareddau Mathemateg a gefnogwyd drwy'r contract hwn yn 5.11
A60: Cymru lewyrchus | B60: R51 | C60: Nifer y disgyblion / myfyrwyr a gafodd fudd o wersi / gweithgareddau Mathemateg a gefnogwyd | I60: ='5. CYMUNEDOL AC ADDYSGOL'!I14 -> 0 | J60: Dyma Nifer y disgyblion / myfyrwyr a gafodd fudd o wersi / gweithgareddau Mathemateg a gefnogwyd drwy'r contract hwn yn 5.12
A61: Cymru lewyrchus | B61: R52 | C61: Tunnelli o wastraff a ddargyfeiriwyd o safleoedd tirlenwi | I61: ='4. YR AMGYLCHEDD AC ADNODDAU'!I4 -> 0 | J61: Dyma'r tunelli o wastraff a ddargyfeiriwyd o safle tirlenwi drwy ei ailddefnyddio neu ei ailgylchu yn ystod y cyfnod a gwmpesir gan y cyflwyniad hwn. Nodir nifer y tunelli o ddeunyddiau Cymwys cyfradd Isaf yn 4.3 ynghyd â deunyddiau cyfradd Safonol yn 4.4 a ddargyfeiriwyd o gael eu hanfon i safle tirlenwi i'w hailddefnyddio, eu hailgylchu neu adfer ynni. Cofnodir ffioedd (£) y Dreth Gwarediadau Tirlenwi (£) a arbedwyd yn R7 uchod
A62: Cymru lewyrchus | B62: R53 | C62: Lleihad yn y defnydd o ddŵr (Metrau ciwbig) | I62: ='4. YR AMGYLCHEDD AC ADNODDAU'!I7 -> 0 | J62: Dyma gyfanswm y metrau ciwbig o ddŵr a arbedwyd drwy ei ailddefnyddio neu ei ailgylchu yn ystod y cyfnod a gwmpesir gan y cyflwyniad hwn drwy fesurau i leihau'r defnydd o ddŵr fel rhan o'r contract hwn. Gall hyn gynnwys, er enghraifft, fesurau i leihau'r defnydd o ddŵr neu faint o ddŵr sy'n gollwng, defnyddio casgenni dŵr, dŵr 'llwyd', neu fesurau cynaliadwy eraill.
A63: =+CANLYNIADAU!#REF! -> #REF!

Sheet Canlyniadau'r Nodau
B1: Crynodeb o ganlyniadau Buddion Cymunedol Llesiant Cenedlaethau'r Dyfodol wedi'u grwpio yn ôl Nodau Llesiant Cenedlaethau'r Dyfodol
B2: 1. Cymru lewyrychus Cymdeithas arloesol, gynhyrchiol, carbon isel sy’n cydnabod y terfynau sydd ar yr amgylchedd byd-eang ac sydd, o ganlyniad, yn defnyddio adnoddau mewn modd effeithlon a chymesur (gan gynnwys gweithredu ar newid yn yr hinsawdd); ac sy’n datblygu poblogaeth fedrus ac addysgedig mewn economi sy’n cynhyrchu cyfoeth ac yn cynnig cyfleoedd cyflogaeth, gan ganiatáu i bobl fanteisio ar y cyfoeth a gynhyrchir drwy gael gafael ar waith addas.
A3: BUDDION Y GELLIR EU TROI'N ARIAN PAROD
A4: Canlyniadau R13 | B4: Cyfanswm y buddsoddiad yn economi Cymru | H4: =CANLYNIADAU!I19 -> 0 | I4: Dyma werth y contract i economi Cymru a gynhyrchwyd yn ystod y cyfnod a gwmpesir gan y cyflwyniad hwn.
A5: Cyffredinol 1.2 | B5: A yw'r Contractwr wedi'i leoli yng Nghymru? | H5: ='1. CYFFREDINOL'!I4 -> NA | I5: Ystyrir bod Contractwr wedi'i leoli yng Nghymru os yw'n darparu'r rhan fwyaf o'r gwasanaethau sy'n ymwneud â'r contract hwn o swyddfa neu swyddfeydd sydd wedi'u lleoli mewn codau post y mae'r llythrennau CF, CH, HR, LD, LL, NP, SA, ac SY wedi'u rhagddodi iddynt
A6: Canlyniadau R1 | B6: Lluosydd lleol Cymru | H6: =CANLYNIADAU!I4 -> #DIV/0! | I6: Dengys lluosydd lleol Cymru effaith gymharol y contract hwn ar Gymru. Ar gyfer pob £1 a wariwyd ar y contract hwn, mae'r swm canlynol o arian wedi'i ailfuddsoddi yn economi Cymru. Mae'r ffigur hwn yn seiliedig ar b'un a wariwyd y contract ar gontractwr wedi'i leoli yng Nghymru (a nodir yn 1.2) ac yna faint o incwm y contract a ailwariodd y contractwr hwnnw, p'un a yw wedi'i leoli yng Nghymru ai peidio (a nodir ar y Taflenni CADWYN GYFLENWI A CHYFLOGAETH). Caiff y symiau a wariwyd ar gyflenwyr a gweithwyr wedi'u lleoli yng Nghymru eu hychwanegu at ei gilydd a'u rhannu â gwerth y contract er mwyn llunio cymhareb sy'n dangos faint a wariwyd ar y contract i greu'r incwm ychwanegol ar gyfer Economi Cymru.
A7: Canlyniadau R2 | B7: Buddsoddiad uniongyrchol | H7: =CANLYNIADAU!I6 -> 0 | I7: Dyma werth y contract os yw wedi'i ddyfarnu i gontractwr wedi'i leoli yng Nghymru. Dyma'r ffigur a gofnodir yn 2.2 os yw'r contractwr wedi'i leoli yng Nghymru fel y nodir yn 1.2. Y ffigur hwn yw 0 os yw'r contractwr wedi'i leoli y tu allan i Gymru.
A8: Canlyniadau R3 | B8: Refeniw i fusnesau sydd wedi'u lleoli yng Nghymru | H8: =CANLYNIADAU!I7 -> 0 | I8: Dyma'r swm a wariodd y contractwr ar fusnesau wedi'u lleoli yng Nghymru yn ystod y cyfnod a gwmpesir gan y cyflwyniad hwn a nodir yn 2.2
B9: Y ganran a wariwyd ar fusnesau wedi'u lleoli yng Nghymru yn ystod y cyfnod a gwmpesir gan y cyflwyniad hwn? | H9: =CANLYNIADAU!I8 -> #DIV/0! | I9: =CANLYNIADAU!J8 -> Mae'r ganran hon yn cynrychioli faint o gyfanswm y gwariant ar fusnesau yn 1.3 a wariwyd ar fusnesau wedi'u lleoli yng Nghymru fel y'i nodir yn 2.2
A10: Canlyniadau R4 | B10: Incwm i bobl sy'n byw yng Nghymru | H10: =CANLYNIADAU!I9 -> 0 | I10: Dyma'r swm a wariodd y contractwr ar gyflogau i bobl sy'n byw yng Nghymru yn ystod y cyfnod a gwmpesir gan y cyflwyniad hwn a dyma'r ffigur a nodir yn 3.2
B11: Y ganran a wariwyd ar gyflogau i bobl sy'n byw yng Nghymru | H11: =CANLYNIADAU!I10 -> #DIV/0! | I11: Mae'r ganran hon yn cynrychioli faint o'r gwariant ar bobl, fel cyflogau i staff a gweithwyr yn 1.4, a aeth i bobl sy'n byw yng Nghymru fel y'i nodir yn 3.2
A12: Canlyniadau R5 | B12: Arbedion drwy leihau'r defnydd o ddŵr | H12: =CANLYNIADAU!I11 -> 0 | I12: =CANLYNIADAU!J11 -> Dyma gyfanswm yr arian a arbedwyd yn ystod y cyfnod a gwmpesir gan y cyflwyniad hwn drwy leihau'r defnydd o ddŵr fel rhan o'r contract hwn yn 4.5. Mae'r ffigur hwn yn seiliedig ar daliadau mesuredig safonol presennol ar gyfer ardrethi dŵr a charthffosiaeth ar gyfer Dŵr Cymru. Mae'r ffigur hwn yn seiliedig ar nifer y metrau ciwbig a arbedwyd drwy fesurau i leihau'r defnydd o ddŵr yn ystod y cyfnod a gwmpesir gan y cyflwyniad hwn. Gall hyn gynnwys, er enghraifft, fesurau i leihau'r defnydd o ddŵr neu faint o ddŵr sy'n gollwng, defnyddio casgenni dŵr, dŵr 'llwyd', neu fesurau cynaliadwy eraill. Rhaid cyflwyno'r ffigur hwn mewn metrau ciwbig. 1 metr ciwbig = 1000 litr.
A13: Canlyniadau R6 | B13: Ffioedd y Dreth Gwarediadau Tirlenwi a arbedwyd | H13: =CANLYNIADAU!I12 -> 0 | I13: Dyma gyfanswm yr arian a arbedwyd yn ystod y cyfnod a gwmpesir gan y cyflwyniad hwn drwy ddargyfeirio gwastraff o safle tirlenwi. Mae'r ffigur hwn yn seiliedig ar y Dreth Gwarediadau Tirlenwi bresennol (gweler NEWIDYNNAU) fel y'i pennir gan Lywodraeth Cymru o dan ddarpariaethau Deddf Treth Gwarediadau Tirlenwi (Cymru) 2017 ar y Cyfraddau Isaf a Safonol yn seiliedig ar y tunelli o ddeunydd Cymwys cyfradd Isaf yn 4.3 a deunydd cyfradd Safonol yn 4.4 na chafodd ei anfon i safle tirlenwi i'w waredu.
A15: BUDDION YCHWANEGOL
A16: Canlyniadau R14 | B16: Cyfraniad at BBaChau wedi'u lleoli yng Nghymru | H16: =CANLYNIADAU!I21 -> 0 | I16: Dyma gyfanswm yr arian a wariodd y contractwr ar BBaChau wedi'u lleoli yng Nghymru yn ystod y cyfnod a gwmpesir gan y cyflwyniad hwn. Dyma'r ffigur a nodir yn 2.3 ac mae'n rhan o gyfanswm y Refeniw i fusnesau wedi'u lleoli yng Nghymru a nodir yn R3 uchod
B17: Y ganran a wariwyd ar BBaChau wedi'u lleoli yng Nghymru | H17: =CANLYNIADAU!I22 -> #DIV/0! | I17: Dyma ganran yr arian a wariwyd ar fusnesau wedi'u lleoli yng Nghymru, y ffigur a nodir yn 2.2, a oedd hefyd yn BBaChau.
A18: Canlyniadau R15 | B18: Cyfraniad at fentrau yn y trydydd sector wedi'u lleoli yng Nghymru | H18: =CANLYNIADAU!I23 -> 0 | I18: Dyma gyfanswm yr arian a wariodd y contractwr ar fentrau yn y trydydd sector wedi'u lleoli yng Nghymru yn ystod y cyfnod a gwmpesir gan y cyflwyniad hwn. Dyma'r ffigur a nodir yn 2.4 ac mae'n rhan o gyfanswm y Refeniw i fusnesau yng Nghymru a nodir yn R3 uchod
B19: Y ganran a wariwyd ar Fentrau yn y Trydydd Sector wedi'u lleoli yng Nghymru | H19: =CANLYNIADAU!I24 -> #DIV/0! | I19: Dyma ganran yr arian a wariwyd ar fusnesau wedi'u lleoli yng Nghymru, y ffigur a nodir yn 2.2, a oedd hefyd yn Fentrau yn y Trydydd Sector
A20: Canlyniadau R16 | B20: Canran yr isgontractwyr a dalwyd o fewn 30 diwrnod | H20: =CANLYNIADAU!I25 -> 0 | I20: Dyma ganran yr isgontractwyr a dalwyd o fewn 30 diwrnod yn ystod y cyfnod a gwmpesir gan y cyflwyniad hwn. Dyma'r ffigur a nodir yn 2.6
A21: Canlyniadau R17 | B21: A yw Cyfrif Banc Prosiect wedi'i ddefnyddio ar gyfer y contract hwn? | H21: =CANLYNIADAU!I26 -> NA | I21: Mae Cyfrifon Banc Prosiect yn helpu i wella tryloywder a sicrhau bod contractwyr a phartneriaid yn y gadwyn gyflenwi yn cael eu talu'n brydlon.
A22: Canlyniadau R18 | B22: Staff sy'n byw yng Nghymru sydd wedi'u cadw | H22: =CANLYNIADAU!I27 -> 2 | I22: Dyma nifer y staff a gadwyd a fyddai wedi cael eu diswyddo neu a fyddai'n ddi-waith heb y gwaith a ddarparwyd gan y contract hwn ar gyfer y cyfnod a gwmpesir gan y cyflwyniad hwn. Dyma'r ffigur a nodir yn 3.4
A23: Canlyniadau R25 | B23: Cyfanswm y cyfleoedd Cyflogaeth a Hyfforddiant a grëwyd ar y contract hwn yn ystod y cyfnod a gwmpesir gan y cyflwyniad hwn? | H23: =CANLYNIADAU!I34 -> 12 | I23: Dyma gyfanswm y cyfleoedd cyflogaeth neu hyfforddiant a grëwyd ac a gofnodir yn 3.5, 3.6, 7.1, 7.3, 7.5, 7.7, 7.9, 7.11, 7.13, 7.15
A24: Canlyniadau R26 | B24: Cyfanswm yr wythnosau o hyfforddiant a ddarparwyd ar y contract hwn yn ystod y cyfnod a gwmpesir gan y cyflwyniad hwn? | H24: =CANLYNIADAU!I35 -> 0 | I24: Dyma gyfanswm yr wythnosau o hyfforddiant a grëwyd ac a gofnodir yn 7.2, 7.4 ,7.6, 7.8, 7.10, 7.12, 7.14, 7.16
A25: Canlyniadau R27 | B25: Prentisiaethau | H25: =CANLYNIADAU!I36 -> 0 | I25: Dyma nifer y cyfleoedd prentisiaethau a ddechreuwyd gan bobl sy'n byw yng Nghymru fel rhan o'r contract hwn yn ystod y cyfnod a gwmpesir gan y cyflwyniad hwn. Dyma'r ffigur a nodir yn 5.1
A26: Canlyniadau R28 | B26: Wythnosau prentisiaeth | H26: =CANLYNIADAU!I37 -> 0 | I26: Dyma gyfanswm yr wythnosau prentisiaeth a gwblhawyd yn ystod y cyfnod a gwmpesir gan y cyflwyniad hwn. Dyma'r ffigur a nodir yn 5.2
A27: Canlyniadau R33 | B27: Lleoliadau i raddedigion | H27: =CANLYNIADAU!I42 -> 0 | I27: Dyma nifer y lleoliadau i raddedigion a gwblhawyd gan bobl sy'n byw yng Nghymru fel rhan o'r contract hwn yn ystod y cyfnod a gwmpesir gan y cyflwyniad hwn. Dyma'r ffigur a nodir yn 5.7
A28: Canlyniadau R34 | B28: Wythnosau lleoliadau i raddedigion | H28: =CANLYNIADAU!I43 -> 0 | I28: Dyma gyfanswm yr wythnosau lleoliadau i raddedigion yn ystod y cyfnod a gwmpesir gan y cyflwyniad hwn. Dyma'r ffigur a nodir yn 5.8
A29: Canlyniadau R39 | B29: Hyfforddiant achrededig a gwblhawyd | H29: =CANLYNIADAU!I48 -> 0 | I29: Dyma nifer y cyfleoedd hyfforddiant achrededig ar unrhyw lefel gan bobl sy'n byw yng Nghymru fel rhan o'r contract hwn yn ystod y cyfnod a gwmpesir gan y cyflwyniad hwn? Dyma'r ffigur a nodir yn 5.13 DS nid yw hyn yn cynnwys hyfforddiant Prentisiaeth a nodir yn 5.1 ac a gofnodir yn 7.m uchod
A30: Canlyniadau R40 | B30: Wythnosau o hyfforddiant achrededig | H30: =CANLYNIADAU!I49 -> 0 | I30: Dyma gyfanwm yr wythnosau o hyfforddiant achrededig yn ystod y cyfnod a gwmpesir gan y cyflwyniad hwn. Dyma'r ffigur a nodir yn 5.14
A31: Canlyniadau R41 | B31: Hyfforddiant heb ei achredu a gwblhawyd | H31: =CANLYNIADAU!I50 -> 0 | I31: Dyma nifer y cyfleoedd hyfforddiant heb ei achredu a gwblhawyd fel rhan o'r contract hwn yn ystod y cyfnod a gwmpesir gan y cyflwyniad hwn. Dyma'r ffigur a nodir yn 5.15
A32: Canlyniadau R42 | B32: Wythnosau o hyfforddiant heb ei achredu | H32: =CANLYNIADAU!I51 -> 0 | I32: Dyma gyfanswm yr wythnosau o hyfforddiant achrededig a gwblhawyd fel rhan o'r contract hwn. Dyma'r ffigur a nodir yn 5.16
A33: Canlyniadau R43 | B33: Gweithgareddau addysgol sy'n gysylltiedig â phynciau STEM | H33: =CANLYNIADAU!I52 -> 0 | I33: Dengys hyn a oedd gweithgareddau addysgol sy'n gysylltiedig â phynciau STEM (Gwyddoniaeth, Technoleg, Peirianneg a Mathemateg) wedi'u cynnwys fel rhan o'r contract hwn.
A34: Canlyniadau R44 | B34: Nifer y gwersi / gweithgareddau Gwyddoniaeth a gefnogwyd | H34: =CANLYNIADAU!I53 -> 0 | I34: Dyma Nifer y gwersi / gweithgareddau Gwyddoniaeth a gefnogwyd drwy'r contract hwn.
A35: Canlyniadau R45 | B35: Nifer y disgyblion / myfyrwyr a gafodd fudd o wersi / gweithgareddau Gwyddoniaeth a gefnogwyd | H35: =CANLYNIADAU!I54 -> 0 | I35: Dyma Nifer y disgyblion / myfyrwyr a gafodd fudd o wersi / gweithgareddau Gwyddoniaeth a gefnogwyd drwy'r contract hwn
A36: Canlyniadau R46 | B36: Nifer y gwersi / gweithgareddau Technoleg a gefnogwyd | H36: =CANLYNIADAU!I55 -> 0 | I36: Dyma Nifer y gwersi / gweithgareddau Technoleg a gefnogwyd drwy'r contract hwn
A37: Canlyniadau R47 | B37: Nifer y disgyblion / myfyrwyr a gafodd fudd o wersi / gweithgareddau Technoleg a gefnogwyd | H37: =CANLYNIADAU!I56 -> 0 | I37: Dyma Nifer y disgyblion / myfyrwyr a gafodd fudd o wersi / gweithgareddau Technoleg a gefnogwyd drwy'r contract hwn
A38: Canlyniadau R48 | B38: Nifer y gwersi / gweithgareddau Peirianneg a gefnogwyd | H38: =CANLYNIADAU!I57 -> 0 | I38: Dyma Nifer y gwersi / gweithgareddau Peirianneg a gefnogwyd drwy'r contract hwn
A39: Canlyniadau R49 | B39: Nifer y disgyblion / myfyrwyr a gafodd fudd o wersi / gweithgareddau Peirianneg a gefnogwyd | H39: =CANLYNIADAU!I58 -> 0 | I39: Dyma Nifer y disgyblion / myfyrwyr a gafodd fudd o wersi / gweithgareddau Peirianneg a gefnogwyd drwy'r contract hwn
A40: Canlyniadau R50 | B40: Nifer y gwersi / gweithgareddau Mathemateg a gefnogwyd | H40: =CANLYNIADAU!I59 -> 0 | I40: Dyma Nifer y gwersi / gweithgareddau Mathemateg a gefnogwyd drwy'r contract hwn
... A43: Canlyniadau R53 | B43: Lleihad yn y defnydd o ddŵr (Metrau ciwbig) | H43: =CANLYNIADAU!I62 -> 0 | I43: Dyma gyfanswm y metrau ciwbig o ddŵr a arbedwyd drwy ei ailddefnyddio neu ei ailgylchu yn ystod y cyfnod a gwmpesir gan y cyflwyniad hwn drwy fesurau i leihau'r defnydd o ddŵr fel rhan o'r contract hwn. Gall hyn gynnwys, er enghraifft, fesurau i leihau'r defnydd o ddŵr neu faint o ddŵr sy'n gollwng, defnyddio casgenni dŵr, dŵr 'llwyd', neu fesurau cynaliadwy eraill.
B45: 2. Cymru gydnerth Cenedl sy’n cynnal ac yn gwella amgylchedd naturiol bioamrywiol gydag ecosystemau iach gweithredol sy’n cynnal cydnerthedd cymdeithasol, economaidd ac ecolegol ynghyd â’r gallu i addasu i newid (er enghraifft newid yn yr hinsawdd).
B46: Yn ystod y camau dylunio a chaffael rhagarweiniol ar gyfer strategaethau / contractau y ceir y prif gyfle i gynllunio camau gweithredu a fydd yn cynnal ac yn gwella amgylcheddau naturiol bioamrywiaeth ac ecosystemau gweithredol iach mewn prosiectau / contractau yn y sector cyhoeddus. Yn ystod camau cynharaf gweithgarwch caffael / cynllunio contract y gellir nodi'r buddion posibl mwyaf a chynllunio ar eu cyfer e.e. defnyddio adnoddau yn effeithlon e.e. nodi egwyddorion eco-ddylunio, defnyddio deunyddiau wedi'u hailgylchu a deunyddiau ailgylchadwy, osgoi defnyddio plastigau untro drwy waith dylunio, lliniaru risgiau sy'n gysylltiedig â chamfanteisio ar bobl neu'r amgylchedd naturiol mewn cadwyni cyflenwi 'lleol' a rhyngwladol / byd-eang e.e. Cyflog Byw, archwiliadau o gadwyni cyflenwi, nodi pren, olew palmydd a gynhyrchwyd yn gynaliadwy yn unig, ymhlith deunyddiau eraill; Hyrwyddo arloesedd, defnyddio cyfleoedd i ysgogi marchnadoedd neu ddylanwadu arnynt drwy fanylebau contractau a gwaith rheoli contractau e.e. gofynion sy'n hyrwyddo datgarboneiddio, yr economi gylchol, bioamrywiaeth, gwerth cymdeithasol / buddion cymunedol. Yng nghyd-destun yr hierarchaeth hon, er y gallai fod modd canolbwyntio Buddion Cymunedol ar gynnal a gwella bioamrywiaeth ac ecosystemau gweithredol iach, nid yw'n briodol disgwyl i'r amcanion Buddion Cymunedol ar gyfer unrhyw gontract penodol fod yn brif ysgogydd ar gyfer camau gweithredu i fodloni gofynion 'Cymru gydnerth'. Felly, nid yw'r Pecyn Mesur Buddion Cymunedol yn cynnwys llinellau i fynegi canlyniadau ar gyfer y nod hwn.
B57: 3. Cymru iachach Cymdeithas lle mae llesiant corfforol a meddyliol pobl cystal â phosibl a lle deellir dewisiadau ac ymddygiadau sydd o fudd i iechyd yn y dyfodol.
A58: Canlyniadau R9 | B58: Rhoddion ar ffurf arian parod / nawdd – gweithgareddau Chwaraeon | H58: =CANLYNIADAU!I15 -> 0 | I58: Dyma'r swm y mae'r contractwr wedi'i gyfrannu at weithgareddau Chwaraeon ar ffurf rhoddion arian parod yn ystod y cyfnod a gwmpesir gan y cyflwyniad hwn. Dyma'r ffigur a nodir yn 6.9
A59: Canlyniadau R12 | B59: Gwerth llafur gwirfoddol a chyfraniadau eraill ('in-kind') – gweithgareddau Chwaraeon | H59: =CANLYNIADAU!I18 -> 0 | I59: Dyma'r swm y mae'r contractwr wedi'i gyfrannu at weithgareddau Chwaraeon ar ffurf llafur gwirfoddol ('in-kind') a chyfraniadau eraill ('in-kind') yn ystod y cyfnod a gwmpesir gan y cyflwyniad hwn. Dyma'r ffigurau a nodir yn 6.10 a 6.11.
B61: 4. Cymru sy'n fwy cyfartal Cymdeithas sy’n galluogi pobl i gyflawni eu potensial ni waeth beth fo’u cefndir neu eu hamgylchiadau (gan gynnwys eu cefndir a'u hamgylchiadau economaidd-gymdeithasol).
A62: Canlyniadau R19 | B62: Lleihau diweithdra byrdymor | H62: =CANLYNIADAU!I28 -> 10 | I62: Dyma nifer y bobl a gyflogwyd yn ystod y cyfnod a gwmpesir gan y cyflwyniad hwn i weithio ar y contract hwn ond na fyddant yn parhau ar ôl hynny. Dyma nifer y bobl yn 3.6 nad yw'r contractwr yn bwriadu eu cyflogi y tu hwnt i'r contract = Lle mae NA wedi'i nodi yng ngholofn M o'r tab cyflogaeth.
A63: Canlyniadau R20 | B63: Lleihau diweithdra hirdymor | H63: =CANLYNIADAU!I29 -> 0 | I63: Dyma nifer y bobl a gyflogwyd yn ystod y cyfnod a gwmpesir gan y cyflwyniad hwn i weithio ar y contract hwn y bydd darparwr y gwasanaeth / y cyflenwr yn parhau i'w cyflogi. Dyma nifer y bobl yn 3.9 y mae'r contractwr yn bwriadu eu cyflogi y tu hwnt i'r contract = Lle mae YDY wedi'i nodi yng ngholofn M o'r tab cyflogaeth.
A64: Canlyniadau R21 | B64: Gweithwyr di-waith a gyflogwyd | H64: =CANLYNIADAU!I30 -> 0 | I64: Dyma nifer y gweithwyr DI-WAITH a gyflogwyd yn ystod y cyfnod a gwmpesir gan y cyflwyniad hwn i weithio fel rhan o'r contract hwn. Dyma nifer y bobl yn 3.9 y mae'r contractwr wedi'u cyflogi a oedd yn ddi-waith cyn hynny am hyd at 6 mis. DS mae'n bosibl bod unigolion sydd wedi'u cyfrif yma hefyd wedi cael eu cyfrif fel gweithiwr anabl os yw'n briodol
A65: Canlyniadau R22 | B65: Gweithwyr difreintiedig a gyflogwyd | H65: =CANLYNIADAU!I31 -> 0 | I65: Dyma nifer y gweithwyr DIFREINTIEDIG a gyflogwyd yn ystod y cyfnod a gwmpesir gan y cyflwyniad hwn i weithio fel rhan o'r contract hwn. Dyma nifer y bobl yn 3.9 y mae'r contractwr wedi'u cyflogi a fyddai wedi cael eu hystyried yn weithiwr DIFREINTIEDIG cyn hynny. DS mae'n bosibl bod unigolion sydd wedi'u cyfrif yma hefyd wedi cael eu cyfrif fel gweithiwr anabl os yw'n briodol
A66: Canlyniadau R23 | B66: Gweithwyr difreintiedig iawn a gyflogwyd | H66: =CANLYNIADAU!I32 -> 0 | I66: Dyma nifer y gweithwyr DIFREINTIEDIG IAWN a gyflogwyd yn ystod y cyfnod a gwmpesir gan y cyflwyniad hwn i weithio fel rhan o'r contract hwn. Dyma nifer y bobl yn 3.9 y mae'r contractwr wedi'u cyflogi a fyddai wedi cael eu hystyried yn weithiwr DIFREINTIEDIG IAWN cyn hynny. DS mae'n bosibl bod unigolion sydd wedi'u cyfrif yma hefyd wedi cael eu cyfrif fel gweithiwr anabl os yw'n briodol
A67: Canlyniadau R24 | B67: Gweithwyr anabl a gyflogwyd | H67: =CANLYNIADAU!I33 -> 0 | I67: Dyma nifer y gweithwyr ANABL a gyflogwyd yn ystod y cyfnod a gwmpesir gan y cyflwyniad hwn i weithio fel rhan o'r contract hwn. Dyma nifer y bobl yn 3.9 y mae'r contractwr wedi'u cyflogi a fyddai wedi cael eu hystyried yn weithiwr ANABL cyn hynny. DS mae'n bosibl bod unigolion sydd wedi'u cyfrif yma hefyd wedi cael eu cyfrif fel gweithiwr difreintiedig neu ddifreintiedig iawn yn dibynnu ar hyd eu cyfnod blaenorol o ddiweithdra, neu mae'n bosibl eu bod wedi'u cyfrif fel recriwt hefyd drwy raglen ESGYN.
A68: Canlyniadau R29 | B68: Hyfforddeiaethau | H68: =CANLYNIADAU!I38 -> 0 | I68: Dyma nifer yr hyfforddeiaethau a gwblhawyd gan bobl sy'n byw yng Nghymru fel rhan o'r contract hwn yn ystod y cyfnod a gwmpesir gan y cyflwyniad hwn. Dyma'r ffigur a nodir yn 5.3
A69: Canlyniadau R30 | B69: Wythnosau hyfforddeiaeth | H69: =CANLYNIADAU!I39 -> 0 | I69: Dyma gyfanswm yr wythnosau hyfforddeiaeth a gwblhawyd yn ystod y cyfnod a gwmpesir gan y cyflwyniad hwn. Dyma'r ffigur a nodir yn 5.4
A70: Canlyniadau R31 | B70: Profiad gwaith neu interneiaethau | H70: =CANLYNIADAU!I40 -> 0 | I70: Dyma gyfanswm y lleoliadau profiad gwaith / interneiaethau a gwblhawyd fel rhan o'r contract hwn. Dyma'r ffigur a nodir yn 5.5
A71: Canlyniadau R32 | B71: Wythnosau o brofiad gwaith neu interneiaethau | H71: =CANLYNIADAU!I41 -> 0 | I71: Dyma gyfanswm yr wythnosau o brofiad gwaith / interneiaethau yn ystod y cyfnod a gwmpesir gan y cyflwyniad hwn. Dyma'r ffigur a nodir yn 5.6
A72: Canlyniadau R35 | B72: Treialon gwaith | H72: =CANLYNIADAU!I44 -> 0 | I72: Dyma nifer y treialon gwaith a gwblhawyd gan bobl sy'n byw yng Nghymru fel rhan o'r contract hwn yn ystod y cyfnod a gwmpesir gan y cyflwyniad hwn. Dyma'r ffigur a nodir yn 5.9
A73: Canlyniadau R36 | B73: Wythnosau treialon gwaith | H73: =CANLYNIADAU!I45 -> 0 | I73: Dyma nifer yr wythnosau treialon gwaith yn ystod y cyfnod a gwmpesir gan y cyflwyniad hwn. Dyma'r ffigur a nodir yn 5.10
A74: Canlyniadau R37 | B74: Lleoliadau gwaith gwirfoddol | H74: =CANLYNIADAU!I46 -> 0 | I74: Dyma nifer y cyfleoedd gwirfoddoli a gwblhawyd fel rhan o'r contract hwn yn ystod y cyfnod a gwmpesir gan y cyflwyniad hwn. Dyma'r ffigur a nodir yn 5.11
A75: Canlyniadau R38 | B75: Wythnosau gwirfoddoli | H75: =CANLYNIADAU!I47 -> 0 | I75: Dyma gyfanswm yr wythnosau gwirfoddoli yn ystod y cyfnod a gwmpesir gan y cyflwyniad hwn. Dyma'r ffigur a nodir yn 5.12
B77: 5. Cymru o gymunedau cydlynus Cymunedau atyniadol, hyfyw a diogel sydd â chysylltiadau da.
A78: Canlyniadau R7 | B78: Rhoddion ar ffurf arian parod / nawdd – gweithgareddau Cymunedol neu Addysgol | H78: =CANLYNIADAU!I13 -> 0 | I78: Dyma'r swm a gyfrannodd y contractiwr at weithgareddau Cymunedol neu Addysgol ar ffurf rhoddion arian parod yn ystod y cyfnod a gwmpesir gan y cyflwyniad hwn. Dyma'r ffigur a nodir yn 5.3
A79: Canlyniadau R10 | B79: Gwerth llafur gwirfoddol a chyfraniadau eraill ('in-kind') – gweithgareddau Cymunedol neu Addysgol | H79: =CANLYNIADAU!I16 -> 0 | I79: Dyma'r swm a gyfrannodd y contractiwr at weithgareddau Cymunedol neu Addysgol ar ffurf llafur gwirfoddol ('in-kind') a chyfraniadau eraill ('in-kind') yn ystod y cyfnod a gwmpesir gan y cyflwyniad hwn. Dyma'r ffigurau a nodir yn 5.4 a 5.5
B81: 6. Cymru â diwylliant bywiog lle mae'r Gymraeg yn ffynnu Cymdeithas sy’n hyrwyddo ac yn gwarchod diwylliant, treftadaeth a’r Gymraeg ac sy’n annog pobl i gyfranogi yn y celfyddydau, a chwaraeon a gweithgareddau hamdden.
A82: Canlyniadau R8 | B82: Rhoddion ar ffurf arian parod / nawdd – gweithgareddau Diwylliannol | H82: =CANLYNIADAU!I14 -> 0 | I82: Dyma'r swm a gyfrannodd y contractiwr at weithgareddau Diwylliannol ar ffurf rhoddion arian parod yn ystod y cyfnod a gwmpesir gan y cyflwyniad hwn. Dyma'r ffigur a nodir yn 6.5
A83: Canlyniadau R11 | B83: Gwerth llafur gwirfoddol a chyfraniadau eraill ('in-kind') – gweithgareddau Diwylliannol | H83: =CANLYNIADAU!I17 -> 0 | I83: Dyma'r swm a gyfrannodd y contractiwr at weithgareddau Diwylliannol ar ffurf llafur gwirfoddol ('in-kind') a chyfraniadau eraill ('in-kind') yn ystod y cyfnod a gwmpesir gan y cyflwyniad hwn. Dyma'r ffigurau a nodir yn 6.6 a 6.7
B86: 7. Cymru sy'n gyfrifol ar lefel fyd-eang Cenedl sydd, wrth iddi wneud unrhyw beth i wella llesiant economaidd, cymdeithasol, amgylcheddol a diwylliannol Cymru, yn ystyried a allai gwneud peth o’r fath gyfrannu’n gadarnhaol at lesiant byd-eang.
B87: Yn ystod y camau dylunio a chaffael rhagarweiniol ar gyfer strategaethau / contractau y ceir y prif gyfle i gynllunio camau gweithredu i wella llesiant economaidd, cymdeithasol, amgylcheddol a diwylliannol Cymru a fydd hefyd yn ystyried a all gwneud y fath beth wneud cyfraniad cadarnhaol at lesiant byd-eang. Yn ystod camau cynharaf gweithgarwch caffael / cynllunio contract y gellir nodi'r buddion posibl mwyaf a chynllunio ar eu cyfer e.e. lliniaru risgiau sy'n gysylltiedig â chamfanteisio ar bobl neu'r amgylchedd naturiol mewn cadwyni cyflenwi 'lleol' a rhyngwladol / byd-eang e.e. Cyflog Byw, cynhyrchion masnach deg o ffynonellau moesegol, archwiliadau o gadwyni cyflenwi, nodi pren, olew palmydd a gynhyrchwyd yn gynaliadwy yn unig, defnyddio adnoddau yn effeithlon e.e. nodi egwyddorion eco-ddylunio, defnyddio deunyddiau wedi'u hailgylchu neu ddeunyddiau ailgylchadwy, osgoi defnyddio plastigau untro drwy waith dylunio; hyrwyddo arloesedd, defnyddio cyfleoedd i ysgogi marchnadoedd neu ddylanwadu arnynt drwy fanylebau contractau a gwaith rheoli contractau e.e. gofynion sy'n hyrwyddo datgarboneiddio, yr economi gylchol, bioamrywiaeth, gwerth cymdeithasol / buddion cymunedol. Yng nghyd-destun yr hierarchaeth hon, er y gallai fod modd canolbwyntio Buddion Cymunedol ar gynnal a gwella bioamrywiaeth ac ecosystemau gweithredol iach, nid yw'n briodol disgwyl i'r amcanion Buddion Cymunedol ar gyfer unrhyw gontract penodol fod yn brif ysgogydd ar gyfer camau gweithredu i fodloni gofynion Cymru sy'n gyfrifol ar lefel fyd-eang. Felly, nid yw'r Pecyn Mesur Buddion Cymunedol yn cynnwys llinellau i fynegi canlyniadau ar gyfer y nod hwn.

Sheet SYLWADAU
B1: Noder bod y cyfle hwn yn ychwanegol at y blychau 'sylwadau' i'r dde o unrhyw ffigurau ariannol neu unrhyw ffigurau eraill yn y taflenni gwaith unigol y dylid eu defnyddio i esbonio manylion neu gyd-destun y ffigurau sy'n cael eu cofnodi. Mae Llywodraeth Cymru yn awyddus i ddatblygu astudiaethau achos o becynnau mesur a gyflwynwyd ac adrodd yn erbyn yr holl fetrigau Buddion Cymunedol a gofnodwyd gan y peycn. Fodd bynnag, ni ellir defnyddio ffigurau / rhifau heb fanylion esboniadol.
B2: Defnyddiwch y maes testun isod i nodi unrhyw wybodaeth arall sy'n berthnasol i'r buddion a sicrhawyd yn y contract hwn. Gall hyn gynnwys gwybodaeth sy'n ategu'r ffigurau rydych wedi'u cofnodi ar y taflenni gwaith neu fuddion cymunedol eraill nad ydynt wedi cael eu cofnodi rywle arall yn y pecyn hwn, yn eich barn chi. CYNGOR AR FFORMATIO – Am mai taflen waith Excel yw hon, defnyddiwch y fysell Alt + RETURN i fynd i'r llinell nesaf. Bydd defnyddio'r fysell RETURN ar ei phen ei hun yn eich symud i'r Gell nesaf

Sheet NEWIDYNNAU
B1: Mae'r dudalen hon yn cynnwys y newidynnau a ddefnyddir yn y Pecyn Mesur Buddion i gyfrifo'r ffigurau a gyflwynir ar y daflen waith CANLYNIADAU. Noder y bydd unrhyw ddiwygiad i'r ffigurau a geir yn y golofn sy'n dwyn y teitl GWERTH yn effeithio ar y dull o gyfrifo canlyniadau yn y pecyn. Lle y gwneir newidiadau, nodwch ffynhonnell y data hyn yn y golofn sy'n dwyn y teitl FFYNHONNELLL.
B2: TAFLEN WAITH | C2: METRIG | D2: DISGRIFIAD O'R METRIG | E2: GWERTH | F2: FFYNHONNELL
B3: YR AMGYLCHEDD AC ADNODDAU | C3: 4.3 | D3: Y Dreth Gwarediadau Tirlenwi – Y Gyfradd Isaf fesul tunnell sy'n gymwys I DDEUNYDD CYMWYS: DEUNYDDIAU PENODEDIG AC AMODAU yn ATODLEN 1 I Ddeddf Treth Gwarediadau Tirlenwi (Cymru) 2017 | E3: 3.15 | F3: Gwefan 'Treth Gwarediadau Tirlenwi' Llywodraeth Cymru 2022-23 https://llyw.cymru/cyfraddaur-dreth-gwarediadau-tirlenwi | G3: Cyflwynodd Deddf Treth Gwarediadau Tirlenwi (Cymru) 2017 y Dreth Gwarediadau Tirlenwi, a ddisodlodd y Dreth Dirlenwi yng Nghymru o Ebrill 2018 ymlaen. Yn wahanol i'r Dreth Dirlenwi, mae'r Dreth Gwarediadau Tirlenwi yn dreth ar waredu gwastraff i safleoedd tirlenwi ac fe'i codir yn ôl y pwysau. Mae'n daladwy gan weithredwyr safleoedd tirlenwi, sy'n codi tâl ar weithredwyr gwastraff drwy eu ffioedd clwyd. Bydd gweithredwyr gwastraff sy'n anfon gwastraff i safleoedd tirlenwi, yn eu tro, yn trosglwyddo'r taliadau hyn i'r Sefydliad Sector Cyhoeddus sy'n gleient iddynt e.e. cyrff yn y sector cyhoeddus sy'n anfon gwastraff i safleoedd tirlenwi. Felly, mae'r Dreth Gwarediadau Tirlenwi yn parhau i roi cymhelliant ar gyfer camau gweithredu sy'n cyd-fynd â'r hierarchaeth gwastraff – atal gwastraff, ailddefnyddio, ailgylchu ac adfer ynni o wastraff fel yr opsiwn olaf un. Drwy hyrwyddo'r economi gylchol, mae'r Dreth Gwarediadau Tirlenwi yn helpu i gyflawni nodau Llywodraeth Cymru o sicrhau dyfodol diwastraff a datgarboneiddio. Cyfraddau'r dreth newydd Mae gan y Dreth Gwarediadau Tirlenwi 3 cyfradd, sef: •cyfradd isaf ar gyfer deunyddiau sy'n bodloni'r amodau a nodir yn y ddeddf, •cyfradd safonol ar gyfer unrhyw ddeunydd arall •cyfradd gwarediadau heb eu hawdurdodi ar gyfer gwarediadau trethadwy a wneir mewn mannau heblaw safleoedd tirlenwi awdurdodedig. Bydd cyfradd isaf a chyfradd safonol y dreth yn parhau'n gyson â'r rhai yng ngweddill y DU am gyfnod o 2 flynedd, gan roi'r sicrwydd i funesau y maent wedi gofyn amdano. Mae'r gyfradd anawdurdodedig wedi'i phennu ar 150% o'r gyfradd safonol, sy'n creu rhwystr ariannol ychwanegol i bobl sy'n ceisio osgoi eu rhwymedigaethau amgylcheddol a gwaredu gwastraff yn anghyfreithlon. Dengys y tabl isod y cyfraddau ar gyfer 2018-19 a 2019-20. 2022-23 Y gyfradd safonol -------------------- £98.60 y dunnell Y gyfradd isaf ----------------------- £ 3.15 y dunnell Cyfradd gwarediadau heb eu hawdurdodi – £147.90 y dunnell
B4: YR AMGYLCHEDD AC ADNODDAU | C4: 4.4 | D4: Y Dreth Gwarediadau Tirlenwi Cyfradd safonol y Dreth Dirlenwi fesul tunnell sy'n gymwys i ddeunyddiau nad ydynt yn cyd-fynd â'r Deunyddiau Penodedig ac Amodau fel y'u nodir yn Atodlen 1 i Dreth Gwarediadau Tirlenwi (Cymru) 2017 | E4: 98.6 | F4: Gwefan 'Treth Gwarediadau Tirlenwi' Llywodraeth Cymru: y diweddariad diwethaf 7 Mehefin 2018 https://gov.wales/funding/fiscal-reform/welsh-taxes/landfill-disposals-tax/?lang=en
B5: YR AMGYLCHEDD AC ADNODDAU | C5: 4.6 | D5: Y gyfradd gyfeintiol gyfunol fesul metr ciwbig ar gyfer taliadau mesuredig safonol am Ddŵr a Charthffosiaeth | E5: 3.3249 | F5: Yn seiliedig ar y gyfradd cyfaint safonol fesul metr ciwbig ar gyfer taliadau mesuredig safonol ar gyfer Dŵr a Charthffosiaeth fel y nodir yn 'Cynllun Talu 2022-23 Dŵr = £1.4492 fesul metr ciwbig Carthffosiaeth = £1.8757 fesul metr ciwbig. Dŵr a Charthffosiaeth = £3.3249 https://corporate.dwrcymru.com/cy-gb/library/our-charges/scheme-of-charges 2022-2023
