Workbook

Sheet Cynnwys
A1: Setliad Refeniw Terfynol Llywodraeth Leol Cymru 2022-2023
A2: Tabl 1a: Newid mewn Cyllid Allanol Cyfun (AEF), wedi’i addasu ar gyfer trosglwyddiadau, yn ôl Awdurdod Unedol
A3: Tabl 1b: Newid mewn Cyllid Allanol Cyfun (AEF) ynghyd ag ychwanegiad cyllid, heb ei addasu ar gyfer trosglwyddiadau, yn ôl awdurdod unedol
A4: Tabl 1c: Cyllid Allanol Cyfun (AEF), yn ôl Awdurdod Unedol, 2022-23
A5: Tabl 2a: Dadansoddiad o'r Cyllid Cyfalaf Cyffredinol (GCF), yn ôl Awdurdod Unedol, 2022-23
A6: Tabl 2b: Setliad cyfalaf llywodraeth leol, yn ôl portffolio gweinidogol
A7: Tabl 2c: Cydrannau Cyllid Cyfalaf Asesiad o Wariant Safonol (SSA), yn ôl Awdurdod Unedol
A8: Tabl 3: Cyfrifoldebau Newydd, yn ôl Awdurdod Unedol
A9: Tabl 4a: Cymhariaeth o gyfanswm Asesiad o Wariant Safonol (SSA), yn ôl Awdurdod Unedol
A10: Tabl 4b: Cyfansymiau sector yr Asesiadau Gwariant Safonol (SSA), wedi’i addasu ar gyfer trosglwyddiadau, yn ôl Awdurdod Unedol, 2021-22
A11: Tabl 4c: Cyfansymiau sector yr Asesiadau Gwariant Safonol (SSA), yn ôl Awdurdod Unedol, 2022-23
A12: Tabl 4d: Asesiadau ar sail Dangosyddion Gwasanaethau (IBAs), yn ôl Awdurdod Unedol, 2022-23
... A17: Nodiadau

Sheet Tabl_1a
A1: Tabl 1a: Newid mewn Cyllid Allanol Cyfun (AEF), wedi’i addasu ar gyfer trosglwyddiadau, yn ôl Awdurdod Unedol (£000)
A2: Mae'r daflen waith hon yn cynnwys un tabl. Mae rhai celloedd yn cyfeirio at nodiadau sydd ar gael ar y daflen waith nodiadau.
A3: Awdurdod Unedol | B3: Cyllid Allanol Cyfun Terfynol 2021-22 [Nodyn 1] | C3: Cyllid Allanol Cyfun Terfynol 2022-23 | D3: Newid fel canran | E3: Rheng
A4: Ynys Môn | B4: 104871959 | C4: 114551252 | D4: =C4/B4-1 -> 0.092296292 | E4: =RANK(D4,$D$4:$D$25) -> 12
A5: Gwynedd | B5: 195904716 | C5: 213214471 | D5: =C5/B5-1 -> 0.088358031 | E5: =RANK(D5,$D$4:$D$25) -> 17
A6: Conwy | B6: 167355527 | C6: 183311104 | D6: =C6/B6-1 -> 0.095339409 | E6: =RANK(D6,$D$4:$D$25) -> 5
A7: Sir Ddinbych | B7: 159060392 | C7: 173640218 | D7: =C7/B7-1 -> 0.091662203 | E7: =RANK(D7,$D$4:$D$25) -> 15
A8: Sir y Fflint | B8: 212607603 | C8: 232178503 | D8: =C8/B8-1 -> 0.092051741 | E8: =RANK(D8,$D$4:$D$25) -> 14
A9: Wrecsam | B9: 189232763 | C9: 207063782 | D9: =C9/B9-1 -> 0.094227969 | E9: =RANK(D9,$D$4:$D$25) -> 7
A10: Powys | B10: 192087678 | C10: 210261007 | D10: =C10/B10-1 -> 0.094609551 | E10: =RANK(D10,$D$4:$D$25) -> 6
A11: Ceredigion | B11: 110005660 | C11: 119421076 | D11: =C11/B11-1 -> 0.085590287 | E11: =RANK(D11,$D$4:$D$25) -> 19
A12: Sir Benfro | B12: 179422334 | C12: 196257169 | D12: =C12/B12-1 -> 0.093827979 | E12: =RANK(D12,$D$4:$D$25) -> 8
A13: Sir Gaerfyrddin | B13: 285261982 | C13: 311602859 | D13: =C13/B13-1 -> 0.092339248 | E13: =RANK(D13,$D$4:$D$25) -> 11
A14: Abertawe | B14: 353570889 | C14: 386592176 | D14: =C14/B14-1 -> 0.093393682 | E14: =RANK(D14,$D$4:$D$25) -> 9
A15: Castell-nedd Port Talbot | B15: 237288660 | C15: 258072577 | D15: =C15/B15-1 -> 0.087589171 | E15: =RANK(D15,$D$4:$D$25) -> 18
... A25: Caerdydd | B25: 492095448 | C25: 544725604 | D25: =C25/B25-1 -> 0.10695111 | E25: =RANK(D25,$D$4:$D$25) -> 2
A26: Cyfanswm Awdurdodau Unedol | B26: 4670079767 | C26: 5107602811 | D26: =C26/B26-1 -> 0.093686418

Sheet Tabl_1b
A1: Tabl 1b: Newid mewn Cyllid Allanol Cyfun (AEF) ynghyd ag ychwanegiad cyllid, heb ei addasu ar gyfer trosglwyddiadau, yn ôl awdurdod unedol (£000)
A2: Mae'r daflen waith hon yn cynnwys un tabl. Mae rhai celloedd yn cyfeirio at nodiadau sydd ar gael ar y daflen waith nodiadau.
A3: Awdurdod Unedol | B3: Cyllid Allanol Cyfun terfynol 2021-22 | C3: Cyllid Allanol Cyfun Terfynol 2022-23 | D3: Newid fel canran | E3: Rheng
A4: Ynys Môn | B4: 104760975 | C4: 114551252 | D4: =C4/B4-1 -> 0.093453473 | E4: =RANK(D4,$D$4:$D$25) -> 15
A5: Gwynedd | B5: 195593714 | C5: 213214471 | D5: =C5/B5-1 -> 0.090088565 | E5: =RANK(D5,$D$4:$D$25) -> 18
A6: Conwy | B6: 167161574 | C6: 183311104 | D6: =C6/B6-1 -> 0.096610301 | E6: =RANK(D6,$D$4:$D$25) -> 6
A7: Sir Ddinbych | B7: 158785260 | C7: 173640218 | D7: =C7/B7-1 -> 0.093553759 | E7: =RANK(D7,$D$4:$D$25) -> 13
A8: Sir y Fflint | B8: 206770680 | C8: 232178503 | D8: =C8/B8-1 -> 0.12287924 | E8: =RANK(D8,$D$4:$D$25) -> 1
A9: Wrecsam | B9: 189020221 | C9: 207063782 | D9: =C9/B9-1 -> 0.095458364 | E9: =RANK(D9,$D$4:$D$25) -> 8
A10: Powys | B10: 191882324 | C10: 210261007 | D10: =C10/B10-1 -> 0.095781011 | E10: =RANK(D10,$D$4:$D$25) -> 7
A11: Ceredigion | B11: 109654616 | C11: 119421076 | D11: =C11/B11-1 -> 0.089065653 | E11: =RANK(D11,$D$4:$D$25) -> 19
A12: Sir Benfro | B12: 179223728 | C12: 196257169 | D12: =C12/B12-1 -> 0.0950401 | E12: =RANK(D12,$D$4:$D$25) -> 9
A13: Sir Gaerfyrddin | B13: 284959632 | C13: 311602859 | D13: =C13/B13-1 -> 0.09349825 | E13: =RANK(D13,$D$4:$D$25) -> 14
A14: Abertawe | B14: 353074067 | C14: 386592176 | D14: =C14/B14-1 -> 0.094932231 | E14: =RANK(D14,$D$4:$D$25) -> 10
A15: Castell-nedd Port Talbot | B15: 237051134 | C15: 258072577 | D15: =C15/B15-1 -> 0.088678939 | E15: =RANK(D15,$D$4:$D$25) -> 20
... A25: Caerdydd | B25: 486989831 | C25: 544725604 | D25: =C25/B25-1 -> 0.11855642 | E25: =RANK(D25,$D$4:$D$25) -> 2
A26: Cyfanswm Awdurdodau Unedol | B26: 4651494400 | C26: 5107602811 | D26: =C26/B26-1 -> 0.098056317

Sheet Tabl_1c
A1: Tabl 1c: Cyllid Allanol Cyfun (AEF), yn ôl Awdurdod Unedol, 2022-23
A2: Mae'r daflen waith hon yn cynnwys un tabl. Mae rhai celloedd yn cyfeirio at nodiadau sydd ar gael ar y daflen waith nodiadau.
A3: Awdurdod Unedol | B3: Cynllun Allanol Cyfun cyllid terfynol 2022-23 (£000) | C3: Cynllun Allanol Cyfun Terfynol y pen (£) [Nodyn 2] | D3: Rheng
A4: Ynys Môn | B4: 114551252 | C4: 1639.632 | D4: =RANK(C4,$C$4:$C$25) -> 12
A5: Gwynedd | B5: 213214471 | C5: 1702.719 | D5: =RANK(C5,$C$4:$C$25) -> 7
A6: Conwy | B6: 183311104 | C6: 1549.2825 | D6: =RANK(C6,$C$4:$C$25) -> 17
A7: Sir Ddinbych | B7: 173640218 | C7: 1808.3567 | D7: =RANK(C7,$C$4:$C$25) -> 4
A8: Sir y Fflint | B8: 232178503 | C8: 1476.3614 | D8: =RANK(C8,$C$4:$C$25) -> 20
A9: Wrecsam | B9: 207063782 | C9: 1516.5619 | D9: =RANK(C9,$C$4:$C$25) -> 18
A10: Powys | B10: 210261007 | C10: 1586.4206 | D10: =RANK(C10,$C$4:$C$25) -> 13
A11: Ceredigion | B11: 119421076 | C11: 1678.4174 | D11: =RANK(C11,$C$4:$C$25) -> 10
A12: Sir Benfro | B12: 196257169 | C12: 1553.8845 | D12: =RANK(C12,$C$4:$C$25) -> 15
A13: Sir Gaerfyrddin | B13: 311602859 | C13: 1644.1254 | D13: =RANK(C13,$C$4:$C$25) -> 11
A14: Abertawe | B14: 386592176 | C14: 1550.8662 | D14: =RANK(C14,$C$4:$C$25) -> 16
A15: Castell-nedd Port Talbot | B15: 258072577 | C15: 1786.6247 | D15: =RANK(C15,$C$4:$C$25) -> 5
... A25: Caerdydd | B25: 544725604 | C25: 1479.8707 | D25: =RANK(C25,$C$4:$C$25) -> 19
A26: Cyfanswm Awdurdodau Unedol | B26: 5107602811 | C26: 1610.6596

Sheet Tabl_2a
A1: Tabl 2a: Dadansoddiad o'r Cyllid Cyfalaf Cyffredinol (GCF), yn ôl Awdurdod Unedol, 2022-23 (£000)
A2: Mae'r daflen waith hon yn cynnwys un tabl. Mae rhai celloedd yn cyfeirio at nodiadau sydd ar gael ar y daflen waith nodiadau.
A3: Awdurdod Unedol | B3: Cyllid Cyfalaf Cyffredinol 2022-23 [Nodyn 3] | C3: O hwnnw: Grant Cyfalaf Cyffredinol [Nodyn 4] | D3: O hwnnw: Benthyca â chymorth heb ei neilltuo [Nodyn 5]
A4: Ynys Môn | B4: 3643 | C4: 1486 | D4: 2157
A5: Gwynedd | B5: 6880 | C5: 2807 | D5: 4073
A6: Conwy | B6: 5786 | C6: 2361 | D6: 3425
A7: Sir Ddinbych | B7: 5103 | C7: 2082 | D7: 3021
A8: Sir y Fflint | B8: 6794 | C8: 2772 | D8: 4022
A9: Wrecsam | B9: 5880 | C9: 2399 | D9: 3481
A10: Powys | B10: 7762 | C10: 3167 | D10: 4595
A11: Ceredigion | B11: 4891 | C11: 1995 | D11: 2896
A12: Sir Benfro | B12: 6342 | C12: 2587 | D12: 3755
A13: Sir Gaerfyrddin | B13: 10037 | C13: 4095 | D13: 5942
A14: Abertawe | B14: 10722 | C14: 4375 | D14: 6347
A15: Castell-nedd Port Talbot | B15: 7488 | C15: 3055 | D15: 4433
... A26: Cyfanswm Awdurdodau Unedol | B26: 150000 | C26: 61200 | D26: 88800

Sheet Tabl_2b
A1: Tabl 2b: Setliad cyfalaf llywodraeth leol, yn ôl portffolio gweinidogol (£000) [Nodyn 6]
A2: Mae'r daflen waith hon yn cynnwys un tabl. Mae rhai celloedd yn cyfeirio at nodiadau sydd ar gael ar y daflen waith nodiadau.
A3: Enw Portffolio a Grant | B3: 2021-22 | C3: 2022-23 | D3: 2023-24 | E3: 2024-25
A4: Cyfanswm Newid Hinsawdd (o'r rhain isod) | B4: =SUM(B5:B25) -> 338653.84 | C4: =SUM(C5:C25) -> 211658.36 | D4: =SUM(D5:D25) -> 247996 | E4: =SUM(E5:E25) -> 252047
A5: Lwfans Atgyweiriadau Mawr | B5: 60400 | C5: 60400 | D5: 60400 | E5: 60400
A6: Y Gronfa Teithio Llesol | B6: 56553.1 | C6: 51500 | D6: 65000 | E6: 65000
A7: Cyfalaf Adfywio Cymru | B7: 41800 | C7: 20000 | D7: 40000 | E7: 40000
A8: Prisiau Siwrneiau Consesiynol Gorfodol | B8: 37000 | C8: 0 | D8: 0 | E8: 0
A9: Y Gronfa Trafnidaeth Leol | B9: 31000 | C9: 17500 | D9: 40000 | E9: 50000
A10: Y Gronfa Ffyrdd Cydnerth | B10: 20000 | C10: 0 | D10: 0 | E10: 0
A11: Rheoli Perygl Llifogydd ac Erydu Arfordirol | B11: 14248 | C11: TBC | D11: TBC | E11: TBC
A12: Grant Tai Cymdeithasol | B12: 14059 | C12: 27211 | D12: 25421 | E12: 19472
A13: Trawsnewid Cerbydau Allyriadau Isel Iawn | B13: 13283.136 | C13: 0 | D13: 0 | E13: 0
A14: Y Rhaglen Ôl-osod er mwyn Optimeiddio | B14: 9742.574 | C14: TBC | D14: TBC | E14: TBC
A15: Gweithredu mesurau i fynd i'r afael ag allyriadau nitrogen deuocsid [Nodyn 7] | B15: 6923 | C15: 4458 | D15: 0 | E15: 0
A16: Cyllid Pontio at yr Economi Gylchol a Cherbydau Allyriadau Isel Iawn | B16: 6500 | C16: TBC | D16: TBC | E16: TBC
A17: Llwybrau Diogel Mewn Cymunedau | B17: 6500 | C17: 5000 | D17: 5000 | E17: 5000
A18: Y Rhaglen Rheoli Risgiau Arfordirol | B18: 6355 | C18: 831 | D18: 0 | E18: 0
A19: HWYLUSO – Y Cynllun Addasiadau Gwell | B19: 5000.5 | C19: 6000 | D19: 6000 | E19: 6000
A20: Y Grant Diogelwch ar y Ffyrdd | B20: 4532.526 | C20: 16500 | D20: 4000 | E20: 4000
A21: Grant Gwella Mynediad | B21: 2000 | C21: 1200 | D21: 1200 | E21: 1200
A22: Tirweddau Cynaliadwy, Llefydd Cynaliadwy – Cyfalaf AHNE | B22: 1125 | C22: 625 | D22: 625 | E22: 625
A23: Grant Cymorth Rhandiroedd | B23: 750 | C23: 0 | D23: 0 | E23: 0
A24: Grant Galluogi Adnoddau Naturiol a Lles yng Nghymru [Nodyn 7] | B24: 632 | C24: 83.36072 | D24: 0 | E24: 0
A25: Cronfa Ddatblygu Cynaliadwy AHNE – Cyfalaf | B25: 250 | C25: 350 | D25: 350 | E25: 350
A26: Cyfanswm Cyllid a Llywodraeth Leol (o'r rhain isod) | B26: =SUM(B27:B35) -> 352640 | C26: =SUM(C27:C35) -> 172000 | D26: =SUM(D27:D35) -> 227000 | E26: =SUM(E27:E35) -> 234500
A27: Y Gronfa Cyfalaf Cyffredinol | B27: 247837 | C27: 150000 | D27: 180000 | E27: 180000
A28: Bargen Dinas – Ranbarth Dinas Bae Abertawe | B28: 23086 | C28: TBC | D28: TBC | E28: TBC
A29: Bargen Ddinesig Prifddinas-Ranbarth Caerdydd | B29: 22000 | C29: 22000 | D29: 27000 | E29: 34500
A30: Bargen Twf y Gogledd | B30: 20445 | C30: TBC | D30: TBC | E30: TBC
A31: Y Grant Adnewyddu Priffyrdd Cyhoeddus | B31: 20000 | C31: 0 | D31: 0 | E31: 0
A32: Llywodraeth Leol Chwefror 2020 adfer llifogydd | B32: 19037 | C32: 0 | D32: 0 | E32: 0
A33: Buddsoddi i Arbed [Nodyn 8] | B33: 235 | C33: 0 | D33: 0 | E33: 0
A34: Bargen Twf Canolbarth Cymru | B34: 0 | C34: 0 | D34: TBC | E34: TBC
A35: Datgarboneiddio Llywodraeth Leol | B35: 0 | C35: 0 | D35: 20000 | E35: 20000
A36: Cyfanswm Y Gymraeg ac Addysg (o'r rhain isod) | B36: =SUM(B37:B41) -> 224134.25 | C36: =SUM(C37:C41) -> 327702.08 | D36: =SUM(D37:D41) -> 286989.01 | E36: =SUM(E37:E41) -> 272259.33
A37: Cymunedau Dysgu Cynaliadwy [Nodyn 9] | B37: 187191.66 | C37: 296947.53 | D37: 261644.2 | E37: 242914.88
A38: Y Grant Cyfalaf Addysg Cyfrwng Cymraeg | B38: 18658.766 | C38: 19447.402 | D38: 15297.065 | E38: 19344.447
A39: Canolfannau Cymunedol | B39: 6854.216 | C39: 398.331 | D39: 47.738 | E39: 0
A40: Y Grant Lleihau Maint Dosbarthiadau Babanod | B40: 6429.612 | C40: 908.816 | D40: TBC | E40: TBC
A41: Cymru Sero Net | B41: 5000 | C41: 10000 | D41: 10000 | E41: 10000
A42: Cyfanswm Yr Economi (o'r rhain isod) | B42: =SUM(B43:B46) -> 8943.572 | C42: =SUM(C43:C46) -> 6208 | D42: =SUM(D43:D46) -> 7882 | E42: =SUM(E43:E46) -> 3600
A43: Rhaglen y Cymoedd Technoleg | B43: 3886 | C43: 3708 | D43: 5382 | E43: 1100
A44: Rhaglen Ariannu Ysgogi Cyfalaf Rhanbarthol | B44: 3000 | C44: 0 | D44: 0 | E44: 0
A45: Cronfa Y Pethau Pwysig | B45: 1900 | C45: 2500 | D45: 2500 | E45: 2500
A46: Cyngor Bwrdeistref Sirol Castell-nedd Port Talbot – Darparu rhwydwaith dosbarthu WPD | B46: 157.572 | C46: 0 | D46: 0 | E46: 0
A47: Cyfanswm Iechyd a Gwasanaethau Cymdeithasol (o'r rhain isod) | B47: =SUM(B48:B49) -> 46985 | C47: =SUM(C48:C49) -> 20000 | D47: =SUM(D48:D49) -> 25000 | E47: =SUM(E48:E49) -> 25000
A48: Rhaglen Gyfalaf y Cynnig Gofal Plant [Nodyn 10] | B48: 41456 | C48: 20000 | D48: 25000 | E48: 25000
A49: Dechrau'n Deg [Nodyn 10] | B49: 5529 | C49: 0 | D49: 0 | E49: 0
A50: Cyfanswm Cyfiawnder Cymdeithasol a Phartneriaeth Gymdeithasol (o'r rhain isod) | B50: =SUM(B51:B53) -> 4683.766 | C50: =SUM(C51:C53) -> 4722 | D50: =SUM(D51:D53) -> 4222 | E50: =SUM(E51:E53) -> 4472
A51: Grant Adnewyddu Safleoedd Sipsiwn a Theithwyr | B51: 3500 | C51: 3690 | D51: 3190 | E51: 3440
A52: Grant Llety Gwasgaru Trais yn erbyn Menywod, Cam-drin Domestig a Thrais Rhywiol | B52: 1032 | C52: 1032 | D52: 1032 | E52: 1032
A53: Trais yn Erbyn Menywod, Cam-drin Domestig a Thrais Rhywiol | B53: 151.766 | C53: TBC | D53: TBC | E53: TBC
A54: Cyfanswm Y Celfyddydau a Chwaraeon a’r Prif Chwip (o'r rhain isod) | B54: =SUM(B55:B56) -> 2189 | C54: =SUM(C55:C56) -> 2223 | D54: =SUM(D55:D56) -> 2223 | E54: =SUM(E55:E56) -> 2223
A55: Y Grant Adeiladau Hanesyddol [Nodyn 11] | B55: 1118 | C55: 1118 | D55: 1118 | E55: 1118
A56: Rhaglen Gyfalaf CyMAL | B56: 1071 | C56: 1105 | D56: 1105 | E56: 1105
A57: Cyfanswm Iechyd Meddwl a Llesiant (o'r rhain isod) | B57: =SUM(B58) -> 1433 | C57: =SUM(C58) -> 0 | D57: =SUM(D58) -> 0 | E57: =SUM(E58) -> 0
A58: Cronfa Weithredu ar gyfer Camddefnyddio Sylweddau | B58: 1433 | C58: TBC | D58: TBC | E58: TBC
A59: Cyfanswm grantiau Covid-19 Iechyd a Gwasanaethau Cymdeithasol (o'r rhain isod) | B59: =SUM(B60:B62) -> 16638 | C59: =SUM(C60:C62) -> 0 | D59: =SUM(D60:D62) -> 0 | E59: =SUM(E60:E62) -> 0
A60: Rhaglen Gyfalaf y Cynnig Gofal Plant | B60: 6836 | C60: 0 | D60: 0 | E60: 0
A61: Grant Cyfleoedd Chwarae Cymru Gyfan -- Gaeaf Llawn Lles Grant Cyfleoedd Chwarae Cymru Gyfan -- Gaeaf Llawn Lles | B61: 5000 | C61: 0 | D61: 0 | E61: 0
A62: Dechrau'n Deg | B62: 4802 | C62: 0 | D62: 0 | E62: 0
A63: Cyfanswm Y Celfyddydau COVID a Chwaraeon a’r Prif Chwip (o'r rhain isod) | B63: =SUM(B64) -> 65 | C63: =SUM(C64) -> 0 | D63: =SUM(D64) -> 0 | E63: =SUM(E64) -> 0
A64: Cronfa Gwasanaeth Diwylliannol ar gyfer Llywodraeth Leol [Nodyn 12] | B64: 65 | C64: 0 | D64: 0 | E64: 0
A65: Cyfanswm portffolios wrth eithrio grantiau Covid-19 | B65: =B57+B54+B50+B47+B42+B36+B26+B4 -> 979662.43 | C65: =C57+C54+C50+C47+C42+C36+C26+C4 -> 744513.44 | D65: =D57+D54+D50+D47+D42+D36+D26+D4 -> 801312.01 | E65: =E57+E54+E50+E47+E42+E36+E26+E4 -> 794101.33
A66: Cyfanswm y portffolios, wrth eithrio grantiau Covid-19 a tbc (ar gyfer cymhariaeth tebyg at ei debyg) | B66: =B65-B11-B16-B28-B30-B53-B58-B14 -> 904056.09 | C66: =C65-C40 -> 743604.62
A67: Cyfanswm grantiau Covid-19 | B67: =B59+B63 -> 16703 | C67: =C59 -> 0

Sheet Tabl_2c
A1: Tabl 2c: Cydrannau Cyllid Cyfalaf Asesiad o Wariant Safonol (SSA), yn ôl Awdurdod Unedol (£000)
A2: Mae'r daflen waith hon yn cynnwys un tabl. Mae rhai celloedd yn cyfeirio at nodiadau sydd ar gael ar y daflen waith nodiadau.
A3: Awdurdod Unedol | B3: Cyllid cyfalaf ar gyfer y ddyled dybiannol: Ad-dalu | C3: Cyllid cyfalaf ar gyfer y ddyled dybiannol: Llog | D3: Grantiau penodol [Nodyn 13] | E3: Cyfanswm Cyllid Cyfalaf Asesiad o Wariant Safonol
A4: Ynys Môn | B4: 2837.0555 | C4: 4676.3202 | D4: 0 | E4: 7513.3756
A5: Gwynedd | B5: 5171.9225 | C5: 8529.5473 | D5: 0 | E5: 13701.47
A6: Conwy | B6: 4345.2717 | C6: 7166.3322 | D6: 0 | E6: 11511.604
A7: Sir Ddinbych | B7: 3967.431 | C7: 6539.6705 | D7: 0 | E7: 10507.101
A8: Sir y Fflint | B8: 5281.261 | C8: 8705.327 | D8: 0 | E8: 13986.588
A9: Wrecsam | B9: 4373.5739 | C9: 7214.1249 | D9: 0 | E9: 11587.699
A10: Powys | B10: 6017.4092 | C10: 9919.1613 | D10: 0 | E10: 15936.571
A11: Ceredigion | B11: 3425.6563 | C11: 5656.1667 | D11: -1.4272284 | E11: 9080.3957
A12: Sir Benfro | B12: 4793.3469 | C12: 7904.5415 | D12: -2.4816877 | E12: 12695.407
A13: Sir Gaerfyrddin | B13: 7174.8953 | C13: 11842.515 | D13: -3.721484 | E13: 19013.688
A14: Abertawe | B14: 8645.9086 | C14: 14243.555 | D14: -34.890751 | E14: 22854.573
A15: Castell-nedd Port Talbot | B15: 5387.4133 | C15: 8891.2387 | D15: -20.431841 | E15: 14258.22
... A26: Cyfanswm Awdurdodau Unedol | B26: 114276.15 | C26: 188424.92 | D26: -114.59225 | E26: 302586.48

Sheet Tabl_3
A1: Tabl 3: Cyfrifoldebau Newydd, yn ôl Awdurdod Unedol (£000)
A2: Mae'r daflen waith hon yn cynnwys un tabl. Mae rhai celloedd yn cyfeirio at nodiadau sydd ar gael ar y daflen waith nodiadau.
A3: Awdurdod Unedol | B3: Dim cyfrifoldebau newydd
A4: Ynys Môn | B4: 0
A5: Gwynedd | B5: 0
A6: Conwy | B6: 0
A7: Sir Ddinbych | B7: 0
A8: Sir y Fflint | B8: 0
A9: Wrecsam | B9: 0
A10: Powys | B10: 0
A11: Ceredigion | B11: 0
A12: Sir Benfro | B12: 0
A13: Sir Gaerfyrddin | B13: 0
A14: Abertawe | B14: 0
A15: Castell-nedd Port Talbot | B15: 0
... A26: Cyfanswm Awdurdodau Unedol | B26: 0

Sheet Tabl_4a
A1: Tabl 4a: Cymhariaeth o gyfanswm Asesiad o Wariant Safonol (SSA), yn ôl Awdurdod Unedol (£000) [Nodyn 14]
A2: Mae'r daflen waith hon yn cynnwys un tabl. Mae rhai celloedd yn cyfeirio at nodiadau sydd ar gael ar y daflen waith nodiadau.
A3: Awdurdod Unedol | B3: Asesiad o Wariant Safonol Terfynol 2021-22 [Nodyn 15] | C3: Asesiad o Wariant Safonol Terfynol 2022-23 | D3: Newid | E3: Newid fel canran
A4: Ynys Môn | B4: 1.4816773e+08 | C4: 1.5969453e+08 | D4: =C4-B4 -> 11526804 | E4: =D4/B4 -> 0.077795641
A5: Gwynedd | B5: 2.6463533e+08 | C5: 2.8501816e+08 | D5: =C5-B5 -> 20382829 | E5: =D5/B5 -> 0.077022328
A6: Conwy | B6: 2.3922498e+08 | C6: 2.5825747e+08 | D6: =C6-B6 -> 19032492 | E6: =D6/B6 -> 0.079558964
A7: Sir Ddinbych | B7: 2.157516e+08 | C7: 2.3288555e+08 | D7: =C7-B7 -> 17133949 | E7: =D7/B7 -> 0.079415166
A8: Sir y Fflint | B8: 2.9868929e+08 | C8: 3.277744e+08 | D8: =C8-B8 -> 29085110 | E8: =D8/B8 -> 0.097375805
A9: Wrecsam | B9: 2.6541268e+08 | C9: 2.8651239e+08 | D9: =C9-B9 -> 21099710 | E9: =D9/B9 -> 0.079497747
A10: Powys | B10: 2.800317e+08 | C10: 3.0193688e+08 | D10: =C10-B10 -> 21905179 | E10: =D10/B10 -> 0.078223928
A11: Ceredigion | B11: 1.5480203e+08 | C11: 1.6637465e+08 | D11: =C11-B11 -> 11572623 | E11: =D11/B11 -> 0.074757566
A12: Sir Benfro | B12: 2.5884884e+08 | C12: 2.7906775e+08 | D12: =C12-B12 -> 20218916 | E12: =D12/B12 -> 0.0781109
A13: Sir Gaerfyrddin | B13: 3.9195993e+08 | C13: 4.228838e+08 | D13: =C13-B13 -> 30923872 | E13: =D13/B13 -> 0.078895493
A14: Abertawe | B14: 4.8444068e+08 | C14: 5.2321423e+08 | D14: =C14-B14 -> 38773549 | E14: =D14/B14 -> 0.080037766
A15: Castell-nedd Port Talbot | B15: 3.0637157e+08 | C15: 3.3016624e+08 | D15: =C15-B15 -> 23794670 | E15: =D15/B15 -> 0.07766605
... A26: Cyfanswm Awdurdodau Unedol | B26: 6.4187314e+09 | C26: 6.9455398e+09 | D26: =C26-B26 -> 5.2680833e+08 | E26: =D26/B26 -> 0.08207359

Sheet Tabl_4b
A1: Tabl 4b: Cyfansymiau sector yr Asesiadau Gwariant Safonol (SSA), wedi’i addasu ar gyfer trosglwyddiadau, yn ôl Awdurdod Unedol, 2021-22 (£000) [Nodyn 14]
A2: Mae'r daflen waith hon yn cynnwys un tabl. Mae rhai celloedd yn cyfeirio at nodiadau sydd ar gael ar y daflen waith nodiadau.
A3: Awdurdod Unedol | B3: Gwasanaethau Ysgolion | C3: Addysg – Arall | D3: Gwasanaethau Cymdeithasol Personol | E3: Ffyrdd a thrafnidiaeth | F3: Tân | G3: Gwasanaethau eraill | H3: Grant Amddifadedd | I3: Cynlluniau Gostyngiadau'r Dreth Gyngor | J3: Cyllid Dyledion | K3: Cyfanswm
A4: Ynys Môn | B4: 58709218 | C4: 922008.08 | D4: 40604255 | E4: 5739850.7 | F4: 3363010.9 | G4: 24465917 | H4: 508247.23 | I4: 5185606.6 | J4: 8780600.5 | K4: 1.4827871e+08
A5: Gwynedd | B5: 1.0214216e+08 | C5: 1728950.1 | D5: 70677274 | E5: 11797645 | F5: 6012695.2 | G5: 47619810 | H5: 493834.39 | I5: 8541226.9 | J5: 15932739 | K5: 2.6494633e+08
A6: Conwy | B6: 87619819 | C6: 1420562.4 | D6: 70959139 | E6: 8477458.1 | F6: 5678940 | G6: 39163135 | H6: 174108.74 | I6: 9137731.8 | J6: 16788040 | K6: 2.3941893e+08
A7: Sir Ddinbych | B7: 86425166 | C7: 1159413.6 | D7: 60608697 | E7: 7237617.7 | F7: 4612222.7 | G7: 32135449 | H7: 168517.71 | I7: 8920095.2 | J7: 14759554 | K7: 2.1602673e+08
A8: Sir y Fflint | B8: 1.2693863e+08 | C8: 1912512.4 | D8: 79268577 | E8: 9664053.3 | F8: 7549172.4 | G8: 53113479 | H8: 225093.54 | I8: 9609428 | J8: 16245265 | K8: 3.0452621e+08
A9: Wrecsam | B9: 1.0693714e+08 | C9: 1720778.7 | D9: 77760290 | E9: 7307616 | F9: 6576060.5 | G9: 41143513 | H9: 321698.5 | I9: 9062420.8 | J9: 14795702 | K9: 2.6562522e+08
A10: Powys | B10: 1.0704282e+08 | C10: 1649024.2 | D10: 75130591 | E10: 13682678 | F10: 6375518.7 | G10: 48681443 | H10: 47934.264 | I10: 8775365.2 | J10: 18851675 | K10: 2.8023705e+08
A11: Ceredigion | B11: 59195448 | C11: 1006878.7 | D11: 41881375 | E11: 6628339.5 | F11: 3440590.3 | G11: 26214671 | H11: 107276.17 | I11: 5122285.4 | J11: 11556210 | K11: 1.5515307e+08
A12: Sir Benfro | B12: 1.0066721e+08 | C12: 1660173 | D12: 72661621 | E12: 9975103.5 | F12: 6063372.1 | G12: 43285513 | H12: 365928.64 | I12: 8187272.6 | J12: 16181246 | K12: 2.5904744e+08
A13: Sir Gaerfyrddin | B13: 1.5725589e+08 | C13: 2376238.1 | D13: 1.1061733e+08 | E13: 13905869 | F13: 9096862.9 | G13: 61680689 | H13: 1194545.5 | I13: 13995674 | J13: 22139176 | K13: 3.9226228e+08
A14: Abertawe | B14: 1.8741754e+08 | C14: 2884518.8 | D14: 1.4451586e+08 | E14: 12363950 | F14: 11963500 | G14: 79611108 | H14: 969377.36 | I14: 19263698 | J14: 25947945 | K14: 4.849375e+08
A15: Castell-nedd Port Talbot | B15: 1.1893537e+08 | C15: 1742655.8 | D15: 90948039 | E15: 8060693.2 | F15: 6930317.5 | G15: 44937333 | H15: 2358764.3 | I15: 15977271 | J15: 16718650 | K15: 3.066091e+08
... A26: Cyfanswm Awdurdodau Unedol | B26: 2.5522951e+09 | C26: 38323455 | D26: 1.8292913e+09 | E26: 1.967959e+08 | F26: 1.5222919e+08 | G26: 1.0256661e+09 | H26: 22000000 | I26: 2.44e+08 | J26: 376715823 | K26: 6.4373168e+09

Sheet Tabl_4c
A1: Tabl 4c: Cyfansymiau sector yr Asesiadau Gwariant Safonol (SSA), yn ôl Awdurdod Unedol, 2022-23 (£000)
A2: Mae'r daflen waith hon yn cynnwys un tabl. Mae rhai celloedd yn cyfeirio at nodiadau sydd ar gael ar y daflen waith nodiadau.
A3: Awdurdod Unedol | B3: Gwasanaethau Ysgolion | C3: Addysg – Arall | D3: Gwasanaethau Cymdeithasol Personol | E3: Ffyrdd a thrafnidiaeth | F3: Tân | G3: Gwasanaethau eraill | H3: Grant Amddifadedd | I3: Cynlluniau Gostyngiadau'r Dreth Gyngor | J3: Cyllid Dyledion | K3: Cyfanswm
A4: Ynys Môn | B4: 62581603 | C4: 985321.99 | D4: 45467916 | E4: 6036625.5 | F4: 3608716.2 | G4: 27137292 | H4: 508247.23 | I4: 5240008.2 | J4: 8128804.5 | K4: 1.5969453e+08
A5: Gwynedd | B5: 1.0874285e+08 | C5: 1851948.2 | D5: 79041330 | E5: 12421036 | F5: 6468044.3 | G5: 52975377 | H5: 493834.39 | I5: 8263060.3 | J5: 14760680 | K5: 2.8501816e+08
A6: Conwy | B6: 93425642 | C6: 1526392.1 | D6: 79557187 | E6: 9061001.3 | F6: 6111635.5 | G6: 43566302 | H6: 174108.74 | I6: 9188919.2 | J6: 15646286 | K6: 2.5825747e+08
A7: Sir Ddinbych | B7: 92796694 | C7: 1244426.1 | D7: 68133288 | E7: 7591744.1 | F7: 4959815.4 | G7: 35657934 | H7: 168517.71 | I7: 8536146.4 | J7: 13796984 | K7: 2.3288555e+08
A8: Sir y Fflint | B8: 1.3516142e+08 | C8: 2051590.4 | D8: 89014687 | E8: 10132836 | F8: 8123227.2 | G8: 58352021 | H8: 225093.54 | I8: 9679538.9 | J8: 15033982 | K8: 3.277744e+08
A9: Wrecsam | B9: 1.140458e+08 | C9: 1851698.9 | D9: 87008360 | E9: 7650891.4 | F9: 7052503 | G9: 45549475 | H9: 321698.5 | I9: 9275108.5 | J9: 13756858 | K9: 2.8651239e+08
A10: Powys | B10: 1.1411864e+08 | C10: 1760892.2 | D10: 84275334 | E10: 14340694 | F10: 6846044.2 | G10: 54099206 | H10: 47934.264 | I10: 8977543.9 | J10: 17470586 | K10: 3.0193688e+08
A11: Ceredigion | B11: 62686289 | C11: 1074683.7 | D11: 46980657 | E11: 6957879.9 | F11: 3675194.2 | G11: 29010773 | H11: 107276.17 | I11: 5126457.5 | J11: 10755444 | K11: 1.6637465e+08
A12: Sir Benfro | B12: 1.0701035e+08 | C12: 1779870.7 | D12: 81491271 | E12: 10501866 | F12: 6523881.6 | G12: 48150207 | H12: 365928.64 | I12: 8180128.8 | J12: 15064251 | K12: 2.7906775e+08
A13: Sir Gaerfyrddin | B13: 1.6775146e+08 | C13: 2549937.1 | D13: 1.2391052e+08 | E13: 14600874 | F13: 9789619 | G13: 68536308 | H13: 1194545.5 | I13: 14005711 | J13: 20544829 | K13: 4.228838e+08
A14: Abertawe | B14: 1.9914531e+08 | C14: 3078302.6 | D14: 1.625079e+08 | E14: 12966580 | F14: 12875912 | G14: 88390821 | H14: 969377.36 | I14: 19339170 | J14: 23940855 | K14: 5.2321423e+08
A15: Castell-nedd Port Talbot | B15: 1.2674904e+08 | C15: 1870537.2 | D15: 1.0195087e+08 | E15: 8452682.9 | F15: 7461185 | G15: 49845701 | H15: 2358764.3 | I15: 15955162 | J15: 15522299 | K15: 3.3016624e+08
... A26: Cyfanswm Awdurdodau Unedol | B26: 2.7268744e+09 | C26: 41117246 | D26: 2.0532738e+09 | E26: 2.0672258e+08 | F26: 1.6379953e+08 | G26: 1.1379499e+09 | H26: 22000000 | I26: 2.44e+08 | J26: 349802281 | K26: 6.9455398e+09

Sheet Tabl_4d
A1: Tabl 4d: Asesiadau ar sail Dangosyddion Gwasanaethau (IBAs), yn ôl Awdurdod Unedol, 2022-23 (£000)
A2: Mae'r daflen waith hon yn cynnwys un tabl. Mae rhai celloedd yn cyfeirio at nodiadau sydd ar gael ar y daflen waith nodiadau.
A3: Mae rhewi'r cwareli wedi'u troi ymlaen. I ddiffodd rhewi'r cwareli dewiswch y rhuban ‘Gweld’ yna ‘Rhwi'r Cwareli’ yna ‘Dadrewi Cwareli’ neu defnyddiwch [Alt W, F].
A4: Gwasanaeth | B4: Ynys Môn | C4: Gwynedd | D4: Conwy | E4: Sir Ddinbych | F4: Sir y Fflint | G4: Wrecsam | H4: Powys | I4: Ceredigion | J4: Sir Benfro | K4: Sir Gaerfyrddin | L4: Abertawe | M4: Castell-nedd Port Talbot | N4: Pen-y-bont ar Ogwr | O4: Bro Morgannwg | P4: Rhondda Cynon Taf | Q4: Merthyr Tudful | R4: Caerffili | S4: Blaenau Gwent | T4: Torfaen | U4: Sir Fynwy | V4: Casnewydd | W4: Caerdydd | X4: Cyfanswm Awdurdodau Unedol
A5: Gwasanaethau Ysgolion (o rain isod) | B5: 62581603 | C5: 1.0874285e+08 | D5: 93425642 | E5: 92796694 | F5: 1.3516142e+08 | G5: 1.140458e+08 | H5: 1.1411864e+08 | I5: 62686289 | J5: 1.0701035e+08 | K5: 1.6775146e+08 | L5: 1.9914531e+08 | M5: 1.2674904e+08 | N5: 1.2571238e+08 | O5: 1.2061841e+08 | P5: 2.214629e+08 | Q5: 53337359 | R5: 1.6363263e+08 | S5: 56854305 | T5: 84459775 | U5: 70961500 | V5: 1.455408e+08 | W5: 3.0007927e+08 | X5: 2.7268744e+09
A6: Addysgu meithrin ac mewn ysgolion cynradd, a gwasanaethau eraill | B6: 29610512 | C6: 48547834 | D6: 42125570 | E6: 40493301 | F6: 62232816 | G6: 55180189 | H6: 50749522 | I6: 27474533 | J6: 49875503 | K6: 77305633 | L6: 91689350 | M6: 56727316 | N6: 58132151 | O6: 55562020 | P6: 98775664 | Q6: 24713914 | R6: 74555587 | S6: 27218120 | T6: 37812078 | U6: 33045467 | V6: 67268508 | W6: 1.3998501e+08 | X6: 1.2490806e+09
A7: Addysgu mewn ysgolion uwchradd, a gwasanaethau eraill | B7: 20747362 | C7: 38796944 | D7: 33662428 | E7: 36348136 | F7: 50320945 | G7: 38482085 | H7: 39093802 | I7: 21049061 | J7: 37058050 | K7: 60946203 | L7: 75234651 | M7: 48362533 | N7: 46590175 | O7: 45983571 | P7: 85760332 | Q7: 18657842 | R7: 61849776 | S7: 18958634 | T7: 32511333 | U7: 23831028 | V7: 53969835 | W7: 1.1053739e+08 | X7: 9.9875212e+08
A8: Addysg arbennig | B8: 6848137.5 | C8: 11720141 | D8: 10910872 | E8: 9794035.2 | F8: 15982798 | G8: 13695763 | H8: 11811819 | I8: 6152238.8 | J8: 12117203 | K8: 18753258 | L8: 22132121 | M8: 14576720 | N8: 14222773 | O8: 13169218 | P8: 25446085 | Q8: 6717135 | R8: 19031667 | S8: 7248516.6 | T8: 9888124.8 | U8: 8577547.8 | V8: 16411841 | W8: 33201654 | X8: 3.0840967e+08
A9: Gwasanaethau cludiant ysgolion uwchradd | B9: 2232054.5 | C9: 4465943 | D9: 2972597.6 | E9: 2612532 | F9: 2703776.3 | G9: 2506862.2 | H9: 6806288.5 | I9: 4179006.5 | J9: 3447670.4 | K9: 4444979.2 | L9: 3387275.3 | M9: 2283925.8 | N9: 2359154.4 | O9: 2457273.9 | P9: 3731564 | Q9: 1044105.2 | R9: 2699213.8 | S9: 1043823.1 | T9: 1398389.2 | U9: 2774101.7 | V9: 2658306.1 | W9: 5216374 | X9: 67425217
A10: Prydau ysgol | B10: 2009088.2 | C10: 3041816.9 | D10: 2027496.6 | E10: 2040893.3 | F10: 2391390.4 | G10: 2617753 | H10: 2399172.6 | I10: 1887726 | J10: 2675301.7 | K10: 3931448.2 | L10: 4591589.8 | M10: 3352014 | N10: 2982516.3 | O10: 2037322.3 | P10: 5547256.4 | Q10: 1437772.2 | R10: 3847583.7 | S10: 1679795.2 | T10: 1897999.6 | U10: 1320777.7 | V10: 3538660.8 | W10: 7978735.9 | X10: 65234111
A11: Gwasanaethau cludiant meithrin ac ysgolion cynradd | B11: 1134448.7 | C11: 2170170.6 | D11: 1726677.8 | E11: 1507795.3 | F11: 1529694.1 | G11: 1563143.2 | H11: 3258039.2 | I11: 1943723.8 | J11: 1836619.5 | K11: 2369933.6 | L11: 2110319.3 | M11: 1446527.1 | N11: 1425612.2 | O11: 1409008 | P11: 2201999.2 | Q11: 766591.03 | R11: 1648806.5 | S11: 705416.25 | T11: 951850.91 | U11: 1412578.7 | V11: 1693646.2 | W11: 3160101.9 | X11: 37972703
A12: Addysg – Arall (o rain isod) | B12: 985321.99 | C12: 1851948.2 | D12: 1526392.1 | E12: 1244426.1 | F12: 2051590.4 | G12: 1851698.9 | H12: 1760892.2 | I12: 1074683.7 | J12: 1779870.7 | K12: 2549937.1 | L12: 3078302.6 | M12: 1870537.2 | N12: 1814794.3 | O12: 1550565.7 | P12: 3270726.8 | Q12: 772483.4 | R12: 2491682 | S12: 962390.06 | T12: 1167572.8 | U12: 1238012.7 | V12: 1858910.6 | W12: 4364506.5 | X12: 41117246
A13: Gwasanaethau ieuenctid | B13: 390437.28 | C13: 816422.47 | D13: 648157.36 | E13: 601769.01 | F13: 956247.05 | G13: 875107.87 | H13: 689774.02 | I13: 504004.11 | J13: 738713.44 | K13: 1148084.6 | L13: 1681349.4 | M13: 916262.36 | N13: 893642.09 | O13: 804654.05 | P13: 1624717.6 | Q13: 397660.82 | R13: 1178569.6 | S13: 437638.85 | T13: 590563.1 | U13: 511835.74 | V13: 1051571.5 | W13: 2784644.6 | X13: 20241827
A14: Addysg oedolion ac addysg barhaus – trafnidiaeth | B14: 376273.15 | C14: 652342.28 | D14: 516438.56 | E14: 328513.8 | F14: 619438.22 | G14: 560718.46 | H14: 671827.73 | I14: 352345.2 | J14: 652926.54 | K14: 817685.01 | L14: 634534.19 | M14: 491604.75 | N14: 468669.53 | O14: 338424.33 | P14: 878090.93 | Q14: 182689.79 | R14: 739262.47 | S14: 304292.27 | T14: 277029.53 | U14: 455632.77 | V14: 310348.07 | W14: 472173.9 | X14: 11101261
A15: Addysg oedolion ac addysg barhaus | B15: 146780.85 | C15: 258211.2 | D15: 254500.25 | E15: 207876.65 | F15: 320854.27 | G15: 284908.21 | H15: 268346.41 | I15: 146284.35 | J15: 265297.57 | K15: 391726.67 | L15: 533906 | M15: 317329.8 | N15: 308376.77 | O15: 269436.15 | P15: 513968.94 | Q15: 130988.59 | R15: 386129.24 | S15: 155126 | T15: 203221.16 | U15: 188958.65 | V15: 330429.18 | W15: 763666.13 | X15: 6646323.1
A16: Gweinyddu addysg | B16: 71830.716 | C16: 124972.28 | D16: 107295.93 | E16: 106266.6 | F16: 155050.9 | G16: 130964.34 | H16: 130944.04 | I16: 72049.991 | J16: 122933.1 | K16: 192440.82 | L16: 228512.97 | M16: 145340.3 | N16: 144105.89 | O16: 138051.12 | P16: 253949.32 | Q16: 61144.2 | R16: 187720.72 | S16: 65332.948 | T16: 96759.026 | U16: 81585.553 | V16: 166561.88 | W16: 344021.91 | X16: 3127834.6
... A61: Cyfanswm Asesiad o Wariant Safonol (SSA) | B61: 1.5969453e+08 | C61: 2.8501816e+08 | D61: 2.5825747e+08 | E61: 2.3288555e+08 | F61: 3.277744e+08 | G61: 2.8651239e+08 | H61: 3.0193688e+08 | I61: 1.6637465e+08 | J61: 2.7906775e+08 | K61: 4.228838e+08 | L61: 5.2321423e+08 | M61: 3.3016624e+08 | N61: 3.1366272e+08 | O61: 2.7871505e+08 | P61: 5.5754214e+08 | Q61: 1.3875178e+08 | R61: 4.0842571e+08 | S61: 1.627161e+08 | T61: 2.107319e+08 | U61: 1.8178108e+08 | V61: 3.5544083e+08 | W61: 7.6398641e+08 | X61: 6.9455398e+09

Sheet Tabl_5
A1: Tabl 5: Manylion Prif Gyllid Cynghorau, yn ôl Awdurdod Unedol, 2022-23 (£000)
A2: Mae'r daflen waith hon yn cynnwys un tabl. Mae rhai celloedd yn cyfeirio at nodiadau sydd ar gael ar y daflen waith nodiadau.
A3: Awdurdod Unedol | B3: 100% o sail dreth [Nodyn 16] | C3: Asesiad o Wariant Safonol | D3: Y Dreth Gyngor [Nodyn 17] | E3: Grant Cynnal Refeniw | F3: Cyfraddau annomestig wedi eu hailddosbarthu | G3: Cyllid Allanol Cyfun [Nodyn 18]
A4: Ynys Môn | B4: 31079.93 | C4: 1.5969453e+08 | D4: 45143282 | E4: 89058293 | F4: 25492959 | G4: 114551252
A5: Gwynedd | B5: 49434.9 | C5: 2.8501816e+08 | D5: 71803689 | E5: 167695380 | F5: 45519091 | G5: 213214471
A6: Conwy | B6: 51598.55 | C6: 2.5825747e+08 | D6: 74946368 | E6: 140005084 | F6: 43306020 | G6: 183311104
A7: Sir Ddinbych | B7: 40788.81 | C7: 2.3288555e+08 | D7: 59245331 | E7: 139189610 | F7: 34450608 | G7: 173640218
A8: Sir y Fflint | B8: 65815.19 | C8: 3.277744e+08 | D8: 95595893 | E8: 176528928 | F8: 55649575 | G8: 232178503
A9: Wrecsam | B9: 54698.22 | C9: 2.8651239e+08 | D9: 79448607 | E9: 159229828 | F9: 47833954 | G9: 207063782
A10: Powys | B10: 63116.36 | C10: 3.0193688e+08 | D10: 91675870 | E10: 161514501 | F10: 48746506 | G10: 210261007
A11: Ceredigion | B11: 32326.27 | C11: 1.6637465e+08 | D11: 46953578 | E11: 92338741 | F11: 27082335 | G11: 119421076
A12: Sir Benfro | B12: 57012.85 | C12: 2.7906775e+08 | D12: 82810584 | E12: 150386718 | F12: 45870451 | G12: 196257169
A13: Sir Gaerfyrddin | B13: 76613.92 | C13: 4.228838e+08 | D13: 1.1128094e+08 | E13: 243380252 | F13: 68222607 | G13: 311602859
A14: Abertawe | B14: 94060.59 | C14: 5.2321423e+08 | D14: 1.3662205e+08 | E14: 297425081 | F14: 89167095 | G14: 386592176
A15: Castell-nedd Port Talbot | B15: 49634.54 | C15: 3.3016624e+08 | D15: 72093664 | E15: 206151784 | F15: 51920793 | G15: 258072577
... A26: Cyfanswm Awdurdodau Unedol | B26: 1265369.9 | C26: 6.9455398e+09 | D26: 1837936949 | E26: 3973737811 | F26: 1133865000 | G26: 5107602811

Sheet Tabl_6
A1: Tabl 6: Newidiadau i sylfaen Cyllid Allanol Cyfun (AEF) 2021-22, yn ôl Awdurdod Unedol (£000) [Nodyn 19 & 20]
A2: Mae'r daflen waith hon yn cynnwys un tabl. Mae rhai celloedd yn cyfeirio at nodiadau sydd ar gael ar y daflen waith nodiadau.
A3: Awdurdod Unedol | B3: Cyllid Allanol Cyfun 2021-22 wedi'i gyhoeddi | C3: Cyllid Allanol Cyfun 2021-22 wedi'i addasu gyda'r sylfaen drethu | D3: Trosglwyddiadau i mewn: Ffi glwyd | E3: Trosglwyddiadau i mewn/allan: Y Rhaglen Rheoli Risgiau Arfordirol | F3: Trosglwyddiadau i mewn: Grant Gweithlu Gofal Cymdeithasol | G3: Cyllid Allanol Cyfun 2021-22 wedi'i addasu
A4: Ynys Môn | B4: 104825173 | C4: 104760975 | D4: 0 | E4: 0 | F4: 110984 | G4: =SUM(C4:F4) -> 104871959
A5: Gwynedd | B5: 194793143 | C5: 195593714 | D5: 117820 | E5: 0 | F5: 193182 | G5: =SUM(C5:F5) -> 195904716
A6: Conwy | B6: 166906053 | C6: 167161574 | D6: 0 | E6: 0 | F6: 193953 | G6: =SUM(C6:F6) -> 167355527
A7: Sir Ddinbych | B7: 158631640 | C7: 158785260 | D7: 109470 | E7: 0 | F7: 165662 | G7: =SUM(C7:F7) -> 159060392
A8: Sir y Fflint | B8: 206778161 | C8: 206770680 | D8: 5620258 | E8: 0 | F8: 216665 | G8: =SUM(C8:F8) -> 212607603
A9: Wrecsam | B9: 188856177 | C9: 189020221 | D9: 0 | E9: 0 | F9: 212542 | G9: =SUM(C9:F9) -> 189232763
A10: Powys | B10: 191897117 | C10: 191882324 | D10: 0 | E10: 0 | F10: 205354 | G10: =SUM(C10:F10) -> 192087678
A11: Ceredigion | B11: 109658033 | C11: 109654616 | D11: 236570 | E11: 0 | F11: 114474 | G11: =SUM(C11:F11) -> 110005660
A12: Sir Benfro | B12: 179387014 | C12: 179223728 | D12: 0 | E12: 0 | F12: 198606 | G12: =SUM(C12:F12) -> 179422334
A13: Sir Gaerfyrddin | B13: 284820457 | C13: 284959632 | D13: 0 | E13: 0 | F13: 302350 | G13: =SUM(C13:F13) -> 285261982
A14: Abertawe | B14: 352641657 | C14: 353074067 | D14: 101817 | E14: 0 | F14: 395005 | G14: =SUM(C14:F14) -> 353570889
A15: Castell-nedd Port Talbot | B15: 236680029 | C15: 237051134 | D15: 0 | E15: -11062 | F15: 248588 | G15: =SUM(C15:F15) -> 237288660
... A26: Cyfanswm Awdurdodau Unedol | B26: 4651494400 | C26: 4651494400 | D26: 13300487 | E26: 284880 | F26: 5000000 | G26: =SUM(C26:F26) -> 4670079767

Sheet Tabl_7
A1: Tabl 7: Rhestr a symiau amcangyfrifedig o Grantiau ar gyfer gyfan Cymru (£000) [Nodyn 6]
A2: Mae'r daflen waith hon yn cynnwys un tabl. Mae rhai celloedd yn cyfeirio at nodiadau sydd ar gael ar y daflen waith nodiadau.
A3: Enw Portffolio a Grant | B3: 2021-22 | C3: 2022-23 | D3: 2023-24 | E3: 2024-25
A4: Cyfanswm Y Gymraeg ac Addysg (o'r rhain isod) | B4: =SUM(B5:B27) -> 583082.73 | C4: =SUM(C5:C27) -> 529945.07 | D4: =SUM(D5:D27) -> 551090.87 | E4: =SUM(E5:E27) -> 560110.87
A5: Grant Gwella Ysgolion y Consortia Rhanbarthol [Nodyn 21] | B5: 172569.64 | C5: 158000 | D5: 158000 | E5: 158000
A6: Y Grant Datblygu Disgyblion | B6: 111029.76 | C6: 123000 | D6: 123000 | E6: 123000
A7: Darpariaeth Chweched Dosbarth | B7: 98851.577 | C7: 98851.577 | D7: 98851.577 | E7: 98851.577
A8: Recriwtio, Adfer, a Chodi Safonau – y Rhaglen Dysgu Carlam | B8: 68848 | C8: 37500 | D8: 32000 | E8: 23000
A9: Grant Cynnal a Chadw Refeniw | B9: 45000 | C9: 0 | D9: 0 | E9: 0
A10: Anghenion Dysgu Ychwanegol [Nodyn 22] | B10: 16155 | C10: 14155 | D10: 14155 | E10: 14155
A11: Y Grant Datblygu Disgyblion – Mynediad [Nodyn 22] | B11: 12038 | C11: 12038 | D11: 12038 | E11: 12038
A12: Cymorth Pontio i ddysgwyr o Leiafrifoedd Ethnig a dysgwyr sy'n Sipsiwn, Roma neu Deithwyr [Nodyn 22] | B12: 11000 | C12: 11000 | D12: 11000 | E12: 11000
A13: Cymorth Ieuenctid | B13: 10056 | C13: 10056 | D13: 10056 | E13: 10056
A14: Cyflog athrawon mewn ysgolion | B14: 6417.571 | C14: 0 | D14: 0 | E14: 0
A15: Y Grant Lleihau Maint Dosbarthiadau Babanod – Refeniw [Nodyn 23] | B15: 6000 | C15: 2500 | D15: 0 | E15: 0
A16: Darpariaeth Addysg Ôl-16 Awdurdodau Lleol 2021-22 – Dysgu Oedolion | B16: 5656.6672 | C16: 5656.6672 | D16: 5656.6672 | E16: 5656.6672
... A18: Meithrinfa'r Cyfnod Sylfaen | B18: 3768.48 | C18: 5268.48 | D18: 5268.48 | E18: 5268.48
A19: Y Gronfa Trawsnewid Anghenion Dysgu Ychwanegol | B19: 3200 | C19: 1980 | D19: 1980 | E19: TBC
A20: Y Grant Ysgolion Bach a Gwledig [Nodyn 12] | B20: 2500 | C20: 0 | D20: 0 | E20: 0
A21: Drochi cyfrwng Cymraeg | B21: 2200 | C21: 2200 | D21: 2200 | E21: 2200
A22: Addysg Ddewisol yn y Cartref [Nodyn 22] | B22: 1708.616 | C22: 1708.616 | D22: 1708.616 | E22: 1708.616
A23: Grant Cynllun Datblygu Unigol Ar-lein | B23: 1000 | C23: 1000 | D23: 1000 | E23: 1000
A24: SEREN | B24: 854.199 | C24: 854.199 | D24: TBC | E24: TBC
A25: Hybu a Hyrwyddo Defnydd y Gymraeg | B25: 374 | C25: 348 | D25: 348 | E25: 348
A26: Cefnogi plant mabwysiedig ym myd Addysg | B26: 26.7 | C26: TBC | D26: TBC | E26: TBC
A27: Prydau ysgol am ddim [Nodyn 24] | B27: 0 | C27: 40000 | D27: 70000 | E27: 90000
A28: Cyfanswm Newid Hinsawdd (o'r rhain isod) | B28: =SUM(B29:B55) -> 404532.29 | C28: =SUM(C29:C55) -> 281277.93 | D28: =SUM(D29:D55) -> 272022.63 | E28: =SUM(E29:E55) -> 272022.63
A29: Y Grant Cymorth Tai | B29: 166763 | C29: 166763 | D29: 166763 | E29: 166763
A30: Prisiau Siwrneiau Consesiynol Gorfodol | B30: 60482 | C30: 62595 | D30: 62595 | E30: 62595
A31: Rhaglen Refeniw Trawsnewid Trefi – De-ddwyrain Cymru | B31: 44000 | C31: TBC | D31: TBC | E31: TBC
A32: Rhaglen Refeniw Trawsnewid Trefi – De-orllewin Cymru | B32: 27000 | C32: TBC | D32: TBC | E32: TBC
A33: Y Grant Cynnal Gwasnaethau Bysiau | B33: 24900 | C33: 24900 | D33: 24900 | E33: 24900
A34: Rhaglen Trawsnewid Trefi – Gogledd Cymru | B34: 22000 | C34: TBC | D34: TBC | E34: TBC
A35: Grant Rheoli Gwastraff Cynaliadwy | B35: 16400 | C35: TBC | D35: TBC | E35: TBC
A36: Cymorth ar gyfer Ffioedd Clwyd ar gyfer Trin Gwastaff Bwyd a Gwastraff Gweddilliol | B36: 13300.487 | C36: RSG | D36: 0 | E36: 0
A37: Rhaglen Gyfalaf Trawsnewid Trefi – Canolbarth Cymru | B37: 7000 | C37: TBC | D37: TBC | E37: TBC
A38: Awdurdod Harbwr Caerdydd | B38: 5770 | C38: 5400 | D38: 5400 | E38: 5400
A39: Rheoli Perygl Llifogydd ac Erydu Arfordirol | B39: 4432 | C39: 5520 | D39: 5520 | E39: 5520
A40: Y Grant Diogelwch Ffyrdd | B40: 2899.593 | C40: 1600 | D40: 1600 | E40: 1600
A41: Y Rhaglen Rheoli Risgiau Arfordirol | B41: 2725 | C41: 8036 | D41: TBC | E41: TBC
A42: Y Grant Tai Fforddiadwy | B42: 2514.985 | C42: 2514.985 | D42: 2514.985 | E42: 2514.985
A43: Y Cynllun Teithio Rhatach i Bobl Ifanc (Fy Ngherdyn Teithio) | B43: 1780 | C43: 2000 | D43: 2000 | E43: 2000
A44: Maes Awyr Môn – Gweithredu a Chynnal | B44: 800 | C44: 800 | D44: TBC | E44: TBC
A45: Y Gronfa Teithio Llesol | B45: 549.27 | C45: 0 | D45: 0 | E45: 0
A46: Grant Galluogi Adnoddau Naturiol a Lles yng Nghymru (ENRaW) | B46: 398.85821 | C46: 98.30162 | D46: TBC | E46: TBC
A47: Gweithredu mesurau i fynd i'r afael ag allyriadau nitrogen deuocsid | B47: 293 | C47: 321 | D47: 0 | E47: 0
A48: Y Gronfa Datblygu Cynaliadwy ar gyfer Ardaloedd o Harddwch Naturiol Eithriadol – Refeniw | B48: 250 | C48: 525 | D48: 525 | E48: 525
A49: Swyddogion Galluogi Tai Gwledig | B49: 60 | C49: 59 | D49: 59 | E49: 59
A50: Gwasanaeth Ynni Lleol | B50: 55 | C50: 0 | D50: 0 | E50: 0
A51: Gweithgor Agregau Rhanbarthol y De | B51: 50 | C51: 50 | D51: 50 | E51: 50
A52: Adroddiad Monitro Cynllunio Gwastraff – y Gogledd a'r De-ddwyrain | B52: 48 | C52: 49.08 | D52: 49.08 | E52: 49.08
A53: Gweithgor Agregau Rhanbarthol y Gogledd | B53: 25 | C53: 25 | D53: 25 | E53: 25
A54: Byw'n Glyfar | B54: 20 | C54: 0 | D54: 0 | E54: 0
A55: Adroddiad Monitro Cynllunio Gwastraff – y De-orllewin | B55: 16.1 | C55: 21.564 | D55: 21.564 | E55: 21.564
A56: Cyfanswm Cyllid a Llywodraeth Leol (o'r rhain isod) | B56: =SUM(B57:B63) -> 232256.29 | C56: =SUM(C57:C63) -> 190631 | D56: =SUM(D57:D63) -> 181631 | E56: =SUM(E57:E63) -> 186431
A57: Y Grant Plant a Chymunedau [Nodyn 25] | B57: 149385 | C57: 162131 | D57: 153131 | E57: 157931
A58: Pwysau gofal cymdeithasol Awdurdodau Lleol | B58: 50000 | C58: 0 | D58: 0 | E58: 0
A59: Rhyddhad Ardrethi Manwerthu, Hamdden a Lletygarwch – (Elfen nad yw'n ymwneud â COVID) [Nodyn 26] | B59: 27700 | C59: 27700 | D59: 27700 | E59: 27700
A60: Llywodraeth Leol Chwefror 2020 adfer llifogydd | B60: 2375 | C60: 0 | D60: 0 | E60: 0
A61: Cymorth Diwygio Etholiadol | B61: 1604.293 | C61: 0 | D61: 0 | E61: 0
A62: Claddu Plant | B62: 800 | C62: 800 | D62: 800 | E62: 800
A63: Cronfa Trawsnewid Digidol Llywodraeth Leol [Nodyn 27] | B63: 392 | C63: 0 | D63: 0 | E63: 0
A64: Cyfasnwm Iechyd a Gwasanaethau Cymdeithasol (o'r rhain isod) | B64: =SUM(B65:B85) -> 132684.38 | C64: =SUM(C65:C85) -> 143758.7 | D64: =SUM(D65:D85) -> 146870 | E64: =SUM(E65:E85) -> 141870
A65: Cynnig Gofal Plant | B65: 61897 | C65: 80750 | D65: 84750 | E65: 86250
A66: Grant Gweithlu Gofal Cymdeithasol [Nodyn 28] | B66: 50000 | C66: 45000 | D66: 45000 | E66: 45000
A67: Grant Gweinyddu'r Cynnig Gofal Plant | B67: 3716 | C67: 3250 | D67: 3250 | E67: 3250
A68: Trefniadau Diogelu wrth Amddifadu o Ryddid [Nodyn 29] | B68: 3117 | C68: TBC | D68: TBC | E68: TBC
A69: I ariannu gwasanaethau seibiant brys i ofalwyr di-dâl [Nodyn 30] | B69: 2940 | C69: 0 | D69: 0 | E69: 0
A70: Rhaglen Drawsnewid Integreiddio'r Blynyddoedd Cynnar | B70: 2774.536 | C70: 6000 | D70: 6000 | E70: TBC
A71: Gwasanaethau Mabwysiadu | B71: 2300 | C71: 2300 | D71: 2300 | E71: 2300
A72: Grant Cymorth Ychwanegol – Cynnig Gofal Plant | B72: 1509.739 | C72: 2000 | D72: 2000 | E72: 2000
A73: Grant Cyfleoedd Chwarae Cymru Gyfan – Prosiect Gwaith Chwarae'r gwyliau, menter osgoi llwgu yn ystod y gwyliau | B73: 1000 | C73: 1000 | D73: 1000 | E73: 1000
A74: Maethu Cymru | B74: 576.1 | C74: 558.7 | D74: 0 | E74: 0
A75: Cyllid i awdurdodau lleol gefnogi cymunedau sy'n ystyriol o oedran | B75: 550 | C75: 1100 | D75: 1100 | E75: 1100
A76: Y Dull Cenedlaethol ar gyfer Eiriolaeth Statudol i Blant a Phobl Ifanc | B76: 550.003 | C76: 550 | D76: 550 | E76: 550
A77: Cronfa Unigrwydd ac Arwahanrwydd Cymdeithasol Cymunedau Cysylltiedig | B77: 500 | C77: 500 | D77: 500 | E77: 0
A78: Grant Polisi Strategol Chwarae Cymru | B78: 360 | C78: TBC | D78: TBC | E78: TBC
A79: Gweithredu'r Fframwaith Perfformiad a Gwella | B79: 330 | C79: 330 | D79: 0 | E79: 0
A80: Cerdyn Adnabod Gofalwyr Ifanc | B80: 193 | C80: 150 | D80: 150 | E80: 150
A81: Gwasanaeth Mabwysiadu Cenedlaethol | B81: 185 | C81: 185 | D81: 185 | E81: 185
A82: Cyllid fel cymorth ar gyfer lleoli Plant Digwmni sy'n Ceisio Lloches (UASC) [Nodyn 12] | B82: 80 | C82: 0 | D82: 0 | E82: 0
A83: Byrddau Diogelu – hyfforddiant | B83: 60 | C83: 60 | D83: 60 | E83: 60
A84: Cynnal Gweithdrefnau Diogelu Cymru | B84: 25 | C84: 25 | D84: 25 | E84: 25
A85: Gwasanaethau Cyswllt [Nodyn 31] | B85: 21 | C85: 0 | D85: 0 | E85: 0
A86: Cyfanswm Iechyd Meddwl a Llesiant (o'r rhain isod) | B86: =SUM(B87:B89) -> 26230.763 | C86: =SUM(C87:C89) -> 33063 | D86: =SUM(D87:D89) -> 36063 | E86: =SUM(E87:E89) -> 38063
A87: Cronfa Weithredu ar gyfer Camddefnyddio Sylweddau | B87: 25063 | C87: 31063 | D87: 32563 | E87: 33563
A88: Y Gronfa Weithredu ar Gamddefnyddio Sylweddau – Anghenion Cymhleth | B88: 1017.763 | C88: 2000 | D88: 3500 | E88: 4500
A89: Cronfa Weithredu ar gyfer Camddefnyddio Sylweddau – Naloxone [Nodyn 32] | B89: 150 | C89: TBC | D89: TBC | E89: TBC
A90: Cyfanswm Cyfiawnder Cymdeithasol a Phartneriaeth Gymdeithasol (o'r rhain isod) | B90: =SUM(B91:B97) -> 5804.685 | C90: =SUM(C91:C97) -> 6301.685 | D90: =SUM(D91:D97) -> 6301.685 | E90: =SUM(E91:E97) -> 6301.685
A91: Urddas Mislif | B91: 2500.876 | C91: 2500.876 | D91: 2500.876 | E91: 2500.876
A92: Trais yn erbyn Menywod, Cam-drin Domestig a Thrais Rhywiol – Grant Refeniw | B92: 1579.26 | C92: 1579.26 | D92: 1579.26 | E92: 1579.26
A93: Cydlyniant Cymunedol | B93: 1114 | C93: 1120 | D93: 1120 | E93: 1120
A94: Cyllid mewn perthynas â'r Gronfa Cefnogi Cartrefi – mynd i'r afael â thlodi bwyd | B94: 500 | C94: 0 | D94: 0 | E94: 0
A95: Trais yn erbyn Menywod, Cam-drin Domestig a Thrais Rhywiol – Elfen Cyflawnwyr | B95: 110.549 | C95: 110.549 | D95: 110.549 | E95: 110.549
A96: Trais yn Erbyn Menywod Cam-drin Domestig a Thrais Rhywiol – Cyllid ar Sail Anghenion | B96: 0 | C96: 971 | D96: 971 | E96: 971
A97: Grant Diwrnod Lluoedd Arfog | B97: 0 | C97: 20 | D97: 20 | E97: 20
A98: Cyfanswm Yr Economi (o'r rhain isod) | B98: =SUM(B99:B105) -> 2442 | C98: =SUM(C99:C105) -> 3040 | D98: =SUM(D99:D105) -> 5 | E98: =SUM(E99:E105) -> 0
A99: Grant Cronfa Ynni Bae Baglan – Castell-nedd Port Talbot | B99: 1500 | C99: 3000 | D99: 0 | E99: 0
A100: Rhaglen Ariannu Ysgogi Refeniw Rhanbarthol | B100: 900 | C100: 0 | D100: 0 | E100: 0
A101: Astudiaeth Ddichonoldeb Pier y Gorllewin Abertawe | B101: 20 | C101: 0 | D101: 0 | E101: 0
...

Sheet Tabl_8
A1: Tabl 8: Mae'r tabl yn ynysu effaith unigol diweddaru rhai elfennau o fformiwla 2021-22 drwy defnyddio y 2022-23 data.
A2: Mae'r daflen waith hon yn cynnwys un tabl. Mae rhai celloedd yn cyfeirio at nodiadau sydd ar gael ar y daflen waith nodiadau.
A3: Awdurdod Unedol | B3: Cyllid Allanol Cyfun 2021-22 wedi'i gyhoeddi | C3: 100% sylfaen drethu wedi'i addasu | D3: Trosglwyddiadau ar werthoedd 2021-22 | E3: Newid lefel ariannu Cymru (2022-23) [Nodyn 33] | F3: Cydraddoli ar gyfer adnodd [Nodyn 34] | G3: Disgyblion [Nodyn 35] | H3: Data prydau ysgol am ddim [Nodyn 36] | I3: Poblogaeth [Nodyn 37] | J3: Budd-daliadau & CTRS | K3: Data Eraill [Nodyn 38] | L3: Data cyfrif refeniw / alldro [Nodyn 39] | M3: Grant byw'n annibynnol yng Nghymru wedi'i cyflwyno'n raddol [Nodyn 40] | N3: Cyllido Asedau a Dyled ac cyfradd cronfa [Nodyn 41] | O3: Cyfanswm gwahaniaeth unigol [Nodyn 42] | P3: Newid fel canran [Nodyn 43] | Q3: Newid Setliad Refeniw Llywodraeth gwirioneddol fel canran | R3: Gwahaniaeth rhwng canran unigol [Nodyn 44]
A4: Ynys Môn | B4: =Tabl_6!B4 -> 104825173 | C4: =Tabl_6!C4-Tabl_8!B4 -> -64198 | D4: =SUM(Tabl_6!D4:F4) -> 110984 | E4: 10059627 | F4: -96792 | G4: 11266 | H4: -149099 | I4: -105014 | J4: 29842 | K4: 58442 | L4: -4680 | M4: -53370 | N4: -49179 | O4: =SUM(E4:N4) -> 9701043 | P4: =O4/SUM(B4:D4) -> 0.092503688 | Q4: =Tabl_1a!D4 -> 0.092296292 | R4: =Q4-P4 -> -0.00020739576
A5: Gwynedd | B5: =Tabl_6!B5 -> 194793143 | C5: =Tabl_6!C5-Tabl_8!B5 -> 800571 | D5: =SUM(Tabl_6!D5:F5) -> 311002 | E5: 17878647 | F5: 126312 | G5: -111800 | H5: -255254 | I5: -73119 | J5: -230497 | K5: 277924 | L5: 43839 | M5: -265462 | N5: -96368 | O5: =SUM(E5:N5) -> 17294222 | P5: =O5/SUM(B5:D5) -> 0.088278743 | Q5: =Tabl_1a!D5 -> 0.088358031 | R5: =Q5-P5 -> 7.9288546e-05
A6: Conwy | B6: =Tabl_6!B6 -> 166906053 | C6: =Tabl_6!C6-Tabl_8!B6 -> 255521 | D6: =SUM(Tabl_6!D6:F6) -> 193953 | E6: 16275766 | F6: -286916 | G6: -164514 | H6: 6804 | I6: -69664 | J6: 108346 | K6: 93014 | L6: 125509 | M6: -79932 | N6: -25421 | O6: =SUM(E6:N6) -> 15982992 | P6: =O6/SUM(B6:D6) -> 0.095503222 | Q6: =Tabl_1a!D6 -> 0.095339409 | R6: =Q6-P6 -> -0.00016381293
A7: Sir Ddinbych | B7: =Tabl_6!B7 -> 158631640 | C7: =Tabl_6!C7-Tabl_8!B7 -> 153620 | D7: =SUM(Tabl_6!D7:F7) -> 275132 | E7: 14520529 | F7: 65219 | G7: 488235 | H7: -32742 | I7: -11126 | J7: -331339 | K7: -53513 | L7: -88850 | M7: 12282 | N7: -46529 | O7: =SUM(E7:N7) -> 14522166 | P7: =O7/SUM(B7:D7) -> 0.0912997 | Q7: =Tabl_1a!D7 -> 0.091662203 | R7: =Q7-P7 -> 0.00036250382
A8: Sir y Fflint | B8: =Tabl_6!B8 -> 206778161 | C8: =Tabl_6!C8-Tabl_8!B8 -> -7481 | D8: =SUM(Tabl_6!D8:F8) -> 5836923 | E8: 20351185 | F8: -338888 | G8: -802616 | H8: 384648 | I8: 143394 | J8: 44496 | K8: -32585 | L8: -149321 | M8: -83436 | N8: 17392 | O8: =SUM(E8:N8) -> 19534269 | P8: =O8/SUM(B8:D8) -> 0.091879447 | Q8: =Tabl_1a!D8 -> 0.092051741 | R8: =Q8-P8 -> 0.00017229393
A9: Wrecsam | B9: =Tabl_6!B9 -> 188856177 | C9: =Tabl_6!C9-Tabl_8!B9 -> 164044 | D9: =SUM(Tabl_6!D9:F9) -> 212542 | E9: 18316998 | F9: -110292 | G9: -244959 | H9: 172301 | I9: -286460 | J9: 214031 | K9: -106162 | L9: 8575 | M9: -197480 | N9: 100928 | O9: =SUM(E9:N9) -> 17867480 | P9: =O9/SUM(B9:D9) -> 0.094420647 | Q9: =Tabl_1a!D9 -> 0.094227969 | R9: =Q9-P9 -> -0.00019267805
A10: Powys | B10: =Tabl_6!B10 -> 191897117 | C10: =Tabl_6!C10-Tabl_8!B10 -> -14793 | D10: =SUM(Tabl_6!D10:F10) -> 205354 | E10: 18912014 | F10: -441375 | G10: -345706 | H10: 166687 | I10: -198597 | J10: 269610 | K10: 133996 | L10: 7440 | M10: -42707 | N10: -245483 | O10: =SUM(E10:N10) -> 18215879 | P10: =O10/SUM(B10:D10) -> 0.094831065 | Q10: =Tabl_1a!D10 -> 0.094609551 | R10: =Q10-P10 -> -0.00022151343
A11: Ceredigion | B11: =Tabl_6!B11 -> 109658033 | C11: =Tabl_6!C11-Tabl_8!B11 -> -3417 | D11: =SUM(Tabl_6!D11:F11) -> 351044 | E11: 10395277 | F11: -114910 | G11: -527702 | H11: -1695 | I11: -231246 | J11: 47960 | K11: 14329 | L11: 15242 | M11: 9891 | N11: -131940 | O11: =SUM(E11:N11) -> 9475206 | P11: =O11/SUM(B11:D11) -> 0.086133804 | Q11: =Tabl_1a!D11 -> 0.085590287 | R11: =Q11-P11 -> -0.00054351749
A12: Sir Benfro | B12: =Tabl_6!B12 -> 179387014 | C12: =Tabl_6!C12-Tabl_8!B12 -> -163286 | D12: =SUM(Tabl_6!D12:F12) -> 198606 | E12: 17621265 | F12: -323870 | G12: -35587 | H12: -381471 | I12: -133336 | J12: 28122 | K12: 209572 | L12: 18527 | M12: -87184 | N12: -37887 | O12: =SUM(E12:N12) -> 16878151 | P12: =O12/SUM(B12:D12) -> 0.094069398 | Q12: =Tabl_1a!D12 -> 0.093827979 | R12: =Q12-P12 -> -0.00024141922
A13: Sir Gaerfyrddin | B13: =Tabl_6!B13 -> 284820457 | C13: =Tabl_6!C13-Tabl_8!B13 -> 139175 | D13: =SUM(Tabl_6!D13:F13) -> 302350 | E13: 26746550 | F13: 50954 | G13: -309161 | H13: 66813 | I13: -2874 | J13: 168737 | K13: 77910 | L13: -82715 | M13: -402566 | N13: 2062 | O13: =SUM(E13:N13) -> 26315710 | P13: =O13/SUM(B13:D13) -> 0.092251024 | Q13: =Tabl_1a!D13 -> 0.092339248 | R13: =Q13-P13 -> 8.8224164e-05
A14: Abertawe | B14: =Tabl_6!B14 -> 352641657 | C14: =Tabl_6!C14-Tabl_8!B14 -> 432410 | D14: =SUM(Tabl_6!D14:F14) -> 496822 | E14: 33459636 | F14: 99099 | G14: -732032 | H14: -343753 | I14: 11142 | J14: 145409 | K14: -36142 | L14: 273965 | M14: 240255 | N14: -29869 | O14: =SUM(E14:N14) -> 33087710 | P14: =O14/SUM(B14:D14) -> 0.093581545 | Q14: =Tabl_1a!D14 -> 0.093393682 | R14: =Q14-P14 -> -0.00018786332
A15: Castell-nedd Port Talbot | B15: =Tabl_6!B15 -> 236680029 | C15: =Tabl_6!C15-Tabl_8!B15 -> 371105 | D15: =SUM(Tabl_6!D15:F15) -> 237526 | E15: 20740000 | F15: 534197 | G15: -53003 | H15: -255842 | I15: 26302 | J15: -187368 | K15: -28436 | L15: 1779 | M15: 9258 | N15: 26517 | O15: =SUM(E15:N15) -> 20813404 | P15: =O15/SUM(B15:D15) -> 0.087713437 | Q15: =Tabl_1a!D15 -> 0.087589171 | R15: =Q15-P15 -> -0.00012426637
... A25: Caerdydd | B25: =Tabl_6!B25 -> 487912796 | C25: =Tabl_6!C25-Tabl_8!B25 -> -922965 | D25: =SUM(Tabl_6!D25:F25) -> 5105617 | E25: 48290448 | F25: -619012 | G25: 2758636 | H25: 681483 | I25: -159796 | J25: 291989 | K25: 1667 | L25: 301294 | M25: 519000 | N25: 377318 | O25: =SUM(E25:N25) -> 52443027 | P25: =O25/SUM(B25:D25) -> 0.10657084 | Q25: =Tabl_1a!D25 -> 0.10695111 | R25: =Q25-P25 -> 0.00038026972
A26: Cyfanswm Awdurdodau Unedol | B26: =SUM(B4:B25) -> 4651494400 | C26: =SUM(C4:C25) -> 0 | D26: =SUM(D4:D25) -> 18585367 | E26: =SUM(E4:E25) -> 437427433 | F26: =SUM(F4:F25) -> 0 | G26: =SUM(G4:G25) -> 0 | H26: =SUM(H4:H25) -> 0 | I26: =SUM(I4:I25) -> 0 | ... O26: =SUM(O4:O25) -> 437427433 | P26: =O26/SUM(B26:D26) -> 0.093665945 | Q26: =Tabl_1a!D26 -> 0.093686418 | R26: =Q26-P26 -> 2.0473098e-05

Sheet Nodiadau
A1: Nodiadau
A2: Rhif nodyn | B2: Tecst nodyn
A3: 1 | B3: Gallai'r Cyllid Allanol Cyfun terfynol 2021-22 sydd wedi'i gyhoeddi ei addasu fel y nodir yn Nhabl 6.
A4: 2 | B4: Yn seiliedig ar boblogaeth 2022 o amcanestyniadau poblogaeth awdurdodau unedol 2018.
A5: 3 | B5: Mae'r cyllid cyfalaf cyffredinol wedi ei rannu i Fenthyca â Chymorth Heb ei Neilltuo (USB) a Grant Cyfalaf Cyffredinol.
A6: 4 | B6: Mae Grant Cyfalaf Cyffredinol yn cael ei ddosbarthu yn gymesur â'r Cyllid Cyfalaf Cyffredinol ar gyfer yr elfen.
A7: 5 | B7: Mae'r USB yn deillio o dynnu dyraniadau'r Grant Cyfalaf Cyffredinol o'r Cyllid Cyfalaf Cyffredinol.
A8: 6 | B8: Mae'r wybodaeth a welir uchod yn dangos cyfanswm pob grant: efallai bydd rhai grantiau yn cael eu rhannu rhwng awdurdodau lleol a chyrff eraill. Mae'n bwysig nodi mai dangosol yn unig yw'r symiau ar gyfer y dyfodol ar hyn o bryd a'u bod yn debygol o newid. Mater i'r maes polisi perthnasol yw rhoi gwybod yn ffurfiol am ddyraniadau grant.
A9: 7 | B9: Grant yn dod i ben 2022-23.
A10: 8 | B10: Rhoddir diben arall i'r grant o 2022 ymlaen.
A11: 9 | B11: Rhaglen Ysgolion a Cholegau'r 21ain Ganrif a alwyd yn flaenorol.
A12: 10 | B12: Rhannwyd rhwng y Cynnig Gofal Plant a Flying Start heb ei benderfynu eto felly mae cyfansymiau cyfun wedi'u cynnwys rhwng 2022-23 a 2024-25.
A13: 11 | B13: Mae'n cynnwys Deddf Grantiau Adeiladau Hanesyddol 1953, Deddf Grantiau Adeiladau Hanesyddol 1990, Grantiau Henebion, Grantiau i Berchnogion, Grantiau Cofebau Rhyfel a Chytundebau Rheoli.
A14: 12 | B14: Grant yn dod i ben 2021-22.
... A46: 44 | B46: Mae'r golofn hon yn cymharu'r gwahaniaeth rhwng y newid canrannol gwirioneddol a'r newid canrannol ynysig. Mae'n annhebygol y bydd hyn yn sero oherwydd synergedd y newidynnau yng ngholofnau E i O yn yr anheddiad gwirioneddol.
