Workbook
Name Transitional: '[1]Chemist_Data workings'!#REF!
Name Transitional: #REF!
Name Transitional: '[1]Chemist_Data workings'!#REF!
Name Transitional: '[1]Chemist_Data workings'!#REF!
Name Transitional: '[1]Chemist_Data workings'!#REF!

Sheet Contents
B1: Contents
B3: Summary - Revenue
A5: Table A1 | B5: Hospital, Community and Health Services and Prescribing (HCHSP) - Discretionary Allocation
A6: Table A2 | B6: Baseline Adjustments
A7: Table A3 | B7: Recurrent Additional Funding
A9: Table B1 | B9: HCHS Ring-Fenced Revenue Allocations
A10: Table B2 | B10: Directed Expenditure Allocations
A12: Table C | B12: Revenue Allocation for GMS Contract
A13: Table E | B13: Revenue Allocation for Community Pharmacy Contract
A14: Table F | B14: Revenue Allocation for Dental Contract
A16: Table 1 | B16: Substance Misuse Funding
A17: Table 2 | B17: Total Mental Health Ring-Fenced Allocation
A18: Table 3 | B18: Shared Services Funding
A19: Table 4 | B19: Depreciation Funding Adjustment
A20: Table 5 | B20: Primary Care Funding
B22: Summary - Capital
B24: Memorandum table: DDRB

Sheet Summary Revenue
A3: Summary: Unified Budget Allocations - Total HCHS, Drug Prescribing and Primary Care Contracts Resource Limit 2021-22
B5: 1 | C5: =B5+1 -> 2 | D5: =C5+1 -> 3 | E5: =D5+1 -> 4 | F5: =E5+1 -> 5 | G5: =F5+1 -> 6 | H5: =G5+1 -> 7 | I5: =H5+1 -> 8
B6: 2021-22 Recurrent HCHS and Prescribing Discretionary Allocation | C6: 2021-22 HCHS Ring Fenced Allocation | D6: 2021-22 Directed Expenditure | E6: Total 2021-22 HCHS and Prescribing Revenue Allocation | F6: 2021-22 GMS Contract - Table C | G6: 2021-22 Community Pharmacy Contract - Table E | H6: 2021-22 Dental Contract - Table F | I6: Total Revenue Resource Limit 2021-22
B7: £m | C7: £m | D7: £m | E7: £m | F7: £m | G7: £m | H7: £m | I7: £m
A9: Aneurin Bevan HB | B9: ='A1'!E7 -> 961.60179 | C9: ='B1'!R8 -> 181.33491 | D9: ='B2'!AH8 -> 16.386666 | E9: =B9+C9+D9 -> 1159.3234 | F9: ='C'!I9 -> 102.02609 | G9: =E!F7 -> 32.265 | H9: =F!G7 -> 29.489056 | I9: =E9+F9+G9+H9 -> 1323.1035
A11: Betsi Cadwaladr University HB | B11: ='A1'!E9 -> 1117.2505 | C11: ='B1'!R10 -> 320.94456 | D11: ='B2'!AH10 -> 3.160842 | E11: =B11+C11+D11 -> 1441.3559 | F11: ='C'!I11 -> 133.83191 | G11: =E!F9 -> 34.457 | H11: =F!G9 -> 28.2647 | I11: =E11+F11+G11+H11 -> 1637.9095
A13: Cardiff and Vale University HB | B13: ='A1'!E11 -> 685.30299 | C13: ='B1'!R12 -> 153.23041 | D13: ='B2'!AH12 -> 18.538942 | E13: =B13+C13+D13 -> 857.07235 | F13: ='C'!I13 -> 75.531961 | G13: =E!F11 -> 22.859 | H13: =F!G11 -> 26.323 | I13: =E13+F13+G13+H13 -> 981.78631
A15: Cwm Taf Morgannwg HB | B15: ='A1'!E13 -> 763.8239 | C15: ='B1'!R14 -> 157.44055 | D15: ='B2'!AH14 -> 2.255561 | E15: =B15+C15+D15 -> 923.52001 | F15: ='C'!I15 -> 78.842174 | G15: =E!F13 -> 27.602163 | H15: =F!G13 -> 21.12764 | I15: =E15+F15+G15+H15 -> 1051.092
A17: Hywel Dda HB | B17: ='A1'!E15 -> 641.56586 | C17: ='B1'!R16 -> 133.87048 | D17: ='B2'!AH16 -> 1.178473 | E17: =B17+C17+D17 -> 776.61481 | F17: ='C'!I17 -> 73.081339 | G17: =E!F15 -> 21.496 | H17: =F!G15 -> 17.8526 | I17: =E17+F17+G17+H17 -> 889.04475
A19: Powys HB | B19: ='A1'!E17 -> 224.58813 | C19: ='B1'!R18 -> 49.284497 | D19: ='B2'!AH18 -> 4.4729525 | E19: =B19+C19+D19 -> 278.34558 | F19: ='C'!I19 -> 34.100809 | G19: =E!F17 -> 4.923 | H19: =F!G17 -> 6.4135 | I19: =E19+F19+G19+H19 -> 323.78289
A21: Swansea Bay HB | B21: ='A1'!E19 -> 616.92406 | C21: ='B1'!R20 -> 161.10951 | D21: ='B2'!AH20 -> 5.856677 | E21: =B21+C21+D21 -> 783.89024 | F21: ='C'!I21 -> 65.068778 | G21: =E!F19 -> 21.481837 | H21: =F!G19 -> 21.476352 | I21: =E21+F21+G21+H21 -> 891.91721
A23: Total | B23: =B21+B9+B11+B13+B15+B17+B19 -> 5011.0572 | C23: =C21+C9+C11+C13+C15+C17+C19 -> 1157.2149 | D23: =D21+D9+D11+D13+D15+D17+D19 -> 51.850113 | E23: =E21+E9+E11+E13+E15+E17+E19 -> 6220.1223 | F23: =F21+F9+F11+F13+F15+F17+F19 -> 562.48306 | G23: =G21+G9+G11+G13+G15+G17+G19 -> 165.084 | H23: =H21+H9+H11+H13+H15+H17+H19 -> 150.94685 | I23: =I21+I9+I11+I13+I15+I17+I19 -> 7098.6362

Sheet A1
A1: Table A1: Hospital, Community and Health Services and Prescribing (HCHSP) - Discretionary Allocation for 2021-22- £ million
B3: 1 | C3: =B3+1 -> 2 | D3: =C3+1 -> 3 | E3: =D3+1 -> 4
B4: 2020-21 Recurrent HCHS and Prescribing Discretionary Allocation | C4: Baseline Adjustments (Table A2) | D4: Additional Recurrent funding (Table A3) | E4: 2021-22 Recurrent HCHS and Prescribing Discretionary Allocation
B5: £m | C5: £m | D5: £m | E5: £m
A7: Aneurin Bevan HB | B7: 936.90112 | C7: =+'A2'!M7 -> 2.138491 | D7: ='A3'!L7 -> 22.562184 | E7: =+B7+C7+D7 -> 961.60179
A9: Betsi Cadwaladr University HB | B9: 1090.9195 | C9: =+'A2'!M9 -> -0.404434 | D9: ='A3'!L9 -> 26.735417 | E9: =+B9+C9+D9 -> 1117.2505
A11: Cardiff and Vale University HB | B11: 667.11466 | C11: =+'A2'!M11 -> 1.926872 | D11: ='A3'!L11 -> 16.26146 | E11: =+B11+C11+D11 -> 685.30299
A13: Cwm Taf Morgannwg HB | B13: 744.07732 | C13: =+'A2'!M13 -> 1.095088 | D13: ='A3'!L13 -> 18.651495 | E13: =+B13+C13+D13 -> 763.8239
A15: Hywel Dda HB | B15: 624.87525 | C15: =+'A2'!M15 -> 1.30274 | D15: ='A3'!L15 -> 15.387867 | E15: =+B15+C15+D15 -> 641.56586
A17: Powys HB | B17: 218.89417 | C17: =+'A2'!M17 -> 0.546067 | D17: ='A3'!L17 -> 5.147895 | E17: =+B17+C17+D17 -> 224.58813
A19: Swansea Bay HB | B19: 599.76011 | C19: =+'A2'!M19 -> 1.751072 | D19: ='A3'!L19 -> 15.41288 | E19: =+B19+C19+D19 -> 616.92406
A21: Total | B21: =+B9+B19+B15+B17+B13+B11+B7 -> 4882.5422 | C21: =+C9+C19+C15+C17+C13+C11+C7 -> 8.355896 | D21: =+D9+D19+D15+D17+D13+D11+D7 -> 120.1592 | E21: =+E9+E19+E15+E17+E13+E11+E7 -> 5011.0572

Sheet A2
A1: Table A2: HCHSP Allocation 2021-22 Baseline Adjustments - (Column 2, Table A1)
B3: 1 | C3: =B3+1 -> 2 | D3: =C3+1 -> 3 | E3: =D3+1 -> 4 | F3: =E3+1 -> 5 | G3: =F3+1 -> 6 | H3: =G3+1 -> 7 | I3: =H3+1 -> 8 | J3: =I3+1 -> 9 | ... M3: =L3+1 -> 12
B4: In year adjustment: WHSSC Pay Award distribution for LHB Employed Staff | C4: In year adjustment: A4C Mapping to Commissioner Reversal (HEIW) (18-19 Pay Award) | D4: In year adjustment: Stop Smoking Wales Additional Funding 2020-21 | E4: In year adjustment: A4C funding | F4: In year adjustment: Transfer for non dispensing practice | G4: In year adjustment: All Wales Procurement Pharmacist | H4: In year adjustment: Additional Cross Border - Tariff Increase (WHSSC & Organisation specific funding) | I4: In year adjustment: Major Trauma funding (WHSSC & EASC) | J4: NHS Wales Shared Services adjustments (Table 3) | K4: Additional top slice: paramedic banding (to ring fenced table B1) | L4: Additional top slice: 111 service (to table B2) | M4: Total Adjustments (Carried forward to Table A1, Column 2)
B5: £m | C5: £m | D5: £m | F5: £m | G5: £m | H5: £m | I5: £m | J5: £m | K5: £m | M5: £m
A7: Aneurin Bevan HB | B7: 0.005769 | D7: 0.017897 | E7: 0.084 | H7: =0.078595+0.10909 -> 0.187685 | I7: =3.205504+0.162304 -> 3.367808 | J7: ='Table 3'!BW8 -> -0.036668 | K7: -0.224 | L7: -1.264 | M7: =SUM(B7:L7) -> 2.138491
A9: Betsi Cadwaladr University HB | B9: 0.006985 | C9: 0.06 | D9: 0.011702 | F9: 0.16 | H9: =0.506711+0.615168 -> 1.121879 | I9: 0 | J9: ='Table 3'!BW10 -> 0 | K9: -0.25 | L9: -1.515 | M9: =SUM(B9:L9) -> -0.404434
A11: Cardiff and Vale University HB | B11: 0.005341 | C11: 0.076 | D11: 0.011767 | E11: 0.13 | G11: -0.066938 | H11: 0.073446 | I11: =2.625328+0.132928 -> 2.758256 | J11: ='Table 3'!BW12 -> 0 | K11: -0.169 | L11: -0.892 | M11: =SUM(B11:L11) -> 1.926872
A13: Cwm Taf Morgannwg HB | B13: -0.026669 | C13: 0.056 | D13: 0.005296 | H13: 0.068204 | I13: =2.177872+0.110272 -> 2.288144 | J13: ='Table 3'!BW14 -> -0.076887 | K13: -0.189 | L13: -1.03 | M13: =SUM(B13:L13) -> 1.095088
A15: Hywel Dda HB | B15: 0.003417 | D15: 0.006963 | H15: 0.06232 | I15: =2.12352+0.10752 -> 2.23104 | J15: ='Table 3'!BW16 -> 0 | K15: -0.143 | L15: -0.858 | M15: =SUM(B15:L15) -> 1.30274
A17: Powys HB | B17: 0.00155 | D17: 0.002141 | E17: 0.11 | H17: =0.47049+0.119966 -> 0.590456 | I17: =0.17696+0.00896 -> 0.18592 | J17: ='Table 3'!BW18 -> 0 | K17: -0.047 | L17: -0.297 | M17: =SUM(B17:L17) -> 0.546067
A19: Swansea Bay HB | B19: 0.003607 | C19: 0.164 | D19: 0.011669 | G19: 0.066938 | H19: =0.060026 -> 0.060026 | I19: =2.330816+0.118016 -> 2.448832 | J19: ='Table 3'!BW20 -> 0 | K19: -0.152 | L19: -0.852 | M19: =SUM(B19:L19) -> 1.751072
A21: Total | B21: =+B19+B7+B9+B11+B13+B15+B17 -> -2.8189256e-18 | C21: =+C19+C7+C9+C11+C13+C15+C17 -> 0.356 | D21: =+D19+D7+D9+D11+D13+D15+D17 -> 0.067435 | E21: =+E19+E7+E9+E11+E13+E15+E17 -> 0.324 | F21: =+F19+F7+F9+F11+F13+F15+F17 -> 0.16 | G21: =+G19+G7+G9+G11+G13+G15+G17 -> 0 | H21: =+H19+H7+H9+H11+H13+H15+H17 -> 2.164016 | I21: =+I19+I7+I9+I11+I13+I15+I17 -> 13.28 | ... M21: =+M19+M7+M9+M11+M13+M15+M17 -> 8.355896
I23: 21-22 funding (WHSSC £12.640m/ EASC £0.640m) as per letters
B24: In HCHS | C24: In HCHS | D24: In HCHS | E24: In HCHS | F24: Action in Draft | G24: In HCHS | H24: In HCHS | I24: In HCHS | J24: From HCHS to NWSSP | K24: In HCHS
K25: =SUM(K21:L21) -> -7.882
K26: £6.730m 20-21 £7.904m for 21-22 additional £1.174m, added to Table B1 | L26: £8.490m for 20-21, £15.198m for 21-22 (additional £6.708m), added to Table B2

Sheet A3
A1: Table A3: Additional 2021-22 recurrent funding - (Column 3, Table A1)
B3: 1 | C3: =B3+1 -> 2 | D3: =C3+1 -> 3 | E3: =D3+1 -> 4 | F3: =E3+1 -> 5 | G3: =F3+1 -> 6 | H3: =G3+1 -> 7 | I3: =H3+1 -> 8 | J3: =I3+1 -> 9 | ... L3: =K3+1 -> 11
B4: Primary Care Funding (National Director and Strategic Programme Lead for Primary Care) (see Table 5) | C4: DDRB funding | D4: Executive Senior Pay (ESP) funding | E4: Immunisation funding (Pertussis for pregnant women) | F4: Immunisation funding (HPV-MSM) | G4: A Healthier Wales: Running Blades | H4: A Healthier Wales: Rehabilitation, Recovery & Reablement Services | I4: A Healthier Wales: Assistive Technology | J4: A Healthier Wales: Disability Sports Wales funding | K4: Core cost and demand uplift for 2021-22 | L4: Total Adjustments (Carried forward to Table A1, Column 3)
B5: £m | C5: £m | D5: £m | E5: £m | F5: £m | G5: £m | H5: £m | I5: £m | J5: £m | K5: £m | L5: £m
A7: Aneurin Bevan HB | B7: 0.16 | C7: 2.131 | D7: 0.025185 | E7: 0.059238 | F7: 0.014 | G7: 0.07815 | H7: 0.2 | I7: 0.095477 | J7: 0.020134 | K7: 19.779 | L7: =SUM(B7:K7) -> 22.562184
A9: Betsi Cadwaladr University HB | C9: 2.506 | D9: 0.012317 | E9: 0.075346 | F9: 0.005 | G9: 0.0929 | H9: 0.2 | I9: 0.095477 | J9: 0.034377 | K9: 23.714 | L9: =SUM(B9:K9) -> 26.735417
A11: Cardiff and Vale University HB | C11: 1.838 | D11: 0.014171 | E11: 0.052949 | F11: 0.027 | G11: 0.06598 | H11: 0.2 | I11: 0.073226 | J11: 0.020134 | K11: 13.97 | L11: =SUM(B11:K11) -> 16.26146
A13: Cwm Taf Morgannwg HB | C13: 2.113 | D13: 0.016769 | E13: 0.043166 | F13: 0.004 | G13: 0.0592 | H13: 0.2 | I13: 0.073226 | J13: 0.020134 | K13: 16.122 | L13: =SUM(B13:K13) -> 18.651495
A15: Hywel Dda HB | C15: 1.542 | D15: 0.016827 | E15: 0.031199 | F15: 0.002 | G15: 0.05123 | H15: 0.2 | I15: 0.095477 | J15: 0.020134 | K15: 13.429 | L15: =SUM(B15:K15) -> 15.387867
A17: Powys HB | C17: 0.176 | D17: 0.005736 | E17: 0.011249 | F17: 0 | G17: 0.01755 | H17: 0.2 | I17: 0.073226 | J17: 0.020134 | K17: 4.644 | L17: =SUM(B17:K17) -> 5.147895
A19: Swansea Bay HB | C19: 1.647 | D19: 0.016707 | E19: 0.027792 | F19: 0.012 | G19: 0.05177 | H19: 0.2 | I19: 0.095477 | J19: 0.020134 | K19: 13.342 | L19: =SUM(B19:K19) -> 15.41288
A21: Total | B21: =+B19+B7+B9+B11+B13+B15+B17 -> 0.16 | C21: =+C19+C7+C9+C11+C13+C15+C17 -> 11.953 | D21: =+D19+D7+D9+D11+D13+D15+D17 -> 0.107712 | E21: =+E19+E7+E9+E11+E13+E15+E17 -> 0.300939 | F21: =+F19+F7+F9+F11+F13+F15+F17 -> 0.064 | G21: =+G19+G7+G9+G11+G13+G15+G17 -> 0.41678 | H21: =+H19+H7+H9+H11+H13+H15+H17 -> 1.4 | I21: =+I19+I7+I9+I11+I13+I15+I17 -> 0.601586 | ... L21: =+L19+L7+L9+L11+L13+L15+L17 -> 120.1592

Sheet B1
A1: Table B1: HCHS Protected and Ring Fenced Revenue Allocations for 2021-22 £-million
A2: Amounts in the table below have been increased (core uplift applied to Table A3)
B4: 1 | C4: =+B4+1 -> 2 | D4: =+C4+1 -> 3 | E4: =+D4+1 -> 4 | F4: =+E4+1 -> 5 | G4: =+F4+1 -> 6 | H4: =+G4+1 -> 7 | I4: =+H4+1 -> 8 | J4: =+I4+1 -> 9 | ... R4: =+Q4+1 -> 17
B5: Learning Disabilities | C5: Depreciation (Table 4 Column 1) | D5: Mental Health Services (Table 2 column 6) | E5: Renal Services | F5: Palliative care funding | G5: Integrated Care Fund (ICF) - Older People | H5: ICF - Learning disabilities, children with complex needs, carers | I5: ICF - Children at the edge of care / in care | J5: Integrated Care Fund (Autism Allocations) | K5: Paramedic banding | L5: Clinical Desk enhancements | M5: Genomics for Precision Medicine Strategy (inc new Genetic Tests) | N5: Critical care funding (including WHSSC funding) | O5: Critical care funding (EASC funding) | P5: Organisation specific adjustment (non recurrent 3 year arrangement) | Q5: Treatment fund | R5: Total 2021-22 HCHS Ring Fenced Allocation (carried forward to Summary Table)
B6: £m | C6: £m | D6: £m | E6: £m | F6: £m | G6: £m | H6: £m | I6: £m | J6: £m | K6: £m | L6: £m | M6: £m | N6: £m | O6: £m | P6: £m | Q6: £m | R6: £m
A8: Aneurin Bevan HB | B8: 13.799727 | C8: ='Table 4'!B7 -> 30.462414 | D8: ='Table 2'!H7 -> 104.06829 | E8: 9.4916795 | F8: =0.97215-0.01+0.363344 -> 1.325494 | G8: 7.161992 | H8: 3.8264328 | I8: 2.8698246 | J8: 0.458 | K8: =0.60497+0.301+0.302+0.224 -> 1.43197 | L8: 0.105195 | M8: =0.722+0.346 -> 1.068 | N8: =1.642+0.207 -> 1.849 | O8: 0.42466 | Q8: =3.014-0.002861-0.018914 -> 2.992225 | R8: =SUM(B8:Q8) -> 181.33491
A10: Betsi Cadwaladr University HB | B10: 17.214145 | C10: ='Table 4'!B9 -> 31.789425 | D10: ='Table 2'!H9 -> 141.45259 | E10: 20.115161 | F10: 1.298164 | G10: 9.567262 | H10: 4.2513812 | I10: 3.1885359 | J10: 0.652 | K10: =0.934022+0.334+0.336+0.25 -> 1.854022 | L10: 0.162412 | M10: =0.802+0.385 -> 1.187 | N10: 2.625 | O10: 0 | P10: 82 | Q10: =3.613-0.003193-0.02234 -> 3.587467 | R10: =SUM(B10:Q10) -> 320.94456
A12: Cardiff and Vale University HB | B12: 0.487996 | C12: ='Table 4'!B11 -> 19.745068 | D12: ='Table 2'!H11 -> 105.89572 | E12: 6.9342507 | F12: 0.701547 | G12: 4.895343 | H12: 2.8789087 | I12: 2.1591815 | J12: 0.367 | K12: =0.433785+0.226+0.227+0.169 -> 1.055785 | L12: 0.075429 | M12: =0.543+0.26 -> 0.803 | N12: =4.5+0.17 -> 4.67 | O12: 0.34782 | Q12: =2.129-0.002164+0.086526 -> 2.213362 | R12: =SUM(B12:Q12) -> 153.23041
A14: Cwm Taf Morgannwg HB | B14: 0 | C14: ='Table 4'!B13 -> 27.878912 | D14: ='Table 2'!H13 -> 101.91847 | E14: =5.8395064275+3.22960589921649 -> 9.0691123 | F14: =0.5184+0.146722426955815 -> 0.66512243 | G14: 5.521313 | H14: 3.2143851 | I14: 2.4107889 | J14: 0.367 | K14: =0.328981+0.142503789092129+0.253+0.254+0.189 -> 1.1674848 | L14: =0.057205+0.0247793273642258 -> 0.081984327 | M14: =0.606+0.291 -> 0.897 | N14: =0.141+1.38 -> 1.521 | O14: 0.28849 | Q14: =2.457-0.002411-0.0151 -> 2.439489 | R14: =SUM(B14:Q14) -> 157.44055
A16: Hywel Dda HB | B16: =7.908875+0.754 -> 8.662875 | C16: ='Table 4'!B15 -> 20.09747 | D16: ='Table 2'!H15 -> 82.275987 | E16: 6.6551243 | F16: 0.707608 | G16: 5.550419 | H16: 2.425525 | I16: 1.8191437 | J16: 0.398 | K16: =0.497211+0.191+0.192+0.143 -> 1.023211 | L16: 0.086457 | M16: =0.458+0.22 -> 0.678 | N16: =1.041+0.137 -> 1.178 | O16: 0.28135 | Q16: =2.046-0.001811-0.012877 -> 2.031312 | R16: =SUM(B16:Q16) -> 133.87048
A18: Powys HB | B18: 7.493785 | C18: ='Table 4'!B17 -> 4.4677808 | D18: ='Table 2'!H17 -> 29.84601 | E18: 1.8755139 | F18: =0.254074+0.01 -> 0.264074 | G18: 2.079947 | H18: 0.81370979 | I18: 0.61028235 | J18: 0.337 | K18: =0.27022+0.064+0.064+0.047 -> 0.44522 | L18: 0.046987 | M18: =0.154+0.074 -> 0.228 | N18: =0.024 -> 0.024 | O18: 0.04896 | Q18: =0.708-0.000611-0.004162 -> 0.703227 | R18: =SUM(B18:Q18) -> 49.284497
A20: Swansea Bay HB | B20: 22.903749 | C20: ='Table 4'!B19 -> 21.195711 | D20: ='Table 2'!H19 -> 92.499792 | E20: =11.8918957325-3.22960589921649 -> 8.6622898 | F20: =0.5235-0.146722426955815 -> 0.37677757 | G20: 5.223724 | H20: 2.5896574 | I20: 1.9422431 | J20: 0.398 | K20: =0.507892-0.142503789092129+0.204+0.205+0.152 -> 0.92638821 | L20: =0.088315-0.0247793273642258 -> 0.063535673 | M20: =0.489+0.234 -> 0.723 | N20: =0.961+0.151+0.151 -> 1.263 | O20: 0.30872 | Q20: =2.033+0.013051-0.013133 -> 2.032918 | R20: =SUM(B20:Q20) -> 161.10951
A22: Total | B22: =+B10+B20+B16+B18+B14+B12+B8 -> 70.562278 | C22: =+C10+C20+C16+C18+C14+C12+C8 -> 155.63678 | D22: =+D10+D20+D16+D18+D14+D12+D8 -> 657.95686 | E22: =+E10+E20+E16+E18+E14+E12+E8 -> 62.803132 | F22: =+F10+F20+F16+F18+F14+F12+F8 -> 5.338787 | G22: =+G10+G20+G16+G18+G14+G12+G8 -> 40 | H22: =+H10+H20+H16+H18+H14+H12+H8 -> 20 | I22: =+I10+I20+I16+I18+I14+I12+I8 -> 15 | ... R22: =+R10+R20+R16+R18+R14+R12+R8 -> 1157.2149
K24: Additional £1.174m added for 21-22 | N24: 21-22 changes (CTM £1.380m/ S Bay £0.151m) | O24: EASC £1.7m | Q24: As per 20-21 allocations

Sheet B2
A1: Table B2 - HCHS Directed Expenditure Analysis
A2: Amounts in the table below have been increased (core uplift applied to Table A3)
B4: 1 | C4: =B4+1 -> 2 | G4: =C4+1 -> 3 | H4: =+G4+1 -> 4 | I4: =+H4+1 -> 5 | J4: =+I4+1 -> 6 | K4: =+J4+1 -> 7 | L4: =+K4+1 -> 8 | M4: =+L4+1 -> 9 | N4: =+M4+1 -> 10 | O4: =+N4+1 -> 11 | ... AH4: =+AG4+1 -> 30
B5: Dental SIFT | C5: Mental Health CALL Helpline | D5: Cardiac Network | E5: Cancer Network | F5: Critical Care Network | G5: Radiotherapy | H5: Primary Care complaints | I5: Infrastructure SIFT | J5: SIFT, PHLS, R&D and PGMDE Depreciation (exc. Velindre) | K5: Blood Disorders funding | L5: Wales Analytical Prescribing Support Unit | M5: Short Term Wheelchair loans | N5: AWMSG | O5: WeMeRec | P5: Blood Borne Viral treatment centre funding | Q5: Community Health Council funding | R5: Low Vision Service Wales (LVSW) - hosting | S5: Eye Health Examination Wales (EHEW) - hosting | T5: Assistive Technology (Staff costs) | U5: National Imaging Academy | V5: Brecon Group register | W5: Revised remuneration & time commitment (Chair WHSSC/EASC) | X5: 111 roll out | Y5: All Wales Specialist Paediatric Lymphoedema Nurse | Z5: DAN 24/7 helpine | AA5: Genomics - Core Funding for AWMGS | AB5: Training of Medical Emergency Response Incident Teams (MERIT) | AC5: National Lymphedema funding | AD5: PH & W Coordinator Posts (WHIG) | AE5: Endometriosis Nursing posts (WHIG) | AF5: Quality & Care | AG5: Velindre NHS Trust Chief Operating Officer Post | AH5: Total (carried forward to Summary Table)
B6: £m | C6: £m | D6: £m | E6: £m | F6: £m | G6: £m | H6: £m | I6: £m | J6: £m | K6: £m | L6: £m | M6: £m | N6: £m | O6: £m | P6: £m | Q6: £m | R6: £m | S6: £m | T6: £m | U6: £m | V6: £m | W6: £m | X6: £m | Y6: £m | Z6: £m | AA6: £m | AB6: £m | AC6: £m | AD6: £m | AE6: £m | AF6: £m | AG6: £m | AH6: £m
A8: Aneurin Bevan HB | B8: 0 | C8: 0 | D8: =0.326-0.326 -> 0 | E8: 0 | F8: =0.255894-0.255894 -> 0 | G8: =0.4443075-0.4443075 -> 0 | H8: 0 | I8: 0.663112 | J8: 0.021 | P8: 0.153 | S8: 0.06 | T8: 0.055 | X8: =6.56+1.93+6.708 -> 15.198 | AB8: 0.0245 | AC8: 0.064 | AD8: 0.04 | AE8: 0.05122 | AG8: 0.056834 | AH8: =SUM(B8:AG8) -> 16.386666
A10: Betsi Cadwaladr University HB | B10: 0 | C10: =0.306+0.0075 -> 0.3135 | D10: =0.156172-0.156172 -> 0 | E10: =0.162471-0.162471 -> 0 | F10: =0.127947-0.127947 -> 0 | G10: 0.199485 | H10: 0 | I10: 1.079692 | J10: 0.595 | K10: 0.03 | M10: =0.1+0.18 -> 0.28 | P10: 0.306 | T10: 0.067 | Z10: 0.15 | AD10: 0.078701 | AE10: 0.061464 | AH10: =SUM(B10:AG10) -> 3.160842
D11: .
A12: Cardiff and Vale University HB | B12: 0.820105 | C12: 0 | D12: 0 | E12: 0 | F12: 0 | G12: 0 | H12: 0.056 | I12: =26.333506-15 -> 11.333506 | J12: 3.638 | K12: 0.066 | L12: 0.31 | N12: 1.172 | O12: 0.173 | P12: 0.153 | T12: 0.044 | V12: 0.00898 | AA12: =0.407+0.17 -> 0.577 | AD12: 0.09611 | AE12: 0.05122 | AG12: 0.040021 | AH12: =SUM(B12:AG12) -> 18.538942
A14: Cwm Taf Morgannwg HB | B14: 0 | C14: 0 | D14: 0 | E14: 0 | F14: 0 | G14: 0 | H14: 0.035 | I14: 0.11 | J14: =0.012+0.118670033758932 -> 0.13067003 | P14: =0.153+0.0428816262163127 -> 0.19588163 | T14: =0.028+0.0137483671046489 -> 0.041748367 | U14: 1.5 | W14: =0.031528 -> 0.031528 | AD14: 0.108684 | AE14: 0.061464 | AG14: 0.040585 | AH14: =SUM(B14:AG14) -> 2.255561
A16: Hywel Dda HB | B16: 0 | C16: 0 | D16: 0 | E16: 0 | F16: 0 | G16: 0 | H16: 0 | I16: 0 | J16: 0.039 | P16: 0.153 | R16: 0.837 | T16: 0.037 | AD16: 0.058377 | AE16: 0.05122 | AG16: 0.002876 | AH16: =SUM(B16:AG16) -> 1.178473
A18: Powys HB | B18: 0 | C18: 0 | D18: 0 | E18: 0 | F18: 0 | G18: 0.2629575 | H18: 0 | I18: 0 | J18: 0 | P18: 0 | Q18: =3.832+0.271704 -> 4.103704 | T18: 0.013 | AD18: 0.035 | AE18: 0.055005 | AG18: 0.003286 | AH18: =SUM(B18:AG18) -> 4.4729525
A20: Swansea Bay HB | B20: 0 | C20: 0 | D20: 0 | E20: =0.356728+0.011823-0.368551 -> 0 | F20: 0 | G20: =0.4443075-0.4443075 -> 0 | H20: 0 | I20: 4.24534 | J20: =0.423-0.118670033758932 -> 0.30432997 | P20: =0.153-0.0428816262163127 -> 0.11011837 | T20: =0.049-0.0137483671046489 -> 0.035251633 | Y20: 0.06 | AC20: 0.4 | AD20: 0.124018 | AE20: 0.05122 | AF20: 0.525 | AG20: 0.001399 | AH20: =SUM(B20:AG20) -> 5.856677
A22: Total | B22: =+B10+B20+B16+B18+B14+B12+B8 -> 0.820105 | C22: =+C10+C20+C16+C18+C14+C12+C8 -> 0.3135 | D22: =+D10+D20+D16+D18+D14+D12+D8 -> 0 | E22: =+E10+E20+E16+E18+E14+E12+E8 -> 0 | F22: =+F10+F20+F16+F18+F14+F12+F8 -> 0 | G22: =+G10+G20+G16+G18+G14+G12+G8 -> 0.4624425 | H22: =+H10+H20+H16+H18+H14+H12+H8 -> 0.091 | I22: =+I10+I20+I16+I18+I14+I12+I8 -> 17.43165 | ... AH22: =+AH10+AH20+AH16+AH18+AH14+AH12+AH8 -> 51.850113
Q24: Additional £271,704 | X24: Additional £6.708m from Table A2
A25: `

Sheet C
A1: Table C: Revenue Allocation for GMS Contract - £ million
B5: 1 | C5: =B5+1 -> 2 | D5: =C5+1 -> 3 | E5: =D5+1 -> 4 | F5: =E5+1 -> 5 | G5: =F5+1 -> 6 | H5: =G5+1 -> 7 | I5: =H5+1 -> 8
B6: Provisional allocation 2020-21 | C6: In year allocations: Transfer for non dispensing practice | D6: In year allocations : Access agreed uplift | E6: In year allocations : 2020-21 agreed uplift (pay & expenses) | F6: Final allocation for 2020-21 (recurrent elements) | G6: Immunisation funding (Pertussis for pregnant women) | H6: Adjustment for 2021-22: Completed Primary Care scheme | I6: Provisional allocation 2021-22
B7: £m | C7: £m | D7: £m | E7: £m | F7: £m | G7: £m | H7: £m | I7: £m
A9: Aneurin Bevan HB | B9: 98.913677 | D9: 1.740533 | E9: 1.3298621 | F9: =SUM(B9:E9) -> 101.98407 | G9: 0.042019 | I9: =SUM(F9:H9) -> 102.02609
A11: Betsi Cadwaladr University HB | B11: 130.79613 | C11: -0.21 | D11: 2.001876 | E11: 1.1904571 | F11: =SUM(B11:E11) -> 133.77847 | G11: 0.053445 | I11: =SUM(F11:H11) -> 133.83191
A13: Cardiff and Vale University HB | B13: 73.134611 | D13: 1.486211 | E13: 0.87358092 | F13: =SUM(B13:E13) -> 75.494403 | G13: 0.037558 | I13: =SUM(F13:H13) -> 75.531961
A15: Cwm Taf Morgannwg HB | B15: 76.110013 | D15: 1.303854 | E15: 1.1476896 | F15: =SUM(B15:E15) -> 78.561557 | G15: 0.030617 | H15: 0.25 | I15: =SUM(F15:H15) -> 78.842174
A17: Hywel Dda HB | B17: 70.708477 | D17: 1.122904 | E17: 1.2278265 | F17: =SUM(B17:E17) -> 73.059208 | G17: 0.022131 | I17: =SUM(F17:H17) -> 73.081339
A19: Powys HB | B19: 33.454324 | D19: 0.396091 | E19: 0.242415 | F19: =SUM(B19:E19) -> 34.09283 | G19: 0.007979 | I19: =SUM(F19:H19) -> 34.100809
A21: Swansea Bay HB | B21: 63.341378 | D21: 1.122531 | E21: 0.5851552 | F21: =SUM(B21:E21) -> 65.049064 | G21: 0.019714 | I21: =SUM(F21:H21) -> 65.068778
A23: Total | B23: =B11+B21+B17+B19+B15+B13+B9 -> 546.45862 | C23: =C11+C21+C17+C19+C15+C13+C9 -> -0.21 | D23: =D11+D21+D17+D19+D15+D13+D9 -> 9.174 | E23: =E11+E21+E17+E19+E15+E13+E9 -> 6.5969865 | F23: =F11+F21+F17+F19+F15+F13+F9 -> 562.0196 | G23: =G11+G21+G17+G19+G15+G13+G9 -> 0.213463 | H23: =H11+H21+H17+H19+H15+H13+H9 -> 0.25 | I23: =I11+I21+I17+I19+I15+I13+I9 -> 562.48306

Sheet E
A1: Table E: Revenue Allocation for Community Pharmacy Contract - £ million
B3: 1 | D3: 2 | F3: 3
B4: Final allocation 2020-21 | C4: In year funding: transfer for non dispensng practice | D4: In year funding: Additional funding | E4: 2021-22 additional contract funding | F4: Allocation for 2021-22
B5: £m | C5: £m | D5: £m | E5: £m | F5: £m
A7: Aneurin Bevan HB | B7: 31.72 | E7: 0.545 | F7: =SUM(B7:E7) -> 32.265
A9: Betsi Cadwaladr University HB | B9: 33.769 | C9: 0.05 | E9: 0.638 | F9: =SUM(B9:E9) -> 34.457
A11: Cardiff and Vale University HB | B11: 22.42 | E11: 0.439 | F11: =SUM(B11:E11) -> 22.859
A13: Cwm Taf Morgannwg HB | B13: 27.130163 | E13: 0.472 | F13: =SUM(B13:E13) -> 27.602163
A15: Hywel Dda HB | B15: 21.092 | E15: 0.404 | F15: =SUM(B15:E15) -> 21.496
A17: Powys HB | B17: 4.811 | D17: 0.015 | E17: 0.097 | F17: =SUM(B17:E17) -> 4.923
A19: Swansea Bay HB | B19: 21.111837 | E19: 0.37 | F19: =SUM(B19:E19) -> 21.481837
A21: Total | B21: =B7+B11+B13+B17+B15+B19+B9 -> 162.054 | C21: =C7+C11+C13+C17+C15+C19+C9 -> 0.05 | D21: =D7+D11+D13+D17+D15+D19+D9 -> 0.015 | E21: =E7+E11+E13+E17+E15+E19+E9 -> 2.965 | F21: =F7+F11+F13+F17+F15+F19+F9 -> 165.084

Sheet F
A1: Table F: Revenue Allocation for Dental Contract - £ million
B3: 1 | C3: =B3+1 -> 2 | D3: =C3+1 -> 3 | E3: =D3+1 -> 4 | F3: =E3+1 -> 5 | G3: =F3+1 -> 6
B4: Provisional allocation 2020-21 | C4: In year allocation: PCR adjustments | D4: In year allocation: DDRB Pay uplift | E4: In year allocation: Gwen am byth | F4: In year allocation: Designed to Smile/ Emergency dental transfer | G4: Provisional allocation for 2021-22
B5: £m | C5: £m | D5: £m | E5: £m | F5: £m | G5: £m
A7: Aneurin Bevan HB | B7: 28.598666 | C7: 0.034 | D7: 0.821 | E7: 0.03539 | G7: =SUM(B7:F7) -> 29.489056
A9: Betsi Cadwaladr University HB | B9: 27.38099 | D9: 0.806 | E9: 0.07771 | G9: =SUM(B9:F9) -> 28.2647
A11: Cardiff and Vale University HB | B11: 26.07592 | D11: 0.732 | E11: 0.02408 | F11: -0.509 | G11: =SUM(B11:F11) -> 26.323
A13: Cwm Taf Morgannwg HB | B13: 20.16025 | C13: -0.173 | D13: 0.604 | E13: 0.02739 | F13: 0.509 | G13: =SUM(B13:F13) -> 21.12764
A15: Hywel Dda HB | B15: 17.4246 | C15: -0.088 | D15: 0.478 | E15: 0.038 | G15: =SUM(B15:F15) -> 17.8526
A17: Powys HB | B17: 6.21934 | C17: -0.006 | D17: 0.184 | E17: 0.01616 | G17: =SUM(B17:F17) -> 6.4135
A19: Swansea Bay HB | B19: 20.421832 | C19: 0.452 | D19: 0.571 | E19: 0.03152 | G19: =SUM(B19:F19) -> 21.476352
A21: Total | B21: =SUM(B7:B19) -> 146.2816 | C21: =SUM(C7:C19) -> 0.219 | D21: =SUM(D7:D19) -> 4.196 | E21: =SUM(E7:E19) -> 0.25025 | F21: =SUM(F7:F19) -> 0 | G21: =SUM(G7:G19) -> 150.94685

Sheet Table 1
A1: Table 1: Substance Misuse Funding
A2: (Memorandum table)
B3: 1 | C3: =B3+1 -> 2 | D3: =C3+1 -> 3
B4: 2020-21 Substance Misuse Ring-Fenced Funding | C4: 2021-22 Increase | D4: 2021-22 Substance Misuse Ring-Fenced Funding
B5: £m | C5: £m | D5: £m
A7: Aneurin Bevan HB | B7: 2.85337 | C7: 0.139 | D7: =SUM(B7:C7) -> 2.99237
A9: Betsi Cadwaladr University HB | B9: 5.52029 | C9: 0.267 | D9: =SUM(B9:C9) -> 5.78729
A11: Cardiff and Vale University HB | B11: 2.5066 | C11: 0.121 | D11: =SUM(B11:C11) -> 2.6276
A13: Cwm Taf Morgannwg HB | B13: 3.53747 | C13: 0.171 | D13: =SUM(B13:C13) -> 3.70847
A15: Hywel Dda HB | B15: 2.038804 | C15: 0.099 | D15: =SUM(B15:C15) -> 2.137804
A17: Powys HB | B17: 0.59517 | C17: 0.029 | D17: =SUM(B17:C17) -> 0.62417
A19: Swansea Bay HB | B19: 2.76229 | C19: 0.134 | D19: =SUM(B19:C19) -> 2.89629
A21: Total | B21: =B17+B15+B13+B11+B9+B7+B19 -> 19.813994 | C21: =C17+C15+C13+C11+C9+C7+C19 -> 0.96 | D21: =D17+D15+D13+D11+D9+D7+D19 -> 20.773994

Sheet Table 2
A1: Table 2 - Total Mental Health Ring Fenced
B3: 1 | C3: =B3+1 -> 2 | F3: =C3+1 -> 3 | G3: =F3+1 -> 4 | H3: =G3+1 -> 5 | I3: =H3+1 -> 6 | J3: =I3+1 -> 7 | K3: =J3+1 -> 8 | L3: =K3+1 -> 9
B4: 2020-21 Initial HCHS Ring-Fenced Allocation | C4: In year change: Eating Disorders | D4: In year change: Mental Health Service Improvement Fund | E4: In year change: Prison Health | F4: In year change: WHSSC Wales Gender Services - Peer Support | G4: Core cost and demand uplift 2021-22 | H4: 2021-22 Final HCHSP Ring Fenced Allocation | I4: Primary Care Prescribing | J4: GMS (QOF and ES) | K4: Other Primary Care | L4: 2021-22 Total Mental Health Ring Fenced Allocation
B5: £m | C5: £m | D5: £m | E5: £m | F5: £m | G5: £m | H5: £m | I5: £m | J5: £m | K5: £m | L5: £m
A7: Aneurin Bevan HB | B7: 100.14277 | C7: 0.09625 | D7: 1.3391 | E7: 0.44 | F7: 0.014172 | G7: 2.036 | H7: =SUM(B7:G7) -> 104.06829 | I7: 7.757 | J7: 0.784 | K7: 3.874 | L7: =H7+I7+J7+K7 -> 116.48329
A9: Betsi Cadwaladr University LHB | B9: 137.04654 | C9: 0.1 | D9: 1.4882 | E9: 0 | F9: 0.016847 | G9: 2.801 | H9: =SUM(B9:G9) -> 141.45259 | I9: 9.24 | J9: 1.297 | K9: 5.557 | L9: =H9+I9+J9+K9 -> 157.54659
A11: Cardiff and Vale University HB | B11: 102.15611 | C11: 0.12075 | D11: 1.0073 | E11: 0.5076 | F11: 0.011965 | G11: 2.092 | H11: =SUM(B11:G11) -> 105.89572 | I11: 5.177 | J11: 1.151 | K11: 3.173 | L11: =H11+I11+J11+K11 -> 115.39672
A13: Cwm Taf Morgannwg HB | B13: 98.711274 | C13: 0.05 | D13: 1.1294618 | E13: 0 | F13: 0.010733 | G13: 2.017 | H13: =SUM(B13:G13) -> 101.91847 | I13: =3.837+2.137 -> 5.974 | J13: =0.691+0.533 -> 1.224 | K13: =2.063+0.937 -> 3 | L13: =H13+I13+J13+K13 -> 112.11647
A15: Hywel Dda HB | B15: 79.654597 | C15: 0.133 | D15: 0.8491 | E15: 0 | F15: 0.00929 | G15: 1.63 | H15: =SUM(B15:G15) -> 82.275987 | I15: 4.675 | J15: 0.72 | K15: 2.445 | L15: =H15+I15+J15+K15 -> 90.115987
A17: Powys HB | B17: 28.963927 | C17: 0 | D17: 0.2849 | F17: 0.003183 | G17: 0.594 | H17: =SUM(B17:G17) -> 29.84601 | I17: 1.062 | J17: 0.345 | K17: 2.124 | L17: =H17+I17+J17+K17 -> 33.37701
A19: Swansea Bay HB | B19: 89.42944 | C19: 0 | D19: 0.90193821 | E19: 0.329026 | F19: 0.009388 | G19: 1.83 | H19: =SUM(B19:G19) -> 92.499792 | I19: =7.615-2.137 -> 5.478 | J19: =1.898-0.533 -> 1.365 | K19: =3.34-0.937 -> 2.403 | L19: =H19+I19+J19+K19 -> 101.74579
A21: Total | B21: =+B7+B11+B13+B17+B15+B19+B9 -> 636.10466 | C21: =+C7+C11+C13+C17+C15+C19+C9 -> 0.5 | D21: =+D7+D11+D13+D17+D15+D19+D9 -> 7 | E21: =+E7+E11+E13+E17+E15+E19+E9 -> 1.276626 | F21: =+F7+F11+F13+F17+F15+F19+F9 -> 0.075578 | G21: =+G7+G11+G13+G17+G15+G19+G9 -> 13 | H21: =+H7+H11+H13+H17+H15+H19+H9 -> 657.95686 | I21: =+I7+I11+I13+I17+I15+I19+I9 -> 39.363 | ... L21: =+L7+L11+L13+L17+L15+L19+L9 -> 726.78186

Sheet Table 3
A1: Table 3 - Shared Services Funding/ top slice
BB2: Previous years hidden
B4: 1 | C4: =B4+1 -> 2 | D4: =C4+1 -> 3 | E4: =D4+1 -> 4 | F4: =E4+1 -> 5 | G4: =F4+1 -> 6 | H4: =G4+1 -> 7 | I4: =H4+1 -> 8 | J4: =I4+1 -> 9 | ... BR4: =BQ4+1 -> 69 | BU4: 61 | BW4: 62
B5: Audit Services | C5: Employment Services | D5: Procurement Services | E5: WHS | F5: Contractor Services | G5: Prescribing Services | H5: Legal and Risk Services | I5: Risk Pool Services | J5: Facilities Services | K5: Counter Fraud | L5: ICS Repatriation to HBs | M5: Workforce Education & Development and Finance (1) | N5: Deanery - transfer of 2 posts | O5: Removal of Depreciation from revenue allocation | P5: ESR Savings/ Oracle Team/ WfIS / EST Team transfer | Q5: Staff transfer - Royal Glamorgan Hospital | R5: Employment Law Services transfer - Block 1 | S5: Employment Law Services transfer - Block 2 | T5: Value for all | U5: National Dietician Procurement role | V5: Job Evaluation Unit | W5: Repatriation of posts | X5: Pay Award (including element from WAST) | Y5: TUPE of staff member to ABM | Z5: GP Trainee (NWSSP support costs) | AA5: NWIS HB changes | AB5: Employers Salary Unit - Recharges | AC5: Surgical Material Testing Laboratory (SMTL) | AD5: Primary Medical Care Advisory Team | AE5: DX Expenses | AF5: 2020-21 Pay and prices increase 2% | AG5: National Clinical Assessment Service (NCAS) | AH5: Hywel Dda - Accounts Payable Management | AI5: PCS - CHC records service | AJ5: 2021-22 changes: Additional SMTP top slice | AK5: Procurement Business Manager | AL5: Supply Chain Operative | AM5: Deputy Head of Procurement | AN5: Procurement clerk/OH officer | AO5: Increase band of Head of Procurement | AP5: Procurement Business Officer, Assistant & Clerk | AQ5: Pay award Implementation costs | AR5: Band 3 support GP single employer arrangement | AS5: Funding to support relocation claims | AT5: Tier 2 sponsorship arrangements | AU5: Removal of WEDS commissioing funding | AV5: 2018-19 Core uplift | AW5: HEIW SLA | AX5: WEDS adjustments | AY5: Student award costs in WEDS budget | AZ5: Core uplift 2020-21 | BA5: Agenda for Change funding | BB5: In year change: Organ Donation leaflets | BC5: In year change: Technology Enables Learning | BD5: Transfer of Optometry Service from PHW | BE5: Clinical Nurse Procurement - Aneurin Bevan | BF5: Single Employer arrangement Pre Reg Pharmacy and Dental VTs | BG5: Core uplift 2020-21 | BH5: Agenda for Change funding | BI5: Unit 13 Court Road residual funding of Cwmbran stores transfer | BJ5: Bank/ Medical recruitment transfer CTM | BK5: IP5 funding | BL5: IP5 lab PSBA recurrent costs (transfer from PHW) | BM5: Data Analyst | BN5: Single Lead Employer support costs | BO5: Primary Care - GP Adverts | BP5: Strategic Pay Modelling | BQ5: Core Uplift 2021-22 | BR5: Total Shared Services Funding 2021-22 | BU5: Total Shared Services Top-Slice 2020-21 | BW5: Recurrent Adjustment 2021-22 (Table A2)
B6: £m | C6: £m | D6: £m | E6: £m | F6: £m | G6: £m | H6: £m | I6: £m | J6: £m | K6: £m | L6: £m | M6: £m | N6: £m | O6: £m | P6: £m | Q6: £m | R6: £m | S6: £m | T6: £m | U6: £m | V6: £m | W6: £m | X6: £m | Y6: £m | Z6: £m | AA6: £m | AB6: £m | AC6: £m | AD6: £m | AE6: £m | AF6: £m | AG6: £m | AH6: £m | AI6: £m | AJ6: £m | AK6: £m | AL6: £m | AM6: £m | AN6: £m | AO6: £m | AP6: £m | AQ6: £m | AR6: £m | AS6: £m | AT6: £m | AU6: £m | AV6: £m | AW6: £m | AX6: £m | AY6: £m | AZ6: £m | BA6: £m | BB6: £m | BC6: £m | BD6: £m | BE6: £m | BF6: £m | BG6: £m | BH6: £m | BI6: £m | BJ6: £m | BK6: £m | BL6: £m | BM6: £m | BN6: £m | BO6: £m | BP6: £m | BQ6: £m | BR6: £m | BU6: £m | BW6: £m
A8: Aneurin Bevan HB | B8: 0.28265 | C8: 1.163961 | D8: 1.536603 | E8: 0 | F8: 1.874 | G8: 0 | H8: 0 | J8: 0 | L8: -0.033845 | R8: 0.007 | S8: 0.0105 | T8: 0.0539 | U8: 0.008827 | V8: 0.01 | AB8: 0.018 | AC8: 0.086 | AE8: 0.031 | AJ8: 0.01501 | AM8: 0.061021 | AN8: 0.012152 | BE8: 0.010587 | BI8: 0.036668 | BR8: =SUM(B8:BQ8) -> 5.184034 | BU8: 5.147366 | BW8: =BU8-BR8 -> -0.036668
A10: Betsi Cadwaladr University LHB | B10: 0.271605 | C10: 1.886646 | D10: 1.569639 | E10: 0.967419 | F10: 1.229175 | G10: 0 | H10: 0 | J10: 0 | L10: -0.037384 | R10: 0.007 | S10: 0.0134 | T10: 0.0539 | U10: 0.008827 | V10: 0.01 | AB10: 0.018 | AC10: 0.125 | AJ10: 0.017877 | AK10: 0.044448 | AL10: 0.024303 | BR10: =SUM(B10:BQ10) -> 6.209855 | BU10: 6.209855 | BW10: =BU10-BR10 -> 0
A12: Cardiff and Vale University HB | B12: 0.329129 | C12: 1.223596 | D12: 1.921627 | E12: 0.30313 | F12: 1.377 | G12: 0 | H12: 0 | J12: 0 | L12: -0.011079 | R12: 0.007 | S12: 0.0116 | T12: 0.0539 | U12: 0.008827 | V12: 0.01 | AB12: 0.018 | AC12: 0.066 | AI12: -0.006983 | AJ12: 0.012297 | BR12: =SUM(B12:BQ12) -> 5.324044 | BT12: =SUM(BR8:BR20) -> 31.878166 | BU12: 5.324044 | BW12: =BU12-BR12 -> 0
A14: Cwm Taf Morgannwg HB | B14: =0.0603+0.117825 -> 0.178125 | C14: 0.816423 | D14: 0.639536 | E14: 0.622209 | F14: 1.12 | G14: 0 | H14: 0 | J14: 0 | L14: -0.034934 | Q14: =0.029537+0.043843 -> 0.07338 | R14: 0.007 | S14: 0.0067 | T14: 0.0308 | U14: 0.005885 | V14: 0.01 | AB14: 0.018 | AC14: 0.057 | AI14: -0.006983 | AJ14: 0.00775 | AO14: 0.014914 | AP14: 0.0855 | BJ14: 0.076887 | BR14: =SUM(B14:BQ14)+1.818013066 -> 5.5462051 | BU14: 5.4693181 | BW14: =BU14-BR14 -> -0.076887
A16: Hywel Dda HB | B16: 0.229664 | C16: 1.055838 | D16: 1.166818 | E16: 0.282734 | F16: 1.128 | G16: 0 | H16: 0 | J16: 0 | R16: 0.007 | S16: 0.0073 | T16: 0.0308 | U16: 0.005885 | V16: 0.01 | W16: -0.048948 | AB16: 0.018 | AC16: 0.068 | AH16: -0.020612 | AJ16: 0.009869 | BR16: =SUM(B16:BQ16) -> 3.950348 | BU16: 3.950348 | BW16: =BU16-BR16 -> 0
A18: Powys HB | B18: 0.064368 | C18: 0.170741 | D18: 0.253917 | E18: 0.093274 | F18: 0.403 | G18: 0 | H18: 0 | J18: 0 | L18: -0.041567 | R18: 0.007 | S18: 0.0014 | T18: 0.0077 | U18: 0.001961 | V18: 0.01 | W18: -0.014865 | AB18: 0.018 | AC18: 0.023 | AJ18: 0.003513 | BR18: =SUM(B18:BQ18) -> 1.001442 | BU18: 1.001442 | BW18: =BU18-BR18 -> 0
A20: Swansea Bay HB | B20: 0.313581 | C20: 1.671102 | D20: 1.053386 | E20: 1.614217 | F20: 1.505 | G20: 0 | H20: 0 | J20: 0 | R20: 0.007 | S20: 0.0127 | T20: 0.0539 | U20: 0.008827 | V20: 0.01 | Y20: =-0.04+-0.022133+0.044266+0.037775+0.082041 -> 0.101949 | AB20: 0.018 | AC20: 0.097 | AJ20: 0.013589 | BR20: =SUM(B20:BQ20)-1.818013066 -> 4.6622379 | BU20: 4.6622379 | BW20: =BU20-BR20 -> 0
A22: NWIS | B22: 0 | C22: 0 | D22: 0 | E22: 0 | F22: -0.028202 | G22: 0 | H22: 0 | J22: 0 | BR22: =SUM(B22:BQ22) -> -0.028202
A24: Welsh Government | B24: 0 | C24: 0 | D24: 0 | E24: 1.519362 | F24: 0.269866 | G24: 5.959824 | H24: 2.061 | I24: 0.585 | J24: 3.5438 | K24: 0.35203 | M24: =3.086+82.242+0.511-0.195+2.651 -> 88.295 | N24: 0.0847 | O24: -0.229 | P24: =0.788721-0.088721+0.04 -> 0.74 | X24: =0.041+0.462+1.466 -> 1.969 | Z24: 0.101 | AA24: =0.04-0.0145-0.212568-0.106965+0.0065+0.0914+0.04 -> -0.156133 | AD24: 0.27975 | AF24: 1.028 | AG24: 0.495 | AQ24: 0.1 | AR24: 0.024 | AS24: 0.025 | AT24: 0.025 | AU24: -85.404 | AV24: 1.068 | AW24: 0.398205 | AX24: =-(0.99+0.37+0.018) -> -1.378 | AY24: 0.224084 | AZ24: 1.074 | BA24: 1.934 | BB24: 0.02 | BC24: 0.3 | BD24: 0.071901 | BF24: 0.078 | BG24: 1.144 | BH24: 0.79 | BK24: 1.1 | BL24: 0.002982 | BM24: 0.048658 | BN24: 0.277 | BO24: 0.06292 | BP24: 0.110064 | BQ24: 1.217 | BR24: =SUM(B24:BQ24) -> 30.211013
A26: TOTAL | B26: =B20+B8+B10+B12+B14+B16+B18+B22+B24 -> 1.669122 | C26: =C20+C8+C10+C12+C14+C16+C18+C22+C24 -> 7.988307 | D26: =D20+D8+D10+D12+D14+D16+D18+D22+D24 -> 8.141526 | E26: =E20+E8+E10+E12+E14+E16+E18+E22+E24 -> 5.402345 | F26: =F20+F8+F10+F12+F14+F16+F18+F22+F24 -> 8.877839 | G26: =G20+G8+G10+G12+G14+G16+G18+G22+G24 -> 5.959824 | H26: =H20+H8+H10+H12+H14+H16+H18+H22+H24 -> 2.061 | I26: =I20+I8+I10+I12+I14+I16+I18+I22+I24 -> 0.585 | ... BQ26: =BQ20+BQ8+BQ10+BQ12+BQ14+BQ16+BQ18+BQ22+BQ24 -> 1.217 | BR26: =SUM(B26:BQ26) -> 62.060977
A29: Welsh Ambulance Services NHST | B29: 0.073369 | C29: 0.476222 | D29: 0 | E29: 0.044997 | F29: 0 | G29: 0 | H29: 0 | J29: 0 | R29: 0.007 | S29: 0.0027 | T29: 0.0077 | V29: 0.01 | AB29: 0.018 | BR29: =SUM(B29:BQ29) -> 0.639988
A31: Velindre NHST | B31: 0.047 | C31: =0.186864-0.035297 -> 0.151567 | D31: =0.477819-0.242831 -> 0.234988 | E31: 0.105527 | F31: 0 | G31: 0 | H31: 0 | J31: 0 | P31: =0.088721 -> 0.088721 | R31: 0.007 | S31: 0.0025 | T31: 0.0077 | U31: 0.001961 | V31: 0.01 | W31: -0.088721 | AB31: 0.018 | BR31: =SUM(B31:BQ31) -> 0.586243
A33: Public Health Wales NHST | B33: 0.03425 | C33: =0.079818+0.035297 -> 0.115115 | D33: =0.242831 -> 0.242831 | E33: 0 | F33: 0 | G33: 0 | H33: 0 | J33: 0 | R33: 0.007 | S33: 0.0012 | T33: 0.0077 | V33: 0.01 | AB33: 0.018 | BR33: =SUM(B33:BQ33) -> 0.436096
O35: .
A36: OVERALL TOTAL | B36: =B26+B29+B31+B33 -> 1.823741 | C36: =C26+C29+C31+C33 -> 8.731211 | D36: =D26+D29+D31+D33 -> 8.619345 | E36: =E26+E29+E31+E33 -> 5.552869 | F36: =F26+F29+F31+F33 -> 8.877839 | G36: =G26+G29+G31+G33 -> 5.959824 | H36: =H26+H29+H31+H33 -> 2.061 | I36: =I26+I29+I31+I33 -> 0.585 | ... BQ36: =BQ26+BQ29+BQ31+BQ33 -> 1.217 | BR36: =SUM(B36:BQ36) -> 63.723304 | BU36: =SUM(BU8:BU34) -> 31.764611 | BW36: =SUM(BW8:BW18) -> -0.113555

Sheet Table 4
A1: Table 4 - Depreciation Funding Adjustment
B3: =+A3+1 -> 1
B4: 2021-22 allocation
B5: £m
A7: Aneurin Bevan HB | B7: =D91 -> 30.462414
A9: Betsi Cadwaladr University HB | B9: =F91 -> 31.789425
A11: Cardiff and Vale University HB | B11: =H91 -> 19.745068
A13: Cwm Taf Morgannwg HB | B13: =J91 -> 27.878912
A15: Hywel Dda HB | B15: =L91 -> 20.09747
A17: Powys HB | B17: =N91 -> 4.4677808
A19: Swansea Bay HB | B19: =B91 -> 21.195711
A21: Total | B21: =+B17+B15+B13+B11+B9+B7+B19 -> 155.63678 | D21: Provider/commissioner analysis for Bridgend actioned
A23: Commissioner > Provider v | B23: ABMU | C23: Bridgend | D23: Aneurin Bevan | E23: Bridgend | F23: BCU | G23: Bridgend | H23: Cardiff and Vale U | I23: Bridgend | J23: Cwm Taf | K23: Bridgend | L23: Hywel Dda | M23: Bridgend | N23: Powys | O23: Bridgend | P23: SIFT | Q23: Postgrad Dean | R23: R&D | S23: PHLS | T23: Other | U23: Total
B24: £m | C24: £m | D24: £m | F24: £m | H24: £m | J24: £m | L24: £m | N24: £m | P24: £m | Q24: £m | R24: £m | S24: £m | T24: £m | U24: £m
A26: Depreciation
A27: Non-WHSSC
A28: ABMU | B28: =18.792-5.524 -> 13.268 | C28: 5.5239084 | D28: =0.054-0.02 -> 0.034 | E28: 0.019539128 | F28: 0 | G28: 0 | H28: =0.585-0.504 -> 0.081 | I28: 0.50367206 | J28: =0.206-0.166 -> 0.04 | K28: 0.16630297 | L28: =0.837-0.01 -> 0.827 | M28: 0.010174702 | N28: =0.269-0.006 -> 0.263 | O28: 0.006066249 | P28: 0.242 | Q28: 0.088 | R28: 0.002 | S28: 0.091 | T28: 0.168 | U28: =B28+D28+F28+H28+J28+L28+N28+P28+Q28+R28+S28+T28 -> 15.104
A29: Aneurin Bevan | B29: 0 | C29: 0 | D29: 18.087022 | F29: 0 | H29: 0 | J29: 0 | L29: 0 | N29: 0 | P29: 0 | Q29: 0 | R29: 0.021 | S29: 0 | T29: 0 | U29: =B29+D29+F29+H29+J29+L29+N29+P29+Q29+R29+S29+T29 -> 18.108022
A30: BCU | B30: 0 | C30: 0 | D30: 0 | F30: 26.987 | H30: 0 | J30: 0 | L30: 0 | N30: 0 | P30: 0.235 | Q30: 0.349 | R30: 0 | S30: 0.011 | T30: 0 | U30: =B30+D30+F30+H30+J30+L30+N30+P30+Q30+R30+S30+T30 -> 27.582
A31: Cardiff and Vale U | B31: =0.11-0.032 -> 0.078 | C31: 0.0323345 | D31: 0.483 | F31: 0.009 | H31: 10.518 | J31: =0.256+0.032 -> 0.288 | L31: 0.07 | N31: 0.015 | P31: 2.698 | Q31: 0.045 | R31: 0.839 | S31: 0.056 | T31: 1.475 | U31: =B31+D31+F31+H31+J31+L31+N31+P31+Q31+R31+S31+T31 -> 16.574
A32: Cwm Taf | B32: =0.16-0.047 -> 0.113 | C32: 0.047032 | D32: 0.02 | F32: 0 | H32: =0.171+0.504 -> 0.675 | J32: =12.044+5.524+0.166+0.047 -> 17.781 | L32: 0.01 | N32: 0.006 | P32: 0 | Q32: 0.012 | R32: 0 | S32: 0 | T32: 0 | U32: =B32+D32+F32+H32+J32+L32+N32+P32+Q32+R32+S32+T32 -> 18.617
A33: Hywel Dda | B33: 0 | C33: 0 | D33: 0 | F33: 0 | H33: 0 | J33: 0 | L33: 12.846 | N33: 0 | P33: 0.002 | Q33: 0.02 | R33: 0.003 | S33: 0.014 | T33: 0 | U33: =B33+D33+F33+H33+J33+L33+N33+P33+Q33+R33+S33+T33 -> 12.885
A34: Powys | B34: 0 | C34: 0 | D34: 0 | F34: 0 | H34: 0 | J34: 0 | L34: 0 | N34: 3.174 | P34: 0 | Q34: 0 | R34: 0 | S34: 0 | T34: 0 | U34: =B34+D34+F34+H34+J34+L34+N34+P34+Q34+R34+S34+T34 -> 3.174
A35: Velindre | B35: =0.123-0.036 -> 0.087 | C35: 0.03615585 | D35: 0.4887 | F35: 0 | H35: 0.357 | J35: =0.231+0.036 -> 0.267 | L35: =0.0189 -> 0.0189 | N35: 0.0257 | P35: 0.02 | Q35: 0.06 | R35: 0.039 | S35: 0 | T35: 0.599 | U35: =B35+D35+F35+H35+J35+L35+N35+P35+Q35+R35+S35+T35 -> 1.9623
A36: NWIS | B36: 0 | C36: 0 | D36: 0 | F36: 0 | H36: 0 | J36: 0 | L36: 0 | N36: 0 | P36: 0 | Q36: 0 | R36: 0 | S36: 0 | T36: 5.903 | U36: =B36+D36+F36+H36+J36+L36+N36+P36+Q36+R36+S36+T36 -> 5.903
A37: WAST | B37: 0 | C37: 0 | D37: 0 | F37: 0 | H37: 0 | J37: 0 | L37: 0 | N37: 0 | P37: 0 | Q37: 0 | R37: 0 | S37: 0 | T37: 0 | U37: =B37+D37+F37+H37+J37+L37+N37+P37+Q37+R37+S37+T37 -> 0
A38: PHW | B38: 0 | C38: 0 | D38: 0 | F38: 0 | H38: 0 | J38: 0 | L38: 0 | N38: 0 | P38: 0 | Q38: 0 | R38: 0 | S38: 0 | T38: 1.116 | U38: =B38+D38+F38+H38+J38+L38+N38+P38+Q38+R38+S38+T38 -> 1.116
A39: 12-13 Allocation (adj 19/20 Bridgend) | B39: =SUM(B28:B38) -> 13.546 | C39: 5.6394307 | D39: =SUM(D28:D38) -> 19.112722 | E39: 0.019539128 | F39: =SUM(F28:F38) -> 26.996 | G39: 0 | H39: =SUM(H28:H38) -> 11.631 | I39: 0.50367206 | J39: =SUM(J28:J38) -> 18.376 | K39: 0.16630297 | L39: =SUM(L28:L38) -> 13.7719 | M39: 0.010174702 | N39: =SUM(N28:N38) -> 3.4837 | O39: 0.006066249 | P39: =SUM(P28:P38) -> 3.197 | Q39: =SUM(Q28:Q38) -> 0.574 | R39: =SUM(R28:R38) -> 0.904 | S39: =SUM(S28:S38) -> 0.172 | T39: =SUM(T28:T38) -> 9.261 | U39: =B39+D39+F39+H39+J39+L39+N39+P39+Q39+R39+S39+T39 -> 121.02532
A40: 13-14 Baseline adjustments:
A41: Velindre resource mapping adjustment | B41: =0.042318-0.04 -> 0.002318 | C41: 0.03975823 | D41: 0.168931 | F41: 0 | H41: 0.118699 | J41: =0.080508+0.04 -> 0.120508 | L41: 0.007569 | N41: 0.007913 | T41: -0.599 | U41: =B41+D41+F41+H41+J41+L41+N41+P41+Q41+R41+S41+T41 -> -0.173062
A42: PHWT Removal of Savings from 2012/13 DV exercise | B42: 0 | D42: 0 | F42: 0 | H42: 0 | J42: 0 | L42: 0 | N42: 0 | P42: 0 | Q42: 0 | R42: 0 | S42: 0 | T42: -0.101 | U42: =B42+D42+F42+H42+J42+L42+N42+P42+Q42+R42+S42+T42 -> -0.101
A43: Velindre Removal of Savings from 2012/13 DV exercise | B43: =0.002-0.002 -> 0 | C43: -0.0024566494 | D43: -0.010389114 | F43: 0 | H43: -0.0075893466 | J43: =-0.00491075368015723-0.002 -> -0.0069107537 | L43: -0.00040178894 | N43: -0.00054634792 | P43: 0 | Q43: 0 | R43: 0 | S43: 0 | T43: 0 | U43: =B43+D43+F43+H43+J43+L43+N43+P43+Q43+R43+S43+T43 -> -0.025837351
A44: LHB Removal of Savings from 2012/13 DV exercise | B44: =-2.761+0.774 -> -1.987 | C44: -0.77361044 | D44: -2.1 | F44: -2.4 | H44: -2.866 | J44: =-0.945-0.774 -> -1.719 | L44: -1.022 | N44: -0.234 | P44: 0 | Q44: 0 | R44: 0 | S44: 0 | T44: 0 | U44: =B44+D44+F44+H44+J44+L44+N44+P44+Q44+R44+S44+T44 -> -12.328
A45: 13-14 Baseline allocation (adj 19/20 Bridgend) | B45: =SUM(B39:B44) -> 11.561318 | C45: =SUM(C39:C44) -> 4.9031219 | D45: =SUM(D39:D44) -> 17.171264 | E45: =SUM(E39:E44) -> 0.019539128 | F45: =SUM(F39:F44) -> 24.596 | G45: =SUM(G39:G44) -> 0 | H45: =SUM(H39:H44) -> 8.8761097 | I45: =SUM(I39:I44) -> 0.50367206 | ... T45: =SUM(T39:T44) -> 8.561 | U45: =B45+D45+F45+H45+J45+L45+N45+P45+Q45+R45+S45+T45 -> 108.39742
A46: 14-15 Baseline adjustments:
A47: LHB Baseline & Approved Strategic adjustment | B47: =3.376-0.946 -> 2.43 | C47: 0.9462045 | D47: 4.11 | F47: 3.469 | H47: 3.492 | J47: =2.655+0.946 -> 3.601 | L47: 2.2 | N47: -0.451 | U47: =B47+D47+F47+H47+J47+L47+N47+P47+Q47+R47+S47+T47 -> 18.851
A48: Velindre Baseline & Approved Strategic adjustment | B48: =0.20604218554959-0.194 -> 0.012042186 | C48: 0.19357892 | D48: 0.55158295 | F48: 0 | H48: 0.41159976 | J48: =0.267764752209326+0.194 -> 0.46176475 | L48: 0.081095872 | N48: 0.045963375 | U48: =B48+D48+F48+H48+J48+L48+N48+P48+Q48+R48+S48+T48 -> 1.5640489
A49: NWIS Baseline & Approved Strategic adjustment | T49: 4.01 | U49: =B49+D49+F49+H49+J49+L49+N49+P49+Q49+R49+S49+T49 -> 4.01
A50: NWSSP Baseline & Approved Strategic adjustment | T50: 0.53 | U50: =B50+D50+F50+H50+J50+L50+N50+P50+Q50+R50+S50+T50 -> 0.53
A51: PHW Baseline & Approved Strategic adjustment | T51: 2.332 | U51: =B51+D51+F51+H51+J51+L51+N51+P51+Q51+R51+S51+T51 -> 2.332
...

Sheet Table 5
A1: Table 5: Recurrent Primary Care Development funding (Already in discretionary baseline - not additional funding)
A2: (Memorandum table)
A3: Amounts in the table below have been increased (core uplift applied to Table A3)
B4: 1 | C4: =B4+1 -> 2 | D4: =C4+1 -> 3 | E4: =D4+1 -> 4 | F4: =E4+1 -> 5 | G4: =F4+1 -> 6 | H4: =G4+1 -> 7 | I4: =H4+1 -> 8 | J4: =I4+1 -> 9 | ... L4: =K4+1 -> 11
B5: IMTP and Workforce | C5: Cluster funding | D5: Additional Cluster funding added 2021-22 | E5: Pathfinders | F5: Wet AMD | G5: Inverse Care Law | H5: Occupational Health for GPs | I5: Programme manager funding | J5: Funding for local communication activity in primary care | K5: National Director and Strategic Programme Lead for Primary Care | L5: Total Amount (Already included in discretionary baseline)
B6: £m | C6: £m | D6: £m | E6: £m | F6: £m | G6: £m | H6: £m | I6: £m | J6: £m | K6: £m | L6: £m
A8: Aneurin Bevan HB | B8: 5.084 | C8: 1.88 | D8: 1.896 | E8: 0.715 | F8: =0.161-0.161 -> 0 | G8: 0.36 | H8: 0.038 | I8: 0.06 | J8: 0.02 | K8: 0.16 | L8: =SUM(B8:K8) -> 10.213
A10: Betsi Cadwaladr University HB | B10: 5.648 | C10: 2.21 | D10: 2.236 | E10: 0.84 | H10: 0.045 | J10: 0.02 | L10: =SUM(B10:K10) -> 10.999
A12: Cardiff and Vale University HB | B12: 3.825 | C12: 1.414 | D12: 1.351 | E12: 0.537 | H12: 0.031 | J12: 0.02 | L12: =SUM(B12:K12) -> 7.178
A14: Cwm Taf Morgannwg HB | B14: =3.154+1.2278546 -> 4.3818546 | C14: =1.017+0.49800296 -> 1.515003 | D14: 1.513 | E14: =0.386+0.18925256 -> 0.57525256 | F14: 0.019 | G14: 0.36 | H14: =0.02+0.00971992 -> 0.02971992 | J14: 0.02 | L14: =SUM(B14:K14) -> 8.41383
A16: Hywel Dda HB | B16: 2.918 | C16: 1.284 | D16: 1.291 | E16: 0.488 | F16: =0.169-0.169 -> 0 | H16: 0.022 | J16: 0.02 | L16: =SUM(B16:K16) -> 6.023
A18: Powys HB | B18: 1.16 | C18: 0.453 | D18: 0.416 | E18: 0.172 | F18: =0.079-0.079 -> 0 | H18: 0.01 | J18: 0.02 | L18: =SUM(B18:K18) -> 2.231
A20: Swansea Bay HB | B20: =4.295-1.2278546 -> 3.0671454 | C20: =1.742-0.49800296 -> 1.243997 | D20: 1.297 | E20: =0.662-0.18925256 -> 0.47274744 | H20: =0.034-0.00971992 -> 0.02428008 | J20: 0.02 | L20: =SUM(B20:K20) -> 6.12517
A22: Total | B22: =+B20+B8+B10+B12+B14+B16+B18 -> 26.084 | C22: =+C20+C8+C10+C12+C14+C16+C18 -> 10 | D22: =+D20+D8+D10+D12+D14+D16+D18 -> 10 | E22: =+E20+E8+E10+E12+E14+E16+E18 -> 3.8 | F22: =+F20+F8+F10+F12+F14+F16+F18 -> 0.019 | G22: =+G20+G8+G10+G12+G14+G16+G18 -> 0.72 | H22: =+H20+H8+H10+H12+H14+H16+H18 -> 0.2 | I22: =+I20+I8+I10+I12+I14+I16+I18 -> 0.06 | ... L22: =+L20+L8+L10+L12+L14+L16+L18 -> 51.183

Sheet Summary Capital
A3: Summary: Baseline discretionary capital funding 2021-22
B5: 1
B6: 2021-22 Baseline discretionary capital funding
B7: £m
A8: Health Boards
A10: Aneurin Bevan HB | B10: 10.814
A12: Betsi Cadwaladr University HB | B12: 14.421
A14: Cardiff and Vale University HB | B14: 14.871
A16: Cwm Taf Morgannwg HB | B16: 10.23
A18: Hywel Dda HB | B18: 7.421
A20: Powys HB | B20: 1.431
A22: Swansea Bay HB | B22: 11.168
A24: HEIW | B24: 0.1
A26: Digital Health Care Wales | B26: 2.969
A28: Total (Health Boards) | B28: =SUM(B10:B26) -> 73.425
A30: NHS Trusts
A32: Velindre | B32: 1.911
A34: NHS Wales Shared Services Partnership | B34: 0.85
A36: Public Health Wales | B36: 1.58
A38: Welsh Ambulance Services | B38: 5.825
A40: Total (NHS Trusts) | B40: =SUM(B32:B38) -> 10.166
A42: Total | B42: =B28+B40 -> 83.591
