Workbook
Name existing_dwellings: Dwelling_Numbers!$A$10:$C$31

Sheet Read Me
B2: Building Integrated Renewables
B4: The following active template is intended to provide guidance and a methodology for assessment of building integrated renewables in your LA.
B6: Index:
B8: Sheet Title: | C8: Sheet Contents:
B9: INPUT | C9: Input sheet
B10: Results - Electricity | C10: Results of the electricity generating building integrated renewables assessment
B11: Results - Heat | C11: Results of the heat generating building integrated renewables assessment
B13: Notes:
B15: Note A: | C15: See section E2.3 'Step 1' of the toolkit.
B16: Note B: | C16: See section E2.3 'Step 2' of the toolkit.
B17: Note C: | C17: See Project Sheet A of the toolkit.

Sheet INPUT
D2: Building Integrated Renewables
D4: Populate the following sheet to develop estimates for building integrated renewables capacity across your local authority area.
D6: Input | E6: Cell requiring data input.
D7: Information | E7: Cell used in calculating output - displayed for information only.
D8: Output | E8: Result cell.
D10: Please select Local Authority:
A11: Please select | D11: Local Authority | E11: Powys
A12: Anglesey
A13: Blaenau Gwent | D13: Existing dwellings and non-residential buildings
A14: Bridgend
A15: Caerphilly | D15: Number of existing dwellings in your LA:
A16: Cardiff | D16: =VLOOKUP($E$11,existing_dwellings,3,FALSE) -> 63446 | E16: dwellings
A17: Carmarthenshire
A18: Ceredigion | D18: Future dwellings
A19: Conwy
A20: Denbighshire | D20: Number of average net annual completions planned for your LA (see Note A):
A21: Flintshire | D21: 1000 | E21: dwellings
A22: Gwynedd
A23: Merthyr Tydfil | D23: Future non-residential buildings
A24: Monmouthshire
A25: Neath Port Talbot | D25: Future new non-residential average annual new floor area estimated for your LA by 2020 (see Note B):
A26: Newport | D26: 75000 | E26: m2 GIFA
A27: Pembrokeshire
A28: Powys | D28: Existing building integrated renewables
A29: Rhonnda Cynon Taff
A30: Swansea | D30: Existing BIR RE heat capacity in your LA (see Note C):
A31: The Vale of Glamorgan | D31: 2.5 | E31: MW
A32: Torfaen
A33: Wrexham | D33: Existing BIR RE electricity capacity in your LA (see Note C):
D34: 1.2 | E34: MW

Sheet Results - Electricity
B2: Predicting level of BIR renewable electricity uptake by 2020
B4: Row no. | E4: Units
B5: 1 | C5: Existing dwellings and non-residential buildings
B6: 2 | C6: No. of existing dwellings in Pembrokeshire | D6: 55592
B7: 3 | C7: No. of existing dwellings in your LA | D7: =INPUT!D16 -> 63446
B8: 4 | C8: EDR | D8: =D7/D6 -> 1.1412793
B9: 5 | C9: Predicted RE electricity capacity for Pembrokeshire by 2020 | D9: 4.2 | E9: MWe
B10: 6 | C10: Predicted RE electricity capacity for your LA by 2020 | D10: =D8*D9 -> 4.7933731 | E10: MWe
B11: 7 | C11: Future dwellings
B12: 8 | C12: No. of average net annual completions assumed for Pembrokeshire | D12: 585
B13: 9 | C13: No. of average net annual completions planned for your LA | D13: =INPUT!D21 -> 1000
B14: 10 | C14: NDR | D14: =D13/D12 -> 1.7094017
B15: 11 | C15: Predicted RE electricity capacity for Pembrokeshire by 2020 | D15: 4.3 | E15: MWe
B16: 12 | C16: Predicted RE electricity capacity for your LA by 2020 | D16: =D14*D15 -> 7.3504274 | E16: MWe
B17: 13 | C17: Future non-residential buildings
B18: 14 | C18: Future new non-residential average annual new floor area assumed for Pembrokeshire by 2020 | D18: 56000 | E18: m2 GIFA
B19: 15 | C19: Future new non-residential average annual new floor area estimated for your LA by 2020 | D19: =INPUT!D26 -> 75000 | E19: m2 GIFA
B20: 16 | C20: FNR | D20: =D19/D18 -> 1.3392857
B21: 17 | C21: Predicted RE electricity capacity for Pembrokeshire by 2020 | D21: 10.6 | E21: MWe
B22: 18 | C22: Predicted RE electricity capacity for your LA by 2020 | D22: =D20*D21 -> 14.196429 | E22: MWe
C23: TOTALS
B24: 19 | C24: Total predicted new BIR RE electricity capacity for your LA by 2020 | D24: =D10+D16+D22 -> 26.340229 | E24: MWe
B25: 20 | C25: Existing BIR RE electricity capacity in your LA | D25: =INPUT!D34 -> 1.2 | E25: MWe
B26: 21 | C26: Total predicted new and existing BIR RE electricity capacity for your LA by 2020 | D26: =D24+D25 -> 27.540229 | E26: MWe

Sheet Results - Heat
B2: Predicting level of BIR renewable heat uptake by 2020
B4: Row no. | E4: Units
B5: 1 | C5: Existing dwellings and non-residential buildings
B6: 2 | C6: No. of existing dwellings in Pembrokeshire | D6: 55592
B7: 3 | C7: No. of existing dwellings in your LA | D7: =INPUT!D16 -> 63446
B8: 4 | C8: Calculate EDR | D8: =D7/D6 -> 1.1412793
B9: 5 | C9: Predicted RE heat capacity for Pembrokeshire by 2020 | D9: 9.9 | E9: MWt
B10: 6 | C10: Predicted RE heat capacity for your LA by 2020 | D10: =D8*D9 -> 11.298665 | E10: MWt
B11: 7 | C11: Future dwellings
B12: 8 | C12: No. of average net annual completions assumed for Pembrokeshire | D12: 585
B13: 9 | C13: No. of average net annual completions planned for your LA | D13: =INPUT!D21 -> 1000
B14: 10 | C14: Calculate NDR | D14: =D13/D12 -> 1.7094017
B15: 11 | C15: Predicted RE heat capacity for Pembrokeshire by 2020 | D15: 4.3 | E15: MWt
B16: 12 | C16: Predicted RE heat capacity for your LA by 2020 | D16: =D14*D15 -> 7.3504274 | E16: MWt
B17: 13 | C17: Future non-residential buildings
B18: 14 | C18: Future new non-residential average annual new floor area assumed for Pembrokeshire by 2020 | D18: 56000 | E18: m2 GIFA
B19: 15 | C19: Future new non-residential average annual new floor area estimated for your LA by 2020 | D19: =INPUT!D26 -> 75000 | E19: m2 GIFA
B20: 16 | C20: Calculate FNR | D20: =D19/D18 -> 1.3392857
B21: 17 | C21: Predicted RE heat capacity for Pembrokeshire by 2020 | D21: 1.23 | E21: MWt
B22: 18 | C22: Predicted RE heat capacity for your LA by 2020 | D22: =D20*D21 -> 1.6473214 | E22: MWt
C23: TOTALS
B24: 19 | C24: Total predicted new BIR RE heat capacity for your LA by 2020 | D24: =D22+D16+D10 -> 20.296414 | E24: MWt
B25: 20 | C25: Existing BIR RE heat capacity in your LA | D25: =INPUT!D31 -> 2.5 | E25: MWt
B26: 21 | C26: Total predicted new and existing BIR RE heat capacity for your LA by 2020 | D26: =D24+D25 -> 22.796414 | E26: MWt

Sheet Dwelling_Numbers
B1: KS401EW - Dwellings, household spaces and accommodation type
B2: ONS Crown Copyright Reserved [from Nomis on 17 February 2015]
B4: population | C4: All dwellings; all household spaces
B5: units | C5: Household spaces and Dwellings
B6: rural urban | C6: Total
B7: dwelling type | C7: All categories: Dwelling type
B9: Area | C9: 2011
A10: Anglesey | B10: ualad09:Anglesey | C10: 34168
A11: Blaenau Gwent | B11: ualad09:Blaenau Gwent | C11: 31952
A12: Bridgend | B12: ualad09:Bridgend | C12: 61445
A13: Caerphilly | B13: ualad09:Caerphilly | C13: 77217
A14: Cardiff | B14: ualad09:Cardiff | C14: 148093
A15: Carmarthenshire | B15: ualad09:Carmarthenshire | C15: 84115
A16: Ceredigion | B16: ualad09:Ceredigion | C16: 34569
A17: Conwy | B17: ualad09:Conwy | C17: 56106
A18: Denbighshire | B18: ualad09:Denbighshire | C18: 42648
A19: Flintshire | B19: ualad09:Flintshire | C19: 65795
A20: Gwynedd | B20: ualad09:Gwynedd | C20: 61009
A21: Merthyr Tydfil | B21: ualad09:Merthyr Tydfil | C21: 26245
... A31: Wrexham | B31: ualad09:Wrexham | C31: 59005
B32: gor:Wales | C32: 1383814
B34: In order to protect against disclosure of personal information, records have been swapped between different geographic areas. Some counts will be affected, particularly small counts at the lowest geographies.
